{"text_format":"1","workbook":"xlsx","n_sheets":4,"sheets":["入力用","1-1","1-2","1-3"],"not_rendered":{"charts":0,"images":0,"macros":1,"external_links":0,"defined_names":4,"comments":0,"pivot_tables":0},"unopened":[],"bounds":{"document_bytes":16777216,"sheet_cells":100000,"rows_first":2000,"rows_last":500,"rows_between":2000,"halvings":0,"cell_chars":16384,"cell_head_chars":4096},"cells_cut":0,"cells_raw":0,"read":"whole","date_system":"1900"}

{"sheet":"入力用","index":0,"n_rows":30,"n_cols":13,"rows_kept":30,"cut":false,"hidden":false,"merged":[[3,10,3,11],[4,10,4,11],[28,3,29,6],[28,1,28,2],[29,1,29,2],[21,4,21,7],[25,1,25,3],[25,4,25,7],[24,1,24,3],[22,4,22,7],[24,4,24,7],[23,0,23,7],[21,1,22,1],[15,4,15,7],[16,4,16,7],[19,1,19,3],[20,1,20,3],[19,4,19,7],[20,4,20,7],[3,4,3,7],[4,4,4,7],[5,4,5,7],[13,4,13,7],[14,4,14,7],[6,0,6,7],[7,0,8,0],[9,0,10,0],[11,0,11,7],[7,2,7,3],[8,2,8,3],[9,2,9,3],[10,2,10,3],[7,1,8,1],[9,1,10,1],[10,4,10,7],[0,0,1,7],[2,0,2,7],[3,1,3,3],[4,1,4,3],[5,1,5,3],[7,4,7,7],[8,4,8,7],[9,4,9,7],[12,0,12,7],[17,0,17,7],[18,4,18,7],[15,1,15,3],[16,1,16,3],[18,1,18,3],[13,1,13,3],[14,1,14,3]]}
["被相続人居住用家屋等確認書申請書作成フォーム"]
[]
["申請者",null,null,null,null,null,null,null,"参照するもの"]
["①","申請者氏名",null,null,null,null,null,null,null,null,"ピンクのセル",null,"入力必須"]
["②","申請者住所",null,null,null,null,null,null,null,null,"緑色のセル",null,"該当あれば入力"]
["③","申請者電話番号"]
["家屋・敷地を取得をした他の相続人"]
["④","1人目","氏名"]
[null,null,"住所"]
["⑤","2人目","氏名"]
[null,null,"住所"]
["※相続人が４人以上の場合は別紙を作成ください。"]
["被相続人"]
["⑥","被相続人の氏名",null,null,null,null,null,null,"除票住民票"]
["⑦","被相続人の住所",null,null,null,null,null,null,"除票住民票"]
["⑧","相続開始日(被相続人の死亡日)",null,null,null,null,null,null,"除票住民票"]
["⑨","申請者からみた続柄\nみた続柄"]
["申請被相続人居住用家屋及びその敷地"]
["⑩","所在地（敷地の所在地番）",null,null,null,null,null,null,"売買契約書・登記事項証明書"]
["⑪","譲渡日",null,null,null,null,null,null,"売買契約書・登記事項証明書"]
["⑫","家屋の建築年月日",null,null,null,null,null,null,"閉鎖事項証明書"]
["⑬","どちらか\n入力","家屋の取壊し日",null,null,null,null,null,"閉鎖事項証明書"]
["⑭",null,"耐震基準適合日",null,null,null,null,null,"耐震基準適合証明書等"]
["その他"]
["⑮","換価分割の有無（リストから選択）",null,null,null,null,null,null,"遺産分割協議書"]
["⑯","相続人の数（リストから選択）"]
[]
[]
[null,"申請様式",null,"印刷"]
[null,{"$f":"IF(ISBLANK(E20),\"\",IF(AND(ISBLANK(E22),ISBLANK(E23)),\"\",IF(AND(NOT(ISBLANK(E22)),E20>E22),\"1-2\",IF(AND(NOT(ISBLANK(E23)),E20>E23),\"1-1\",\"1-3\"))))","v":""},null,null,null,null,null,"←印刷はこちらをクリック"]

{"sheet":"1-1","index":1,"n_rows":48,"n_cols":9,"rows_kept":48,"cut":false,"hidden":false,"merged":[[43,1,43,9],[0,1,0,9],[4,1,17,9],[18,1,19,3],[18,4,19,9],[20,1,21,3],[1,1,1,2],[22,5,23,9],[24,5,25,6],[24,7,25,7],[24,8,25,9],[26,1,27,3],[26,4,27,6],[26,7,27,7],[26,8,27,9],[47,4,47,9],[20,4,21,9],[34,4,35,4],[34,6,35,9],[36,1,37,3],[38,1,42,9],[46,1,46,3],[46,4,46,9],[28,1,33,3],[28,4,29,4],[28,6,29,9],[30,4,31,4],[30,6,31,9],[32,4,33,4],[32,6,33,9],[22,1,25,3]]}
[null,"被 相 続 人 居 住 用 家 屋 等 確 認 申 請 書"]
[null,"申　請　者",null,"住　所",{"$f":"IF(入力用!E5=\"\", \"\", 入力用!E5)","v":""}]
[null,null,null,"氏　名",{"$f":"IF(入力用!E4=\"\", \"\", 入力用!E4)","v":""},null,null,"電　話",{"$f":"IF(入力用!E6=\"\", \"\", 入力用!E6)","v":""}]
[null,"　下記について確認願います。"]
[null,"　下記家屋及びその敷地等は、「相続の時から譲渡の時まで事業の用、貸付けの用又は居住の用に供されていたことがないこと」（租税特別措置法第35条第３項第１号イ）、「相続の開始の直前において当該相続又は遺贈に係る被相続人（包括遺贈者を含む。以下同じ。）の居住の用（居住の用に供することができない事由として政令で定める事由（※１）（以下「特定事由」という。）により当該相続の開始の直前において当該被相続人の居住の用に供されていなかつた場合（政令で定める要件（※２）を満たす場合に限る。）における当該特定事由により居住の用に供されなくなる直前の当該被相続人の居住の用（以下「対象従前居住の用」という。）を含む。）に供されていた家屋」（同条第５項柱書）及び「相続の開始の直前において被相続人以外に居住をしていた者がいなかつたこと（当該被相続人の当該居住の用に供されていた家屋が対象従前居住の用に供されていた家屋である場合には、当該特定事由により当該家屋が居住の用に供されなくなる直前において当該被相続人以外に居住をしていた者がいなかつたこと）」（同項第３号）に該当すること\n（※１）通知における特定事由と同じ。（※２）通知における老人ホーム等入所中要件と同じ。"]
[]
[]
[]
[]
[]
[]
[]
[]
[]
[]
[]
[]
[]
[null,"申請被相続人居住用家屋及びその敷地等(※３)の所在地(敷地の所在地番)",null,null,{"$f":"IF(入力用!E19=\"\", \"\", 入力用!E19)","v":""}]
[]
[null,"申請被相続人居住用家屋の建築年月日（※４）",null,null,{"$f":"IF(入力用!E21=\"\", \"\", TEXT(入力用!E21, \"[$-411]ggge年m月d日\"))","v":""}]
[]
[null,"被相続人の氏名及び住所",null,null,"（住所）",{"$f":"IF(入力用!E15=\"\", \"\", 入力用!E15)","v":""}]
[]
[null,null,null,null,"（氏名）",{"$f":"IF(入力用!E14=\"\", \"\", 入力用!E14)","v":""},null,"申請者から\nみた続柄",{"$f":"IF(入力用!E17=\"\", \"\", 入力用!E17)","v":""}]
[]
[null,"相続開始日(被相続人の死亡日)",null,null,{"$f":"IF(入力用!E16=\"\", \"\", TEXT(入力用!E16, \"[$-411]ggge年m月d日\"))","v":""},null,null,"譲渡日\n（※５）",{"$f":"IF(入力用!E20=\"\", \"\", TEXT(入力用!E20, \"[$-411]ggge年m月d日\"))","v":""}]
[]
[null,"申請被相続人居住用家屋又はその敷地等の取得をした他の相続人の氏名及び住所\n※書ききれない場合は別紙",null,null,{"$f":"IF(AND(入力用!E8=\"\", 入力用!E9=\"\"), \"□家屋\", \"■家屋\")","v":"□家屋"},"（住所）",{"$f":"IF(入力用!E9=\"\", \"\", 入力用!E9)","v":""}]
[]
[null,null,null,null,{"$f":"IF(AND(入力用!E8=\"\", 入力用!E9=\"\"), \"□敷地等\", \"■敷地等\")","v":"□敷地等"},"（氏名）",{"$f":"IF(入力用!E8=\"\", \"\", 入力用!E8)","v":""}]
[]
[null,null,null,null,{"$f":"IF(AND(入力用!E10=\"\", 入力用!E11=\"\"), \"□家屋\", \"■家屋\")","v":"□家屋"},"（住所）",{"$f":"IF(入力用!E11=\"\", \"\", 入力用!E11)","v":""}]
[]
[null,null,null,null,{"$f":"IF(AND(入力用!E10=\"\", 入力用!E11=\"\"), \"□敷地等\", \"■敷地等\")","v":"□敷地等"},"（氏名）",{"$f":"IF(入力用!E10=\"\", \"\", 入力用!E10)","v":""}]
[null,"換価分割の場合は✔　⇒",null,{"$f":"IF(入力用!E25=\"\", \"□\", IF(入力用!E25=\"〇\", \"■\", \"\"))","v":"□"}]
[null,"相続人（※６）の数（申請者含む）\n※該当する□に✔",null,null,{"$f":"IF(入力用!E26=\"２名以下\", \"■\", IF(OR(入力用!E26=\"３名以上\", 入力用!E26=\"\"), \"□\", \"\"))","v":"□"},"２名以下",null,{"$f":"IF(OR(入力用!E26=\"２名以下\", 入力用!E26=\"\"), \"□\", IF(入力用!E26=\"３名以上\", \"■\", \"\"))","v":"□"},"３名以上"]
[null,null,null,null,"【特別控除額の上限額　3,000万円】",null,null,"【特別控除額の上限額　2,000万円】"]
[null,"（※３）申請被相続人居住用家屋及びその敷地等は、被相続人から相続又は遺贈（贈与者の死亡により効力を生ずる贈与を含む。以下同 \n      じ。）により相続人（包括受遺者を含む。以下同じ。）が取得をしたものに限る。\n（※４）申請被相続人居住用家屋は、昭和56年５月31日以前に建築されたものに限る。\n（※５）申請被相続人居住用家屋又はその敷地等の譲渡は、相続開始日から同日以後３年を経過する日の属する年の12月31日までの間にし \n      たものに限る。なお、本申請書を用いての申請は、令和６年１月１日以降に譲渡をしたものに限る。\n（※６）相続又は遺贈により申請被相続人居住用家屋とその敷地等のいずれも取得した相続人に限る。\n――――――――――――――――――――――――――――――――――――――――――――――――――――――――――――――"]
[]
[]
[]
[]
[null,"被 相 続 人 居 住 用 家 屋 等 確 認 書"]
[null,"上記について確認しました。"]
[null,"※市区町村記入欄"]
[null,"確 認 年 月 日",null,null,"　　　　　　　　年　　　　月　　　　日"]
[null,"確認を行った市区町村長",null,null,"印"]

{"sheet":"1-2","index":2,"n_rows":48,"n_cols":9,"rows_kept":48,"cut":false,"hidden":false,"merged":[[43,1,43,9],[1,1,1,2],[46,1,46,3],[46,4,46,9],[47,4,47,9],[34,6,35,9],[36,1,37,3],[38,1,42,9],[34,4,35,4],[26,1,27,3],[26,4,27,6],[26,7,27,7],[26,8,27,9],[28,1,33,3],[28,6,29,9],[30,6,31,9],[32,6,33,9],[0,1,0,9],[4,1,17,9],[28,4,29,4],[30,4,31,4],[32,4,33,4],[18,1,19,3],[20,1,21,3],[20,4,21,5],[20,6,21,7],[20,8,21,9],[18,4,19,9],[22,1,25,3],[22,5,23,9],[24,5,25,6],[24,7,25,7],[24,8,25,9]]}
[null,"被 相 続 人 居 住 用 家 屋 等 確 認 申 請 書"]
[null,"申　請　者",null,"住　所",{"$f":"IF(入力用!E5=\"\", \"\", 入力用!E5)","v":""}]
[null,null,null,"氏　名",{"$f":"IF(入力用!E4=\"\", \"\", 入力用!E4)","v":""},null,null,"電　話",{"$f":"IF(入力用!E6=\"\", \"\", 入力用!E6)","v":""}]
[null,"　下記について確認願います。"]
[null,"　下記家屋及びその敷地等は、当該家屋が「相続の時から取壊し、除却又は滅失の時まで事業の用、貸付けの用又は居住の用に供されていたことがないこと」（租税特別措置法第35条第３項第２号イ）、当該敷地等が「相続の時から譲渡の時まで事業の用、貸付けの用又は居住の用に供されていたことがないこと」（同号ロ）及び「取壊し、除却又は滅失の時から譲渡の時まで建物又は構築物の敷地の用に供されていたことがないこと」（同号ハ）、当該家屋が「相続の開始の直前において当該相続又は遺贈に係る被相続人（包括遺贈者を含む。以下同じ。）の居住の用（居住の用に供することができない事由として政令で定める事由（※１）（以下「特定事由」という。）により当該相続の開始の直前において当該被相続人の居住の用に供されていなかつた場合（政令で定める要件（※２）を満たす場合に限る。）における当該特定事由により居住の用に供されなくなる直前の当該被相続人の居住の用（以下「対象従前居住の用」という。）を含む。）に供されていた家屋」（同条第５項柱書）及び「相続の開始の直前において被相続人以外に居住をしていた者がいなかつたこと（当該被相続人の当該居住の用に供されていた家屋が対象従前居住の用に供されていた家屋である場合には、当該特定事由により当該家屋が居住の用に供されなくなる直前において当該被相続人以外に居住をしていた者がいなかつたこと）」（同項第３号）に該当すること\n（※１）通知における特定事由と同じ。（※２）通知における老人ホーム等入所中要件と同じ。"]
[]
[]
[]
[]
[]
[]
[]
[]
[]
[]
[]
[]
[]
[null,"申請被相続人居住用家屋及びその敷地等(※３)の所在地(敷地の所在地番)",null,null,{"$f":"IF(入力用!E19=\"\", \"\", 入力用!E19)","v":""}]
[]
[null,"申請被相続人居住用家屋の建築年月日（※４）",null,null,{"$f":"IF(入力用!E21=\"\", \"\", TEXT(入力用!E21, \"[$-411]ggge年m月d日\"))","v":""},null,"家屋の取壊し、除却又は滅失の日（※５）",null,{"$f":"IF(入力用!E22=\"\", \"\", TEXT(入力用!E22, \"[$-411]ggge年m月d日\"))","v":""}]
[]
[null,"被相続人の氏名及び住所",null,null,"（住所）",{"$f":"IF(入力用!E15=\"\", \"\", 入力用!E15)","v":""}]
[]
[null,null,null,null,"（氏名）",{"$f":"IF(入力用!E14=\"\", \"\", 入力用!E14)","v":""},null,"申請者から\nみた続柄",{"$f":"IF(入力用!E17=\"\", \"\", 入力用!E17)","v":""}]
[]
[null,"相続開始日(被相続人の死亡日)",null,null,{"$f":"IF(入力用!E16=\"\", \"\", TEXT(入力用!E16, \"[$-411]ggge年m月d日\"))","v":""},null,null,"譲渡日\n（※６）",{"$f":"IF(入力用!E20=\"\", \"\", TEXT(入力用!E20, \"[$-411]ggge年m月d日\"))","v":""}]
[]
[null,"申請被相続人居住用家屋又はその敷地等の取得をした他の相続人の氏名及び住所\n※書ききれない場合は別紙",null,null,{"$f":"IF(AND(入力用!E8=\"\", 入力用!E9=\"\"), \"□家屋\", \"■家屋\")","v":"□家屋"},"（住所）",{"$f":"IF(入力用!E9=\"\", \"\", 入力用!E9)","v":""}]
[]
[null,null,null,null,{"$f":"IF(AND(入力用!E8=\"\", 入力用!E9=\"\"), \"□敷地等\", \"■敷地等\")","v":"□敷地等"},"（氏名）",{"$f":"IF(入力用!E8=\"\", \"\", 入力用!E8)","v":""}]
[]
[null,null,null,null,{"$f":"IF(AND(入力用!E10=\"\", 入力用!E11=\"\"), \"□家屋\", \"■家屋\")","v":"□家屋"},"（住所）",{"$f":"IF(入力用!E11=\"\", \"\", 入力用!E11)","v":""}]
[]
[null,null,null,null,{"$f":"IF(AND(入力用!E10=\"\", 入力用!E11=\"\"), \"□敷地等\", \"■敷地等\")","v":"□敷地等"},"（氏名）",{"$f":"IF(入力用!E10=\"\", \"\", 入力用!E10)","v":""}]
[null,"換価分割の場合は✔　⇒",null,{"$f":"IF(入力用!E25=\"\", \"□\", IF(入力用!E25=\"〇\", \"■\", \"\"))","v":"□"}]
[null,"相続人（※７）の数（申請者含む）\n※該当する□に✔",null,null,{"$f":"IF(入力用!E26=\"２名以下\", \"■\", IF(OR(入力用!E26=\"３名以上\", 入力用!E26=\"\"), \"□\", \"\"))","v":"□"},"２名以下",null,{"$f":"IF(OR(入力用!E26=\"２名以下\", 入力用!E26=\"\"), \"□\", IF(入力用!E26=\"３名以上\", \"■\", \"\"))","v":"□"},"３名以上"]
[null,null,null,null,"【特別控除額の上限額　3,000万円】",null,null,"【特別控除額の上限額　2,000万円】"]
[null,"（※３）申請被相続人居住用家屋及びその敷地等は、被相続人から相続又は遺贈（贈与者の死亡により効力を生ずる贈与を含む。以下同 \n      じ。）により相続人（包括受遺者を含む。以下同じ。）が取得をしたものに限る。\n（※４）申請被相続人居住用家屋は、昭和56年５月31日以前に建築されたものに限る。\n（※５）申請被相続人居住用家屋の閉鎖事項証明書に記載された取壊し等をした日（未登記の場合は解体工事の請負契約書等により確認し\n      た解体日等）を記載する。\n（※６）申請被相続人居住用家屋の敷地等の譲渡は、相続開始日から起算して同日以後３年を経過する日の属する年の12月31日までの間に\n      したものに限る。なお、本申請書を用いての申請は、令和６年１月１日以降に譲渡をしたものに限る。\n（※７）相続又は遺贈により申請被相続人居住用家屋とその敷地等のいずれも取得した相続人に限る。\n――――――――――――――――――――――――――――――――――――――――――――――――――――――――――――――――――――――"]
[]
[]
[]
[]
[null,"被 相 続 人 居 住 用 家 屋 等 確 認 書"]
[null,"上記について確認しました。"]
[null,"※市区町村記入欄"]
[null,"確 認 年 月 日",null,null,"　　　　　　　　年　　　　月　　　　日"]
[null,"確認を行った市区町村長",null,null,"印"]

{"sheet":"1-3","index":3,"n_rows":50,"n_cols":9,"rows_kept":50,"cut":false,"hidden":false,"merged":[[45,1,45,9],[0,1,0,9],[4,1,17,9],[18,1,19,3],[18,4,19,9],[20,1,21,3],[20,4,21,9],[1,1,1,2],[34,4,35,4],[34,6,35,9],[22,1,25,3],[22,5,23,9],[24,5,25,6],[24,7,25,7],[24,8,25,9],[28,1,29,3],[28,4,29,6],[28,7,29,7],[28,8,29,9],[49,4,49,9],[26,1,27,3],[26,6,27,7],[27,4,27,5],[27,8,27,9],[36,4,37,4],[36,6,37,9],[38,1,39,3],[40,1,44,9],[48,1,48,3],[48,4,48,9],[30,1,35,3],[30,4,31,4],[30,6,31,9],[32,4,33,4],[32,6,33,9]]}
[null,"被 相 続 人 居 住 用 家 屋 等 確 認 申 請 書"]
[null,"申　請　者",null,"住　所",{"$f":"IF(入力用!E5=\"\", \"\", 入力用!E5)","v":""}]
[null,null,null,"氏　名",{"$f":"IF(入力用!E4=\"\", \"\", 入力用!E4)","v":""},null,null,"電　話",{"$f":"IF(入力用!E6=\"\", \"\", 入力用!E6)","v":""}]
[null,"　下記について確認願います。"]
[null,"　下記家屋及びその敷地等は、「譲渡の時から譲渡の日の属する年の翌年２月15日までの間に、当該家屋が耐震基準に適合することとなつた場合又は当該家屋の取壊し若しくは除却がされ、若しくはその全部が滅失をした場合」（租税特別措置法第35条第３項）、「相続の時から譲渡の時まで事業の用、貸付けの用又は居住の用に供されていたことがないこと」（同項第３号）、「相続の開始の直前において当該相続又は遺贈に係る被相続人（包括遺贈者を含む。以下同じ。）の居住の用（居住の用に供することができない事由として政令で定める事由（※１）（以下「特定事由」という。）により当該相続の開始の直前において当該被相続人の居住の用に供されていなかつた場合（政令で定める要件（※２）を満たす場合に限る。）における当該特定事由により居住の用に供されなくなる直前の当該被相続人の居住の用（以下「対象従前居住の用」という。）を含む。）に供されていた家屋」（同条第５項柱書）及び「相続の開始の直前において被相続人以外に居住をしていた者がいなかつたこと（当該被相続人の当該居住の用に供されていた家屋が対象従前居住の用に供されていた家屋である場合には、当該特定事由により当該家屋が居住の用に供されなくなる直前において当該被相続人以外に居住をしていた者がいなかつたこと）」（同項第３号）に該当すること\n（※１）通知における特定事由と同じ。（※２）通知における老人ホーム等入所中要件と同じ。"]
[]
[]
[]
[]
[]
[]
[]
[]
[]
[]
[]
[]
[]
[null,"申請被相続人居住用家屋及びその敷地等(※３)の所在地(敷地の所在地番)",null,null,{"$f":"IF(入力用!E19=\"\", \"\", 入力用!E19)","v":""}]
[]
[null,"申請被相続人居住用家屋の建築年月日（※４）",null,null,{"$f":"IF(入力用!E21=\"\", \"\", TEXT(入力用!E21, \"[$-411]ggge年m月d日\"))","v":""}]
[]
[null,"被相続人の氏名及び住所",null,null,"（住所）",{"$f":"IF(入力用!E15=\"\", \"\", 入力用!E15)","v":""}]
[]
[null,null,null,null,"（氏名）",{"$f":"IF(入力用!E14=\"\", \"\", 入力用!E14)","v":""},null,"申請者から\nみた続柄",{"$f":"IF(入力用!E17=\"\", \"\", 入力用!E17)","v":""}]
[]
[null,"家屋が耐震基準に適合することとなった場合は右の□に✔のうえ、その日を記入（※５）",null,null,{"$f":"IF(入力用!E22<>\"\", \"耐震基準に適合⇒□\", IF(入力用!E23<>\"\", \"耐震基準に適合⇒■\", \"\"))","v":""},null,"家屋の取壊し、除却又は滅失の場合は右の□に✔のうえ、その日を記入\n（※６）",null,{"$f":"IF(入力用!E22<>\"\", \"取壊し、除却又は滅失⇒■\", IF(入力用!E23<>\"\", \"取壊し、除却又は滅失⇒□\", \"\"))","v":""}]
[null,null,null,null,{"$f":"IF(入力用!E23=\"\", \"\", TEXT(入力用!E23, \"[$-411]ggge年m月d日\"))","v":""},null,null,null,{"$f":"IF(入力用!E22=\"\", \"\", TEXT(入力用!E22, \"[$-411]ggge年m月d日\"))","v":""}]
[null,"相続開始日(被相続人の死亡日)",null,null,{"$f":"IF(入力用!E16=\"\", \"\", TEXT(入力用!E16, \"[$-411]ggge年m月d日\"))","v":""},null,null,"譲渡日\n（※７）",{"$f":"IF(入力用!E20=\"\", \"\", TEXT(入力用!E20, \"[$-411]ggge年m月d日\"))","v":""}]
[]
[null,"申請被相続人居住用家屋又はその敷地等の取得をした他の相続人の氏名及び住所\n※書ききれない場合は別紙",null,null,{"$f":"IF(AND(入力用!E8=\"\", 入力用!E9=\"\"), \"□家屋\", \"■家屋\")","v":"□家屋"},"（住所）",{"$f":"IF(入力用!E9=\"\", \"\", 入力用!E9)","v":""}]
[]
[null,null,null,null,{"$f":"IF(AND(入力用!E8=\"\", 入力用!E9=\"\"), \"□敷地等\", \"■敷地等\")","v":"□敷地等"},"（氏名）",{"$f":"IF(入力用!E8=\"\", \"\", 入力用!E8)","v":""}]
[]
[null,null,null,null,{"$f":"IF(AND(入力用!E10=\"\", 入力用!E11=\"\"), \"□家屋\", \"■家屋\")","v":"□家屋"},"（住所）",{"$f":"IF(入力用!E11=\"\", \"\", 入力用!E11)","v":""}]
[]
[null,null,null,null,{"$f":"IF(AND(入力用!E10=\"\", 入力用!E11=\"\"), \"□敷地等\", \"■敷地等\")","v":"□敷地等"},"（氏名）",{"$f":"IF(入力用!E10=\"\", \"\", 入力用!E10)","v":""}]
[null,"換価分割の場合は✔　⇒",null,{"$f":"IF(入力用!E25=\"\", \"□\", IF(入力用!E25=\"〇\", \"■\", \"\"))","v":"□"}]
[null,"相続人（※８）の数（申請者含む）\n※該当する□に✔",null,null,{"$f":"IF(入力用!E26=\"２名以下\", \"■\", IF(OR(入力用!E26=\"３名以上\", 入力用!E26=\"\"), \"□\", \"\"))","v":"□"},"２名以下",null,{"$f":"IF(OR(入力用!E26=\"２名以下\", 入力用!E26=\"\"), \"□\", IF(入力用!E26=\"３名以上\", \"■\", \"\"))","v":"□"},"３名以上"]
[null,null,null,null,"【特別控除額の上限額　3,000万円】",null,null,"【特別控除額の上限額　2,000万円】"]
[null,"（※３）申請被相続人居住用家屋及びその敷地等は、被相続人から相続又は遺贈（贈与者の死亡により効力を生ずる贈与を含む。以下同 \n      じ。）により相続人（包括受遺者を含む。以下同じ。）が取得をしたものに限る。\n（※４）申請被相続人居住用家屋は、昭和56年５月31日以前に建築されたものに限る。\n（※５）耐震基準に適合することとなった日には、耐震改修工事の請負契約書及び工事費用の請求書や領収書等に記載された当該工\n　　　事の完了日を記載する。\n（※６）家屋の取壊し、除却又は滅失した日には、閉鎖事項証明書等に記載の取壊し等の日を記載する。\n（※７）申請被相続人居住用家屋の敷地等の譲渡は、相続開始日から起算して同日以後３年を経過する日の属する年の12月31日までの間に\n      したものに限る。なお、本申請書を用いての申請は、令和６年１月１日以降に譲渡をしたものに限る。\n（※８）相続又は遺贈により申請被相続人居住用家屋とその敷地等のいずれも取得した相続人に限る。\n――――――――――――――――――――――――――――――――――――――――――――――――――――――――――――――――――――――"]
[]
[]
[]
[]
[null,"被 相 続 人 居 住 用 家 屋 等 確 認 書"]
[null,"上記について確認しました。"]
[null,"※市区町村記入欄"]
[null,"確 認 年 月 日",null,null,"　　　　　　　　年　　　　月　　　　日"]
[null,"確認を行った市区町村長",null,null,"印"]