{"text_format":"1","workbook":"xlsx","n_sheets":18,"sheets":["Menu","データ(1)","データ(2)","データ(3)","クラス(1)","クラス(2)","クラス(3)","分布図","分布図比較","プロフィール選択","PR","風土印刷","基準値","段階表","得点と段階案","段階","質問項目","風土説明"],"not_rendered":{"charts":9,"images":12,"macros":1,"external_links":0,"defined_names":29,"comments":1,"pivot_tables":0},"unopened":[],"bounds":{"document_bytes":16777216,"sheet_cells":100000,"rows_first":2000,"rows_last":500,"rows_between":2000,"halvings":0,"cell_chars":16384,"cell_head_chars":4096},"cells_cut":0,"cells_raw":0,"read":"whole","date_system":"1900"}

{"sheet":"Menu","index":0,"n_rows":6,"n_cols":6,"rows_kept":6,"cut":false,"hidden":false,"merged":[]}
[]
[null,"STEP１\n学級風土チェック入力",null,"STEP２\n児童アンケート入力",null,"STEP3\n結果の出力"]
[]
[null,null,null,"RGB0,51,102"]
[null,null,null,"RGB0,51,102"]
[null,null,null,"RGB0,51,102"]

{"sheet":"データ(1)","index":1,"n_rows":58,"n_cols":51,"rows_kept":58,"cut":false,"hidden":false,"merged":[[55,41,56,41],[51,41,52,41],[53,41,54,41],[2,4,2,9],[3,4,3,5],[53,37,54,37],[51,31,52,31],[3,8,3,9],[51,19,52,19],[53,28,54,28],[53,29,54,29],[53,30,54,30],[53,31,54,31],[53,32,54,32],[53,33,54,33],[53,36,54,36],[55,37,56,37],[53,21,54,21],[53,23,54,23],[53,25,54,25],[55,10,56,10],[55,11,56,11],[55,12,56,12],[53,12,54,12],[55,1,56,1],[51,0,52,0],[53,0,54,0],[55,0,56,0],[53,1,54,1],[2,41,4,41],[2,25,3,36],[2,10,3,23],[51,36,52,36],[51,18,52,18],[51,25,52,25],[51,29,52,29],[51,28,52,28],[51,26,52,26],[51,17,52,17],[51,37,52,37],[51,34,52,34],[51,35,52,35],[51,23,52,23],[51,27,52,27],[51,32,52,32],[51,30,52,30],[51,33,52,33],[55,36,56,36],[1,42,1,43],[1,44,1,45],[2,37,4,37],[2,38,4,38],[2,39,4,39],[2,40,4,40],[2,42,4,42],[2,43,4,43],[2,44,4,44],[2,45,4,45],[0,2,1,41],[53,42,54,42],[53,43,54,43],[53,44,54,44],[53,45,54,45],[53,46,54,46],[51,42,52,42],[51,38,52,38],[51,39,52,39],[51,40,52,40],[51,43,52,43],[51,45,52,45],[2,50,4,50],[2,46,4,46],[2,47,4,47],[2,48,4,48],[2,49,4,49],[51,47,52,47],[51,44,52,44],[51,46,52,46],[55,44,56,44],[55,46,56,46],[55,47,56,47],[53,47,54,47],[55,45,56,45],[2,0,4,0],[2,1,4,1],[51,1,52,1],[3,6,3,7],[2,2,3,2],[53,15,54,15],[53,16,54,16],[53,17,54,17],[51,20,52,20],[51,16,52,16],[53,14,54,14],[53,18,54,18],[53,19,54,19],[53,20,54,20],[51,10,52,10],[51,11,52,11],[51,12,52,12],[51,13,52,13],[51,14,52,14],[51,15,52,15],[53,10,54,10],[53,11,54,11],[2,3,3,3],[55,15,56,15],[55,16,56,16],[55,17,56,17],[53,34,54,34],[53,35,54,35],[55,33,56,33],[55,34,56,34],[55,35,56,35],[55,29,56,29],[55,30,56,30],[55,31,56,31],[55,32,56,32],[55,38,56,38],[55,39,56,39],[55,40,56,40],[55,42,56,42],[55,43,56,43],[53,38,54,38],[53,39,54,39],[53,40,54,40],[55,13,56,13],[55,25,56,25],[55,26,56,26],[55,27,56,27],[55,28,56,28],[55,19,56,19],[55,20,56,20],[55,21,56,21],[55,23,56,23],[51,24,56,24],[51,21,52,21],[53,13,54,13],[53,26,54,26],[55,18,56,18],[53,27,54,27],[55,14,56,14]]}
["学年","小１","　　　　個人アセスメント入力シート１回目"]
["組",1,null,null,null,null,null,null,null,null,null,null,null,null,null,null,null,null,null,null,null,null,null,null,null,null,null,null,null,null,null,null,null,null,null,null,null,null,null,null,null,null,"自分づくり",null,"仲間づくり"]
["ＮＯ","氏名","性別","日本語\n指導","風土まとめ合計",null,null,null,null,null,"Ａ項目\n自分づくりスキル",null,null,null,null,null,null,null,null,null,null,null,null,null,null,"Ｂ項目\n仲間づくりスキル",null,null,null,null,null,null,null,null,null,null,null,"自分づくり","仲間づくり","学級居心地感","心配傾向","かかわり","自己効力感","自尊感情","自己表現","共感・配慮","仲間づくり","自分づくり","自分づくり\n学級","仲間づくり\n学級","集団づくり\n学級"]
[null,null,null,null,"自分づくり",null,"仲間づくり",null,"集団づくり"]
[null,null,"性別",null,"公正","寛容","自己表現","配慮","課題遂行","合意形成","１","２","３","４","５","６","７","８","９","１０","１１","１２","１３","１４","性別","１","２","３","４","５","６","７","８","９","１０","１１","１２"]
[1,null,null,null,{"$f":"'クラス(1)'!$H$30","v":0},{"$f":"'クラス(1)'!$H$31","v":0},{"$f":"'クラス(1)'!$H$32","v":0},{"$f":"'クラス(1)'!$H$33","v":0},{"$f":"'クラス(1)'!$H$34","v":0},{"$f":"'クラス(1)'!$H$35","v":0},null,null,null,null,null,null,null,null,null,null,null,null,null,null,{"$f":"C6","v":0},null,null,null,null,null,null,null,null,null,null,null,null,{"$f":"SUM(M6,L6,N6,O6,Q6,R6,T6,P6)","v":0},{"$f":"SUM(Z6:AK6)","v":0},{"$f":"SUM(S6,T6,U6,V6)","v":0},{"$f":"SUM(M6,P6,S6)","v":0},{"$f":"SUM(AA6,AJ6,AB6,AE6)","v":0},{"$f":"SUM(P6,R6,L6,O6)","v":0},{"$f":"SUM(T6,N6,M6,Q6)","v":0},{"$f":"SUM(Z6,AA6,AC6,AD6,AG6,AJ6)","v":0},{"$f":"SUM(AB6,AE6,AF6,AH6,AI6,AK6)","v":0},{"$f":"SUM(Z6:AK6)","v":0},{"$f":"SUM(M6,L6,N6,O6,Q6,R6,T6,P6)","v":0},{"$f":"E6","v":0},{"$f":"G6","v":0},{"$f":"I6","v":0}]
[2,null,null,null,{"$f":"'クラス(1)'!$I$30","v":0},{"$f":"'クラス(1)'!$I$31","v":0},{"$f":"'クラス(1)'!$I$32","v":0},{"$f":"'クラス(1)'!$I$33","v":0},{"$f":"'クラス(1)'!$I$34","v":0},{"$f":"'クラス(1)'!$I$35","v":0},null,null,null,null,null,null,null,null,null,null,null,null,null,null,{"$f":"C7","v":0},null,null,null,null,null,null,null,null,null,null,null,null,{"$f":"SUM(M7,L7,N7,O7,Q7,R7,T7,P7)","v":0},{"$f":"SUM(Z7:AK7)","v":0},0,0,{"$f":"SUM(AA7,AJ7,AB7,AE7)","v":0},{"$f":"SUM(P7,R7,L7,O7)","v":0},{"$f":"SUM(T7,N7,M7,Q7)","v":0},{"$f":"SUM(Z7,AA7,AC7,AD7,AG7,AJ7)","v":0},{"$f":"SUM(AB7,AE7,AF7,AH7,AI7,AK7)","v":0},{"$f":"SUM(Z7:AK7)","v":0},0,{"$f":"E7","v":0},{"$f":"G7","v":0},{"$f":"I7","v":0}]
[3,null,null,null,{"$f":"'クラス(1)'!$J$30","v":0},{"$f":"'クラス(1)'!$J$31","v":0},{"$f":"'クラス(1)'!$J$32","v":0},{"$f":"'クラス(1)'!$J$33","v":0},{"$f":"'クラス(1)'!$J$34","v":0},{"$f":"'クラス(1)'!$J$35","v":0},null,null,null,null,null,null,null,null,null,null,null,null,null,null,0,null,null,null,null,null,null,null,null,null,null,null,null,{"$f":"SUM(M8,L8,N8,O8,Q8,R8,T8,P8)","v":0},0,0,0,{"$f":"SUM(AA8,AJ8,AB8,AE8)","v":0},0,0,0,0,{"$f":"SUM(Z8:AK8)","v":0},0,0,0,0]
[4,null,null,null,{"$f":"'クラス(1)'!$K$30","v":0},{"$f":"'クラス(1)'!$K$31","v":0},{"$f":"'クラス(1)'!$K$32","v":0},{"$f":"'クラス(1)'!$K$33","v":0},{"$f":"'クラス(1)'!$K$34","v":0},{"$f":"'クラス(1)'!$K$35","v":0},null,null,null,null,null,null,null,null,null,null,null,null,null,null,0,null,null,null,null,null,null,null,null,null,null,null,null,0,0,0,0,0,0,0,0,0,{"$f":"SUM(Z9:AK9)","v":0},0,0,0,0]
[5,null,null,null,{"$f":"'クラス(1)'!$L$30","v":0},{"$f":"'クラス(1)'!$L$31","v":0},{"$f":"'クラス(1)'!$L$32","v":0},{"$f":"'クラス(1)'!$L$33","v":0},{"$f":"'クラス(1)'!$L$34","v":0},{"$f":"'クラス(1)'!$L$35","v":0},null,null,null,null,null,null,null,null,null,null,null,null,null,null,0,null,null,null,null,null,null,null,null,null,null,null,null,0,0,0,0,0,0,0,0,0,{"$f":"SUM(Z10:AK10)","v":0},0,0,0,0]
[6,null,null,null,{"$f":"'クラス(1)'!$M$30","v":0},{"$f":"'クラス(1)'!$M$31","v":0},{"$f":"'クラス(1)'!$M$32","v":0},{"$f":"'クラス(1)'!$M$33","v":0},{"$f":"'クラス(1)'!$M$34","v":0},{"$f":"'クラス(1)'!$M$35","v":0},null,null,null,null,null,null,null,null,null,null,null,null,null,null,0,null,null,null,null,null,null,null,null,null,null,null,null,0,0,0,0,0,0,{"$f":"SUM(T11,N11,M11,Q11)","v":0},0,0,{"$f":"SUM(Z11:AK11)","v":0},0,0,0,0]
[7,null,null,null,{"$f":"'クラス(1)'!$N$30","v":0},{"$f":"'クラス(1)'!$N$31","v":0},{"$f":"'クラス(1)'!$N$32","v":0},{"$f":"'クラス(1)'!$N$33","v":0},{"$f":"'クラス(1)'!$N$34","v":0},{"$f":"'クラス(1)'!$N$35","v":0},null,null,null,null,null,null,null,null,null,null,null,null,null,null,0,null,null,null,null,null,null,null,null,null,null,null,null,0,0,0,0,0,0,0,0,0,0,0,0,0,0]
[8,null,null,null,{"$f":"'クラス(1)'!$O$30","v":0},{"$f":"'クラス(1)'!$O$31","v":0},{"$f":"'クラス(1)'!$O$32","v":0},{"$f":"'クラス(1)'!$O$33","v":0},{"$f":"'クラス(1)'!$O$34","v":0},{"$f":"'クラス(1)'!$O$35","v":0},null,null,null,null,null,null,null,null,null,null,null,null,null,null,0,null,null,null,null,null,null,null,null,null,null,null,null,0,0,0,0,0,0,0,0,0,0,0,0,0,0]
[9,null,null,null,{"$f":"'クラス(1)'!$P$30","v":0},{"$f":"'クラス(1)'!$P$31","v":0},{"$f":"'クラス(1)'!$P$32","v":0},{"$f":"'クラス(1)'!$P$33","v":0},{"$f":"'クラス(1)'!$P$34","v":0},{"$f":"'クラス(1)'!$P$35","v":0},null,null,null,null,null,null,null,null,null,null,null,null,null,null,0,null,null,null,null,null,null,null,null,null,null,null,null,0,0,0,0,0,0,0,0,0,0,0,{"$f":"E14","v":0},{"$f":"G14","v":0},{"$f":"I14","v":0}]
[10,null,null,null,{"$f":"'クラス(1)'!$Q$30","v":0},{"$f":"'クラス(1)'!$Q$31","v":0},{"$f":"'クラス(1)'!$Q$32","v":0},{"$f":"'クラス(1)'!$Q$33","v":0},{"$f":"'クラス(1)'!$Q$34","v":0},{"$f":"'クラス(1)'!$Q$35","v":0},null,null,null,null,null,null,null,null,null,null,null,null,null,null,0,null,null,null,null,null,null,null,null,null,null,null,null,0,0,0,0,0,0,0,0,0,0,0,0,0,0]
[11,null,null,null,{"$f":"'クラス(1)'!$R$30","v":0},{"$f":"'クラス(1)'!$R$31","v":0},{"$f":"'クラス(1)'!$R$32","v":0},{"$f":"'クラス(1)'!$R$33","v":0},{"$f":"'クラス(1)'!$R$34","v":0},{"$f":"'クラス(1)'!$R$35","v":0},null,null,null,null,null,null,null,null,null,null,null,null,null,null,0,null,null,null,null,null,null,null,null,null,null,null,null,0,0,0,0,0,0,0,0,0,0,0,0,0,0]
[12,null,null,null,{"$f":"'クラス(1)'!$S$30","v":0},{"$f":"'クラス(1)'!$S$31","v":0},{"$f":"'クラス(1)'!$S$32","v":0},{"$f":"'クラス(1)'!$S$33","v":0},{"$f":"'クラス(1)'!$S$34","v":0},{"$f":"'クラス(1)'!$S$35","v":0},null,null,null,null,null,null,null,null,null,null,null,null,null,null,0,null,null,null,null,null,null,null,null,null,null,null,null,0,0,0,0,0,0,0,0,0,0,0,0,0,0]
[13,null,null,null,{"$f":"'クラス(1)'!$T$30","v":0},{"$f":"'クラス(1)'!$T$31","v":0},{"$f":"'クラス(1)'!$T$32","v":0},{"$f":"'クラス(1)'!$T$33","v":0},{"$f":"'クラス(1)'!$T$34","v":0},{"$f":"'クラス(1)'!$T$35","v":0},null,null,null,null,null,null,null,null,null,null,null,null,null,null,0,null,null,null,null,null,null,null,null,null,null,null,null,0,0,0,0,0,0,0,0,0,0,0,0,0,0]
[14,null,null,null,{"$f":"'クラス(1)'!$U$30","v":0},{"$f":"'クラス(1)'!$U$31","v":0},{"$f":"'クラス(1)'!$U$32","v":0},{"$f":"'クラス(1)'!$U$33","v":0},{"$f":"'クラス(1)'!$U$34","v":0},{"$f":"'クラス(1)'!$U$35","v":0},null,null,null,null,null,null,null,null,null,null,null,null,null,null,0,null,null,null,null,null,null,null,null,null,null,null,null,0,0,0,0,0,0,0,0,0,0,0,0,0,0]
[15,null,null,null,{"$f":"'クラス(1)'!$V$30","v":0},{"$f":"'クラス(1)'!$V$31","v":0},{"$f":"'クラス(1)'!$V$32","v":0},{"$f":"'クラス(1)'!$V$33","v":0},{"$f":"'クラス(1)'!$V$34","v":0},{"$f":"'クラス(1)'!$V$35","v":0},null,null,null,null,null,null,null,null,null,null,null,null,null,null,0,null,null,null,null,null,null,null,null,null,null,null,null,0,{"$f":"SUM(Z20:AK20)","v":0},{"$f":"SUM(S20,T20,U20,V20)","v":0},{"$f":"SUM(M20,P20,S20)","v":0},{"$f":"SUM(AA20,AJ20,AB20,AE20)","v":0},{"$f":"SUM(P20,R20,L20,O20)","v":0},{"$f":"SUM(T20,N20,M20,Q20)","v":0},{"$f":"SUM(Z20,AA20,AC20,AD20,AG20,AJ20)","v":0},{"$f":"SUM(AB20,AE20,AF20,AH20,AI20,AK20)","v":0},{"$f":"SUM(Z20:AK20)","v":0},{"$f":"SUM(M20,L20,N20,O20,Q20,R20,T20,P20)","v":0},{"$f":"E20","v":0},0,0]
[16,null,null,null,{"$f":"'クラス(1)'!$W$30","v":0},{"$f":"'クラス(1)'!$W$31","v":0},{"$f":"'クラス(1)'!$W$32","v":0},{"$f":"'クラス(1)'!$W$33","v":0},{"$f":"'クラス(1)'!$W$34","v":0},{"$f":"'クラス(1)'!$W$35","v":0},null,null,null,null,null,null,null,null,null,null,null,null,null,null,0,null,null,null,null,null,null,null,null,null,null,null,null,0,0,0,0,0,0,0,0,0,0,0,0,0,0]
[17,null,null,null,{"$f":"'クラス(1)'!$X$30","v":0},{"$f":"'クラス(1)'!$X$31","v":0},{"$f":"'クラス(1)'!$X$32","v":0},{"$f":"'クラス(1)'!$X$33","v":0},{"$f":"'クラス(1)'!$X$34","v":0},{"$f":"'クラス(1)'!$X$35","v":0},null,null,null,null,null,null,null,null,null,null,null,null,null,null,0,null,null,null,null,null,null,null,null,null,null,null,null,0,0,0,0,0,0,0,0,0,0,0,0,0,0]
[18,null,null,null,{"$f":"'クラス(1)'!$Y$30","v":0},{"$f":"'クラス(1)'!$Y$31","v":0},{"$f":"'クラス(1)'!$Y$32","v":0},{"$f":"'クラス(1)'!$Y$33","v":0},{"$f":"'クラス(1)'!$Y$34","v":0},{"$f":"'クラス(1)'!$Y$35","v":0},null,null,null,null,null,null,null,null,null,null,null,null,null,null,0,null,null,null,null,null,null,null,null,null,null,null,null,0,0,0,0,0,0,0,0,0,0,0,0,0,0]
[19,null,null,null,{"$f":"'クラス(1)'!$Z$30","v":0},{"$f":"'クラス(1)'!$Z$31","v":0},{"$f":"'クラス(1)'!$Z$32","v":0},{"$f":"'クラス(1)'!$Z$33","v":0},{"$f":"'クラス(1)'!$Z$34","v":0},{"$f":"'クラス(1)'!$Z$35","v":0},null,null,null,null,null,null,null,null,null,null,null,null,null,null,0,null,null,null,null,null,null,null,null,null,null,null,null,0,0,0,0,0,0,0,0,0,0,0,0,0,0]
[20,null,null,null,{"$f":"'クラス(1)'!$AA$30","v":0},{"$f":"'クラス(1)'!$AA$31","v":0},{"$f":"'クラス(1)'!$AA$32","v":0},{"$f":"'クラス(1)'!$AA$33","v":0},{"$f":"'クラス(1)'!$AA$34","v":0},{"$f":"'クラス(1)'!$AA$35","v":0},null,null,null,null,null,null,null,null,null,null,null,null,null,null,0,null,null,null,null,null,null,null,null,null,null,null,null,0,0,0,0,0,0,0,0,0,0,0,0,0,0]
[21,null,null,null,{"$f":"'クラス(1)'!$AB$30","v":0},{"$f":"'クラス(1)'!$AB$31","v":0},{"$f":"'クラス(1)'!$AB$32","v":0},{"$f":"'クラス(1)'!$AB$33","v":0},{"$f":"'クラス(1)'!$AB$34","v":0},{"$f":"'クラス(1)'!$AB$35","v":0},null,null,null,null,null,null,null,null,null,null,null,null,null,null,0,null,null,null,null,null,null,null,null,null,null,null,null,0,0,0,0,0,0,0,0,0,0,0,0,0,0]
[22,null,null,null,{"$f":"'クラス(1)'!$AC$30","v":0},{"$f":"'クラス(1)'!$AC$31","v":0},{"$f":"'クラス(1)'!$AC$32","v":0},{"$f":"'クラス(1)'!$AC$33","v":0},{"$f":"'クラス(1)'!$AC$34","v":0},{"$f":"'クラス(1)'!$AC$35","v":0},null,null,null,null,null,null,null,null,null,null,null,null,null,null,0,null,null,null,null,null,null,null,null,null,null,null,null,0,0,0,0,0,0,0,0,0,0,0,0,0,0]
[23,null,null,null,{"$f":"'クラス(1)'!$AD$30","v":0},{"$f":"'クラス(1)'!$AD$31","v":0},{"$f":"'クラス(1)'!$AD$32","v":0},{"$f":"'クラス(1)'!$AD$33","v":0},{"$f":"'クラス(1)'!$AD$34","v":0},{"$f":"'クラス(1)'!$AD$35","v":0},null,null,null,null,null,null,null,null,null,null,null,null,null,null,0,null,null,null,null,null,null,null,null,null,null,null,null,0,0,0,0,0,0,0,0,0,0,0,0,0,0]
[24,null,null,null,{"$f":"'クラス(1)'!$AE$30","v":0},{"$f":"'クラス(1)'!$AE$31","v":0},{"$f":"'クラス(1)'!$AE$32","v":0},{"$f":"'クラス(1)'!$AE$33","v":0},{"$f":"'クラス(1)'!$AE$34","v":0},{"$f":"'クラス(1)'!$AE$35","v":0},null,null,null,null,null,null,null,null,null,null,null,null,null,null,0,null,null,null,null,null,null,null,null,null,null,null,null,0,0,0,0,0,0,0,0,0,0,0,0,0,0]
[25,null,null,null,{"$f":"'クラス(1)'!$AF$30","v":0},{"$f":"'クラス(1)'!$AF$31","v":0},{"$f":"'クラス(1)'!$AF$32","v":0},{"$f":"'クラス(1)'!$AF$33","v":0},{"$f":"'クラス(1)'!$AF$34","v":0},{"$f":"'クラス(1)'!$AF$35","v":0},null,null,null,null,null,null,null,null,null,null,null,null,null,null,0,null,null,null,null,null,null,null,null,null,null,null,null,0,0,0,0,0,0,0,0,0,0,0,0,0,0]
[26,null,null,null,{"$f":"'クラス(1)'!$AG$30","v":0},{"$f":"'クラス(1)'!$AG$31","v":0},{"$f":"'クラス(1)'!$AG$32","v":0},{"$f":"'クラス(1)'!$AG$33","v":0},{"$f":"'クラス(1)'!$AG$34","v":0},{"$f":"'クラス(1)'!$AG$35","v":0},null,null,null,null,null,null,null,null,null,null,null,null,null,null,0,null,null,null,null,null,null,null,null,null,null,null,null,0,0,0,0,0,0,0,0,0,0,0,0,0,0]
[27,null,null,null,{"$f":"'クラス(1)'!$AH$30","v":0},{"$f":"'クラス(1)'!$AH$31","v":0},{"$f":"'クラス(1)'!$AH$32","v":0},{"$f":"'クラス(1)'!$AH$33","v":0},{"$f":"'クラス(1)'!$AH$34","v":0},{"$f":"'クラス(1)'!$AH$35","v":0},null,null,null,null,null,null,null,null,null,null,null,null,null,null,0,null,null,null,null,null,null,null,null,null,null,null,null,0,0,0,0,0,0,0,0,0,0,0,0,0,0]
[28,null,null,null,{"$f":"'クラス(1)'!$AI$30","v":0},{"$f":"'クラス(1)'!$AI$31","v":0},{"$f":"'クラス(1)'!$AI$32","v":0},{"$f":"'クラス(1)'!$AI$33","v":0},{"$f":"'クラス(1)'!$AI$34","v":0},{"$f":"'クラス(1)'!$AI$35","v":0},null,null,null,null,null,null,null,null,null,null,null,null,null,null,0,null,null,null,null,null,null,null,null,null,null,null,null,0,0,0,0,0,0,0,0,0,0,0,0,0,0]
[29,null,null,null,{"$f":"'クラス(1)'!$AJ$30","v":0},{"$f":"'クラス(1)'!$AJ$31","v":0},{"$f":"'クラス(1)'!$AJ$32","v":0},{"$f":"'クラス(1)'!$AJ$33","v":0},{"$f":"'クラス(1)'!$AJ$34","v":0},{"$f":"'クラス(1)'!$AJ$35","v":0},null,null,null,null,null,null,null,null,null,null,null,null,null,null,0,null,null,null,null,null,null,null,null,null,null,null,null,0,0,0,0,0,0,0,0,0,0,{"$f":"SUM(M34,L34,N34,O34,Q34,R34,T34,P34)","v":0},0,0,0]
[30,null,null,null,{"$f":"'クラス(1)'!$AK$30","v":0},{"$f":"'クラス(1)'!$AK$31","v":0},{"$f":"'クラス(1)'!$AK$32","v":0},{"$f":"'クラス(1)'!$AK$33","v":0},{"$f":"'クラス(1)'!$AK$34","v":0},{"$f":"'クラス(1)'!$AK$35","v":0},null,null,null,null,null,null,null,null,null,null,null,null,null,null,0,null,null,null,null,null,null,null,null,null,null,null,null,0,0,0,0,0,0,0,{"$f":"SUM(Z35,AA35,AC35,AD35,AG35,AJ35)","v":0},0,0,0,0,0,0]
[31,null,null,null,{"$f":"'クラス(1)'!$AL$30","v":0},{"$f":"'クラス(1)'!$AL$31","v":0},{"$f":"'クラス(1)'!$AL$32","v":0},{"$f":"'クラス(1)'!$AL$33","v":0},{"$f":"'クラス(1)'!$AL$34","v":0},{"$f":"'クラス(1)'!$AL$35","v":0},null,null,null,null,null,null,null,null,null,null,null,null,null,null,0,null,null,null,null,null,null,null,null,null,null,null,null,0,0,0,0,0,0,0,0,0,0,0,0,0,0]
[32,null,null,null,{"$f":"'クラス(1)'!$AM$30","v":0},{"$f":"'クラス(1)'!$AM$31","v":0},{"$f":"'クラス(1)'!$AM$32","v":0},{"$f":"'クラス(1)'!$AM$33","v":0},{"$f":"'クラス(1)'!$AM$34","v":0},{"$f":"'クラス(1)'!$AM$35","v":0},null,null,null,null,null,null,null,null,null,null,null,null,null,null,0,null,null,null,null,null,null,null,null,null,null,null,null,0,0,0,0,0,0,0,0,0,0,0,0,0,0]
[33,null,null,null,{"$f":"'クラス(1)'!$AN$30","v":0},{"$f":"'クラス(1)'!$AN$31","v":0},{"$f":"'クラス(1)'!$AN$32","v":0},{"$f":"'クラス(1)'!$AN$33","v":0},{"$f":"'クラス(1)'!$AN$34","v":0},{"$f":"'クラス(1)'!$AN$35","v":0},null,null,null,null,null,null,null,null,null,null,null,null,null,null,0,null,null,null,null,null,null,null,null,null,null,null,null,0,0,0,0,0,0,0,0,0,0,0,0,0,0]
[34,null,null,null,{"$f":"'クラス(1)'!$AO$30","v":0},{"$f":"'クラス(1)'!$AO$31","v":0},{"$f":"'クラス(1)'!$AO$32","v":0},{"$f":"'クラス(1)'!$AO$33","v":0},{"$f":"'クラス(1)'!$AO$34","v":0},{"$f":"'クラス(1)'!$AO$35","v":0},null,null,null,null,null,null,null,null,null,null,null,null,null,null,0,null,null,null,null,null,null,null,null,null,null,null,null,0,0,0,0,0,0,0,0,0,0,0,0,0,0]
[35,null,null,null,{"$f":"'クラス(1)'!$AP$30","v":0},{"$f":"'クラス(1)'!$AP$31","v":0},{"$f":"'クラス(1)'!$AP$32","v":0},{"$f":"'クラス(1)'!$AP$33","v":0},{"$f":"'クラス(1)'!$AP$34","v":0},{"$f":"'クラス(1)'!$AP$35","v":0},null,null,null,null,null,null,null,null,null,null,null,null,null,null,0,null,null,null,null,null,null,null,null,null,null,null,null,0,0,0,0,0,0,0,0,0,0,0,0,0,0]
[36,null,null,null,{"$f":"'クラス(1)'!$AQ$30","v":0},{"$f":"'クラス(1)'!$AQ$31","v":0},{"$f":"'クラス(1)'!$AQ$32","v":0},{"$f":"'クラス(1)'!$AQ$33","v":0},{"$f":"'クラス(1)'!$AQ$34","v":0},{"$f":"'クラス(1)'!$AQ$35","v":0},null,null,null,null,null,null,null,null,null,null,null,null,null,null,0,null,null,null,null,null,null,null,null,null,null,null,null,0,0,0,0,0,0,0,0,0,0,0,0,0,0]
[37,null,null,null,{"$f":"'クラス(1)'!$AR$30","v":0},{"$f":"'クラス(1)'!$AR$31","v":0},{"$f":"'クラス(1)'!$AR$32","v":0},{"$f":"'クラス(1)'!$AR$33","v":0},{"$f":"'クラス(1)'!$AR$34","v":0},{"$f":"'クラス(1)'!$AR$35","v":0},null,null,null,null,null,null,null,null,null,null,null,null,null,null,0,null,null,null,null,null,null,null,null,null,null,null,null,0,0,0,0,0,0,0,0,0,0,0,0,0,0]
[38,null,null,null,{"$f":"'クラス(1)'!$AS$30","v":0},{"$f":"'クラス(1)'!$AS$31","v":0},{"$f":"'クラス(1)'!$AS$32","v":0},{"$f":"'クラス(1)'!$AS$33","v":0},{"$f":"'クラス(1)'!$AS$34","v":0},{"$f":"'クラス(1)'!$AS$35","v":0},null,null,null,null,null,null,null,null,null,null,null,null,null,null,0,null,null,null,null,null,null,null,null,null,null,null,null,0,0,0,0,0,0,0,0,0,0,0,0,0,0]
[39,null,null,null,{"$f":"'クラス(1)'!$AT$30","v":0},{"$f":"'クラス(1)'!$AT$31","v":0},{"$f":"'クラス(1)'!$AT$32","v":0},{"$f":"'クラス(1)'!$AT$33","v":0},{"$f":"'クラス(1)'!$AT$34","v":0},{"$f":"'クラス(1)'!$AT$35","v":0},null,null,null,null,null,null,null,null,null,null,null,null,null,null,{"$f":"C44","v":0},null,null,null,null,null,null,null,null,null,null,null,null,{"$f":"SUM(M44,L44,N44,O44,Q44,R44,T44,P44)","v":0},{"$f":"SUM(Z44:AK44)","v":0},{"$f":"SUM(S44,T44,U44,V44)","v":0},{"$f":"SUM(M44,P44,S44)","v":0},{"$f":"SUM(AA44,AJ44,AB44,AE44)","v":0},{"$f":"SUM(P44,R44,L44,O44)","v":0},{"$f":"SUM(T44,N44,M44,Q44)","v":0},{"$f":"SUM(Z44,AA44,AC44,AD44,AG44,AJ44)","v":0},{"$f":"SUM(AB44,AE44,AF44,AH44,AI44,AK44)","v":0},{"$f":"SUM(Z44:AK44)","v":0},{"$f":"SUM(M44,L44,N44,O44,Q44,R44,T44,P44)","v":0},{"$f":"E44","v":0},{"$f":"G44","v":0},{"$f":"I44","v":0}]
[40,null,null,null,{"$f":"'クラス(1)'!$AU$30","v":0},{"$f":"'クラス(1)'!$AU$31","v":0},{"$f":"'クラス(1)'!$AU$32","v":0},{"$f":"'クラス(1)'!$AU$33","v":0},{"$f":"'クラス(1)'!$AU$34","v":0},{"$f":"'クラス(1)'!$AU$35","v":0},null,null,null,null,null,null,null,null,null,null,null,null,null,null,0,null,null,null,null,null,null,null,null,null,null,null,null,0,0,0,0,0,0,0,0,0,0,0,0,0,0]
[41,null,null,null,{"$f":"'クラス(1)'!$AV$30","v":0},{"$f":"'クラス(1)'!$AV$31","v":0},{"$f":"'クラス(1)'!$AV$32","v":0},{"$f":"'クラス(1)'!$AV$33","v":0},{"$f":"'クラス(1)'!$AV$34","v":0},{"$f":"'クラス(1)'!$AV$35","v":0},null,null,null,null,null,null,null,null,null,null,null,null,null,null,0,null,null,null,null,null,null,null,null,null,null,null,null,0,0,0,0,0,0,0,0,0,0,0,0,0,0]
[42,null,null,null,{"$f":"'クラス(1)'!$AW$30","v":0},{"$f":"'クラス(1)'!$AW$31","v":0},{"$f":"'クラス(1)'!$AW$32","v":0},{"$f":"'クラス(1)'!$AW$33","v":0},{"$f":"'クラス(1)'!$AW$34","v":0},{"$f":"'クラス(1)'!$AW$35","v":0},null,null,null,null,null,null,null,null,null,null,null,null,null,null,0,null,null,null,null,null,null,null,null,null,null,null,null,0,0,0,0,0,0,0,0,0,0,0,0,0,0]
[43,null,null,null,{"$f":"'クラス(1)'!$AX$30","v":0},{"$f":"'クラス(1)'!$AX$31","v":0},{"$f":"'クラス(1)'!$AX$32","v":0},{"$f":"'クラス(1)'!$AX$33","v":0},{"$f":"'クラス(1)'!$AX$34","v":0},{"$f":"'クラス(1)'!$AX$35","v":0},null,null,null,null,null,null,null,null,null,null,null,null,null,null,{"$f":"C48","v":0},null,null,null,null,null,null,null,null,null,null,null,null,0,0,0,0,0,0,0,0,0,0,{"$f":"SUM(M48,L48,N48,O48,Q48,R48,T48,P48)","v":0},0,0,0]
[44,null,null,null,{"$f":"'クラス(1)'!$AY$30","v":0},{"$f":"'クラス(1)'!$AY$31","v":0},{"$f":"'クラス(1)'!$AY$32","v":0},{"$f":"'クラス(1)'!$AY$33","v":0},{"$f":"'クラス(1)'!$AY$34","v":0},{"$f":"'クラス(1)'!$AY$35","v":0},null,null,null,null,null,null,null,null,null,null,null,null,null,null,{"$f":"C49","v":0},null,null,null,null,null,null,null,null,null,null,null,null,{"$f":"SUM(M49,L49,N49,O49,Q49,R49,T49,P49)","v":0},{"$f":"SUM(Z49:AK49)","v":0},{"$f":"SUM(S49,T49,U49,V49)","v":0},{"$f":"SUM(M49,P49,S49)","v":0},{"$f":"SUM(AA49,AJ49,AB49,AE49)","v":0},{"$f":"SUM(P49,R49,L49,O49)","v":0},{"$f":"SUM(T49,N49,M49,Q49)","v":0},{"$f":"SUM(Z49,AA49,AC49,AD49,AG49,AJ49)","v":0},{"$f":"SUM(AB49,AE49,AF49,AH49,AI49,AK49)","v":0},{"$f":"SUM(Z49:AK49)","v":0},{"$f":"SUM(M49,L49,N49,O49,Q49,R49,T49,P49)","v":0},{"$f":"E49","v":0},{"$f":"G49","v":0},{"$f":"I49","v":0}]
[45,null,null,null,{"$f":"'クラス(1)'!$AZ$30","v":0},{"$f":"'クラス(1)'!$AZ$31","v":0},{"$f":"'クラス(1)'!$AZ$32","v":0},{"$f":"'クラス(1)'!$AZ$33","v":0},{"$f":"'クラス(1)'!$AZ$34","v":0},{"$f":"'クラス(1)'!$AZ$35","v":0},null,null,null,null,null,null,null,null,null,null,null,null,null,null,0,null,null,null,null,null,null,null,null,null,null,null,null,0,0,0,0,0,0,0,0,0,0,{"$f":"SUM(M50,L50,N50,O50,Q50,R50,T50,P50)","v":0},0,0,0]
[]
[null,"男子平均","◎",null,{"$f":"DCOUNTA($C$5:$J$50,$E$5,'データ(3)'!B69:C70)/K58","v":{"$error":"#DIV/0!"}},{"$f":"DCOUNTA($C$5:$J$50,$E$5,'データ(3)'!E69:F70)/K58","v":{"$error":"#DIV/0!"}},{"$f":"DCOUNTA($C$5:$J$50,$E$5,'データ(3)'!G69:H70)/K58","v":{"$error":"#DIV/0!"}},{"$f":"DCOUNTA($C$5:$J$50,$E$5,'データ(3)'!I69:J70)/K58","v":{"$error":"#DIV/0!"}},{"$f":"DCOUNTA($C$5:$J$50,$E$5,'データ(3)'!K69:L70)/K58","v":{"$error":"#DIV/0!"}},{"$f":"DCOUNTA($C$5:$J$50,$E$5,'データ(3)'!M69:N70)/K58","v":{"$error":"#DIV/0!"}},{"$f":"DAVERAGE($C$5:$X$50,K$5,'データ(3)'!$E64:$F65)","v":{"$error":"#DIV/0!"}},{"$f":"DAVERAGE($C$5:$X$50,L$5,'データ(3)'!$G64:$H65)","v":{"$error":"#DIV/0!"}},{"$f":"DAVERAGE($C$5:$X$50,M$5,'データ(3)'!$I64:$J65)","v":{"$error":"#DIV/0!"}},{"$f":"DAVERAGE($C$5:$X$50,N$5,'データ(3)'!$K64:$L65)","v":{"$error":"#DIV/0!"}},{"$f":"DAVERAGE($C$5:$X$50,O$5,'データ(3)'!$M64:$N65)","v":{"$error":"#DIV/0!"}},{"$f":"DAVERAGE($C$5:$X$50,P$5,'データ(3)'!$O64:$P65)","v":{"$error":"#DIV/0!"}},{"$f":"DAVERAGE($C$5:$X$50,Q$5,'データ(3)'!$Q64:$R65)","v":{"$error":"#DIV/0!"}},{"$f":"DAVERAGE($C$5:$X$50,R$5,'データ(3)'!$S64:$T65)","v":{"$error":"#DIV/0!"}},{"$f":"DAVERAGE($C$5:$X$50,S$5,'データ(3)'!$U64:$V65)","v":{"$error":"#DIV/0!"}},{"$f":"DAVERAGE($C$5:$X$50,T$5,'データ(3)'!$X64:$Y65)","v":{"$error":"#DIV/0!"}},{"$f":"DAVERAGE($C$5:$X$50,U$5,'データ(3)'!$Z64:$AA65)","v":{"$error":"#DIV/0!"}},{"$f":"DAVERAGE($C$5:$X$50,V$5,'データ(3)'!$AB64:$AC65)","v":{"$error":"#DIV/0!"}},null,{"$f":"DAVERAGE($C$5:$X$50,X$5,'データ(3)'!$AD64:$AE65)","v":{"$error":"#DIV/0!"}},null,{"$f":"DAVERAGE($Y$5:$AK$50,Z$5,'データ(3)'!$E64:$F65)","v":{"$error":"#DIV/0!"}},{"$f":"DAVERAGE($Y$5:$AK$50,AA$5,'データ(3)'!$G64:$H65)","v":{"$error":"#DIV/0!"}},{"$f":"DAVERAGE($Y$5:$AK$50,AB$5,'データ(3)'!$I64:$J65)","v":{"$error":"#DIV/0!"}},{"$f":"DAVERAGE($Y$5:$AK$50,AC$5,'データ(3)'!$K64:$L65)","v":{"$error":"#DIV/0!"}},{"$f":"DAVERAGE($Y$5:$AK$50,AD$5,'データ(3)'!$M64:$N65)","v":{"$error":"#DIV/0!"}},{"$f":"DAVERAGE($Y$5:$AK$50,AE$5,'データ(3)'!$O64:$P65)","v":{"$error":"#DIV/0!"}},{"$f":"DAVERAGE($Y$5:$AK$50,AF$5,'データ(3)'!$Q64:$R65)","v":{"$error":"#DIV/0!"}},{"$f":"DAVERAGE($Y$5:$AK$50,AG$5,'データ(3)'!$S64:$T65)","v":{"$error":"#DIV/0!"}},{"$f":"DAVERAGE($Y$5:$AK$50,AH$5,'データ(3)'!$U64:$V65)","v":{"$error":"#DIV/0!"}},{"$f":"DAVERAGE($Y$5:$AK$50,AI$5,'データ(3)'!$X64:$Y65)","v":{"$error":"#DIV/0!"}},{"$f":"DAVERAGE($Y$5:$AK$50,AJ$5,'データ(3)'!$Z64:$AA65)","v":{"$error":"#DIV/0!"}},{"$f":"DAVERAGE($Y$5:$AK$50,AK$5,'データ(3)'!$AB64:$AC65)","v":{"$error":"#DIV/0!"}},{"$f":"DAVERAGE($A$3:$AV$50,$AL$3,'データ(3)'!$B$64:$C65)/8","v":{"$error":"#DIV/0!"}},{"$f":"DAVERAGE($A$3:$AV$50,$AM$3,'データ(3)'!$B$64:$C65)/12","v":{"$error":"#DIV/0!"}},{"$f":"AVERAGEIFS(AN$6:AN$50, $C$6:$C$50, \"男\", $S$6:$S$50, \"<>\", $T$6:$T$50, \"<>\", $U$6:$U$50, \"<>\", $V$6:$V$50, \"<>\")","v":{"$error":"#DIV/0!"}},{"$f":"AVERAGEIFS(AO$6:AO$50, $C$6:$C$50, \"男\", $M$6:$M$50, \"<>\", $P$6:$P$50, \"<>\", $S$6:$S$50, \"<>\")","v":{"$error":"#DIV/0!"}},{"$f":"AVERAGEIFS(AP$6:AP$50, $C$6:$C$50, \"男\", $AA$6:$AA$50, \"<>\", $AB$6:$AB$50, \"<>\", $AE$6:$AE$50, \"<>\", $AJ$6:$AJ$50, \"<>\")","v":{"$error":"#DIV/0!"}},{"$f":"AVERAGEIFS(AQ$6:AQ$50, $C$6:$C$50, \"男\", $L$6:$L$50, \"<>\", $O$6:$O$50, \"<>\", $P$6:$P$50, \"<>\", $R$6:$R$50, \"<>\")","v":{"$error":"#DIV/0!"}},{"$f":"AVERAGEIFS(AR$6:AR$50, $C$6:$C$50, \"男\", $M$6:$M$50, \"<>\", $N$6:$N$50, \"<>\", $Q$6:$Q$50, \"<>\", $T$6:$T$50, \"<>\")","v":{"$error":"#DIV/0!"}},{"$f":"AVERAGEIFS(AS$6:AS$50, $C$6:$C$50, \"男\", $Z$6:$Z$50, \"<>\", $AA$6:$AA$50, \"<>\", $AC$6:$AC$50, \"<>\", $AD$6:$AD$50, \"<>\", $AG$6:$AG$50, \"<>\", $AJ$6:$AJ$50, \"<>\")","v":{"$error":"#DIV/0!"}},{"$f":"AVERAGEIFS(AT$6:AT$50, $C$6:$C$50, \"男\", $AB$6:$AB$50, \"<>\", $AE$6:$AE$50, \"<>\", $AF$6:$AF$50, \"<>\", $AH$6:$AH$50, \"<>\", $AI$6:$AI$50, \"<>\", $AK$6:$AK$50, \"<>\")","v":{"$error":"#DIV/0!"}},{"$f":"AVERAGEIFS(AU$6:AU$50, $C$6:$C$50, \"男\", $Z$6:$Z$50, \"<>\", $AA$6:$AA$50, \"<>\", $AB$6:$AB$50, \"<>\", $AC$6:$AC$50, \"<>\", $AD$6:$AD$50, \"<>\", $AE$6:$AE$50, \"<>\", $AF$6:$AF$50, \"<>\", $AG$6:$AG$50, \"<>\", $AH$6:$AH$50, \"<>\", $AI$6:$AI$50, \"<>\", $AJ$6:$AJ$50, \"<>\", $AK$6:$AK$50, \"<>\")","v":{"$error":"#DIV/0!"}},{"$f":"AVERAGEIFS(AV$6:AV$50, $C$6:$C$50, \"男\", $L$6:$L$50, \"<>\", $M$6:$M$50, \"<>\", $N$6:$N$50, \"<>\", $O$6:$O$50, \"<>\", $P$6:$P$50, \"<>\", $Q$6:$Q$50, \"<>\", $R$6:$R$50, \"<>\", $T$6:$T$50, \"<>\")","v":{"$error":"#DIV/0!"}}]
[null,null,"△",null,{"$f":"DCOUNTA($C$5:$J$50,$E$5,'データ(3)'!B73:C74)/K58","v":{"$error":"#DIV/0!"}},{"$f":"DCOUNTA($C$5:$J$50,$E$5,'データ(3)'!E73:F74)/K58","v":{"$error":"#DIV/0!"}},{"$f":"DCOUNTA($C$5:$J$50,$E$5,'データ(3)'!G73:H74)/K58","v":{"$error":"#DIV/0!"}},{"$f":"DCOUNTA($C$5:$J$50,$E$5,'データ(3)'!I73:J74)/K58","v":{"$error":"#DIV/0!"}},{"$f":"DCOUNTA($C$5:$J$50,$E$5,'データ(3)'!K73:L74)/K58","v":{"$error":"#DIV/0!"}},{"$f":"DCOUNTA($C$5:$J$50,$E$5,'データ(3)'!M73:N74)/K58","v":{"$error":"#DIV/0!"}}]
[null,"女子平均","◎",null,{"$f":"DCOUNTA($C$5:$J$50,$E$5,'データ(3)'!B71:C72)/K58","v":{"$error":"#DIV/0!"}},{"$f":"DCOUNTA($C$5:$J$50,$E$5,'データ(3)'!E71:F72)/K58","v":{"$error":"#DIV/0!"}},{"$f":"DCOUNTA($C$5:$J$50,$E$5,'データ(3)'!G71:H72)/K58","v":{"$error":"#DIV/0!"}},{"$f":"DCOUNTA($C$5:$J$50,$E$5,'データ(3)'!I71:J72)/K58","v":{"$error":"#DIV/0!"}},{"$f":"DCOUNTA($C$5:$J$50,$E$5,'データ(3)'!K71:L72)/K58","v":{"$error":"#DIV/0!"}},{"$f":"DCOUNTA($C$5:$J$50,$E$5,'データ(3)'!M71:N72)/K58","v":{"$error":"#DIV/0!"}},{"$f":"DAVERAGE($C$5:$X$50,K$5,'データ(3)'!$E66:$F67)","v":{"$error":"#DIV/0!"}},{"$f":"DAVERAGE($C$5:$X$50,L$5,'データ(3)'!$G66:$H67)","v":{"$error":"#DIV/0!"}},{"$f":"DAVERAGE($C$5:$X$50,M$5,'データ(3)'!$I66:$J67)","v":{"$error":"#DIV/0!"}},{"$f":"DAVERAGE($C$5:$X$50,N$5,'データ(3)'!$K66:$L67)","v":{"$error":"#DIV/0!"}},{"$f":"DAVERAGE($C$5:$X$50,O$5,'データ(3)'!$M66:$N67)","v":{"$error":"#DIV/0!"}},{"$f":"DAVERAGE($C$5:$X$50,P$5,'データ(3)'!$O66:$P67)","v":{"$error":"#DIV/0!"}},{"$f":"DAVERAGE($C$5:$X$50,Q$5,'データ(3)'!$Q66:$R67)","v":{"$error":"#DIV/0!"}},{"$f":"DAVERAGE($C$5:$X$50,R$5,'データ(3)'!$S66:$T67)","v":{"$error":"#DIV/0!"}},{"$f":"DAVERAGE($C$5:$X$50,S$5,'データ(3)'!$U66:$V67)","v":{"$error":"#DIV/0!"}},{"$f":"DAVERAGE($C$5:$X$50,T$5,'データ(3)'!$X66:$Y67)","v":{"$error":"#DIV/0!"}},{"$f":"DAVERAGE($C$5:$X$50,U$5,'データ(3)'!$Z66:$AA67)","v":{"$error":"#DIV/0!"}},{"$f":"DAVERAGE($C$5:$X$50,V$5,'データ(3)'!$AB66:$AC67)","v":{"$error":"#DIV/0!"}},null,{"$f":"DAVERAGE($C$5:$X$50,X$5,'データ(3)'!$AD66:$AE67)","v":{"$error":"#DIV/0!"}},null,{"$f":"DAVERAGE($Y$5:$AK$50,Z$5,'データ(3)'!$E66:$F67)","v":{"$error":"#DIV/0!"}},{"$f":"DAVERAGE($Y$5:$AK$50,AA$5,'データ(3)'!$G66:$H67)","v":{"$error":"#DIV/0!"}},{"$f":"DAVERAGE($Y$5:$AK$50,AB$5,'データ(3)'!$I66:$J67)","v":{"$error":"#DIV/0!"}},{"$f":"DAVERAGE($Y$5:$AK$50,AC$5,'データ(3)'!$K66:$L67)","v":{"$error":"#DIV/0!"}},{"$f":"DAVERAGE($Y$5:$AK$50,AD$5,'データ(3)'!$M66:$N67)","v":{"$error":"#DIV/0!"}},{"$f":"DAVERAGE($Y$5:$AK$50,AE$5,'データ(3)'!$O66:$P67)","v":{"$error":"#DIV/0!"}},{"$f":"DAVERAGE($Y$5:$AK$50,AF$5,'データ(3)'!$Q66:$R67)","v":{"$error":"#DIV/0!"}},{"$f":"DAVERAGE($Y$5:$AK$50,AG$5,'データ(3)'!$S66:$T67)","v":{"$error":"#DIV/0!"}},{"$f":"DAVERAGE($Y$5:$AK$50,AH$5,'データ(3)'!$U66:$V67)","v":{"$error":"#DIV/0!"}},{"$f":"DAVERAGE($Y$5:$AK$50,AI$5,'データ(3)'!$X66:$Y67)","v":{"$error":"#DIV/0!"}},{"$f":"DAVERAGE($Y$5:$AK$50,AJ$5,'データ(3)'!$Z66:$AA67)","v":{"$error":"#DIV/0!"}},{"$f":"DAVERAGE($Y$5:$AK$50,AK$5,'データ(3)'!$AB66:$AC67)","v":{"$error":"#DIV/0!"}},{"$f":"DAVERAGE($A$3:$AV$50,$AL$3,'データ(3)'!$B$66:$C67)/8","v":{"$error":"#DIV/0!"}},{"$f":"DAVERAGE($A$3:$AV$50,$AM$3,'データ(3)'!$B$66:$C67)/12","v":{"$error":"#DIV/0!"}},{"$f":"AVERAGEIFS(AN$6:AN$50, $C$6:$C$50, \"女\", $S$6:$S$50, \"<>\", $T$6:$T$50, \"<>\", $U$6:$U$50, \"<>\", $V$6:$V$50, \"<>\")","v":{"$error":"#DIV/0!"}},{"$f":"AVERAGEIFS(AO$6:AO$50, $C$6:$C$50, \"女\", $M$6:$M$50, \"<>\", $P$6:$P$50, \"<>\", $S$6:$S$50, \"<>\")","v":{"$error":"#DIV/0!"}},{"$f":"AVERAGEIFS(AP$6:AP$50, $C$6:$C$50, \"女\", $AA$6:$AA$50, \"<>\", $AB$6:$AB$50, \"<>\", $AE$6:$AE$50, \"<>\", $AJ$6:$AJ$50, \"<>\")","v":{"$error":"#DIV/0!"}},{"$f":"AVERAGEIFS(AQ$6:AQ$50, $C$6:$C$50, \"女\", $L$6:$L$50, \"<>\", $O$6:$O$50, \"<>\", $P$6:$P$50, \"<>\", $R$6:$R$50, \"<>\")","v":{"$error":"#DIV/0!"}},{"$f":"AVERAGEIFS(AR$6:AR$50, $C$6:$C$50, \"女\", $M$6:$M$50, \"<>\", $N$6:$N$50, \"<>\", $Q$6:$Q$50, \"<>\", $T$6:$T$50, \"<>\")","v":{"$error":"#DIV/0!"}},{"$f":"AVERAGEIFS(AS$6:AS$50, $C$6:$C$50, \"女\", $Z$6:$Z$50, \"<>\", $AA$6:$AA$50, \"<>\", $AC$6:$AC$50, \"<>\", $AD$6:$AD$50, \"<>\", $AG$6:$AG$50, \"<>\", $AJ$6:$AJ$50, \"<>\")","v":{"$error":"#DIV/0!"}},{"$f":"AVERAGEIFS(AT$6:AT$50, $C$6:$C$50, \"女\", $AB$6:$AB$50, \"<>\", $AE$6:$AE$50, \"<>\", $AF$6:$AF$50, \"<>\", $AH$6:$AH$50, \"<>\", $AI$6:$AI$50, \"<>\", $AK$6:$AK$50, \"<>\")","v":{"$error":"#DIV/0!"}},{"$f":"AVERAGEIFS(AU$6:AU$50, $C$6:$C$50, \"女\", $Z$6:$Z$50, \"<>\", $AA$6:$AA$50, \"<>\", $AB$6:$AB$50, \"<>\", $AC$6:$AC$50, \"<>\", $AD$6:$AD$50, \"<>\", $AE$6:$AE$50, \"<>\", $AF$6:$AF$50, \"<>\", $AG$6:$AG$50, \"<>\", $AH$6:$AH$50, \"<>\", $AI$6:$AI$50, \"<>\", $AJ$6:$AJ$50, \"<>\", $AK$6:$AK$50, \"<>\")","v":{"$error":"#DIV/0!"}},{"$f":"AVERAGEIFS(AV$6:AV$50, $C$6:$C$50, \"女\", $L$6:$L$50, \"<>\", $M$6:$M$50, \"<>\", $N$6:$N$50, \"<>\", $O$6:$O$50, \"<>\", $P$6:$P$50, \"<>\", $Q$6:$Q$50, \"<>\", $R$6:$R$50, \"<>\", $T$6:$T$50, \"<>\")","v":{"$error":"#DIV/0!"}}]
[null,null,"△",null,{"$f":"DCOUNTA($C$5:$J$50,$E$5,'データ(3)'!B75:C76)/K58","v":{"$error":"#DIV/0!"}},{"$f":"DCOUNTA($C$5:$J$50,$E$5,'データ(3)'!E75:F76)/K58","v":{"$error":"#DIV/0!"}},{"$f":"DCOUNTA($C$5:$J$50,$E$5,'データ(3)'!G75:H76)/K58","v":{"$error":"#DIV/0!"}},{"$f":"DCOUNTA($C$5:$J$50,$E$5,'データ(3)'!I75:J76)/K58","v":{"$error":"#DIV/0!"}},{"$f":"DCOUNTA($C$5:$J$50,$E$5,'データ(3)'!K75:L76)/K58","v":{"$error":"#DIV/0!"}},{"$f":"DCOUNTA($C$5:$J$50,$E$5,'データ(3)'!M75:N76)/K58","v":{"$error":"#DIV/0!"}}]
[null,"全体平均","◎",null,{"$f":"COUNTIF(E$6:E$50,\"◎\")/K58","v":{"$error":"#DIV/0!"}},{"$f":"COUNTIF(F$6:F$50,\"◎\")/K58","v":{"$error":"#DIV/0!"}},{"$f":"COUNTIF(G$6:G$50,\"◎\")/K58","v":{"$error":"#DIV/0!"}},{"$f":"COUNTIF(H$6:H$50,\"◎\")/K58","v":{"$error":"#DIV/0!"}},{"$f":"COUNTIF(I$6:I$50,\"◎\")/K58","v":{"$error":"#DIV/0!"}},{"$f":"COUNTIF(J$6:J$50,\"◎\")/K58","v":{"$error":"#DIV/0!"}},{"$f":"AVERAGE(K6:K50)","v":{"$error":"#DIV/0!"}},{"$error":"#DIV/0!"},{"$error":"#DIV/0!"},{"$error":"#DIV/0!"},{"$error":"#DIV/0!"},{"$error":"#DIV/0!"},{"$error":"#DIV/0!"},{"$error":"#DIV/0!"},{"$error":"#DIV/0!"},{"$error":"#DIV/0!"},{"$error":"#DIV/0!"},{"$error":"#DIV/0!"},null,{"$f":"AVERAGE(X6:X50)","v":{"$error":"#DIV/0!"}},null,{"$f":"AVERAGE(Z6:Z50)","v":{"$error":"#DIV/0!"}},{"$error":"#DIV/0!"},{"$error":"#DIV/0!"},{"$error":"#DIV/0!"},{"$error":"#DIV/0!"},{"$error":"#DIV/0!"},{"$error":"#DIV/0!"},{"$error":"#DIV/0!"},{"$error":"#DIV/0!"},{"$error":"#DIV/0!"},{"$error":"#DIV/0!"},{"$error":"#DIV/0!"},{"$f":"AL58/$K$58/8","v":{"$error":"#DIV/0!"}},{"$f":"AM58/$K$58/12","v":{"$error":"#DIV/0!"}},{"$f":"AVERAGEIFS(AN$6:AN$50, $S$6:$S$50, \"<>\", $T$6:$T$50, \"<>\", $U$6:$U$50, \"<>\", $V$6:$V$50, \"<>\")","v":{"$error":"#DIV/0!"}},{"$f":"AVERAGEIFS(AO$6:AO$50, $M$6:$M$50, \"<>\", $P$6:$P$50, \"<>\", $S$6:$S$50, \"<>\")","v":{"$error":"#DIV/0!"}},{"$f":"AVERAGEIFS(AP$6:AP$50, $AA$6:$AA$50, \"<>\", $AB$6:$AB$50, \"<>\", $AE$6:$AE$50, \"<>\", $AJ$6:$AJ$50, \"<>\")","v":{"$error":"#DIV/0!"}},{"$f":"AVERAGEIFS(AQ$6:AQ$50, $L$6:$L$50, \"<>\", $O$6:$O$50, \"<>\", $P$6:$P$50, \"<>\", $R$6:$R$50, \"<>\")","v":{"$error":"#DIV/0!"}},{"$f":"AVERAGEIFS(AR$6:AR$50, $M$6:$M$50, \"<>\", $N$6:$N$50, \"<>\", $Q$6:$Q$50, \"<>\", $T$6:$T$50, \"<>\")","v":{"$error":"#DIV/0!"}},{"$f":"AVERAGEIFS(AS$6:AS$50, $Z$6:$Z$50, \"<>\", $AA$6:$AA$50, \"<>\", $AC$6:$AC$50, \"<>\", $AD$6:$AD$50, \"<>\", $AG$6:$AG$50, \"<>\", $AJ$6:$AJ$50, \"<>\")","v":{"$error":"#DIV/0!"}},{"$f":"AVERAGEIFS(AT$6:AT$50, $AB$6:$AB$50, \"<>\", $AE$6:$AE$50, \"<>\", $AF$6:$AF$50, \"<>\", $AH$6:$AH$50, \"<>\", $AI$6:$AI$50, \"<>\", $AK$6:$AK$50, \"<>\")","v":{"$error":"#DIV/0!"}},{"$f":"AVERAGEIFS(AU$6:AU$50, $Z$6:$Z$50, \"<>\", $AA$6:$AA$50, \"<>\", $AB$6:$AB$50, \"<>\", $AC$6:$AC$50, \"<>\", $AD$6:$AD$50, \"<>\", $AE$6:$AE$50, \"<>\", $AF$6:$AF$50, \"<>\", $AG$6:$AG$50, \"<>\", $AH$6:$AH$50, \"<>\", $AI$6:$AI$50, \"<>\", $AJ$6:$AJ$50, \"<>\", $AK$6:$AK$50, \"<>\")","v":{"$error":"#DIV/0!"}},{"$f":"AVERAGEIFS(AV$6:AV$50, $L$6:$L$50, \"<>\", $M$6:$M$50, \"<>\", $N$6:$N$50, \"<>\", $O$6:$O$50, \"<>\", $P$6:$P$50, \"<>\", $Q$6:$Q$50, \"<>\", $R$6:$R$50, \"<>\", $T$6:$T$50, \"<>\")","v":{"$error":"#DIV/0!"}}]
[null,null,"△",null,{"$f":"COUNTIF(E$6:E$50,\"△\")/K58","v":{"$error":"#DIV/0!"}},{"$f":"COUNTIF(F$6:F$50,\"△\")/K58","v":{"$error":"#DIV/0!"}},{"$f":"COUNTIF(G$6:G$50,\"△\")/K58","v":{"$error":"#DIV/0!"}},{"$f":"COUNTIF(H$6:H$50,\"△\")/K58","v":{"$error":"#DIV/0!"}},{"$f":"COUNTIF(I$6:I$50,\"△\")/K58","v":{"$error":"#DIV/0!"}},{"$f":"COUNTIF(J$6:J$50,\"△\")/K58","v":{"$error":"#DIV/0!"}}]
[null,null,null,null,null,null,null,null,null,null,{"$f":"COUNTA(K6:K50)","v":0}]

{"sheet":"データ(2)","index":2,"n_rows":58,"n_cols":51,"rows_kept":58,"cut":false,"hidden":false,"merged":[[53,31,54,31],[53,32,54,32],[51,30,52,30],[51,20,52,20],[51,21,52,21],[51,23,52,23],[53,1,54,1],[51,15,52,15],[51,16,52,16],[51,17,52,17],[2,2,3,2],[53,10,54,10],[53,11,54,11],[53,12,54,12],[53,13,54,13],[53,14,54,14],[53,15,54,15],[53,16,54,16],[2,10,3,23],[2,3,3,3],[51,18,52,18],[51,19,52,19],[3,4,3,5],[3,6,3,7],[3,8,3,9],[55,1,56,1],[51,0,52,0],[53,0,54,0],[55,0,56,0],[0,2,1,41],[55,41,56,41],[51,41,52,41],[53,41,54,41],[2,4,2,9],[51,14,52,14],[55,36,56,36],[2,25,3,36],[51,28,52,28],[51,29,52,29],[51,32,52,32],[51,31,52,31],[2,0,4,0],[2,1,4,1],[51,1,52,1],[51,10,52,10],[51,11,52,11],[51,12,52,12],[51,13,52,13],[53,19,54,19],[1,42,1,43],[1,44,1,45],[2,37,4,37],[2,38,4,38],[2,39,4,39],[2,40,4,40],[2,42,4,42],[2,43,4,43],[2,44,4,44],[2,41,4,41],[2,45,4,45],[55,37,56,37],[55,38,56,38],[53,38,54,38],[51,37,52,37],[53,37,54,37],[53,43,54,43],[53,44,54,44],[53,45,54,45],[51,39,52,39],[51,40,52,40],[51,42,52,42],[51,43,52,43],[53,39,54,39],[53,40,54,40],[53,42,54,42],[51,44,52,44],[53,34,54,34],[53,35,54,35],[51,33,52,33],[51,34,52,34],[2,50,4,50],[2,46,4,46],[2,47,4,47],[2,48,4,48],[2,49,4,49],[51,38,52,38],[53,46,54,46],[51,47,52,47],[51,36,52,36],[53,36,54,36],[55,28,56,28],[55,29,56,29],[55,30,56,30],[53,28,54,28],[53,29,54,29],[53,30,54,30],[51,45,52,45],[51,46,52,46],[53,47,54,47],[55,44,56,44],[55,45,56,45],[55,46,56,46],[55,47,56,47],[55,39,56,39],[55,40,56,40],[55,42,56,42],[55,43,56,43],[55,35,56,35],[55,31,56,31],[55,32,56,32],[55,33,56,33],[55,34,56,34],[51,35,52,35],[53,33,54,33],[55,27,56,27],[51,24,56,24],[51,26,52,26],[51,27,52,27],[53,23,54,23],[53,25,54,25],[53,26,54,26],[53,27,54,27],[53,21,54,21],[51,25,52,25],[55,21,56,21],[55,23,56,23],[55,10,56,10],[55,11,56,11],[55,12,56,12],[55,13,56,13],[55,14,56,14],[55,15,56,15],[55,25,56,25],[55,26,56,26],[53,17,54,17],[53,18,54,18],[55,16,56,16],[55,17,56,17],[55,18,56,18],[55,19,56,19],[55,20,56,20],[53,20,54,20]]}
[{"$f":"'データ(1)'!A1","v":"学年"},{"$f":"'データ(1)'!B1","v":"小１"},"           個人アセスメント入力シート２回目"]
[{"$f":"'データ(1)'!A2","v":"組"},{"$f":"'データ(1)'!B2","v":1},null,null,null,null,null,null,null,null,null,null,null,null,null,null,null,null,null,null,null,null,null,null,null,null,null,null,null,null,null,null,null,null,null,null,null,null,null,null,null,null,"自分づくり",null,"仲間づくり"]
["ＮＯ","氏名","性別","日本語\n指導","風土まとめ合計",null,null,null,null,null,"Ａ項目\n自分づくりスキル",null,null,null,null,null,null,null,null,null,null,null,null,null,null,"Ｂ項目\n仲間づくりスキル",null,null,null,null,null,null,null,null,null,null,null,"自分づくり","仲間づくり","学級居心地感","心配傾向","かかわり","自己効力感","自尊感情","自己表現","共感・配慮","仲間づくり","自分づくり","自分づくり\n学級","仲間づくり\n学級","集団づくり\n学級"]
[null,null,null,null,"自分づくり",null,"仲間づくり",null,"集団づくり"]
[null,null,"性別",null,"公正","寛容","自己表現","配慮","課題遂行","合意形成","１","２","３","４","５","６","７","８","９","１０","１１","１２","１３","１４","性別","１","２","３","４","５","６","７","８","９","１０","１１","１２"]
[1,{"$f":"'データ(1)'!B6","v":0},{"$f":"'データ(1)'!C6","v":0},{"$f":"'データ(1)'!D6","v":0},{"$f":"'クラス(2)'!$H$30","v":0},{"$f":"'クラス(2)'!$H$31","v":0},{"$f":"'クラス(2)'!$H$32","v":0},{"$f":"'クラス(2)'!$H$33","v":0},{"$f":"'クラス(2)'!$H$34","v":0},{"$f":"'クラス(2)'!$H$35","v":0},null,null,null,null,null,null,null,null,null,null,null,null,null,null,{"$f":"C6","v":0},null,null,null,null,null,null,null,null,null,null,null,null,{"$f":"SUM(M6,L6,N6,O6,Q6,R6,T6,P6)","v":0},{"$f":"SUM(Z6:AK6)","v":0},{"$f":"SUM(S6,T6,U6,V6)","v":0},{"$f":"SUM(M6,P6,S6)","v":0},{"$f":"SUM(AA6,AJ6,AB6,AE6)","v":0},{"$f":"SUM(P6,R6,L6,O6)","v":0},{"$f":"SUM(T6,N6,M6,Q6)","v":0},{"$f":"SUM(Z6,AA6,AC6,AD6,AG6,AJ6)","v":0},{"$f":"SUM(AB6,AE6,AF6,AH6,AI6,AK6)","v":0},{"$f":"SUM(Z6:AK6)","v":0},{"$f":"SUM(M6,L6,N6,O6,Q6,R6,T6,P6)","v":0},{"$f":"E6","v":0},{"$f":"G6","v":0},{"$f":"I6","v":0}]
[2,{"$f":"'データ(1)'!B7","v":0},{"$f":"'データ(1)'!C7","v":0},{"$f":"'データ(1)'!D7","v":0},{"$f":"'クラス(2)'!$I$30","v":0},{"$f":"'クラス(2)'!$I$31","v":0},{"$f":"'クラス(2)'!$I$32","v":0},{"$f":"'クラス(2)'!$I$33","v":0},{"$f":"'クラス(2)'!$I$34","v":0},{"$f":"'クラス(2)'!$I$35","v":0},null,null,null,null,null,null,null,null,null,null,null,null,null,null,0,null,null,null,null,null,null,null,null,null,null,null,null,0,{"$f":"SUM(Z7:AK7)","v":0},{"$f":"SUM(S7,T7,U7,V7)","v":0},{"$f":"SUM(M7,P7,S7)","v":0},{"$f":"SUM(AA7,AJ7,AB7,AE7)","v":0},{"$f":"SUM(P7,R7,L7,O7)","v":0},{"$f":"SUM(T7,N7,M7,Q7)","v":0},{"$f":"SUM(Z7,AA7,AC7,AD7,AG7,AJ7)","v":0},{"$f":"SUM(AB7,AE7,AF7,AH7,AI7,AK7)","v":0},{"$f":"SUM(Z7:AK7)","v":0},0,{"$f":"E7","v":0},{"$f":"G7","v":0},{"$f":"I7","v":0}]
[3,{"$f":"'データ(1)'!B8","v":0},{"$f":"'データ(1)'!C8","v":0},{"$f":"'データ(1)'!D8","v":0},{"$f":"'クラス(2)'!$J$30","v":0},{"$f":"'クラス(2)'!$J$31","v":0},{"$f":"'クラス(2)'!$J$32","v":0},{"$f":"'クラス(2)'!$J$33","v":0},{"$f":"'クラス(2)'!$J$34","v":0},{"$f":"'クラス(2)'!$J$35","v":0},null,null,null,null,null,null,null,null,null,null,null,null,null,null,0,null,null,null,null,null,null,null,null,null,null,null,null,0,0,0,0,0,0,0,0,0,{"$f":"SUM(Z8:AK8)","v":0},0,0,0,0]
[4,{"$f":"'データ(1)'!B9","v":0},{"$f":"'データ(1)'!C9","v":0},{"$f":"'データ(1)'!D9","v":0},{"$f":"'クラス(2)'!$K$30","v":0},{"$f":"'クラス(2)'!$K$31","v":0},{"$f":"'クラス(2)'!$K$32","v":0},{"$f":"'クラス(2)'!$K$33","v":0},{"$f":"'クラス(2)'!$K$34","v":0},{"$f":"'クラス(2)'!$K$35","v":0},null,null,null,null,null,null,null,null,null,null,null,null,null,null,0,null,null,null,null,null,null,null,null,null,null,null,null,0,0,0,0,0,0,0,0,0,{"$f":"SUM(Z9:AK9)","v":0},0,0,0,0]
[5,{"$f":"'データ(1)'!B10","v":0},{"$f":"'データ(1)'!C10","v":0},{"$f":"'データ(1)'!D10","v":0},{"$f":"'クラス(2)'!$L$30","v":0},{"$f":"'クラス(2)'!$L$31","v":0},{"$f":"'クラス(2)'!$L$32","v":0},{"$f":"'クラス(2)'!$L$33","v":0},{"$f":"'クラス(2)'!$L$34","v":0},{"$f":"'クラス(2)'!$L$35","v":0},null,null,null,null,null,null,null,null,null,null,null,null,null,null,0,null,null,null,null,null,null,null,null,null,null,null,null,0,0,0,0,0,0,0,0,0,0,0,0,0,0]
[6,{"$f":"'データ(1)'!B11","v":0},{"$f":"'データ(1)'!C11","v":0},{"$f":"'データ(1)'!D11","v":0},{"$f":"'クラス(2)'!$M$30","v":0},{"$f":"'クラス(2)'!$M$31","v":0},{"$f":"'クラス(2)'!$M$32","v":0},{"$f":"'クラス(2)'!$M$33","v":0},{"$f":"'クラス(2)'!$M$34","v":0},{"$f":"'クラス(2)'!$M$35","v":0},null,null,null,null,null,null,null,null,null,null,null,null,null,null,0,null,null,null,null,null,null,null,null,null,null,null,null,0,0,0,0,0,0,0,0,0,{"$f":"SUM(Z11:AK11)","v":0},0,0,0,0]
[7,{"$f":"'データ(1)'!B12","v":0},{"$f":"'データ(1)'!C12","v":0},{"$f":"'データ(1)'!D12","v":0},{"$f":"'クラス(2)'!$N$30","v":0},{"$f":"'クラス(2)'!$N$31","v":0},{"$f":"'クラス(2)'!$N$32","v":0},{"$f":"'クラス(2)'!$N$33","v":0},{"$f":"'クラス(2)'!$N$34","v":0},{"$f":"'クラス(2)'!$N$35","v":0},null,null,null,null,null,null,null,null,null,null,null,null,null,null,0,null,null,null,null,null,null,null,null,null,null,null,null,0,0,0,0,0,0,0,0,0,0,0,0,0,0]
[8,{"$f":"'データ(1)'!B13","v":0},{"$f":"'データ(1)'!C13","v":0},{"$f":"'データ(1)'!D13","v":0},{"$f":"'クラス(2)'!$O$30","v":0},{"$f":"'クラス(2)'!$O$31","v":0},{"$f":"'クラス(2)'!$O$32","v":0},{"$f":"'クラス(2)'!$O$33","v":0},{"$f":"'クラス(2)'!$O$34","v":0},{"$f":"'クラス(2)'!$O$35","v":0},null,null,null,null,null,null,null,null,null,null,null,null,null,null,0,null,null,null,null,null,null,null,null,null,null,null,null,0,0,0,0,0,0,0,0,0,0,0,0,0,0]
[9,{"$f":"'データ(1)'!B14","v":0},{"$f":"'データ(1)'!C14","v":0},{"$f":"'データ(1)'!D14","v":0},{"$f":"'クラス(2)'!$P$30","v":0},{"$f":"'クラス(2)'!$P$31","v":0},{"$f":"'クラス(2)'!$P$32","v":0},{"$f":"'クラス(2)'!$P$33","v":0},{"$f":"'クラス(2)'!$P$34","v":0},{"$f":"'クラス(2)'!$P$35","v":0},null,null,null,null,null,null,null,null,null,null,null,null,null,null,0,null,null,null,null,null,null,null,null,null,null,null,null,0,0,0,0,0,0,0,0,0,0,0,0,0,0]
[10,{"$f":"'データ(1)'!B15","v":0},{"$f":"'データ(1)'!C15","v":0},{"$f":"'データ(1)'!D15","v":0},{"$f":"'クラス(2)'!$Q$30","v":0},{"$f":"'クラス(2)'!$Q$31","v":0},{"$f":"'クラス(2)'!$Q$32","v":0},{"$f":"'クラス(2)'!$Q$33","v":0},{"$f":"'クラス(2)'!$Q$34","v":0},{"$f":"'クラス(2)'!$Q$35","v":0},null,null,null,null,null,null,null,null,null,null,null,null,null,null,0,null,null,null,null,null,null,null,null,null,null,null,null,0,0,0,0,0,0,0,0,0,0,0,0,0,0]
[11,{"$f":"'データ(1)'!B16","v":0},{"$f":"'データ(1)'!C16","v":0},{"$f":"'データ(1)'!D16","v":0},{"$f":"'クラス(2)'!$R$30","v":0},{"$f":"'クラス(2)'!$R$31","v":0},{"$f":"'クラス(2)'!$R$32","v":0},{"$f":"'クラス(2)'!$R$33","v":0},{"$f":"'クラス(2)'!$R$34","v":0},{"$f":"'クラス(2)'!$R$35","v":0},null,null,null,null,null,null,null,null,null,null,null,null,null,null,0,null,null,null,null,null,null,null,null,null,null,null,null,{"$f":"SUM(M16,L16,N16,O16,Q16,R16,T16,P16)","v":0},0,{"$f":"SUM(S16,T16,U16,V16)","v":0},0,0,0,0,0,0,0,0,0,0,0]
[12,{"$f":"'データ(1)'!B17","v":0},{"$f":"'データ(1)'!C17","v":0},{"$f":"'データ(1)'!D17","v":0},{"$f":"'クラス(2)'!$S$30","v":0},{"$f":"'クラス(2)'!$S$31","v":0},{"$f":"'クラス(2)'!$S$32","v":0},{"$f":"'クラス(2)'!$S$33","v":0},{"$f":"'クラス(2)'!$S$34","v":0},{"$f":"'クラス(2)'!$S$35","v":0},null,null,null,null,null,null,null,null,null,null,null,null,null,null,0,null,null,null,null,null,null,null,null,null,null,null,null,0,0,0,0,0,0,0,0,0,0,0,0,0,0]
[13,{"$f":"'データ(1)'!B18","v":0},{"$f":"'データ(1)'!C18","v":0},{"$f":"'データ(1)'!D18","v":0},{"$f":"'クラス(2)'!$T$30","v":0},{"$f":"'クラス(2)'!$T$31","v":0},{"$f":"'クラス(2)'!$T$32","v":0},{"$f":"'クラス(2)'!$T$33","v":0},{"$f":"'クラス(2)'!$T$34","v":0},{"$f":"'クラス(2)'!$T$35","v":0},null,null,null,null,null,null,null,null,null,null,null,null,null,null,0,null,null,null,null,null,null,null,null,null,null,null,null,0,0,0,0,0,0,0,0,0,0,0,0,0,0]
[14,{"$f":"'データ(1)'!B19","v":0},{"$f":"'データ(1)'!C19","v":0},{"$f":"'データ(1)'!D19","v":0},{"$f":"'クラス(2)'!$U$30","v":0},{"$f":"'クラス(2)'!$U$31","v":0},{"$f":"'クラス(2)'!$U$32","v":0},{"$f":"'クラス(2)'!$U$33","v":0},{"$f":"'クラス(2)'!$U$34","v":0},{"$f":"'クラス(2)'!$U$35","v":0},null,null,null,null,null,null,null,null,null,null,null,null,null,null,0,null,null,null,null,null,null,null,null,null,null,null,null,0,0,0,0,0,0,0,0,0,0,0,0,0,0]
[15,{"$f":"'データ(1)'!B20","v":0},{"$f":"'データ(1)'!C20","v":0},{"$f":"'データ(1)'!D20","v":0},{"$f":"'クラス(2)'!$V$30","v":0},{"$f":"'クラス(2)'!$V$31","v":0},{"$f":"'クラス(2)'!$V$32","v":0},{"$f":"'クラス(2)'!$V$33","v":0},{"$f":"'クラス(2)'!$V$34","v":0},{"$f":"'クラス(2)'!$V$35","v":0},null,null,null,null,null,null,null,null,null,null,null,null,null,null,0,null,null,null,null,null,null,null,null,null,null,null,null,0,0,0,0,0,0,0,0,0,0,0,0,0,0]
[16,{"$f":"'データ(1)'!B21","v":0},{"$f":"'データ(1)'!C21","v":0},{"$f":"'データ(1)'!D21","v":0},{"$f":"'クラス(2)'!$W$30","v":0},{"$f":"'クラス(2)'!$W$31","v":0},{"$f":"'クラス(2)'!$W$32","v":0},{"$f":"'クラス(2)'!$W$33","v":0},{"$f":"'クラス(2)'!$W$34","v":0},{"$f":"'クラス(2)'!$W$35","v":0},null,null,null,null,null,null,null,null,null,null,null,null,null,null,0,null,null,null,null,null,null,null,null,null,null,null,null,0,0,0,0,0,0,0,0,0,0,0,0,0,0]
[17,{"$f":"'データ(1)'!B22","v":0},{"$f":"'データ(1)'!C22","v":0},{"$f":"'データ(1)'!D22","v":0},{"$f":"'クラス(2)'!$X$30","v":0},{"$f":"'クラス(2)'!$X$31","v":0},{"$f":"'クラス(2)'!$X$32","v":0},{"$f":"'クラス(2)'!$X$33","v":0},{"$f":"'クラス(2)'!$X$34","v":0},{"$f":"'クラス(2)'!$X$35","v":0},null,null,null,null,null,null,null,null,null,null,null,null,null,null,0,null,null,null,null,null,null,null,null,null,null,null,null,0,0,0,0,0,0,0,0,0,0,0,0,0,0]
[18,{"$f":"'データ(1)'!B23","v":0},{"$f":"'データ(1)'!C23","v":0},{"$f":"'データ(1)'!D23","v":0},{"$f":"'クラス(2)'!$Y$30","v":0},{"$f":"'クラス(2)'!$Y$31","v":0},{"$f":"'クラス(2)'!$Y$32","v":0},{"$f":"'クラス(2)'!$Y$33","v":0},{"$f":"'クラス(2)'!$Y$34","v":0},{"$f":"'クラス(2)'!$Y$35","v":0},null,null,null,null,null,null,null,null,null,null,null,null,null,null,0,null,null,null,null,null,null,null,null,null,null,null,null,0,0,0,0,0,0,0,0,0,0,0,0,0,0]
[19,{"$f":"'データ(1)'!B24","v":0},{"$f":"'データ(1)'!C24","v":0},{"$f":"'データ(1)'!D24","v":0},{"$f":"'クラス(2)'!$Z$30","v":0},{"$f":"'クラス(2)'!$Z$31","v":0},{"$f":"'クラス(2)'!$Z$32","v":0},{"$f":"'クラス(2)'!$Z$33","v":0},{"$f":"'クラス(2)'!$Z$34","v":0},{"$f":"'クラス(2)'!$Z$35","v":0},null,null,null,null,null,null,null,null,null,null,null,null,null,null,0,null,null,null,null,null,null,null,null,null,null,null,null,0,0,0,0,0,0,0,0,0,0,0,0,0,0]
[20,{"$f":"'データ(1)'!B25","v":0},{"$f":"'データ(1)'!C25","v":0},{"$f":"'データ(1)'!D25","v":0},{"$f":"'クラス(2)'!$AA$30","v":0},{"$f":"'クラス(2)'!$AA$31","v":0},{"$f":"'クラス(2)'!$AA$32","v":0},{"$f":"'クラス(2)'!$AA$33","v":0},{"$f":"'クラス(2)'!$AA$34","v":0},{"$f":"'クラス(2)'!$AA$35","v":0},null,null,null,null,null,null,null,null,null,null,null,null,null,null,0,null,null,null,null,null,null,null,null,null,null,null,null,0,0,0,0,0,0,0,0,0,0,0,0,0,0]
[21,{"$f":"'データ(1)'!B26","v":0},{"$f":"'データ(1)'!C26","v":0},{"$f":"'データ(1)'!D26","v":0},{"$f":"'クラス(2)'!$AB$30","v":0},{"$f":"'クラス(2)'!$AB$31","v":0},{"$f":"'クラス(2)'!$AB$32","v":0},{"$f":"'クラス(2)'!$AB$33","v":0},{"$f":"'クラス(2)'!$AB$34","v":0},{"$f":"'クラス(2)'!$AB$35","v":0},null,null,null,null,null,null,null,null,null,null,null,null,null,null,0,null,null,null,null,null,null,null,null,null,null,null,null,0,0,0,0,{"$f":"SUM(AA26,AJ26,AB26,AE26)","v":0},0,0,0,0,0,0,0,0,0]
[22,{"$f":"'データ(1)'!B27","v":0},{"$f":"'データ(1)'!C27","v":0},{"$f":"'データ(1)'!D27","v":0},{"$f":"'クラス(2)'!$AC$30","v":0},{"$f":"'クラス(2)'!$AC$31","v":0},{"$f":"'クラス(2)'!$AC$32","v":0},{"$f":"'クラス(2)'!$AC$33","v":0},{"$f":"'クラス(2)'!$AC$34","v":0},{"$f":"'クラス(2)'!$AC$35","v":0},null,null,null,null,null,null,null,null,null,null,null,null,null,null,0,null,null,null,null,null,null,null,null,null,null,null,null,0,0,0,0,{"$f":"SUM(AA27,AJ27,AB27,AE27)","v":0},0,0,0,0,0,0,0,0,0]
[23,{"$f":"'データ(1)'!B28","v":0},{"$f":"'データ(1)'!C28","v":0},{"$f":"'データ(1)'!D28","v":0},{"$f":"'クラス(2)'!$AD$30","v":0},{"$f":"'クラス(2)'!$AD$31","v":0},{"$f":"'クラス(2)'!$AD$32","v":0},{"$f":"'クラス(2)'!$AD$33","v":0},{"$f":"'クラス(2)'!$AD$34","v":0},{"$f":"'クラス(2)'!$AD$35","v":0},null,null,null,null,null,null,null,null,null,null,null,null,null,null,0,null,null,null,null,null,null,null,null,null,null,null,null,0,0,0,0,{"$f":"SUM(AA28,AJ28,AB28,AE28)","v":0},0,0,0,0,0,0,0,0,0]
[24,{"$f":"'データ(1)'!B29","v":0},{"$f":"'データ(1)'!C29","v":0},{"$f":"'データ(1)'!D29","v":0},{"$f":"'クラス(2)'!$AE$30","v":0},{"$f":"'クラス(2)'!$AE$31","v":0},{"$f":"'クラス(2)'!$AE$32","v":0},{"$f":"'クラス(2)'!$AE$33","v":0},{"$f":"'クラス(2)'!$AE$34","v":0},{"$f":"'クラス(2)'!$AE$35","v":0},null,null,null,null,null,null,null,null,null,null,null,null,null,null,0,null,null,null,null,null,null,null,null,null,null,null,null,0,0,0,0,{"$f":"SUM(AA29,AJ29,AB29,AE29)","v":0},0,0,0,0,0,0,0,0,0]
[25,{"$f":"'データ(1)'!B30","v":0},{"$f":"'データ(1)'!C30","v":0},{"$f":"'データ(1)'!D30","v":0},{"$f":"'クラス(2)'!$AF$30","v":0},{"$f":"'クラス(2)'!$AF$31","v":0},{"$f":"'クラス(2)'!$AF$32","v":0},{"$f":"'クラス(2)'!$AF$33","v":0},{"$f":"'クラス(2)'!$AF$34","v":0},{"$f":"'クラス(2)'!$AF$35","v":0},null,null,null,null,null,null,null,null,null,null,null,null,null,null,0,null,null,null,null,null,null,null,null,null,null,null,null,0,0,0,0,{"$f":"SUM(AA30,AJ30,AB30,AE30)","v":0},0,0,0,0,0,0,0,0,0]
[26,{"$f":"'データ(1)'!B31","v":0},{"$f":"'データ(1)'!C31","v":0},{"$f":"'データ(1)'!D31","v":0},{"$f":"'クラス(2)'!$AG$30","v":0},{"$f":"'クラス(2)'!$AG$31","v":0},{"$f":"'クラス(2)'!$AG$32","v":0},{"$f":"'クラス(2)'!$AG$33","v":0},{"$f":"'クラス(2)'!$AG$34","v":0},{"$f":"'クラス(2)'!$AG$35","v":0},null,null,null,null,null,null,null,null,null,null,null,null,null,null,0,null,null,null,null,null,null,null,null,null,null,null,null,0,0,0,0,0,{"$f":"SUM(P31,R31,L31,O31)","v":0},0,0,0,0,0,0,0,0]
[27,{"$f":"'データ(1)'!B32","v":0},{"$f":"'データ(1)'!C32","v":0},{"$f":"'データ(1)'!D32","v":0},{"$f":"'クラス(2)'!$AH$30","v":0},{"$f":"'クラス(2)'!$AH$31","v":0},{"$f":"'クラス(2)'!$AH$32","v":0},{"$f":"'クラス(2)'!$AH$33","v":0},{"$f":"'クラス(2)'!$AH$34","v":0},{"$f":"'クラス(2)'!$AH$35","v":0},null,null,null,null,null,null,null,null,null,null,null,null,null,null,0,null,null,null,null,null,null,null,null,null,null,null,null,0,0,0,0,0,{"$f":"SUM(P32,R32,L32,O32)","v":0},0,0,0,0,0,0,0,0]
[28,{"$f":"'データ(1)'!B33","v":0},{"$f":"'データ(1)'!C33","v":0},{"$f":"'データ(1)'!D33","v":0},{"$f":"'クラス(2)'!$AI$30","v":0},{"$f":"'クラス(2)'!$AI$31","v":0},{"$f":"'クラス(2)'!$AI$32","v":0},{"$f":"'クラス(2)'!$AI$33","v":0},{"$f":"'クラス(2)'!$AI$34","v":0},{"$f":"'クラス(2)'!$AI$35","v":0},null,null,null,null,null,null,null,null,null,null,null,null,null,null,0,null,null,null,null,null,null,null,null,null,null,null,null,0,0,0,0,0,{"$f":"SUM(P33,R33,L33,O33)","v":0},0,0,0,0,0,0,0,0]
[29,{"$f":"'データ(1)'!B34","v":0},{"$f":"'データ(1)'!C34","v":0},{"$f":"'データ(1)'!D34","v":0},{"$f":"'クラス(2)'!$AJ$30","v":0},{"$f":"'クラス(2)'!$AJ$31","v":0},{"$f":"'クラス(2)'!$AJ$32","v":0},{"$f":"'クラス(2)'!$AJ$33","v":0},{"$f":"'クラス(2)'!$AJ$34","v":0},{"$f":"'クラス(2)'!$AJ$35","v":0},null,null,null,null,null,null,null,null,null,null,null,null,null,null,0,null,null,null,null,null,null,null,null,null,null,null,null,0,0,0,0,0,{"$f":"SUM(P34,R34,L34,O34)","v":0},0,0,0,0,0,0,0,0]
[30,{"$f":"'データ(1)'!B35","v":0},{"$f":"'データ(1)'!C35","v":0},{"$f":"'データ(1)'!D35","v":0},{"$f":"'クラス(2)'!$AK$30","v":0},{"$f":"'クラス(2)'!$AK$31","v":0},{"$f":"'クラス(2)'!$AK$32","v":0},{"$f":"'クラス(2)'!$AK$33","v":0},{"$f":"'クラス(2)'!$AK$34","v":0},{"$f":"'クラス(2)'!$AK$35","v":0},null,null,null,null,null,null,null,null,null,null,null,null,null,null,0,null,null,null,null,null,null,null,null,null,null,null,null,0,0,0,0,0,0,{"$f":"SUM(T35,N35,M35,Q35)","v":0},0,0,0,0,0,0,0]
[31,{"$f":"'データ(1)'!B36","v":0},{"$f":"'データ(1)'!C36","v":0},{"$f":"'データ(1)'!D36","v":0},{"$f":"'クラス(2)'!$AL$30","v":0},{"$f":"'クラス(2)'!$AL$31","v":0},{"$f":"'クラス(2)'!$AL$32","v":0},{"$f":"'クラス(2)'!$AL$33","v":0},{"$f":"'クラス(2)'!$AL$34","v":0},{"$f":"'クラス(2)'!$AL$35","v":0},null,null,null,null,null,null,null,null,null,null,null,null,null,null,0,null,null,null,null,null,null,null,null,null,null,null,null,0,0,0,0,0,0,{"$f":"SUM(T36,N36,M36,Q36)","v":0},0,0,0,0,0,0,0]
[32,{"$f":"'データ(1)'!B37","v":0},{"$f":"'データ(1)'!C37","v":0},{"$f":"'データ(1)'!D37","v":0},{"$f":"'クラス(2)'!$AM$30","v":0},{"$f":"'クラス(2)'!$AM$31","v":0},{"$f":"'クラス(2)'!$AM$32","v":0},{"$f":"'クラス(2)'!$AM$33","v":0},{"$f":"'クラス(2)'!$AM$34","v":0},{"$f":"'クラス(2)'!$AM$35","v":0},null,null,null,null,null,null,null,null,null,null,null,null,null,null,0,null,null,null,null,null,null,null,null,null,null,null,null,0,0,0,0,0,0,{"$f":"SUM(T37,N37,M37,Q37)","v":0},0,0,0,0,0,0,0]
[33,{"$f":"'データ(1)'!B38","v":0},{"$f":"'データ(1)'!C38","v":0},{"$f":"'データ(1)'!D38","v":0},{"$f":"'クラス(2)'!$AN$30","v":0},{"$f":"'クラス(2)'!$AN$31","v":0},{"$f":"'クラス(2)'!$AN$32","v":0},{"$f":"'クラス(2)'!$AN$33","v":0},{"$f":"'クラス(2)'!$AN$34","v":0},{"$f":"'クラス(2)'!$AN$35","v":0},null,null,null,null,null,null,null,null,null,null,null,null,null,null,0,null,null,null,null,null,null,null,null,null,null,null,null,0,0,0,0,0,0,{"$f":"SUM(T38,N38,M38,Q38)","v":0},0,0,0,0,0,0,0]
[34,{"$f":"'データ(1)'!B39","v":0},{"$f":"'データ(1)'!C39","v":0},{"$f":"'データ(1)'!D39","v":0},{"$f":"'クラス(2)'!$AO$30","v":0},{"$f":"'クラス(2)'!$AO$31","v":0},{"$f":"'クラス(2)'!$AO$32","v":0},{"$f":"'クラス(2)'!$AO$33","v":0},{"$f":"'クラス(2)'!$AO$34","v":0},{"$f":"'クラス(2)'!$AO$35","v":0},null,null,null,null,null,null,null,null,null,null,null,null,null,null,0,null,null,null,null,null,null,null,null,null,null,null,null,0,0,0,0,0,0,{"$f":"SUM(T39,N39,M39,Q39)","v":0},0,0,0,0,0,0,0]
[35,{"$f":"'データ(1)'!B40","v":0},{"$f":"'データ(1)'!C40","v":0},{"$f":"'データ(1)'!D40","v":0},{"$f":"'クラス(2)'!$AP$30","v":0},{"$f":"'クラス(2)'!$AP$31","v":0},{"$f":"'クラス(2)'!$AP$32","v":0},{"$f":"'クラス(2)'!$AP$33","v":0},{"$f":"'クラス(2)'!$AP$34","v":0},{"$f":"'クラス(2)'!$AP$35","v":0},null,null,null,null,null,null,null,null,null,null,null,null,null,null,0,null,null,null,null,null,null,null,null,null,null,null,null,0,0,0,0,0,0,0,{"$f":"SUM(Z40,AA40,AC40,AD40,AG40,AJ40)","v":0},0,0,0,0,0,0]
[36,{"$f":"'データ(1)'!B41","v":0},{"$f":"'データ(1)'!C41","v":0},{"$f":"'データ(1)'!D41","v":0},{"$f":"'クラス(2)'!$AQ$30","v":0},{"$f":"'クラス(2)'!$AQ$31","v":0},{"$f":"'クラス(2)'!$AQ$32","v":0},{"$f":"'クラス(2)'!$AQ$33","v":0},{"$f":"'クラス(2)'!$AQ$34","v":0},{"$f":"'クラス(2)'!$AQ$35","v":0},null,null,null,null,null,null,null,null,null,null,null,null,null,null,0,null,null,null,null,null,null,null,null,null,null,null,null,0,0,0,0,0,0,0,{"$f":"SUM(Z41,AA41,AC41,AD41,AG41,AJ41)","v":0},0,0,0,0,0,0]
[37,{"$f":"'データ(1)'!B42","v":0},{"$f":"'データ(1)'!C42","v":0},{"$f":"'データ(1)'!D42","v":0},{"$f":"'クラス(2)'!$AR$30","v":0},{"$f":"'クラス(2)'!$AR$31","v":0},{"$f":"'クラス(2)'!$AR$32","v":0},{"$f":"'クラス(2)'!$AR$33","v":0},{"$f":"'クラス(2)'!$AR$34","v":0},{"$f":"'クラス(2)'!$AR$35","v":0},null,null,null,null,null,null,null,null,null,null,null,null,null,null,0,null,null,null,null,null,null,null,null,null,null,null,null,0,0,0,0,0,0,0,{"$f":"SUM(Z42,AA42,AC42,AD42,AG42,AJ42)","v":0},0,0,0,0,0,0]
[38,{"$f":"'データ(1)'!B43","v":0},{"$f":"'データ(1)'!C43","v":0},{"$f":"'データ(1)'!D43","v":0},{"$f":"'クラス(2)'!$AS$30","v":0},{"$f":"'クラス(2)'!$AS$31","v":0},{"$f":"'クラス(2)'!$AS$32","v":0},{"$f":"'クラス(2)'!$AS$33","v":0},{"$f":"'クラス(2)'!$AS$34","v":0},{"$f":"'クラス(2)'!$AS$35","v":0},null,null,null,null,null,null,null,null,null,null,null,null,null,null,0,null,null,null,null,null,null,null,null,null,null,null,null,0,0,0,0,0,0,0,{"$f":"SUM(Z43,AA43,AC43,AD43,AG43,AJ43)","v":0},0,0,0,0,0,0]
[39,{"$f":"'データ(1)'!B44","v":0},{"$f":"'データ(1)'!C44","v":0},{"$f":"'データ(1)'!D44","v":0},{"$f":"'クラス(2)'!$AT$30","v":0},{"$f":"'クラス(2)'!$AT$31","v":0},{"$f":"'クラス(2)'!$AT$32","v":0},{"$f":"'クラス(2)'!$AT$33","v":0},{"$f":"'クラス(2)'!$AT$34","v":0},{"$f":"'クラス(2)'!$AT$35","v":0},null,null,null,null,null,null,null,null,null,null,null,null,null,null,0,null,null,null,null,null,null,null,null,null,null,null,null,0,0,0,0,0,0,0,0,{"$f":"SUM(AB44,AE44,AF44,AH44,AI44,AK44)","v":0},0,0,0,0,0]
[40,{"$f":"'データ(1)'!B45","v":0},{"$f":"'データ(1)'!C45","v":0},{"$f":"'データ(1)'!D45","v":0},{"$f":"'クラス(2)'!$AU$30","v":0},{"$f":"'クラス(2)'!$AU$31","v":0},{"$f":"'クラス(2)'!$AU$32","v":0},{"$f":"'クラス(2)'!$AU$33","v":0},{"$f":"'クラス(2)'!$AU$34","v":0},{"$f":"'クラス(2)'!$AU$35","v":0},null,null,null,null,null,null,null,null,null,null,null,null,null,null,{"$f":"C45","v":0},null,null,null,null,null,null,null,null,null,null,null,null,{"$f":"SUM(M45,L45,N45,O45,Q45,R45,T45,P45)","v":0},{"$f":"SUM(Z45:AK45)","v":0},{"$f":"SUM(S45,T45,U45,V45)","v":0},{"$f":"SUM(M45,P45,S45)","v":0},{"$f":"SUM(AA45,AJ45,AB45,AE45)","v":0},{"$f":"SUM(P45,R45,L45,O45)","v":0},{"$f":"SUM(T45,N45,M45,Q45)","v":0},{"$f":"SUM(Z45,AA45,AC45,AD45,AG45,AJ45)","v":0},{"$f":"SUM(AB45,AE45,AF45,AH45,AI45,AK45)","v":0},{"$f":"SUM(Z45:AK45)","v":0},{"$f":"SUM(M45,L45,N45,O45,Q45,R45,T45,P45)","v":0},{"$f":"E45","v":0},{"$f":"G45","v":0},{"$f":"I45","v":0}]
[41,{"$f":"'データ(1)'!B46","v":0},{"$f":"'データ(1)'!C46","v":0},{"$f":"'データ(1)'!D46","v":0},{"$f":"'クラス(2)'!$AV$30","v":0},{"$f":"'クラス(2)'!$AV$31","v":0},{"$f":"'クラス(2)'!$AV$32","v":0},{"$f":"'クラス(2)'!$AV$33","v":0},{"$f":"'クラス(2)'!$AV$34","v":0},{"$f":"'クラス(2)'!$AV$35","v":0},null,null,null,null,null,null,null,null,null,null,null,null,null,null,0,null,null,null,null,null,null,null,null,null,null,null,null,0,0,0,0,0,0,0,{"$f":"SUM(Z46,AA46,AC46,AD46,AG46,AJ46)","v":0},0,0,0,0,0,0]
[42,{"$f":"'データ(1)'!B47","v":0},{"$f":"'データ(1)'!C47","v":0},{"$f":"'データ(1)'!D47","v":0},{"$f":"'クラス(2)'!$AW$30","v":0},{"$f":"'クラス(2)'!$AW$31","v":0},{"$f":"'クラス(2)'!$AW$32","v":0},{"$f":"'クラス(2)'!$AW$33","v":0},{"$f":"'クラス(2)'!$AW$34","v":0},{"$f":"'クラス(2)'!$AW$35","v":0},null,null,null,null,null,null,null,null,null,null,null,null,null,null,{"$f":"C47","v":0},null,null,null,null,null,null,null,null,null,null,null,null,{"$f":"SUM(M47,L47,N47,O47,Q47,R47,T47,P47)","v":0},{"$f":"SUM(Z47:AK47)","v":0},{"$f":"SUM(S47,T47,U47,V47)","v":0},{"$f":"SUM(M47,P47,S47)","v":0},{"$f":"SUM(AA47,AJ47,AB47,AE47)","v":0},{"$f":"SUM(P47,R47,L47,O47)","v":0},{"$f":"SUM(T47,N47,M47,Q47)","v":0},{"$f":"SUM(Z47,AA47,AC47,AD47,AG47,AJ47)","v":0},{"$f":"SUM(AB47,AE47,AF47,AH47,AI47,AK47)","v":0},{"$f":"SUM(Z47:AK47)","v":0},{"$f":"SUM(M47,L47,N47,O47,Q47,R47,T47,P47)","v":0},{"$f":"E47","v":0},{"$f":"G47","v":0},{"$f":"I47","v":0}]
[43,{"$f":"'データ(1)'!B48","v":0},{"$f":"'データ(1)'!C48","v":0},{"$f":"'データ(1)'!D48","v":0},{"$f":"'クラス(2)'!$AX$30","v":0},{"$f":"'クラス(2)'!$AX$31","v":0},{"$f":"'クラス(2)'!$AX$32","v":0},{"$f":"'クラス(2)'!$AX$33","v":0},{"$f":"'クラス(2)'!$AX$34","v":0},{"$f":"'クラス(2)'!$AX$35","v":0},null,null,null,null,null,null,null,null,null,null,null,null,null,null,0,null,null,null,null,null,null,null,null,null,null,null,null,0,0,0,0,0,0,0,{"$f":"SUM(Z48,AA48,AC48,AD48,AG48,AJ48)","v":0},{"$f":"SUM(AB48,AE48,AF48,AH48,AI48,AK48)","v":0},0,0,0,0,0]
[44,{"$f":"'データ(1)'!B49","v":0},{"$f":"'データ(1)'!C49","v":0},{"$f":"'データ(1)'!D49","v":0},{"$f":"'クラス(2)'!$AY$30","v":0},{"$f":"'クラス(2)'!$AY$31","v":0},{"$f":"'クラス(2)'!$AY$32","v":0},{"$f":"'クラス(2)'!$AY$33","v":0},{"$f":"'クラス(2)'!$AY$34","v":0},{"$f":"'クラス(2)'!$AY$35","v":0},null,null,null,null,null,null,null,null,null,null,null,null,null,null,0,null,null,null,null,null,null,null,null,null,null,null,null,0,0,0,0,0,0,0,{"$f":"SUM(Z49,AA49,AC49,AD49,AG49,AJ49)","v":0},0,0,0,0,0,0]
[45,{"$f":"'データ(1)'!B50","v":0},{"$f":"'データ(1)'!C50","v":0},{"$f":"'データ(1)'!D50","v":0},{"$f":"'クラス(2)'!$AZ$30","v":0},{"$f":"'クラス(2)'!$AZ$31","v":0},{"$f":"'クラス(2)'!$AZ$32","v":0},{"$f":"'クラス(2)'!$AZ$33","v":0},{"$f":"'クラス(2)'!$AZ$34","v":0},{"$f":"'クラス(2)'!$AZ$35","v":0},null,null,null,null,null,null,null,null,null,null,null,null,null,null,0,null,null,null,null,null,null,null,null,null,null,null,null,0,0,0,0,0,0,0,{"$f":"SUM(Z50,AA50,AC50,AD50,AG50,AJ50)","v":0},{"$f":"SUM(AB50,AE50,AF50,AH50,AI50,AK50)","v":0},0,0,0,0,0]
[]
[null,"男子平均","◎",null,{"$f":"DCOUNTA($C$5:$J$50,$E$5,'データ(3)'!B69:C70)/K58","v":{"$error":"#DIV/0!"}},{"$f":"DCOUNTA($C$5:$J$50,$E$5,'データ(3)'!E69:F70)/K58","v":{"$error":"#DIV/0!"}},{"$f":"DCOUNTA($C$5:$J$50,$E$5,'データ(3)'!G69:H70)/K58","v":{"$error":"#DIV/0!"}},{"$f":"DCOUNTA($C$5:$J$50,$E$5,'データ(3)'!I69:J70)/K58","v":{"$error":"#DIV/0!"}},{"$f":"DCOUNTA($C$5:$J$50,$E$5,'データ(3)'!K69:L70)/K58","v":{"$error":"#DIV/0!"}},{"$f":"DCOUNTA($C$5:$J$50,$E$5,'データ(3)'!M69:N70)/K58","v":{"$error":"#DIV/0!"}},{"$f":"DAVERAGE($C$5:$X$50,K$5,'データ(3)'!$E64:$F65)","v":{"$error":"#DIV/0!"}},{"$f":"DAVERAGE($C$5:$X$50,L$5,'データ(3)'!$G64:$H65)","v":{"$error":"#DIV/0!"}},{"$f":"DAVERAGE($C$5:$X$50,M$5,'データ(3)'!$I64:$J65)","v":{"$error":"#DIV/0!"}},{"$f":"DAVERAGE($C$5:$X$50,N$5,'データ(3)'!$K64:$L65)","v":{"$error":"#DIV/0!"}},{"$f":"DAVERAGE($C$5:$X$50,O$5,'データ(3)'!$M64:$N65)","v":{"$error":"#DIV/0!"}},{"$f":"DAVERAGE($C$5:$X$50,P$5,'データ(3)'!$O64:$P65)","v":{"$error":"#DIV/0!"}},{"$f":"DAVERAGE($C$5:$X$50,Q$5,'データ(3)'!$Q64:$R65)","v":{"$error":"#DIV/0!"}},{"$f":"DAVERAGE($C$5:$X$50,R$5,'データ(3)'!$S64:$T65)","v":{"$error":"#DIV/0!"}},{"$f":"DAVERAGE($C$5:$X$50,S$5,'データ(3)'!$U64:$V65)","v":{"$error":"#DIV/0!"}},{"$f":"DAVERAGE($C$5:$X$50,T$5,'データ(3)'!$X64:$Y65)","v":{"$error":"#DIV/0!"}},{"$f":"DAVERAGE($C$5:$X$50,U$5,'データ(3)'!$Z64:$AA65)","v":{"$error":"#DIV/0!"}},{"$f":"DAVERAGE($C$5:$X$50,V$5,'データ(3)'!$AB64:$AC65)","v":{"$error":"#DIV/0!"}},null,{"$f":"DAVERAGE($C$5:$X$50,X$5,'データ(3)'!$AD64:$AE65)","v":{"$error":"#DIV/0!"}},null,{"$f":"DAVERAGE($Y$5:$AK$50,Z$5,'データ(3)'!$E64:$F65)","v":{"$error":"#DIV/0!"}},{"$f":"DAVERAGE($Y$5:$AK$50,AA$5,'データ(3)'!$G64:$H65)","v":{"$error":"#DIV/0!"}},{"$f":"DAVERAGE($Y$5:$AK$50,AB$5,'データ(3)'!$I64:$J65)","v":{"$error":"#DIV/0!"}},{"$f":"DAVERAGE($Y$5:$AK$50,AC$5,'データ(3)'!$K64:$L65)","v":{"$error":"#DIV/0!"}},{"$f":"DAVERAGE($Y$5:$AK$50,AD$5,'データ(3)'!$M64:$N65)","v":{"$error":"#DIV/0!"}},{"$f":"DAVERAGE($Y$5:$AK$50,AE$5,'データ(3)'!$O64:$P65)","v":{"$error":"#DIV/0!"}},{"$f":"DAVERAGE($Y$5:$AK$50,AF$5,'データ(3)'!$Q64:$R65)","v":{"$error":"#DIV/0!"}},{"$f":"DAVERAGE($Y$5:$AK$50,AG$5,'データ(3)'!$S64:$T65)","v":{"$error":"#DIV/0!"}},{"$f":"DAVERAGE($Y$5:$AK$50,AH$5,'データ(3)'!$U64:$V65)","v":{"$error":"#DIV/0!"}},{"$f":"DAVERAGE($Y$5:$AK$50,AI$5,'データ(3)'!$X64:$Y65)","v":{"$error":"#DIV/0!"}},{"$f":"DAVERAGE($Y$5:$AK$50,AJ$5,'データ(3)'!$Z64:$AA65)","v":{"$error":"#DIV/0!"}},{"$f":"DAVERAGE($Y$5:$AK$50,AK$5,'データ(3)'!$AB64:$AC65)","v":{"$error":"#DIV/0!"}},{"$f":"DAVERAGE($A$3:$AV$50,$AL$3,'データ(3)'!$B$64:$C65)/8","v":{"$error":"#DIV/0!"}},{"$f":"DAVERAGE($A$3:$AV$50,$AM$3,'データ(3)'!$B$64:$C65)/12","v":{"$error":"#DIV/0!"}},{"$f":"AVERAGEIFS(AN$6:AN$50, $C$6:$C$50, \"男\", $S$6:$S$50, \"<>\", $T$6:$T$50, \"<>\", $U$6:$U$50, \"<>\", $V$6:$V$50, \"<>\")","v":{"$error":"#DIV/0!"}},{"$f":"AVERAGEIFS(AO$6:AO$50, $C$6:$C$50, \"男\", $M$6:$M$50, \"<>\", $P$6:$P$50, \"<>\", $S$6:$S$50, \"<>\")","v":{"$error":"#DIV/0!"}},{"$f":"AVERAGEIFS(AP$6:AP$50, $C$6:$C$50, \"男\", $AA$6:$AA$50, \"<>\", $AB$6:$AB$50, \"<>\", $AE$6:$AE$50, \"<>\", $AJ$6:$AJ$50, \"<>\")","v":{"$error":"#DIV/0!"}},{"$f":"AVERAGEIFS(AQ$6:AQ$50, $C$6:$C$50, \"男\", $L$6:$L$50, \"<>\", $O$6:$O$50, \"<>\", $P$6:$P$50, \"<>\", $R$6:$R$50, \"<>\")","v":{"$error":"#DIV/0!"}},{"$f":"AVERAGEIFS(AR$6:AR$50, $C$6:$C$50, \"男\", $M$6:$M$50, \"<>\", $N$6:$N$50, \"<>\", $Q$6:$Q$50, \"<>\", $T$6:$T$50, \"<>\")","v":{"$error":"#DIV/0!"}},{"$f":"AVERAGEIFS(AS$6:AS$50, $C$6:$C$50, \"男\", $Z$6:$Z$50, \"<>\", $AA$6:$AA$50, \"<>\", $AC$6:$AC$50, \"<>\", $AD$6:$AD$50, \"<>\", $AG$6:$AG$50, \"<>\", $AJ$6:$AJ$50, \"<>\")","v":{"$error":"#DIV/0!"}},{"$f":"AVERAGEIFS(AT$6:AT$50, $C$6:$C$50, \"男\", $AB$6:$AB$50, \"<>\", $AE$6:$AE$50, \"<>\", $AF$6:$AF$50, \"<>\", $AH$6:$AH$50, \"<>\", $AI$6:$AI$50, \"<>\", $AK$6:$AK$50, \"<>\")","v":{"$error":"#DIV/0!"}},{"$f":"AVERAGEIFS(AU$6:AU$50, $C$6:$C$50, \"男\", $Z$6:$Z$50, \"<>\", $AA$6:$AA$50, \"<>\", $AB$6:$AB$50, \"<>\", $AC$6:$AC$50, \"<>\", $AD$6:$AD$50, \"<>\", $AE$6:$AE$50, \"<>\", $AF$6:$AF$50, \"<>\", $AG$6:$AG$50, \"<>\", $AH$6:$AH$50, \"<>\", $AI$6:$AI$50, \"<>\", $AJ$6:$AJ$50, \"<>\", $AK$6:$AK$50, \"<>\")","v":{"$error":"#DIV/0!"}},{"$f":"AVERAGEIFS(AV$6:AV$50, $C$6:$C$50, \"男\", $L$6:$L$50, \"<>\", $M$6:$M$50, \"<>\", $N$6:$N$50, \"<>\", $O$6:$O$50, \"<>\", $P$6:$P$50, \"<>\", $Q$6:$Q$50, \"<>\", $R$6:$R$50, \"<>\", $T$6:$T$50, \"<>\")","v":{"$error":"#DIV/0!"}}]
[null,null,"△",null,{"$f":"DCOUNTA($C$5:$J$50,$E$5,'データ(3)'!B73:C74)/K58","v":{"$error":"#DIV/0!"}},{"$f":"DCOUNTA($C$5:$J$50,$E$5,'データ(3)'!E73:F74)/K58","v":{"$error":"#DIV/0!"}},{"$f":"DCOUNTA($C$5:$J$50,$E$5,'データ(3)'!G73:H74)/K58","v":{"$error":"#DIV/0!"}},{"$f":"DCOUNTA($C$5:$J$50,$E$5,'データ(3)'!I73:J74)/K58","v":{"$error":"#DIV/0!"}},{"$f":"DCOUNTA($C$5:$J$50,$E$5,'データ(3)'!K73:L74)/K58","v":{"$error":"#DIV/0!"}},{"$f":"DCOUNTA($C$5:$J$50,$E$5,'データ(3)'!M73:N74)/K58","v":{"$error":"#DIV/0!"}}]
[null,"女子平均","◎",null,{"$f":"DCOUNTA($C$5:$J$50,$E$5,'データ(3)'!B71:C72)/K58","v":{"$error":"#DIV/0!"}},{"$f":"DCOUNTA($C$5:$J$50,$E$5,'データ(3)'!E71:F72)/K58","v":{"$error":"#DIV/0!"}},{"$f":"DCOUNTA($C$5:$J$50,$E$5,'データ(3)'!G71:H72)/K58","v":{"$error":"#DIV/0!"}},{"$f":"DCOUNTA($C$5:$J$50,$E$5,'データ(3)'!I71:J72)/K58","v":{"$error":"#DIV/0!"}},{"$f":"DCOUNTA($C$5:$J$50,$E$5,'データ(3)'!K71:L72)/K58","v":{"$error":"#DIV/0!"}},{"$f":"DCOUNTA($C$5:$J$50,$E$5,'データ(3)'!M71:N72)/K58","v":{"$error":"#DIV/0!"}},{"$f":"DAVERAGE($C$5:$X$50,K$5,'データ(3)'!$E66:$F67)","v":{"$error":"#DIV/0!"}},{"$f":"DAVERAGE($C$5:$X$50,L$5,'データ(3)'!$G66:$H67)","v":{"$error":"#DIV/0!"}},{"$f":"DAVERAGE($C$5:$X$50,M$5,'データ(3)'!$I66:$J67)","v":{"$error":"#DIV/0!"}},{"$f":"DAVERAGE($C$5:$X$50,N$5,'データ(3)'!$K66:$L67)","v":{"$error":"#DIV/0!"}},{"$f":"DAVERAGE($C$5:$X$50,O$5,'データ(3)'!$M66:$N67)","v":{"$error":"#DIV/0!"}},{"$f":"DAVERAGE($C$5:$X$50,P$5,'データ(3)'!$O66:$P67)","v":{"$error":"#DIV/0!"}},{"$f":"DAVERAGE($C$5:$X$50,Q$5,'データ(3)'!$Q66:$R67)","v":{"$error":"#DIV/0!"}},{"$f":"DAVERAGE($C$5:$X$50,R$5,'データ(3)'!$S66:$T67)","v":{"$error":"#DIV/0!"}},{"$f":"DAVERAGE($C$5:$X$50,S$5,'データ(3)'!$U66:$V67)","v":{"$error":"#DIV/0!"}},{"$f":"DAVERAGE($C$5:$X$50,T$5,'データ(3)'!$X66:$Y67)","v":{"$error":"#DIV/0!"}},{"$f":"DAVERAGE($C$5:$X$50,U$5,'データ(3)'!$Z66:$AA67)","v":{"$error":"#DIV/0!"}},{"$f":"DAVERAGE($C$5:$X$50,V$5,'データ(3)'!$AB66:$AC67)","v":{"$error":"#DIV/0!"}},null,{"$f":"DAVERAGE($C$5:$X$50,X$5,'データ(3)'!$AD66:$AE67)","v":{"$error":"#DIV/0!"}},null,{"$f":"DAVERAGE($Y$5:$AK$50,Z$5,'データ(3)'!$E66:$F67)","v":{"$error":"#DIV/0!"}},{"$f":"DAVERAGE($Y$5:$AK$50,AA$5,'データ(3)'!$G66:$H67)","v":{"$error":"#DIV/0!"}},{"$f":"DAVERAGE($Y$5:$AK$50,AB$5,'データ(3)'!$I66:$J67)","v":{"$error":"#DIV/0!"}},{"$f":"DAVERAGE($Y$5:$AK$50,AC$5,'データ(3)'!$K66:$L67)","v":{"$error":"#DIV/0!"}},{"$f":"DAVERAGE($Y$5:$AK$50,AD$5,'データ(3)'!$M66:$N67)","v":{"$error":"#DIV/0!"}},{"$f":"DAVERAGE($Y$5:$AK$50,AE$5,'データ(3)'!$O66:$P67)","v":{"$error":"#DIV/0!"}},{"$f":"DAVERAGE($Y$5:$AK$50,AF$5,'データ(3)'!$Q66:$R67)","v":{"$error":"#DIV/0!"}},{"$f":"DAVERAGE($Y$5:$AK$50,AG$5,'データ(3)'!$S66:$T67)","v":{"$error":"#DIV/0!"}},{"$f":"DAVERAGE($Y$5:$AK$50,AH$5,'データ(3)'!$U66:$V67)","v":{"$error":"#DIV/0!"}},{"$f":"DAVERAGE($Y$5:$AK$50,AI$5,'データ(3)'!$X66:$Y67)","v":{"$error":"#DIV/0!"}},{"$f":"DAVERAGE($Y$5:$AK$50,AJ$5,'データ(3)'!$Z66:$AA67)","v":{"$error":"#DIV/0!"}},{"$f":"DAVERAGE($Y$5:$AK$50,AK$5,'データ(3)'!$AB66:$AC67)","v":{"$error":"#DIV/0!"}},{"$f":"DAVERAGE($A$3:$AV$50,$AL$3,'データ(3)'!$B$66:$C67)/8","v":{"$error":"#DIV/0!"}},{"$f":"DAVERAGE($A$3:$AV$50,$AM$3,'データ(3)'!$B$66:$C67)/12","v":{"$error":"#DIV/0!"}},{"$f":"AVERAGEIFS(AN$6:AN$50, $C$6:$C$50, \"女\", $S$6:$S$50, \"<>\", $T$6:$T$50, \"<>\", $U$6:$U$50, \"<>\", $V$6:$V$50, \"<>\")","v":{"$error":"#DIV/0!"}},{"$f":"AVERAGEIFS(AO$6:AO$50, $C$6:$C$50, \"女\", $M$6:$M$50, \"<>\", $P$6:$P$50, \"<>\", $S$6:$S$50, \"<>\")","v":{"$error":"#DIV/0!"}},{"$f":"AVERAGEIFS(AP$6:AP$50, $C$6:$C$50, \"女\", $AA$6:$AA$50, \"<>\", $AB$6:$AB$50, \"<>\", $AE$6:$AE$50, \"<>\", $AJ$6:$AJ$50, \"<>\")","v":{"$error":"#DIV/0!"}},{"$f":"AVERAGEIFS(AQ$6:AQ$50, $C$6:$C$50, \"女\", $L$6:$L$50, \"<>\", $O$6:$O$50, \"<>\", $P$6:$P$50, \"<>\", $R$6:$R$50, \"<>\")","v":{"$error":"#DIV/0!"}},{"$f":"AVERAGEIFS(AR$6:AR$50, $C$6:$C$50, \"女\", $M$6:$M$50, \"<>\", $N$6:$N$50, \"<>\", $Q$6:$Q$50, \"<>\", $T$6:$T$50, \"<>\")","v":{"$error":"#DIV/0!"}},{"$f":"AVERAGEIFS(AS$6:AS$50, $C$6:$C$50, \"女\", $Z$6:$Z$50, \"<>\", $AA$6:$AA$50, \"<>\", $AC$6:$AC$50, \"<>\", $AD$6:$AD$50, \"<>\", $AG$6:$AG$50, \"<>\", $AJ$6:$AJ$50, \"<>\")","v":{"$error":"#DIV/0!"}},{"$f":"AVERAGEIFS(AT$6:AT$50, $C$6:$C$50, \"女\", $AB$6:$AB$50, \"<>\", $AE$6:$AE$50, \"<>\", $AF$6:$AF$50, \"<>\", $AH$6:$AH$50, \"<>\", $AI$6:$AI$50, \"<>\", $AK$6:$AK$50, \"<>\")","v":{"$error":"#DIV/0!"}},{"$f":"AVERAGEIFS(AU$6:AU$50, $C$6:$C$50, \"女\", $Z$6:$Z$50, \"<>\", $AA$6:$AA$50, \"<>\", $AB$6:$AB$50, \"<>\", $AC$6:$AC$50, \"<>\", $AD$6:$AD$50, \"<>\", $AE$6:$AE$50, \"<>\", $AF$6:$AF$50, \"<>\", $AG$6:$AG$50, \"<>\", $AH$6:$AH$50, \"<>\", $AI$6:$AI$50, \"<>\", $AJ$6:$AJ$50, \"<>\", $AK$6:$AK$50, \"<>\")","v":{"$error":"#DIV/0!"}},{"$f":"AVERAGEIFS(AV$6:AV$50, $C$6:$C$50, \"女\", $L$6:$L$50, \"<>\", $M$6:$M$50, \"<>\", $N$6:$N$50, \"<>\", $O$6:$O$50, \"<>\", $P$6:$P$50, \"<>\", $Q$6:$Q$50, \"<>\", $R$6:$R$50, \"<>\", $T$6:$T$50, \"<>\")","v":{"$error":"#DIV/0!"}}]
[null,null,"△",null,{"$f":"DCOUNTA($C$5:$J$50,$E$5,'データ(3)'!B75:C76)/K58","v":{"$error":"#DIV/0!"}},{"$f":"DCOUNTA($C$5:$J$50,$E$5,'データ(3)'!E75:F76)/K58","v":{"$error":"#DIV/0!"}},{"$f":"DCOUNTA($C$5:$J$50,$E$5,'データ(3)'!G75:H76)/K58","v":{"$error":"#DIV/0!"}},{"$f":"DCOUNTA($C$5:$J$50,$E$5,'データ(3)'!I75:J76)/K58","v":{"$error":"#DIV/0!"}},{"$f":"DCOUNTA($C$5:$J$50,$E$5,'データ(3)'!K75:L76)/K58","v":{"$error":"#DIV/0!"}},{"$f":"DCOUNTA($C$5:$J$50,$E$5,'データ(3)'!M75:N76)/K58","v":{"$error":"#DIV/0!"}}]
[null,"全体平均","◎",null,{"$f":"COUNTIF(E$6:E$50,\"◎\")/K58","v":{"$error":"#DIV/0!"}},{"$f":"COUNTIF(F$6:F$50,\"◎\")/K58","v":{"$error":"#DIV/0!"}},{"$f":"COUNTIF(G$6:G$50,\"◎\")/K58","v":{"$error":"#DIV/0!"}},{"$f":"COUNTIF(H$6:H$50,\"◎\")/K58","v":{"$error":"#DIV/0!"}},{"$f":"COUNTIF(I$6:I$50,\"◎\")/K58","v":{"$error":"#DIV/0!"}},{"$f":"COUNTIF(J$6:J$50,\"◎\")/K58","v":{"$error":"#DIV/0!"}},{"$f":"AVERAGE(K6:K50)","v":{"$error":"#DIV/0!"}},{"$error":"#DIV/0!"},{"$error":"#DIV/0!"},{"$error":"#DIV/0!"},{"$error":"#DIV/0!"},{"$error":"#DIV/0!"},{"$error":"#DIV/0!"},{"$error":"#DIV/0!"},{"$error":"#DIV/0!"},{"$error":"#DIV/0!"},{"$error":"#DIV/0!"},{"$error":"#DIV/0!"},null,{"$f":"AVERAGE(X6:X50)","v":{"$error":"#DIV/0!"}},null,{"$f":"AVERAGE(Z6:Z50)","v":{"$error":"#DIV/0!"}},{"$error":"#DIV/0!"},{"$error":"#DIV/0!"},{"$error":"#DIV/0!"},{"$error":"#DIV/0!"},{"$error":"#DIV/0!"},{"$error":"#DIV/0!"},{"$error":"#DIV/0!"},{"$error":"#DIV/0!"},{"$error":"#DIV/0!"},{"$error":"#DIV/0!"},{"$error":"#DIV/0!"},{"$f":"AL58/$K$58/8","v":{"$error":"#DIV/0!"}},{"$f":"AM58/$K$58/12","v":{"$error":"#DIV/0!"}},{"$f":"AVERAGEIFS(AN$6:AN$50, $S$6:$S$50, \"<>\", $T$6:$T$50, \"<>\", $U$6:$U$50, \"<>\", $V$6:$V$50, \"<>\")","v":{"$error":"#DIV/0!"}},{"$f":"AVERAGEIFS(AO$6:AO$50, $M$6:$M$50, \"<>\", $P$6:$P$50, \"<>\", $S$6:$S$50, \"<>\")","v":{"$error":"#DIV/0!"}},{"$f":"AVERAGEIFS(AP$6:AP$50, $AA$6:$AA$50, \"<>\", $AB$6:$AB$50, \"<>\", $AE$6:$AE$50, \"<>\", $AJ$6:$AJ$50, \"<>\")","v":{"$error":"#DIV/0!"}},{"$f":"AVERAGEIFS(AQ$6:AQ$50, $L$6:$L$50, \"<>\", $O$6:$O$50, \"<>\", $P$6:$P$50, \"<>\", $R$6:$R$50, \"<>\")","v":{"$error":"#DIV/0!"}},{"$f":"AVERAGEIFS(AR$6:AR$50, $M$6:$M$50, \"<>\", $N$6:$N$50, \"<>\", $Q$6:$Q$50, \"<>\", $T$6:$T$50, \"<>\")","v":{"$error":"#DIV/0!"}},{"$f":"AVERAGEIFS(AS$6:AS$50, $Z$6:$Z$50, \"<>\", $AA$6:$AA$50, \"<>\", $AC$6:$AC$50, \"<>\", $AD$6:$AD$50, \"<>\", $AG$6:$AG$50, \"<>\", $AJ$6:$AJ$50, \"<>\")","v":{"$error":"#DIV/0!"}},{"$f":"AVERAGEIFS(AT$6:AT$50, $AB$6:$AB$50, \"<>\", $AE$6:$AE$50, \"<>\", $AF$6:$AF$50, \"<>\", $AH$6:$AH$50, \"<>\", $AI$6:$AI$50, \"<>\", $AK$6:$AK$50, \"<>\")","v":{"$error":"#DIV/0!"}},{"$f":"AVERAGEIFS(AU$6:AU$50, $Z$6:$Z$50, \"<>\", $AA$6:$AA$50, \"<>\", $AB$6:$AB$50, \"<>\", $AC$6:$AC$50, \"<>\", $AD$6:$AD$50, \"<>\", $AE$6:$AE$50, \"<>\", $AF$6:$AF$50, \"<>\", $AG$6:$AG$50, \"<>\", $AH$6:$AH$50, \"<>\", $AI$6:$AI$50, \"<>\", $AJ$6:$AJ$50, \"<>\", $AK$6:$AK$50, \"<>\")","v":{"$error":"#DIV/0!"}},{"$f":"AVERAGEIFS(AV$6:AV$50, $L$6:$L$50, \"<>\", $M$6:$M$50, \"<>\", $N$6:$N$50, \"<>\", $O$6:$O$50, \"<>\", $P$6:$P$50, \"<>\", $Q$6:$Q$50, \"<>\", $R$6:$R$50, \"<>\", $T$6:$T$50, \"<>\")","v":{"$error":"#DIV/0!"}}]
[null,null,"△",null,{"$f":"COUNTIF(E$6:E$50,\"△\")/K58","v":{"$error":"#DIV/0!"}},{"$f":"COUNTIF(F$6:F$50,\"△\")/K58","v":{"$error":"#DIV/0!"}},{"$f":"COUNTIF(G$6:G$50,\"△\")/K58","v":{"$error":"#DIV/0!"}},{"$f":"COUNTIF(H$6:H$50,\"△\")/K58","v":{"$error":"#DIV/0!"}},{"$f":"COUNTIF(I$6:I$50,\"△\")/K58","v":{"$error":"#DIV/0!"}},{"$f":"COUNTIF(J$6:J$50,\"△\")/K58","v":{"$error":"#DIV/0!"}}]
[null,null,null,null,null,null,null,null,null,null,{"$f":"COUNTA(K6:K50)","v":0}]

{"sheet":"データ(3)","index":3,"n_rows":76,"n_cols":51,"rows_kept":76,"cut":false,"hidden":false,"merged":[[2,0,4,0],[2,1,4,1],[51,1,52,1],[51,12,52,12],[51,13,52,13],[51,32,52,32],[51,39,52,39],[51,40,52,40],[53,1,54,1],[53,34,54,34],[53,35,54,35],[51,18,52,18],[51,19,52,19],[51,20,52,20],[55,1,56,1],[51,0,52,0],[53,0,54,0],[55,0,56,0],[51,41,52,41],[53,41,54,41],[51,10,52,10],[51,11,52,11],[55,38,56,38],[53,10,54,10],[53,11,54,11],[53,12,54,12],[53,13,54,13],[51,29,52,29],[53,31,54,31],[53,32,54,32],[53,28,54,28],[53,19,54,19],[53,20,54,20],[53,21,54,21],[53,23,54,23],[51,24,56,24],[53,25,54,25],[53,26,54,26],[1,42,1,43],[1,44,1,45],[2,37,4,37],[2,38,4,38],[2,39,4,39],[2,40,4,40],[2,42,4,42],[2,43,4,43],[2,44,4,44],[0,2,1,41],[2,45,4,45],[2,2,3,2],[2,10,3,23],[2,4,2,9],[3,4,3,5],[3,6,3,7],[3,8,3,9],[2,25,3,36],[2,41,4,41],[2,3,3,3],[2,50,4,50],[2,46,4,46],[2,47,4,47],[2,48,4,48],[2,49,4,49],[57,33,57,36],[51,37,52,37],[53,37,54,37],[51,14,52,14],[51,15,52,15],[51,16,52,16],[51,17,52,17],[51,28,52,28],[55,37,56,37],[51,36,52,36],[53,36,54,36],[55,36,56,36],[53,38,54,38],[53,39,54,39],[53,40,54,40],[53,42,54,42],[51,38,52,38],[51,30,52,30],[51,31,52,31],[51,47,52,47],[51,44,52,44],[51,45,52,45],[51,46,52,46],[53,47,54,47],[53,43,54,43],[53,44,54,44],[53,45,54,45],[51,43,52,43],[53,46,54,46],[55,47,56,47],[55,39,56,39],[55,40,56,40],[55,42,56,42],[55,43,56,43],[55,41,56,41],[55,44,56,44],[55,45,56,45],[55,46,56,46],[55,10,56,10],[55,11,56,11],[55,12,56,12],[55,13,56,13],[53,29,54,29],[53,30,54,30],[53,14,54,14],[53,15,54,15],[53,16,54,16],[53,17,54,17],[55,14,56,14],[55,15,56,15],[55,16,56,16],[55,17,56,17],[55,18,56,18],[55,19,56,19],[55,20,56,20],[55,21,56,21],[55,23,56,23],[55,25,56,25],[53,18,54,18],[55,32,56,32],[51,33,52,33],[51,34,52,34],[55,33,56,33],[55,34,56,34],[53,27,54,27],[51,42,52,42],[51,21,52,21],[51,23,52,23],[51,25,52,25],[51,26,52,26],[51,27,52,27],[55,35,56,35],[55,28,56,28],[55,29,56,29],[55,30,56,30],[55,31,56,31],[51,35,52,35],[53,33,54,33],[55,27,56,27],[55,26,56,26]]}
[{"$f":"'データ(1)'!A1","v":"学年"},{"$f":"'データ(1)'!B1","v":"小１"},"        個人アセスメント入力シート３回目"]
[{"$f":"'データ(1)'!A2","v":"組"},{"$f":"'データ(1)'!B2","v":1},null,null,null,null,null,null,null,null,null,null,null,null,null,null,null,null,null,null,null,null,null,null,null,null,null,null,null,null,null,null,null,null,null,null,null,null,null,null,null,null,"自分づくり",null,"仲間づくり"]
["ＮＯ","氏名","性別","日本語\n指導","風土まとめ合計",null,null,null,null,null,"Ａ項目\n自分づくりスキル",null,null,null,null,null,null,null,null,null,null,null,null,null,null,"Ｂ項目\n仲間づくりスキル",null,null,null,null,null,null,null,null,null,null,null,"自分づくり","仲間づくり","学級居心地感","心配傾向","かかわり","自己効力感","自尊感情","自己表現","共感・配慮","仲間づくり","自分づくり","自分づくり\n学級","仲間づくり\n学級","集団づくり\n学級"]
[null,null,null,null,"自分づくり",null,"仲間づくり",null,"集団づくり"]
[null,null,"性別",null,"公正","寛容","自己表現","配慮","課題遂行","合意形成","１","２","３","４","５","６","７","８","９","１０","１１","１２","１３","１４","性別","１","２","３","４","５","６","７","８","９","１０","１１","１２"]
[1,{"$f":"'データ(1)'!B6","v":0},{"$f":"'データ(1)'!C6","v":0},{"$f":"'データ(1)'!D6","v":0},{"$f":"'クラス(3)'!$H$30","v":0},{"$f":"'クラス(3)'!$H$31","v":0},{"$f":"'クラス(3)'!$H$32","v":0},{"$f":"'クラス(3)'!$H$33","v":0},{"$f":"'クラス(3)'!$H$34","v":0},{"$f":"'クラス(3)'!$H$35","v":0},null,null,null,null,null,null,null,null,null,null,null,null,null,null,{"$f":"C6","v":0},null,null,null,null,null,null,null,null,null,null,null,null,{"$f":"SUM(M6,L6,N6,O6,Q6,R6,T6,P6)","v":0},{"$f":"SUM(Z6:AK6)","v":0},{"$f":"SUM(S6,T6,U6,V6)","v":0},{"$f":"SUM(M6,P6,S6)","v":0},{"$f":"SUM(AA6,AJ6,AB6,AE6)","v":0},{"$f":"SUM(P6,R6,L6,O6)","v":0},{"$f":"SUM(T6,N6,M6,Q6)","v":0},{"$f":"SUM(Z6,AA6,AC6,AD6,AG6,AJ6)","v":0},{"$f":"SUM(AB6,AE6,AF6,AH6,AI6,AK6)","v":0},{"$f":"SUM(Z6:AK6)","v":0},{"$f":"SUM(M6,L6,N6,O6,Q6,R6,T6,P6)","v":0},{"$f":"E6","v":0},{"$f":"G6","v":0},{"$f":"I6","v":0}]
[2,{"$f":"'データ(1)'!B7","v":0},{"$f":"'データ(1)'!C7","v":0},{"$f":"'データ(1)'!D7","v":0},{"$f":"'クラス(3)'!$I$30","v":0},{"$f":"'クラス(3)'!$I$31","v":0},{"$f":"'クラス(3)'!$I$32","v":0},{"$f":"'クラス(3)'!$I$33","v":0},{"$f":"'クラス(3)'!$I$34","v":0},{"$f":"'クラス(3)'!$I$35","v":0},null,null,null,null,null,null,null,null,null,null,null,null,null,null,0,null,null,null,null,null,null,null,null,null,null,null,null,{"$f":"SUM(M7,L7,N7,O7,Q7,R7,T7,P7)","v":0},{"$f":"SUM(Z7:AK7)","v":0},{"$f":"SUM(S7,T7,U7,V7)","v":0},{"$f":"SUM(M7,P7,S7)","v":0},{"$f":"SUM(AA7,AJ7,AB7,AE7)","v":0},{"$f":"SUM(P7,R7,L7,O7)","v":0},{"$f":"SUM(T7,N7,M7,Q7)","v":0},{"$f":"SUM(Z7,AA7,AC7,AD7,AG7,AJ7)","v":0},{"$f":"SUM(AB7,AE7,AF7,AH7,AI7,AK7)","v":0},{"$f":"SUM(Z7:AK7)","v":0},{"$f":"SUM(M7,L7,N7,O7,Q7,R7,T7,P7)","v":0},{"$f":"E7","v":0},{"$f":"G7","v":0},{"$f":"I7","v":0}]
[3,{"$f":"'データ(1)'!B8","v":0},{"$f":"'データ(1)'!C8","v":0},{"$f":"'データ(1)'!D8","v":0},{"$f":"'クラス(3)'!$J$30","v":0},{"$f":"'クラス(3)'!$J$31","v":0},{"$f":"'クラス(3)'!$J$32","v":0},{"$f":"'クラス(3)'!$J$33","v":0},{"$f":"'クラス(3)'!$J$34","v":0},{"$f":"'クラス(3)'!$J$35","v":0},null,null,null,null,null,null,null,null,null,null,null,null,null,null,0,null,null,null,null,null,null,null,null,null,null,null,null,0,0,0,0,0,0,0,0,0,0,0,0,0,0]
[4,{"$f":"'データ(1)'!B9","v":0},{"$f":"'データ(1)'!C9","v":0},{"$f":"'データ(1)'!D9","v":0},{"$f":"'クラス(3)'!$K$30","v":0},{"$f":"'クラス(3)'!$K$31","v":0},{"$f":"'クラス(3)'!$K$32","v":0},{"$f":"'クラス(3)'!$K$33","v":0},{"$f":"'クラス(3)'!$K$34","v":0},{"$f":"'クラス(3)'!$K$35","v":0},null,null,null,null,null,null,null,null,null,null,null,null,null,null,0,null,null,null,null,null,null,null,null,null,null,null,null,0,0,0,0,0,0,0,0,0,0,0,0,0,0]
[5,{"$f":"'データ(1)'!B10","v":0},{"$f":"'データ(1)'!C10","v":0},{"$f":"'データ(1)'!D10","v":0},{"$f":"'クラス(3)'!$L$30","v":0},{"$f":"'クラス(3)'!$L$31","v":0},{"$f":"'クラス(3)'!$L$32","v":0},{"$f":"'クラス(3)'!$L$33","v":0},{"$f":"'クラス(3)'!$L$34","v":0},{"$f":"'クラス(3)'!$L$35","v":0},null,null,null,null,null,null,null,null,null,null,null,null,null,null,0,null,null,null,null,null,null,null,null,null,null,null,null,0,0,0,0,0,0,0,0,0,0,0,0,0,0]
[6,{"$f":"'データ(1)'!B11","v":0},{"$f":"'データ(1)'!C11","v":0},{"$f":"'データ(1)'!D11","v":0},{"$f":"'クラス(3)'!$M$30","v":0},{"$f":"'クラス(3)'!$M$31","v":0},{"$f":"'クラス(3)'!$M$32","v":0},{"$f":"'クラス(3)'!$M$33","v":0},{"$f":"'クラス(3)'!$M$34","v":0},{"$f":"'クラス(3)'!$M$35","v":0},null,null,null,null,null,null,null,null,null,null,null,null,null,null,0,null,null,null,null,null,null,null,null,null,null,null,null,0,0,0,0,0,0,0,0,0,0,0,0,0,0]
[7,{"$f":"'データ(1)'!B12","v":0},{"$f":"'データ(1)'!C12","v":0},{"$f":"'データ(1)'!D12","v":0},{"$f":"'クラス(3)'!$N$30","v":0},{"$f":"'クラス(3)'!$N$31","v":0},{"$f":"'クラス(3)'!$N$32","v":0},{"$f":"'クラス(3)'!$N$33","v":0},{"$f":"'クラス(3)'!$N$34","v":0},{"$f":"'クラス(3)'!$N$35","v":0},null,null,null,null,null,null,null,null,null,null,null,null,null,null,0,null,null,null,null,null,null,null,null,null,null,null,null,0,0,0,0,0,0,0,0,0,0,0,0,0,0]
[8,{"$f":"'データ(1)'!B13","v":0},{"$f":"'データ(1)'!C13","v":0},{"$f":"'データ(1)'!D13","v":0},{"$f":"'クラス(3)'!$O$30","v":0},{"$f":"'クラス(3)'!$O$31","v":0},{"$f":"'クラス(3)'!$O$32","v":0},{"$f":"'クラス(3)'!$O$33","v":0},{"$f":"'クラス(3)'!$O$34","v":0},{"$f":"'クラス(3)'!$O$35","v":0},null,null,null,null,null,null,null,null,null,null,null,null,null,null,0,null,null,null,null,null,null,null,null,null,null,null,null,0,0,0,0,0,0,0,0,0,0,0,0,0,0]
[9,{"$f":"'データ(1)'!B14","v":0},{"$f":"'データ(1)'!C14","v":0},{"$f":"'データ(1)'!D14","v":0},{"$f":"'クラス(3)'!$P$30","v":0},{"$f":"'クラス(3)'!$P$31","v":0},{"$f":"'クラス(3)'!$P$32","v":0},{"$f":"'クラス(3)'!$P$33","v":0},{"$f":"'クラス(3)'!$P$34","v":0},{"$f":"'クラス(3)'!$P$35","v":0},null,null,null,null,null,null,null,null,null,null,null,null,null,null,0,null,null,null,null,null,null,null,null,null,null,null,null,0,0,0,0,0,0,0,0,0,0,0,0,0,0]
[10,{"$f":"'データ(1)'!B15","v":0},{"$f":"'データ(1)'!C15","v":0},{"$f":"'データ(1)'!D15","v":0},{"$f":"'クラス(3)'!$Q$30","v":0},{"$f":"'クラス(3)'!$Q$31","v":0},{"$f":"'クラス(3)'!$Q$32","v":0},{"$f":"'クラス(3)'!$Q$33","v":0},{"$f":"'クラス(3)'!$Q$34","v":0},{"$f":"'クラス(3)'!$Q$35","v":0},null,null,null,null,null,null,null,null,null,null,null,null,null,null,0,null,null,null,null,null,null,null,null,null,null,null,null,0,0,0,0,0,0,0,0,0,0,0,0,0,0]
[11,{"$f":"'データ(1)'!B16","v":0},{"$f":"'データ(1)'!C16","v":0},{"$f":"'データ(1)'!D16","v":0},{"$f":"'クラス(3)'!$R$30","v":0},{"$f":"'クラス(3)'!$R$31","v":0},{"$f":"'クラス(3)'!$R$32","v":0},{"$f":"'クラス(3)'!$R$33","v":0},{"$f":"'クラス(3)'!$R$34","v":0},{"$f":"'クラス(3)'!$R$35","v":0},null,null,null,null,null,null,null,null,null,null,null,null,null,null,0,null,null,null,null,null,null,null,null,null,null,null,null,0,0,0,0,0,0,0,0,0,0,0,0,0,0]
[12,{"$f":"'データ(1)'!B17","v":0},{"$f":"'データ(1)'!C17","v":0},{"$f":"'データ(1)'!D17","v":0},{"$f":"'クラス(3)'!$S$30","v":0},{"$f":"'クラス(3)'!$S$31","v":0},{"$f":"'クラス(3)'!$S$32","v":0},{"$f":"'クラス(3)'!$S$33","v":0},{"$f":"'クラス(3)'!$S$34","v":0},{"$f":"'クラス(3)'!$S$35","v":0},null,null,null,null,null,null,null,null,null,null,null,null,null,null,0,null,null,null,null,null,null,null,null,null,null,null,null,0,0,0,0,0,0,0,0,0,0,0,0,0,0]
[13,{"$f":"'データ(1)'!B18","v":0},{"$f":"'データ(1)'!C18","v":0},{"$f":"'データ(1)'!D18","v":0},{"$f":"'クラス(3)'!$T$30","v":0},{"$f":"'クラス(3)'!$T$31","v":0},{"$f":"'クラス(3)'!$T$32","v":0},{"$f":"'クラス(3)'!$T$33","v":0},{"$f":"'クラス(3)'!$T$34","v":0},{"$f":"'クラス(3)'!$T$35","v":0},null,null,null,null,null,null,null,null,null,null,null,null,null,null,0,null,null,null,null,null,null,null,null,null,null,null,null,0,0,0,0,0,0,0,0,0,0,0,0,0,0]
[14,{"$f":"'データ(1)'!B19","v":0},{"$f":"'データ(1)'!C19","v":0},{"$f":"'データ(1)'!D19","v":0},{"$f":"'クラス(3)'!$U$30","v":0},{"$f":"'クラス(3)'!$U$31","v":0},{"$f":"'クラス(3)'!$U$32","v":0},{"$f":"'クラス(3)'!$U$33","v":0},{"$f":"'クラス(3)'!$U$34","v":0},{"$f":"'クラス(3)'!$U$35","v":0},null,null,null,null,null,null,null,null,null,null,null,null,null,null,0,null,null,null,null,null,null,null,null,null,null,null,null,0,0,0,0,0,0,0,0,0,0,0,0,0,0]
[15,{"$f":"'データ(1)'!B20","v":0},{"$f":"'データ(1)'!C20","v":0},{"$f":"'データ(1)'!D20","v":0},{"$f":"'クラス(3)'!$V$30","v":0},{"$f":"'クラス(3)'!$V$31","v":0},{"$f":"'クラス(3)'!$V$32","v":0},{"$f":"'クラス(3)'!$V$33","v":0},{"$f":"'クラス(3)'!$V$34","v":0},{"$f":"'クラス(3)'!$V$35","v":0},null,null,null,null,null,null,null,null,null,null,null,null,null,null,0,null,null,null,null,null,null,null,null,null,null,null,null,0,0,0,0,0,0,0,0,0,0,0,0,0,0]
[16,{"$f":"'データ(1)'!B21","v":0},{"$f":"'データ(1)'!C21","v":0},{"$f":"'データ(1)'!D21","v":0},{"$f":"'クラス(3)'!$W$30","v":0},{"$f":"'クラス(3)'!$W$31","v":0},{"$f":"'クラス(3)'!$W$32","v":0},{"$f":"'クラス(3)'!$W$33","v":0},{"$f":"'クラス(3)'!$W$34","v":0},{"$f":"'クラス(3)'!$W$35","v":0},null,null,null,null,null,null,null,null,null,null,null,null,null,null,0,null,null,null,null,null,null,null,null,null,null,null,null,0,0,0,0,0,0,0,0,0,0,0,0,0,0]
[17,{"$f":"'データ(1)'!B22","v":0},{"$f":"'データ(1)'!C22","v":0},{"$f":"'データ(1)'!D22","v":0},{"$f":"'クラス(3)'!$X$30","v":0},{"$f":"'クラス(3)'!$X$31","v":0},{"$f":"'クラス(3)'!$X$32","v":0},{"$f":"'クラス(3)'!$X$33","v":0},{"$f":"'クラス(3)'!$X$34","v":0},{"$f":"'クラス(3)'!$X$35","v":0},null,null,null,null,null,null,null,null,null,null,null,null,null,null,0,null,null,null,null,null,null,null,null,null,null,null,null,0,0,0,0,0,0,0,0,0,0,0,0,0,0]
[18,{"$f":"'データ(1)'!B23","v":0},{"$f":"'データ(1)'!C23","v":0},{"$f":"'データ(1)'!D23","v":0},{"$f":"'クラス(3)'!$Y$30","v":0},{"$f":"'クラス(3)'!$Y$31","v":0},{"$f":"'クラス(3)'!$Y$32","v":0},{"$f":"'クラス(3)'!$Y$33","v":0},{"$f":"'クラス(3)'!$Y$34","v":0},{"$f":"'クラス(3)'!$Y$35","v":0},null,null,null,null,null,null,null,null,null,null,null,null,null,null,0,null,null,null,null,null,null,null,null,null,null,null,null,0,0,0,0,0,0,0,0,0,0,0,0,0,0]
[19,{"$f":"'データ(1)'!B24","v":0},{"$f":"'データ(1)'!C24","v":0},{"$f":"'データ(1)'!D24","v":0},{"$f":"'クラス(3)'!$Z$30","v":0},{"$f":"'クラス(3)'!$Z$31","v":0},{"$f":"'クラス(3)'!$Z$32","v":0},{"$f":"'クラス(3)'!$Z$33","v":0},{"$f":"'クラス(3)'!$Z$34","v":0},{"$f":"'クラス(3)'!$Z$35","v":0},null,null,null,null,null,null,null,null,null,null,null,null,null,null,0,null,null,null,null,null,null,null,null,null,null,null,null,0,0,0,0,0,0,0,0,0,0,0,0,0,0]
[20,{"$f":"'データ(1)'!B25","v":0},{"$f":"'データ(1)'!C25","v":0},{"$f":"'データ(1)'!D25","v":0},{"$f":"'クラス(3)'!$AA$30","v":0},{"$f":"'クラス(3)'!$AA$31","v":0},{"$f":"'クラス(3)'!$AA$32","v":0},{"$f":"'クラス(3)'!$AA$33","v":0},{"$f":"'クラス(3)'!$AA$34","v":0},{"$f":"'クラス(3)'!$AA$35","v":0},null,null,null,null,null,null,null,null,null,null,null,null,null,null,0,null,null,null,null,null,null,null,null,null,null,null,null,0,0,0,0,0,0,0,0,0,0,0,0,0,0]
[21,{"$f":"'データ(1)'!B26","v":0},{"$f":"'データ(1)'!C26","v":0},{"$f":"'データ(1)'!D26","v":0},{"$f":"'クラス(3)'!$AB$30","v":0},{"$f":"'クラス(3)'!$AB$31","v":0},{"$f":"'クラス(3)'!$AB$32","v":0},{"$f":"'クラス(3)'!$AB$33","v":0},{"$f":"'クラス(3)'!$AB$34","v":0},{"$f":"'クラス(3)'!$AB$35","v":0},null,null,null,null,null,null,null,null,null,null,null,null,null,null,0,null,null,null,null,null,null,null,null,null,null,null,null,0,0,0,0,0,0,0,0,0,0,0,0,0,0]
[22,{"$f":"'データ(1)'!B27","v":0},{"$f":"'データ(1)'!C27","v":0},{"$f":"'データ(1)'!D27","v":0},{"$f":"'クラス(3)'!$AC$30","v":0},{"$f":"'クラス(3)'!$AC$31","v":0},{"$f":"'クラス(3)'!$AC$32","v":0},{"$f":"'クラス(3)'!$AC$33","v":0},{"$f":"'クラス(3)'!$AC$34","v":0},{"$f":"'クラス(3)'!$AC$35","v":0},null,null,null,null,null,null,null,null,null,null,null,null,null,null,0,null,null,null,null,null,null,null,null,null,null,null,null,0,0,0,0,0,0,0,0,0,0,0,0,0,0]
[23,{"$f":"'データ(1)'!B28","v":0},{"$f":"'データ(1)'!C28","v":0},{"$f":"'データ(1)'!D28","v":0},{"$f":"'クラス(3)'!$AD$30","v":0},{"$f":"'クラス(3)'!$AD$31","v":0},{"$f":"'クラス(3)'!$AD$32","v":0},{"$f":"'クラス(3)'!$AD$33","v":0},{"$f":"'クラス(3)'!$AD$34","v":0},{"$f":"'クラス(3)'!$AD$35","v":0},null,null,null,null,null,null,null,null,null,null,null,null,null,null,0,null,null,null,null,null,null,null,null,null,null,null,null,0,0,0,0,0,0,0,0,0,0,0,0,0,0]
[24,{"$f":"'データ(1)'!B29","v":0},{"$f":"'データ(1)'!C29","v":0},{"$f":"'データ(1)'!D29","v":0},{"$f":"'クラス(3)'!$AE$30","v":0},{"$f":"'クラス(3)'!$AE$31","v":0},{"$f":"'クラス(3)'!$AE$32","v":0},{"$f":"'クラス(3)'!$AE$33","v":0},{"$f":"'クラス(3)'!$AE$34","v":0},{"$f":"'クラス(3)'!$AE$35","v":0},null,null,null,null,null,null,null,null,null,null,null,null,null,null,0,null,null,null,null,null,null,null,null,null,null,null,null,0,0,0,0,0,0,0,0,0,0,0,0,0,0]
[25,{"$f":"'データ(1)'!B30","v":0},{"$f":"'データ(1)'!C30","v":0},{"$f":"'データ(1)'!D30","v":0},{"$f":"'クラス(3)'!$AF$30","v":0},{"$f":"'クラス(3)'!$AF$31","v":0},{"$f":"'クラス(3)'!$AF$32","v":0},{"$f":"'クラス(3)'!$AF$33","v":0},{"$f":"'クラス(3)'!$AF$34","v":0},{"$f":"'クラス(3)'!$AF$35","v":0},null,null,null,null,null,null,null,null,null,null,null,null,null,null,0,null,null,null,null,null,null,null,null,null,null,null,null,0,0,0,0,0,0,0,0,0,0,0,0,0,0]
[26,{"$f":"'データ(1)'!B31","v":0},{"$f":"'データ(1)'!C31","v":0},{"$f":"'データ(1)'!D31","v":0},{"$f":"'クラス(3)'!$AG$30","v":0},{"$f":"'クラス(3)'!$AG$31","v":0},{"$f":"'クラス(3)'!$AG$32","v":0},{"$f":"'クラス(3)'!$AG$33","v":0},{"$f":"'クラス(3)'!$AG$34","v":0},{"$f":"'クラス(3)'!$AG$35","v":0},null,null,null,null,null,null,null,null,null,null,null,null,null,null,0,null,null,null,null,null,null,null,null,null,null,null,null,0,0,0,0,0,0,0,0,0,0,0,0,0,0]
[27,{"$f":"'データ(1)'!B32","v":0},{"$f":"'データ(1)'!C32","v":0},{"$f":"'データ(1)'!D32","v":0},{"$f":"'クラス(3)'!$AH$30","v":0},{"$f":"'クラス(3)'!$AH$31","v":0},{"$f":"'クラス(3)'!$AH$32","v":0},{"$f":"'クラス(3)'!$AH$33","v":0},{"$f":"'クラス(3)'!$AH$34","v":0},{"$f":"'クラス(3)'!$AH$35","v":0},null,null,null,null,null,null,null,null,null,null,null,null,null,null,0,null,null,null,null,null,null,null,null,null,null,null,null,0,0,0,0,0,0,0,0,0,0,0,0,0,0]
[28,{"$f":"'データ(1)'!B33","v":0},{"$f":"'データ(1)'!C33","v":0},{"$f":"'データ(1)'!D33","v":0},{"$f":"'クラス(3)'!$AI$30","v":0},{"$f":"'クラス(3)'!$AI$31","v":0},{"$f":"'クラス(3)'!$AI$32","v":0},{"$f":"'クラス(3)'!$AI$33","v":0},{"$f":"'クラス(3)'!$AI$34","v":0},{"$f":"'クラス(3)'!$AI$35","v":0},null,null,null,null,null,null,null,null,null,null,null,null,null,null,0,null,null,null,null,null,null,null,null,null,null,null,null,0,0,0,0,0,0,0,0,0,0,0,0,0,0]
[29,{"$f":"'データ(1)'!B34","v":0},{"$f":"'データ(1)'!C34","v":0},{"$f":"'データ(1)'!D34","v":0},{"$f":"'クラス(3)'!$AJ$30","v":0},{"$f":"'クラス(3)'!$AJ$31","v":0},{"$f":"'クラス(3)'!$AJ$32","v":0},{"$f":"'クラス(3)'!$AJ$33","v":0},{"$f":"'クラス(3)'!$AJ$34","v":0},{"$f":"'クラス(3)'!$AJ$35","v":0},null,null,null,null,null,null,null,null,null,null,null,null,null,null,0,null,null,null,null,null,null,null,null,null,null,null,null,0,0,0,0,0,0,0,0,0,0,0,0,0,0]
[30,{"$f":"'データ(1)'!B35","v":0},{"$f":"'データ(1)'!C35","v":0},{"$f":"'データ(1)'!D35","v":0},{"$f":"'クラス(3)'!$AK$30","v":0},{"$f":"'クラス(3)'!$AK$31","v":0},{"$f":"'クラス(3)'!$AK$32","v":0},{"$f":"'クラス(3)'!$AK$33","v":0},{"$f":"'クラス(3)'!$AK$34","v":0},{"$f":"'クラス(3)'!$AK$35","v":0},null,null,null,null,null,null,null,null,null,null,null,null,null,null,0,null,null,null,null,null,null,null,null,null,null,null,null,0,0,0,0,0,0,0,0,0,0,0,0,0,0]
[31,{"$f":"'データ(1)'!B36","v":0},{"$f":"'データ(1)'!C36","v":0},{"$f":"'データ(1)'!D36","v":0},{"$f":"'クラス(3)'!$AL$30","v":0},{"$f":"'クラス(3)'!$AL$31","v":0},{"$f":"'クラス(3)'!$AL$32","v":0},{"$f":"'クラス(3)'!$AL$33","v":0},{"$f":"'クラス(3)'!$AL$34","v":0},{"$f":"'クラス(3)'!$AL$35","v":0},null,null,null,null,null,null,null,null,null,null,null,null,null,null,0,null,null,null,null,null,null,null,null,null,null,null,null,0,0,0,0,0,0,0,0,0,0,0,0,0,0]
[32,{"$f":"'データ(1)'!B37","v":0},{"$f":"'データ(1)'!C37","v":0},{"$f":"'データ(1)'!D37","v":0},{"$f":"'クラス(3)'!$AM$30","v":0},{"$f":"'クラス(3)'!$AM$31","v":0},{"$f":"'クラス(3)'!$AM$32","v":0},{"$f":"'クラス(3)'!$AM$33","v":0},{"$f":"'クラス(3)'!$AM$34","v":0},{"$f":"'クラス(3)'!$AM$35","v":0},null,null,null,null,null,null,null,null,null,null,null,null,null,null,0,null,null,null,null,null,null,null,null,null,null,null,null,0,0,0,0,0,0,0,0,0,0,0,0,0,0]
[33,{"$f":"'データ(1)'!B38","v":0},{"$f":"'データ(1)'!C38","v":0},{"$f":"'データ(1)'!D38","v":0},{"$f":"'クラス(3)'!$AN$30","v":0},{"$f":"'クラス(3)'!$AN$31","v":0},{"$f":"'クラス(3)'!$AN$32","v":0},{"$f":"'クラス(3)'!$AN$33","v":0},{"$f":"'クラス(3)'!$AN$34","v":0},{"$f":"'クラス(3)'!$AN$35","v":0},null,null,null,null,null,null,null,null,null,null,null,null,null,null,0,null,null,null,null,null,null,null,null,null,null,null,null,0,0,0,0,0,0,0,0,0,0,0,0,0,0]
[34,{"$f":"'データ(1)'!B39","v":0},{"$f":"'データ(1)'!C39","v":0},{"$f":"'データ(1)'!D39","v":0},{"$f":"'クラス(3)'!$AO$30","v":0},{"$f":"'クラス(3)'!$AO$31","v":0},{"$f":"'クラス(3)'!$AO$32","v":0},{"$f":"'クラス(3)'!$AO$33","v":0},{"$f":"'クラス(3)'!$AO$34","v":0},{"$f":"'クラス(3)'!$AO$35","v":0},null,null,null,null,null,null,null,null,null,null,null,null,null,null,0,null,null,null,null,null,null,null,null,null,null,null,null,0,0,0,0,0,0,0,0,0,0,0,0,0,0]
[35,{"$f":"'データ(1)'!B40","v":0},{"$f":"'データ(1)'!C40","v":0},{"$f":"'データ(1)'!D40","v":0},{"$f":"'クラス(3)'!$AP$30","v":0},{"$f":"'クラス(3)'!$AP$31","v":0},{"$f":"'クラス(3)'!$AP$32","v":0},{"$f":"'クラス(3)'!$AP$33","v":0},{"$f":"'クラス(3)'!$AP$34","v":0},{"$f":"'クラス(3)'!$AP$35","v":0},null,null,null,null,null,null,null,null,null,null,null,null,null,null,0,null,null,null,null,null,null,null,null,null,null,null,null,0,0,0,0,0,0,0,0,0,0,0,0,0,0]
[36,{"$f":"'データ(1)'!B41","v":0},{"$f":"'データ(1)'!C41","v":0},{"$f":"'データ(1)'!D41","v":0},{"$f":"'クラス(3)'!$AQ$30","v":0},{"$f":"'クラス(3)'!$AQ$31","v":0},{"$f":"'クラス(3)'!$AQ$32","v":0},{"$f":"'クラス(3)'!$AQ$33","v":0},{"$f":"'クラス(3)'!$AQ$34","v":0},{"$f":"'クラス(3)'!$AQ$35","v":0},null,null,null,null,null,null,null,null,null,null,null,null,null,null,0,null,null,null,null,null,null,null,null,null,null,null,null,0,0,0,0,0,0,0,0,0,0,0,0,0,0]
[37,{"$f":"'データ(1)'!B42","v":0},{"$f":"'データ(1)'!C42","v":0},{"$f":"'データ(1)'!D42","v":0},{"$f":"'クラス(3)'!$AR$30","v":0},{"$f":"'クラス(3)'!$AR$31","v":0},{"$f":"'クラス(3)'!$AR$32","v":0},{"$f":"'クラス(3)'!$AR$33","v":0},{"$f":"'クラス(3)'!$AR$34","v":0},{"$f":"'クラス(3)'!$AR$35","v":0},null,null,null,null,null,null,null,null,null,null,null,null,null,null,0,null,null,null,null,null,null,null,null,null,null,null,null,0,0,0,0,0,0,0,0,0,0,0,0,0,0]
[38,{"$f":"'データ(1)'!B43","v":0},{"$f":"'データ(1)'!C43","v":0},{"$f":"'データ(1)'!D43","v":0},{"$f":"'クラス(3)'!$AS$30","v":0},{"$f":"'クラス(3)'!$AS$31","v":0},{"$f":"'クラス(3)'!$AS$32","v":0},{"$f":"'クラス(3)'!$AS$33","v":0},{"$f":"'クラス(3)'!$AS$34","v":0},{"$f":"'クラス(3)'!$AS$35","v":0},null,null,null,null,null,null,null,null,null,null,null,null,null,null,0,null,null,null,null,null,null,null,null,null,null,null,null,0,0,0,0,0,0,0,0,0,0,0,0,0,0]
[39,{"$f":"'データ(1)'!B44","v":0},{"$f":"'データ(1)'!C44","v":0},{"$f":"'データ(1)'!D44","v":0},{"$f":"'クラス(3)'!$AT$30","v":0},{"$f":"'クラス(3)'!$AT$31","v":0},{"$f":"'クラス(3)'!$AT$32","v":0},{"$f":"'クラス(3)'!$AT$33","v":0},{"$f":"'クラス(3)'!$AT$34","v":0},{"$f":"'クラス(3)'!$AT$35","v":0},null,null,null,null,null,null,null,null,null,null,null,null,null,null,0,null,null,null,null,null,null,null,null,null,null,null,null,0,0,0,0,0,0,0,0,0,0,0,0,0,0]
[40,{"$f":"'データ(1)'!B45","v":0},{"$f":"'データ(1)'!C45","v":0},{"$f":"'データ(1)'!D45","v":0},{"$f":"'クラス(3)'!$AU$30","v":0},{"$f":"'クラス(3)'!$AU$31","v":0},{"$f":"'クラス(3)'!$AU$32","v":0},{"$f":"'クラス(3)'!$AU$33","v":0},{"$f":"'クラス(3)'!$AU$34","v":0},{"$f":"'クラス(3)'!$AU$35","v":0},null,null,null,null,null,null,null,null,null,null,null,null,null,null,{"$f":"C45","v":0},null,null,null,null,null,null,null,null,null,null,null,null,{"$f":"SUM(M45,L45,N45,O45,Q45,R45,T45,P45)","v":0},{"$f":"SUM(Z45:AK45)","v":0},{"$f":"SUM(S45,T45,U45,V45)","v":0},{"$f":"SUM(M45,P45,S45)","v":0},{"$f":"SUM(AA45,AJ45,AB45,AE45)","v":0},{"$f":"SUM(P45,R45,L45,O45)","v":0},{"$f":"SUM(T45,N45,M45,Q45)","v":0},{"$f":"SUM(Z45,AA45,AC45,AD45,AG45,AJ45)","v":0},{"$f":"SUM(AB45,AE45,AF45,AH45,AI45,AK45)","v":0},{"$f":"SUM(Z45:AK45)","v":0},{"$f":"SUM(M45,L45,N45,O45,Q45,R45,T45,P45)","v":0},{"$f":"E45","v":0},{"$f":"G45","v":0},{"$f":"I45","v":0}]
[41,{"$f":"'データ(1)'!B46","v":0},{"$f":"'データ(1)'!C46","v":0},{"$f":"'データ(1)'!D46","v":0},{"$f":"'クラス(3)'!$AV$30","v":0},{"$f":"'クラス(3)'!$AV$31","v":0},{"$f":"'クラス(3)'!$AV$32","v":0},{"$f":"'クラス(3)'!$AV$33","v":0},{"$f":"'クラス(3)'!$AV$34","v":0},{"$f":"'クラス(3)'!$AV$35","v":0},null,null,null,null,null,null,null,null,null,null,null,null,null,null,0,null,null,null,null,null,null,null,null,null,null,null,null,0,0,0,0,0,0,0,0,0,0,0,0,0,0]
[42,{"$f":"'データ(1)'!B47","v":0},{"$f":"'データ(1)'!C47","v":0},{"$f":"'データ(1)'!D47","v":0},{"$f":"'クラス(3)'!$AW$30","v":0},{"$f":"'クラス(3)'!$AW$31","v":0},{"$f":"'クラス(3)'!$AW$32","v":0},{"$f":"'クラス(3)'!$AW$33","v":0},{"$f":"'クラス(3)'!$AW$34","v":0},{"$f":"'クラス(3)'!$AW$35","v":0},null,null,null,null,null,null,null,null,null,null,null,null,null,null,0,null,null,null,null,null,null,null,null,null,null,null,null,0,0,0,0,0,0,0,0,0,0,0,0,0,0]
[43,{"$f":"'データ(1)'!B48","v":0},{"$f":"'データ(1)'!C48","v":0},{"$f":"'データ(1)'!D48","v":0},{"$f":"'クラス(3)'!$AX$30","v":0},{"$f":"'クラス(3)'!$AX$31","v":0},{"$f":"'クラス(3)'!$AX$32","v":0},{"$f":"'クラス(3)'!$AX$33","v":0},{"$f":"'クラス(3)'!$AX$34","v":0},{"$f":"'クラス(3)'!$AX$35","v":0},null,null,null,null,null,null,null,null,null,null,null,null,null,null,0,null,null,null,null,null,null,null,null,null,null,null,null,0,0,0,0,0,0,0,0,0,0,0,0,0,0]
[44,{"$f":"'データ(1)'!B49","v":0},{"$f":"'データ(1)'!C49","v":0},{"$f":"'データ(1)'!D49","v":0},{"$f":"'クラス(3)'!$AY$30","v":0},{"$f":"'クラス(3)'!$AY$31","v":0},{"$f":"'クラス(3)'!$AY$32","v":0},{"$f":"'クラス(3)'!$AY$33","v":0},{"$f":"'クラス(3)'!$AY$34","v":0},{"$f":"'クラス(3)'!$AY$35","v":0},null,null,null,null,null,null,null,null,null,null,null,null,null,null,0,null,null,null,null,null,null,null,null,null,null,null,null,0,0,0,0,0,0,0,0,0,0,0,0,0,0]
[45,{"$f":"'データ(1)'!B50","v":0},{"$f":"'データ(1)'!C50","v":0},{"$f":"'データ(1)'!D50","v":0},{"$f":"'クラス(3)'!$AZ$30","v":0},{"$f":"'クラス(3)'!$AZ$31","v":0},{"$f":"'クラス(3)'!$AZ$32","v":0},{"$f":"'クラス(3)'!$AZ$33","v":0},{"$f":"'クラス(3)'!$AZ$34","v":0},{"$f":"'クラス(3)'!$AZ$35","v":0},null,null,null,null,null,null,null,null,null,null,null,null,null,null,0,null,null,null,null,null,null,null,null,null,null,null,null,0,0,{"$f":"SUM(S50,T50,U50,V50)","v":0},0,0,0,0,0,0,0,0,0,0,0]
[]
[null,"男子平均","◎",null,{"$f":"DCOUNTA($C$5:$J$50,$E$5,'データ(3)'!B69:C70)/K58","v":{"$error":"#DIV/0!"}},{"$f":"DCOUNTA($C$5:$J$50,$E$5,'データ(3)'!E69:F70)/K58","v":{"$error":"#DIV/0!"}},{"$f":"DCOUNTA($C$5:$J$50,$E$5,'データ(3)'!G69:H70)/K58","v":{"$error":"#DIV/0!"}},{"$f":"DCOUNTA($C$5:$J$50,$E$5,'データ(3)'!I69:J70)/K58","v":{"$error":"#DIV/0!"}},{"$f":"DCOUNTA($C$5:$J$50,$E$5,'データ(3)'!K69:L70)/K58","v":{"$error":"#DIV/0!"}},{"$f":"DCOUNTA($C$5:$J$50,$E$5,'データ(3)'!M69:N70)/K58","v":{"$error":"#DIV/0!"}},{"$f":"DAVERAGE($C$5:$X$50,K$5,'データ(3)'!$E64:$F65)","v":{"$error":"#DIV/0!"}},{"$f":"DAVERAGE($C$5:$X$50,L$5,'データ(3)'!$G64:$H65)","v":{"$error":"#DIV/0!"}},{"$f":"DAVERAGE($C$5:$X$50,M$5,'データ(3)'!$I64:$J65)","v":{"$error":"#DIV/0!"}},{"$f":"DAVERAGE($C$5:$X$50,N$5,'データ(3)'!$K64:$L65)","v":{"$error":"#DIV/0!"}},{"$f":"DAVERAGE($C$5:$X$50,O$5,'データ(3)'!$M64:$N65)","v":{"$error":"#DIV/0!"}},{"$f":"DAVERAGE($C$5:$X$50,P$5,'データ(3)'!$O64:$P65)","v":{"$error":"#DIV/0!"}},{"$f":"DAVERAGE($C$5:$X$50,Q$5,'データ(3)'!$Q64:$R65)","v":{"$error":"#DIV/0!"}},{"$f":"DAVERAGE($C$5:$X$50,R$5,'データ(3)'!$S64:$T65)","v":{"$error":"#DIV/0!"}},{"$f":"DAVERAGE($C$5:$X$50,S$5,'データ(3)'!$U64:$V65)","v":{"$error":"#DIV/0!"}},{"$f":"DAVERAGE($C$5:$X$50,T$5,'データ(3)'!$X64:$Y65)","v":{"$error":"#DIV/0!"}},{"$f":"DAVERAGE($C$5:$X$50,U$5,'データ(3)'!$Z64:$AA65)","v":{"$error":"#DIV/0!"}},{"$f":"DAVERAGE($C$5:$X$50,V$5,'データ(3)'!$AB64:$AC65)","v":{"$error":"#DIV/0!"}},null,{"$f":"DAVERAGE($C$5:$X$50,X$5,'データ(3)'!$AD64:$AE65)","v":{"$error":"#DIV/0!"}},null,{"$f":"DAVERAGE($Y$5:$AK$50,Z$5,'データ(3)'!$E64:$F65)","v":{"$error":"#DIV/0!"}},{"$f":"DAVERAGE($Y$5:$AK$50,AA$5,'データ(3)'!$G64:$H65)","v":{"$error":"#DIV/0!"}},{"$f":"DAVERAGE($Y$5:$AK$50,AB$5,'データ(3)'!$I64:$J65)","v":{"$error":"#DIV/0!"}},{"$f":"DAVERAGE($Y$5:$AK$50,AC$5,'データ(3)'!$K64:$L65)","v":{"$error":"#DIV/0!"}},{"$f":"DAVERAGE($Y$5:$AK$50,AD$5,'データ(3)'!$M64:$N65)","v":{"$error":"#DIV/0!"}},{"$f":"DAVERAGE($Y$5:$AK$50,AE$5,'データ(3)'!$O64:$P65)","v":{"$error":"#DIV/0!"}},{"$f":"DAVERAGE($Y$5:$AK$50,AF$5,'データ(3)'!$Q64:$R65)","v":{"$error":"#DIV/0!"}},{"$f":"DAVERAGE($Y$5:$AK$50,AG$5,'データ(3)'!$S64:$T65)","v":{"$error":"#DIV/0!"}},{"$f":"DAVERAGE($Y$5:$AK$50,AH$5,'データ(3)'!$U64:$V65)","v":{"$error":"#DIV/0!"}},{"$f":"DAVERAGE($Y$5:$AK$50,AI$5,'データ(3)'!$X64:$Y65)","v":{"$error":"#DIV/0!"}},{"$f":"DAVERAGE($Y$5:$AK$50,AJ$5,'データ(3)'!$Z64:$AA65)","v":{"$error":"#DIV/0!"}},{"$f":"DAVERAGE($Y$5:$AK$50,AK$5,'データ(3)'!$AB64:$AC65)","v":{"$error":"#DIV/0!"}},{"$f":"DAVERAGE($A$3:$AV$50,$AL$3,'データ(3)'!$B$64:$C65)/8","v":{"$error":"#DIV/0!"}},{"$f":"DAVERAGE($A$3:$AV$50,$AM$3,'データ(3)'!$B$64:$C65)/12","v":{"$error":"#DIV/0!"}},{"$f":"AVERAGEIFS(AN$6:AN$50, $C$6:$C$50, \"男\", $S$6:$S$50, \"<>\", $T$6:$T$50, \"<>\", $U$6:$U$50, \"<>\", $V$6:$V$50, \"<>\")","v":{"$error":"#DIV/0!"}},{"$f":"AVERAGEIFS(AO$6:AO$50, $C$6:$C$50, \"男\", $M$6:$M$50, \"<>\", $P$6:$P$50, \"<>\", $S$6:$S$50, \"<>\")","v":{"$error":"#DIV/0!"}},{"$f":"AVERAGEIFS(AP$6:AP$50, $C$6:$C$50, \"男\", $AA$6:$AA$50, \"<>\", $AB$6:$AB$50, \"<>\", $AE$6:$AE$50, \"<>\", $AJ$6:$AJ$50, \"<>\")","v":{"$error":"#DIV/0!"}},{"$f":"AVERAGEIFS(AQ$6:AQ$50, $C$6:$C$50, \"男\", $L$6:$L$50, \"<>\", $O$6:$O$50, \"<>\", $P$6:$P$50, \"<>\", $R$6:$R$50, \"<>\")","v":{"$error":"#DIV/0!"}},{"$f":"AVERAGEIFS(AR$6:AR$50, $C$6:$C$50, \"男\", $M$6:$M$50, \"<>\", $N$6:$N$50, \"<>\", $Q$6:$Q$50, \"<>\", $T$6:$T$50, \"<>\")","v":{"$error":"#DIV/0!"}},{"$f":"AVERAGEIFS(AS$6:AS$50, $C$6:$C$50, \"男\", $Z$6:$Z$50, \"<>\", $AA$6:$AA$50, \"<>\", $AC$6:$AC$50, \"<>\", $AD$6:$AD$50, \"<>\", $AG$6:$AG$50, \"<>\", $AJ$6:$AJ$50, \"<>\")","v":{"$error":"#DIV/0!"}},{"$f":"AVERAGEIFS(AT$6:AT$50, $C$6:$C$50, \"男\", $AB$6:$AB$50, \"<>\", $AE$6:$AE$50, \"<>\", $AF$6:$AF$50, \"<>\", $AH$6:$AH$50, \"<>\", $AI$6:$AI$50, \"<>\", $AK$6:$AK$50, \"<>\")","v":{"$error":"#DIV/0!"}},{"$f":"AVERAGEIFS(AU$6:AU$50, $C$6:$C$50, \"男\", $Z$6:$Z$50, \"<>\", $AA$6:$AA$50, \"<>\", $AB$6:$AB$50, \"<>\", $AC$6:$AC$50, \"<>\", $AD$6:$AD$50, \"<>\", $AE$6:$AE$50, \"<>\", $AF$6:$AF$50, \"<>\", $AG$6:$AG$50, \"<>\", $AH$6:$AH$50, \"<>\", $AI$6:$AI$50, \"<>\", $AJ$6:$AJ$50, \"<>\", $AK$6:$AK$50, \"<>\")","v":{"$error":"#DIV/0!"}},{"$f":"AVERAGEIFS(AV$6:AV$50, $C$6:$C$50, \"男\", $L$6:$L$50, \"<>\", $M$6:$M$50, \"<>\", $N$6:$N$50, \"<>\", $O$6:$O$50, \"<>\", $P$6:$P$50, \"<>\", $Q$6:$Q$50, \"<>\", $R$6:$R$50, \"<>\", $T$6:$T$50, \"<>\")","v":{"$error":"#DIV/0!"}}]
[null,null,"△",null,{"$f":"DCOUNTA($C$5:$J$50,$E$5,'データ(3)'!B73:C74)/K58","v":{"$error":"#DIV/0!"}},{"$f":"DCOUNTA($C$5:$J$50,$E$5,'データ(3)'!E73:F74)/K58","v":{"$error":"#DIV/0!"}},{"$f":"DCOUNTA($C$5:$J$50,$E$5,'データ(3)'!G73:H74)/K58","v":{"$error":"#DIV/0!"}},{"$f":"DCOUNTA($C$5:$J$50,$E$5,'データ(3)'!I73:J74)/K58","v":{"$error":"#DIV/0!"}},{"$f":"DCOUNTA($C$5:$J$50,$E$5,'データ(3)'!K73:L74)/K58","v":{"$error":"#DIV/0!"}},{"$f":"DCOUNTA($C$5:$J$50,$E$5,'データ(3)'!M73:N74)/K58","v":{"$error":"#DIV/0!"}}]
[null,"女子平均","◎",null,{"$f":"DCOUNTA($C$5:$J$50,$E$5,'データ(3)'!B71:C72)/K58","v":{"$error":"#DIV/0!"}},{"$f":"DCOUNTA($C$5:$J$50,$E$5,'データ(3)'!E71:F72)/K58","v":{"$error":"#DIV/0!"}},{"$f":"DCOUNTA($C$5:$J$50,$E$5,'データ(3)'!G71:H72)/K58","v":{"$error":"#DIV/0!"}},{"$f":"DCOUNTA($C$5:$J$50,$E$5,'データ(3)'!I71:J72)/K58","v":{"$error":"#DIV/0!"}},{"$f":"DCOUNTA($C$5:$J$50,$E$5,'データ(3)'!K71:L72)/K58","v":{"$error":"#DIV/0!"}},{"$f":"DCOUNTA($C$5:$J$50,$E$5,'データ(3)'!M71:N72)/K58","v":{"$error":"#DIV/0!"}},{"$f":"DAVERAGE($C$5:$X$50,K$5,'データ(3)'!$E66:$F67)","v":{"$error":"#DIV/0!"}},{"$f":"DAVERAGE($C$5:$X$50,L$5,'データ(3)'!$G66:$H67)","v":{"$error":"#DIV/0!"}},{"$f":"DAVERAGE($C$5:$X$50,M$5,'データ(3)'!$I66:$J67)","v":{"$error":"#DIV/0!"}},{"$f":"DAVERAGE($C$5:$X$50,N$5,'データ(3)'!$K66:$L67)","v":{"$error":"#DIV/0!"}},{"$f":"DAVERAGE($C$5:$X$50,O$5,'データ(3)'!$M66:$N67)","v":{"$error":"#DIV/0!"}},{"$f":"DAVERAGE($C$5:$X$50,P$5,'データ(3)'!$O66:$P67)","v":{"$error":"#DIV/0!"}},{"$f":"DAVERAGE($C$5:$X$50,Q$5,'データ(3)'!$Q66:$R67)","v":{"$error":"#DIV/0!"}},{"$f":"DAVERAGE($C$5:$X$50,R$5,'データ(3)'!$S66:$T67)","v":{"$error":"#DIV/0!"}},{"$f":"DAVERAGE($C$5:$X$50,S$5,'データ(3)'!$U66:$V67)","v":{"$error":"#DIV/0!"}},{"$f":"DAVERAGE($C$5:$X$50,T$5,'データ(3)'!$X66:$Y67)","v":{"$error":"#DIV/0!"}},{"$f":"DAVERAGE($C$5:$X$50,U$5,'データ(3)'!$Z66:$AA67)","v":{"$error":"#DIV/0!"}},{"$f":"DAVERAGE($C$5:$X$50,V$5,'データ(3)'!$AB66:$AC67)","v":{"$error":"#DIV/0!"}},null,{"$f":"DAVERAGE($C$5:$X$50,X$5,'データ(3)'!$AD66:$AE67)","v":{"$error":"#DIV/0!"}},null,{"$f":"DAVERAGE($Y$5:$AK$50,Z$5,'データ(3)'!$E66:$F67)","v":{"$error":"#DIV/0!"}},{"$f":"DAVERAGE($Y$5:$AK$50,AA$5,'データ(3)'!$G66:$H67)","v":{"$error":"#DIV/0!"}},{"$f":"DAVERAGE($Y$5:$AK$50,AB$5,'データ(3)'!$I66:$J67)","v":{"$error":"#DIV/0!"}},{"$f":"DAVERAGE($Y$5:$AK$50,AC$5,'データ(3)'!$K66:$L67)","v":{"$error":"#DIV/0!"}},{"$f":"DAVERAGE($Y$5:$AK$50,AD$5,'データ(3)'!$M66:$N67)","v":{"$error":"#DIV/0!"}},{"$f":"DAVERAGE($Y$5:$AK$50,AE$5,'データ(3)'!$O66:$P67)","v":{"$error":"#DIV/0!"}},{"$f":"DAVERAGE($Y$5:$AK$50,AF$5,'データ(3)'!$Q66:$R67)","v":{"$error":"#DIV/0!"}},{"$f":"DAVERAGE($Y$5:$AK$50,AG$5,'データ(3)'!$S66:$T67)","v":{"$error":"#DIV/0!"}},{"$f":"DAVERAGE($Y$5:$AK$50,AH$5,'データ(3)'!$U66:$V67)","v":{"$error":"#DIV/0!"}},{"$f":"DAVERAGE($Y$5:$AK$50,AI$5,'データ(3)'!$X66:$Y67)","v":{"$error":"#DIV/0!"}},{"$f":"DAVERAGE($Y$5:$AK$50,AJ$5,'データ(3)'!$Z66:$AA67)","v":{"$error":"#DIV/0!"}},{"$f":"DAVERAGE($Y$5:$AK$50,AK$5,'データ(3)'!$AB66:$AC67)","v":{"$error":"#DIV/0!"}},{"$f":"DAVERAGE($A$3:$AV$50,$AL$3,'データ(3)'!$B$66:$C67)/8","v":{"$error":"#DIV/0!"}},{"$f":"DAVERAGE($A$3:$AV$50,$AM$3,'データ(3)'!$B$66:$C67)/12","v":{"$error":"#DIV/0!"}},{"$f":"AVERAGEIFS(AN$6:AN$50, $C$6:$C$50, \"女\", $S$6:$S$50, \"<>\", $T$6:$T$50, \"<>\", $U$6:$U$50, \"<>\", $V$6:$V$50, \"<>\")","v":{"$error":"#DIV/0!"}},{"$f":"AVERAGEIFS(AO$6:AO$50, $C$6:$C$50, \"女\", $M$6:$M$50, \"<>\", $P$6:$P$50, \"<>\", $S$6:$S$50, \"<>\")","v":{"$error":"#DIV/0!"}},{"$f":"AVERAGEIFS(AP$6:AP$50, $C$6:$C$50, \"女\", $AA$6:$AA$50, \"<>\", $AB$6:$AB$50, \"<>\", $AE$6:$AE$50, \"<>\", $AJ$6:$AJ$50, \"<>\")","v":{"$error":"#DIV/0!"}},{"$f":"AVERAGEIFS(AQ$6:AQ$50, $C$6:$C$50, \"女\", $L$6:$L$50, \"<>\", $O$6:$O$50, \"<>\", $P$6:$P$50, \"<>\", $R$6:$R$50, \"<>\")","v":{"$error":"#DIV/0!"}},{"$f":"AVERAGEIFS(AR$6:AR$50, $C$6:$C$50, \"女\", $M$6:$M$50, \"<>\", $N$6:$N$50, \"<>\", $Q$6:$Q$50, \"<>\", $T$6:$T$50, \"<>\")","v":{"$error":"#DIV/0!"}},{"$f":"AVERAGEIFS(AS$6:AS$50, $C$6:$C$50, \"女\", $Z$6:$Z$50, \"<>\", $AA$6:$AA$50, \"<>\", $AC$6:$AC$50, \"<>\", $AD$6:$AD$50, \"<>\", $AG$6:$AG$50, \"<>\", $AJ$6:$AJ$50, \"<>\")","v":{"$error":"#DIV/0!"}},{"$f":"AVERAGEIFS(AT$6:AT$50, $C$6:$C$50, \"女\", $AB$6:$AB$50, \"<>\", $AE$6:$AE$50, \"<>\", $AF$6:$AF$50, \"<>\", $AH$6:$AH$50, \"<>\", $AI$6:$AI$50, \"<>\", $AK$6:$AK$50, \"<>\")","v":{"$error":"#DIV/0!"}},{"$f":"AVERAGEIFS(AU$6:AU$50, $C$6:$C$50, \"女\", $Z$6:$Z$50, \"<>\", $AA$6:$AA$50, \"<>\", $AB$6:$AB$50, \"<>\", $AC$6:$AC$50, \"<>\", $AD$6:$AD$50, \"<>\", $AE$6:$AE$50, \"<>\", $AF$6:$AF$50, \"<>\", $AG$6:$AG$50, \"<>\", $AH$6:$AH$50, \"<>\", $AI$6:$AI$50, \"<>\", $AJ$6:$AJ$50, \"<>\", $AK$6:$AK$50, \"<>\")","v":{"$error":"#DIV/0!"}},{"$f":"AVERAGEIFS(AV$6:AV$50, $C$6:$C$50, \"女\", $L$6:$L$50, \"<>\", $M$6:$M$50, \"<>\", $N$6:$N$50, \"<>\", $O$6:$O$50, \"<>\", $P$6:$P$50, \"<>\", $Q$6:$Q$50, \"<>\", $R$6:$R$50, \"<>\", $T$6:$T$50, \"<>\")","v":{"$error":"#DIV/0!"}}]
[null,null,"△",null,{"$f":"DCOUNTA($C$5:$J$50,$E$5,'データ(3)'!B75:C76)/K58","v":{"$error":"#DIV/0!"}},{"$f":"DCOUNTA($C$5:$J$50,$E$5,'データ(3)'!E75:F76)/K58","v":{"$error":"#DIV/0!"}},{"$f":"DCOUNTA($C$5:$J$50,$E$5,'データ(3)'!G75:H76)/K58","v":{"$error":"#DIV/0!"}},{"$f":"DCOUNTA($C$5:$J$50,$E$5,'データ(3)'!I75:J76)/K58","v":{"$error":"#DIV/0!"}},{"$f":"DCOUNTA($C$5:$J$50,$E$5,'データ(3)'!K75:L76)/K58","v":{"$error":"#DIV/0!"}},{"$f":"DCOUNTA($C$5:$J$50,$E$5,'データ(3)'!M75:N76)/K58","v":{"$error":"#DIV/0!"}}]
[null,"全体平均","◎",null,{"$f":"COUNTIF(E$6:E$50,\"◎\")/K58","v":{"$error":"#DIV/0!"}},{"$f":"COUNTIF(F$6:F$50,\"◎\")/K58","v":{"$error":"#DIV/0!"}},{"$f":"COUNTIF(G$6:G$50,\"◎\")/K58","v":{"$error":"#DIV/0!"}},{"$f":"COUNTIF(H$6:H$50,\"◎\")/K58","v":{"$error":"#DIV/0!"}},{"$f":"COUNTIF(I$6:I$50,\"◎\")/K58","v":{"$error":"#DIV/0!"}},{"$f":"COUNTIF(J$6:J$50,\"◎\")/K58","v":{"$error":"#DIV/0!"}},{"$f":"AVERAGE(K6:K50)","v":{"$error":"#DIV/0!"}},{"$f":"AVERAGE(L6:L50)","v":{"$error":"#DIV/0!"}},{"$f":"AVERAGE(M6:M50)","v":{"$error":"#DIV/0!"}},{"$error":"#DIV/0!"},{"$error":"#DIV/0!"},{"$error":"#DIV/0!"},{"$error":"#DIV/0!"},{"$error":"#DIV/0!"},{"$error":"#DIV/0!"},{"$error":"#DIV/0!"},{"$error":"#DIV/0!"},{"$error":"#DIV/0!"},null,{"$error":"#DIV/0!"},null,{"$f":"AVERAGE(Z6:Z50)","v":{"$error":"#DIV/0!"}},{"$f":"AVERAGE(AA6:AA50)","v":{"$error":"#DIV/0!"}},{"$error":"#DIV/0!"},{"$error":"#DIV/0!"},{"$error":"#DIV/0!"},{"$error":"#DIV/0!"},{"$error":"#DIV/0!"},{"$error":"#DIV/0!"},{"$error":"#DIV/0!"},{"$error":"#DIV/0!"},{"$error":"#DIV/0!"},{"$f":"AVERAGE(AK6:AK50)","v":{"$error":"#DIV/0!"}},{"$f":"AL58/$K$58/8","v":{"$error":"#DIV/0!"}},{"$f":"AM58/$K$58/12","v":{"$error":"#DIV/0!"}},{"$f":"AVERAGEIFS(AN$6:AN$50, $S$6:$S$50, \"<>\", $T$6:$T$50, \"<>\", $U$6:$U$50, \"<>\", $V$6:$V$50, \"<>\")","v":{"$error":"#DIV/0!"}},{"$f":"AVERAGEIFS(AO$6:AO$50, $M$6:$M$50, \"<>\", $P$6:$P$50, \"<>\", $S$6:$S$50, \"<>\")","v":{"$error":"#DIV/0!"}},{"$f":"AVERAGEIFS(AP$6:AP$50, $AA$6:$AA$50, \"<>\", $AB$6:$AB$50, \"<>\", $AE$6:$AE$50, \"<>\", $AJ$6:$AJ$50, \"<>\")","v":{"$error":"#DIV/0!"}},{"$f":"AVERAGEIFS(AQ$6:AQ$50, $L$6:$L$50, \"<>\", $O$6:$O$50, \"<>\", $P$6:$P$50, \"<>\", $R$6:$R$50, \"<>\")","v":{"$error":"#DIV/0!"}},{"$f":"AVERAGEIFS(AR$6:AR$50, $M$6:$M$50, \"<>\", $N$6:$N$50, \"<>\", $Q$6:$Q$50, \"<>\", $T$6:$T$50, \"<>\")","v":{"$error":"#DIV/0!"}},{"$f":"AVERAGEIFS(AS$6:AS$50, $Z$6:$Z$50, \"<>\", $AA$6:$AA$50, \"<>\", $AC$6:$AC$50, \"<>\", $AD$6:$AD$50, \"<>\", $AG$6:$AG$50, \"<>\", $AJ$6:$AJ$50, \"<>\")","v":{"$error":"#DIV/0!"}},{"$f":"AVERAGEIFS(AT$6:AT$50, $AB$6:$AB$50, \"<>\", $AE$6:$AE$50, \"<>\", $AF$6:$AF$50, \"<>\", $AH$6:$AH$50, \"<>\", $AI$6:$AI$50, \"<>\", $AK$6:$AK$50, \"<>\")","v":{"$error":"#DIV/0!"}},{"$f":"AVERAGEIFS(AU$6:AU$50, $Z$6:$Z$50, \"<>\", $AA$6:$AA$50, \"<>\", $AB$6:$AB$50, \"<>\", $AC$6:$AC$50, \"<>\", $AD$6:$AD$50, \"<>\", $AE$6:$AE$50, \"<>\", $AF$6:$AF$50, \"<>\", $AG$6:$AG$50, \"<>\", $AH$6:$AH$50, \"<>\", $AI$6:$AI$50, \"<>\", $AJ$6:$AJ$50, \"<>\", $AK$6:$AK$50, \"<>\")","v":{"$error":"#DIV/0!"}},{"$f":"AVERAGEIFS(AV$6:AV$50, $L$6:$L$50, \"<>\", $M$6:$M$50, \"<>\", $N$6:$N$50, \"<>\", $O$6:$O$50, \"<>\", $P$6:$P$50, \"<>\", $Q$6:$Q$50, \"<>\", $R$6:$R$50, \"<>\", $T$6:$T$50, \"<>\")","v":{"$error":"#DIV/0!"}}]
[null,null,"△",null,{"$f":"COUNTIF(E$6:E$50,\"△\")/K58","v":{"$error":"#DIV/0!"}},{"$f":"COUNTIF(F$6:F$50,\"△\")/K58","v":{"$error":"#DIV/0!"}},{"$f":"COUNTIF(G$6:G$50,\"△\")/K58","v":{"$error":"#DIV/0!"}},{"$f":"COUNTIF(H$6:H$50,\"△\")/K58","v":{"$error":"#DIV/0!"}},{"$f":"COUNTIF(I$6:I$50,\"△\")/K58","v":{"$error":"#DIV/0!"}},{"$f":"COUNTIF(J$6:J$50,\"△\")/K58","v":{"$error":"#DIV/0!"}},null,null,null,null,null,null,null,null,null,null,null,null,null,null,null,null,null,null,null,null,null,null,null,null,null,null,null,null,null,null,null,null,null,null,null,null,null,null,{"$f":"SUM(AW6:AW50)","v":0},{"$f":"SUM(AX6:AX50)","v":0},{"$f":"SUM(AY6:AY50)","v":0}]
[null,null,null,null,null,null,null,null,null,null,{"$f":"COUNTA(K6:K50)","v":0},null,null,null,null,null,null,null,null,null,null,null,null,null,null,null,null,null,null,null,null,null,null,"全体合計"]
[]
[]
[]
[]
[]
[null,"性別","自分づくり",null,"性別","１","性別","２","性別","３","性別","４","性別","５","性別","６","性別","７","性別","８","性別","９",null,"性別","１０","性別","１１","性別","１２","性別","１３"]
[null,"男",">=7",null,"男",">=1","男",">=1","男",">=1","男",">=1","男",">=1","男",">=1","男",">=1","男",">=1","男",">=1",null,"男",">=1","男",">=1","男",">=1","男",">=1"]
[null,"性別","自分づくり",null,"性別","１","性別","２","性別","３","性別","４","性別","５","性別","６","性別","７","性別","８","性別","９",null,"性別","１０","性別","１１","性別","１２","性別","１３"]
[null,"女",">=7",null,"女",">=1","女",">=1","女",">=1","女",">=1","女",">=1","女",">=1","女",">=1","女",">=1","女",">=1",null,"女",">=1","女",">=1","女",">=1","女",">=1"]
[]
[null,"性別","寛容",null,"性別","公正","性別","集団維持","性別","共感性","性別","課題遂行","性別","合意形成"]
[null,"男","◎",null,"男","◎","男","◎","男","◎","男","◎","男","◎"]
[null,"性別","寛容",null,"性別","公正","性別","集団維持","性別","共感性","性別","課題遂行","性別","合意形成"]
[null,"女","◎",null,"女","◎","女","◎","女","◎","女","◎","女","◎"]
[null,"性別","寛容",null,"性別","公正","性別","集団維持","性別","共感性","性別","課題遂行","性別","合意形成"]
[null,"男","△",null,"男","△","男","△","男","△","男","△","男","△"]
[null,"性別","寛容",null,"性別","公正","性別","集団維持","性別","共感性","性別","課題遂行","性別","合意形成"]
[null,"女","△",null,"女","△","女","△","女","△","女","△","女","△"]

{"sheet":"クラス(1)","index":4,"n_rows":37,"n_cols":53,"rows_kept":37,"cut":false,"hidden":false,"merged":[[0,37,0,39],[0,40,0,46],[1,0,1,1],[0,15,0,18],[0,19,0,22],[0,24,0,27],[0,0,0,5],[1,3,1,5],[0,29,0,32],[1,15,1,21],[25,5,28,5],[36,0,48,51],[13,0,20,0],[13,1,16,1],[13,3,16,3],[17,1,20,1],[17,3,20,3],[21,0,28,0],[21,1,24,1],[21,3,24,3],[25,1,28,1],[25,3,28,3],[17,5,20,5],[21,5,24,5],[13,5,16,5],[5,3,8,3],[9,1,12,1],[9,3,12,3],[2,0,2,5],[4,0,4,1],[5,5,8,5],[5,0,12,0],[5,1,8,1],[9,5,12,5]]}
["学級風土チェックまとめシート",null,null,null,null,null,null,null,null,null,null,null,null,null,null,"観察者①",null,null,null,null,null,null,null,"②",null,null,null,null,"③",null,null,null,null,null,null,null,null,"実施日　　　"]
["1回目",null,null,null,null,null,null,"◎","：十分に達成している",null,null,null,null,null,"△","：困り感がある、または課題がある",null,null,null,null,null,null,"無印　：学級の全体的印象は、おおむね達成。子どもについては、思い浮かばない。",null,null,null,null,null,null,null,null,null,null,null,null,null,null,null,null,null,null,null,null,null,null,null,null,null,null,null,null,null,"◎"]
["学級風土の状況",null,null,null,null,null,null,1,{"$f":"H3+1","v":2},{"$f":"I3+1","v":3},4,5,6,7,8,9,10,11,12,13,14,15,16,17,18,19,20,21,22,23,24,25,26,27,28,29,30,31,32,33,34,35,36,37,38,39,40,{"$f":"AU3+1","v":41},{"$f":"AV3+1","v":42},{"$f":"AW3+1","v":43},{"$f":"AX3+1","v":44},{"$f":"AY3+1","v":45},"△"]
[null,null,null,null,null,null,null,{"$f":"\"B\"& (H3+4)","v":"B5"},{"$f":"\"B\"& (I3+4)","v":"B6"},"B7","B8","B9","B10","B11","B12","B13","B14","B15","B16","B17","B18","B19","B20","B21","B22","B23","B24","B25","B26","B27","B28","B29","B30","B31","B32","B33","B34","B35","B36","B37","B38","B39","B40","B41","B42","B43","B44",{"$f":"\"B\"& (AV3+4)","v":"B45"},"B46","B47","B48","B49"]
["観察の視点",null,"観察者",{"$f":"風土説明!$C1","v":"具体の視点\n◎～△印"},null,{"$f":"風土説明!$D1","v":"社会的スキルと関連づけた観点\n◎～△印"},"学級の全般的印象",{"$f":"'データ(1)'!$B$6","v":0},{"$f":"'データ(1)'!$B$7","v":0},{"$f":"'データ(1)'!$B$8","v":0},{"$f":"'データ(1)'!$B$9","v":0},{"$f":"'データ(1)'!$B$10","v":0},{"$f":"'データ(1)'!$B$11","v":0},{"$f":"'データ(1)'!$B$12","v":0},{"$f":"'データ(1)'!$B$13","v":0},{"$f":"'データ(1)'!$B$14","v":0},{"$f":"'データ(1)'!$B$15","v":0},{"$f":"'データ(1)'!$B$16","v":0},{"$f":"'データ(1)'!$B$17","v":0},{"$f":"'データ(1)'!$B$18","v":0},{"$f":"'データ(1)'!$B$19","v":0},{"$f":"'データ(1)'!$B$20","v":0},{"$f":"'データ(1)'!$B$21","v":0},{"$f":"'データ(1)'!$B$22","v":0},{"$f":"'データ(1)'!$B$23","v":0},{"$f":"'データ(1)'!$B$24","v":0},{"$f":"'データ(1)'!$B$25","v":0},{"$f":"'データ(1)'!$B$26","v":0},{"$f":"'データ(1)'!$B$27","v":0},{"$f":"'データ(1)'!$B$28","v":0},{"$f":"'データ(1)'!$B$29","v":0},{"$f":"'データ(1)'!$B$30","v":0},{"$f":"'データ(1)'!$B$31","v":0},{"$f":"'データ(1)'!$B$32","v":0},{"$f":"'データ(1)'!$B$33","v":0},{"$f":"'データ(1)'!$B$34","v":0},{"$f":"'データ(1)'!$B$35","v":0},{"$f":"'データ(1)'!$B$36","v":0},{"$f":"'データ(1)'!$B$37","v":0},{"$f":"'データ(1)'!$B$38","v":0},{"$f":"'データ(1)'!$B$39","v":0},{"$f":"'データ(1)'!$B$40","v":0},{"$f":"'データ(1)'!$B$41","v":0},{"$f":"'データ(1)'!$B$42","v":0},{"$f":"'データ(1)'!$B$43","v":0},{"$f":"'データ(1)'!$B$44","v":0},{"$f":"'データ(1)'!$B$45","v":0},{"$f":"'データ(1)'!$B$46","v":0},{"$f":"'データ(1)'!$B$47","v":0},{"$f":"'データ(1)'!$B$48","v":0},{"$f":"'データ(1)'!$B$49","v":0},{"$f":"'データ(1)'!$B$50","v":0}]
["自\n分\nづ\nく\nり",{"$f":"風土説明!$B2","v":"Ａ\n公正\n（自己効力感）"},"①",{"$f":"風土説明!$C2","v":"よいことはよい、悪いことは悪いと言える雰囲気がある"},1,{"$f":"風土説明!$D2","v":"場の雰囲気や人の意見に流されず、自分の意見や感じ方を表明できる（①②）"}]
[null,{"$f":"風土説明!#REF!","v":{"$error":"#REF!"}},"②",{"$f":"風土説明!#REF!","v":{"$error":"#REF!"}},2,{"$f":"風土説明!#REF!","v":{"$error":"#REF!"}}]
[null,{"$f":"風土説明!$C3","v":"失敗や意見の違いを温かく認め、包み込んでいこうとする雰囲気がある"},"③",{"$f":"風土説明!$C3","v":"失敗や意見の違いを温かく認め、包み込んでいこうとする雰囲気がある"},3,{"$f":"風土説明!$C3","v":"失敗や意見の違いを温かく認め、包み込んでいこうとする雰囲気がある"}]
[null,{"$f":"風土説明!#REF!","v":{"$error":"#REF!"}},"まとめ",{"$f":"風土説明!#REF!","v":{"$error":"#REF!"}},null,{"$f":"風土説明!#REF!","v":{"$error":"#REF!"}}]
[null,{"$f":"風土説明!$B3","v":"Ｂ\n寛容\n（自尊感情）"},"①",{"$f":"風土説明!$C3","v":"失敗や意見の違いを温かく認め、包み込んでいこうとする雰囲気がある"},1,{"$f":"風土説明!$D3","v":"互いのよさや違いを認め、尊重していこうとする（③④）"}]
[null,{"$f":"風土説明!#REF!","v":{"$error":"#REF!"}},"②",{"$f":"風土説明!#REF!","v":{"$error":"#REF!"}},2,{"$f":"風土説明!#REF!","v":{"$error":"#REF!"}}]
[null,{"$f":"風土説明!$C7","v":"意見や感情の違いを認めながら、集団の意見をまとめようとする"},"③",{"$f":"風土説明!$C7","v":"意見や感情の違いを認めながら、集団の意見をまとめようとする"},3,{"$f":"風土説明!$C7","v":"意見や感情の違いを認めながら、集団の意見をまとめようとする"}]
[null,{"$f":"風土説明!#REF!","v":{"$error":"#REF!"}},"まとめ",{"$f":"風土説明!#REF!","v":{"$error":"#REF!"}},null,{"$f":"風土説明!#REF!","v":{"$error":"#REF!"}}]
["仲\n間\nづ\nく\nり",{"$f":"風土説明!$B4","v":"Ｃ\n自己表現\n（含かかわり）"},"①",{"$f":"風土説明!$C4","v":"率直かつ適切な意志の伝達や感情交流がある"},1,{"$f":"風土説明!$D4","v":"友達との明快なコミュニケーションがとれる（⑤～⑪）"}]
[null,{"$f":"風土説明!$C13","v":0},"②",{"$f":"風土説明!$C13","v":0},2,{"$f":"風土説明!$C13","v":0}]
[null,{"$f":"風土説明!$C14","v":0},"③",{"$f":"風土説明!$C14","v":0},3,{"$f":"風土説明!$C14","v":0}]
[null,{"$f":"風土説明!$C15","v":0},"まとめ",{"$f":"風土説明!$C15","v":0},null,{"$f":"風土説明!$C15","v":0}]
[null,{"$f":"風土説明!$B5","v":"Ｄ\n配慮"},"①",{"$f":"風土説明!$C5","v":"思いやりのある言動・行動が自然に現れる"},1,{"$f":"風土説明!$D5","v":"友達の気持ちを推しはかって行動ができる（⑫～⑯）"}]
[null,{"$f":"風土説明!$C21","v":0},"②",{"$f":"風土説明!$C21","v":0},2,{"$f":"風土説明!$C21","v":0}]
[null,{"$f":"風土説明!$C22","v":0},"③",{"$f":"風土説明!$C22","v":0},3,{"$f":"風土説明!$C22","v":0}]
[null,{"$f":"風土説明!$C23","v":0},"まとめ",{"$f":"風土説明!$C23","v":0},null,{"$f":"風土説明!$C23","v":0}]
["集\n団\nづ\nく\nり",{"$f":"風土説明!$B6","v":"Ｅ\n課題遂行"},"①",{"$f":"風土説明!$C6","v":"グループの目的や課題解決に意欲をもつ"},1,{"$f":"風土説明!$D6","v":"集団の課題・目標を達成するために話し合いを進めている（⑱）"}]
[null,{"$f":"風土説明!$C29","v":0},"②",{"$f":"風土説明!$C29","v":0},2,{"$f":"風土説明!$C29","v":0}]
[null,{"$f":"風土説明!$C30","v":0},"③",{"$f":"風土説明!$C30","v":0},3,{"$f":"風土説明!$C30","v":0}]
[null,{"$f":"風土説明!$C31","v":0},"まとめ",{"$f":"風土説明!$C31","v":0},null,{"$f":"風土説明!$C31","v":0}]
[null,{"$f":"風土説明!$B7","v":"Ｆ\n合意形成"},"①",{"$f":"風土説明!$C7","v":"意見や感情の違いを認めながら、集団の意見をまとめようとする"},1,{"$f":"風土説明!$D7","v":"みんなの意見を上手に取り入れて話し合いの調整をしている（⑰）"}]
[null,{"$f":"風土説明!$C37","v":0},"②",{"$f":"風土説明!$C37","v":0},2,{"$f":"風土説明!$C37","v":0}]
[null,{"$f":"風土説明!$C38","v":0},"③",{"$f":"風土説明!$C38","v":0},3,{"$f":"風土説明!$C38","v":0}]
[null,{"$f":"風土説明!$C39","v":0},"まとめ",{"$f":"風土説明!$C39","v":0},null,{"$f":"風土説明!$C39","v":0}]
[null,null,null,null,null,1,null,{"$f":"H$9","v":0},{"$f":"I$9","v":0},0,0,0,0,0,0,0,0,0,0,0,0,0,0,0,0,0,0,0,0,0,0,0,0,0,0,0,0,0,0,0,0,0,0,0,0,0,0,0,0,0,0,0]
[null,null,null,null,null,2,null,{"$f":"H$13","v":0},{"$f":"I$13","v":0},0,0,0,0,0,0,0,0,0,0,0,0,0,0,0,0,0,0,0,0,0,0,0,0,0,0,0,0,0,0,0,0,0,0,0,0,0,0,0,0,0,0,0]
[null,null,null,null,null,3,null,{"$f":"H$17","v":0},{"$f":"I$17","v":0},0,0,0,0,0,0,0,0,0,0,0,0,0,0,0,0,0,0,0,0,0,0,0,0,0,0,0,0,0,0,0,0,0,0,0,0,0,0,0,0,0,0,0]
[null,null,null,null,null,4,null,{"$f":"H$21","v":0},{"$f":"I$21","v":0},0,0,0,0,0,0,0,0,0,0,0,0,0,0,0,0,0,0,0,0,0,0,0,0,0,0,0,0,0,0,0,0,0,0,0,0,0,0,0,0,0,0,0]
[null,null,null,null,null,5,null,{"$f":"H$25","v":0},{"$f":"I$25","v":0},0,0,0,0,0,0,0,0,0,0,0,0,0,0,0,0,0,0,0,0,0,0,0,0,0,0,0,0,0,0,0,0,0,0,0,0,0,0,0,0,0,0,0]
[null,null,null,null,null,6,null,{"$f":"H$29","v":0},{"$f":"I$29","v":0},0,0,0,0,0,0,0,0,0,0,0,0,0,0,0,0,0,0,0,0,0,0,0,0,0,0,0,0,0,0,0,0,0,0,0,0,0,0,0,0,0,0,0]
[]
["課題記入欄"]

{"sheet":"クラス(2)","index":5,"n_rows":37,"n_cols":53,"rows_kept":37,"cut":false,"hidden":false,"merged":[[36,0,48,51],[1,3,1,5],[21,0,28,0],[21,1,24,1],[21,3,24,3],[21,5,24,5],[25,1,28,1],[25,3,28,3],[25,5,28,5],[17,3,20,3],[17,5,20,5],[9,5,12,5],[13,0,20,0],[13,1,16,1],[13,3,16,3],[13,5,16,5],[17,1,20,1],[5,5,8,5],[9,1,12,1],[9,3,12,3],[2,0,2,5],[4,0,4,1],[5,0,12,0],[5,1,8,1],[5,3,8,3],[0,29,0,32],[0,37,0,39],[0,40,0,46],[1,0,1,1],[0,15,0,18],[0,19,0,22],[0,24,0,27],[0,0,0,5],[1,15,1,21]]}
["学級風土チェックまとめシート",null,null,null,null,null,null,null,null,null,null,null,null,null,null,"観察者①",null,null,null,null,null,null,null,"②",null,null,null,null,"③",null,null,null,null,null,null,null,null,"実施日　　　"]
["2回目",null,null,null,null,null,null,"◎","：十分に達成している",null,null,null,null,null,"△","：困り感がある、または課題がある",null,null,null,null,null,null,"無印　：学級の全体的印象は、おおむね達成。子どもについては、思い浮かばない。",null,null,null,null,null,null,null,null,null,null,null,null,null,null,null,null,null,null,null,null,null,null,null,null,null,null,null,null,null,"◎"]
["学級風土の状況",null,null,null,null,null,null,1,{"$f":"H3+1","v":2},{"$f":"I3+1","v":3},4,5,6,7,8,9,10,11,12,13,14,15,16,17,18,19,20,21,22,23,24,25,26,27,28,29,30,31,32,33,34,35,36,37,38,39,40,{"$f":"AU3+1","v":41},{"$f":"AV3+1","v":42},{"$f":"AW3+1","v":43},{"$f":"AX3+1","v":44},{"$f":"AY3+1","v":45},"△"]
[null,null,null,null,null,null,null,{"$f":"\"B\"& (H3+4)","v":"B5"},{"$f":"\"B\"& (I3+4)","v":"B6"},"B7","B8","B9","B10","B11","B12","B13","B14","B15","B16","B17","B18","B19","B20","B21","B22","B23","B24","B25","B26","B27","B28","B29","B30","B31","B32","B33","B34","B35","B36","B37","B38","B39","B40","B41","B42","B43","B44",{"$f":"\"B\"& (AV3+4)","v":"B45"},"B46","B47","B48","B49"]
["観察の視点",null,"観察者",{"$f":"風土説明!$C1","v":"具体の視点\n◎～△印"},null,{"$f":"風土説明!$D1","v":"社会的スキルと関連づけた観点\n◎～△印"},"学級の全般的印象",{"$f":"'データ(1)'!$B$6","v":0},{"$f":"'データ(1)'!$B$7","v":0},{"$f":"'データ(1)'!$B$8","v":0},{"$f":"'データ(1)'!$B$9","v":0},{"$f":"'データ(1)'!$B$10","v":0},{"$f":"'データ(1)'!$B$11","v":0},{"$f":"'データ(1)'!$B$12","v":0},{"$f":"'データ(1)'!$B$13","v":0},{"$f":"'データ(1)'!$B$14","v":0},{"$f":"'データ(1)'!$B$15","v":0},{"$f":"'データ(1)'!$B$16","v":0},{"$f":"'データ(1)'!$B$17","v":0},{"$f":"'データ(1)'!$B$18","v":0},{"$f":"'データ(1)'!$B$19","v":0},{"$f":"'データ(1)'!$B$20","v":0},{"$f":"'データ(1)'!$B$21","v":0},{"$f":"'データ(1)'!$B$22","v":0},{"$f":"'データ(1)'!$B$23","v":0},{"$f":"'データ(1)'!$B$24","v":0},{"$f":"'データ(1)'!$B$25","v":0},{"$f":"'データ(1)'!$B$26","v":0},{"$f":"'データ(1)'!$B$27","v":0},{"$f":"'データ(1)'!$B$28","v":0},{"$f":"'データ(1)'!$B$29","v":0},{"$f":"'データ(1)'!$B$30","v":0},{"$f":"'データ(1)'!$B$31","v":0},{"$f":"'データ(1)'!$B$32","v":0},{"$f":"'データ(1)'!$B$33","v":0},{"$f":"'データ(1)'!$B$34","v":0},{"$f":"'データ(1)'!$B$35","v":0},{"$f":"'データ(1)'!$B$36","v":0},{"$f":"'データ(1)'!$B$37","v":0},{"$f":"'データ(1)'!$B$38","v":0},{"$f":"'データ(1)'!$B$39","v":0},{"$f":"'データ(1)'!$B$40","v":0},{"$f":"'データ(1)'!$B$41","v":0},{"$f":"'データ(1)'!$B$42","v":0},{"$f":"'データ(1)'!$B$43","v":0},{"$f":"'データ(1)'!$B$44","v":0},{"$f":"'データ(1)'!$B$45","v":0},{"$f":"'データ(1)'!$B$46","v":0},{"$f":"'データ(1)'!$B$47","v":0},{"$f":"'データ(1)'!$B$48","v":0},{"$f":"'データ(1)'!$B$49","v":0},{"$f":"'データ(1)'!$B$50","v":0}]
["自\n分\nづ\nく\nり",{"$f":"風土説明!$B2","v":"Ａ\n公正\n（自己効力感）"},"①",{"$f":"風土説明!$C2","v":"よいことはよい、悪いことは悪いと言える雰囲気がある"},1,{"$f":"風土説明!$D2","v":"場の雰囲気や人の意見に流されず、自分の意見や感じ方を表明できる（①②）"}]
[null,{"$f":"風土説明!#REF!","v":{"$error":"#REF!"}},"②",{"$f":"風土説明!#REF!","v":{"$error":"#REF!"}},2,{"$f":"風土説明!#REF!","v":{"$error":"#REF!"}}]
[null,{"$f":"風土説明!$C3","v":"失敗や意見の違いを温かく認め、包み込んでいこうとする雰囲気がある"},"③",{"$f":"風土説明!$C3","v":"失敗や意見の違いを温かく認め、包み込んでいこうとする雰囲気がある"},3,{"$f":"風土説明!$C3","v":"失敗や意見の違いを温かく認め、包み込んでいこうとする雰囲気がある"}]
[null,{"$f":"風土説明!#REF!","v":{"$error":"#REF!"}},"まとめ",{"$f":"風土説明!#REF!","v":{"$error":"#REF!"}},null,{"$f":"風土説明!#REF!","v":{"$error":"#REF!"}}]
[null,{"$f":"風土説明!$B3","v":"Ｂ\n寛容\n（自尊感情）"},"①",{"$f":"風土説明!$C3","v":"失敗や意見の違いを温かく認め、包み込んでいこうとする雰囲気がある"},1,{"$f":"風土説明!$D3","v":"互いのよさや違いを認め、尊重していこうとする（③④）"}]
[null,{"$f":"風土説明!#REF!","v":{"$error":"#REF!"}},"②",{"$f":"風土説明!#REF!","v":{"$error":"#REF!"}},2,{"$f":"風土説明!#REF!","v":{"$error":"#REF!"}}]
[null,{"$f":"風土説明!$C7","v":"意見や感情の違いを認めながら、集団の意見をまとめようとする"},"③",{"$f":"風土説明!$C7","v":"意見や感情の違いを認めながら、集団の意見をまとめようとする"},3,{"$f":"風土説明!$C7","v":"意見や感情の違いを認めながら、集団の意見をまとめようとする"}]
[null,{"$f":"風土説明!#REF!","v":{"$error":"#REF!"}},"まとめ",{"$f":"風土説明!#REF!","v":{"$error":"#REF!"}},null,{"$f":"風土説明!#REF!","v":{"$error":"#REF!"}}]
["仲\n間\nづ\nく\nり",{"$f":"風土説明!$B4","v":"Ｃ\n自己表現\n（含かかわり）"},"①",{"$f":"風土説明!$C4","v":"率直かつ適切な意志の伝達や感情交流がある"},1,{"$f":"風土説明!$D4","v":"友達との明快なコミュニケーションがとれる（⑤～⑪）"}]
[null,{"$f":"風土説明!$C13","v":0},"②",{"$f":"風土説明!$C13","v":0},2,{"$f":"風土説明!$C13","v":0}]
[null,{"$f":"風土説明!$C14","v":0},"③",{"$f":"風土説明!$C14","v":0},3,{"$f":"風土説明!$C14","v":0}]
[null,{"$f":"風土説明!$C15","v":0},"まとめ",{"$f":"風土説明!$C15","v":0},null,{"$f":"風土説明!$C15","v":0}]
[null,{"$f":"風土説明!$B5","v":"Ｄ\n配慮"},"①",{"$f":"風土説明!$C5","v":"思いやりのある言動・行動が自然に現れる"},1,{"$f":"風土説明!$D5","v":"友達の気持ちを推しはかって行動ができる（⑫～⑯）"}]
[null,{"$f":"風土説明!$C21","v":0},"②",{"$f":"風土説明!$C21","v":0},2,{"$f":"風土説明!$C21","v":0}]
[null,{"$f":"風土説明!$C22","v":0},"③",{"$f":"風土説明!$C22","v":0},3,{"$f":"風土説明!$C22","v":0}]
[null,{"$f":"風土説明!$C23","v":0},"まとめ",{"$f":"風土説明!$C23","v":0},null,{"$f":"風土説明!$C23","v":0}]
["集\n団\nづ\nく\nり",{"$f":"風土説明!$B6","v":"Ｅ\n課題遂行"},"①",{"$f":"風土説明!$C6","v":"グループの目的や課題解決に意欲をもつ"},1,{"$f":"風土説明!$D6","v":"集団の課題・目標を達成するために話し合いを進めている（⑱）"}]
[null,{"$f":"風土説明!$C29","v":0},"②",{"$f":"風土説明!$C29","v":0},2,{"$f":"風土説明!$C29","v":0}]
[null,{"$f":"風土説明!$C30","v":0},"③",{"$f":"風土説明!$C30","v":0},3,{"$f":"風土説明!$C30","v":0}]
[null,{"$f":"風土説明!$C31","v":0},"まとめ",{"$f":"風土説明!$C31","v":0},null,{"$f":"風土説明!$C31","v":0}]
[null,{"$f":"風土説明!$B7","v":"Ｆ\n合意形成"},"①",{"$f":"風土説明!$C7","v":"意見や感情の違いを認めながら、集団の意見をまとめようとする"},1,{"$f":"風土説明!$D7","v":"みんなの意見を上手に取り入れて話し合いの調整をしている（⑰）"}]
[null,{"$f":"風土説明!$C37","v":0},"②",{"$f":"風土説明!$C37","v":0},2,{"$f":"風土説明!$C37","v":0}]
[null,{"$f":"風土説明!$C38","v":0},"③",{"$f":"風土説明!$C38","v":0},3,{"$f":"風土説明!$C38","v":0}]
[null,{"$f":"風土説明!$C39","v":0},"まとめ",{"$f":"風土説明!$C39","v":0},null,{"$f":"風土説明!$C39","v":0}]
[null,null,null,null,null,1,null,{"$f":"H$9","v":0},{"$f":"I$9","v":0},0,0,0,0,0,0,0,0,0,0,0,0,0,0,0,0,0,0,0,0,0,0,0,0,0,0,0,0,0,0,0,0,0,0,0,0,0,0,0,0,0,0,0]
[null,null,null,null,null,3,null,{"$f":"H$13","v":0},{"$f":"I$13","v":0},0,0,0,0,0,0,0,0,0,0,0,0,0,0,0,0,0,0,0,0,0,0,0,0,0,0,0,0,0,0,0,0,0,0,0,0,0,0,0,0,0,0,0]
[null,null,null,null,null,5,null,{"$f":"H$17","v":0},{"$f":"I$17","v":0},0,0,0,0,0,0,0,0,0,0,0,0,0,0,0,0,0,0,0,0,0,0,0,0,0,0,0,0,0,0,0,0,0,0,0,0,0,0,0,0,0,0,0]
[null,null,null,null,null,7,null,{"$f":"H$21","v":0},{"$f":"I$21","v":0},0,0,0,0,0,0,0,0,0,0,0,0,0,0,0,0,0,0,0,0,0,0,0,0,0,0,0,0,0,0,0,0,0,0,0,0,0,0,0,0,0,0,0]
[null,null,null,null,null,9,null,{"$f":"H$25","v":0},{"$f":"I$25","v":0},0,0,0,0,0,0,0,0,0,0,0,0,0,0,0,0,0,0,0,0,0,0,0,0,0,0,0,0,0,0,0,0,0,0,0,0,0,0,0,0,0,0,0]
[null,null,null,null,null,11,null,{"$f":"H$29","v":0},{"$f":"I$29","v":0},0,0,0,0,0,0,0,0,0,0,0,0,0,0,0,0,0,0,0,0,0,0,0,0,0,0,0,0,0,0,0,0,0,0,0,0,0,0,0,0,0,0,0]
[]
["課題記入欄"]

{"sheet":"クラス(3)","index":6,"n_rows":37,"n_cols":53,"rows_kept":37,"cut":false,"hidden":false,"merged":[[36,0,48,51],[1,3,1,5],[21,0,28,0],[21,1,24,1],[21,3,24,3],[21,5,24,5],[25,1,28,1],[25,3,28,3],[25,5,28,5],[17,3,20,3],[17,5,20,5],[9,5,12,5],[13,0,20,0],[13,1,16,1],[13,3,16,3],[13,5,16,5],[17,1,20,1],[5,5,8,5],[9,1,12,1],[9,3,12,3],[2,0,2,5],[4,0,4,1],[5,0,12,0],[5,1,8,1],[5,3,8,3],[0,29,0,32],[0,37,0,39],[0,40,0,46],[1,0,1,1],[0,15,0,18],[0,19,0,22],[0,24,0,27],[0,0,0,5],[1,15,1,21]]}
["学級風土チェックまとめシート",null,null,null,null,null,null,null,null,null,null,null,null,null,null,"観察者①",null,null,null,null,null,null,null,"②",null,null,null,null,"③",null,null,null,null,null,null,null,null,"実施日　　　"]
["3回目",null,null,null,null,null,null,"◎","：十分に達成している",null,null,null,null,null,"△","：困り感がある、または課題がある",null,null,null,null,null,null,"無印　：学級の全体的印象は、おおむね達成。子どもについては、思い浮かばない。",null,null,null,null,null,null,null,null,null,null,null,null,null,null,null,null,null,null,null,null,null,null,null,null,null,null,null,null,null,"◎"]
["学級風土の状況",null,null,null,null,null,null,1,{"$f":"H3+1","v":2},{"$f":"I3+1","v":3},4,5,6,7,8,9,10,11,12,13,14,15,16,17,18,19,20,21,22,23,24,25,26,27,28,29,30,31,32,33,34,35,36,37,38,39,40,{"$f":"AU3+1","v":41},{"$f":"AV3+1","v":42},{"$f":"AW3+1","v":43},{"$f":"AX3+1","v":44},{"$f":"AY3+1","v":45},"△"]
[null,null,null,null,null,null,null,{"$f":"\"B\"& (H3+4)","v":"B5"},{"$f":"\"B\"& (I3+4)","v":"B6"},"B7","B8","B9","B10","B11","B12","B13","B14","B15","B16","B17","B18","B19","B20","B21","B22","B23","B24","B25","B26","B27","B28","B29","B30","B31","B32","B33","B34","B35","B36","B37","B38","B39","B40","B41","B42","B43","B44",{"$f":"\"B\"& (AV3+4)","v":"B45"},"B46","B47","B48","B49"]
["観察の視点",null,"観察者",{"$f":"風土説明!$C1","v":"具体の視点\n◎～△印"},null,{"$f":"風土説明!$D1","v":"社会的スキルと関連づけた観点\n◎～△印"},"学級の全般的印象",{"$f":"'データ(1)'!$B$6","v":0},{"$f":"'データ(1)'!$B$7","v":0},{"$f":"'データ(1)'!$B$8","v":0},{"$f":"'データ(1)'!$B$9","v":0},{"$f":"'データ(1)'!$B$10","v":0},{"$f":"'データ(1)'!$B$11","v":0},{"$f":"'データ(1)'!$B$12","v":0},{"$f":"'データ(1)'!$B$13","v":0},{"$f":"'データ(1)'!$B$14","v":0},{"$f":"'データ(1)'!$B$15","v":0},{"$f":"'データ(1)'!$B$16","v":0},{"$f":"'データ(1)'!$B$17","v":0},{"$f":"'データ(1)'!$B$18","v":0},{"$f":"'データ(1)'!$B$19","v":0},{"$f":"'データ(1)'!$B$20","v":0},{"$f":"'データ(1)'!$B$21","v":0},{"$f":"'データ(1)'!$B$22","v":0},{"$f":"'データ(1)'!$B$23","v":0},{"$f":"'データ(1)'!$B$24","v":0},{"$f":"'データ(1)'!$B$25","v":0},{"$f":"'データ(1)'!$B$26","v":0},{"$f":"'データ(1)'!$B$27","v":0},{"$f":"'データ(1)'!$B$28","v":0},{"$f":"'データ(1)'!$B$29","v":0},{"$f":"'データ(1)'!$B$30","v":0},{"$f":"'データ(1)'!$B$31","v":0},{"$f":"'データ(1)'!$B$32","v":0},{"$f":"'データ(1)'!$B$33","v":0},{"$f":"'データ(1)'!$B$34","v":0},{"$f":"'データ(1)'!$B$35","v":0},{"$f":"'データ(1)'!$B$36","v":0},{"$f":"'データ(1)'!$B$37","v":0},{"$f":"'データ(1)'!$B$38","v":0},{"$f":"'データ(1)'!$B$39","v":0},{"$f":"'データ(1)'!$B$40","v":0},{"$f":"'データ(1)'!$B$41","v":0},{"$f":"'データ(1)'!$B$42","v":0},{"$f":"'データ(1)'!$B$43","v":0},{"$f":"'データ(1)'!$B$44","v":0},{"$f":"'データ(1)'!$B$45","v":0},{"$f":"'データ(1)'!$B$46","v":0},{"$f":"'データ(1)'!$B$47","v":0},{"$f":"'データ(1)'!$B$48","v":0},{"$f":"'データ(1)'!$B$49","v":0},{"$f":"'データ(1)'!$B$50","v":0}]
["自\n分\nづ\nく\nり",{"$f":"風土説明!$B2","v":"Ａ\n公正\n（自己効力感）"},"①",{"$f":"風土説明!$C2","v":"よいことはよい、悪いことは悪いと言える雰囲気がある"},1,{"$f":"風土説明!$D2","v":"場の雰囲気や人の意見に流されず、自分の意見や感じ方を表明できる（①②）"}]
[null,{"$f":"風土説明!#REF!","v":{"$error":"#REF!"}},"②",{"$f":"風土説明!#REF!","v":{"$error":"#REF!"}},2,{"$f":"風土説明!#REF!","v":{"$error":"#REF!"}}]
[null,{"$f":"風土説明!$C3","v":"失敗や意見の違いを温かく認め、包み込んでいこうとする雰囲気がある"},"③",{"$f":"風土説明!$C3","v":"失敗や意見の違いを温かく認め、包み込んでいこうとする雰囲気がある"},3,{"$f":"風土説明!$C3","v":"失敗や意見の違いを温かく認め、包み込んでいこうとする雰囲気がある"}]
[null,{"$f":"風土説明!#REF!","v":{"$error":"#REF!"}},"まとめ",{"$f":"風土説明!#REF!","v":{"$error":"#REF!"}},null,{"$f":"風土説明!#REF!","v":{"$error":"#REF!"}}]
[null,{"$f":"風土説明!$B3","v":"Ｂ\n寛容\n（自尊感情）"},"①",{"$f":"風土説明!$C3","v":"失敗や意見の違いを温かく認め、包み込んでいこうとする雰囲気がある"},1,{"$f":"風土説明!$D3","v":"互いのよさや違いを認め、尊重していこうとする（③④）"}]
[null,{"$f":"風土説明!#REF!","v":{"$error":"#REF!"}},"②",{"$f":"風土説明!#REF!","v":{"$error":"#REF!"}},2,{"$f":"風土説明!#REF!","v":{"$error":"#REF!"}}]
[null,{"$f":"風土説明!$C7","v":"意見や感情の違いを認めながら、集団の意見をまとめようとする"},"③",{"$f":"風土説明!$C7","v":"意見や感情の違いを認めながら、集団の意見をまとめようとする"},3,{"$f":"風土説明!$C7","v":"意見や感情の違いを認めながら、集団の意見をまとめようとする"}]
[null,{"$f":"風土説明!#REF!","v":{"$error":"#REF!"}},"まとめ",{"$f":"風土説明!#REF!","v":{"$error":"#REF!"}},null,{"$f":"風土説明!#REF!","v":{"$error":"#REF!"}}]
["仲\n間\nづ\nく\nり",{"$f":"風土説明!$B4","v":"Ｃ\n自己表現\n（含かかわり）"},"①",{"$f":"風土説明!$C4","v":"率直かつ適切な意志の伝達や感情交流がある"},1,{"$f":"風土説明!$D4","v":"友達との明快なコミュニケーションがとれる（⑤～⑪）"}]
[null,{"$f":"風土説明!$C13","v":0},"②",{"$f":"風土説明!$C13","v":0},2,{"$f":"風土説明!$C13","v":0}]
[null,{"$f":"風土説明!$C14","v":0},"③",{"$f":"風土説明!$C14","v":0},3,{"$f":"風土説明!$C14","v":0}]
[null,{"$f":"風土説明!$C15","v":0},"まとめ",{"$f":"風土説明!$C15","v":0},null,{"$f":"風土説明!$C15","v":0}]
[null,{"$f":"風土説明!$B5","v":"Ｄ\n配慮"},"①",{"$f":"風土説明!$C5","v":"思いやりのある言動・行動が自然に現れる"},1,{"$f":"風土説明!$D5","v":"友達の気持ちを推しはかって行動ができる（⑫～⑯）"}]
[null,{"$f":"風土説明!$C21","v":0},"②",{"$f":"風土説明!$C21","v":0},2,{"$f":"風土説明!$C21","v":0}]
[null,{"$f":"風土説明!$C22","v":0},"③",{"$f":"風土説明!$C22","v":0},3,{"$f":"風土説明!$C22","v":0}]
[null,{"$f":"風土説明!$C23","v":0},"まとめ",{"$f":"風土説明!$C23","v":0},null,{"$f":"風土説明!$C23","v":0}]
["集\n団\nづ\nく\nり",{"$f":"風土説明!$B6","v":"Ｅ\n課題遂行"},"①",{"$f":"風土説明!$C6","v":"グループの目的や課題解決に意欲をもつ"},1,{"$f":"風土説明!$D6","v":"集団の課題・目標を達成するために話し合いを進めている（⑱）"}]
[null,{"$f":"風土説明!$C29","v":0},"②",{"$f":"風土説明!$C29","v":0},2,{"$f":"風土説明!$C29","v":0}]
[null,{"$f":"風土説明!$C30","v":0},"③",{"$f":"風土説明!$C30","v":0},3,{"$f":"風土説明!$C30","v":0}]
[null,{"$f":"風土説明!$C31","v":0},"まとめ",{"$f":"風土説明!$C31","v":0},null,{"$f":"風土説明!$C31","v":0}]
[null,{"$f":"風土説明!$B7","v":"Ｆ\n合意形成"},"①",{"$f":"風土説明!$C7","v":"意見や感情の違いを認めながら、集団の意見をまとめようとする"},1,{"$f":"風土説明!$D7","v":"みんなの意見を上手に取り入れて話し合いの調整をしている（⑰）"}]
[null,{"$f":"風土説明!$C37","v":0},"②",{"$f":"風土説明!$C37","v":0},2,{"$f":"風土説明!$C37","v":0}]
[null,{"$f":"風土説明!$C38","v":0},"③",{"$f":"風土説明!$C38","v":0},3,{"$f":"風土説明!$C38","v":0}]
[null,{"$f":"風土説明!$C39","v":0},"まとめ",{"$f":"風土説明!$C39","v":0},null,{"$f":"風土説明!$C39","v":0}]
[null,null,null,null,null,1,null,{"$f":"H$9","v":0},{"$f":"I$9","v":0},0,0,0,0,0,0,0,0,0,0,0,0,0,0,0,0,0,0,0,0,0,0,0,0,0,0,0,0,0,0,0,0,0,0,0,0,0,0,0,0,0,0,0]
[null,null,null,null,null,3,null,{"$f":"H$13","v":0},{"$f":"I$13","v":0},0,0,0,0,0,0,0,0,0,0,0,0,0,0,0,0,0,0,0,0,0,0,0,0,0,0,0,0,0,0,0,0,0,0,0,0,0,0,0,0,0,0,0]
[null,null,null,null,null,5,null,{"$f":"H$17","v":0},{"$f":"I$17","v":0},0,0,0,0,0,0,0,0,0,0,0,0,0,0,0,0,0,0,0,0,0,0,0,0,0,0,0,0,0,0,0,0,0,0,0,0,0,0,0,0,0,0,0]
[null,null,null,null,null,7,null,{"$f":"H$21","v":0},{"$f":"I$21","v":0},0,0,0,0,0,0,0,0,0,0,0,0,0,0,0,0,0,0,0,0,0,0,0,0,0,0,0,0,0,0,0,0,0,0,0,0,0,0,0,0,0,0,0]
[null,null,null,null,null,9,null,{"$f":"H$25","v":0},{"$f":"I$25","v":0},0,0,0,0,0,0,0,0,0,0,0,0,0,0,0,0,0,0,0,0,0,0,0,0,0,0,0,0,0,0,0,0,0,0,0,0,0,0,0,0,0,0,0]
[null,null,null,null,null,11,null,{"$f":"H$29","v":0},{"$f":"I$29","v":0},0,0,0,0,0,0,0,0,0,0,0,0,0,0,0,0,0,0,0,0,0,0,0,0,0,0,0,0,0,0,0,0,0,0,0,0,0,0,0,0,0,0,0]
[]
["課題記入欄"]

{"sheet":"分布図","index":7,"n_rows":44,"n_cols":73,"rows_kept":44,"cut":false,"hidden":false,"merged":[[52,24,53,25],[51,15,51,23],[51,24,51,35],[55,15,55,23],[54,15,54,23],[54,30,54,31],[54,28,54,29],[54,26,54,27],[54,24,54,25],[52,26,52,29],[52,32,52,35],[53,28,53,29],[53,26,53,27],[54,32,54,33],[54,34,54,35],[52,38,52,41],[52,44,52,47],[52,50,52,53],[52,30,53,31],[53,34,53,35],[53,32,53,33],[55,52,55,53],[56,32,56,33],[56,54,56,55],[56,56,56,57],[56,58,56,59],[55,54,55,55],[55,56,55,57],[55,58,55,59],[56,34,56,35],[56,36,56,37],[56,38,56,39],[56,40,56,41],[56,42,56,43],[56,44,56,45],[56,46,56,47],[56,48,56,49],[54,56,54,57],[54,58,54,59],[55,24,55,25],[55,26,55,27],[55,28,55,29],[55,30,55,31],[55,32,55,33],[55,34,55,35],[55,36,55,37],[55,38,55,39],[55,40,55,41],[55,42,55,43],[55,44,55,45],[55,46,55,47],[55,48,55,49],[55,50,55,51],[56,15,56,23],[56,24,56,25],[56,26,56,27],[56,28,56,29],[56,30,56,31],[53,58,53,59],[53,56,53,57],[52,56,52,59],[54,36,54,37],[54,38,54,39],[54,40,54,41],[54,42,54,43],[54,44,54,45],[54,46,54,47],[52,48,53,49],[52,54,53,55],[53,50,53,51],[54,48,54,49],[54,50,54,51],[54,52,54,53],[54,54,54,55],[27,70,27,72],[56,50,56,51],[56,52,56,53],[50,15,50,59],[29,66,30,66],[27,66,27,69],[31,66,31,68],[53,52,53,53],[51,48,51,59],[51,36,51,47],[52,36,53,37],[52,42,53,43],[53,38,53,39],[53,40,53,41],[53,44,53,45],[53,46,53,47]]}
[40]
[{"$f":"A1-1","v":39}]
[{"$f":"A2-1","v":38}]
[37]
[36]
[35]
[34]
[33]
[32]
[31]
[30]
[29]
[28]
[27]
[26]
[25]
[24]
[23]
[22]
[21]
[20]
[19]
[18]
[17]
[16]
[15]
[14]
[13,null,null,null,null,null,null,null,null,null,null,null,null,null,null,null,null,null,null,null,null,null,null,null,null,null,null,null,null,null,null,null,null,null,null,null,null,null,null,null,null,null,null,null,null,null,null,null,null,null,null,null,null,null,null,null,null,null,null,null,null,null,null,null,null,null,"基準値",null,null,null,"７割域"]
[12,null,null,null,null,null,null,null,null,null,null,null,null,null,null,null,null,null,null,null,null,null,null,null,null,null,null,null,null,null,null,null,null,null,null,null,null,null,null,null,null,null,null,null,null,null,null,null,null,null,null,null,null,null,null,null,null,null,null,null,null,null,null,null,null,null,"学年","性別","自分","仲間",null,"最小","最大"]
[11,null,null,null,null,null,null,null,null,null,null,null,null,null,null,null,null,null,null,null,null,null,null,null,null,null,null,null,null,null,null,null,null,null,null,null,null,null,null,null,null,null,null,null,null,null,null,null,null,null,null,null,null,null,null,null,null,null,null,null,null,null,null,null,null,null,{"$f":"'データ(1)'!$B$1","v":"小１"},"基準男",{"$f":"VLOOKUP($BO$30,INDIRECT($BP$30),2)","v":32},{"$f":"VLOOKUP($BO$30,INDIRECT($BP$30),3)","v":48},"自分",{"$f":"VLOOKUP($BO$30,INDIRECT($BS$32),2)","v":28},{"$f":"VLOOKUP($BO$30,INDIRECT($BS$32),3)","v":38}]
[10,null,null,null,null,null,null,null,null,null,null,null,null,null,null,null,null,null,null,null,null,null,null,null,null,null,null,null,null,null,null,null,null,null,null,null,null,null,null,null,null,null,null,null,null,null,null,null,null,null,null,null,null,null,null,null,null,null,null,null,null,null,null,null,null,null,null,"基準女",{"$f":"VLOOKUP($BO$30,INDIRECT($BP$31),2)","v":33},{"$f":"VLOOKUP($BO$30,INDIRECT($BP$31),3)","v":49},"仲間",{"$f":"VLOOKUP($BO$30,INDIRECT($BS$32),4)","v":41},{"$f":"VLOOKUP($BO$30,INDIRECT($BS$32),5)","v":58}]
[9,null,null,null,null,null,null,null,null,null,null,null,null,null,null,null,null,null,null,null,null,null,null,null,null,null,null,null,null,null,null,null,null,null,null,null,null,null,null,null,null,null,null,null,null,null,null,null,null,null,null,null,null,null,null,null,null,null,null,null,null,null,null,null,"男",null,"基準線の色",null,null,null,"割域"]
[8,null,null,null,null,null,null,null,null,null,null,null,null,null,null,null,null,null,null,null,null,null,null,null,null,null,null,null,null,null,null,null,null,null,null,null,null,null,null,null,null,null,null,null,null,null,null,null,null,null,null,null,null,null,null,null,null,null,null,null,null,null,null,null,null,null,"男","女","男女"]
[7]
[6]
[5]
[4]
[3]
[2]
[1]
[0]
[null,0,1,2,3,4,5,6,7,8,9,10,11,12,13,14,15,16,17,18,19,20,21,22,23,24,25,26,27,28,29,30,31,32,33,34,35,36,37,38,39,40,41,42,43,44,45,46,47,48,49,50,51,52,53,54,55,56,57,58,59,60]
[null,{"$f":"'データ(1)'!$B$1 &\"年\"&'データ(1)'!$B$2&\"組\"","v":"小１年1組"}]
[null,null,null,null,null,null,null,null,null,null,null,null,null,null,null,null,"データ未入力有："]

{"sheet":"分布図比較","index":8,"n_rows":58,"n_cols":70,"rows_kept":58,"cut":false,"hidden":false,"merged":[[57,50,57,51],[57,52,57,53],[57,54,57,55],[57,56,57,57],[57,58,57,59],[56,56,56,57],[56,58,56,59],[57,15,57,23],[57,24,57,25],[57,26,57,27],[57,28,57,29],[57,30,57,31],[57,32,57,33],[57,34,57,35],[57,36,57,37],[57,38,57,39],[57,40,57,41],[57,42,57,43],[57,44,57,45],[57,46,57,47],[57,48,57,49],[56,46,56,47],[56,48,56,49],[56,50,56,51],[56,52,56,53],[56,54,56,55],[55,52,55,53],[55,54,55,55],[55,56,55,57],[55,58,55,59],[56,15,56,23],[56,24,56,25],[56,26,56,27],[56,28,56,29],[56,30,56,31],[56,32,56,33],[56,34,56,35],[56,36,56,37],[56,38,56,39],[56,40,56,41],[56,42,56,43],[56,44,56,45],[55,42,55,43],[55,44,55,45],[55,46,55,47],[55,48,55,49],[55,50,55,51],[55,32,55,33],[55,34,55,35],[55,36,55,37],[55,38,55,39],[55,40,55,41],[55,15,55,23],[55,24,55,25],[55,26,55,27],[55,28,55,29],[55,30,55,31],[53,54,54,55],[53,56,53,59],[54,26,54,27],[54,28,54,29],[54,32,54,33],[54,34,54,35],[54,38,54,39],[54,40,54,41],[54,44,54,45],[54,46,54,47],[54,50,54,51],[54,52,54,53],[54,56,54,57],[54,58,54,59],[53,38,53,41],[53,42,54,43],[53,44,53,47],[53,48,54,49],[53,50,53,53],[53,24,54,25],[53,26,53,29],[53,30,54,31],[53,32,53,35],[53,36,54,37],[27,66,27,69],[29,66,30,66],[31,66,31,68],[51,15,51,59],[52,15,52,23],[52,24,52,35],[52,36,52,47],[52,48,52,59]]}
[40]
[{"$f":"A1-1","v":39}]
[{"$f":"A2-1","v":38}]
[37]
[36]
[35]
[34]
[33]
[32]
[31]
[30]
[29]
[28]
[27]
[26]
[25]
[24]
[23]
[22]
[21]
[20]
[19]
[18]
[17]
[16]
[15]
[14]
[13,null,null,null,null,null,null,null,null,null,null,null,null,null,null,null,null,null,null,null,null,null,null,null,null,null,null,null,null,null,null,null,null,null,null,null,null,null,null,null,null,null,null,null,null,null,null,null,null,null,null,null,null,null,null,null,null,null,null,null,null,null,null,null,null,null,"基準値"]
[12,null,null,null,null,null,null,null,null,null,null,null,null,null,null,null,null,null,null,null,null,null,null,null,null,null,null,null,null,null,null,null,null,null,null,null,null,null,null,null,null,null,null,null,null,null,null,null,null,null,null,null,null,null,null,null,null,null,null,null,null,null,null,null,null,null,"学年","性別","自分","仲間"]
[11,null,null,null,null,null,null,null,null,null,null,null,null,null,null,null,null,null,null,null,null,null,null,null,null,null,null,null,null,null,null,null,null,null,null,null,null,null,null,null,null,null,null,null,null,null,null,null,null,null,null,null,null,null,null,null,null,null,null,null,null,null,null,null,null,null,{"$f":"'データ(1)'!$B$1","v":"小１"},"基準男",{"$f":"VLOOKUP($BO$30,INDIRECT($BP$30),2)","v":32},{"$f":"VLOOKUP($BO$30,INDIRECT($BP$30),3)","v":48}]
[10,null,null,null,null,null,null,null,null,null,null,null,null,null,null,null,null,null,null,null,null,null,null,null,null,null,null,null,null,null,null,null,null,null,null,null,null,null,null,null,null,null,null,null,null,null,null,null,null,null,null,null,null,null,null,null,null,null,null,null,null,null,null,null,null,null,null,"基準女",{"$f":"VLOOKUP($BO$30,INDIRECT($BP$31),2)","v":33},{"$f":"VLOOKUP($BO$30,INDIRECT($BP$31),3)","v":49}]
[9,null,null,null,null,null,null,null,null,null,null,null,null,null,null,null,null,null,null,null,null,null,null,null,null,null,null,null,null,null,null,null,null,null,null,null,null,null,null,null,null,null,null,null,null,null,null,null,null,null,null,null,null,null,null,null,null,null,null,null,null,null,null,null,null,null,"基準線の色"]
[8,null,null,null,null,null,null,null,null,null,null,null,null,null,null,null,null,null,null,null,null,null,null,null,null,null,null,null,null,null,null,null,null,null,null,null,null,null,null,null,null,null,null,null,null,null,null,null,null,null,null,null,null,null,null,null,null,null,null,null,null,null,null,null,null,null,"男","女","男女"]
[7]
[6]
[5]
[4]
[3]
[2]
[1]
[0]
[null,0,1,2,3,4,5,6,7,8,9,10,11,12,13,14,15,16,17,18,19,20,21,22,23,24,25,26,27,28,29,30,31,32,33,34,35,36,37,38,39,40,41,42,43,44,45,46,47,48,49,50,51,52,53,54,55,56,57,58,59,60]
[null,{"$f":"'データ(1)'!$B$1 &\"年\"&'データ(1)'!$B$2&\"組\"","v":"小１年1組"},null,null,null,null,null,null,null,null,null,null,null,{"$f":"'データ(1)'!$B$1 &\"年\"&'データ(1)'!$B$2&\"組\"","v":"小１年1組"}]
[null,null,null,null,null,null,null,null,null,null,null,null,null,null,null,null,"データ未入力有："]
[]
[]
[]
[]
[]
[]
[]
[null,null,null,null,null,null,null,null,null,null,null,null,null,null,null,"学級平均"]
[null,null,null,null,null,null,null,null,null,null,null,null,null,null,null,null,null,null,null,null,null,null,null,null,"第１回",null,null,null,null,null,null,null,null,null,null,null,"第２回",null,null,null,null,null,null,null,null,null,null,null,"第３回"]
[null,null,null,null,null,null,null,null,null,null,null,null,null,null,null,null,null,null,null,null,null,null,null,null,"自分づくり（縦軸）",null,null,null,null,null,"仲間づくり（横軸）",null,null,null,null,null,"自分づくり（縦軸）",null,null,null,null,null,"仲間づくり（横軸）",null,null,null,null,null,"自分づくり（縦軸）",null,null,null,null,null,"仲間づくり（横軸）"]
[null,null,null,null,null,null,null,null,null,null,null,null,null,null,null,null,null,null,null,null,null,null,null,null,null,null,"自己効力感",null,"自尊感情",null,null,null,"自己表現",null,"共感・配慮",null,null,null,"自己効力感",null,"自尊感情",null,null,null,"自己表現",null,"共感・配慮",null,null,null,"自己効力感",null,"自尊感情",null,null,null,"自己表現",null,"共感・配慮"]
[null,null,null,null,null,null,null,null,null,null,null,null,null,null,null,"男子平均",null,null,null,null,null,null,null,null,{"$f":"IFERROR('データ(1)'!$AV52, \"\")","v":""},null,{"$f":"IFERROR('データ(1)'!$AQ52, \"\")","v":""},null,{"$f":"IFERROR('データ(1)'!$AR52, \"\")","v":""},null,{"$f":"IFERROR('データ(1)'!$AU52, \"\")","v":""},null,{"$f":"IFERROR('データ(1)'!$AS52, \"\")","v":""},null,{"$f":"IFERROR('データ(1)'!$AT52, \"\")","v":""},null,{"$f":"IFERROR('データ(2)'!$AV52, \"\")","v":""},null,{"$f":"IFERROR('データ(2)'!$AQ52, \"\")","v":""},null,{"$f":"IFERROR('データ(2)'!$AR52, \"\")","v":""},null,{"$f":"IFERROR('データ(2)'!$AU52, \"\")","v":""},null,{"$f":"IFERROR('データ(2)'!$AS52, \"\")","v":""},null,{"$f":"IFERROR('データ(2)'!$AT52, \"\")","v":""},null,{"$f":"IFERROR('データ(3)'!$AV52, \"\")","v":""},null,{"$f":"IFERROR('データ(3)'!$AQ52, \"\")","v":""},null,{"$f":"IFERROR('データ(3)'!$AR52, \"\")","v":""},null,{"$f":"IFERROR('データ(3)'!$AU52, \"\")","v":""},null,{"$f":"IFERROR('データ(3)'!$AS52, \"\")","v":""},null,{"$f":"IFERROR('データ(3)'!$AT52, \"\")","v":""}]
[null,null,null,null,null,null,null,null,null,null,null,null,null,null,null,"女子平均",null,null,null,null,null,null,null,null,{"$f":"IFERROR('データ(1)'!$AV54, \"\")","v":""},null,{"$f":"IFERROR('データ(1)'!$AQ54, \"\")","v":""},null,{"$f":"IFERROR('データ(1)'!$AR54, \"\")","v":""},null,{"$f":"IFERROR('データ(1)'!$AU54, \"\")","v":""},null,{"$f":"IFERROR('データ(1)'!$AS54, \"\")","v":""},null,{"$f":"IFERROR('データ(1)'!$AT54, \"\")","v":""},null,{"$f":"IFERROR('データ(2)'!$AV54, \"\")","v":""},null,{"$f":"IFERROR('データ(2)'!$AQ54, \"\")","v":""},null,{"$f":"IFERROR('データ(2)'!$AR54, \"\")","v":""},null,{"$f":"IFERROR('データ(2)'!$AU54, \"\")","v":""},null,{"$f":"IFERROR('データ(2)'!$AS54, \"\")","v":""},null,{"$f":"IFERROR('データ(2)'!$AT54, \"\")","v":""},null,{"$f":"IFERROR('データ(3)'!$AV54, \"\")","v":""},null,{"$f":"IFERROR('データ(3)'!$AQ54, \"\")","v":""},null,{"$f":"IFERROR('データ(3)'!$AR54, \"\")","v":""},null,{"$f":"IFERROR('データ(3)'!$AU54, \"\")","v":""},null,{"$f":"IFERROR('データ(3)'!$AS54, \"\")","v":""},null,{"$f":"IFERROR('データ(3)'!$AT54, \"\")","v":""}]
[null,null,null,null,null,null,null,null,null,null,null,null,null,null,null,"全体平均",null,null,null,null,null,null,null,null,{"$f":"IFERROR('データ(1)'!$AV56, \"\")","v":""},null,{"$f":"IFERROR('データ(1)'!$AQ56, \"\")","v":""},null,{"$f":"IFERROR('データ(1)'!$AR56, \"\")","v":""},null,{"$f":"IFERROR('データ(1)'!$AU56, \"\")","v":""},null,{"$f":"IFERROR('データ(1)'!$AS56, \"\")","v":""},null,{"$f":"IFERROR('データ(1)'!$AT56, \"\")","v":""},null,{"$f":"IFERROR('データ(2)'!$AV56, \"\")","v":""},null,{"$f":"IFERROR('データ(2)'!$AQ56, \"\")","v":""},null,{"$f":"IFERROR('データ(2)'!$AR56, \"\")","v":""},null,{"$f":"IFERROR('データ(2)'!$AU56, \"\")","v":""},null,{"$f":"IFERROR('データ(2)'!$AS56, \"\")","v":""},null,{"$f":"IFERROR('データ(2)'!$AT56, \"\")","v":""},null,{"$f":"IFERROR('データ(3)'!$AV56, \"\")","v":""},null,{"$f":"IFERROR('データ(3)'!$AQ56, \"\")","v":""},null,{"$f":"IFERROR('データ(3)'!$AR56, \"\")","v":""},null,{"$f":"IFERROR('データ(3)'!$AU56, \"\")","v":""},null,{"$f":"IFERROR('データ(3)'!$AS56, \"\")","v":""},null,{"$f":"IFERROR('データ(3)'!$AT56, \"\")","v":""}]

{"sheet":"プロフィール選択","index":9,"n_rows":27,"n_cols":8,"rows_kept":27,"cut":false,"hidden":false,"merged":[[1,0,1,9],[0,0,0,9],[2,0,2,9]]}
["プロフィール選択"]
["表示したい児童にチェックを入れて、「PDF表示」ボタンをクリックしてください。"]
["　　　　　　※PDFファイルの表示には、１～２分かかることがあります。"]
["✓","番号","氏名","性別","✓","番号","氏名","性別"]
[null,1,{"$f":"'データ(1)'!B6","v":0},{"$f":"'データ(1)'!C6","v":0},null,24,{"$f":"'データ(1)'!B29","v":0},{"$f":"'データ(1)'!C29","v":0}]
[null,2,{"$f":"'データ(1)'!B7","v":0},{"$f":"'データ(1)'!C7","v":0},null,25,{"$f":"'データ(1)'!B30","v":0},{"$f":"'データ(1)'!C30","v":0}]
[null,3,{"$f":"'データ(1)'!B8","v":0},{"$f":"'データ(1)'!C8","v":0},null,26,{"$f":"'データ(1)'!B31","v":0},{"$f":"'データ(1)'!C31","v":0}]
[null,4,{"$f":"'データ(1)'!B9","v":0},{"$f":"'データ(1)'!C9","v":0},null,27,{"$f":"'データ(1)'!B32","v":0},{"$f":"'データ(1)'!C32","v":0}]
[null,5,{"$f":"'データ(1)'!B10","v":0},{"$f":"'データ(1)'!C10","v":0},null,28,{"$f":"'データ(1)'!B33","v":0},{"$f":"'データ(1)'!C33","v":0}]
[null,6,{"$f":"'データ(1)'!B11","v":0},{"$f":"'データ(1)'!C11","v":0},null,29,{"$f":"'データ(1)'!B34","v":0},{"$f":"'データ(1)'!C34","v":0}]
[null,7,{"$f":"'データ(1)'!B12","v":0},{"$f":"'データ(1)'!C12","v":0},null,30,{"$f":"'データ(1)'!B35","v":0},{"$f":"'データ(1)'!C35","v":0}]
[null,8,{"$f":"'データ(1)'!B13","v":0},{"$f":"'データ(1)'!C13","v":0},null,31,{"$f":"'データ(1)'!B36","v":0},{"$f":"'データ(1)'!C36","v":0}]
[null,9,{"$f":"'データ(1)'!B14","v":0},{"$f":"'データ(1)'!C14","v":0},null,32,{"$f":"'データ(1)'!B37","v":0},{"$f":"'データ(1)'!C37","v":0}]
[null,10,{"$f":"'データ(1)'!B15","v":0},{"$f":"'データ(1)'!C15","v":0},null,33,{"$f":"'データ(1)'!B38","v":0},{"$f":"'データ(1)'!C38","v":0}]
[null,11,{"$f":"'データ(1)'!B16","v":0},{"$f":"'データ(1)'!C16","v":0},null,34,{"$f":"'データ(1)'!B39","v":0},{"$f":"'データ(1)'!C39","v":0}]
[null,12,{"$f":"'データ(1)'!B17","v":0},{"$f":"'データ(1)'!C17","v":0},null,35,{"$f":"'データ(1)'!B40","v":0},{"$f":"'データ(1)'!C40","v":0}]
[null,13,{"$f":"'データ(1)'!B18","v":0},{"$f":"'データ(1)'!C18","v":0},null,36,{"$f":"'データ(1)'!B41","v":0},{"$f":"'データ(1)'!C41","v":0}]
[null,14,{"$f":"'データ(1)'!B19","v":0},{"$f":"'データ(1)'!C19","v":0},null,37,{"$f":"'データ(1)'!B42","v":0},{"$f":"'データ(1)'!C42","v":0}]
[null,15,{"$f":"'データ(1)'!B20","v":0},{"$f":"'データ(1)'!C20","v":0},null,38,{"$f":"'データ(1)'!B43","v":0},{"$f":"'データ(1)'!C43","v":0}]
[null,16,{"$f":"'データ(1)'!B21","v":0},{"$f":"'データ(1)'!C21","v":0},null,39,{"$f":"'データ(1)'!B44","v":0},{"$f":"'データ(1)'!C44","v":0}]
[null,17,{"$f":"'データ(1)'!B22","v":0},{"$f":"'データ(1)'!C22","v":0},null,40,{"$f":"'データ(1)'!B45","v":0},{"$f":"'データ(1)'!C45","v":0}]
[null,18,{"$f":"'データ(1)'!B23","v":0},{"$f":"'データ(1)'!C23","v":0},null,41,{"$f":"'データ(1)'!B46","v":0},{"$f":"'データ(1)'!C46","v":0}]
[null,19,{"$f":"'データ(1)'!B24","v":0},{"$f":"'データ(1)'!C24","v":0},null,42,{"$f":"'データ(1)'!B47","v":0},{"$f":"'データ(1)'!C47","v":0}]
[null,20,{"$f":"'データ(1)'!B25","v":0},{"$f":"'データ(1)'!C25","v":0},null,43,{"$f":"'データ(1)'!B48","v":0},{"$f":"'データ(1)'!C48","v":0}]
[null,21,{"$f":"'データ(1)'!B26","v":0},{"$f":"'データ(1)'!C26","v":0},null,44,{"$f":"'データ(1)'!B49","v":0},{"$f":"'データ(1)'!C49","v":0}]
[null,22,{"$f":"'データ(1)'!B27","v":0},{"$f":"'データ(1)'!C27","v":0},null,45,{"$f":"'データ(1)'!B50","v":0},{"$f":"'データ(1)'!C50","v":0}]
[null,23,{"$f":"'データ(1)'!B28","v":0},{"$f":"'データ(1)'!C28","v":0}]

{"sheet":"PR","index":10,"n_rows":80,"n_cols":36,"rows_kept":80,"cut":false,"hidden":false,"merged":[[42,28,56,28],[53,0,54,10],[19,3,20,3],[21,3,22,3],[23,3,24,3],[28,2,29,2],[28,28,40,28],[29,20,30,20],[30,0,31,10],[31,20,32,20],[33,20,34,20],[9,21,9,23],[12,1,13,5],[12,13,13,17],[12,26,13,29],[17,3,17,7],[18,3,18,4],[6,18,7,18],[7,1,7,3],[7,19,9,19],[8,1,8,3],[8,4,8,5],[8,6,8,11],[8,12,10,12],[9,1,9,3],[9,4,9,5],[9,6,9,11],[4,19,6,19],[5,1,5,3],[5,4,5,5],[5,6,5,11],[6,1,6,3],[0,0,0,18],[1,6,1,7],[1,9,1,10],[3,0,3,12],[4,0,6,0],[4,1,4,3],[4,12,5,12],[4,16,5,16],[4,17,5,17],[4,18,5,18],[6,4,6,5],[6,6,6,11],[6,12,7,12],[6,16,7,16],[6,17,7,17]]}
["プロフィール表"]
[null,null,{"$f":"'データ(1)'!$B$1 & \"年\" & 'データ(1)'!$B$2 & \"組\"","v":"小１年1組"},"No.",null,"〔氏名〕",{"$f":"VLOOKUP($E$2,data1,2)","v":{"$error":"#N/A"}},null,"〔性別〕",{"$f":"VLOOKUP($E$2,data1,3)","v":{"$error":"#N/A"}}]
[]
[null,null,null,null,null,null,null,null,null,null,null,null,null,"小Ⅰ","小Ⅱ","小Ⅲ","合　計　Ⅰ","合　計　Ⅱ","合　計　Ⅲ"]
[null,null,null,null,null,null,null,null,null,null,null,null,"自分づくり",{"$f":"VLOOKUP($E$2,data1,43)","v":{"$error":"#N/A"}},{"$f":"VLOOKUP($E$2,data2,43)","v":{"$error":"#N/A"}},{"$f":"VLOOKUP($E$2,data3,43)","v":{"$error":"#N/A"}},{"$f":"N5+N6","v":{"$error":"#N/A"}},{"$f":"O5+O6","v":{"$error":"#N/A"}},{"$f":"P5+P6","v":{"$error":"#N/A"}}]
[null,null,null,null,null,null,null,null,null,null,null,null,null,{"$f":"VLOOKUP($E$2,data1,44)","v":{"$error":"#N/A"}},{"$f":"VLOOKUP($E$2,data2,44)","v":{"$error":"#N/A"}},{"$f":"VLOOKUP($E$2,data3,44)","v":{"$error":"#N/A"}},null,{"$f":"VLOOKUP($E$2,data1,39)","v":{"$error":"#N/A"}},{"$f":"VLOOKUP($E$2,data1,39)","v":{"$error":"#N/A"}}]
[null,null,null,null,null,null,null,null,null,null,null,null,"仲間づくり",{"$f":"VLOOKUP($E$2,data1,45)","v":{"$error":"#N/A"}},{"$f":"VLOOKUP($E$2,data2,45)","v":{"$error":"#N/A"}},{"$f":"VLOOKUP($E$2,data3,45)","v":{"$error":"#N/A"}},{"$f":"N7+N8","v":{"$error":"#N/A"}},{"$f":"O7+O8","v":{"$error":"#N/A"}},{"$f":"P7+P8","v":{"$error":"#N/A"}}]
[null,null,null,null,null,null,null,null,null,null,null,null,null,{"$f":"VLOOKUP($E$2,data1,46)","v":{"$error":"#N/A"}},{"$f":"VLOOKUP($E$2,data2,46)","v":{"$error":"#N/A"}},{"$f":"VLOOKUP($E$2,data3,46)","v":{"$error":"#N/A"}}]
[null,null,null,null,null,null,null,null,null,null,null,null,"参考指標",{"$f":"VLOOKUP($E$2,data1,40)","v":{"$error":"#N/A"}},{"$f":"VLOOKUP($E$2,data2,40)","v":{"$error":"#N/A"}},{"$f":"VLOOKUP($E$2,data3,40)","v":{"$error":"#N/A"}},{"$f":"N9","v":{"$error":"#N/A"}},{"$error":"#N/A"},{"$error":"#N/A"}]
[null,null,null,null,null,null,null,null,null,null,null,null,null,{"$f":"VLOOKUP($E$2,data1,42)","v":{"$error":"#N/A"}},{"$f":"VLOOKUP($E$2,data2,42)","v":{"$error":"#N/A"}},{"$f":"VLOOKUP($E$2,data3,42)","v":{"$error":"#N/A"}},{"$error":"#N/A"},{"$error":"#N/A"},{"$error":"#N/A"}]
[null,null,null,null,null,null,null,null,null,null,null,null,null,"－","－","－","－","－","－"]
[]
[null,"個人レーダーチャート",null,null,null,null,null,null,null,null,null,null,null,"学級分布図での位置",null,null,null,null,null,null,null,null,"１回目","２回目","３回目"]
[null,null,null,null,null,null,null,null,null,null,null,null,null,null,null,null,null,null,null,null,null,"自分づくり",{"$f":"Q5","v":{"$error":"#N/A"}},{"$f":"R5","v":{"$error":"#N/A"}},{"$f":"S5","v":{"$error":"#N/A"}}]
[null,null,null,null,null,null,null,null,null,null,null,null,null,null,null,null,null,null,null,null,null,"集団・仲間づくり",{"$f":"Q7","v":{"$error":"#N/A"}},{"$f":"R7","v":{"$error":"#N/A"}},{"$f":"S7","v":{"$error":"#N/A"}}]
[null,null,null,null,null,null,null,null,null,null,null,null,null,null,null,null,null,null,null,null,null,null,null,null,null,null,null,null,null,"学年","性別"]
[null,null,null,null,null,null,null,null,null,null,null,null,null,null,null,null,null,null,null,null,null,null,"素点",null,null,null,"段階",null,null,{"$f":"'データ(1)'!$B$1","v":"小１"},{"$f":"$J$2","v":{"$error":"#N/A"}}]
[null,null,null,null,null,null,null,null,null,null,null,null,null,null,null,null,null,null,null,null,null,null,"１回目","２回目","３回目",null,"１回目","２回目","３回目","段階項目","段階番号"]
[null,null,null,null,null,null,null,null,null,null,null,null,null,null,null,null,null,null,null,null,null,{"$f":"質問項目!$C$2","v":"自己効力感"},{"$f":"N5","v":{"$error":"#N/A"}},{"$error":"#N/A"},{"$error":"#N/A"},{"$f":"V19","v":"自己効力感"},{"$f":"IF(W19=0,\"\",VLOOKUP(W19,段階表,$AE19))","v":{"$error":"#N/A"}},{"$f":"IF(X19=0,\"\",VLOOKUP(X19,段階表,$AE19))","v":{"$error":"#N/A"}},{"$f":"IF(Y19=0,\"\",VLOOKUP(Y19,段階表,$AE19))","v":{"$error":"#N/A"}},{"$f":"$V19 & $AD$17 & $AE$17","v":{"$error":"#N/A"}},{"$f":"HLOOKUP(AD19,段階番号,2,0)","v":{"$error":"#N/A"}}]
[null,null,null,null,null,null,null,null,null,null,null,null,null,null,null,null,null,null,null,null,null,{"$f":"質問項目!$C$6","v":"自尊感情"},{"$error":"#N/A"},{"$error":"#N/A"},{"$error":"#N/A"},"自尊感情",{"$f":"IF(W20=0,\"\",VLOOKUP(W20,段階表,$AE20))","v":{"$error":"#N/A"}},{"$error":"#N/A"},{"$error":"#N/A"},{"$f":"$V20 & $AD$17 & $AE$17","v":{"$error":"#N/A"}},{"$f":"HLOOKUP(AD20,段階番号,2,0)","v":{"$error":"#N/A"}}]
[null,null,null,null,null,null,null,null,null,null,null,null,null,null,null,null,null,null,null,null,null,{"$f":"質問項目!$C$17","v":"自己表現"},{"$error":"#N/A"},{"$error":"#N/A"},{"$error":"#N/A"},"自己表現",{"$f":"IF(W21=0,\"\",VLOOKUP(W21,段階表,$AE21))","v":{"$error":"#N/A"}},{"$error":"#N/A"},{"$error":"#N/A"},{"$error":"#N/A"},{"$error":"#N/A"}]
[null,null,null,null,null,null,null,null,null,null,null,null,null,null,null,null,null,null,null,null,null,{"$f":"質問項目!$C$23","v":"共感・配慮"},{"$error":"#N/A"},{"$error":"#N/A"},{"$error":"#N/A"},"共感・配慮",{"$error":"#N/A"},{"$error":"#N/A"},{"$error":"#N/A"},{"$f":"$V22 & $AD$17 & $AE$17","v":{"$error":"#N/A"}},{"$error":"#N/A"}]
[null,null,null,null,null,null,null,null,null,null,null,null,null,null,null,null,null,null,null,null,null,{"$f":"質問項目!$C$13","v":"学級居心地感"},{"$error":"#N/A"},{"$error":"#N/A"},{"$error":"#N/A"},"学級居心地感",{"$error":"#N/A"},{"$error":"#N/A"},{"$error":"#N/A"},{"$error":"#N/A"},{"$error":"#N/A"}]
[null,null,null,null,null,null,null,null,null,null,null,null,null,null,null,null,null,null,null,null,null,{"$f":"質問項目!$C$29","v":"かかわり"},{"$error":"#N/A"},{"$error":"#N/A"},{"$error":"#N/A"},"かかわり",{"$f":"IF(W24=0,\"\",VLOOKUP(W24,段階表,$AE24))","v":{"$error":"#N/A"}},{"$error":"#N/A"},{"$error":"#N/A"},{"$error":"#N/A"},{"$error":"#N/A"}]
[null,null,null,null,null,null,null,null,null,null,null,null,null,null,null,null,null,null,null,null,null,"－",{"$f":"N11","v":"－"},{"$f":"O11","v":"－"},{"$f":"P11","v":"－"},"－","－","－","－","－","－"]
[null,null,null,null,null,null,null,null,null,null,null,null,null,null,null,null,null,null,null,null,null,"自分づくり",{"$f":"Q5","v":{"$error":"#N/A"}},null,null,"自分づくり",{"$error":"#N/A"},"","",{"$error":"#N/A"},{"$error":"#N/A"},null,null,null,null,"add"]
[null,null,null,null,null,null,null,null,null,null,null,null,null,null,null,null,null,null,null,null,null,"仲間づくり",{"$f":"Q7","v":{"$error":"#N/A"}},null,null,"仲間づくり",{"$error":"#N/A"},"","",{"$error":"#N/A"},{"$error":"#N/A"},"一回目","二回目","三回目","番号",10]
[null,null,null,null,null,null,null,null,null,null,null,null,null,null,null,null,null,null,null,null,null,null,null,null,null,null,null,null,null,{"$f":"質問項目!$C$2","v":"自己効力感"},{"$f":"質問項目!$F2","v":"2_とくいなことがある"},{"$f":"VLOOKUP($E$2,data1,$AJ28)","v":{"$error":"#N/A"}},{"$f":"VLOOKUP($E$2,data2,$AJ28)","v":{"$error":"#N/A"}},{"$f":"VLOOKUP($E$2,data3,$AJ28)","v":{"$error":"#N/A"}},{"$f":"質問項目!$D2","v":2},{"$f":"AI28+$AJ$27","v":12}]
[null,null,null,null,null,null,null,null,null,null,null,null,null,null,null,null,null,null,null,null,null,null,null,null,null,null,null,null,null,null,{"$f":"質問項目!$F3","v":"5_がんばればできる"},{"$f":"VLOOKUP($E$2,data1,$AJ29)","v":{"$error":"#N/A"}},{"$f":"VLOOKUP($E$2,data2,$AJ29)","v":{"$error":"#N/A"}},{"$f":"VLOOKUP($E$2,data3,$AJ29)","v":{"$error":"#N/A"}},{"$f":"質問項目!$D3","v":5},{"$f":"AI29+$AJ$27","v":15}]
[null,null,null,null,null,null,null,null,null,null,null,null,null,null,null,null,null,null,null,null,null,null,null,null,null,null,null,null,null,null,{"$f":"質問項目!$F4","v":"6_さいごまでがんばれる"},{"$f":"VLOOKUP($E$2,data1,$AJ30)","v":{"$error":"#N/A"}},{"$f":"VLOOKUP($E$2,data2,$AJ30)","v":{"$error":"#N/A"}},{"$f":"VLOOKUP($E$2,data3,$AJ30)","v":{"$error":"#N/A"}},{"$f":"質問項目!$D4","v":6},{"$f":"AI30+$AJ$27","v":16}]
["回答データ（自分づくり）",null,null,null,null,null,null,null,null,null,null,null,null,null,null,null,null,null,null,null,null,null,null,null,null,null,null,null,null,null,{"$f":"質問項目!$F5","v":"8_むずかしいこともやってみる"},{"$f":"VLOOKUP($E$2,data1,$AJ31)","v":{"$error":"#N/A"}},{"$f":"VLOOKUP($E$2,data2,$AJ31)","v":{"$error":"#N/A"}},{"$f":"VLOOKUP($E$2,data3,$AJ31)","v":{"$error":"#N/A"}},{"$f":"質問項目!$D5","v":8},{"$f":"AI31+$AJ$27","v":18}]
[null,null,null,null,null,null,null,null,null,null,null,null,null,null,null,null,null,null,null,null,null,null,null,null,null,null,null,null,null,{"$f":"質問項目!$C$6","v":"自尊感情"},{"$f":"質問項目!$F6","v":"3_じぶんがすき"},{"$f":"VLOOKUP($E$2,data1,$AJ32)","v":{"$error":"#N/A"}},{"$f":"VLOOKUP($E$2,data2,$AJ32)","v":{"$error":"#N/A"}},{"$f":"VLOOKUP($E$2,data3,$AJ32)","v":{"$error":"#N/A"}},{"$f":"質問項目!$D6","v":3},{"$f":"AI32+$AJ$27","v":13}]
[null,null,null,null,null,null,null,null,null,null,null,null,null,null,null,null,null,null,null,null,null,null,null,null,null,null,null,null,null,null,{"$f":"質問項目!$F7","v":"4_いろいろなよいところがある"},{"$f":"VLOOKUP($E$2,data1,$AJ33)","v":{"$error":"#N/A"}},{"$f":"VLOOKUP($E$2,data2,$AJ33)","v":{"$error":"#N/A"}},{"$f":"VLOOKUP($E$2,data3,$AJ33)","v":{"$error":"#N/A"}},{"$f":"質問項目!$D7","v":4},14]
[null,null,null,null,null,null,null,null,null,null,null,null,null,null,null,null,null,null,null,null,null,null,null,null,null,null,null,null,null,null,{"$f":"質問項目!$F8","v":"7_だいたいできる"},{"$error":"#N/A"},{"$error":"#N/A"},{"$error":"#N/A"},{"$f":"質問項目!$D8","v":7},17]
[null,null,null,null,null,null,null,null,null,null,null,null,null,null,null,null,null,null,null,null,null,null,null,null,null,null,null,null,null,null,{"$f":"質問項目!$F9","v":"10_クラスでだいじにされている"},{"$error":"#N/A"},{"$error":"#N/A"},{"$error":"#N/A"},{"$f":"質問項目!$D9","v":10},20]
[null,null,null,null,null,null,null,null,null,null,null,null,null,null,null,null,null,null,null,null,null,null,null,null,null,null,null,null,null,{"$f":"質問項目!$C$10","v":"－"},{"$f":"質問項目!$F10","v":0},{"$error":"#N/A"},{"$error":"#N/A"},{"$error":"#N/A"},{"$f":"質問項目!$D10","v":0},10]
[null,null,null,null,null,null,null,null,null,null,null,null,null,null,null,null,null,null,null,null,null,null,null,null,null,null,null,null,null,null,{"$f":"質問項目!$F11","v":0},{"$error":"#N/A"},{"$error":"#N/A"},{"$error":"#N/A"},{"$f":"質問項目!$D11","v":0},10]
[null,null,null,null,null,null,null,null,null,null,null,null,null,null,null,null,null,null,null,null,null,null,null,null,null,null,null,null,null,null,{"$f":"質問項目!$F12","v":0},{"$error":"#N/A"},{"$error":"#N/A"},{"$error":"#N/A"},{"$f":"質問項目!$D12","v":0},10]
[]
[]
[null,null,null,null,null,null,null,null,null,null,null,null,null,null,null,null,null,null,null,null,null,null,null,null,null,null,null,null,null,null,null,null,null,null,null,"add2"]
[null,null,null,null,null,null,null,null,null,null,null,null,null,null,null,null,null,null,null,null,null,null,null,null,null,null,null,null,null,null,null,"一回目","二回目","三回目","番号",25]
[null,null,null,null,null,null,null,null,null,null,null,null,null,null,null,null,null,null,null,null,null,null,null,null,null,null,null,null,null,{"$f":"質問項目!$C$17","v":"自己表現"},{"$f":"質問項目!F17","v":"1_かんがえをどんどんいえる"},{"$f":"VLOOKUP($E$2,data1,$AJ43)","v":{"$error":"#N/A"}},{"$f":"VLOOKUP($E$2,data2,$AJ43)","v":{"$error":"#N/A"}},{"$f":"VLOOKUP($E$2,data3,$AJ43)","v":{"$error":"#N/A"}},{"$f":"質問項目!H17","v":1},{"$f":"AI43+$AJ$42","v":26}]
[null,null,null,null,null,null,null,null,null,null,null,null,null,null,null,null,null,null,null,null,null,null,null,null,null,null,null,null,null,null,{"$f":"質問項目!F18","v":"2_あそびにさそえる"},{"$error":"#N/A"},{"$error":"#N/A"},{"$error":"#N/A"},{"$f":"質問項目!H18","v":2},{"$f":"AI44+$AJ$42","v":27}]
[null,null,null,null,null,null,null,null,null,null,null,null,null,null,null,null,null,null,null,null,null,null,null,null,null,null,null,null,null,null,{"$f":"質問項目!F19","v":"4_はっきりことわれる"},{"$error":"#N/A"},{"$error":"#N/A"},{"$error":"#N/A"},{"$f":"質問項目!H19","v":4},29]
[null,null,null,null,null,null,null,null,null,null,null,null,null,null,null,null,null,null,null,null,null,null,null,null,null,null,null,null,null,null,{"$f":"質問項目!F20","v":"5_しつもんできる"},{"$error":"#N/A"},{"$error":"#N/A"},{"$error":"#N/A"},{"$f":"質問項目!H20","v":5},30]
[null,null,null,null,null,null,null,null,null,null,null,null,null,null,null,null,null,null,null,null,null,null,null,null,null,null,null,null,null,null,{"$f":"質問項目!F21","v":"8_じぶんのいけんをいえる"},{"$error":"#N/A"},{"$error":"#N/A"},{"$error":"#N/A"},{"$f":"質問項目!H21","v":8},33]
[null,null,null,null,null,null,null,null,null,null,null,null,null,null,null,null,null,null,null,null,null,null,null,null,null,null,null,null,null,null,{"$f":"質問項目!F22","v":"11_ともだちのところにはいれる"},{"$error":"#N/A"},{"$error":"#N/A"},{"$error":"#N/A"},{"$f":"質問項目!H22","v":11},36]
[null,null,null,null,null,null,null,null,null,null,null,null,null,null,null,null,null,null,null,null,null,null,null,null,null,null,null,null,null,{"$f":"質問項目!$C$23","v":"共感・配慮"},{"$f":"質問項目!F23","v":"3_ともだちをはげませる"},{"$error":"#N/A"},{"$error":"#N/A"},{"$error":"#N/A"},{"$f":"質問項目!H23","v":3},28]
[null,null,null,null,null,null,null,null,null,null,null,null,null,null,null,null,null,null,null,null,null,null,null,null,null,null,null,null,null,null,{"$f":"質問項目!F24","v":"6_いっしょによろこぶ"},{"$error":"#N/A"},{"$error":"#N/A"},{"$error":"#N/A"},{"$f":"質問項目!H24","v":6},31]
[null,null,null,null,null,null,null,null,null,null,null,null,null,null,null,null,null,null,null,null,null,null,null,null,null,null,null,null,null,null,{"$f":"質問項目!F25","v":"7_あやまることができる"},{"$error":"#N/A"},{"$error":"#N/A"},{"$error":"#N/A"},{"$f":"質問項目!H25","v":7},32]
[null,null,null,null,null,null,null,null,null,null,null,null,null,null,null,null,null,null,null,null,null,null,null,null,null,null,null,null,null,null,{"$f":"質問項目!F26","v":"9_さいごまできくことができる"},{"$error":"#N/A"},{"$error":"#N/A"},{"$error":"#N/A"},{"$f":"質問項目!H26","v":9},34]
[null,null,null,null,null,null,null,null,null,null,null,null,null,null,null,null,null,null,null,null,null,null,null,null,null,null,null,null,null,null,{"$f":"質問項目!F27","v":"10_たのむことができる"},{"$error":"#N/A"},{"$error":"#N/A"},{"$error":"#N/A"},{"$f":"質問項目!H27","v":10},35]
["回答データ（仲間づくり）",null,null,null,null,null,null,null,null,null,null,null,null,null,null,null,null,null,null,null,null,null,null,null,null,null,null,null,null,null,{"$f":"質問項目!F28","v":"12_がまんすることができる"},{"$error":"#N/A"},{"$error":"#N/A"},{"$error":"#N/A"},{"$f":"質問項目!H28","v":12},37]
[null,null,null,null,null,null,null,null,null,null,null,null,null,null,null,null,null,null,null,null,null,null,null,null,null,null,null,null,null,{"$f":"質問項目!$C$13","v":"学級居心地感"},{"$f":"質問項目!F13","v":"9_ともだちといっしょがたのしい"},{"$error":"#N/A"},{"$error":"#N/A"},{"$error":"#N/A"},{"$f":"質問項目!H13","v":9},{"$f":"AI55+$AJ$27","v":19}]
[null,null,null,null,null,null,null,null,null,null,null,null,null,null,null,null,null,null,null,null,null,null,null,null,null,null,null,null,null,null,{"$f":"質問項目!F14","v":"10_クラスでだいじにされている"},{"$error":"#N/A"},{"$error":"#N/A"},{"$error":"#N/A"},{"$f":"質問項目!H14","v":10},{"$f":"AI56+$AJ$27","v":20}]
[null,null,null,null,null,null,null,null,null,null,null,null,null,null,null,null,null,null,null,null,null,null,null,null,null,null,null,null,null,null,{"$f":"質問項目!F15","v":"11_いまのクラスがすき"},{"$error":"#N/A"},{"$error":"#N/A"},{"$error":"#N/A"},{"$f":"質問項目!H15","v":11},{"$f":"AI57+$AJ$27","v":21}]
[null,null,null,null,null,null,null,null,null,null,null,null,null,null,null,null,null,null,null,null,null,null,null,null,null,null,null,null,null,null,{"$f":"質問項目!F16","v":"12_このクラスになってよかった"},{"$error":"#N/A"},{"$error":"#N/A"},{"$error":"#N/A"},{"$f":"質問項目!H16","v":12},{"$f":"AI58+$AJ$27","v":22}]
[]
[null,null,null,null,null,null,null,null,null,null,null,null,null,null,null,null,null,null,null,null,null,null,null,null,null,null,null,null,null,null,"人の役に立っています"]
[null,null,null,null,null,null,null,null,null,null,null,null,null,null,null,null,null,null,null,null,null,null,null,null,null,null,null,null,null,null,"進んであいさつすることができる"]
[null,null,null,null,null,null,null,null,null,null,null,null,null,null,null,null,null,null,null,null,null,null,null,null,null,null,null,null,null,null,"自分のことを話すことができる"]
[]
[null,null,null,null,null,null,null,null,null,null,null,null,null,null,null,null,null,null,null,null,null,null,null,null,null,null,null,null,null,null,null,"一回目","二回目","三回目","番号"]
[null,null,null,null,null,null,null,null,null,null,null,null,null,null,null,null,null,null,null,null,null,null,null,null,null,null,null,null,null,{"$f":"質問項目!$C$29","v":"かかわり"},{"$f":"質問項目!F29","v":"2_あそびにさそえる"},{"$f":"VLOOKUP($E$2,data1,$AJ65)","v":{"$error":"#N/A"}},{"$f":"VLOOKUP($E$2,data2,$AJ65)","v":{"$error":"#N/A"}},{"$f":"VLOOKUP($E$2,data3,$AJ65)","v":{"$error":"#N/A"}},{"$f":"質問項目!H29","v":2},{"$f":"AI65+$AJ$42","v":27}]
[null,null,null,null,null,null,null,null,null,null,null,null,null,null,null,null,null,null,null,null,null,null,null,null,null,null,null,null,null,null,{"$f":"質問項目!F30","v":"3_ともだちをはげませる"},{"$f":"VLOOKUP($E$2,data1,$AJ66)","v":{"$error":"#N/A"}},{"$f":"VLOOKUP($E$2,data2,$AJ66)","v":{"$error":"#N/A"}},{"$f":"VLOOKUP($E$2,data3,$AJ66)","v":{"$error":"#N/A"}},{"$f":"質問項目!H30","v":3},{"$f":"AI66+$AJ$42","v":28}]
[null,null,null,null,null,null,null,null,null,null,null,null,null,null,null,null,null,null,null,null,null,null,null,null,null,null,null,null,null,null,{"$f":"質問項目!F31","v":"6_いっしょによろこぶ"},{"$f":"VLOOKUP($E$2,data1,$AJ67)","v":{"$error":"#N/A"}},{"$f":"VLOOKUP($E$2,data2,$AJ67)","v":{"$error":"#N/A"}},{"$f":"VLOOKUP($E$2,data3,$AJ67)","v":{"$error":"#N/A"}},{"$f":"質問項目!H31","v":6},{"$f":"AI67+$AJ$42","v":31}]
[null,null,null,null,null,null,null,null,null,null,null,null,null,null,null,null,null,null,null,null,null,null,null,null,null,null,null,null,null,null,{"$f":"質問項目!F32","v":"11_ともだちのところにはいれる"},{"$f":"VLOOKUP($E$2,data1,$AJ68)","v":{"$error":"#N/A"}},{"$f":"VLOOKUP($E$2,data2,$AJ68)","v":{"$error":"#N/A"}},{"$f":"VLOOKUP($E$2,data3,$AJ68)","v":{"$error":"#N/A"}},{"$f":"質問項目!H32","v":11},{"$f":"AI68+$AJ$42","v":36}]
[]
[]
[]
[]
[]
[]
[]
[]
[]
[null,null,null,null,null,null,null,null,null,null,null,null,null,null,null,null,null,null,null,null,null,"基準値設定"]
[null,null,null,null,null,null,null,null,null,null,null,null,null,null,null,null,null,null,null,null,null,"選択学年","性別","範囲名","基準自分","基準仲間"]
[null,null,null,null,null,null,null,null,null,null,null,null,null,null,null,null,null,null,null,null,null,{"$f":"'データ(1)'!$B$1","v":"小１"},{"$f":"$J$2","v":{"$error":"#N/A"}},{"$f":"\"基準\" & W80","v":{"$error":"#N/A"}},{"$f":"VLOOKUP($V$80,INDIRECT($X$80),2)","v":{"$error":"#N/A"}},{"$f":"VLOOKUP($V$80,INDIRECT($X$80),3)","v":{"$error":"#N/A"}}]

{"sheet":"風土印刷","index":11,"n_rows":18,"n_cols":52,"rows_kept":18,"cut":false,"hidden":false,"merged":[[0,0,0,4],[2,28,5,34],[2,6,5,13],[1,6,1,13],[1,16,1,25],[1,28,1,34],[17,0,25,45],[1,37,1,45],[1,0,1,4],[2,37,5,45],[14,0,15,0],[12,0,13,0],[6,15,6,22],[10,0,11,0],[6,23,6,45],[2,0,5,4],[2,16,5,25],[7,0,7,5],[9,0,9,1],[6,0,6,1],[6,2,6,5],[6,7,6,13]]}
["メニューへ戻る"]
["実施手順",null,null,null,null,null,"手順１",null,null,null,null,null,null,null,null,null,"手順２",null,null,null,null,null,null,null,null,null,null,null,"手順３",null,null,null,null,null,null,null,null,"手順４"]
["・複数の教師がそれぞれチェックを行った後に話し合う場合は、１、２、３、４の手順で行います。\n・複数の教師がその場で話し合ってチェックを行う場合は、１、２、４の順で行います。",null,null,null,null,null,"観察者が普段感じている\n「学級の全般的印象印象」について\nＡ～Ｆの観点毎に、\n＜◎：十分に達成している＞\n＜無印：概ね達成している＞\n＜△：困り感がある＞\nの３段階でチェックします。",null,null,null,null,null,null,null,null,null,"手順１が終えたら、Ａ～Ｆの観点毎に\n＜十分に達成している＞＜困り感がある＞と直感的に思い浮かぶ子どもについて、それぞれ◎、△をつけます。\nすぐに名前が思い浮かばない子どもについては無印です。\n（このチェックシートを一人で行う場合は、概ね１０分～１５分の時間で終えて下さい。）",null,null,null,null,null,null,null,null,null,null,null,"複数の教師のチェックシートを集めて、「学級風土チェックまとめシート」入力画面に入力し、印刷します。\n 印刷した「学級風土チェックまとめシート」を使って話し合います。",null,null,null,null,null,null,null,null,"「学級風土チェックまとめシート」入力画面で、まとめ欄に最終評価を記入し、学級課題欄に、課題と思われることを記入します。（まとめ欄に最終チェックを入力しないと、個人プロフィール表に反映されません）"]
[]
[]
[]
["( )回目",null,"観察者名（　　　　　　　）",null,null,null,"◎","：十分に達成している",null,null,null,null,null,null,"△","：困り感、または課題がある",null,null,null,null,null,null,null,"無印：おおむね達成（子どもについては、思い浮かばない）",null,null,null,null,null,null,null,null,null,null,null,null,null,null,null,null,null,null,null,null,null,null,{"$f":"$G$7","v":"◎"},null,null,null,null,"◎"]
["学級風土の状況",null,null,null,null,null,1,{"$f":"G8+1","v":2},{"$f":"H8+1","v":3},4,5,6,7,8,9,10,11,12,13,14,15,16,17,18,19,20,21,22,23,24,25,26,27,28,29,30,31,32,33,34,35,36,37,38,39,{"$f":"AS8+1","v":40},{"$f":"AT8+1","v":41},42,{"$f":"AV8+1","v":43},{"$f":"AW8+1","v":44},{"$f":"AX8+1","v":45},"△"]
[null,null,null,null,null,null,{"$f":"\"B\"& (G8+4)","v":"B5"},{"$f":"\"B\"& (H8+4)","v":"B6"},"B7","B8","B9","B10","B11","B12","B13","B14","B15","B16","B17","B18","B19","B20","B21","B22","B23","B24","B25","B26","B27","B28","B29","B30","B31","B32","B33","B34","B35","B36","B37","B38","B39","B40","B41","B42","B43","B44",{"$f":"\"B\"& (AU8+4)","v":"B45"},"B46","B47","B48","B49"]
["観察の視点",null,{"$f":"風土説明!$C1","v":"具体の視点\n◎～△印"},null,{"$f":"風土説明!$D1","v":"社会的スキルと関連づけた観点\n◎～△印"},"学級の全般的印象",{"$f":"'データ(1)'!$B$6","v":0},{"$f":"'データ(1)'!$B$7","v":0},{"$f":"'データ(1)'!$B$8","v":0},{"$f":"'データ(1)'!$B$9","v":0},{"$f":"'データ(1)'!$B$10","v":0},{"$f":"'データ(1)'!$B$11","v":0},{"$f":"'データ(1)'!$B$12","v":0},{"$f":"'データ(1)'!$B$13","v":0},{"$f":"'データ(1)'!$B$14","v":0},{"$f":"'データ(1)'!$B$15","v":0},{"$f":"'データ(1)'!$B$16","v":0},{"$f":"'データ(1)'!$B$17","v":0},{"$f":"'データ(1)'!$B$18","v":0},{"$f":"'データ(1)'!$B$19","v":0},{"$f":"'データ(1)'!$B$20","v":0},{"$f":"'データ(1)'!$B$21","v":0},{"$f":"'データ(1)'!$B$22","v":0},{"$f":"'データ(1)'!$B$23","v":0},{"$f":"'データ(1)'!$B$24","v":0},{"$f":"'データ(1)'!$B$25","v":0},{"$f":"'データ(1)'!$B$26","v":0},{"$f":"'データ(1)'!$B$27","v":0},{"$f":"'データ(1)'!$B$28","v":0},{"$f":"'データ(1)'!$B$29","v":0},{"$f":"'データ(1)'!$B$30","v":0},{"$f":"'データ(1)'!$B$31","v":0},{"$f":"'データ(1)'!$B$32","v":0},{"$f":"'データ(1)'!$B$33","v":0},{"$f":"'データ(1)'!$B$34","v":0},{"$f":"'データ(1)'!$B$35","v":0},{"$f":"'データ(1)'!$B$36","v":0},{"$f":"'データ(1)'!$B$37","v":0},{"$f":"'データ(1)'!$B$38","v":0},{"$f":"'データ(1)'!$B$39","v":0},{"$f":"'データ(1)'!$B$40","v":0},{"$f":"'データ(1)'!$B$41","v":0},{"$f":"'データ(1)'!$B$42","v":0},{"$f":"'データ(1)'!$B$43","v":0},{"$f":"'データ(1)'!$B$44","v":0},{"$f":"'データ(1)'!$B$45","v":0},{"$f":"'データ(1)'!$B$46","v":0},{"$f":"'データ(1)'!$B$47","v":0},{"$f":"'データ(1)'!$B$48","v":0},{"$f":"'データ(1)'!$B$49","v":0},{"$f":"'データ(1)'!$B$50","v":0}]
["自\n分\nづ\nく\nり",{"$f":"風土説明!$B2","v":"Ａ\n公正\n（自己効力感）"},{"$f":"風土説明!$C2","v":"よいことはよい、悪いことは悪いと言える雰囲気がある"},{"$f":"風土説明!D2","v":"場の雰囲気や人の意見に流されず、自分の意見や感じ方を表明できる（①②）"},{"$f":"風土説明!$D2","v":"場の雰囲気や人の意見に流されず、自分の意見や感じ方を表明できる（①②）"}]
[null,{"$f":"風土説明!$B3","v":"Ｂ\n寛容\n（自尊感情）"},{"$f":"風土説明!$C3","v":"失敗や意見の違いを温かく認め、包み込んでいこうとする雰囲気がある"},{"$f":"風土説明!D3","v":"互いのよさや違いを認め、尊重していこうとする（③④）"},{"$f":"風土説明!$D3","v":"互いのよさや違いを認め、尊重していこうとする（③④）"}]
["仲\n間\nづ\nく\nり",{"$f":"風土説明!$B4","v":"Ｃ\n自己表現\n（含かかわり）"},{"$f":"風土説明!$C4","v":"率直かつ適切な意志の伝達や感情交流がある"},{"$f":"風土説明!D4","v":"友達との明快なコミュニケーションがとれる（⑤～⑪）"},{"$f":"風土説明!$D4","v":"友達との明快なコミュニケーションがとれる（⑤～⑪）"}]
[null,{"$f":"風土説明!$B5","v":"Ｄ\n配慮"},{"$f":"風土説明!$C5","v":"思いやりのある言動・行動が自然に現れる"},{"$f":"風土説明!D5","v":"友達の気持ちを推しはかって行動ができる（⑫～⑯）"},{"$f":"風土説明!$D5","v":"友達の気持ちを推しはかって行動ができる（⑫～⑯）"}]
["集\n団\nづ\nく\nり",{"$f":"風土説明!$B6","v":"Ｅ\n課題遂行"},{"$f":"風土説明!$C6","v":"グループの目的や課題解決に意欲をもつ"},{"$f":"風土説明!D6","v":"集団の課題・目標を達成するために話し合いを進めている（⑱）"},{"$f":"風土説明!$D6","v":"集団の課題・目標を達成するために話し合いを進めている（⑱）"}]
[null,{"$f":"風土説明!$B7","v":"Ｆ\n合意形成"},{"$f":"風土説明!$C7","v":"意見や感情の違いを認めながら、集団の意見をまとめようとする"},{"$f":"風土説明!D7","v":"みんなの意見を上手に取り入れて話し合いの調整をしている（⑰）"},{"$f":"風土説明!$D7","v":"みんなの意見を上手に取り入れて話し合いの調整をしている（⑰）"}]
[]
["課題記入欄"]

{"sheet":"基準値","index":12,"n_rows":30,"n_cols":8,"rows_kept":30,"cut":false,"hidden":false,"merged":[[19,5,29,5],[19,0,20,0],[10,3,18,3],[1,3,9,3],[1,4,18,4],[19,1,19,2],[19,3,19,4]]}
["学年","自分づくり","仲間づくり",null,null,"中以上","高学年","低学年"]
["小１",32,48,"男子","平均値","中１","小３","小１"]
["小２",31,47,null,null,"中２","小４","小２"]
["小３",26,46,null,null,"中３","小５"]
["小４",26,49,null,null,"高一","小６"]
["小５",26,46,null,null,"高二"]
["小６",25,46,null,null,"高三"]
["中１",25,46]
["中２",24,45]
["中３",24,46]
["小１",33,49,"女子"]
["小２",32,48]
["小３",26,46]
["小４",26,46]
["小５",25,46]
["小６",25,46]
["中１",24,46]
["中２",24,46]
["中３",23,46]
[null,"自分づくり",null,"仲間づくり",null,"７割域"]
[null,"最小","最大","最小","最大"]
["小１",28,38,41,58]
["小２",27,37,40,56]
["小３",22,32,39,54]
["小４",21,31,39,54]
["小５",21,30,39,54]
["小６",21,30,39,53]
["中１",21,29,39,53]
["中２",20,29,39,52]
["中３",21,29,40,53]

{"sheet":"段階表","index":13,"n_rows":63,"n_cols":163,"rows_kept":63,"cut":false,"hidden":false,"merged":[]}
[null,"自尊感情小１男","自尊感情小２男","自尊感情小３男","自尊感情小４男","自尊感情小５男","自尊感情小６男","自尊感情中１男","自尊感情中２男","自尊感情中３男","自尊感情小１女","自尊感情小２女","自尊感情小３女","自尊感情小４女","自尊感情小５女","自尊感情小６女","自尊感情中１女","自尊感情中２女","自尊感情中３女","自己効力感小１男","自己効力感小２男","自己効力感小３男","自己効力感小４男","自己効力感小５男","自己効力感小６男","自己効力感中１男","自己効力感中２男","自己効力感中３男","自己効力感小１女","自己効力感小２女","自己効力感小３女","自己効力感小４女","自己効力感小５女","自己効力感小６女","自己効力感中１女","自己効力感中２女","自己効力感中３女","共感・配慮小１男","共感・配慮小２男","共感・配慮小３男","共感・配慮小４男","共感・配慮小５男","共感・配慮小６男","共感・配慮中１男","共感・配慮中２男","共感・配慮中３男","共感・配慮小１女","共感・配慮小２女","共感・配慮小３女","共感・配慮小４女","共感・配慮小５女","共感・配慮小６女","共感・配慮中１女","共感・配慮中２女","共感・配慮中３女","自己表現小１男","自己表現小２男","自己表現小３男","自己表現小４男","自己表現小５男","自己表現小６男","自己表現中１男","自己表現中２男","自己表現中３男","自己表現小１女","自己表現小２女","自己表現小３女","自己表現小４女","自己表現小５女","自己表現小６女","自己表現中１女","自己表現中２女","自己表現中３女","学級居心地感小１男","学級居心地感小２男","学級居心地感小３男","学級居心地感小４男","学級居心地感小５男","学級居心地感小６男","学級居心地感中１男","学級居心地感中２男","学級居心地感中３男","学級居心地感小１女","学級居心地感小２女","学級居心地感小３女","学級居心地感小４女","学級居心地感小５女","学級居心地感小６女","学級居心地感中１女","学級居心地感中２女","学級居心地感中３女","かかわり小１男","かかわり小２男","かかわり小３男","かかわり小４男","かかわり小５男","かかわり小６男","かかわり中１男","かかわり中２男","かかわり中３男","かかわり小１女","かかわり小２女","かかわり小３女","かかわり小４女","かかわり小５女","かかわり小６女","かかわり中１女","かかわり中２女","かかわり中３女","心配傾向小１男","心配傾向小２男","心配傾向小３男","心配傾向小４男","心配傾向小５男","心配傾向小６男","心配傾向中１男","心配傾向中２男","心配傾向中３男","心配傾向小１女","心配傾向小２女","心配傾向小３女","心配傾向小４女","心配傾向小５女","心配傾向小６女","心配傾向中１女","心配傾向中２女","心配傾向中３女","自分づくり小１男","自分づくり小２男","自分づくり小３男","自分づくり小４男","自分づくり小５男","自分づくり小６男","自分づくり中１男","自分づくり中２男","自分づくり中３男","自分づくり小１女","自分づくり小２女","自分づくり小３女","自分づくり小４女","自分づくり小５女","自分づくり小６女","自分づくり中１女","自分づくり中２女","自分づくり中３女","仲間づくり小１男","仲間づくり小２男","仲間づくり小３男","仲間づくり小４男","仲間づくり小５男","仲間づくり小６男","仲間づくり中１男","仲間づくり中２男","仲間づくり中３男","仲間づくり小１女","仲間づくり小２女","仲間づくり小３女","仲間づくり小４女","仲間づくり小５女","仲間づくり小６女","仲間づくり中１女","仲間づくり中２女","仲間づくり中３女"]
[null,2,3,4,5,6,7,8,9,10,11,12,13,14,15,16,17,18,19,20,21,22,23,24,25,26,27,28,29,30,31,32,33,34,35,36,37,38,39,40,41,42,43,44,45,46,47,48,49,50,51,52,53,54,55,56,57,58,59,60,61,62,63,64,65,66,67,68,69,70,71,72,73,74,75,76,77,78,79,80,81,82,83,84,85,86,87,88,89,90,91,92,93,94,95,96,97,98,99,100,101,102,103,104,105,106,107,108,109,110,111,112,113,114,115,116,117,118,119,120,121,122,123,124,125,126,127,128,129,130,131,132,133,134,135,136,137,138,139,140,141,142,143,144,145,146,147,148,149,150,151,152,153,154,155,156,157,158,159,160,161,162,163]
[null,{"$f":"B1","v":"自尊感情小１男"},{"$f":"C1","v":"自尊感情小２男"},"自尊感情小３男","自尊感情小４男","自尊感情小５男","自尊感情小６男","自尊感情中１男","自尊感情中２男","自尊感情中３男","自尊感情小１女","自尊感情小２女","自尊感情小３女","自尊感情小４女","自尊感情小５女","自尊感情小６女","自尊感情中１女","自尊感情中２女","自尊感情中３女","自己効力感小１男","自己効力感小２男","自己効力感小３男","自己効力感小４男","自己効力感小５男","自己効力感小６男","自己効力感中１男","自己効力感中２男","自己効力感中３男","自己効力感小１女","自己効力感小２女","自己効力感小３女","自己効力感小４女","自己効力感小５女","自己効力感小６女","自己効力感中１女","自己効力感中２女","自己効力感中３女","共感・配慮小１男","共感・配慮小２男","共感・配慮小３男","共感・配慮小４男","共感・配慮小５男","共感・配慮小６男","共感・配慮中１男","共感・配慮中２男","共感・配慮中３男","共感・配慮小１女","共感・配慮小２女","共感・配慮小３女","共感・配慮小４女","共感・配慮小５女","共感・配慮小６女","共感・配慮中１女","共感・配慮中２女","共感・配慮中３女","自己表現小１男","自己表現小２男","自己表現小３男","自己表現小４男","自己表現小５男","自己表現小６男","自己表現中１男","自己表現中２男","自己表現中３男","自己表現小１女","自己表現小２女",{"$f":"BO1","v":"自己表現小３女"},"自己表現小４女","自己表現小５女","自己表現小６女","自己表現中１女","自己表現中２女","自己表現中３女","学級居心地感小１男","学級居心地感小２男","学級居心地感小３男","学級居心地感小４男","学級居心地感小５男","学級居心地感小６男","学級居心地感中１男","学級居心地感中２男","学級居心地感中３男","学級居心地感小１女","学級居心地感小２女","学級居心地感小３女","学級居心地感小４女","学級居心地感小５女","学級居心地感小６女","学級居心地感中１女","学級居心地感中２女","学級居心地感中３女","かかわり小１男","かかわり小２男","かかわり小３男","かかわり小４男","かかわり小５男","かかわり小６男","かかわり中１男","かかわり中２男","かかわり中３男","かかわり小１女","かかわり小２女","かかわり小３女","かかわり小４女","かかわり小５女","かかわり小６女","かかわり中１女","かかわり中２女","かかわり中３女","心配傾向小１男","心配傾向小２男","心配傾向小３男","心配傾向小４男","心配傾向小５男","心配傾向小６男","心配傾向中１男","心配傾向中２男","心配傾向中３男","心配傾向小１女","心配傾向小２女","心配傾向小３女","心配傾向小４女","心配傾向小５女","心配傾向小６女","心配傾向中１女","心配傾向中２女","心配傾向中３女","自分づくり小１男","自分づくり小２男","自分づくり小３男",{"$f":"EA1","v":"自分づくり小４男"},"自分づくり小５男","自分づくり小６男","自分づくり中１男","自分づくり中２男","自分づくり中３男","自分づくり小１女","自分づくり小２女","自分づくり小３女","自分づくり小４女","自分づくり小５女","自分づくり小６女","自分づくり中１女","自分づくり中２女","自分づくり中３女","仲間づくり小１男","仲間づくり小２男","仲間づくり小３男","仲間づくり小４男","仲間づくり小５男","仲間づくり小６男","仲間づくり中１男","仲間づくり中２男","仲間づくり中３男","仲間づくり小１女","仲間づくり小２女","仲間づくり小３女","仲間づくり小４女","仲間づくり小５女","仲間づくり小６女","仲間づくり中１女","仲間づくり中２女","仲間づくり中３女"]
[1]
[2]
[3,null,null,1,1,1,1,1,1,1,null,null,1,1,1,1,1,1,1,null,null,null,null,null,null,null,null,null,null,null,null,null,null,null,null,null,null,null,null,null,null,null,null,null,null,null,null,null,null,null,null,null,null,null,null,null,null,null,null,null,null,null,null,null,null,null,null,null,null,null,null,null,null,null,null,null,null,null,null,null,null,null,null,null,null,null,null,null,null,null,null,null,null,null,null,null,null,null,null,null,null,null,null,null,null,null,null,null,null,null,null,1,1,1,1,1,1,1,null,null,1,1,1,1,1,1,1]
[4,1,1,1,1,1,1,1,1,1,1,1,1,1,1,1,1,1,1,1,1,1,1,1,1,1,1,1,1,1,1,1,1,1,1,1,1,null,null,null,null,null,null,null,null,null,null,null,null,null,null,null,null,null,null,null,null,null,null,null,null,null,null,null,null,null,null,null,null,null,null,null,null,1,1,1,1,1,1,1,1,1,1,1,1,1,1,1,1,1,1,1,1,1,1,1,1,1,1,1,1,1,1,1,1,1,1,1,1,null,null,1,1,1,1,1,1,1,null,null,1,1,1,1,1,1,1]
[5,1,1,1,1,2,2,1,2,1,1,1,1,1,1,1,2,2,1,1,1,1,1,1,1,1,1,1,1,1,1,1,1,1,1,1,1,null,null,null,null,null,null,null,null,null,null,null,null,null,null,null,null,null,null,null,null,null,null,null,null,null,null,null,null,null,null,null,null,null,null,null,null,1,1,1,1,1,1,1,1,1,1,1,1,1,1,1,1,1,1,1,1,1,1,1,1,1,1,1,1,1,1,1,1,1,1,1,1,null,null,2,2,2,2,2,1,1,null,null,2,2,2,2,1,1,1]
[6,1,1,2,2,2,2,2,2,2,1,1,2,2,2,2,2,2,2,1,1,1,1,1,1,1,1,1,1,1,1,1,1,1,1,1,1,1,1,1,1,1,1,1,1,1,1,1,1,1,1,1,1,1,1,1,1,1,1,1,1,1,1,1,1,1,1,1,1,1,1,1,1,1,1,1,1,1,1,1,1,1,1,1,1,1,1,1,1,1,1,1,1,1,1,1,1,1,1,1,1,1,1,1,1,1,1,1,1,null,null,2,2,2,2,2,2,2,null,null,2,2,2,2,2,2,2]
[7,1,1,2,2,2,2,2,2,2,1,1,2,2,2,2,2,2,2,1,1,1,1,1,1,1,1,1,1,1,1,1,1,1,1,1,1,1,1,1,1,1,1,1,1,1,1,1,1,1,1,1,1,1,1,1,1,1,1,1,1,1,1,1,1,1,1,1,1,1,1,1,1,1,1,1,1,1,1,1,1,1,1,1,1,1,1,1,1,1,1,1,1,1,1,1,1,1,1,1,1,1,1,1,1,1,1,1,1,null,null,3,3,3,3,2,2,2,null,null,2,2,2,2,2,2,2]
[8,1,1,2,2,2,2,2,2,2,1,1,2,2,2,2,2,2,2,1,1,1,1,1,1,1,1,1,1,1,1,1,1,1,1,1,1,1,1,1,1,1,1,1,1,1,1,1,1,1,1,1,1,1,1,1,1,1,1,1,1,1,1,1,1,1,1,1,1,1,1,1,1,1,1,1,1,1,1,1,1,1,1,1,1,1,1,1,1,1,1,1,1,1,1,1,1,1,1,1,1,1,1,1,1,1,1,1,1,null,null,3,3,3,3,3,3,3,null,null,3,3,3,2,2,2,2]
[9,2,2,2,2,3,3,3,3,3,1,1,3,3,3,3,3,3,3,1,1,1,1,1,1,1,1,1,1,1,1,1,1,1,1,1,1,1,1,1,1,1,1,1,1,1,1,1,1,1,1,1,1,1,1,1,1,1,1,1,1,1,1,1,1,1,1,1,1,1,1,1,1,1,1,1,1,1,1,1,1,1,1,1,1,1,1,1,1,1,1,1,1,1,1,1,1,1,1,1,1,1,1,1,1,1,1,1,1,null,null,3,3,3,3,3,3,3,null,null,3,3,3,3,3,3,3]
[10,2,2,3,3,3,3,3,3,3,2,2,3,3,3,3,3,3,3,1,1,2,2,2,2,2,2,2,1,1,1,1,2,2,2,1,1,1,1,1,1,1,1,1,1,1,1,1,1,1,1,1,1,1,1,1,1,1,1,1,1,1,1,1,1,1,1,1,1,1,1,1,1,1,1,1,1,2,2,1,1,1,1,1,1,1,1,1,1,1,1,1,1,1,1,1,1,1,1,1,1,1,1,1,1,1,1,1,1,null,null,3,3,3,3,3,3,3,null,null,3,3,3,3,3,3,3]
[11,2,2,3,3,3,3,3,3,3,2,2,3,3,3,3,3,3,3,1,1,2,2,2,2,2,2,2,1,1,2,2,2,2,2,2,2,1,1,1,1,1,1,1,1,1,1,1,1,1,1,1,1,1,1,1,1,1,1,1,1,1,1,1,1,1,1,1,1,1,1,1,1,1,2,2,2,2,2,1,1,1,1,1,1,1,1,1,1,2,1,2,2,2,2,1,1,1,1,1,1,1,1,1,1,1,1,1,1,null,null,4,4,4,4,4,4,4,null,null,4,4,4,4,4,4,4]
[12,2,2,3,3,3,3,3,3,3,2,2,3,3,3,3,4,4,4,2,2,2,2,2,2,2,2,2,1,1,2,2,2,2,2,2,2,1,1,1,1,1,1,1,1,1,1,1,1,1,1,1,1,1,1,1,1,1,1,1,1,1,1,1,1,1,1,1,1,1,1,1,1,2,2,2,2,2,2,2,2,2,1,1,2,2,2,2,2,2,2,2,2,2,2,2,2,2,2,2,2,2,2,2,2,2,2,2,2,null,null,4,4,4,4,4,4,4,null,null,4,4,4,4,4,4,4]
[13,3,3,3,3,4,4,4,4,4,2,2,3,3,4,4,4,4,4,2,2,2,2,2,2,3,3,3,2,2,2,2,3,3,3,3,3,1,1,1,1,1,1,1,1,1,1,1,1,1,1,1,1,1,1,1,1,1,1,1,1,1,1,1,1,1,1,1,1,1,1,1,1,2,2,2,2,2,2,2,2,2,2,2,2,2,2,2,2,2,2,2,2,2,2,2,2,2,2,2,2,2,2,2,2,2,2,2,2,null,null,5,5,5,5,5,5,5,null,null,5,5,5,5,5,5,5]
[14,3,3,4,4,4,4,4,4,4,3,3,4,4,5,5,4,4,4,2,2,3,3,3,3,3,3,3,2,2,3,3,3,3,3,3,3,1,1,1,1,1,1,1,1,1,1,1,1,1,1,1,1,1,1,1,1,1,1,1,1,1,1,1,1,1,1,1,1,1,1,1,1,2,2,2,2,2,2,2,2,2,2,2,2,2,2,2,2,3,2,2,2,2,2,2,2,2,2,2,2,2,2,2,3,3,2,2,2,null,null,5,5,5,5,5,5,5,null,null,5,5,5,5,5,5,5]
[15,3,3,5,5,5,5,5,5,5,3,3,5,5,5,5,5,5,5,2,2,3,3,3,3,3,3,3,2,2,3,3,3,3,3,3,3,1,1,1,1,1,1,1,1,1,1,1,1,1,1,1,1,1,1,1,1,2,2,2,2,1,1,1,1,1,2,2,2,2,2,2,1,2,2,2,2,3,3,3,3,3,2,2,2,2,2,2,3,3,3,3,3,3,3,3,3,3,3,3,2,3,3,3,3,3,3,3,3,null,null,5,5,5,5,5,5,5,null,null,5,5,5,5,5,5,5]
[16,3,3,null,null,null,null,null,null,null,3,3,null,null,null,null,null,null,null,3,3,3,3,3,3,3,3,3,3,3,3,3,4,4,4,4,4,2,2,1,1,1,1,1,1,1,1,1,1,1,1,1,1,1,1,2,2,2,2,2,2,2,2,2,2,2,2,2,2,2,2,2,2,3,3,3,3,3,3,3,3,3,2,2,3,3,3,3,3,3,3,3,3,3,3,3,3,3,3,3,3,3,3,3,3,3,3,3,3]
[17,3,3,null,null,null,null,null,null,null,3,3,null,null,null,null,null,null,null,3,3,4,4,4,4,4,4,4,3,3,3,3,4,4,4,4,4,2,2,2,2,2,2,1,1,1,1,1,1,1,1,1,1,1,1,2,2,2,2,2,2,2,2,2,2,2,2,2,2,2,2,2,2,3,3,3,3,3,3,3,3,3,3,3,3,3,3,3,3,4,3,3,3,3,3,3,3,3,3,3,3,3,3,3,3,3,3,3,3]
[18,4,4,null,null,null,null,null,null,null,4,4,null,null,null,null,null,null,null,3,3,4,4,4,4,4,4,4,3,3,4,4,4,4,4,4,4,2,2,2,2,2,2,2,2,2,1,1,1,1,1,1,1,1,1,2,2,2,2,2,2,2,2,2,2,2,2,2,2,2,2,2,2,3,3,3,3,3,3,3,3,3,3,3,3,3,4,4,4,4,3,3,3,3,3,3,3,3,4,4,3,3,3,3,4,4,4,4,4]
[19,4,4,null,null,null,null,null,null,null,4,4,null,null,null,null,null,null,null,4,4,5,5,5,5,5,5,5,4,4,4,4,5,5,5,5,5,2,2,2,2,2,2,2,2,2,2,2,2,2,2,2,2,1,2,2,2,2,2,2,2,2,2,2,2,2,3,3,3,3,3,3,3,4,4,4,4,4,4,4,4,4,4,4,4,4,4,4,4,4,4,4,4,4,4,4,4,4,4,4,4,4,4,4,4,4,4,4,4]
[20,5,5,null,null,null,null,null,null,null,5,5,null,null,null,null,null,null,null,5,5,5,5,5,5,5,5,5,5,5,5,5,5,5,5,5,5,2,2,2,2,2,2,2,2,2,2,2,2,2,2,2,2,2,2,3,3,3,3,3,3,3,3,3,2,2,3,3,3,3,3,3,3,5,5,5,5,5,5,5,5,5,5,5,5,5,5,5,5,5,5,5,5,5,5,5,5,5,5,5,5,5,5,5,5,5,5,5,5]
[21,null,null,null,null,null,null,null,null,null,null,null,null,null,null,null,null,null,null,null,null,null,null,null,null,null,null,null,null,null,null,null,null,null,null,null,null,2,2,3,3,3,3,3,2,2,2,2,2,2,2,2,2,2,2,3,3,3,3,3,3,3,3,3,3,3,3,3,3,3,3,3,3]
[22,null,null,null,null,null,null,null,null,null,null,null,null,null,null,null,null,null,null,null,null,null,null,null,null,null,null,null,null,null,null,null,null,null,null,null,null,3,3,3,3,3,3,3,3,2,2,2,2,2,2,2,2,2,2,3,3,3,3,3,3,3,3,3,3,3,3,3,3,3,3,3,3]
[23,null,null,null,null,null,null,null,null,null,null,null,null,null,null,null,null,null,null,null,null,null,null,null,null,null,null,null,null,null,null,null,null,null,null,null,null,3,3,3,3,3,3,3,3,3,2,2,3,3,3,3,3,2,2,3,3,3,3,3,3,3,3,3,3,3,3,3,3,3,3,3,3]
[24,null,null,null,null,null,null,null,null,null,null,null,null,null,null,null,null,null,null,null,null,null,null,null,null,null,null,null,null,null,null,null,null,null,null,null,null,3,3,3,3,3,3,3,3,3,3,3,3,3,3,3,3,3,3,3,3,3,3,3,3,4,4,4,3,3,3,3,3,3,4,4,4]
[25,null,null,null,null,null,null,null,null,null,null,null,null,null,null,null,null,null,null,null,null,null,null,null,null,null,null,null,null,null,null,null,null,null,null,null,null,3,3,3,3,3,3,3,3,3,3,3,3,3,3,3,3,3,3,3,3,4,4,4,4,4,4,4,3,3,4,4,4,4,4,4,4]
[26,null,null,null,null,null,null,null,null,null,null,null,null,null,null,null,null,null,null,null,null,null,null,null,null,null,null,null,null,null,null,null,null,null,null,null,null,3,3,4,4,4,4,4,4,3,3,3,3,3,3,3,3,3,3,3,3,4,4,4,4,4,4,4,3,3,4,4,4,4,4,4,4]
[27,null,null,null,null,null,null,null,null,null,null,null,null,null,null,null,null,null,null,null,null,null,null,null,null,null,null,null,null,null,null,null,null,null,null,null,null,3,4,4,4,4,4,4,4,4,3,3,4,4,4,4,3,4,3,3,4,4,4,4,4,4,4,4,3,4,4,4,4,4,4,4,4]
[28,null,null,null,null,null,null,null,null,null,null,null,null,null,null,null,null,null,null,null,null,null,null,null,null,null,null,null,null,null,null,null,null,null,null,null,null,4,4,4,4,4,4,4,4,4,4,4,4,4,4,4,4,4,4,4,4,4,4,4,4,4,4,4,4,4,4,4,4,4,5,5,5]
[29,null,null,null,null,null,null,null,null,null,null,null,null,null,null,null,null,null,null,null,null,null,null,null,null,null,null,null,null,null,null,null,null,null,null,null,null,4,4,4,4,4,4,4,4,4,4,4,4,4,4,4,4,4,4,4,4,5,5,5,5,5,5,5,4,4,5,5,5,5,5,5,5]
[30,null,null,null,null,null,null,null,null,null,null,null,null,null,null,null,null,null,null,null,null,null,null,null,null,null,null,null,null,null,null,null,null,null,null,null,null,5,5,5,5,5,5,5,5,5,5,5,5,5,5,5,5,5,5,5,5,5,5,5,5,5,5,5,5,5,5,5,5,5,5,5,5]
[31]
[32]
[33]
[34]
[35]
[36]
[37]
[38]
[39]
[40]
[41]
[42]
[43]
[44]
[45]
[46]
[47]
[48]
[49]
[50]
[51]
[52]
[53]
[54]
[55]
[56]
[57]
[58]
[59]
[60]

{"sheet":"得点と段階案","index":14,"n_rows":882,"n_cols":4,"rows_kept":882,"cut":false,"hidden":false,"merged":[]}
[]
[null,"自尊感情小１男","最小値","最大値"]
[null,1,4,8]
[null,2,{"$f":"D3+1","v":9},12]
[null,3,{"$f":"D4+1","v":13},17]
[null,4,18,19]
[null,5,20,20]
[]
[null,"自尊感情小２男","最小値","最大値"]
[null,1,4,8]
[null,2,{"$f":"D10+1","v":9},12]
[null,3,{"$f":"D11+1","v":13},17]
[null,4,18,19]
[null,5,20,20]
[]
[null,"自尊感情小３男","最小値","最大値"]
[null,1,3,5]
[null,2,{"$f":"D17+1","v":6},9]
[null,3,{"$f":"D18+1","v":10},13]
[null,4,14,14]
[null,5,15,15]
[null,null,null,""]
[null,"自尊感情小４男","最小値","最大値"]
[null,1,3,5]
[null,2,{"$f":"D24+1","v":6},9]
[null,3,{"$f":"D25+1","v":10},13]
[null,4,14,14]
[null,5,15,15]
[null,null,null,""]
[null,"自尊感情小５男","最小値","最大値"]
[null,1,3,4]
[null,2,{"$f":"D31+1","v":5},8]
[null,3,{"$f":"D32+1","v":9},12]
[null,4,13,14]
[null,5,15,15]
[null,null,null,""]
[null,"自尊感情小６男","最小値","最大値"]
[null,1,3,4]
[null,2,{"$f":"D38+1","v":5},8]
[null,3,{"$f":"D39+1","v":9},12]
[null,4,13,14]
[null,5,15,15]
[null,null,null,""]
[null,"自尊感情中１男","最小値","最大値"]
[null,1,3,5]
[null,2,{"$f":"D45+1","v":6},8]
[null,3,{"$f":"D46+1","v":9},12]
[null,4,13,14]
[null,5,15,15]
[null,null,null,""]
[null,"自尊感情中２男","最小値","最大値"]
[null,1,3,4]
[null,2,{"$f":"D52+1","v":5},8]
[null,3,{"$f":"D53+1","v":9},12]
[null,4,13,14]
[null,5,15,15]
[null,null,null,""]
[null,"自尊感情中３男","最小値","最大値"]
[null,1,3,5]
[null,2,{"$f":"D59+1","v":6},8]
[null,3,{"$f":"D60+1","v":9},12]
[null,4,13,14]
[null,5,15,15]
[null,null,null,""]
[null,"自尊感情小１女","最小値","最大値"]
[null,1,4,9]
[null,2,{"$f":"D66+1","v":10},13]
[null,3,{"$f":"D67+1","v":14},17]
[null,4,18,19]
[null,5,20,20]
[null,null,null,""]
[null,"自尊感情小２女","最小値","最大値"]
[null,1,4,9]
[null,2,{"$f":"D73+1","v":10},13]
[null,3,{"$f":"D74+1","v":14},17]
[null,4,18,19]
[null,5,20,20]
[null,null,null,""]
[null,"自尊感情小３女","最小値","最大値"]
[null,1,3,5]
[null,2,{"$f":"D80+1","v":6},9]
[null,3,{"$f":"D81+1","v":10},13]
[null,4,14,14]
[null,5,15,15]
[null,null,null,""]
[null,"自尊感情小４女","最小値","最大値"]
[null,1,3,5]
[null,2,{"$f":"D87+1","v":6},9]
[null,3,{"$f":"D88+1","v":10},13]
[null,4,14,14]
[null,5,15,15]
[null,null,null,""]
[null,"自尊感情小５女","最小値","最大値"]
[null,1,3,5]
[null,2,{"$f":"D94+1","v":6},8]
[null,3,{"$f":"D95+1","v":9},12]
[null,4,13,14]
[null,5,15,15]
[null,null,null,""]
[null,"自尊感情小６女","最小値","最大値"]
[null,1,3,5]
[null,2,{"$f":"D101+1","v":6},8]
[null,3,{"$f":"D102+1","v":9},12]
[null,4,13,14]
[null,5,15,15]
[null,null,null,""]
[null,"自尊感情中１女","最小値","最大値"]
[null,1,3,4]
[null,2,{"$f":"D108+1","v":5},8]
[null,3,{"$f":"D109+1","v":9},11]
[null,4,{"$f":"D110+1","v":12},14]
[null,5,{"$f":"D111+1","v":15},15]
[null,null,null,""]
[null,"自尊感情中２女","最小値","最大値"]
[null,1,3,4]
[null,2,{"$f":"D115+1","v":5},8]
[null,3,{"$f":"D116+1","v":9},11]
[null,4,12,14]
[null,5,15,15]
[null,null,null,""]
[null,"自尊感情中３女","最小値","最大値"]
[null,1,3,5]
[null,2,{"$f":"D122+1","v":6},8]
[null,3,{"$f":"D123+1","v":9},11]
[null,4,12,14]
[null,5,15,15]
[null,null,null,""]
[null,"自己効力感小１男","最小値","最大値"]
[null,1,4,11]
[null,2,{"$f":"D129+1","v":12},15]
[null,3,{"$f":"D130+1","v":16},18]
[null,4,19,19]
[null,5,20,20]
[null,null,null,""]
[null,"自己効力感小２男","最小値","最大値"]
[null,1,4,11]
[null,2,{"$f":"D136+1","v":12},15]
[null,3,{"$f":"D137+1","v":16},18]
[null,4,19,19]
[null,5,20,20]
[null,null,null,""]
[null,"自己効力感小３男","最小値","最大値"]
[null,1,4,9]
[null,2,{"$f":"D143+1","v":10},13]
[null,3,{"$f":"D144+1","v":14},16]
[null,4,17,18]
[null,5,19,20]
[null,null,null,""]
[null,"自己効力感小４男","最小値","最大値"]
[null,1,4,9]
[null,2,{"$f":"D150+1","v":10},13]
[null,3,{"$f":"D151+1","v":14},16]
[null,4,17,18]
[null,5,19,20]
[null,null,null,""]
[null,"自己効力感小５男","最小値","最大値"]
[null,1,4,9]
[null,2,{"$f":"D157+1","v":10},13]
[null,3,{"$f":"D158+1","v":14},16]
[null,4,17,18]
[null,5,19,20]
[null,null,null,""]
[null,"自己効力感小６男","最小値","最大値"]
[null,1,4,9]
[null,2,{"$f":"D164+1","v":10},13]
[null,3,{"$f":"D165+1","v":14},16]
[null,4,17,18]
[null,5,19,20]
[null,null,null,""]
[null,"自己効力感中１男","最小値","最大値"]
[null,1,4,9]
[null,2,{"$f":"D171+1","v":10},12]
[null,3,{"$f":"D172+1","v":13},16]
[null,4,17,18]
[null,5,19,20]
[null,null,null,""]
[null,"自己効力感中２男","最小値","最大値"]
[null,1,4,9]
[null,2,{"$f":"D178+1","v":10},12]
[null,3,{"$f":"D179+1","v":13},16]
[null,4,17,18]
[null,5,19,20]
[null,null,null,""]
[null,"自己効力感中３男","最小値","最大値"]
[null,1,4,9]
[null,2,{"$f":"D185+1","v":10},12]
[null,3,{"$f":"D186+1","v":13},16]
[null,4,17,18]
[null,5,19,20]
[null,null,null,""]
[null,"自己効力感小１女","最小値","最大値"]
[null,1,4,12]
[null,2,{"$f":"D192+1","v":13},15]
[null,3,{"$f":"D193+1","v":16},18]
[null,4,19,19]
[null,5,20,20]
[null,null,null,""]
[null,"自己効力感小２女","最小値","最大値"]
[null,1,4,12]
[null,2,{"$f":"D199+1","v":13},15]
[null,3,{"$f":"D200+1","v":16},18]
[null,4,19,19]
[null,5,20,20]
[null,null,null,""]
[null,"自己効力感小３女","最小値","最大値"]
[null,1,4,10]
[null,2,{"$f":"D206+1","v":11},13]
[null,3,{"$f":"D207+1","v":14},17]
[null,4,18,19]
[null,5,20,20]
[null,null,null,""]
[null,"自己効力感小４女","最小値","最大値"]
[null,1,4,10]
[null,2,{"$f":"D213+1","v":11},13]
[null,3,{"$f":"D214+1","v":14},17]
[null,4,18,19]
[null,5,20,20]
[null,null,null,""]
[null,"自己効力感小５女","最小値","最大値"]
[null,1,4,9]
[null,2,{"$f":"D220+1","v":10},12]
[null,3,{"$f":"D221+1","v":13},15]
[null,4,16,18]
[null,5,19,20]
[null,null,null,""]
[null,"自己効力感小６女","最小値","最大値"]
[null,1,4,9]
[null,2,{"$f":"D227+1","v":10},12]
[null,3,{"$f":"D228+1","v":13},15]
[null,4,16,18]
[null,5,19,20]
[null,null,null,""]
[null,"自己効力感中１女","最小値","最大値"]
[null,1,4,9]
[null,2,{"$f":"D234+1","v":10},12]
[null,3,{"$f":"D235+1","v":13},15]
[null,4,16,18]
[null,5,19,20]
[null,null,null,""]
[null,"自己効力感中２女","最小値","最大値"]
[null,1,4,10]
[null,2,{"$f":"D241+1","v":11},12]
[null,3,{"$f":"D242+1","v":13},15]
[null,4,16,18]
[null,5,19,20]
[null,null,null,""]
[null,"自己効力感中３女","最小値","最大値"]
[null,1,4,10]
[null,2,{"$f":"D248+1","v":11},12]
[null,3,{"$f":"D249+1","v":13},15]
[null,4,16,18]
[null,5,19,20]
[null,null,null,""]
[null,"共感・配慮小１男","最小値","最大値"]
[null,1,6,15]
[null,2,{"$f":"D255+1","v":16},21]
[null,3,{"$f":"D256+1","v":22},27]
[null,4,28,29]
[null,5,30,30]
[null,null,null,""]
[null,"共感・配慮小２男","最小値","最大値"]
[null,1,6,15]
[null,2,{"$f":"D262+1","v":16},21]
[null,3,{"$f":"D263+1","v":22},26]
[null,4,27,29]
[null,5,30,30]
[null,null,null,""]
[null,"共感・配慮小３男","最小値","最大値"]
[null,1,6,16]
[null,2,{"$f":"D269+1","v":17},20]
[null,3,{"$f":"D270+1","v":21},25]
[null,4,26,29]
[null,5,30,30]
[null,null,null,""]
[null,"共感・配慮小４男","最小値","最大値"]
[null,1,6,16]
[null,2,{"$f":"D276+1","v":17},20]
[null,3,{"$f":"D277+1","v":21},25]
[null,4,26,29]
[null,5,30,30]
[null,null,null,""]
[null,"共感・配慮小５男","最小値","最大値"]
[null,1,6,16]
[null,2,{"$f":"D283+1","v":17},20]
[null,3,{"$f":"D284+1","v":21},25]
[null,4,26,29]
[null,5,30,30]
[null,null,null,""]
[null,"共感・配慮小６男","最小値","最大値"]
[null,1,6,16]
[null,2,{"$f":"D290+1","v":17},20]
[null,3,{"$f":"D291+1","v":21},25]
[null,4,26,29]
[null,5,30,30]
[null,null,null,""]
[null,"共感・配慮中１男","最小値","最大値"]
[null,1,6,17]
[null,2,{"$f":"D297+1","v":18},21]
[null,3,{"$f":"D298+1","v":22},25]
[null,4,26,29]
[null,5,30,30]
[null,null,null,""]
[null,"共感・配慮中２男","最小値","最大値"]
[null,1,6,17]
[null,2,{"$f":"D304+1","v":18},21]
[null,3,{"$f":"D305+1","v":22},25]
[null,4,26,29]
[null,5,30,30]
[null,null,null,""]
[null,"共感・配慮中３男","最小値","最大値"]
[null,1,6,17]
[null,2,{"$f":"D311+1","v":18},22]
[null,3,{"$f":"D312+1","v":23},26]
[null,4,27,29]
[null,5,30,30]
[null,null,null,""]
[null,"共感・配慮小１女","最小値","最大値"]
[null,1,6,18]
[null,2,{"$f":"D318+1","v":19},23]
[null,3,{"$f":"D319+1","v":24},27]
[null,4,28,29]
[null,5,30,30]
[null,null,null,""]
[null,"共感・配慮小２女","最小値","最大値"]
[null,1,6,18]
[null,2,{"$f":"D325+1","v":19},23]
[null,3,{"$f":"D326+1","v":24},27]
[null,4,28,29]
[null,5,30,30]
[null,null,null,""]
[null,"共感・配慮小３女","最小値","最大値"]
[null,1,6,18]
[null,2,{"$f":"D332+1","v":19},22]
[null,3,{"$f":"D333+1","v":23},27]
[null,4,28,29]
[null,5,30,30]
[null,null,null,""]
[null,"共感・配慮小４女","最小値","最大値"]
[null,1,6,18]
[null,2,{"$f":"D339+1","v":19},22]
[null,3,{"$f":"D340+1","v":23},27]
[null,4,28,29]
[null,5,30,30]
[null,null,null,""]
[null,"共感・配慮小５女","最小値","最大値"]
[null,1,6,18]
[null,2,{"$f":"D346+1","v":19},22]
[null,3,{"$f":"D347+1","v":23},27]
[null,4,28,29]
[null,5,30,30]
[null,null,null,""]
[null,"共感・配慮小６女","最小値","最大値"]
[null,1,6,18]
[null,2,{"$f":"D353+1","v":19},22]
[null,3,{"$f":"D354+1","v":23},27]
[null,4,28,29]
[null,5,30,30]
[null,null,null,""]
[null,"共感・配慮中１女","最小値","最大値"]
[null,1,6,18]
[null,2,{"$f":"D360+1","v":19},22]
[null,3,{"$f":"D361+1","v":23},27]
[null,4,28,29]
[null,5,30,30]
[null,null,null,""]
[null,"共感・配慮中２女","最小値","最大値"]
[null,1,6,19]
[null,2,{"$f":"D367+1","v":20},23]
[null,3,{"$f":"D368+1","v":24},26]
[null,4,27,29]
[null,5,30,30]
[null,null,null,""]
[null,"共感・配慮中３女","最小値","最大値"]
[null,1,6,18]
[null,2,{"$f":"D374+1","v":19},23]
[null,3,{"$f":"D375+1","v":24},27]
[null,4,28,29]
[null,5,30,30]
[null,null,null,""]
[null,"自己表現小１男","最小値","最大値"]
[null,1,6,15]
[null,2,{"$f":"D381+1","v":16},19]
[null,3,{"$f":"D382+1","v":20},27]
[null,4,28,29]
[null,5,30,30]
[null,null,null,""]
[null,"自己表現小２男","最小値","最大値"]
[null,1,6,15]
[null,2,{"$f":"D388+1","v":16},19]
[null,3,{"$f":"D389+1","v":20},26]
[null,4,27,29]
[null,5,30,30]
[null,null,null,""]
[null,"自己表現小３男","最小値","最大値"]
[null,1,6,14]
[null,2,{"$f":"D395+1","v":15},19]
[null,3,{"$f":"D396+1","v":20},25]
[null,4,26,28]
[null,5,29,30]
[null,null,null,""]
[null,"自己表現小４男","最小値","最大値"]
[null,1,6,14]
[null,2,{"$f":"D402+1","v":15},19]
[null,3,{"$f":"D403+1","v":20},25]
[null,4,26,28]
[null,5,29,30]
[null,null,null,""]
[null,"自己表現小５男","最小値","最大値"]
[null,1,6,14]
[null,2,{"$f":"D409+1","v":15},19]
[null,3,{"$f":"D410+1","v":20},25]
[null,4,26,28]
[null,5,29,30]
[null,null,null,""]
[null,"自己表現小６男","最小値","最大値"]
[null,1,6,14]
[null,2,{"$f":"D416+1","v":15},19]
[null,3,{"$f":"D417+1","v":20},25]
[null,4,26,28]
[null,5,29,30]
[null,null,null,""]
[null,"自己表現中１男","最小値","最大値"]
[null,1,6,15]
[null,2,{"$f":"D423+1","v":16},19]
[null,3,{"$f":"D424+1","v":20},24]
[null,4,25,28]
[null,5,29,30]
[null,null,null,""]
[null,"自己表現中２男","最小値","最大値"]
[null,1,6,15]
[null,2,{"$f":"D430+1","v":16},19]
[null,3,{"$f":"D431+1","v":20},24]
[null,4,25,28]
[null,5,29,30]
[null,null,null,""]
[null,"自己表現中３男","最小値","最大値"]
[null,1,6,15]
[null,2,{"$f":"D437+1","v":16},19]
[null,3,{"$f":"D438+1","v":20},24]
[null,4,25,28]
[null,5,29,30]
[null,null,null,""]
[null,"自己表現小１女","最小値","最大値"]
[null,1,6,15]
[null,2,{"$f":"D444+1","v":16},20]
[null,3,{"$f":"D445+1","v":21},27]
[null,4,28,29]
[null,5,30,30]
[null,null,null,""]
[null,"自己表現小２女","最小値","最大値"]
[null,1,6,15]
[null,2,{"$f":"D451+1","v":16},20]
[null,3,{"$f":"D452+1","v":21},26]
[null,4,27,29]
[null,5,30,30]
[null,null,null,""]
[null,"自己表現小３女","最小値","最大値"]
[null,1,6,14]
[null,2,{"$f":"D458+1","v":15},18]
[null,3,{"$f":"D459+1","v":19},24]
[null,4,25,28]
[null,5,29,30]
[null,null,null,""]
[null,"自己表現小４女","最小値","最大値"]
[null,1,6,14]
[null,2,{"$f":"D465+1","v":15},18]
[null,3,{"$f":"D466+1","v":19},24]
[null,4,25,28]
[null,5,29,30]
[null,null,null,""]
[null,"自己表現小５女","最小値","最大値"]
[null,1,6,14]
[null,2,{"$f":"D472+1","v":15},18]
[null,3,{"$f":"D473+1","v":19},24]
[null,4,25,28]
[null,5,29,30]
[null,null,null,""]
[null,"自己表現小６女","最小値","最大値"]
[null,1,6,14]
[null,2,{"$f":"D479+1","v":15},18]
[null,3,{"$f":"D480+1","v":19},24]
[null,4,25,28]
[null,5,29,30]
[null,null,null,""]
[null,"自己表現中１女","最小値","最大値"]
[null,1,6,14]
[null,2,{"$f":"D486+1","v":15},18]
[null,3,{"$f":"D487+1","v":19},23]
[null,4,24,27]
[null,5,28,30]
[null,null,null,""]
[null,"自己表現中２女","最小値","最大値"]
[null,1,6,14]
[null,2,{"$f":"D493+1","v":15},18]
[null,3,{"$f":"D494+1","v":19},23]
[null,4,24,27]
[null,5,28,30]
[null,null,null,""]
[null,"自己表現中３女","最小値","最大値"]
[null,1,6,15]
[null,2,{"$f":"D500+1","v":16},18]
[null,3,{"$f":"D501+1","v":19},23]
[null,4,24,27]
[null,5,28,30]
[null,null,null,""]
[null,"学級居心地感小１男","最小値","最大値"]
[null,1,4,11]
[null,2,{"$f":"D507+1","v":12},15]
[null,3,{"$f":"D508+1","v":16},18]
[null,4,19,19]
[null,5,20,20]
[null,null,null,""]
[null,"学級居心地感小２男","最小値","最大値"]
[null,1,4,10]
[null,2,{"$f":"D514+1","v":11},15]
[null,3,{"$f":"D515+1","v":16},18]
[null,4,19,19]
[null,5,20,20]
[null,null,null,""]
[null,"学級居心地感小３男","最小値","最大値"]
[null,1,4,10]
[null,2,{"$f":"D521+1","v":11},15]
[null,3,{"$f":"D522+1","v":16},18]
[null,4,19,19]
[null,5,20,20]
[null,null,null,""]
[null,"学級居心地感小４男","最小値","最大値"]
[null,1,4,10]
[null,2,{"$f":"D528+1","v":11},15]
[null,3,{"$f":"D529+1","v":16},18]
[null,4,19,19]
[null,5,20,20]
[null,null,null,""]
[null,"学級居心地感小５男","最小値","最大値"]
[null,1,4,9]
[null,2,{"$f":"D535+1","v":10},14]
[null,3,{"$f":"D536+1","v":15},18]
[null,4,19,19]
[null,5,20,20]
[null,null,null,""]
[null,"学級居心地感小６男","最小値","最大値"]
[null,1,4,9]
[null,2,{"$f":"D542+1","v":10},14]
[null,3,{"$f":"D543+1","v":15},18]
[null,4,19,19]
[null,5,20,20]
[null,null,null,""]
[null,"学級居心地感中１男","最小値","最大値"]
[null,1,4,11]
[null,2,{"$f":"D549+1","v":12},14]
[null,3,{"$f":"D550+1","v":15},18]
[null,4,19,19]
[null,5,20,20]
[null,null,null,""]
[null,"学級居心地感中２男","最小値","最大値"]
[null,1,4,11]
[null,2,{"$f":"D556+1","v":12},14]
[null,3,{"$f":"D557+1","v":15},18]
[null,4,19,19]
[null,5,20,20]
[null,null,null,""]
[null,"学級居心地感中３男","最小値","最大値"]
[null,1,4,11]
[null,2,{"$f":"D563+1","v":12},14]
[null,3,{"$f":"D564+1","v":15},18]
[null,4,19,19]
[null,5,20,20]
[null,null,null,""]
[null,"学級居心地感小１女","最小値","最大値"]
[null,1,4,12]
[null,2,{"$f":"D570+1","v":13},16]
[null,3,{"$f":"D571+1","v":17},18]
[null,4,19,19]
[null,5,20,20]
[null,null,null,""]
[null,"学級居心地感小２女","最小値","最大値"]
[null,1,4,12]
[null,2,{"$f":"D577+1","v":13},16]
[null,3,{"$f":"D578+1","v":17},18]
[null,4,19,19]
[null,5,20,20]
[null,null,null,""]
[null,"学級居心地感小３女","最小値","最大値"]
[null,1,4,11]
[null,2,{"$f":"D584+1","v":12},15]
[null,3,{"$f":"D585+1","v":16},18]
[null,4,19,19]
[null,5,20,20]
[null,null,null,""]
[null,"学級居心地感小４女","最小値","最大値"]
[null,1,4,11]
[null,2,{"$f":"D591+1","v":12},15]
[null,3,{"$f":"D592+1","v":16},18]
[null,4,19,19]
[null,5,20,20]
[null,null,null,""]
[null,"学級居心地感小５女","最小値","最大値"]
[null,1,4,11]
[null,2,{"$f":"D598+1","v":12},15]
[null,3,{"$f":"D599+1","v":16},18]
[null,4,19,19]
[null,5,20,20]
[null,null,null,""]
[null,"学級居心地感小６女","最小値","最大値"]
[null,1,4,11]
[null,2,{"$f":"D605+1","v":12},15]
[null,3,{"$f":"D606+1","v":16},18]
[null,4,19,19]
[null,5,20,20]
[null,null,null,""]
[null,"学級居心地感中１女","最小値","最大値"]
[null,1,4,11]
[null,2,{"$f":"D612+1","v":12},14]
[null,3,{"$f":"D613+1","v":15},18]
[null,4,19,19]
[null,5,20,20]
[null,null,null,""]
[null,"学級居心地感中２女","最小値","最大値"]
[null,1,4,10]
[null,2,{"$f":"D619+1","v":11},13]
[null,3,{"$f":"D620+1","v":14},17]
[null,4,18,19]
[null,5,20,20]
[null,null,null,""]
[null,"学級居心地感中３女","最小値","最大値"]
[null,1,4,11]
[null,2,{"$f":"D626+1","v":12},14]
[null,3,{"$f":"D627+1","v":15},18]
[null,4,19,19]
[null,5,20,20]
[null,null,null,""]
[null,"かかわり小１男","最小値","最大値"]
[null,1,4,10]
[null,2,{"$f":"D633+1","v":11},14]
[null,3,{"$f":"D634+1","v":15},18]
[null,4,19,19]
[null,5,20,20]
[null,null,null,""]
[null,"かかわり小２男","最小値","最大値"]
[null,1,4,10]
[null,2,{"$f":"D640+1","v":11},14]
[null,3,{"$f":"D641+1","v":15},18]
[null,4,19,19]
[null,5,20,20]
[null,null,null,""]
[null,"かかわり小３男","最小値","最大値"]
[null,1,4,10]
[null,2,{"$f":"D647+1","v":11},14]
[null,3,{"$f":"D648+1","v":15},18]
[null,4,19,19]
[null,5,20,20]
[null,null,null,""]
[null,"かかわり小４男","最小値","最大値"]
[null,1,4,10]
[null,2,{"$f":"D654+1","v":11},14]
[null,3,{"$f":"D655+1","v":15},18]
[null,4,19,19]
[null,5,20,20]
[null,null,null,""]
[null,"かかわり小５男","最小値","最大値"]
[null,1,4,11]
[null,2,{"$f":"D661+1","v":12},14]
[null,3,{"$f":"D662+1","v":15},18]
[null,4,19,19]
[null,5,20,20]
[null,null,null,""]
[null,"かかわり小６男","最小値","最大値"]
[null,1,4,11]
[null,2,{"$f":"D668+1","v":12},14]
[null,3,{"$f":"D669+1","v":15},18]
[null,4,19,19]
[null,5,20,20]
[null,null,null,""]
[null,"かかわり中１男","最小値","最大値"]
[null,1,4,11]
[null,2,{"$f":"D675+1","v":12},14]
[null,3,{"$f":"D676+1","v":15},17]
[null,4,18,19]
[null,5,20,20]
[null,null,null,""]
[null,"かかわり中２男","最小値","最大値"]
[null,1,4,11]
[null,2,{"$f":"D682+1","v":12},14]
[null,3,{"$f":"D683+1","v":15},17]
[null,4,18,19]
[null,5,20,20]
[null,null,null,""]
[null,"かかわり中３男","最小値","最大値"]
[null,1,4,11]
[null,2,{"$f":"D689+1","v":12},14]
[null,3,{"$f":"D690+1","v":15},17]
[null,4,18,19]
[null,5,20,20]
[null,null,null,""]
[null,"かかわり小１女","最小値","最大値"]
[null,1,4,11]
[null,2,{"$f":"D696+1","v":12},15]
[null,3,{"$f":"D697+1","v":16},18]
[null,4,19,19]
[null,5,20,20]
[null,null,null,""]
[null,"かかわり小２女","最小値","最大値"]
[null,1,4,11]
[null,2,{"$f":"D703+1","v":12},14]
[null,3,{"$f":"D704+1","v":15},18]
[null,4,19,19]
[null,5,20,20]
[null,null,null,""]
[null,"かかわり小３女","最小値","最大値"]
[null,1,4,11]
[null,2,{"$f":"D710+1","v":12},14]
[null,3,{"$f":"D711+1","v":15},18]
[null,4,19,19]
[null,5,20,20]
[null,null,null,""]
[null,"かかわり小４女","最小値","最大値"]
[null,1,4,11]
[null,2,{"$f":"D717+1","v":12},14]
[null,3,{"$f":"D718+1","v":15},18]
[null,4,19,19]
[null,5,20,20]
[null,null,null,""]
[null,"かかわり小５女","最小値","最大値"]
[null,1,4,11]
[null,2,{"$f":"D724+1","v":12},13]
[null,3,{"$f":"D725+1","v":14},17]
[null,4,18,19]
[null,5,20,20]
[null,null,null,""]
[null,"かかわり小６女","最小値","最大値"]
[null,1,4,11]
[null,2,{"$f":"D731+1","v":12},13]
[null,3,{"$f":"D732+1","v":14},17]
[null,4,18,19]
[null,5,20,20]
[null,null,null,""]
[null,"かかわり中１女","最小値","最大値"]
[null,1,4,11]
[null,2,{"$f":"D738+1","v":12},14]
[null,3,{"$f":"D739+1","v":15},17]
[null,4,18,19]
[null,5,20,20]
[null,null,null,""]
[null,"かかわり中２女","最小値","最大値"]
[null,1,4,11]
[null,2,{"$f":"D745+1","v":12},14]
[null,3,{"$f":"D746+1","v":15},17]
[null,4,18,19]
[null,5,20,20]
[null,null,null,""]
[null,"かかわり中３女","最小値","最大値"]
[null,1,4,11]
[null,2,{"$f":"D752+1","v":12},14]
[null,3,{"$f":"D753+1","v":15},17]
[null,4,18,19]
[null,5,20,20]
[null,null,null,""]
[null,"心配傾向小１男","最小値","最大値"]
[null,1,0,0]
[null,2,0,0]
[null,3,0,0]
[null,4,0,0]
[null,5,0,0]
[null,null,null,""]
[null,"心配傾向小２男","最小値","最大値"]
[null,1,0,0]
[null,2,0,0]
[null,3,0,0]
[null,4,0,0]
[null,5,0,0]
[null,null,null,""]
[null,"心配傾向小３男","最小値","最大値"]
[null,1,3,4]
[null,2,{"$f":"D773+1","v":5},6]
[null,3,{"$f":"D774+1","v":7},10]
[null,4,11,12]
[null,5,13,15]
[null,null,null,""]
[null,"心配傾向小４男","最小値","最大値"]
[null,1,3,4]
[null,2,{"$f":"D780+1","v":5},6]
[null,3,{"$f":"D781+1","v":7},10]
[null,4,11,12]
[null,5,13,15]
[null,null,null,""]
[null,"心配傾向小５男","最小値","最大値"]
[null,1,3,4]
[null,2,{"$f":"D787+1","v":5},6]
[null,3,{"$f":"D788+1","v":7},10]
[null,4,11,12]
[null,5,13,15]
[null,null,null,""]
[null,"心配傾向小６男","最小値","最大値"]
[null,1,3,4]
[null,2,{"$f":"D794+1","v":5},6]
[null,3,{"$f":"D795+1","v":7},10]
[null,4,11,12]
[null,5,13,15]
[null,null,null,""]
[null,"心配傾向中１男","最小値","最大値"]
[null,1,3,4]
[null,2,{"$f":"D801+1","v":5},7]
[null,3,{"$f":"D802+1","v":8},10]
[null,4,11,12]
[null,5,13,15]
[null,null,null,""]
[null,"心配傾向中２男","最小値","最大値"]
[null,1,3,5]
[null,2,{"$f":"D808+1","v":6},7]
[null,3,{"$f":"D809+1","v":8},10]
[null,4,11,12]
[null,5,13,15]
[null,null,null,""]
[null,"心配傾向中３男","最小値","最大値"]
[null,1,3,5]
[null,2,{"$f":"D815+1","v":6},7]
[null,3,{"$f":"D816+1","v":8},10]
[null,4,11,12]
[null,5,13,15]
[null,null,null,""]
[null,"心配傾向小１女","最小値","最大値"]
[null,1,0,0]
[null,2,0,0]
[null,3,0,0]
[null,4,0,0]
[null,5,0,0]
[null,null,null,""]
[null,"心配傾向小２女","最小値","最大値"]
[null,1,0,0]
[null,2,0,0]
[null,3,0,0]
[null,4,0,0]
[null,5,0,0]
[null,null,null,""]
[null,"心配傾向小３女","最小値","最大値"]
[null,1,3,4]
[null,2,{"$f":"D836+1","v":5},7]
[null,3,{"$f":"D837+1","v":8},10]
[null,4,11,12]
[null,5,13,15]
[null,null,null,""]
[null,"心配傾向小４女","最小値","最大値"]
[null,1,3,4]
[null,2,{"$f":"D843+1","v":5},7]
[null,3,{"$f":"D844+1","v":8},10]
[null,4,11,12]
[null,5,13,15]
[null,null,null,""]
[null,"心配傾向小５女","最小値","最大値"]
[null,1,3,4]
[null,2,{"$f":"D850+1","v":5},7]
[null,3,{"$f":"D851+1","v":8},10]
[null,4,11,12]
[null,5,13,15]
[null,null,null,""]
[null,"心配傾向小６女","最小値","最大値"]
[null,1,3,5]
[null,2,{"$f":"D857+1","v":6},8]
[null,3,{"$f":"D858+1","v":9},10]
[null,4,11,12]
[null,5,13,15]
[null,null,null,""]
[null,"心配傾向中１女","最小値","最大値"]
[null,1,3,5]
[null,2,{"$f":"D864+1","v":6},8]
[null,3,{"$f":"D865+1","v":9},10]
[null,4,11,12]
[null,5,13,15]
[null,null,null,""]
[null,"心配傾向中２女","最小値","最大値"]
[null,1,3,5]
[null,2,{"$f":"D871+1","v":6},8]
[null,3,{"$f":"D872+1","v":9},10]
[null,4,11,12]
[null,5,13,15]
[null,null,null,""]
[null,"心配傾向中３女","最小値","最大値"]
[null,1,3,5]
[null,2,{"$f":"D878+1","v":6},8]
[null,3,{"$f":"D879+1","v":9},10]
[null,4,11,12]
[null,5,13,15]

{"sheet":"段階","index":15,"n_rows":83,"n_cols":13,"rows_kept":83,"cut":false,"hidden":false,"merged":[[46,0,46,8],[0,0,0,8],[40,0,40,8]]}
[]
["段階",{"$f":"質問項目!$C$2","v":"自己効力感"},{"$f":"質問項目!$C$6","v":"自尊感情"},{"$f":"質問項目!$C$23 & \"男\"","v":"共感・配慮男"},{"$f":"質問項目!$C$23 & \"女\"","v":"共感・配慮女"},{"$f":"質問項目!$C$17","v":"自己表現"},{"$f":"質問項目!$C$10","v":"－"},{"$f":"質問項目!$C$13","v":"学級居心地感"},{"$f":"質問項目!$C$29","v":"かかわり"}]
[1,null,null,null,null,null,null,null,null,null,null,8,1]
[2,null,null,null,null,null,null,null,null,null,null,13,2]
[3,1,null,null,null,null,1,1,null,null,null,17,3]
[4,1,1,null,null,null,1,1,1,null,null,19,4]
[5,1,1,null,null,null,1,1,1,null,null,20,5]
[6,1,1,1,1,1,2,1,1]
[7,1,1,1,1,1,2,1,1,null,11,{"$f":"VLOOKUP(K9,基本段階,2)","v":3}]
[8,2,1,1,1,1,3,1,1]
[9,2,2,1,1,1,3,2,1]
[10,3,2,1,1,1,3,2,1]
[11,3,2,1,1,1,4,3,1]
[12,3,3,1,1,1,4,3,2]
[13,4,3,1,1,1,5,3,2]
[14,4,3,1,1,1,5,4,2]
[15,5,4,1,1,1,5,5,3]
[16,null,4,1,1,2,null,null,3]
[17,null,4,2,1,2,null,null,3]
[18,null,5,2,1,2,null,null,4]
[19,null,5,2,2,3,null,null,4]
[20,null,null,3,2,3,null,null,5]
[21,null,null,3,2,3]
[22,null,null,3,3,3]
[23,null,null,3,3,3]
[24,null,null,3,3,4]
[25,null,null,4,3,4]
[26,null,null,4,4,4]
[27,null,null,4,4,5]
[28,null,null,5,4,5]
[29,null,null,5,5,5]
[30,null,null,5,5,5]
["段階",{"$f":"質問項目!$C$2","v":"自己効力感"},{"$f":"質問項目!$C$6","v":"自尊感情"},{"$f":"質問項目!$C$23 & \"男\"","v":"共感・配慮男"},{"$f":"質問項目!$C$23 & \"女\"","v":"共感・配慮女"},{"$f":"質問項目!$C$17","v":"自己表現"},{"$f":"質問項目!$C$10","v":"－"},{"$f":"質問項目!$C$13","v":"学級居心地感"},{"$f":"質問項目!$C$29","v":"かかわり"}]
[1,7,8,16,18,15,5,8,11]
[2,9,11,19,21,18,7,10,14]
[3,12,14,24,25,23,10,13,17]
[4,14,17,27,28,26,12,14,19]
[5,15,20,30,30,30,15,15,20]
["min",3,4,6,6,6,3,3,4]
["max",15,20,30,30,30,15,15,20]
[]
[1,{"$f":"B34-B39+1","v":5},{"$f":"C34-C39+1","v":5},11,13,10,3,6,8]
[2,{"$f":"B35-B34","v":2},{"$f":"C35-C34","v":3},3,3,3,2,2,3]
[3,{"$f":"B36-B35","v":3},{"$f":"C36-C35","v":3},5,4,5,3,3,3]
[4,{"$f":"B37-B36","v":2},{"$f":"C37-C36","v":3},3,3,3,2,1,2]
[5,{"$f":"B38-B37","v":1},{"$f":"C38-C37","v":3},3,2,4,3,1,1]
[]
[1,{"$f":"1/B42","v":0.2},0.2,9.0909090909090912E-2,7.6923076923076927E-2,0.1,0.33333333333333331,0.16666666666666666,0.125]
[2,0.5,0.33333333333333331,0.33333333333333331,0.33333333333333331,0.33333333333333331,0.5,0.5,0.33333333333333331]
[3,0.33333333333333331,0.33333333333333331,0.2,0.25,0.2,0.33333333333333331,0.33333333333333331,0.33333333333333331]
[4,{"$f":"1/B45","v":0.5},0.33333333333333331,0.33333333333333331,0.33333333333333331,0.33333333333333331,0.5,1,0.5]
[5,{"$f":"1/B46","v":1},0.33333333333333331,0.33333333333333331,0.5,0.25,0.33333333333333331,1,1]
["段階",{"$f":"質問項目!$C$2","v":"自己効力感"},{"$f":"質問項目!$C$6","v":"自尊感情"},{"$f":"質問項目!$C$23 & \"男\"","v":"共感・配慮男"},{"$f":"質問項目!$C$23 & \"女\"","v":"共感・配慮女"},{"$f":"質問項目!$C$17","v":"自己表現"},{"$f":"質問項目!$C$10","v":"－"},{"$f":"質問項目!$C$13","v":"学級居心地感"},{"$f":"質問項目!$C$29","v":"かかわり"}]
[1]
[2]
[3,0.2,null,null,null,null,0.33333333333333331,0.16666666666666666]
[4,0.4,0.2,null,null,null,0.66666666666666663,0.33333333333333331,0.125]
[5,0.6,0.4,null,null,null,1,0.5,0.25]
[6,0.8,0.6,9.0909090909090912E-2,7.6923076923076927E-2,0.1,1.5,0.66666666666666663,0.375]
[7,1,0.8,0.18181818181818182,0.15384615384615385,0.2,2,0.83333333333333337,0.5]
[8,1.5,1,0.27272727272727271,0.23076923076923078,0.3,2.3333333333333335,1,0.625]
[9,2,1.333,0.36363636363636365,0.30769230769230771,0.4,2.6666666666666665,1.5,0.75]
[10,2.3330000000000002,1.6659999999999999,0.45454545454545453,0.38461538461538464,0.5,3,2,0.875]
[11,2.6659999999999999,2,0.54545454545454541,0.46153846153846156,0.6,3.5,2.3332999999999999,1]
[12,3,2.33,0.63636363636363635,0.53846153846153844,0.7,4,2.6665999999999999,1.333]
[13,3.5,2.66,0.72727272727272729,0.61538461538461542,0.8,4.333333333333333,3,1.6659999999999999]
[14,4,3,0.81818181818181823,0.69230769230769229,0.9,4.666666666666667,4,2]
[15,5,3.3330000000000002,0.90909090909090906,0.76923076923076927,1,5,5,2.3330000000000002]
[16,null,3.66,1,0.84615384615384615,1.3333333333333333,null,null,2.6659999999999999]
[17,null,4,1.3333333333333333,0.92307692307692313,1.6666666666666667,null,null,3]
[18,null,4.33,1.6666666666666667,1,2,null,null,3.5]
[19,null,4.66,2,1.3333333333333333,2.2000000000000002,null,null,4]
[20,null,5,2.2000000000000002,1.6666666666666667,2.4,null,null,5]
[21,null,null,2.4,2,2.6]
[22,null,null,2.6,2.25,2.8]
[23,null,null,2.8,2.5,3]
[24,null,null,3,2.75,3.3333333333333335]
[25,null,null,3.3333333333333335,3,3.6666666666666665]
[26,null,null,3.6666666666666665,3.3333333333333335,4]
[27,null,null,4,3.6666666666666665,4.25]
[28,null,null,4.333333333333333,4,4.5]
[29,null,null,4.666666666666667,4.5,4.75]
[30,null,null,5,5,5]

{"sheet":"質問項目","index":16,"n_rows":32,"n_cols":9,"rows_kept":32,"cut":false,"hidden":false,"merged":[[1,0,11,0],[16,0,31,0],[12,2,15,2],[12,0,15,0],[1,2,4,2],[5,2,8,2],[16,2,21,2],[22,2,27,2],[9,2,11,2],[1,1,8,1],[16,1,27,1],[9,1,11,1],[12,1,15,1],[28,2,31,2],[28,1,31,1]]}
["項目","項目名","因子","番号","内容","表示","順番",{"$f":"D1","v":"番号"},{"$f":"E1","v":"内容"}]
["A","自分づくり","自己効力感",2,"とくいなことがある",{"$f":"D2&\"_\"&E2","v":"2_とくいなことがある"},null,2,"とくいなことがある"]
[null,null,null,5,"がんばればできる",{"$f":"D3&\"_\"&E3","v":"5_がんばればできる"},null,{"$f":"D3","v":5},{"$f":"E3","v":"がんばればできる"}]
[null,null,null,6,"さいごまでがんばれる","6_さいごまでがんばれる",null,6,"さいごまでがんばれる"]
[null,null,null,8,"むずかしいこともやってみる","8_むずかしいこともやってみる",null,8,"むずかしいこともやってみる"]
[null,null,"自尊感情",3,"じぶんがすき","3_じぶんがすき",null,{"$f":"D6","v":3},{"$f":"E6","v":"じぶんがすき"}]
[null,null,null,4,"いろいろなよいところがある","4_いろいろなよいところがある",null,4,"いろいろなよいところがある"]
[null,null,null,7,"だいたいできる","7_だいたいできる",null,7,"だいたいできる"]
[null,null,null,10,"クラスでだいじにされている","10_クラスでだいじにされている",null,10,"クラスでだいじにされている"]
[null,"心配傾向","－"]
[]
[]
["C","学級居心地感","学級居心地感",9,"ともだちといっしょがたのしい","9_ともだちといっしょがたのしい",null,9,"ともだちといっしょがたのしい"]
[null,null,null,10,"クラスでだいじにされている","10_クラスでだいじにされている",null,{"$f":"D14","v":10},{"$f":"E14","v":"クラスでだいじにされている"}]
[null,null,null,11,"いまのクラスがすき","11_いまのクラスがすき",null,{"$f":"D15","v":11},{"$f":"E15","v":"いまのクラスがすき"}]
[null,null,null,12,"このクラスになってよかった","12_このクラスになってよかった",null,12,"このクラスになってよかった"]
["B","仲間づくり","自己表現",1,"かんがえをどんどんいえる","1_かんがえをどんどんいえる",null,1,"かんがえをどんどんいえる"]
[null,null,null,2,"あそびにさそえる","2_あそびにさそえる",null,2,"あそびにさそえる"]
[null,null,null,4,"はっきりことわれる","4_はっきりことわれる",null,4,"はっきりことわれる"]
[null,null,null,5,"しつもんできる","5_しつもんできる",null,5,"しつもんできる"]
[null,null,null,8,"じぶんのいけんをいえる","8_じぶんのいけんをいえる",null,8,"じぶんのいけんをいえる"]
[null,null,null,11,"ともだちのところにはいれる","11_ともだちのところにはいれる",null,11,"ともだちのところにはいれる"]
[null,null,"共感・配慮",3,"ともだちをはげませる","3_ともだちをはげませる",null,3,"ともだちをはげませる"]
[null,null,null,6,"いっしょによろこぶ","6_いっしょによろこぶ",null,6,"いっしょによろこぶ"]
[null,null,null,7,"あやまることができる","7_あやまることができる",null,7,"あやまることができる"]
[null,null,null,9,"さいごまできくことができる","9_さいごまできくことができる",null,9,"さいごまできくことができる"]
[null,null,null,10,"たのむことができる","10_たのむことができる",null,10,"たのむことができる"]
[null,null,null,12,"がまんすることができる","12_がまんすることができる",null,12,"がまんすることができる"]
[null,"かかわり","かかわり",2,"あそびにさそえる","2_あそびにさそえる",null,{"$f":"D29","v":2},"あそびにさそえる"]
[null,null,null,3,"ともだちをはげませる","3_ともだちをはげませる",null,3,"ともだちをはげませる"]
[null,null,null,6,"いっしょによろこぶ","6_いっしょによろこぶ",null,6,"いっしょによろこぶ"]
[null,null,null,11,"ともだちのところにはいれる","11_ともだちのところにはいれる",null,11,"ともだちのところにはいれる"]

{"sheet":"風土説明","index":17,"n_rows":7,"n_cols":4,"rows_kept":7,"cut":false,"hidden":false,"merged":[[0,0,0,1],[1,0,2,0],[3,0,4,0],[5,0,6,0]]}
["観察の視点",null,"具体の視点\n◎～△印","社会的スキルと関連づけた観点\n◎～△印"]
["自\n分\nづ\nく\nり","Ａ\n公正\n（自己効力感）","よいことはよい、悪いことは悪いと言える雰囲気がある","場の雰囲気や人の意見に流されず、自分の意見や感じ方を表明できる（①②）"]
[null,"Ｂ\n寛容\n（自尊感情）","失敗や意見の違いを温かく認め、包み込んでいこうとする雰囲気がある","互いのよさや違いを認め、尊重していこうとする（③④）"]
["仲\n間\nづ\nく\nり","Ｃ\n自己表現\n（含かかわり）","率直かつ適切な意志の伝達や感情交流がある","友達との明快なコミュニケーションがとれる（⑤～⑪）"]
[null,"Ｄ\n配慮","思いやりのある言動・行動が自然に現れる","友達の気持ちを推しはかって行動ができる（⑫～⑯）"]
["集\n団\nづ\nく\nり","Ｅ\n課題遂行","グループの目的や課題解決に意欲をもつ","集団の課題・目標を達成するために話し合いを進めている（⑱）"]
[null,"Ｆ\n合意形成","意見や感情の違いを認めながら、集団の意見をまとめようとする","みんなの意見を上手に取り入れて話し合いの調整をしている（⑰）"]