Workbook
Name 認定こども園なし_職員処遇改善費のみの対象者: マスタ!$N$3:$N$10
Name 認定こども園園長で専門リーダーの研修: マスタ!$R$3:$R$10
Name 認定こども園園長で中核リーダーの研修: マスタ!$P$3:$P$10
Name 認定こども園教頭で専門リーダーの研修: マスタ!$Z$3:$Z$10
Name 認定こども園教頭で中核リーダーの研修: マスタ!$X$3:$X$10
Name 認定こども園若手リーダー: マスタ!$L$3:$L$10
Name 認定こども園主幹教諭で専門リーダーの研修: マスタ!$AD$3:$AD$10
Name 認定こども園主幹教諭で中核リーダーの研修: マスタ!$AB$3:$AB$10
Name 認定こども園主幹保育教諭で専門リーダーの研修: マスタ!$AH$3:$AH$10
Name 認定こども園主幹保育教諭で中核リーダーの研修: マスタ!$AF$3:$AF$10
Name 認定こども園専門リーダー: マスタ!$J$3:$J$10
Name 認定こども園中核リーダー: マスタ!$H$3:$H$10
Name 認定こども園副園長で専門リーダーの研修: マスタ!$V$3:$V$10
Name 認定こども園副園長で中核リーダーの研修: マスタ!$T$3:$T$10
Name 幼稚園なし_職員処遇改善費のみの対象者: マスタ!$M$3:$M$9
Name 幼稚園園長で専門リーダーの研修: マスタ!$Q$3:$Q$9
Name 幼稚園園長で中核リーダーの研修: マスタ!$O$3:$O$9
Name 幼稚園教頭で専門リーダーの研修: マスタ!$Y$3:$Y$9
Name 幼稚園教頭で中核リーダーの研修: マスタ!$W$3:$W$9
Name 幼稚園若手リーダー: マスタ!$K$3:$K$9
Name 幼稚園主幹教諭で専門リーダーの研修: マスタ!$AC$3:$AC$9
Name 幼稚園主幹教諭で中核リーダーの研修: マスタ!$AA$3:$AA$9
Name 幼稚園主幹保育教諭で専門リーダーの研修: マスタ!$AG$3:$AG$9
Name 幼稚園主幹保育教諭で中核リーダーの研修: マスタ!$AE$3:$AE$9
Name 幼稚園専門リーダー: マスタ!$I$3:$I$9
Name 幼稚園中核リーダー: マスタ!$G$3:$G$9
Name 幼稚園副園長で専門リーダーの研修: マスタ!$U$3:$U$9
Name 幼稚園副園長で中核リーダーの研修: マスタ!$S$3:$S$9

Sheet R8施設一覧
A1: 施設事業所番号 | B1: 施設・事業区分 | C1: 施設・事業所種別 | D1: 所在区 | E1: 施設住所区コード | F1: 施設名 | G1: しせつめい
A2: 1410051013654 | B2: 6 | C2: 認可保育所 | D2: 神奈川区 | E2: 010 | F2: いずみ反町保育園 | G2: いずみたんまちほいくえん
A3: 1410051013662 | B3: 6 | C3: 認可保育所 | D3: 鶴見区 | E3: 000 | F3: 市場保育園 | G3: いちばほいくえん
A4: 1410051013670 | B4: 6 | C4: 認可保育所 | D4: 鶴見区 | E4: 000 | F4: 上末吉白百合保育園 | G4: かみすえよししらゆりほいくえん
A5: 1410051013688 | B5: 6 | C5: 認可保育所 | D5: 鶴見区 | E5: 000 | F5: 駒岡保育園 | G5: こまおかほいくえん
A6: 1410051013696 | B6: 6 | C6: 認可保育所 | D6: 鶴見区 | E6: 000 | F6: 新鶴見はなかご保育園 | G6: しんつるみはなかごほいくえん
A7: 1410051013704 | B7: 6 | C7: 認可保育所 | D7: 鶴見区 | E7: 000 | F7: 末吉いづみ保育園 | G7: すえよしいづみほいくえん
A8: 1410051013712 | B8: 6 | C8: 認可保育所 | D8: 鶴見区 | E8: 000 | F8: 太陽の子尻手保育園 | G8: たいようのこしってほいくえん
A9: 1410051013720 | B9: 6 | C9: 認可保育所 | D9: 鶴見区 | E9: 000 | F9: 鶴見すずらん保育園 | G9: つるみすずらんほいくえん
A10: 1410051013738 | B10: 6 | C10: 認可保育所 | D10: 鶴見区 | E10: 000 | F10: 鶴見ポケット保育園 | G10: つるみぽけっとほいくえん
A11: 1410051013761 | B11: 6 | C11: 認可保育所 | D11: 鶴見区 | E11: 000 | F11: ナーサリーつるみ | G11: なーさりーつるみ
A12: 1410051013779 | B12: 6 | C12: 認可保育所 | D12: 鶴見区 | E12: 000 | F12: にじの風保育園 | G12: にじのかぜほいくえん
A13: 1410051013787 | B13: 6 | C13: 認可保育所 | D13: 鶴見区 | E13: 000 | F13: ねむの樹北寺尾保育園 | G13: ねむのききたてらおほいくえん
... A1336: 1410051028868 | B1336: 5 | C1336: 幼稚園 | D1336: 戸塚区 | E1336: 090 | F1336: 学校法人川辺学園 冨士見ケ丘幼稚園 | G1336: がっこうほうじんかわべがくえんふじみがおかようちえん

Sheet マスタ
B2: 施設・事業種別 | C2: 職位 | D2: 職種 | E2: 実施主体 | F2: 研修分野 | G2: 幼稚園中核リーダー | H2: 認定こども園中核リーダー | I2: 幼稚園専門リーダー | J2: 認定こども園専門リーダー | K2: 幼稚園若手リーダー | L2: 認定こども園若手リーダー | M2: 幼稚園なし_職員処遇改善費のみの対象者 | N2: 認定こども園なし_職員処遇改善費のみの対象者 | O2: 幼稚園園長で中核リーダーの研修 | P2: 認定こども園園長で中核リーダーの研修 | Q2: 幼稚園園長で専門リーダーの研修 | R2: 認定こども園園長で専門リーダーの研修 | S2: 幼稚園副園長で中核リーダーの研修 | T2: 認定こども園副園長で中核リーダーの研修 | U2: 幼稚園副園長で専門リーダーの研修 | V2: 認定こども園副園長で専門リーダーの研修 | W2: 幼稚園教頭で中核リーダーの研修 | X2: 認定こども園教頭で中核リーダーの研修 | Y2: 幼稚園教頭で専門リーダーの研修 | Z2: 認定こども園教頭で専門リーダーの研修 | AA2: 幼稚園主幹教諭で中核リーダーの研修 | AB2: 認定こども園主幹教諭で中核リーダーの研修 | AC2: 幼稚園主幹教諭で専門リーダーの研修 | AD2: 認定こども園主幹教諭で専門リーダーの研修 | AF2: 認定こども園主幹保育教諭で中核リーダーの研修 | AH2: 認定こども園主幹保育教諭で専門リーダーの研修
B3: 幼稚園 | C3: 中核リーダー | D3: 副園長・教頭 | E3: ①都道府県又は市町村（教育委員会を含む。） | F3: 専門分野 | G3: 幼児教育 | H3: 乳児保育 | I3: 幼児教育 | J3: 乳児保育 | K3: 幼児教育 | L3: 乳児保育 | M3: 幼児教育 | N3: 乳児保育 | O3: 幼児教育 | P3: 乳児保育 | Q3: 幼児教育 | R3: 乳児保育 | S3: 幼児教育 | T3: 乳児保育 | U3: 幼児教育 | V3: 乳児保育 | W3: 幼児教育 | X3: 乳児保育 | Y3: 幼児教育 | Z3: 乳児保育 | AA3: 幼児教育 | AB3: 乳児保育 | AC3: 幼児教育 | AD3: 乳児保育 | AF3: 乳児保育 | AH3: 乳児保育
B4: 認定こども園 | C4: 専門リーダー | D4: 保育教諭 | E4: ②幼稚園関係団体又は認定こども園関係団体のうち、都道府県が適当と認めた者 | F4: マネジメント分野 | G4: 障害児保育 | H4: 幼児教育 | I4: 障害児保育 | J4: 幼児教育 | K4: 障害児保育 | L4: 幼児教育 | M4: 障害児保育 | N4: 幼児教育 | O4: 障害児保育 | P4: 幼児教育 | Q4: 障害児保育 | R4: 幼児教育 | S4: 障害児保育 | T4: 幼児教育 | U4: 障害児保育 | V4: 幼児教育 | W4: 障害児保育 | X4: 幼児教育 | Y4: 障害児保育 | Z4: 幼児教育 | AA4: 障害児保育 | AB4: 幼児教育 | AC4: 障害児保育 | AD4: 幼児教育 | AF4: 幼児教育 | AH4: 幼児教育
C5: 若手リーダー | D5: 教諭 | E5: ③大学等 | F5: 園内研修 | G5: 食育・アレルギー対応 | H5: 障害児保育 | I5: 食育・アレルギー対応 | J5: 障害児保育 | K5: 食育・アレルギー対応 | L5: 障害児保育 | M5: 食育・アレルギー対応 | N5: 障害児保育 | O5: 食育・アレルギー対応 | P5: 障害児保育 | Q5: 食育・アレルギー対応 | R5: 障害児保育 | S5: 食育・アレルギー対応 | T5: 障害児保育 | U5: 食育・アレルギー対応 | V5: 障害児保育 | W5: 食育・アレルギー対応 | X5: 障害児保育 | Y5: 食育・アレルギー対応 | Z5: 障害児保育 | AA5: 食育・アレルギー対応 | AB5: 障害児保育 | AC5: 食育・アレルギー対応 | AD5: 障害児保育 | AF5: 障害児保育 | AH5: 障害児保育
C6: なし_職員処遇改善費のみの対象者 | D6: 保育士 | E6: ④その他都道府県が適当と認めた者 | G6: 保健衛生・安全対策 | H6: 食育・アレルギー対応 | I6: 保健衛生・安全対策 | J6: 食育・アレルギー対応 | K6: 保健衛生・安全対策 | L6: 食育・アレルギー対応 | M6: 保健衛生・安全対策 | N6: 食育・アレルギー対応 | O6: 保健衛生・安全対策 | P6: 食育・アレルギー対応 | Q6: 保健衛生・安全対策 | R6: 食育・アレルギー対応 | S6: 保健衛生・安全対策 | T6: 食育・アレルギー対応 | U6: 保健衛生・安全対策 | V6: 食育・アレルギー対応 | W6: 保健衛生・安全対策 | X6: 食育・アレルギー対応 | Y6: 保健衛生・安全対策 | Z6: 食育・アレルギー対応 | AA6: 保健衛生・安全対策 | AB6: 食育・アレルギー対応 | AC6: 保健衛生・安全対策 | AD6: 食育・アレルギー対応 | AF6: 食育・アレルギー対応 | AH6: 食育・アレルギー対応
C7: 園長で中核リーダーの研修 | D7: 保育従事者（無資格） | E7: ⑤園内における研修を企画・実施する幼稚園又は認定こども園 | G7: 保護者支援・子育て支援 | H7: 保健衛生・安全対策 | I7: 保護者支援・子育て支援 | J7: 保健衛生・安全対策 | K7: 保護者支援・子育て支援 | L7: 保健衛生・安全対策 | M7: 保護者支援・子育て支援 | N7: 保健衛生・安全対策 | O7: 保護者支援・子育て支援 | P7: 保健衛生・安全対策 | Q7: 保護者支援・子育て支援 | R7: 保健衛生・安全対策 | S7: 保護者支援・子育て支援 | T7: 保健衛生・安全対策 | U7: 保護者支援・子育て支援 | V7: 保健衛生・安全対策 | W7: 保護者支援・子育て支援 | X7: 保健衛生・安全対策 | Y7: 保護者支援・子育て支援 | Z7: 保健衛生・安全対策 | AA7: 保護者支援・子育て支援 | AB7: 保健衛生・安全対策 | AC7: 保護者支援・子育て支援 | AD7: 保健衛生・安全対策 | AF7: 保健衛生・安全対策 | AH7: 保健衛生・安全対策
C8: 園長で専門リーダーの研修 | D8: 栄養士 | E8: ⑥保育士等キャリアアップ研修（下記(7)に基づくもの） | G8: マネジメント研修 | H8: 保護者支援・子育て支援 | I8: マネジメント研修（H29～R3） | J8: 保護者支援・子育て支援 | K8: マネジメント研修（H29～R1） | L8: 保護者支援・子育て支援 | M8: マネジメント研修 | N8: 保護者支援・子育て支援 | O8: マネジメント研修 | P8: 保護者支援・子育て支援 | Q8: マネジメント研修（H29～R3） | R8: 保護者支援・子育て支援 | S8: マネジメント研修 | T8: 保護者支援・子育て支援 | U8: マネジメント研修（H29～R3） | V8: 保護者支援・子育て支援 | W8: マネジメント研修 | X8: 保護者支援・子育て支援 | Y8: マネジメント研修（H29～R3） | Z8: 保護者支援・子育て支援 | AA8: マネジメント研修 | AB8: 保護者支援・子育て支援 | AC8: マネジメント研修（H29～R3） | AD8: 保護者支援・子育て支援 | AF8: 保護者支援・子育て支援 | AH8: 保護者支援・子育て支援
C9: 副園長で中核リーダーの研修 | D9: 調理員 | G9: 保育実践研修（H29～R1） | H9: マネジメント研修 | I9: 保育実践研修（H29～R1） | J9: マネジメント研修（H29～R3） | K9: 保育実践研修（H29～R1） | L9: マネジメント研修（H29～R1） | M9: 保育実践研修（H29～R1） | N9: マネジメント研修 | O9: 保育実践研修（H29～R1） | P9: マネジメント研修 | Q9: 保育実践研修（H29～R1） | R9: マネジメント研修（H29～R3） | S9: 保育実践研修（H29～R1） | T9: マネジメント研修 | U9: 保育実践研修（H29～R1） | V9: マネジメント研修（H29～R3） | W9: 保育実践研修（H29～R1） | X9: マネジメント研修 | Y9: 保育実践研修（H29～R1） | Z9: マネジメント研修（H29～R3） | AA9: 保育実践研修（H29～R1） | AB9: マネジメント研修 | AC9: 保育実践研修（H29～R1） | AD9: マネジメント研修（H29～R3） | AF9: マネジメント研修 | AH9: マネジメント研修（H29～R3）
C10: 副園長で専門リーダーの研修 | D10: 保健師・助産師・看護師・准看護師 | H10: 保育実践研修（H29～R1） | J10: 保育実践研修（H29～R1） | L10: 保育実践研修（H29～R1） | N10: 保育実践研修（H29～R1） | P10: 保育実践研修（H29～R1） | R10: 保育実践研修（H29～R1） | T10: 保育実践研修（H29～R1） | V10: 保育実践研修（H29～R1） | X10: 保育実践研修（H29～R1） | Z10: 保育実践研修（H29～R1） | AB10: 保育実践研修（H29～R1） | AD10: 保育実践研修（H29～R1） | AF10: 保育実践研修（H29～R1） | AH10: 保育実践研修（H29～R1）
C11: 教頭で中核リーダーの研修 | D11: 事務職員 | G11: 対象外
C12: 教頭で専門リーダーの研修 | D12: 家庭的保育者 | G12: 乳児保育 | H12: 保育実践研修（H29～R1） | I12: 乳児保育 | J12: 保育実践研修（H29～R1） | K12: 乳児保育 | L12: 保育実践研修（H29～R1） | M12: 乳児保育 | N12: 保育実践研修（H29～R1）
C13: 主幹教諭で中核リーダーの研修 | D13: 家庭的保育補助者 | G13: 保育実践研修（H29～R1） | I13: マネジメント研修（H29～R1） | J13: マネジメント研修（H29～R1） | K13: 保育実践研修（H29～R1） | L13: マネジメント研修（H29～R1） | M13: 保育実践研修（H29～R1）
C14: 主幹教諭で専門リーダーの研修 | D14: 子育て支援員 | I14: 保育実践研修（H29～R1） | K14: マネジメント研修（H29～R1）
C15: 主幹保育教諭で中核リーダーの研修 | D15: その他の職員
C16: 主幹保育教諭で専門リーダーの研修

Sheet 名簿記載例
A1: 第５号様式の２ | D1: 令和 ８ 年度 研修受講履歴一覧集計表 （幼稚園・認定こども園）
H3: 所在区 | I3: 中区
H4: 施設・事業所種別 | I4: 幼稚園 | L4: =I4&C6 -> 幼稚園中核リーダー
H5: 施設・事業所番号 | I5: 141005xxxxxxx
B6: 職位 | C6: 中核リーダー | D6: ↓マネジメント分野の修了チェック↓ | H6: 施設・事業所名 | I6: =①集計表!H7 -> #N/A
B7: 氏名 | C7: ○○ 〇〇 | D7: =IF($C$6="","職位を選択してください",IF(ISNUMBER(SEARCH("中核リーダー",C6)),IF(SUMIF(G:G,"〇",I:I)>=15,"必修時間を満たしています","マネジメント分野に係る研修は15時間以上必修です。 入力してください。"),IF(ISNUMBER(SEARCH("専門リーダー",C6)),"必修ではありません。保育士等キャリアアップ研修のマネジメント分野は、令和４年３月31日までの修了分まで算定可。",IF(ISNUMBER(SEARCH("若手リーダー",C6)),"必修ではありません。保育士等キャリアアップ研修のマネジメント分野は、令和２年３月31日までの修了分まで算定可。","必修ではありません。")))) -> 必修時間を満たしています | H7: 代表者職・氏名 | I7: ×× ✕
A9: 区分３及び職員処遇改善費の対象と認められる研修のみ入力してください（下記(6)参照）。そのうち、キャリアアップ研修が対象か否かについては最下部(7)を参照のうえ、不明な場合は実施主体に必ず確認してください。
A10: No | B10: 各行最後に入力 修了年月日 (例:R2.6.1) ※研修種別～ 研修分野 を入力後に入力してください。 | C10: 実施主体等 | D10: 講義名・テーマ | E10: キャリアアップ研修 研修分野 ※施設情報・職位を入力後に選択してください | F10: 修了証番号 | G10: マネジメント分野に係る 研修の場合は〇 | H10: 園内研修 | I10: 修了時間数 | J10: 備考 | K10: 開始日 | L10: キャリアアップ研修 | M10: 42826
A11: 2 | B11: 44053 | C11: ⑥保育士等キャリアアップ研修（下記(7)に基づくもの） | E11: マネジメント研修 | F11: 123456789012 | G11: 〇 | H11: =IF(C11="⑤園内における研修を企画・実施する幼稚園又は認定こども園","〇","") | I11: 15 | L11: マネジメント (若手リーダー) | M11: 43921
A12: 3 | B12: 43855 | C12: ①都道府県又は市町村（教育委員会を含む。） | D12: 保育事故防止 | H12: =IF(C12="⑤園内における研修を企画・実施する幼稚園又は認定こども園","〇","") | I12: 30 | L12: それ以外 の研修 | M12: 45382
A13: 4 | B13: 43848 | C13: ③大学等 | D13: 食物アレルギーの基礎知識 | H13: =IF(C13="⑤園内における研修を企画・実施する幼稚園又は認定こども園","〇","") | I13: 20
A14: 5 | B14: 43753 | C14: ⑤園内における研修を企画・実施する幼稚園又は認定こども園 | D14: 乳幼児期の食育 | H14: =IF(C14="⑤園内における研修を企画・実施する幼稚園又は認定こども園","〇","") -> 〇 | I14: 10
A15: 6 | H15: =IF(C15="⑤園内における研修を企画・実施する幼稚園又は認定こども園","〇","")
A16: 7 | H16: =IF(C16="⑤園内における研修を企画・実施する幼稚園又は認定こども園","〇","")
A17: 8 | H17: =IF(C17="⑤園内における研修を企画・実施する幼稚園又は認定こども園","〇","")
A18: 9 | H18: =IF(C18="⑤園内における研修を企画・実施する幼稚園又は認定こども園","〇","")
A19: 10 | H19: =IF(C19="⑤園内における研修を企画・実施する幼稚園又は認定こども園","〇","")
A20: 11 | H20: =IF(C20="⑤園内における研修を企画・実施する幼稚園又は認定こども園","〇","")
A21: 12 | H21: =IF(C21="⑤園内における研修を企画・実施する幼稚園又は認定こども園","〇","")
A22: 13 | H22: =IF(C22="⑤園内における研修を企画・実施する幼稚園又は認定こども園","〇","")
A23: 14
A24: 15
A25: 16 | H25: =IF(C25="⑤園内における研修を企画・実施する幼稚園又は認定こども園","〇","")
A26: 17
A27: 18
A28: 19
A29: 20
A30: 21
A31: 22
A32: 23
A33: 24
A34: 25
A35: 26
A36: 27
A37: 28
... A47: 38
A48: 39 | H48: =IF(C48="⑤園内における研修を企画・実施する幼稚園又は認定こども園","〇","")
A49: 40 | H49: =IF(C49="⑤園内における研修を企画・実施する幼稚園又は認定こども園","〇","")
A50: 41
A51: 42
A52: 43 | H52: =IF(C52="⑤園内における研修を企画・実施する幼稚園又は認定こども園","〇","")
A53: 44
A54: 45
A55: 46 | H55: =IF(C55="⑤園内における研修を企画・実施する幼稚園又は認定こども園","〇","")
A56: 47
A57: 48
A58: 49 | H58: =IF(C58="⑤園内における研修を企画・実施する幼稚園又は認定こども園","〇","")
A59: 50 | H59: =IF(C59="⑤園内における研修を企画・実施する幼稚園又は認定こども園","〇","")
A60: 51
A61: 52
A62: 53 | H62: =IF(C62="⑤園内における研修を企画・実施する幼稚園又は認定こども園","〇","")
A63: 54
A64: 55
A65: 56
A66: 57
A67: 58 | M67: 園内研修 | N67: 最大時間
A68: 59 | M68: 中核リーダー | N68: 15
A69: 60 | H69: =IF(C69="⑤園内における研修を企画・実施する幼稚園又は認定こども園","〇","") | M69: 専門リーダー | N69: 15
A70: 合計 | G70: =SUMIF(G10:G69,"〇",I10:I69) -> 15 | H70: =IF(SUMIF(C10:C69,"⑤園内における研修を企画・実施する幼稚園又は認定こども園",I10:I69)>VLOOKUP(C6,M62:N71,2,FALSE),VLOOKUP(C6,M62:N71,2,FALSE),SUMIF(C10:C69,"⑤園内における研修を企画・実施する幼稚園又は認定こども園",I10:I69)) -> 10 | I70: =IF(L70<0,SUM(I10:I69,L70),SUM(I10:I69)) -> 75 | L70: =IF(SUMIF(C10:C69,"⑤園内における研修を企画・実施する幼稚園又は認定こども園",I10:I69)>VLOOKUP(C6,M62:N71,2,FALSE),VLOOKUP(C6,M62:N71,2,FALSE)-SUMIF(C10:C69,"⑤園内における研修を企画・実施する幼稚園又は認定こども園",I10:I69),"") | M70: 若手リーダー | N70: 4
B71: 【留意事項】 | M71: なし_職員処遇改善費の対象者 | N71: 4
B72: (1) 研修ごとに１行で記載する。
B73: (2) 「修了年月日」は、研修修了証の年月日又は研修を受講した年月日を記入する。
B74: (3) 園内研修（幼稚園等）を対象としたい場合は、「園内研修実施状況」を添付する。
B75: (4) 一覧の内容を確認できる資料（幼稚園教諭免許状更新講習修了証明書（履修証明書）の写し等）を施設において保管する。 | M75: =SUMIF($H$10:$H$69,"〇",$I$10:$I$69)<=VLOOKUP(C6,M68:N71,2,FALSE) -> TRUE
B76: (5) 行が足りない場合は、No２～59の行を選択し、挿入してください。
B77: (6) 区分３及び職員処遇改善費の対象となる研修は「施設型給付費等に係る処遇改善等加算（区分３）に係る研修修了要件について」（令和７年９月16日付けこ成基202・７初幼教第４号 こども家庭庁成育局保育政策課長、こども家庭庁成育局成育基盤企画課長及び文部科学省初等中等教育局幼児教育課長連盟通知）の記載に基づくものとする。 | M77: 教頭で中核リーダーの研修 | N77: 15
B78: (7) 保育士等キャリアアップ研修は「保育士等キャリアアップ研修の実施について（平成29年４月１日厚生労働省雇用均等・児童家庭局保育課長通知）」の記載に基づくものが対象となる。 実施主体は「都道府県又は都道府県知事の指定した研修実施機関」とする。 | M78: 教頭で専門リーダーの研修 | N78: 15

Sheet ①集計表
A1: 第５号様式の２ | AF1: 令和６年度研修受講履歴一覧
C2: 令和８年度 研修受講履歴一覧 集計表 | G2: （幼稚園・認定こども園）
C4: 下記説明テキストに注意事項、対象研修を記載しております。 | G4: 所在区 | H4: =VLOOKUP($H$6,'R8施設一覧'!$A$2:$F$2000,4,0) -> #N/A
C5: 必ず確認しながら、作成してください | G5: 施設・事業所種別 | H5: =VLOOKUP($H$6,'R8施設一覧'!$A$2:$F$2000,3,0) -> #N/A
C6: ●処遇改善等加算区分１・２・３及び職員処遇改善費～制度編～（令和8年4月版） | G6: 施設・事業所番号 | P6: =IF(H6="","",H6)
C7: ●処遇改善等加算区分３及び職員処遇改善費 申請事務手続き編（令和8年10月版） | G7: 施設・事業所名 | H7: =VLOOKUP($H$6,'R8施設一覧'!$A$2:$F$2000,6,0) -> #N/A | P7: =IF(H7="","",H7) -> #N/A
G8: 代表者職・氏名
B9: Ｂ列最後非表示にする
A10: No | B10: シート名 | C10: 氏名 | D10: 職位 | F10: 修了時間数
A12: 1 | B12: ②名簿１ | C12: {=IF(INDIRECT($B12&"!$C$7")="","",INDIRECT($B12&"!$C$7"))} | D12: {=IF(INDIRECT($B12&"!$C$6")="","",INDIRECT($B12&"!$C$6"))} | F12: {=IF(INDIRECT($B12&"!$I$71")="","",INDIRECT($B12&"!$I$71"))} -> #N/A
A13: 2 | B13: ②名簿２ | C13: {=IF(INDIRECT($B13&"!$C$7")="","",INDIRECT($B13&"!$C$7"))} | D13: {=IF(INDIRECT($B13&"!$C$6")="","",INDIRECT($B13&"!$C$6"))} | F13: {=IF(INDIRECT($B13&"!$I$71")="","",INDIRECT($B13&"!$I$71"))} -> #N/A
A14: 3 | B14: ②名簿３ | C14: {=IF(INDIRECT($B14&"!$C$7")="","",INDIRECT($B14&"!$C$7"))} | D14: {=IF(INDIRECT($B14&"!$C$6")="","",INDIRECT($B14&"!$C$6"))} | F14: {=IF(INDIRECT($B14&"!$I$71")="","",INDIRECT($B14&"!$I$71"))} -> #N/A
A15: 4 | B15: ②名簿４ | C15: {=IF(INDIRECT($B15&"!$C$7")="","",INDIRECT($B15&"!$C$7"))} | D15: {=IF(INDIRECT($B15&"!$C$6")="","",INDIRECT($B15&"!$C$6"))} | F15: {=IF(INDIRECT($B15&"!$I$71")="","",INDIRECT($B15&"!$I$71"))} -> #N/A
A16: 5 | B16: ②名簿５ | C16: {=IF(INDIRECT($B16&"!$C$7")="","",INDIRECT($B16&"!$C$7"))} | D16: {=IF(INDIRECT($B16&"!$C$6")="","",INDIRECT($B16&"!$C$6"))} | F16: {=IF(INDIRECT($B16&"!$I$71")="","",INDIRECT($B16&"!$I$71"))} -> #N/A
A17: 6 | B17: ②名簿６ | C17: {=IF(INDIRECT($B17&"!$C$7")="","",INDIRECT($B17&"!$C$7"))} | D17: {=IF(INDIRECT($B17&"!$C$6")="","",INDIRECT($B17&"!$C$6"))} | F17: {=IF(INDIRECT($B17&"!$I$71")="","",INDIRECT($B17&"!$I$71"))} -> #N/A
A18: 7 | B18: ②名簿７ | C18: {=IF(INDIRECT($B18&"!$C$7")="","",INDIRECT($B18&"!$C$7"))} | D18: {=IF(INDIRECT($B18&"!$C$6")="","",INDIRECT($B18&"!$C$6"))} | F18: {=IF(INDIRECT($B18&"!$I$71")="","",INDIRECT($B18&"!$I$71"))} -> #N/A
A19: 8 | B19: ②名簿８ | C19: {=IF(INDIRECT($B19&"!$C$7")="","",INDIRECT($B19&"!$C$7"))} | D19: {=IF(INDIRECT($B19&"!$C$6")="","",INDIRECT($B19&"!$C$6"))} | F19: {=IF(INDIRECT($B19&"!$I$71")="","",INDIRECT($B19&"!$I$71"))} -> #N/A
A20: 9 | B20: ②名簿９ | C20: {=IF(INDIRECT($B20&"!$C$7")="","",INDIRECT($B20&"!$C$7"))} | D20: {=IF(INDIRECT($B20&"!$C$6")="","",INDIRECT($B20&"!$C$6"))} | F20: {=IF(INDIRECT($B20&"!$I$71")="","",INDIRECT($B20&"!$I$71"))} -> #N/A
A21: 10 | B21: ②名簿１０ | C21: {=IF(INDIRECT($B21&"!$C$7")="","",INDIRECT($B21&"!$C$7"))} | D21: {=IF(INDIRECT($B21&"!$C$6")="","",INDIRECT($B21&"!$C$6"))} | F21: {=IF(INDIRECT($B21&"!$I$71")="","",INDIRECT($B21&"!$I$71"))} -> #N/A
A22: 11 | B22: ②名簿１１ | C22: {=IF(INDIRECT($B22&"!$C$7")="","",INDIRECT($B22&"!$C$7"))} | D22: {=IF(INDIRECT($B22&"!$C$6")="","",INDIRECT($B22&"!$C$6"))} | F22: {=IF(INDIRECT($B22&"!$I$71")="","",INDIRECT($B22&"!$I$71"))} -> #N/A
A23: 12 | B23: ②名簿１２ | C23: {=IF(INDIRECT($B23&"!$C$7")="","",INDIRECT($B23&"!$C$7"))} | D23: {=IF(INDIRECT($B23&"!$C$6")="","",INDIRECT($B23&"!$C$6"))} | F23: {=IF(INDIRECT($B23&"!$I$71")="","",INDIRECT($B23&"!$I$71"))} -> #N/A
... A111: 100 | B111: ②名簿１００ | C111: {=IF(INDIRECT($B111&"!$C$7")="","",INDIRECT($B111&"!$C$7"))} | D111: {=IF(INDIRECT($B111&"!$C$6")="","",INDIRECT($B111&"!$C$6"))} | F111: {=IF(INDIRECT($B111&"!$I$71")="","",INDIRECT($B111&"!$I$71"))} -> #N/A

Sheet ②名簿１
A1: 第５号様式の２ | D1: 令和 ８ 年度 研修受講履歴一覧集計表 （幼稚園・認定こども園）
H3: 所在区 | I3: =①集計表!H4 -> #N/A
H4: 施設・事業種別 | I4: =①集計表!H5 -> #N/A | L4: =IFERROR(LEFT(I4,FIND("（",I4)-1),I4)&C6 -> #N/A
H5: 施設・事業所番号 | I5: =①集計表!H6 -> 0
B6: 職位 | D6: ↓マネジメント分野の修了チェック↓ | H6: 施設・事業所名 | I6: =①集計表!H7 -> #N/A
B7: 氏名 | D7: =IF($C$6="","職位を選択してください",IF(ISNUMBER(SEARCH("中核リーダー",C6)),IF(SUMIF(G:G,"〇",I:I)>=15,"必修時間を満たしています","区分３（人数Ａ）対象者は、マネジメント分野（15時間）必修です。 入力してください。"),IF(ISNUMBER(SEARCH("専門リーダー",C6)),"必修ではありません。保育士等キャリアアップ研修のマネジメント分野は、令和４年３月31日までの修了分まで算定可。",IF(ISNUMBER(SEARCH("若手リーダー",C6)),"必修ではありません。保育士等キャリアアップ研修のマネジメント分野は、令和２年３月31日までの修了分まで算定可。","必修ではありません。")))) -> 職位を選択してください | H7: 代表者職・氏名 | I7: =①集計表!H8 -> 0 | K7: =Z4 -> 0
A9: 区分３及び職員処遇改善費の対象と認められる研修のみ入力してください（下記(6)参照）。そのうち、キャリアアップ研修が対象か否かについては最下部(7)を参照のうえ、不明な場合は実施主体に必ず確認してください。
A10: No | B10: 各行最後に入力 修了年月日 (例:R2.6.1) ※研修種別～ 研修分野 を入力後に入力してください。 | C10: 実施主体等 | D10: 講義名・テーマ | E10: キャリアアップ研修 研修分野 ※施設情報・職位を入力後に選択してください | F10: 修了証番号 | G10: マネジメント分野に係る 研修の場合は〇 | H10: 園内研修 | I10: 修了時間数 | J10: 備考 | K10: 開始日 | L10: キャリアアップ研修 | M10: 42826
A11: 1 | H11: =IF(C11="⑤園内における研修を企画・実施する幼稚園又は認定こども園","〇","") | K11: 終了日 | L11: マネジメント (専門リーダー) | M11: 44651
A12: 2 | H12: =IF(C12="⑤園内における研修を企画・実施する幼稚園又は認定こども園","〇","") | L12: マネジメント (若手リーダー) | M12: 43921
A13: 3 | H13: =IF(C13="⑤園内における研修を企画・実施する幼稚園又は認定こども園","〇","") | L13: それ以外 の研修 | M13: 45747
A14: 4 | H14: =IF(C14="⑤園内における研修を企画・実施する幼稚園又は認定こども園","〇","")
A15: 5 | H15: =IF(C15="⑤園内における研修を企画・実施する幼稚園又は認定こども園","〇","")
A16: 6 | H16: =IF(C16="⑤園内における研修を企画・実施する幼稚園又は認定こども園","〇","")
A17: 7 | H17: =IF(C17="⑤園内における研修を企画・実施する幼稚園又は認定こども園","〇","")
A18: 8 | H18: =IF(C18="⑤園内における研修を企画・実施する幼稚園又は認定こども園","〇","")
A19: 9 | H19: =IF(C19="⑤園内における研修を企画・実施する幼稚園又は認定こども園","〇","")
A20: 10 | H20: =IF(C20="⑤園内における研修を企画・実施する幼稚園又は認定こども園","〇","")
A21: 11 | H21: =IF(C21="⑤園内における研修を企画・実施する幼稚園又は認定こども園","〇","")
A22: 12 | H22: =IF(C22="⑤園内における研修を企画・実施する幼稚園又は認定こども園","〇","")
A23: 13 | H23: =IF(C23="⑤園内における研修を企画・実施する幼稚園又は認定こども園","〇","")
A24: 14 | H24: =IF(C24="⑤園内における研修を企画・実施する幼稚園又は認定こども園","〇","")
A25: 15 | H25: =IF(C25="⑤園内における研修を企画・実施する幼稚園又は認定こども園","〇","")
... A67: 57 | H67: =IF(C67="⑤園内における研修を企画・実施する幼稚園又は認定こども園","〇","")
A68: 58 | H68: =IF(C68="⑤園内における研修を企画・実施する幼稚園又は認定こども園","〇","") | M68: 園内研修 | N68: 最大時間
A69: 59 | H69: =IF(C69="⑤園内における研修を企画・実施する幼稚園又は認定こども園","〇","") | M69: 中核リーダー | N69: 15
A70: 60 | H70: =IF(C70="⑤園内における研修を企画・実施する幼稚園又は認定こども園","〇","") | M70: 専門リーダー | N70: 15
A71: 合計 | G71: =SUMIF(G11:G70,"〇",I11:I70) -> 0 | H71: =IF(SUMIF(C11:C70,"⑤園内における研修を企画・実施する幼稚園又は認定こども園",I11:I70)>VLOOKUP(C6,M68:N83,2,FALSE),VLOOKUP(C6,M68:N83,2,FALSE),SUMIF(C11:C70,"⑤園内における研修を企画・実施する幼稚園又は認定こども園",I11:I70)) -> #N/A | I71: =IF(L71<0,SUM(I11:I70,L71),SUM(I11:I70)) -> #N/A | L71: =IF(SUMIF(C11:C70,"⑤園内における研修を企画・実施する幼稚園又は認定こども園",I11:I70)>VLOOKUP(C6,M68:N83,2,FALSE),VLOOKUP(C6,M68:N83,2,FALSE)-SUMIF(C11:C70,"⑤園内における研修を企画・実施する幼稚園又は認定こども園",I11:I70),"") -> #N/A | M71: 若手リーダー | N71: 4
B72: 【留意事項】 | M72: 若手リーダー | N72: 4
B73: (1) 研修ごとに１行で記載する。 | M73: なし_職員処遇改善費のみの対象者 | N73: 15
B74: (2) 「修了年月日」は、研修修了証の年月日又は研修を受講した年月日を記入する。 | M74: 園長で中核リーダーの研修 | N74: 15
B75: (3) 園内研修（幼稚園等）を対象としたい場合は、「園内研修実施状況」を添付すること。 | M75: 園長で専門リーダーの研修 | N75: 15
B76: (4) 一覧の内容を確認できる資料（幼稚園教諭免許状更新講習修了証明書（履修証明書）の写し等）を施設において保管すること。 | M76: 副園長で中核リーダーの研修 | N76: 15
B77: (5) 行が足りない場合は、No２～59の行を選択し、挿入すること。 | M77: 副園長で専門リーダーの研修 | N77: 15
B78: (6) 区分３及び職員処遇改善費の対象となる研修は「施設型給付費等に係る処遇改善等加算（区分３）に係る研修修了要件について」（令和７年９月16日付けこ成基202・７初幼教第４号 こども家庭庁成育局保育政策課長、こども家庭庁成育局成育基盤企画課長及び文部科学省初等中等教育局幼児教育課長連盟通知）の記載に基づくものとする。 | M78: 教頭で中核リーダーの研修 | N78: 15
B79: (7) 保育士等キャリアアップ研修は「保育士等キャリアアップ研修の実施について（平成29年４月１日厚生労働省雇用均等・児童家庭局保育課長通知）」の記載に基づくものが対象となる。 実施主体は「都道府県又は都道府県知事の指定した研修実施機関」とする。 | M79: 教頭で専門リーダーの研修 | N79: 15
M80: 主幹教諭で中核リーダーの研修 | N80: 15
M81: 主幹教諭で専門リーダーの研修 | N81: 15
M82: 主幹保育教諭で中核リーダーの研修 | N82: 15
M83: 主幹保育教諭で専門リーダーの研修 | N83: 15

Sheet ②名簿２
A1: 第５号様式の２ | D1: 令和 ８ 年度 研修受講履歴一覧集計表 （幼稚園・認定こども園）
H3: 所在区 | I3: =①集計表!H4 -> #N/A
H4: 施設・事業種別 | I4: =①集計表!H5 -> #N/A | L4: =IFERROR(LEFT(I4,FIND("（",I4)-1),I4)&C6 -> #N/A
H5: 施設・事業所番号 | I5: =①集計表!H6 -> 0
B6: 職位 | D6: ↓マネジメント分野の修了チェック↓ | H6: 施設・事業所名 | I6: =①集計表!H7 -> #N/A
B7: 氏名 | D7: =IF($C$6="","職位を選択してください",IF(ISNUMBER(SEARCH("中核リーダー",C6)),IF(SUMIF(G:G,"〇",I:I)>=15,"必修時間を満たしています","区分３（人数Ａ）対象者は、マネジメント分野（15時間）必修です。 入力してください。"),IF(ISNUMBER(SEARCH("専門リーダー",C6)),"必修ではありません。保育士等キャリアアップ研修のマネジメント分野は、令和４年３月31日までの修了分まで算定可。",IF(ISNUMBER(SEARCH("若手リーダー",C6)),"必修ではありません。保育士等キャリアアップ研修のマネジメント分野は、令和２年３月31日までの修了分まで算定可。","必修ではありません。")))) -> 職位を選択してください | H7: 代表者職・氏名 | I7: =①集計表!H8 -> 0 | K7: =Z4 -> 0
A9: 区分３及び職員処遇改善費の対象と認められる研修のみ入力してください（下記(6)参照）。そのうち、キャリアアップ研修が対象か否かについては最下部(7)を参照のうえ、不明な場合は実施主体に必ず確認してください。
A10: No | B10: 各行最後に入力 修了年月日 (例:R2.6.1) ※研修種別～ 研修分野 を入力後に入力してください。 | C10: 実施主体等 | D10: 講義名・テーマ | E10: キャリアアップ研修 研修分野 ※施設情報・職位を入力後に選択してください | F10: 修了証番号 | G10: マネジメント分野に係る 研修の場合は〇 | H10: 園内研修 | I10: 修了時間数 | J10: 備考 | K10: 開始日 | L10: キャリアアップ研修 | M10: 42826
A11: 1 | H11: =IF(C11="⑤園内における研修を企画・実施する幼稚園又は認定こども園","〇","") | K11: 終了日 | L11: マネジメント (専門リーダー) | M11: 44651
A12: 2 | H12: =IF(C12="⑤園内における研修を企画・実施する幼稚園又は認定こども園","〇","") | L12: マネジメント (若手リーダー) | M12: 43921
A13: 3 | H13: =IF(C13="⑤園内における研修を企画・実施する幼稚園又は認定こども園","〇","") | L13: それ以外 の研修 | M13: 45747
A14: 4 | H14: =IF(C14="⑤園内における研修を企画・実施する幼稚園又は認定こども園","〇","")
A15: 5 | H15: =IF(C15="⑤園内における研修を企画・実施する幼稚園又は認定こども園","〇","")
A16: 6 | H16: =IF(C16="⑤園内における研修を企画・実施する幼稚園又は認定こども園","〇","")
A17: 7 | H17: =IF(C17="⑤園内における研修を企画・実施する幼稚園又は認定こども園","〇","")
A18: 8 | H18: =IF(C18="⑤園内における研修を企画・実施する幼稚園又は認定こども園","〇","")
A19: 9 | H19: =IF(C19="⑤園内における研修を企画・実施する幼稚園又は認定こども園","〇","")
A20: 10 | H20: =IF(C20="⑤園内における研修を企画・実施する幼稚園又は認定こども園","〇","")
A21: 11 | H21: =IF(C21="⑤園内における研修を企画・実施する幼稚園又は認定こども園","〇","")
A22: 12 | H22: =IF(C22="⑤園内における研修を企画・実施する幼稚園又は認定こども園","〇","")
A23: 13 | H23: =IF(C23="⑤園内における研修を企画・実施する幼稚園又は認定こども園","〇","")
A24: 14 | H24: =IF(C24="⑤園内における研修を企画・実施する幼稚園又は認定こども園","〇","")
A25: 15 | H25: =IF(C25="⑤園内における研修を企画・実施する幼稚園又は認定こども園","〇","")
... A67: 57 | H67: =IF(C67="⑤園内における研修を企画・実施する幼稚園又は認定こども園","〇","")
A68: 58 | H68: =IF(C68="⑤園内における研修を企画・実施する幼稚園又は認定こども園","〇","") | M68: 園内研修 | N68: 最大時間
A69: 59 | H69: =IF(C69="⑤園内における研修を企画・実施する幼稚園又は認定こども園","〇","") | M69: 中核リーダー | N69: 15
A70: 60 | H70: =IF(C70="⑤園内における研修を企画・実施する幼稚園又は認定こども園","〇","") | M70: 専門リーダー | N70: 15
A71: 合計 | G71: =SUMIF(G11:G70,"〇",I11:I70) -> 0 | H71: =IF(SUMIF(C11:C70,"⑤園内における研修を企画・実施する幼稚園又は認定こども園",I11:I70)>VLOOKUP(C6,M68:N83,2,FALSE),VLOOKUP(C6,M68:N83,2,FALSE),SUMIF(C11:C70,"⑤園内における研修を企画・実施する幼稚園又は認定こども園",I11:I70)) -> #N/A | I71: =IF(L71<0,SUM(I11:I70,L71),SUM(I11:I70)) -> #N/A | L71: =IF(SUMIF(C11:C70,"⑤園内における研修を企画・実施する幼稚園又は認定こども園",I11:I70)>VLOOKUP(C6,M68:N83,2,FALSE),VLOOKUP(C6,M68:N83,2,FALSE)-SUMIF(C11:C70,"⑤園内における研修を企画・実施する幼稚園又は認定こども園",I11:I70),"") -> #N/A | M71: 若手リーダー | N71: 4
B72: 【留意事項】 | M72: 若手リーダー | N72: 4
B73: (1) 研修ごとに１行で記載する。 | M73: なし_職員処遇改善費のみの対象者 | N73: 15
B74: (2) 「修了年月日」は、研修修了証の年月日又は研修を受講した年月日を記入する。 | M74: 園長で中核リーダーの研修 | N74: 15
B75: (3) 園内研修（幼稚園等）を対象としたい場合は、「園内研修実施状況」を添付すること。 | M75: 園長で専門リーダーの研修 | N75: 15
B76: (4) 一覧の内容を確認できる資料（幼稚園教諭免許状更新講習修了証明書（履修証明書）の写し等）を施設において保管すること。 | M76: 副園長で中核リーダーの研修 | N76: 15
B77: (5) 行が足りない場合は、No２～59の行を選択し、挿入すること。 | M77: 副園長で専門リーダーの研修 | N77: 15
B78: (6) 区分３及び職員処遇改善費の対象となる研修は「施設型給付費等に係る処遇改善等加算（区分３）に係る研修修了要件について」（令和７年９月16日付けこ成基202・７初幼教第４号 こども家庭庁成育局保育政策課長、こども家庭庁成育局成育基盤企画課長及び文部科学省初等中等教育局幼児教育課長連盟通知）の記載に基づくものとする。 | M78: 教頭で中核リーダーの研修 | N78: 15
B79: (7) 保育士等キャリアアップ研修は「保育士等キャリアアップ研修の実施について（平成29年４月１日厚生労働省雇用均等・児童家庭局保育課長通知）」の記載に基づくものが対象となる。 実施主体は「都道府県又は都道府県知事の指定した研修実施機関」とする。 | M79: 教頭で専門リーダーの研修 | N79: 15
M80: 主幹教諭で中核リーダーの研修 | N80: 15
M81: 主幹教諭で専門リーダーの研修 | N81: 15
M82: 主幹保育教諭で中核リーダーの研修 | N82: 15
M83: 主幹保育教諭で専門リーダーの研修 | N83: 15

Sheet ②名簿３
A1: 第５号様式の２ | D1: 令和 ８ 年度 研修受講履歴一覧集計表 （幼稚園・認定こども園）
H3: 所在区 | I3: =①集計表!H4 -> #N/A
H4: 施設・事業種別 | I4: =①集計表!H5 -> #N/A | L4: =IFERROR(LEFT(I4,FIND("（",I4)-1),I4)&C6 -> #N/A
H5: 施設・事業所番号 | I5: =①集計表!H6 -> 0
B6: 職位 | D6: ↓マネジメント分野の修了チェック↓ | H6: 施設・事業所名 | I6: =①集計表!H7 -> #N/A
B7: 氏名 | D7: =IF($C$6="","職位を選択してください",IF(ISNUMBER(SEARCH("中核リーダー",C6)),IF(SUMIF(G:G,"〇",I:I)>=15,"必修時間を満たしています","区分３（人数Ａ）対象者は、マネジメント分野（15時間）必修です。 入力してください。"),IF(ISNUMBER(SEARCH("専門リーダー",C6)),"必修ではありません。保育士等キャリアアップ研修のマネジメント分野は、令和４年３月31日までの修了分まで算定可。",IF(ISNUMBER(SEARCH("若手リーダー",C6)),"必修ではありません。保育士等キャリアアップ研修のマネジメント分野は、令和２年３月31日までの修了分まで算定可。","必修ではありません。")))) -> 職位を選択してください | H7: 代表者職・氏名 | I7: =①集計表!H8 -> 0 | K7: =Z4 -> 0
A9: 区分３及び職員処遇改善費の対象と認められる研修のみ入力してください（下記(6)参照）。そのうち、キャリアアップ研修が対象か否かについては最下部(7)を参照のうえ、不明な場合は実施主体に必ず確認してください。
A10: No | B10: 各行最後に入力 修了年月日 (例:R2.6.1) ※研修種別～ 研修分野 を入力後に入力してください。 | C10: 実施主体等 | D10: 講義名・テーマ | E10: キャリアアップ研修 研修分野 ※施設情報・職位を入力後に選択してください | F10: 修了証番号 | G10: マネジメント分野に係る 研修の場合は〇 | H10: 園内研修 | I10: 修了時間数 | J10: 備考 | K10: 開始日 | L10: キャリアアップ研修 | M10: 42826
A11: 1 | H11: =IF(C11="⑤園内における研修を企画・実施する幼稚園又は認定こども園","〇","") | K11: 終了日 | L11: マネジメント (専門リーダー) | M11: 44651
A12: 2 | H12: =IF(C12="⑤園内における研修を企画・実施する幼稚園又は認定こども園","〇","") | L12: マネジメント (若手リーダー) | M12: 43921
A13: 3 | H13: =IF(C13="⑤園内における研修を企画・実施する幼稚園又は認定こども園","〇","") | L13: それ以外 の研修 | M13: 45747
A14: 4 | H14: =IF(C14="⑤園内における研修を企画・実施する幼稚園又は認定こども園","〇","")
A15: 5 | H15: =IF(C15="⑤園内における研修を企画・実施する幼稚園又は認定こども園","〇","")
A16: 6 | H16: =IF(C16="⑤園内における研修を企画・実施する幼稚園又は認定こども園","〇","")
A17: 7 | H17: =IF(C17="⑤園内における研修を企画・実施する幼稚園又は認定こども園","〇","")
A18: 8 | H18: =IF(C18="⑤園内における研修を企画・実施する幼稚園又は認定こども園","〇","")
A19: 9 | H19: =IF(C19="⑤園内における研修を企画・実施する幼稚園又は認定こども園","〇","")
A20: 10 | H20: =IF(C20="⑤園内における研修を企画・実施する幼稚園又は認定こども園","〇","")
A21: 11 | H21: =IF(C21="⑤園内における研修を企画・実施する幼稚園又は認定こども園","〇","")
A22: 12 | H22: =IF(C22="⑤園内における研修を企画・実施する幼稚園又は認定こども園","〇","")
A23: 13 | H23: =IF(C23="⑤園内における研修を企画・実施する幼稚園又は認定こども園","〇","")
A24: 14 | H24: =IF(C24="⑤園内における研修を企画・実施する幼稚園又は認定こども園","〇","")
A25: 15 | H25: =IF(C25="⑤園内における研修を企画・実施する幼稚園又は認定こども園","〇","")
... A67: 57 | H67: =IF(C67="⑤園内における研修を企画・実施する幼稚園又は認定こども園","〇","")
A68: 58 | H68: =IF(C68="⑤園内における研修を企画・実施する幼稚園又は認定こども園","〇","") | M68: 園内研修 | N68: 最大時間
A69: 59 | H69: =IF(C69="⑤園内における研修を企画・実施する幼稚園又は認定こども園","〇","") | M69: 中核リーダー | N69: 15
A70: 60 | H70: =IF(C70="⑤園内における研修を企画・実施する幼稚園又は認定こども園","〇","") | M70: 専門リーダー | N70: 15
A71: 合計 | G71: =SUMIF(G11:G70,"〇",I11:I70) -> 0 | H71: =IF(SUMIF(C11:C70,"⑤園内における研修を企画・実施する幼稚園又は認定こども園",I11:I70)>VLOOKUP(C6,M68:N83,2,FALSE),VLOOKUP(C6,M68:N83,2,FALSE),SUMIF(C11:C70,"⑤園内における研修を企画・実施する幼稚園又は認定こども園",I11:I70)) -> #N/A | I71: =IF(L71<0,SUM(I11:I70,L71),SUM(I11:I70)) -> #N/A | L71: =IF(SUMIF(C11:C70,"⑤園内における研修を企画・実施する幼稚園又は認定こども園",I11:I70)>VLOOKUP(C6,M68:N83,2,FALSE),VLOOKUP(C6,M68:N83,2,FALSE)-SUMIF(C11:C70,"⑤園内における研修を企画・実施する幼稚園又は認定こども園",I11:I70),"") -> #N/A | M71: 若手リーダー | N71: 4
B72: 【留意事項】 | M72: 若手リーダー | N72: 4
B73: (1) 研修ごとに１行で記載する。 | M73: なし_職員処遇改善費のみの対象者 | N73: 15
B74: (2) 「修了年月日」は、研修修了証の年月日又は研修を受講した年月日を記入する。 | M74: 園長で中核リーダーの研修 | N74: 15
B75: (3) 園内研修（幼稚園等）を対象としたい場合は、「園内研修実施状況」を添付すること。 | M75: 園長で専門リーダーの研修 | N75: 15
B76: (4) 一覧の内容を確認できる資料（幼稚園教諭免許状更新講習修了証明書（履修証明書）の写し等）を施設において保管すること。 | M76: 副園長で中核リーダーの研修 | N76: 15
B77: (5) 行が足りない場合は、No２～59の行を選択し、挿入すること。 | M77: 副園長で専門リーダーの研修 | N77: 15
B78: (6) 区分３及び職員処遇改善費の対象となる研修は「施設型給付費等に係る処遇改善等加算（区分３）に係る研修修了要件について」（令和７年９月16日付けこ成基202・７初幼教第４号 こども家庭庁成育局保育政策課長、こども家庭庁成育局成育基盤企画課長及び文部科学省初等中等教育局幼児教育課長連盟通知）の記載に基づくものとする。 | M78: 教頭で中核リーダーの研修 | N78: 15
B79: (7) 保育士等キャリアアップ研修は「保育士等キャリアアップ研修の実施について（平成29年４月１日厚生労働省雇用均等・児童家庭局保育課長通知）」の記載に基づくものが対象となる。 実施主体は「都道府県又は都道府県知事の指定した研修実施機関」とする。 | M79: 教頭で専門リーダーの研修 | N79: 15
M80: 主幹教諭で中核リーダーの研修 | N80: 15
M81: 主幹教諭で専門リーダーの研修 | N81: 15
M82: 主幹保育教諭で中核リーダーの研修 | N82: 15
M83: 主幹保育教諭で専門リーダーの研修 | N83: 15

Sheet ②名簿４
A1: 第５号様式の２ | D1: 令和 ８ 年度 研修受講履歴一覧集計表 （幼稚園・認定こども園）
H3: 所在区 | I3: =①集計表!H4 -> #N/A
H4: 施設・事業種別 | I4: =①集計表!H5 -> #N/A | L4: =IFERROR(LEFT(I4,FIND("（",I4)-1),I4)&C6 -> #N/A
H5: 施設・事業所番号 | I5: =①集計表!H6 -> 0
B6: 職位 | D6: ↓マネジメント分野の修了チェック↓ | H6: 施設・事業所名 | I6: =①集計表!H7 -> #N/A
B7: 氏名 | D7: =IF($C$6="","職位を選択してください",IF(ISNUMBER(SEARCH("中核リーダー",C6)),IF(SUMIF(G:G,"〇",I:I)>=15,"必修時間を満たしています","区分３（人数Ａ）対象者は、マネジメント分野（15時間）必修です。 入力してください。"),IF(ISNUMBER(SEARCH("専門リーダー",C6)),"必修ではありません。保育士等キャリアアップ研修のマネジメント分野は、令和４年３月31日までの修了分まで算定可。",IF(ISNUMBER(SEARCH("若手リーダー",C6)),"必修ではありません。保育士等キャリアアップ研修のマネジメント分野は、令和２年３月31日までの修了分まで算定可。","必修ではありません。")))) -> 職位を選択してください | H7: 代表者職・氏名 | I7: =①集計表!H8 -> 0 | K7: =Z4 -> 0
A9: 区分３及び職員処遇改善費の対象と認められる研修のみ入力してください（下記(6)参照）。そのうち、キャリアアップ研修が対象か否かについては最下部(7)を参照のうえ、不明な場合は実施主体に必ず確認してください。
A10: No | B10: 各行最後に入力 修了年月日 (例:R2.6.1) ※研修種別～ 研修分野 を入力後に入力してください。 | C10: 実施主体等 | D10: 講義名・テーマ | E10: キャリアアップ研修 研修分野 ※施設情報・職位を入力後に選択してください | F10: 修了証番号 | G10: マネジメント分野に係る 研修の場合は〇 | H10: 園内研修 | I10: 修了時間数 | J10: 備考 | K10: 開始日 | L10: キャリアアップ研修 | M10: 42826
A11: 1 | H11: =IF(C11="⑤園内における研修を企画・実施する幼稚園又は認定こども園","〇","") | K11: 終了日 | L11: マネジメント (専門リーダー) | M11: 44651
A12: 2 | H12: =IF(C12="⑤園内における研修を企画・実施する幼稚園又は認定こども園","〇","") | L12: マネジメント (若手リーダー) | M12: 43921
A13: 3 | H13: =IF(C13="⑤園内における研修を企画・実施する幼稚園又は認定こども園","〇","") | L13: それ以外 の研修 | M13: 45747
A14: 4 | H14: =IF(C14="⑤園内における研修を企画・実施する幼稚園又は認定こども園","〇","")
A15: 5 | H15: =IF(C15="⑤園内における研修を企画・実施する幼稚園又は認定こども園","〇","")
A16: 6 | H16: =IF(C16="⑤園内における研修を企画・実施する幼稚園又は認定こども園","〇","")
A17: 7 | H17: =IF(C17="⑤園内における研修を企画・実施する幼稚園又は認定こども園","〇","")
A18: 8 | H18: =IF(C18="⑤園内における研修を企画・実施する幼稚園又は認定こども園","〇","")
A19: 9 | H19: =IF(C19="⑤園内における研修を企画・実施する幼稚園又は認定こども園","〇","")
A20: 10 | H20: =IF(C20="⑤園内における研修を企画・実施する幼稚園又は認定こども園","〇","")
A21: 11 | H21: =IF(C21="⑤園内における研修を企画・実施する幼稚園又は認定こども園","〇","")
A22: 12 | H22: =IF(C22="⑤園内における研修を企画・実施する幼稚園又は認定こども園","〇","")
A23: 13 | H23: =IF(C23="⑤園内における研修を企画・実施する幼稚園又は認定こども園","〇","")
A24: 14 | H24: =IF(C24="⑤園内における研修を企画・実施する幼稚園又は認定こども園","〇","")
A25: 15 | H25: =IF(C25="⑤園内における研修を企画・実施する幼稚園又は認定こども園","〇","")
... A67: 57 | H67: =IF(C67="⑤園内における研修を企画・実施する幼稚園又は認定こども園","〇","")
A68: 58 | H68: =IF(C68="⑤園内における研修を企画・実施する幼稚園又は認定こども園","〇","") | M68: 園内研修 | N68: 最大時間
A69: 59 | H69: =IF(C69="⑤園内における研修を企画・実施する幼稚園又は認定こども園","〇","") | M69: 中核リーダー | N69: 15
A70: 60 | H70: =IF(C70="⑤園内における研修を企画・実施する幼稚園又は認定こども園","〇","") | M70: 専門リーダー | N70: 15
A71: 合計 | G71: =SUMIF(G11:G70,"〇",I11:I70) -> 0 | H71: =IF(SUMIF(C11:C70,"⑤園内における研修を企画・実施する幼稚園又は認定こども園",I11:I70)>VLOOKUP(C6,M68:N83,2,FALSE),VLOOKUP(C6,M68:N83,2,FALSE),SUMIF(C11:C70,"⑤園内における研修を企画・実施する幼稚園又は認定こども園",I11:I70)) -> #N/A | I71: =IF(L71<0,SUM(I11:I70,L71),SUM(I11:I70)) -> #N/A | L71: =IF(SUMIF(C11:C70,"⑤園内における研修を企画・実施する幼稚園又は認定こども園",I11:I70)>VLOOKUP(C6,M68:N83,2,FALSE),VLOOKUP(C6,M68:N83,2,FALSE)-SUMIF(C11:C70,"⑤園内における研修を企画・実施する幼稚園又は認定こども園",I11:I70),"") -> #N/A | M71: 若手リーダー | N71: 4
B72: 【留意事項】 | M72: 若手リーダー | N72: 4
B73: (1) 研修ごとに１行で記載する。 | M73: なし_職員処遇改善費のみの対象者 | N73: 15
B74: (2) 「修了年月日」は、研修修了証の年月日又は研修を受講した年月日を記入する。 | M74: 園長で中核リーダーの研修 | N74: 15
B75: (3) 園内研修（幼稚園等）を対象としたい場合は、「園内研修実施状況」を添付すること。 | M75: 園長で専門リーダーの研修 | N75: 15
B76: (4) 一覧の内容を確認できる資料（幼稚園教諭免許状更新講習修了証明書（履修証明書）の写し等）を施設において保管すること。 | M76: 副園長で中核リーダーの研修 | N76: 15
B77: (5) 行が足りない場合は、No２～59の行を選択し、挿入すること。 | M77: 副園長で専門リーダーの研修 | N77: 15
B78: (6) 区分３及び職員処遇改善費の対象となる研修は「施設型給付費等に係る処遇改善等加算（区分３）に係る研修修了要件について」（令和７年９月16日付けこ成基202・７初幼教第４号 こども家庭庁成育局保育政策課長、こども家庭庁成育局成育基盤企画課長及び文部科学省初等中等教育局幼児教育課長連盟通知）の記載に基づくものとする。 | M78: 教頭で中核リーダーの研修 | N78: 15
B79: (7) 保育士等キャリアアップ研修は「保育士等キャリアアップ研修の実施について（平成29年４月１日厚生労働省雇用均等・児童家庭局保育課長通知）」の記載に基づくものが対象となる。 実施主体は「都道府県又は都道府県知事の指定した研修実施機関」とする。 | M79: 教頭で専門リーダーの研修 | N79: 15
M80: 主幹教諭で中核リーダーの研修 | N80: 15
M81: 主幹教諭で専門リーダーの研修 | N81: 15
M82: 主幹保育教諭で中核リーダーの研修 | N82: 15
M83: 主幹保育教諭で専門リーダーの研修 | N83: 15

Sheet ②名簿５
A1: 第５号様式の２ | D1: 令和 ８ 年度 研修受講履歴一覧集計表 （幼稚園・認定こども園）
H3: 所在区 | I3: =①集計表!H4 -> #N/A
H4: 施設・事業種別 | I4: =①集計表!H5 -> #N/A | L4: =IFERROR(LEFT(I4,FIND("（",I4)-1),I4)&C6 -> #N/A
H5: 施設・事業所番号 | I5: =①集計表!H6 -> 0
B6: 職位 | D6: ↓マネジメント分野の修了チェック↓ | H6: 施設・事業所名 | I6: =①集計表!H7 -> #N/A
B7: 氏名 | D7: =IF($C$6="","職位を選択してください",IF(ISNUMBER(SEARCH("中核リーダー",C6)),IF(SUMIF(G:G,"〇",I:I)>=15,"必修時間を満たしています","区分３（人数Ａ）対象者は、マネジメント分野（15時間）必修です。 入力してください。"),IF(ISNUMBER(SEARCH("専門リーダー",C6)),"必修ではありません。保育士等キャリアアップ研修のマネジメント分野は、令和４年３月31日までの修了分まで算定可。",IF(ISNUMBER(SEARCH("若手リーダー",C6)),"必修ではありません。保育士等キャリアアップ研修のマネジメント分野は、令和２年３月31日までの修了分まで算定可。","必修ではありません。")))) -> 職位を選択してください | H7: 代表者職・氏名 | I7: =①集計表!H8 -> 0 | K7: =Z4 -> 0
A9: 区分３及び職員処遇改善費の対象と認められる研修のみ入力してください（下記(6)参照）。そのうち、キャリアアップ研修が対象か否かについては最下部(7)を参照のうえ、不明な場合は実施主体に必ず確認してください。
A10: No | B10: 各行最後に入力 修了年月日 (例:R2.6.1) ※研修種別～ 研修分野 を入力後に入力してください。 | C10: 実施主体等 | D10: 講義名・テーマ | E10: キャリアアップ研修 研修分野 ※施設情報・職位を入力後に選択してください | F10: 修了証番号 | G10: マネジメント分野に係る 研修の場合は〇 | H10: 園内研修 | I10: 修了時間数 | J10: 備考 | K10: 開始日 | L10: キャリアアップ研修 | M10: 42826
A11: 1 | H11: =IF(C11="⑤園内における研修を企画・実施する幼稚園又は認定こども園","〇","") | K11: 終了日 | L11: マネジメント (専門リーダー) | M11: 44651
A12: 2 | H12: =IF(C12="⑤園内における研修を企画・実施する幼稚園又は認定こども園","〇","") | L12: マネジメント (若手リーダー) | M12: 43921
A13: 3 | H13: =IF(C13="⑤園内における研修を企画・実施する幼稚園又は認定こども園","〇","") | L13: それ以外 の研修 | M13: 45747
A14: 4 | H14: =IF(C14="⑤園内における研修を企画・実施する幼稚園又は認定こども園","〇","")
A15: 5 | H15: =IF(C15="⑤園内における研修を企画・実施する幼稚園又は認定こども園","〇","")
A16: 6 | H16: =IF(C16="⑤園内における研修を企画・実施する幼稚園又は認定こども園","〇","")
A17: 7 | H17: =IF(C17="⑤園内における研修を企画・実施する幼稚園又は認定こども園","〇","")
A18: 8 | H18: =IF(C18="⑤園内における研修を企画・実施する幼稚園又は認定こども園","〇","")
A19: 9 | H19: =IF(C19="⑤園内における研修を企画・実施する幼稚園又は認定こども園","〇","")
A20: 10 | H20: =IF(C20="⑤園内における研修を企画・実施する幼稚園又は認定こども園","〇","")
A21: 11 | H21: =IF(C21="⑤園内における研修を企画・実施する幼稚園又は認定こども園","〇","")
A22: 12 | H22: =IF(C22="⑤園内における研修を企画・実施する幼稚園又は認定こども園","〇","")
A23: 13 | H23: =IF(C23="⑤園内における研修を企画・実施する幼稚園又は認定こども園","〇","")
A24: 14 | H24: =IF(C24="⑤園内における研修を企画・実施する幼稚園又は認定こども園","〇","")
A25: 15 | H25: =IF(C25="⑤園内における研修を企画・実施する幼稚園又は認定こども園","〇","")
... A67: 57 | H67: =IF(C67="⑤園内における研修を企画・実施する幼稚園又は認定こども園","〇","")
A68: 58 | H68: =IF(C68="⑤園内における研修を企画・実施する幼稚園又は認定こども園","〇","") | M68: 園内研修 | N68: 最大時間
A69: 59 | H69: =IF(C69="⑤園内における研修を企画・実施する幼稚園又は認定こども園","〇","") | M69: 中核リーダー | N69: 15
A70: 60 | H70: =IF(C70="⑤園内における研修を企画・実施する幼稚園又は認定こども園","〇","") | M70: 専門リーダー | N70: 15
A71: 合計 | G71: =SUMIF(G11:G70,"〇",I11:I70) -> 0 | H71: =IF(SUMIF(C11:C70,"⑤園内における研修を企画・実施する幼稚園又は認定こども園",I11:I70)>VLOOKUP(C6,M68:N83,2,FALSE),VLOOKUP(C6,M68:N83,2,FALSE),SUMIF(C11:C70,"⑤園内における研修を企画・実施する幼稚園又は認定こども園",I11:I70)) -> #N/A | I71: =IF(L71<0,SUM(I11:I70,L71),SUM(I11:I70)) -> #N/A | L71: =IF(SUMIF(C11:C70,"⑤園内における研修を企画・実施する幼稚園又は認定こども園",I11:I70)>VLOOKUP(C6,M68:N83,2,FALSE),VLOOKUP(C6,M68:N83,2,FALSE)-SUMIF(C11:C70,"⑤園内における研修を企画・実施する幼稚園又は認定こども園",I11:I70),"") -> #N/A | M71: 若手リーダー | N71: 4
B72: 【留意事項】 | M72: 若手リーダー | N72: 4
B73: (1) 研修ごとに１行で記載する。 | M73: なし_職員処遇改善費のみの対象者 | N73: 15
B74: (2) 「修了年月日」は、研修修了証の年月日又は研修を受講した年月日を記入する。 | M74: 園長で中核リーダーの研修 | N74: 15
B75: (3) 園内研修（幼稚園等）を対象としたい場合は、「園内研修実施状況」を添付すること。 | M75: 園長で専門リーダーの研修 | N75: 15
B76: (4) 一覧の内容を確認できる資料（幼稚園教諭免許状更新講習修了証明書（履修証明書）の写し等）を施設において保管すること。 | M76: 副園長で中核リーダーの研修 | N76: 15
B77: (5) 行が足りない場合は、No２～59の行を選択し、挿入すること。 | M77: 副園長で専門リーダーの研修 | N77: 15
B78: (6) 区分３及び職員処遇改善費の対象となる研修は「施設型給付費等に係る処遇改善等加算（区分３）に係る研修修了要件について」（令和７年９月16日付けこ成基202・７初幼教第４号 こども家庭庁成育局保育政策課長、こども家庭庁成育局成育基盤企画課長及び文部科学省初等中等教育局幼児教育課長連盟通知）の記載に基づくものとする。 | M78: 教頭で中核リーダーの研修 | N78: 15
B79: (7) 保育士等キャリアアップ研修は「保育士等キャリアアップ研修の実施について（平成29年４月１日厚生労働省雇用均等・児童家庭局保育課長通知）」の記載に基づくものが対象となる。 実施主体は「都道府県又は都道府県知事の指定した研修実施機関」とする。 | M79: 教頭で専門リーダーの研修 | N79: 15
M80: 主幹教諭で中核リーダーの研修 | N80: 15
M81: 主幹教諭で専門リーダーの研修 | N81: 15
M82: 主幹保育教諭で中核リーダーの研修 | N82: 15
M83: 主幹保育教諭で専門リーダーの研修 | N83: 15

Sheet ②名簿６
A1: 第５号様式の２ | D1: 令和 ８ 年度 研修受講履歴一覧集計表 （幼稚園・認定こども園）
H3: 所在区 | I3: =①集計表!H4 -> #N/A
H4: 施設・事業種別 | I4: =①集計表!H5 -> #N/A | L4: =IFERROR(LEFT(I4,FIND("（",I4)-1),I4)&C6 -> #N/A
H5: 施設・事業所番号 | I5: =①集計表!H6 -> 0
B6: 職位 | D6: ↓マネジメント分野の修了チェック↓ | H6: 施設・事業所名 | I6: =①集計表!H7 -> #N/A
B7: 氏名 | D7: =IF($C$6="","職位を選択してください",IF(ISNUMBER(SEARCH("中核リーダー",C6)),IF(SUMIF(G:G,"〇",I:I)>=15,"必修時間を満たしています","区分３（人数Ａ）対象者は、マネジメント分野（15時間）必修です。 入力してください。"),IF(ISNUMBER(SEARCH("専門リーダー",C6)),"必修ではありません。保育士等キャリアアップ研修のマネジメント分野は、令和４年３月31日までの修了分まで算定可。",IF(ISNUMBER(SEARCH("若手リーダー",C6)),"必修ではありません。保育士等キャリアアップ研修のマネジメント分野は、令和２年３月31日までの修了分まで算定可。","必修ではありません。")))) -> 職位を選択してください | H7: 代表者職・氏名 | I7: =①集計表!H8 -> 0 | K7: =Z4 -> 0
A9: 区分３及び職員処遇改善費の対象と認められる研修のみ入力してください（下記(6)参照）。そのうち、キャリアアップ研修が対象か否かについては最下部(7)を参照のうえ、不明な場合は実施主体に必ず確認してください。
A10: No | B10: 各行最後に入力 修了年月日 (例:R2.6.1) ※研修種別～ 研修分野 を入力後に入力してください。 | C10: 実施主体等 | D10: 講義名・テーマ | E10: キャリアアップ研修 研修分野 ※施設情報・職位を入力後に選択してください | F10: 修了証番号 | G10: マネジメント分野に係る 研修の場合は〇 | H10: 園内研修 | I10: 修了時間数 | J10: 備考 | K10: 開始日 | L10: キャリアアップ研修 | M10: 42826
A11: 1 | H11: =IF(C11="⑤園内における研修を企画・実施する幼稚園又は認定こども園","〇","") | K11: 終了日 | L11: マネジメント (専門リーダー) | M11: 44651
A12: 2 | H12: =IF(C12="⑤園内における研修を企画・実施する幼稚園又は認定こども園","〇","") | L12: マネジメント (若手リーダー) | M12: 43921
A13: 3 | H13: =IF(C13="⑤園内における研修を企画・実施する幼稚園又は認定こども園","〇","") | L13: それ以外 の研修 | M13: 45747
A14: 4 | H14: =IF(C14="⑤園内における研修を企画・実施する幼稚園又は認定こども園","〇","")
A15: 5 | H15: =IF(C15="⑤園内における研修を企画・実施する幼稚園又は認定こども園","〇","")
A16: 6 | H16: =IF(C16="⑤園内における研修を企画・実施する幼稚園又は認定こども園","〇","")
A17: 7 | H17: =IF(C17="⑤園内における研修を企画・実施する幼稚園又は認定こども園","〇","")
A18: 8 | H18: =IF(C18="⑤園内における研修を企画・実施する幼稚園又は認定こども園","〇","")
A19: 9 | H19: =IF(C19="⑤園内における研修を企画・実施する幼稚園又は認定こども園","〇","")
A20: 10 | H20: =IF(C20="⑤園内における研修を企画・実施する幼稚園又は認定こども園","〇","")
A21: 11 | H21: =IF(C21="⑤園内における研修を企画・実施する幼稚園又は認定こども園","〇","")
A22: 12 | H22: =IF(C22="⑤園内における研修を企画・実施する幼稚園又は認定こども園","〇","")
A23: 13 | H23: =IF(C23="⑤園内における研修を企画・実施する幼稚園又は認定こども園","〇","")
A24: 14 | H24: =IF(C24="⑤園内における研修を企画・実施する幼稚園又は認定こども園","〇","")
A25: 15 | H25: =IF(C25="⑤園内における研修を企画・実施する幼稚園又は認定こども園","〇","")
... A67: 57 | H67: =IF(C67="⑤園内における研修を企画・実施する幼稚園又は認定こども園","〇","")
A68: 58 | H68: =IF(C68="⑤園内における研修を企画・実施する幼稚園又は認定こども園","〇","") | M68: 園内研修 | N68: 最大時間
A69: 59 | H69: =IF(C69="⑤園内における研修を企画・実施する幼稚園又は認定こども園","〇","") | M69: 中核リーダー | N69: 15
A70: 60 | H70: =IF(C70="⑤園内における研修を企画・実施する幼稚園又は認定こども園","〇","") | M70: 専門リーダー | N70: 15
A71: 合計 | G71: =SUMIF(G11:G70,"〇",I11:I70) -> 0 | H71: =IF(SUMIF(C11:C70,"⑤園内における研修を企画・実施する幼稚園又は認定こども園",I11:I70)>VLOOKUP(C6,M68:N83,2,FALSE),VLOOKUP(C6,M68:N83,2,FALSE),SUMIF(C11:C70,"⑤園内における研修を企画・実施する幼稚園又は認定こども園",I11:I70)) -> #N/A | I71: =IF(L71<0,SUM(I11:I70,L71),SUM(I11:I70)) -> #N/A | L71: =IF(SUMIF(C11:C70,"⑤園内における研修を企画・実施する幼稚園又は認定こども園",I11:I70)>VLOOKUP(C6,M68:N83,2,FALSE),VLOOKUP(C6,M68:N83,2,FALSE)-SUMIF(C11:C70,"⑤園内における研修を企画・実施する幼稚園又は認定こども園",I11:I70),"") -> #N/A | M71: 若手リーダー | N71: 4
B72: 【留意事項】 | M72: 若手リーダー | N72: 4
B73: (1) 研修ごとに１行で記載する。 | M73: なし_職員処遇改善費のみの対象者 | N73: 15
B74: (2) 「修了年月日」は、研修修了証の年月日又は研修を受講した年月日を記入する。 | M74: 園長で中核リーダーの研修 | N74: 15
B75: (3) 園内研修（幼稚園等）を対象としたい場合は、「園内研修実施状況」を添付すること。 | M75: 園長で専門リーダーの研修 | N75: 15
B76: (4) 一覧の内容を確認できる資料（幼稚園教諭免許状更新講習修了証明書（履修証明書）の写し等）を施設において保管すること。 | M76: 副園長で中核リーダーの研修 | N76: 15
B77: (5) 行が足りない場合は、No２～59の行を選択し、挿入すること。 | M77: 副園長で専門リーダーの研修 | N77: 15
B78: (6) 区分３及び職員処遇改善費の対象となる研修は「施設型給付費等に係る処遇改善等加算（区分３）に係る研修修了要件について」（令和７年９月16日付けこ成基202・７初幼教第４号 こども家庭庁成育局保育政策課長、こども家庭庁成育局成育基盤企画課長及び文部科学省初等中等教育局幼児教育課長連盟通知）の記載に基づくものとする。 | M78: 教頭で中核リーダーの研修 | N78: 15
B79: (7) 保育士等キャリアアップ研修は「保育士等キャリアアップ研修の実施について（平成29年４月１日厚生労働省雇用均等・児童家庭局保育課長通知）」の記載に基づくものが対象となる。 実施主体は「都道府県又は都道府県知事の指定した研修実施機関」とする。 | M79: 教頭で専門リーダーの研修 | N79: 15
M80: 主幹教諭で中核リーダーの研修 | N80: 15
M81: 主幹教諭で専門リーダーの研修 | N81: 15
M82: 主幹保育教諭で中核リーダーの研修 | N82: 15
M83: 主幹保育教諭で専門リーダーの研修 | N83: 15

Sheet ②名簿７
A1: 第５号様式の２ | D1: 令和 ８ 年度 研修受講履歴一覧集計表 （幼稚園・認定こども園）
H3: 所在区 | I3: =①集計表!H4 -> #N/A
H4: 施設・事業種別 | I4: =①集計表!H5 -> #N/A | L4: =IFERROR(LEFT(I4,FIND("（",I4)-1),I4)&C6 -> #N/A
H5: 施設・事業所番号 | I5: =①集計表!H6 -> 0
B6: 職位 | D6: ↓マネジメント分野の修了チェック↓ | H6: 施設・事業所名 | I6: =①集計表!H7 -> #N/A
B7: 氏名 | D7: =IF($C$6="","職位を選択してください",IF(ISNUMBER(SEARCH("中核リーダー",C6)),IF(SUMIF(G:G,"〇",I:I)>=15,"必修時間を満たしています","区分３（人数Ａ）対象者は、マネジメント分野（15時間）必修です。 入力してください。"),IF(ISNUMBER(SEARCH("専門リーダー",C6)),"必修ではありません。保育士等キャリアアップ研修のマネジメント分野は、令和４年３月31日までの修了分まで算定可。",IF(ISNUMBER(SEARCH("若手リーダー",C6)),"必修ではありません。保育士等キャリアアップ研修のマネジメント分野は、令和２年３月31日までの修了分まで算定可。","必修ではありません。")))) -> 職位を選択してください | H7: 代表者職・氏名 | I7: =①集計表!H8 -> 0 | K7: =Z4 -> 0
A9: 区分３及び職員処遇改善費の対象と認められる研修のみ入力してください（下記(6)参照）。そのうち、キャリアアップ研修が対象か否かについては最下部(7)を参照のうえ、不明な場合は実施主体に必ず確認してください。
A10: No | B10: 各行最後に入力 修了年月日 (例:R2.6.1) ※研修種別～ 研修分野 を入力後に入力してください。 | C10: 実施主体等 | D10: 講義名・テーマ | E10: キャリアアップ研修 研修分野 ※施設情報・職位を入力後に選択してください | F10: 修了証番号 | G10: マネジメント分野に係る 研修の場合は〇 | H10: 園内研修 | I10: 修了時間数 | J10: 備考 | K10: 開始日 | L10: キャリアアップ研修 | M10: 42826
A11: 1 | H11: =IF(C11="⑤園内における研修を企画・実施する幼稚園又は認定こども園","〇","") | K11: 終了日 | L11: マネジメント (専門リーダー) | M11: 44651
A12: 2 | H12: =IF(C12="⑤園内における研修を企画・実施する幼稚園又は認定こども園","〇","") | L12: マネジメント (若手リーダー) | M12: 43921
A13: 3 | H13: =IF(C13="⑤園内における研修を企画・実施する幼稚園又は認定こども園","〇","") | L13: それ以外 の研修 | M13: 45747
A14: 4 | H14: =IF(C14="⑤園内における研修を企画・実施する幼稚園又は認定こども園","〇","")
A15: 5 | H15: =IF(C15="⑤園内における研修を企画・実施する幼稚園又は認定こども園","〇","")
A16: 6 | H16: =IF(C16="⑤園内における研修を企画・実施する幼稚園又は認定こども園","〇","")
A17: 7 | H17: =IF(C17="⑤園内における研修を企画・実施する幼稚園又は認定こども園","〇","")
A18: 8 | H18: =IF(C18="⑤園内における研修を企画・実施する幼稚園又は認定こども園","〇","")
A19: 9 | H19: =IF(C19="⑤園内における研修を企画・実施する幼稚園又は認定こども園","〇","")
A20: 10 | H20: =IF(C20="⑤園内における研修を企画・実施する幼稚園又は認定こども園","〇","")
A21: 11 | H21: =IF(C21="⑤園内における研修を企画・実施する幼稚園又は認定こども園","〇","")
A22: 12 | H22: =IF(C22="⑤園内における研修を企画・実施する幼稚園又は認定こども園","〇","")
A23: 13 | H23: =IF(C23="⑤園内における研修を企画・実施する幼稚園又は認定こども園","〇","")
A24: 14 | H24: =IF(C24="⑤園内における研修を企画・実施する幼稚園又は認定こども園","〇","")
A25: 15 | H25: =IF(C25="⑤園内における研修を企画・実施する幼稚園又は認定こども園","〇","")
... A67: 57 | H67: =IF(C67="⑤園内における研修を企画・実施する幼稚園又は認定こども園","〇","")
A68: 58 | H68: =IF(C68="⑤園内における研修を企画・実施する幼稚園又は認定こども園","〇","") | M68: 園内研修 | N68: 最大時間
A69: 59 | H69: =IF(C69="⑤園内における研修を企画・実施する幼稚園又は認定こども園","〇","") | M69: 中核リーダー | N69: 15
A70: 60 | H70: =IF(C70="⑤園内における研修を企画・実施する幼稚園又は認定こども園","〇","") | M70: 専門リーダー | N70: 15
A71: 合計 | G71: =SUMIF(G11:G70,"〇",I11:I70) -> 0 | H71: =IF(SUMIF(C11:C70,"⑤園内における研修を企画・実施する幼稚園又は認定こども園",I11:I70)>VLOOKUP(C6,M68:N83,2,FALSE),VLOOKUP(C6,M68:N83,2,FALSE),SUMIF(C11:C70,"⑤園内における研修を企画・実施する幼稚園又は認定こども園",I11:I70)) -> #N/A | I71: =IF(L71<0,SUM(I11:I70,L71),SUM(I11:I70)) -> #N/A | L71: =IF(SUMIF(C11:C70,"⑤園内における研修を企画・実施する幼稚園又は認定こども園",I11:I70)>VLOOKUP(C6,M68:N83,2,FALSE),VLOOKUP(C6,M68:N83,2,FALSE)-SUMIF(C11:C70,"⑤園内における研修を企画・実施する幼稚園又は認定こども園",I11:I70),"") -> #N/A | M71: 若手リーダー | N71: 4
B72: 【留意事項】 | M72: 若手リーダー | N72: 4
B73: (1) 研修ごとに１行で記載する。 | M73: なし_職員処遇改善費のみの対象者 | N73: 15
B74: (2) 「修了年月日」は、研修修了証の年月日又は研修を受講した年月日を記入する。 | M74: 園長で中核リーダーの研修 | N74: 15
B75: (3) 園内研修（幼稚園等）を対象としたい場合は、「園内研修実施状況」を添付すること。 | M75: 園長で専門リーダーの研修 | N75: 15
B76: (4) 一覧の内容を確認できる資料（幼稚園教諭免許状更新講習修了証明書（履修証明書）の写し等）を施設において保管すること。 | M76: 副園長で中核リーダーの研修 | N76: 15
B77: (5) 行が足りない場合は、No２～59の行を選択し、挿入すること。 | M77: 副園長で専門リーダーの研修 | N77: 15
B78: (6) 区分３及び職員処遇改善費の対象となる研修は「施設型給付費等に係る処遇改善等加算（区分３）に係る研修修了要件について」（令和７年９月16日付けこ成基202・７初幼教第４号 こども家庭庁成育局保育政策課長、こども家庭庁成育局成育基盤企画課長及び文部科学省初等中等教育局幼児教育課長連盟通知）の記載に基づくものとする。 | M78: 教頭で中核リーダーの研修 | N78: 15
B79: (7) 保育士等キャリアアップ研修は「保育士等キャリアアップ研修の実施について（平成29年４月１日厚生労働省雇用均等・児童家庭局保育課長通知）」の記載に基づくものが対象となる。 実施主体は「都道府県又は都道府県知事の指定した研修実施機関」とする。 | M79: 教頭で専門リーダーの研修 | N79: 15
M80: 主幹教諭で中核リーダーの研修 | N80: 15
M81: 主幹教諭で専門リーダーの研修 | N81: 15
M82: 主幹保育教諭で中核リーダーの研修 | N82: 15
M83: 主幹保育教諭で専門リーダーの研修 | N83: 15

Sheet ②名簿８
A1: 第５号様式の２ | D1: 令和 ８ 年度 研修受講履歴一覧集計表 （幼稚園・認定こども園）
H3: 所在区 | I3: =①集計表!H4 -> #N/A
H4: 施設・事業種別 | I4: =①集計表!H5 -> #N/A | L4: =IFERROR(LEFT(I4,FIND("（",I4)-1),I4)&C6 -> #N/A
H5: 施設・事業所番号 | I5: =①集計表!H6 -> 0
B6: 職位 | D6: ↓マネジメント分野の修了チェック↓ | H6: 施設・事業所名 | I6: =①集計表!H7 -> #N/A
B7: 氏名 | D7: =IF($C$6="","職位を選択してください",IF(ISNUMBER(SEARCH("中核リーダー",C6)),IF(SUMIF(G:G,"〇",I:I)>=15,"必修時間を満たしています","区分３（人数Ａ）対象者は、マネジメント分野（15時間）必修です。 入力してください。"),IF(ISNUMBER(SEARCH("専門リーダー",C6)),"必修ではありません。保育士等キャリアアップ研修のマネジメント分野は、令和４年３月31日までの修了分まで算定可。",IF(ISNUMBER(SEARCH("若手リーダー",C6)),"必修ではありません。保育士等キャリアアップ研修のマネジメント分野は、令和２年３月31日までの修了分まで算定可。","必修ではありません。")))) -> 職位を選択してください | H7: 代表者職・氏名 | I7: =①集計表!H8 -> 0 | K7: =Z4 -> 0
A9: 区分３及び職員処遇改善費の対象と認められる研修のみ入力してください（下記(6)参照）。そのうち、キャリアアップ研修が対象か否かについては最下部(7)を参照のうえ、不明な場合は実施主体に必ず確認してください。
A10: No | B10: 各行最後に入力 修了年月日 (例:R2.6.1) ※研修種別～ 研修分野 を入力後に入力してください。 | C10: 実施主体等 | D10: 講義名・テーマ | E10: キャリアアップ研修 研修分野 ※施設情報・職位を入力後に選択してください | F10: 修了証番号 | G10: マネジメント分野に係る 研修の場合は〇 | H10: 園内研修 | I10: 修了時間数 | J10: 備考 | K10: 開始日 | L10: キャリアアップ研修 | M10: 42826
A11: 1 | H11: =IF(C11="⑤園内における研修を企画・実施する幼稚園又は認定こども園","〇","") | K11: 終了日 | L11: マネジメント (専門リーダー) | M11: 44651
A12: 2 | H12: =IF(C12="⑤園内における研修を企画・実施する幼稚園又は認定こども園","〇","") | L12: マネジメント (若手リーダー) | M12: 43921
A13: 3 | H13: =IF(C13="⑤園内における研修を企画・実施する幼稚園又は認定こども園","〇","") | L13: それ以外 の研修 | M13: 45747
A14: 4 | H14: =IF(C14="⑤園内における研修を企画・実施する幼稚園又は認定こども園","〇","")
A15: 5 | H15: =IF(C15="⑤園内における研修を企画・実施する幼稚園又は認定こども園","〇","")
A16: 6 | H16: =IF(C16="⑤園内における研修を企画・実施する幼稚園又は認定こども園","〇","")
A17: 7 | H17: =IF(C17="⑤園内における研修を企画・実施する幼稚園又は認定こども園","〇","")
A18: 8 | H18: =IF(C18="⑤園内における研修を企画・実施する幼稚園又は認定こども園","〇","")
A19: 9 | H19: =IF(C19="⑤園内における研修を企画・実施する幼稚園又は認定こども園","〇","")
A20: 10 | H20: =IF(C20="⑤園内における研修を企画・実施する幼稚園又は認定こども園","〇","")
A21: 11 | H21: =IF(C21="⑤園内における研修を企画・実施する幼稚園又は認定こども園","〇","")
A22: 12 | H22: =IF(C22="⑤園内における研修を企画・実施する幼稚園又は認定こども園","〇","")
A23: 13 | H23: =IF(C23="⑤園内における研修を企画・実施する幼稚園又は認定こども園","〇","")
A24: 14 | H24: =IF(C24="⑤園内における研修を企画・実施する幼稚園又は認定こども園","〇","")
A25: 15 | H25: =IF(C25="⑤園内における研修を企画・実施する幼稚園又は認定こども園","〇","")
... A67: 57 | H67: =IF(C67="⑤園内における研修を企画・実施する幼稚園又は認定こども園","〇","")
A68: 58 | H68: =IF(C68="⑤園内における研修を企画・実施する幼稚園又は認定こども園","〇","") | M68: 園内研修 | N68: 最大時間
A69: 59 | H69: =IF(C69="⑤園内における研修を企画・実施する幼稚園又は認定こども園","〇","") | M69: 中核リーダー | N69: 15
A70: 60 | H70: =IF(C70="⑤園内における研修を企画・実施する幼稚園又は認定こども園","〇","") | M70: 専門リーダー | N70: 15
A71: 合計 | G71: =SUMIF(G11:G70,"〇",I11:I70) -> 0 | H71: =IF(SUMIF(C11:C70,"⑤園内における研修を企画・実施する幼稚園又は認定こども園",I11:I70)>VLOOKUP(C6,M68:N83,2,FALSE),VLOOKUP(C6,M68:N83,2,FALSE),SUMIF(C11:C70,"⑤園内における研修を企画・実施する幼稚園又は認定こども園",I11:I70)) -> #N/A | I71: =IF(L71<0,SUM(I11:I70,L71),SUM(I11:I70)) -> #N/A | L71: =IF(SUMIF(C11:C70,"⑤園内における研修を企画・実施する幼稚園又は認定こども園",I11:I70)>VLOOKUP(C6,M68:N83,2,FALSE),VLOOKUP(C6,M68:N83,2,FALSE)-SUMIF(C11:C70,"⑤園内における研修を企画・実施する幼稚園又は認定こども園",I11:I70),"") -> #N/A | M71: 若手リーダー | N71: 4
B72: 【留意事項】 | M72: 若手リーダー | N72: 4
B73: (1) 研修ごとに１行で記載する。 | M73: なし_職員処遇改善費のみの対象者 | N73: 15
B74: (2) 「修了年月日」は、研修修了証の年月日又は研修を受講した年月日を記入する。 | M74: 園長で中核リーダーの研修 | N74: 15
B75: (3) 園内研修（幼稚園等）を対象としたい場合は、「園内研修実施状況」を添付すること。 | M75: 園長で専門リーダーの研修 | N75: 15
B76: (4) 一覧の内容を確認できる資料（幼稚園教諭免許状更新講習修了証明書（履修証明書）の写し等）を施設において保管すること。 | M76: 副園長で中核リーダーの研修 | N76: 15
B77: (5) 行が足りない場合は、No２～59の行を選択し、挿入すること。 | M77: 副園長で専門リーダーの研修 | N77: 15
B78: (6) 区分３及び職員処遇改善費の対象となる研修は「施設型給付費等に係る処遇改善等加算（区分３）に係る研修修了要件について」（令和７年９月16日付けこ成基202・７初幼教第４号 こども家庭庁成育局保育政策課長、こども家庭庁成育局成育基盤企画課長及び文部科学省初等中等教育局幼児教育課長連盟通知）の記載に基づくものとする。 | M78: 教頭で中核リーダーの研修 | N78: 15
B79: (7) 保育士等キャリアアップ研修は「保育士等キャリアアップ研修の実施について（平成29年４月１日厚生労働省雇用均等・児童家庭局保育課長通知）」の記載に基づくものが対象となる。 実施主体は「都道府県又は都道府県知事の指定した研修実施機関」とする。 | M79: 教頭で専門リーダーの研修 | N79: 15
M80: 主幹教諭で中核リーダーの研修 | N80: 15
M81: 主幹教諭で専門リーダーの研修 | N81: 15
M82: 主幹保育教諭で中核リーダーの研修 | N82: 15
M83: 主幹保育教諭で専門リーダーの研修 | N83: 15

Sheet ②名簿９
A1: 第５号様式の２ | D1: 令和 ８ 年度 研修受講履歴一覧集計表 （幼稚園・認定こども園）
H3: 所在区 | I3: =①集計表!H4 -> #N/A
H4: 施設・事業種別 | I4: =①集計表!H5 -> #N/A | L4: =IFERROR(LEFT(I4,FIND("（",I4)-1),I4)&C6 -> #N/A
H5: 施設・事業所番号 | I5: =①集計表!H6 -> 0
B6: 職位 | D6: ↓マネジメント分野の修了チェック↓ | H6: 施設・事業所名 | I6: =①集計表!H7 -> #N/A
B7: 氏名 | D7: =IF($C$6="","職位を選択してください",IF(ISNUMBER(SEARCH("中核リーダー",C6)),IF(SUMIF(G:G,"〇",I:I)>=15,"必修時間を満たしています","区分３（人数Ａ）対象者は、マネジメント分野（15時間）必修です。 入力してください。"),IF(ISNUMBER(SEARCH("専門リーダー",C6)),"必修ではありません。保育士等キャリアアップ研修のマネジメント分野は、令和４年３月31日までの修了分まで算定可。",IF(ISNUMBER(SEARCH("若手リーダー",C6)),"必修ではありません。保育士等キャリアアップ研修のマネジメント分野は、令和２年３月31日までの修了分まで算定可。","必修ではありません。")))) -> 職位を選択してください | H7: 代表者職・氏名 | I7: =①集計表!H8 -> 0 | K7: =Z4 -> 0
A9: 区分３及び職員処遇改善費の対象と認められる研修のみ入力してください（下記(6)参照）。そのうち、キャリアアップ研修が対象か否かについては最下部(7)を参照のうえ、不明な場合は実施主体に必ず確認してください。
A10: No | B10: 各行最後に入力 修了年月日 (例:R2.6.1) ※研修種別～ 研修分野 を入力後に入力してください。 | C10: 実施主体等 | D10: 講義名・テーマ | E10: キャリアアップ研修 研修分野 ※施設情報・職位を入力後に選択してください | F10: 修了証番号 | G10: マネジメント分野に係る 研修の場合は〇 | H10: 園内研修 | I10: 修了時間数 | J10: 備考 | K10: 開始日 | L10: キャリアアップ研修 | M10: 42826
A11: 1 | H11: =IF(C11="⑤園内における研修を企画・実施する幼稚園又は認定こども園","〇","") | K11: 終了日 | L11: マネジメント (専門リーダー) | M11: 44651
A12: 2 | H12: =IF(C12="⑤園内における研修を企画・実施する幼稚園又は認定こども園","〇","") | L12: マネジメント (若手リーダー) | M12: 43921
A13: 3 | H13: =IF(C13="⑤園内における研修を企画・実施する幼稚園又は認定こども園","〇","") | L13: それ以外 の研修 | M13: 45747
A14: 4 | H14: =IF(C14="⑤園内における研修を企画・実施する幼稚園又は認定こども園","〇","")
A15: 5 | H15: =IF(C15="⑤園内における研修を企画・実施する幼稚園又は認定こども園","〇","")
A16: 6 | H16: =IF(C16="⑤園内における研修を企画・実施する幼稚園又は認定こども園","〇","")
A17: 7 | H17: =IF(C17="⑤園内における研修を企画・実施する幼稚園又は認定こども園","〇","")
A18: 8 | H18: =IF(C18="⑤園内における研修を企画・実施する幼稚園又は認定こども園","〇","")
A19: 9 | H19: =IF(C19="⑤園内における研修を企画・実施する幼稚園又は認定こども園","〇","")
A20: 10 | H20: =IF(C20="⑤園内における研修を企画・実施する幼稚園又は認定こども園","〇","")
A21: 11 | H21: =IF(C21="⑤園内における研修を企画・実施する幼稚園又は認定こども園","〇","")
A22: 12 | H22: =IF(C22="⑤園内における研修を企画・実施する幼稚園又は認定こども園","〇","")
A23: 13 | H23: =IF(C23="⑤園内における研修を企画・実施する幼稚園又は認定こども園","〇","")
A24: 14 | H24: =IF(C24="⑤園内における研修を企画・実施する幼稚園又は認定こども園","〇","")
A25: 15 | H25: =IF(C25="⑤園内における研修を企画・実施する幼稚園又は認定こども園","〇","")
... A67: 57 | H67: =IF(C67="⑤園内における研修を企画・実施する幼稚園又は認定こども園","〇","")
A68: 58 | H68: =IF(C68="⑤園内における研修を企画・実施する幼稚園又は認定こども園","〇","") | M68: 園内研修 | N68: 最大時間
A69: 59 | H69: =IF(C69="⑤園内における研修を企画・実施する幼稚園又は認定こども園","〇","") | M69: 中核リーダー | N69: 15
A70: 60 | H70: =IF(C70="⑤園内における研修を企画・実施する幼稚園又は認定こども園","〇","") | M70: 専門リーダー | N70: 15
A71: 合計 | G71: =SUMIF(G11:G70,"〇",I11:I70) -> 0 | H71: =IF(SUMIF(C11:C70,"⑤園内における研修を企画・実施する幼稚園又は認定こども園",I11:I70)>VLOOKUP(C6,M68:N83,2,FALSE),VLOOKUP(C6,M68:N83,2,FALSE),SUMIF(C11:C70,"⑤園内における研修を企画・実施する幼稚園又は認定こども園",I11:I70)) -> #N/A | I71: =IF(L71<0,SUM(I11:I70,L71),SUM(I11:I70)) -> #N/A | L71: =IF(SUMIF(C11:C70,"⑤園内における研修を企画・実施する幼稚園又は認定こども園",I11:I70)>VLOOKUP(C6,M68:N83,2,FALSE),VLOOKUP(C6,M68:N83,2,FALSE)-SUMIF(C11:C70,"⑤園内における研修を企画・実施する幼稚園又は認定こども園",I11:I70),"") -> #N/A | M71: 若手リーダー | N71: 4
B72: 【留意事項】 | M72: 若手リーダー | N72: 4
B73: (1) 研修ごとに１行で記載する。 | M73: なし_職員処遇改善費のみの対象者 | N73: 15
B74: (2) 「修了年月日」は、研修修了証の年月日又は研修を受講した年月日を記入する。 | M74: 園長で中核リーダーの研修 | N74: 15
B75: (3) 園内研修（幼稚園等）を対象としたい場合は、「園内研修実施状況」を添付すること。 | M75: 園長で専門リーダーの研修 | N75: 15
B76: (4) 一覧の内容を確認できる資料（幼稚園教諭免許状更新講習修了証明書（履修証明書）の写し等）を施設において保管すること。 | M76: 副園長で中核リーダーの研修 | N76: 15
B77: (5) 行が足りない場合は、No２～59の行を選択し、挿入すること。 | M77: 副園長で専門リーダーの研修 | N77: 15
B78: (6) 区分３及び職員処遇改善費の対象となる研修は「施設型給付費等に係る処遇改善等加算（区分３）に係る研修修了要件について」（令和７年９月16日付けこ成基202・７初幼教第４号 こども家庭庁成育局保育政策課長、こども家庭庁成育局成育基盤企画課長及び文部科学省初等中等教育局幼児教育課長連盟通知）の記載に基づくものとする。 | M78: 教頭で中核リーダーの研修 | N78: 15
B79: (7) 保育士等キャリアアップ研修は「保育士等キャリアアップ研修の実施について（平成29年４月１日厚生労働省雇用均等・児童家庭局保育課長通知）」の記載に基づくものが対象となる。 実施主体は「都道府県又は都道府県知事の指定した研修実施機関」とする。 | M79: 教頭で専門リーダーの研修 | N79: 15
M80: 主幹教諭で中核リーダーの研修 | N80: 15
M81: 主幹教諭で専門リーダーの研修 | N81: 15
M82: 主幹保育教諭で中核リーダーの研修 | N82: 15
M83: 主幹保育教諭で専門リーダーの研修 | N83: 15

Sheet ②名簿10
A1: 第５号様式の２ | D1: 令和 ８ 年度 研修受講履歴一覧集計表 （幼稚園・認定こども園）
H3: 所在区 | I3: =①集計表!H4 -> #N/A
H4: 施設・事業種別 | I4: =①集計表!H5 -> #N/A | L4: =IFERROR(LEFT(I4,FIND("（",I4)-1),I4)&C6 -> #N/A
H5: 施設・事業所番号 | I5: =①集計表!H6 -> 0
B6: 職位 | D6: ↓マネジメント分野の修了チェック↓ | H6: 施設・事業所名 | I6: =①集計表!H7 -> #N/A
B7: 氏名 | D7: =IF($C$6="","職位を選択してください",IF(ISNUMBER(SEARCH("中核リーダー",C6)),IF(SUMIF(G:G,"〇",I:I)>=15,"必修時間を満たしています","区分３（人数Ａ）対象者は、マネジメント分野（15時間）必修です。 入力してください。"),IF(ISNUMBER(SEARCH("専門リーダー",C6)),"必修ではありません。保育士等キャリアアップ研修のマネジメント分野は、令和４年３月31日までの修了分まで算定可。",IF(ISNUMBER(SEARCH("若手リーダー",C6)),"必修ではありません。保育士等キャリアアップ研修のマネジメント分野は、令和２年３月31日までの修了分まで算定可。","必修ではありません。")))) -> 職位を選択してください | H7: 代表者職・氏名 | I7: =①集計表!H8 -> 0 | K7: =Z4 -> 0
A9: 区分３及び職員処遇改善費の対象と認められる研修のみ入力してください（下記(6)参照）。そのうち、キャリアアップ研修が対象か否かについては最下部(7)を参照のうえ、不明な場合は実施主体に必ず確認してください。
A10: No | B10: 各行最後に入力 修了年月日 (例:R2.6.1) ※研修種別～ 研修分野 を入力後に入力してください。 | C10: 実施主体等 | D10: 講義名・テーマ | E10: キャリアアップ研修 研修分野 ※施設情報・職位を入力後に選択してください | F10: 修了証番号 | G10: マネジメント分野に係る 研修の場合は〇 | H10: 園内研修 | I10: 修了時間数 | J10: 備考 | K10: 開始日 | L10: キャリアアップ研修 | M10: 42826
A11: 1 | H11: =IF(C11="⑤園内における研修を企画・実施する幼稚園又は認定こども園","〇","") | K11: 終了日 | L11: マネジメント (専門リーダー) | M11: 44651
A12: 2 | H12: =IF(C12="⑤園内における研修を企画・実施する幼稚園又は認定こども園","〇","") | L12: マネジメント (若手リーダー) | M12: 43921
A13: 3 | H13: =IF(C13="⑤園内における研修を企画・実施する幼稚園又は認定こども園","〇","") | L13: それ以外 の研修 | M13: 45747
A14: 4 | H14: =IF(C14="⑤園内における研修を企画・実施する幼稚園又は認定こども園","〇","")
A15: 5 | H15: =IF(C15="⑤園内における研修を企画・実施する幼稚園又は認定こども園","〇","")
A16: 6 | H16: =IF(C16="⑤園内における研修を企画・実施する幼稚園又は認定こども園","〇","")
A17: 7 | H17: =IF(C17="⑤園内における研修を企画・実施する幼稚園又は認定こども園","〇","")
A18: 8 | H18: =IF(C18="⑤園内における研修を企画・実施する幼稚園又は認定こども園","〇","")
A19: 9 | H19: =IF(C19="⑤園内における研修を企画・実施する幼稚園又は認定こども園","〇","")
A20: 10 | H20: =IF(C20="⑤園内における研修を企画・実施する幼稚園又は認定こども園","〇","")
A21: 11 | H21: =IF(C21="⑤園内における研修を企画・実施する幼稚園又は認定こども園","〇","")
A22: 12 | H22: =IF(C22="⑤園内における研修を企画・実施する幼稚園又は認定こども園","〇","")
A23: 13 | H23: =IF(C23="⑤園内における研修を企画・実施する幼稚園又は認定こども園","〇","")
A24: 14 | H24: =IF(C24="⑤園内における研修を企画・実施する幼稚園又は認定こども園","〇","")
A25: 15 | H25: =IF(C25="⑤園内における研修を企画・実施する幼稚園又は認定こども園","〇","")
... A67: 57 | H67: =IF(C67="⑤園内における研修を企画・実施する幼稚園又は認定こども園","〇","")
A68: 58 | H68: =IF(C68="⑤園内における研修を企画・実施する幼稚園又は認定こども園","〇","") | M68: 園内研修 | N68: 最大時間
A69: 59 | H69: =IF(C69="⑤園内における研修を企画・実施する幼稚園又は認定こども園","〇","") | M69: 中核リーダー | N69: 15
A70: 60 | H70: =IF(C70="⑤園内における研修を企画・実施する幼稚園又は認定こども園","〇","") | M70: 専門リーダー | N70: 15
A71: 合計 | G71: =SUMIF(G11:G70,"〇",I11:I70) -> 0 | H71: =IF(SUMIF(C11:C70,"⑤園内における研修を企画・実施する幼稚園又は認定こども園",I11:I70)>VLOOKUP(C6,M68:N83,2,FALSE),VLOOKUP(C6,M68:N83,2,FALSE),SUMIF(C11:C70,"⑤園内における研修を企画・実施する幼稚園又は認定こども園",I11:I70)) -> #N/A | I71: =IF(L71<0,SUM(I11:I70,L71),SUM(I11:I70)) -> #N/A | L71: =IF(SUMIF(C11:C70,"⑤園内における研修を企画・実施する幼稚園又は認定こども園",I11:I70)>VLOOKUP(C6,M68:N83,2,FALSE),VLOOKUP(C6,M68:N83,2,FALSE)-SUMIF(C11:C70,"⑤園内における研修を企画・実施する幼稚園又は認定こども園",I11:I70),"") -> #N/A | M71: 若手リーダー | N71: 4
B72: 【留意事項】 | M72: 若手リーダー | N72: 4
B73: (1) 研修ごとに１行で記載する。 | M73: なし_職員処遇改善費のみの対象者 | N73: 15
B74: (2) 「修了年月日」は、研修修了証の年月日又は研修を受講した年月日を記入する。 | M74: 園長で中核リーダーの研修 | N74: 15
B75: (3) 園内研修（幼稚園等）を対象としたい場合は、「園内研修実施状況」を添付すること。 | M75: 園長で専門リーダーの研修 | N75: 15
B76: (4) 一覧の内容を確認できる資料（幼稚園教諭免許状更新講習修了証明書（履修証明書）の写し等）を施設において保管すること。 | M76: 副園長で中核リーダーの研修 | N76: 15
B77: (5) 行が足りない場合は、No２～59の行を選択し、挿入すること。 | M77: 副園長で専門リーダーの研修 | N77: 15
B78: (6) 区分３及び職員処遇改善費の対象となる研修は「施設型給付費等に係る処遇改善等加算（区分３）に係る研修修了要件について」（令和７年９月16日付けこ成基202・７初幼教第４号 こども家庭庁成育局保育政策課長、こども家庭庁成育局成育基盤企画課長及び文部科学省初等中等教育局幼児教育課長連盟通知）の記載に基づくものとする。 | M78: 教頭で中核リーダーの研修 | N78: 15
B79: (7) 保育士等キャリアアップ研修は「保育士等キャリアアップ研修の実施について（平成29年４月１日厚生労働省雇用均等・児童家庭局保育課長通知）」の記載に基づくものが対象となる。 実施主体は「都道府県又は都道府県知事の指定した研修実施機関」とする。 | M79: 教頭で専門リーダーの研修 | N79: 15
M80: 主幹教諭で中核リーダーの研修 | N80: 15
M81: 主幹教諭で専門リーダーの研修 | N81: 15
M82: 主幹保育教諭で中核リーダーの研修 | N82: 15
M83: 主幹保育教諭で専門リーダーの研修 | N83: 15

Sheet ②名簿11
A1: 第５号様式の２ | D1: 令和 ８ 年度 研修受講履歴一覧集計表 （幼稚園・認定こども園）
H3: 所在区 | I3: =①集計表!H4 -> #N/A
H4: 施設・事業種別 | I4: =①集計表!H5 -> #N/A | L4: =IFERROR(LEFT(I4,FIND("（",I4)-1),I4)&C6 -> #N/A
H5: 施設・事業所番号 | I5: =①集計表!H6 -> 0
B6: 職位 | D6: ↓マネジメント分野の修了チェック↓ | H6: 施設・事業所名 | I6: =①集計表!H7 -> #N/A
B7: 氏名 | D7: =IF($C$6="","職位を選択してください",IF(ISNUMBER(SEARCH("中核リーダー",C6)),IF(SUMIF(G:G,"〇",I:I)>=15,"必修時間を満たしています","区分３（人数Ａ）対象者は、マネジメント分野（15時間）必修です。 入力してください。"),IF(ISNUMBER(SEARCH("専門リーダー",C6)),"必修ではありません。保育士等キャリアアップ研修のマネジメント分野は、令和４年３月31日までの修了分まで算定可。",IF(ISNUMBER(SEARCH("若手リーダー",C6)),"必修ではありません。保育士等キャリアアップ研修のマネジメント分野は、令和２年３月31日までの修了分まで算定可。","必修ではありません。")))) -> 職位を選択してください | H7: 代表者職・氏名 | I7: =①集計表!H8 -> 0 | K7: =Z4 -> 0
A9: 区分３及び職員処遇改善費の対象と認められる研修のみ入力してください（下記(6)参照）。そのうち、キャリアアップ研修が対象か否かについては最下部(7)を参照のうえ、不明な場合は実施主体に必ず確認してください。
A10: No | B10: 各行最後に入力 修了年月日 (例:R2.6.1) ※研修種別～ 研修分野 を入力後に入力してください。 | C10: 実施主体等 | D10: 講義名・テーマ | E10: キャリアアップ研修 研修分野 ※施設情報・職位を入力後に選択してください | F10: 修了証番号 | G10: マネジメント分野に係る 研修の場合は〇 | H10: 園内研修 | I10: 修了時間数 | J10: 備考 | K10: 開始日 | L10: キャリアアップ研修 | M10: 42826
A11: 1 | H11: =IF(C11="⑤園内における研修を企画・実施する幼稚園又は認定こども園","〇","") | K11: 終了日 | L11: マネジメント (専門リーダー) | M11: 44651
A12: 2 | H12: =IF(C12="⑤園内における研修を企画・実施する幼稚園又は認定こども園","〇","") | L12: マネジメント (若手リーダー) | M12: 43921
A13: 3 | H13: =IF(C13="⑤園内における研修を企画・実施する幼稚園又は認定こども園","〇","") | L13: それ以外 の研修 | M13: 45747
A14: 4 | H14: =IF(C14="⑤園内における研修を企画・実施する幼稚園又は認定こども園","〇","")
A15: 5 | H15: =IF(C15="⑤園内における研修を企画・実施する幼稚園又は認定こども園","〇","")
A16: 6 | H16: =IF(C16="⑤園内における研修を企画・実施する幼稚園又は認定こども園","〇","")
A17: 7 | H17: =IF(C17="⑤園内における研修を企画・実施する幼稚園又は認定こども園","〇","")
A18: 8 | H18: =IF(C18="⑤園内における研修を企画・実施する幼稚園又は認定こども園","〇","")
A19: 9 | H19: =IF(C19="⑤園内における研修を企画・実施する幼稚園又は認定こども園","〇","")
A20: 10 | H20: =IF(C20="⑤園内における研修を企画・実施する幼稚園又は認定こども園","〇","")
A21: 11 | H21: =IF(C21="⑤園内における研修を企画・実施する幼稚園又は認定こども園","〇","")
A22: 12 | H22: =IF(C22="⑤園内における研修を企画・実施する幼稚園又は認定こども園","〇","")
A23: 13 | H23: =IF(C23="⑤園内における研修を企画・実施する幼稚園又は認定こども園","〇","")
A24: 14 | H24: =IF(C24="⑤園内における研修を企画・実施する幼稚園又は認定こども園","〇","")
A25: 15 | H25: =IF(C25="⑤園内における研修を企画・実施する幼稚園又は認定こども園","〇","")
... A67: 57 | H67: =IF(C67="⑤園内における研修を企画・実施する幼稚園又は認定こども園","〇","")
A68: 58 | H68: =IF(C68="⑤園内における研修を企画・実施する幼稚園又は認定こども園","〇","") | M68: 園内研修 | N68: 最大時間
A69: 59 | H69: =IF(C69="⑤園内における研修を企画・実施する幼稚園又は認定こども園","〇","") | M69: 中核リーダー | N69: 15
A70: 60 | H70: =IF(C70="⑤園内における研修を企画・実施する幼稚園又は認定こども園","〇","") | M70: 専門リーダー | N70: 15
A71: 合計 | G71: =SUMIF(G11:G70,"〇",I11:I70) -> 0 | H71: =IF(SUMIF(C11:C70,"⑤園内における研修を企画・実施する幼稚園又は認定こども園",I11:I70)>VLOOKUP(C6,M68:N83,2,FALSE),VLOOKUP(C6,M68:N83,2,FALSE),SUMIF(C11:C70,"⑤園内における研修を企画・実施する幼稚園又は認定こども園",I11:I70)) -> #N/A | I71: =IF(L71<0,SUM(I11:I70,L71),SUM(I11:I70)) -> #N/A | L71: =IF(SUMIF(C11:C70,"⑤園内における研修を企画・実施する幼稚園又は認定こども園",I11:I70)>VLOOKUP(C6,M68:N83,2,FALSE),VLOOKUP(C6,M68:N83,2,FALSE)-SUMIF(C11:C70,"⑤園内における研修を企画・実施する幼稚園又は認定こども園",I11:I70),"") -> #N/A | M71: 若手リーダー | N71: 4
B72: 【留意事項】 | M72: 若手リーダー | N72: 4
B73: (1) 研修ごとに１行で記載する。 | M73: なし_職員処遇改善費のみの対象者 | N73: 15
B74: (2) 「修了年月日」は、研修修了証の年月日又は研修を受講した年月日を記入する。 | M74: 園長で中核リーダーの研修 | N74: 15
B75: (3) 園内研修（幼稚園等）を対象としたい場合は、「園内研修実施状況」を添付すること。 | M75: 園長で専門リーダーの研修 | N75: 15
B76: (4) 一覧の内容を確認できる資料（幼稚園教諭免許状更新講習修了証明書（履修証明書）の写し等）を施設において保管すること。 | M76: 副園長で中核リーダーの研修 | N76: 15
B77: (5) 行が足りない場合は、No２～59の行を選択し、挿入すること。 | M77: 副園長で専門リーダーの研修 | N77: 15
B78: (6) 区分３及び職員処遇改善費の対象となる研修は「施設型給付費等に係る処遇改善等加算（区分３）に係る研修修了要件について」（令和７年９月16日付けこ成基202・７初幼教第４号 こども家庭庁成育局保育政策課長、こども家庭庁成育局成育基盤企画課長及び文部科学省初等中等教育局幼児教育課長連盟通知）の記載に基づくものとする。 | M78: 教頭で中核リーダーの研修 | N78: 15
B79: (7) 保育士等キャリアアップ研修は「保育士等キャリアアップ研修の実施について（平成29年４月１日厚生労働省雇用均等・児童家庭局保育課長通知）」の記載に基づくものが対象となる。 実施主体は「都道府県又は都道府県知事の指定した研修実施機関」とする。 | M79: 教頭で専門リーダーの研修 | N79: 15
M80: 主幹教諭で中核リーダーの研修 | N80: 15
M81: 主幹教諭で専門リーダーの研修 | N81: 15
M82: 主幹保育教諭で中核リーダーの研修 | N82: 15
M83: 主幹保育教諭で専門リーダーの研修 | N83: 15

Sheet ②名簿12
A1: 第５号様式の２ | D1: 令和 ８ 年度 研修受講履歴一覧集計表 （幼稚園・認定こども園）
H3: 所在区 | I3: =①集計表!H4 -> #N/A
H4: 施設・事業種別 | I4: =①集計表!H5 -> #N/A | L4: =IFERROR(LEFT(I4,FIND("（",I4)-1),I4)&C6 -> #N/A
H5: 施設・事業所番号 | I5: =①集計表!H6 -> 0
B6: 職位 | D6: ↓マネジメント分野の修了チェック↓ | H6: 施設・事業所名 | I6: =①集計表!H7 -> #N/A
B7: 氏名 | D7: =IF($C$6="","職位を選択してください",IF(ISNUMBER(SEARCH("中核リーダー",C6)),IF(SUMIF(G:G,"〇",I:I)>=15,"必修時間を満たしています","区分３（人数Ａ）対象者は、マネジメント分野（15時間）必修です。 入力してください。"),IF(ISNUMBER(SEARCH("専門リーダー",C6)),"必修ではありません。保育士等キャリアアップ研修のマネジメント分野は、令和４年３月31日までの修了分まで算定可。",IF(ISNUMBER(SEARCH("若手リーダー",C6)),"必修ではありません。保育士等キャリアアップ研修のマネジメント分野は、令和２年３月31日までの修了分まで算定可。","必修ではありません。")))) -> 職位を選択してください | H7: 代表者職・氏名 | I7: =①集計表!H8 -> 0 | K7: =Z4 -> 0
A9: 区分３及び職員処遇改善費の対象と認められる研修のみ入力してください（下記(6)参照）。そのうち、キャリアアップ研修が対象か否かについては最下部(7)を参照のうえ、不明な場合は実施主体に必ず確認してください。
A10: No | B10: 各行最後に入力 修了年月日 (例:R2.6.1) ※研修種別～ 研修分野 を入力後に入力してください。 | C10: 実施主体等 | D10: 講義名・テーマ | E10: キャリアアップ研修 研修分野 ※施設情報・職位を入力後に選択してください | F10: 修了証番号 | G10: マネジメント分野に係る 研修の場合は〇 | H10: 園内研修 | I10: 修了時間数 | J10: 備考 | K10: 開始日 | L10: キャリアアップ研修 | M10: 42826
A11: 1 | H11: =IF(C11="⑤園内における研修を企画・実施する幼稚園又は認定こども園","〇","") | K11: 終了日 | L11: マネジメント (専門リーダー) | M11: 44651
A12: 2 | H12: =IF(C12="⑤園内における研修を企画・実施する幼稚園又は認定こども園","〇","") | L12: マネジメント (若手リーダー) | M12: 43921
A13: 3 | H13: =IF(C13="⑤園内における研修を企画・実施する幼稚園又は認定こども園","〇","") | L13: それ以外 の研修 | M13: 45747
A14: 4 | H14: =IF(C14="⑤園内における研修を企画・実施する幼稚園又は認定こども園","〇","")
A15: 5 | H15: =IF(C15="⑤園内における研修を企画・実施する幼稚園又は認定こども園","〇","")
A16: 6 | H16: =IF(C16="⑤園内における研修を企画・実施する幼稚園又は認定こども園","〇","")
A17: 7 | H17: =IF(C17="⑤園内における研修を企画・実施する幼稚園又は認定こども園","〇","")
A18: 8 | H18: =IF(C18="⑤園内における研修を企画・実施する幼稚園又は認定こども園","〇","")
A19: 9 | H19: =IF(C19="⑤園内における研修を企画・実施する幼稚園又は認定こども園","〇","")
A20: 10 | H20: =IF(C20="⑤園内における研修を企画・実施する幼稚園又は認定こども園","〇","")
A21: 11 | H21: =IF(C21="⑤園内における研修を企画・実施する幼稚園又は認定こども園","〇","")
A22: 12 | H22: =IF(C22="⑤園内における研修を企画・実施する幼稚園又は認定こども園","〇","")
A23: 13 | H23: =IF(C23="⑤園内における研修を企画・実施する幼稚園又は認定こども園","〇","")
A24: 14 | H24: =IF(C24="⑤園内における研修を企画・実施する幼稚園又は認定こども園","〇","")
A25: 15 | H25: =IF(C25="⑤園内における研修を企画・実施する幼稚園又は認定こども園","〇","")
... A67: 57 | H67: =IF(C67="⑤園内における研修を企画・実施する幼稚園又は認定こども園","〇","")
A68: 58 | H68: =IF(C68="⑤園内における研修を企画・実施する幼稚園又は認定こども園","〇","") | M68: 園内研修 | N68: 最大時間
A69: 59 | H69: =IF(C69="⑤園内における研修を企画・実施する幼稚園又は認定こども園","〇","") | M69: 中核リーダー | N69: 15
A70: 60 | H70: =IF(C70="⑤園内における研修を企画・実施する幼稚園又は認定こども園","〇","") | M70: 専門リーダー | N70: 15
A71: 合計 | G71: =SUMIF(G11:G70,"〇",I11:I70) -> 0 | H71: =IF(SUMIF(C11:C70,"⑤園内における研修を企画・実施する幼稚園又は認定こども園",I11:I70)>VLOOKUP(C6,M68:N83,2,FALSE),VLOOKUP(C6,M68:N83,2,FALSE),SUMIF(C11:C70,"⑤園内における研修を企画・実施する幼稚園又は認定こども園",I11:I70)) -> #N/A | I71: =IF(L71<0,SUM(I11:I70,L71),SUM(I11:I70)) -> #N/A | L71: =IF(SUMIF(C11:C70,"⑤園内における研修を企画・実施する幼稚園又は認定こども園",I11:I70)>VLOOKUP(C6,M68:N83,2,FALSE),VLOOKUP(C6,M68:N83,2,FALSE)-SUMIF(C11:C70,"⑤園内における研修を企画・実施する幼稚園又は認定こども園",I11:I70),"") -> #N/A | M71: 若手リーダー | N71: 4
B72: 【留意事項】 | M72: 若手リーダー | N72: 4
B73: (1) 研修ごとに１行で記載する。 | M73: なし_職員処遇改善費のみの対象者 | N73: 15
B74: (2) 「修了年月日」は、研修修了証の年月日又は研修を受講した年月日を記入する。 | M74: 園長で中核リーダーの研修 | N74: 15
B75: (3) 園内研修（幼稚園等）を対象としたい場合は、「園内研修実施状況」を添付すること。 | M75: 園長で専門リーダーの研修 | N75: 15
B76: (4) 一覧の内容を確認できる資料（幼稚園教諭免許状更新講習修了証明書（履修証明書）の写し等）を施設において保管すること。 | M76: 副園長で中核リーダーの研修 | N76: 15
B77: (5) 行が足りない場合は、No２～59の行を選択し、挿入すること。 | M77: 副園長で専門リーダーの研修 | N77: 15
B78: (6) 区分３及び職員処遇改善費の対象となる研修は「施設型給付費等に係る処遇改善等加算（区分３）に係る研修修了要件について」（令和７年９月16日付けこ成基202・７初幼教第４号 こども家庭庁成育局保育政策課長、こども家庭庁成育局成育基盤企画課長及び文部科学省初等中等教育局幼児教育課長連盟通知）の記載に基づくものとする。 | M78: 教頭で中核リーダーの研修 | N78: 15
B79: (7) 保育士等キャリアアップ研修は「保育士等キャリアアップ研修の実施について（平成29年４月１日厚生労働省雇用均等・児童家庭局保育課長通知）」の記載に基づくものが対象となる。 実施主体は「都道府県又は都道府県知事の指定した研修実施機関」とする。 | M79: 教頭で専門リーダーの研修 | N79: 15
M80: 主幹教諭で中核リーダーの研修 | N80: 15
M81: 主幹教諭で専門リーダーの研修 | N81: 15
M82: 主幹保育教諭で中核リーダーの研修 | N82: 15
M83: 主幹保育教諭で専門リーダーの研修 | N83: 15

Sheet ②名簿13
A1: 第５号様式の２ | D1: 令和 ８ 年度 研修受講履歴一覧集計表 （幼稚園・認定こども園）
H3: 所在区 | I3: =①集計表!H4 -> #N/A
H4: 施設・事業種別 | I4: =①集計表!H5 -> #N/A | L4: =IFERROR(LEFT(I4,FIND("（",I4)-1),I4)&C6 -> #N/A
H5: 施設・事業所番号 | I5: =①集計表!H6 -> 0
B6: 職位 | D6: ↓マネジメント分野の修了チェック↓ | H6: 施設・事業所名 | I6: =①集計表!H7 -> #N/A
B7: 氏名 | D7: =IF($C$6="","職位を選択してください",IF(ISNUMBER(SEARCH("中核リーダー",C6)),IF(SUMIF(G:G,"〇",I:I)>=15,"必修時間を満たしています","区分３（人数Ａ）対象者は、マネジメント分野（15時間）必修です。 入力してください。"),IF(ISNUMBER(SEARCH("専門リーダー",C6)),"必修ではありません。保育士等キャリアアップ研修のマネジメント分野は、令和４年３月31日までの修了分まで算定可。",IF(ISNUMBER(SEARCH("若手リーダー",C6)),"必修ではありません。保育士等キャリアアップ研修のマネジメント分野は、令和２年３月31日までの修了分まで算定可。","必修ではありません。")))) -> 職位を選択してください | H7: 代表者職・氏名 | I7: =①集計表!H8 -> 0 | K7: =Z4 -> 0
A9: 区分３及び職員処遇改善費の対象と認められる研修のみ入力してください（下記(6)参照）。そのうち、キャリアアップ研修が対象か否かについては最下部(7)を参照のうえ、不明な場合は実施主体に必ず確認してください。
A10: No | B10: 各行最後に入力 修了年月日 (例:R2.6.1) ※研修種別～ 研修分野 を入力後に入力してください。 | C10: 実施主体等 | D10: 講義名・テーマ | E10: キャリアアップ研修 研修分野 ※施設情報・職位を入力後に選択してください | F10: 修了証番号 | G10: マネジメント分野に係る 研修の場合は〇 | H10: 園内研修 | I10: 修了時間数 | J10: 備考 | K10: 開始日 | L10: キャリアアップ研修 | M10: 42826
A11: 1 | H11: =IF(C11="⑤園内における研修を企画・実施する幼稚園又は認定こども園","〇","") | K11: 終了日 | L11: マネジメント (専門リーダー) | M11: 44651
A12: 2 | H12: =IF(C12="⑤園内における研修を企画・実施する幼稚園又は認定こども園","〇","") | L12: マネジメント (若手リーダー) | M12: 43921
A13: 3 | H13: =IF(C13="⑤園内における研修を企画・実施する幼稚園又は認定こども園","〇","") | L13: それ以外 の研修 | M13: 45747
A14: 4 | H14: =IF(C14="⑤園内における研修を企画・実施する幼稚園又は認定こども園","〇","")
A15: 5 | H15: =IF(C15="⑤園内における研修を企画・実施する幼稚園又は認定こども園","〇","")
A16: 6 | H16: =IF(C16="⑤園内における研修を企画・実施する幼稚園又は認定こども園","〇","")
A17: 7 | H17: =IF(C17="⑤園内における研修を企画・実施する幼稚園又は認定こども園","〇","")
A18: 8 | H18: =IF(C18="⑤園内における研修を企画・実施する幼稚園又は認定こども園","〇","")
A19: 9 | H19: =IF(C19="⑤園内における研修を企画・実施する幼稚園又は認定こども園","〇","")
A20: 10 | H20: =IF(C20="⑤園内における研修を企画・実施する幼稚園又は認定こども園","〇","")
A21: 11 | H21: =IF(C21="⑤園内における研修を企画・実施する幼稚園又は認定こども園","〇","")
A22: 12 | H22: =IF(C22="⑤園内における研修を企画・実施する幼稚園又は認定こども園","〇","")
A23: 13 | H23: =IF(C23="⑤園内における研修を企画・実施する幼稚園又は認定こども園","〇","")
A24: 14 | H24: =IF(C24="⑤園内における研修を企画・実施する幼稚園又は認定こども園","〇","")
A25: 15 | H25: =IF(C25="⑤園内における研修を企画・実施する幼稚園又は認定こども園","〇","")
... A67: 57 | H67: =IF(C67="⑤園内における研修を企画・実施する幼稚園又は認定こども園","〇","")
A68: 58 | H68: =IF(C68="⑤園内における研修を企画・実施する幼稚園又は認定こども園","〇","") | M68: 園内研修 | N68: 最大時間
A69: 59 | H69: =IF(C69="⑤園内における研修を企画・実施する幼稚園又は認定こども園","〇","") | M69: 中核リーダー | N69: 15
A70: 60 | H70: =IF(C70="⑤園内における研修を企画・実施する幼稚園又は認定こども園","〇","") | M70: 専門リーダー | N70: 15
A71: 合計 | G71: =SUMIF(G11:G70,"〇",I11:I70) -> 0 | H71: =IF(SUMIF(C11:C70,"⑤園内における研修を企画・実施する幼稚園又は認定こども園",I11:I70)>VLOOKUP(C6,M68:N83,2,FALSE),VLOOKUP(C6,M68:N83,2,FALSE),SUMIF(C11:C70,"⑤園内における研修を企画・実施する幼稚園又は認定こども園",I11:I70)) -> #N/A | I71: =IF(L71<0,SUM(I11:I70,L71),SUM(I11:I70)) -> #N/A | L71: =IF(SUMIF(C11:C70,"⑤園内における研修を企画・実施する幼稚園又は認定こども園",I11:I70)>VLOOKUP(C6,M68:N83,2,FALSE),VLOOKUP(C6,M68:N83,2,FALSE)-SUMIF(C11:C70,"⑤園内における研修を企画・実施する幼稚園又は認定こども園",I11:I70),"") -> #N/A | M71: 若手リーダー | N71: 4
B72: 【留意事項】 | M72: 若手リーダー | N72: 4
B73: (1) 研修ごとに１行で記載する。 | M73: なし_職員処遇改善費のみの対象者 | N73: 15
B74: (2) 「修了年月日」は、研修修了証の年月日又は研修を受講した年月日を記入する。 | M74: 園長で中核リーダーの研修 | N74: 15
B75: (3) 園内研修（幼稚園等）を対象としたい場合は、「園内研修実施状況」を添付すること。 | M75: 園長で専門リーダーの研修 | N75: 15
B76: (4) 一覧の内容を確認できる資料（幼稚園教諭免許状更新講習修了証明書（履修証明書）の写し等）を施設において保管すること。 | M76: 副園長で中核リーダーの研修 | N76: 15
B77: (5) 行が足りない場合は、No２～59の行を選択し、挿入すること。 | M77: 副園長で専門リーダーの研修 | N77: 15
B78: (6) 区分３及び職員処遇改善費の対象となる研修は「施設型給付費等に係る処遇改善等加算（区分３）に係る研修修了要件について」（令和７年９月16日付けこ成基202・７初幼教第４号 こども家庭庁成育局保育政策課長、こども家庭庁成育局成育基盤企画課長及び文部科学省初等中等教育局幼児教育課長連盟通知）の記載に基づくものとする。 | M78: 教頭で中核リーダーの研修 | N78: 15
B79: (7) 保育士等キャリアアップ研修は「保育士等キャリアアップ研修の実施について（平成29年４月１日厚生労働省雇用均等・児童家庭局保育課長通知）」の記載に基づくものが対象となる。 実施主体は「都道府県又は都道府県知事の指定した研修実施機関」とする。 | M79: 教頭で専門リーダーの研修 | N79: 15
M80: 主幹教諭で中核リーダーの研修 | N80: 15
M81: 主幹教諭で専門リーダーの研修 | N81: 15
M82: 主幹保育教諭で中核リーダーの研修 | N82: 15
M83: 主幹保育教諭で専門リーダーの研修 | N83: 15

Sheet ②名簿14
A1: 第５号様式の２ | D1: 令和 ８ 年度 研修受講履歴一覧集計表 （幼稚園・認定こども園）
H3: 所在区 | I3: =①集計表!H4 -> #N/A
H4: 施設・事業種別 | I4: =①集計表!H5 -> #N/A | L4: =IFERROR(LEFT(I4,FIND("（",I4)-1),I4)&C6 -> #N/A
H5: 施設・事業所番号 | I5: =①集計表!H6 -> 0
B6: 職位 | D6: ↓マネジメント分野の修了チェック↓ | H6: 施設・事業所名 | I6: =①集計表!H7 -> #N/A
B7: 氏名 | D7: =IF($C$6="","職位を選択してください",IF(ISNUMBER(SEARCH("中核リーダー",C6)),IF(SUMIF(G:G,"〇",I:I)>=15,"必修時間を満たしています","区分３（人数Ａ）対象者は、マネジメント分野（15時間）必修です。 入力してください。"),IF(ISNUMBER(SEARCH("専門リーダー",C6)),"必修ではありません。保育士等キャリアアップ研修のマネジメント分野は、令和４年３月31日までの修了分まで算定可。",IF(ISNUMBER(SEARCH("若手リーダー",C6)),"必修ではありません。保育士等キャリアアップ研修のマネジメント分野は、令和２年３月31日までの修了分まで算定可。","必修ではありません。")))) -> 職位を選択してください | H7: 代表者職・氏名 | I7: =①集計表!H8 -> 0 | K7: =Z4 -> 0
A9: 区分３及び職員処遇改善費の対象と認められる研修のみ入力してください（下記(6)参照）。そのうち、キャリアアップ研修が対象か否かについては最下部(7)を参照のうえ、不明な場合は実施主体に必ず確認してください。
A10: No | B10: 各行最後に入力 修了年月日 (例:R2.6.1) ※研修種別～ 研修分野 を入力後に入力してください。 | C10: 実施主体等 | D10: 講義名・テーマ | E10: キャリアアップ研修 研修分野 ※施設情報・職位を入力後に選択してください | F10: 修了証番号 | G10: マネジメント分野に係る 研修の場合は〇 | H10: 園内研修 | I10: 修了時間数 | J10: 備考 | K10: 開始日 | L10: キャリアアップ研修 | M10: 42826
A11: 1 | H11: =IF(C11="⑤園内における研修を企画・実施する幼稚園又は認定こども園","〇","") | K11: 終了日 | L11: マネジメント (専門リーダー) | M11: 44651
A12: 2 | H12: =IF(C12="⑤園内における研修を企画・実施する幼稚園又は認定こども園","〇","") | L12: マネジメント (若手リーダー) | M12: 43921
A13: 3 | H13: =IF(C13="⑤園内における研修を企画・実施する幼稚園又は認定こども園","〇","") | L13: それ以外 の研修 | M13: 45747
A14: 4 | H14: =IF(C14="⑤園内における研修を企画・実施する幼稚園又は認定こども園","〇","")
A15: 5 | H15: =IF(C15="⑤園内における研修を企画・実施する幼稚園又は認定こども園","〇","")
A16: 6 | H16: =IF(C16="⑤園内における研修を企画・実施する幼稚園又は認定こども園","〇","")
A17: 7 | H17: =IF(C17="⑤園内における研修を企画・実施する幼稚園又は認定こども園","〇","")
A18: 8 | H18: =IF(C18="⑤園内における研修を企画・実施する幼稚園又は認定こども園","〇","")
A19: 9 | H19: =IF(C19="⑤園内における研修を企画・実施する幼稚園又は認定こども園","〇","")
A20: 10 | H20: =IF(C20="⑤園内における研修を企画・実施する幼稚園又は認定こども園","〇","")
A21: 11 | H21: =IF(C21="⑤園内における研修を企画・実施する幼稚園又は認定こども園","〇","")
A22: 12 | H22: =IF(C22="⑤園内における研修を企画・実施する幼稚園又は認定こども園","〇","")
A23: 13 | H23: =IF(C23="⑤園内における研修を企画・実施する幼稚園又は認定こども園","〇","")
A24: 14 | H24: =IF(C24="⑤園内における研修を企画・実施する幼稚園又は認定こども園","〇","")
A25: 15 | H25: =IF(C25="⑤園内における研修を企画・実施する幼稚園又は認定こども園","〇","")
... A67: 57 | H67: =IF(C67="⑤園内における研修を企画・実施する幼稚園又は認定こども園","〇","")
A68: 58 | H68: =IF(C68="⑤園内における研修を企画・実施する幼稚園又は認定こども園","〇","") | M68: 園内研修 | N68: 最大時間
A69: 59 | H69: =IF(C69="⑤園内における研修を企画・実施する幼稚園又は認定こども園","〇","") | M69: 中核リーダー | N69: 15
A70: 60 | H70: =IF(C70="⑤園内における研修を企画・実施する幼稚園又は認定こども園","〇","") | M70: 専門リーダー | N70: 15
A71: 合計 | G71: =SUMIF(G11:G70,"〇",I11:I70) -> 0 | H71: =IF(SUMIF(C11:C70,"⑤園内における研修を企画・実施する幼稚園又は認定こども園",I11:I70)>VLOOKUP(C6,M68:N83,2,FALSE),VLOOKUP(C6,M68:N83,2,FALSE),SUMIF(C11:C70,"⑤園内における研修を企画・実施する幼稚園又は認定こども園",I11:I70)) -> #N/A | I71: =IF(L71<0,SUM(I11:I70,L71),SUM(I11:I70)) -> #N/A | L71: =IF(SUMIF(C11:C70,"⑤園内における研修を企画・実施する幼稚園又は認定こども園",I11:I70)>VLOOKUP(C6,M68:N83,2,FALSE),VLOOKUP(C6,M68:N83,2,FALSE)-SUMIF(C11:C70,"⑤園内における研修を企画・実施する幼稚園又は認定こども園",I11:I70),"") -> #N/A | M71: 若手リーダー | N71: 4
B72: 【留意事項】 | M72: 若手リーダー | N72: 4
B73: (1) 研修ごとに１行で記載する。 | M73: なし_職員処遇改善費のみの対象者 | N73: 15
B74: (2) 「修了年月日」は、研修修了証の年月日又は研修を受講した年月日を記入する。 | M74: 園長で中核リーダーの研修 | N74: 15
B75: (3) 園内研修（幼稚園等）を対象としたい場合は、「園内研修実施状況」を添付すること。 | M75: 園長で専門リーダーの研修 | N75: 15
B76: (4) 一覧の内容を確認できる資料（幼稚園教諭免許状更新講習修了証明書（履修証明書）の写し等）を施設において保管すること。 | M76: 副園長で中核リーダーの研修 | N76: 15
B77: (5) 行が足りない場合は、No２～59の行を選択し、挿入すること。 | M77: 副園長で専門リーダーの研修 | N77: 15
B78: (6) 区分３及び職員処遇改善費の対象となる研修は「施設型給付費等に係る処遇改善等加算（区分３）に係る研修修了要件について」（令和７年９月16日付けこ成基202・７初幼教第４号 こども家庭庁成育局保育政策課長、こども家庭庁成育局成育基盤企画課長及び文部科学省初等中等教育局幼児教育課長連盟通知）の記載に基づくものとする。 | M78: 教頭で中核リーダーの研修 | N78: 15
B79: (7) 保育士等キャリアアップ研修は「保育士等キャリアアップ研修の実施について（平成29年４月１日厚生労働省雇用均等・児童家庭局保育課長通知）」の記載に基づくものが対象となる。 実施主体は「都道府県又は都道府県知事の指定した研修実施機関」とする。 | M79: 教頭で専門リーダーの研修 | N79: 15
M80: 主幹教諭で中核リーダーの研修 | N80: 15
M81: 主幹教諭で専門リーダーの研修 | N81: 15
M82: 主幹保育教諭で中核リーダーの研修 | N82: 15
M83: 主幹保育教諭で専門リーダーの研修 | N83: 15

Sheet ②名簿15
A1: 第５号様式の２ | D1: 令和 ８ 年度 研修受講履歴一覧集計表 （幼稚園・認定こども園）
H3: 所在区 | I3: =①集計表!H4 -> #N/A
H4: 施設・事業種別 | I4: =①集計表!H5 -> #N/A | L4: =IFERROR(LEFT(I4,FIND("（",I4)-1),I4)&C6 -> #N/A
H5: 施設・事業所番号 | I5: =①集計表!H6 -> 0
B6: 職位 | D6: ↓マネジメント分野の修了チェック↓ | H6: 施設・事業所名 | I6: =①集計表!H7 -> #N/A
B7: 氏名 | D7: =IF($C$6="","職位を選択してください",IF(ISNUMBER(SEARCH("中核リーダー",C6)),IF(SUMIF(G:G,"〇",I:I)>=15,"必修時間を満たしています","区分３（人数Ａ）対象者は、マネジメント分野（15時間）必修です。 入力してください。"),IF(ISNUMBER(SEARCH("専門リーダー",C6)),"必修ではありません。保育士等キャリアアップ研修のマネジメント分野は、令和４年３月31日までの修了分まで算定可。",IF(ISNUMBER(SEARCH("若手リーダー",C6)),"必修ではありません。保育士等キャリアアップ研修のマネジメント分野は、令和２年３月31日までの修了分まで算定可。","必修ではありません。")))) -> 職位を選択してください | H7: 代表者職・氏名 | I7: =①集計表!H8 -> 0 | K7: =Z4 -> 0
A9: 区分３及び職員処遇改善費の対象と認められる研修のみ入力してください（下記(6)参照）。そのうち、キャリアアップ研修が対象か否かについては最下部(7)を参照のうえ、不明な場合は実施主体に必ず確認してください。
A10: No | B10: 各行最後に入力 修了年月日 (例:R2.6.1) ※研修種別～ 研修分野 を入力後に入力してください。 | C10: 実施主体等 | D10: 講義名・テーマ | E10: キャリアアップ研修 研修分野 ※施設情報・職位を入力後に選択してください | F10: 修了証番号 | G10: マネジメント分野に係る 研修の場合は〇 | H10: 園内研修 | I10: 修了時間数 | J10: 備考 | K10: 開始日 | L10: キャリアアップ研修 | M10: 42826
A11: 1 | H11: =IF(C11="⑤園内における研修を企画・実施する幼稚園又は認定こども園","〇","") | K11: 終了日 | L11: マネジメント (専門リーダー) | M11: 44651
A12: 2 | H12: =IF(C12="⑤園内における研修を企画・実施する幼稚園又は認定こども園","〇","") | L12: マネジメント (若手リーダー) | M12: 43921
A13: 3 | H13: =IF(C13="⑤園内における研修を企画・実施する幼稚園又は認定こども園","〇","") | L13: それ以外 の研修 | M13: 45747
A14: 4 | H14: =IF(C14="⑤園内における研修を企画・実施する幼稚園又は認定こども園","〇","")
A15: 5 | H15: =IF(C15="⑤園内における研修を企画・実施する幼稚園又は認定こども園","〇","")
A16: 6 | H16: =IF(C16="⑤園内における研修を企画・実施する幼稚園又は認定こども園","〇","")
A17: 7 | H17: =IF(C17="⑤園内における研修を企画・実施する幼稚園又は認定こども園","〇","")
A18: 8 | H18: =IF(C18="⑤園内における研修を企画・実施する幼稚園又は認定こども園","〇","")
A19: 9 | H19: =IF(C19="⑤園内における研修を企画・実施する幼稚園又は認定こども園","〇","")
A20: 10 | H20: =IF(C20="⑤園内における研修を企画・実施する幼稚園又は認定こども園","〇","")
A21: 11 | H21: =IF(C21="⑤園内における研修を企画・実施する幼稚園又は認定こども園","〇","")
A22: 12 | H22: =IF(C22="⑤園内における研修を企画・実施する幼稚園又は認定こども園","〇","")
A23: 13 | H23: =IF(C23="⑤園内における研修を企画・実施する幼稚園又は認定こども園","〇","")
A24: 14 | H24: =IF(C24="⑤園内における研修を企画・実施する幼稚園又は認定こども園","〇","")
A25: 15 | H25: =IF(C25="⑤園内における研修を企画・実施する幼稚園又は認定こども園","〇","")
... A67: 57 | H67: =IF(C67="⑤園内における研修を企画・実施する幼稚園又は認定こども園","〇","")
A68: 58 | H68: =IF(C68="⑤園内における研修を企画・実施する幼稚園又は認定こども園","〇","") | M68: 園内研修 | N68: 最大時間
A69: 59 | H69: =IF(C69="⑤園内における研修を企画・実施する幼稚園又は認定こども園","〇","") | M69: 中核リーダー | N69: 15
A70: 60 | H70: =IF(C70="⑤園内における研修を企画・実施する幼稚園又は認定こども園","〇","") | M70: 専門リーダー | N70: 15
A71: 合計 | G71: =SUMIF(G11:G70,"〇",I11:I70) -> 0 | H71: =IF(SUMIF(C11:C70,"⑤園内における研修を企画・実施する幼稚園又は認定こども園",I11:I70)>VLOOKUP(C6,M68:N83,2,FALSE),VLOOKUP(C6,M68:N83,2,FALSE),SUMIF(C11:C70,"⑤園内における研修を企画・実施する幼稚園又は認定こども園",I11:I70)) -> #N/A | I71: =IF(L71<0,SUM(I11:I70,L71),SUM(I11:I70)) -> #N/A | L71: =IF(SUMIF(C11:C70,"⑤園内における研修を企画・実施する幼稚園又は認定こども園",I11:I70)>VLOOKUP(C6,M68:N83,2,FALSE),VLOOKUP(C6,M68:N83,2,FALSE)-SUMIF(C11:C70,"⑤園内における研修を企画・実施する幼稚園又は認定こども園",I11:I70),"") -> #N/A | M71: 若手リーダー | N71: 4
B72: 【留意事項】 | M72: 若手リーダー | N72: 4
B73: (1) 研修ごとに１行で記載する。 | M73: なし_職員処遇改善費のみの対象者 | N73: 15
B74: (2) 「修了年月日」は、研修修了証の年月日又は研修を受講した年月日を記入する。 | M74: 園長で中核リーダーの研修 | N74: 15
B75: (3) 園内研修（幼稚園等）を対象としたい場合は、「園内研修実施状況」を添付すること。 | M75: 園長で専門リーダーの研修 | N75: 15
B76: (4) 一覧の内容を確認できる資料（幼稚園教諭免許状更新講習修了証明書（履修証明書）の写し等）を施設において保管すること。 | M76: 副園長で中核リーダーの研修 | N76: 15
B77: (5) 行が足りない場合は、No２～59の行を選択し、挿入すること。 | M77: 副園長で専門リーダーの研修 | N77: 15
B78: (6) 区分３及び職員処遇改善費の対象となる研修は「施設型給付費等に係る処遇改善等加算（区分３）に係る研修修了要件について」（令和７年９月16日付けこ成基202・７初幼教第４号 こども家庭庁成育局保育政策課長、こども家庭庁成育局成育基盤企画課長及び文部科学省初等中等教育局幼児教育課長連盟通知）の記載に基づくものとする。 | M78: 教頭で中核リーダーの研修 | N78: 15
B79: (7) 保育士等キャリアアップ研修は「保育士等キャリアアップ研修の実施について（平成29年４月１日厚生労働省雇用均等・児童家庭局保育課長通知）」の記載に基づくものが対象となる。 実施主体は「都道府県又は都道府県知事の指定した研修実施機関」とする。 | M79: 教頭で専門リーダーの研修 | N79: 15
M80: 主幹教諭で中核リーダーの研修 | N80: 15
M81: 主幹教諭で専門リーダーの研修 | N81: 15
M82: 主幹保育教諭で中核リーダーの研修 | N82: 15
M83: 主幹保育教諭で専門リーダーの研修 | N83: 15

Sheet ②名簿16
A1: 第５号様式の２ | D1: 令和 ８ 年度 研修受講履歴一覧集計表 （幼稚園・認定こども園）
H3: 所在区 | I3: =①集計表!H4 -> #N/A
H4: 施設・事業種別 | I4: =①集計表!H5 -> #N/A | L4: =IFERROR(LEFT(I4,FIND("（",I4)-1),I4)&C6 -> #N/A
H5: 施設・事業所番号 | I5: =①集計表!H6 -> 0
B6: 職位 | D6: ↓マネジメント分野の修了チェック↓ | H6: 施設・事業所名 | I6: =①集計表!H7 -> #N/A
B7: 氏名 | D7: =IF($C$6="","職位を選択してください",IF(ISNUMBER(SEARCH("中核リーダー",C6)),IF(SUMIF(G:G,"〇",I:I)>=15,"必修時間を満たしています","区分３（人数Ａ）対象者は、マネジメント分野（15時間）必修です。 入力してください。"),IF(ISNUMBER(SEARCH("専門リーダー",C6)),"必修ではありません。保育士等キャリアアップ研修のマネジメント分野は、令和４年３月31日までの修了分まで算定可。",IF(ISNUMBER(SEARCH("若手リーダー",C6)),"必修ではありません。保育士等キャリアアップ研修のマネジメント分野は、令和２年３月31日までの修了分まで算定可。","必修ではありません。")))) -> 職位を選択してください | H7: 代表者職・氏名 | I7: =①集計表!H8 -> 0 | K7: =Z4 -> 0
A9: 区分３及び職員処遇改善費の対象と認められる研修のみ入力してください（下記(6)参照）。そのうち、キャリアアップ研修が対象か否かについては最下部(7)を参照のうえ、不明な場合は実施主体に必ず確認してください。
A10: No | B10: 各行最後に入力 修了年月日 (例:R2.6.1) ※研修種別～ 研修分野 を入力後に入力してください。 | C10: 実施主体等 | D10: 講義名・テーマ | E10: キャリアアップ研修 研修分野 ※施設情報・職位を入力後に選択してください | F10: 修了証番号 | G10: マネジメント分野に係る 研修の場合は〇 | H10: 園内研修 | I10: 修了時間数 | J10: 備考 | K10: 開始日 | L10: キャリアアップ研修 | M10: 42826
A11: 1 | H11: =IF(C11="⑤園内における研修を企画・実施する幼稚園又は認定こども園","〇","") | K11: 終了日 | L11: マネジメント (専門リーダー) | M11: 44651
A12: 2 | H12: =IF(C12="⑤園内における研修を企画・実施する幼稚園又は認定こども園","〇","") | L12: マネジメント (若手リーダー) | M12: 43921
A13: 3 | H13: =IF(C13="⑤園内における研修を企画・実施する幼稚園又は認定こども園","〇","") | L13: それ以外 の研修 | M13: 45747
A14: 4 | H14: =IF(C14="⑤園内における研修を企画・実施する幼稚園又は認定こども園","〇","")
A15: 5 | H15: =IF(C15="⑤園内における研修を企画・実施する幼稚園又は認定こども園","〇","")
A16: 6 | H16: =IF(C16="⑤園内における研修を企画・実施する幼稚園又は認定こども園","〇","")
A17: 7 | H17: =IF(C17="⑤園内における研修を企画・実施する幼稚園又は認定こども園","〇","")
A18: 8 | H18: =IF(C18="⑤園内における研修を企画・実施する幼稚園又は認定こども園","〇","")
A19: 9 | H19: =IF(C19="⑤園内における研修を企画・実施する幼稚園又は認定こども園","〇","")
A20: 10 | H20: =IF(C20="⑤園内における研修を企画・実施する幼稚園又は認定こども園","〇","")
A21: 11 | H21: =IF(C21="⑤園内における研修を企画・実施する幼稚園又は認定こども園","〇","")
A22: 12 | H22: =IF(C22="⑤園内における研修を企画・実施する幼稚園又は認定こども園","〇","")
A23: 13 | H23: =IF(C23="⑤園内における研修を企画・実施する幼稚園又は認定こども園","〇","")
A24: 14 | H24: =IF(C24="⑤園内における研修を企画・実施する幼稚園又は認定こども園","〇","")
A25: 15 | H25: =IF(C25="⑤園内における研修を企画・実施する幼稚園又は認定こども園","〇","")
... A67: 57 | H67: =IF(C67="⑤園内における研修を企画・実施する幼稚園又は認定こども園","〇","")
A68: 58 | H68: =IF(C68="⑤園内における研修を企画・実施する幼稚園又は認定こども園","〇","") | M68: 園内研修 | N68: 最大時間
A69: 59 | H69: =IF(C69="⑤園内における研修を企画・実施する幼稚園又は認定こども園","〇","") | M69: 中核リーダー | N69: 15
A70: 60 | H70: =IF(C70="⑤園内における研修を企画・実施する幼稚園又は認定こども園","〇","") | M70: 専門リーダー | N70: 15
A71: 合計 | G71: =SUMIF(G11:G70,"〇",I11:I70) -> 0 | H71: =IF(SUMIF(C11:C70,"⑤園内における研修を企画・実施する幼稚園又は認定こども園",I11:I70)>VLOOKUP(C6,M68:N83,2,FALSE),VLOOKUP(C6,M68:N83,2,FALSE),SUMIF(C11:C70,"⑤園内における研修を企画・実施する幼稚園又は認定こども園",I11:I70)) -> #N/A | I71: =IF(L71<0,SUM(I11:I70,L71),SUM(I11:I70)) -> #N/A | L71: =IF(SUMIF(C11:C70,"⑤園内における研修を企画・実施する幼稚園又は認定こども園",I11:I70)>VLOOKUP(C6,M68:N83,2,FALSE),VLOOKUP(C6,M68:N83,2,FALSE)-SUMIF(C11:C70,"⑤園内における研修を企画・実施する幼稚園又は認定こども園",I11:I70),"") -> #N/A | M71: 若手リーダー | N71: 4
B72: 【留意事項】 | M72: 若手リーダー | N72: 4
B73: (1) 研修ごとに１行で記載する。 | M73: なし_職員処遇改善費のみの対象者 | N73: 15
B74: (2) 「修了年月日」は、研修修了証の年月日又は研修を受講した年月日を記入する。 | M74: 園長で中核リーダーの研修 | N74: 15
B75: (3) 園内研修（幼稚園等）を対象としたい場合は、「園内研修実施状況」を添付すること。 | M75: 園長で専門リーダーの研修 | N75: 15
B76: (4) 一覧の内容を確認できる資料（幼稚園教諭免許状更新講習修了証明書（履修証明書）の写し等）を施設において保管すること。 | M76: 副園長で中核リーダーの研修 | N76: 15
B77: (5) 行が足りない場合は、No２～59の行を選択し、挿入すること。 | M77: 副園長で専門リーダーの研修 | N77: 15
B78: (6) 区分３及び職員処遇改善費の対象となる研修は「施設型給付費等に係る処遇改善等加算（区分３）に係る研修修了要件について」（令和７年９月16日付けこ成基202・７初幼教第４号 こども家庭庁成育局保育政策課長、こども家庭庁成育局成育基盤企画課長及び文部科学省初等中等教育局幼児教育課長連盟通知）の記載に基づくものとする。 | M78: 教頭で中核リーダーの研修 | N78: 15
B79: (7) 保育士等キャリアアップ研修は「保育士等キャリアアップ研修の実施について（平成29年４月１日厚生労働省雇用均等・児童家庭局保育課長通知）」の記載に基づくものが対象となる。 実施主体は「都道府県又は都道府県知事の指定した研修実施機関」とする。 | M79: 教頭で専門リーダーの研修 | N79: 15
M80: 主幹教諭で中核リーダーの研修 | N80: 15
M81: 主幹教諭で専門リーダーの研修 | N81: 15
M82: 主幹保育教諭で中核リーダーの研修 | N82: 15
M83: 主幹保育教諭で専門リーダーの研修 | N83: 15

Sheet ②名簿17
A1: 第５号様式の２ | D1: 令和 ８ 年度 研修受講履歴一覧集計表 （幼稚園・認定こども園）
H3: 所在区 | I3: =①集計表!H4 -> #N/A
H4: 施設・事業種別 | I4: =①集計表!H5 -> #N/A | L4: =IFERROR(LEFT(I4,FIND("（",I4)-1),I4)&C6 -> #N/A
H5: 施設・事業所番号 | I5: =①集計表!H6 -> 0
B6: 職位 | D6: ↓マネジメント分野の修了チェック↓ | H6: 施設・事業所名 | I6: =①集計表!H7 -> #N/A
B7: 氏名 | D7: =IF($C$6="","職位を選択してください",IF(ISNUMBER(SEARCH("中核リーダー",C6)),IF(SUMIF(G:G,"〇",I:I)>=15,"必修時間を満たしています","区分３（人数Ａ）対象者は、マネジメント分野（15時間）必修です。 入力してください。"),IF(ISNUMBER(SEARCH("専門リーダー",C6)),"必修ではありません。保育士等キャリアアップ研修のマネジメント分野は、令和４年３月31日までの修了分まで算定可。",IF(ISNUMBER(SEARCH("若手リーダー",C6)),"必修ではありません。保育士等キャリアアップ研修のマネジメント分野は、令和２年３月31日までの修了分まで算定可。","必修ではありません。")))) -> 職位を選択してください | H7: 代表者職・氏名 | I7: =①集計表!H8 -> 0 | K7: =Z4 -> 0
A9: 区分３及び職員処遇改善費の対象と認められる研修のみ入力してください（下記(6)参照）。そのうち、キャリアアップ研修が対象か否かについては最下部(7)を参照のうえ、不明な場合は実施主体に必ず確認してください。
A10: No | B10: 各行最後に入力 修了年月日 (例:R2.6.1) ※研修種別～ 研修分野 を入力後に入力してください。 | C10: 実施主体等 | D10: 講義名・テーマ | E10: キャリアアップ研修 研修分野 ※施設情報・職位を入力後に選択してください | F10: 修了証番号 | G10: マネジメント分野に係る 研修の場合は〇 | H10: 園内研修 | I10: 修了時間数 | J10: 備考 | K10: 開始日 | L10: キャリアアップ研修 | M10: 42826
A11: 1 | H11: =IF(C11="⑤園内における研修を企画・実施する幼稚園又は認定こども園","〇","") | K11: 終了日 | L11: マネジメント (専門リーダー) | M11: 44651
A12: 2 | H12: =IF(C12="⑤園内における研修を企画・実施する幼稚園又は認定こども園","〇","") | L12: マネジメント (若手リーダー) | M12: 43921
A13: 3 | H13: =IF(C13="⑤園内における研修を企画・実施する幼稚園又は認定こども園","〇","") | L13: それ以外 の研修 | M13: 45747
A14: 4 | H14: =IF(C14="⑤園内における研修を企画・実施する幼稚園又は認定こども園","〇","")
A15: 5 | H15: =IF(C15="⑤園内における研修を企画・実施する幼稚園又は認定こども園","〇","")
A16: 6 | H16: =IF(C16="⑤園内における研修を企画・実施する幼稚園又は認定こども園","〇","")
A17: 7 | H17: =IF(C17="⑤園内における研修を企画・実施する幼稚園又は認定こども園","〇","")
A18: 8 | H18: =IF(C18="⑤園内における研修を企画・実施する幼稚園又は認定こども園","〇","")
A19: 9 | H19: =IF(C19="⑤園内における研修を企画・実施する幼稚園又は認定こども園","〇","")
A20: 10 | H20: =IF(C20="⑤園内における研修を企画・実施する幼稚園又は認定こども園","〇","")
A21: 11 | H21: =IF(C21="⑤園内における研修を企画・実施する幼稚園又は認定こども園","〇","")
A22: 12 | H22: =IF(C22="⑤園内における研修を企画・実施する幼稚園又は認定こども園","〇","")
A23: 13 | H23: =IF(C23="⑤園内における研修を企画・実施する幼稚園又は認定こども園","〇","")
A24: 14 | H24: =IF(C24="⑤園内における研修を企画・実施する幼稚園又は認定こども園","〇","")
A25: 15 | H25: =IF(C25="⑤園内における研修を企画・実施する幼稚園又は認定こども園","〇","")
... A67: 57 | H67: =IF(C67="⑤園内における研修を企画・実施する幼稚園又は認定こども園","〇","")
A68: 58 | H68: =IF(C68="⑤園内における研修を企画・実施する幼稚園又は認定こども園","〇","") | M68: 園内研修 | N68: 最大時間
A69: 59 | H69: =IF(C69="⑤園内における研修を企画・実施する幼稚園又は認定こども園","〇","") | M69: 中核リーダー | N69: 15
A70: 60 | H70: =IF(C70="⑤園内における研修を企画・実施する幼稚園又は認定こども園","〇","") | M70: 専門リーダー | N70: 15
A71: 合計 | G71: =SUMIF(G11:G70,"〇",I11:I70) -> 0 | H71: =IF(SUMIF(C11:C70,"⑤園内における研修を企画・実施する幼稚園又は認定こども園",I11:I70)>VLOOKUP(C6,M68:N83,2,FALSE),VLOOKUP(C6,M68:N83,2,FALSE),SUMIF(C11:C70,"⑤園内における研修を企画・実施する幼稚園又は認定こども園",I11:I70)) -> #N/A | I71: =IF(L71<0,SUM(I11:I70,L71),SUM(I11:I70)) -> #N/A | L71: =IF(SUMIF(C11:C70,"⑤園内における研修を企画・実施する幼稚園又は認定こども園",I11:I70)>VLOOKUP(C6,M68:N83,2,FALSE),VLOOKUP(C6,M68:N83,2,FALSE)-SUMIF(C11:C70,"⑤園内における研修を企画・実施する幼稚園又は認定こども園",I11:I70),"") -> #N/A | M71: 若手リーダー | N71: 4
B72: 【留意事項】 | M72: 若手リーダー | N72: 4
B73: (1) 研修ごとに１行で記載する。 | M73: なし_職員処遇改善費のみの対象者 | N73: 15
B74: (2) 「修了年月日」は、研修修了証の年月日又は研修を受講した年月日を記入する。 | M74: 園長で中核リーダーの研修 | N74: 15
B75: (3) 園内研修（幼稚園等）を対象としたい場合は、「園内研修実施状況」を添付すること。 | M75: 園長で専門リーダーの研修 | N75: 15
B76: (4) 一覧の内容を確認できる資料（幼稚園教諭免許状更新講習修了証明書（履修証明書）の写し等）を施設において保管すること。 | M76: 副園長で中核リーダーの研修 | N76: 15
B77: (5) 行が足りない場合は、No２～59の行を選択し、挿入すること。 | M77: 副園長で専門リーダーの研修 | N77: 15
B78: (6) 区分３及び職員処遇改善費の対象となる研修は「施設型給付費等に係る処遇改善等加算（区分３）に係る研修修了要件について」（令和７年９月16日付けこ成基202・７初幼教第４号 こども家庭庁成育局保育政策課長、こども家庭庁成育局成育基盤企画課長及び文部科学省初等中等教育局幼児教育課長連盟通知）の記載に基づくものとする。 | M78: 教頭で中核リーダーの研修 | N78: 15
B79: (7) 保育士等キャリアアップ研修は「保育士等キャリアアップ研修の実施について（平成29年４月１日厚生労働省雇用均等・児童家庭局保育課長通知）」の記載に基づくものが対象となる。 実施主体は「都道府県又は都道府県知事の指定した研修実施機関」とする。 | M79: 教頭で専門リーダーの研修 | N79: 15
M80: 主幹教諭で中核リーダーの研修 | N80: 15
M81: 主幹教諭で専門リーダーの研修 | N81: 15
M82: 主幹保育教諭で中核リーダーの研修 | N82: 15
M83: 主幹保育教諭で専門リーダーの研修 | N83: 15

Sheet ②名簿18
A1: 第５号様式の２ | D1: 令和 ８ 年度 研修受講履歴一覧集計表 （幼稚園・認定こども園）
H3: 所在区 | I3: =①集計表!H4 -> #N/A
H4: 施設・事業種別 | I4: =①集計表!H5 -> #N/A | L4: =IFERROR(LEFT(I4,FIND("（",I4)-1),I4)&C6 -> #N/A
H5: 施設・事業所番号 | I5: =①集計表!H6 -> 0
B6: 職位 | D6: ↓マネジメント分野の修了チェック↓ | H6: 施設・事業所名 | I6: =①集計表!H7 -> #N/A
B7: 氏名 | D7: =IF($C$6="","職位を選択してください",IF(ISNUMBER(SEARCH("中核リーダー",C6)),IF(SUMIF(G:G,"〇",I:I)>=15,"必修時間を満たしています","区分３（人数Ａ）対象者は、マネジメント分野（15時間）必修です。 入力してください。"),IF(ISNUMBER(SEARCH("専門リーダー",C6)),"必修ではありません。保育士等キャリアアップ研修のマネジメント分野は、令和４年３月31日までの修了分まで算定可。",IF(ISNUMBER(SEARCH("若手リーダー",C6)),"必修ではありません。保育士等キャリアアップ研修のマネジメント分野は、令和２年３月31日までの修了分まで算定可。","必修ではありません。")))) -> 職位を選択してください | H7: 代表者職・氏名 | I7: =①集計表!H8 -> 0 | K7: =Z4 -> 0
A9: 区分３及び職員処遇改善費の対象と認められる研修のみ入力してください（下記(6)参照）。そのうち、キャリアアップ研修が対象か否かについては最下部(7)を参照のうえ、不明な場合は実施主体に必ず確認してください。
A10: No | B10: 各行最後に入力 修了年月日 (例:R2.6.1) ※研修種別～ 研修分野 を入力後に入力してください。 | C10: 実施主体等 | D10: 講義名・テーマ | E10: キャリアアップ研修 研修分野 ※施設情報・職位を入力後に選択してください | F10: 修了証番号 | G10: マネジメント分野に係る 研修の場合は〇 | H10: 園内研修 | I10: 修了時間数 | J10: 備考 | K10: 開始日 | L10: キャリアアップ研修 | M10: 42826
A11: 1 | H11: =IF(C11="⑤園内における研修を企画・実施する幼稚園又は認定こども園","〇","") | K11: 終了日 | L11: マネジメント (専門リーダー) | M11: 44651
A12: 2 | H12: =IF(C12="⑤園内における研修を企画・実施する幼稚園又は認定こども園","〇","") | L12: マネジメント (若手リーダー) | M12: 43921
A13: 3 | H13: =IF(C13="⑤園内における研修を企画・実施する幼稚園又は認定こども園","〇","") | L13: それ以外 の研修 | M13: 45747
A14: 4 | H14: =IF(C14="⑤園内における研修を企画・実施する幼稚園又は認定こども園","〇","")
A15: 5 | H15: =IF(C15="⑤園内における研修を企画・実施する幼稚園又は認定こども園","〇","")
A16: 6 | H16: =IF(C16="⑤園内における研修を企画・実施する幼稚園又は認定こども園","〇","")
A17: 7 | H17: =IF(C17="⑤園内における研修を企画・実施する幼稚園又は認定こども園","〇","")
A18: 8 | H18: =IF(C18="⑤園内における研修を企画・実施する幼稚園又は認定こども園","〇","")
A19: 9 | H19: =IF(C19="⑤園内における研修を企画・実施する幼稚園又は認定こども園","〇","")
A20: 10 | H20: =IF(C20="⑤園内における研修を企画・実施する幼稚園又は認定こども園","〇","")
A21: 11 | H21: =IF(C21="⑤園内における研修を企画・実施する幼稚園又は認定こども園","〇","")
A22: 12 | H22: =IF(C22="⑤園内における研修を企画・実施する幼稚園又は認定こども園","〇","")
A23: 13 | H23: =IF(C23="⑤園内における研修を企画・実施する幼稚園又は認定こども園","〇","")
A24: 14 | H24: =IF(C24="⑤園内における研修を企画・実施する幼稚園又は認定こども園","〇","")
A25: 15 | H25: =IF(C25="⑤園内における研修を企画・実施する幼稚園又は認定こども園","〇","")
... A67: 57 | H67: =IF(C67="⑤園内における研修を企画・実施する幼稚園又は認定こども園","〇","")
A68: 58 | H68: =IF(C68="⑤園内における研修を企画・実施する幼稚園又は認定こども園","〇","") | M68: 園内研修 | N68: 最大時間
A69: 59 | H69: =IF(C69="⑤園内における研修を企画・実施する幼稚園又は認定こども園","〇","") | M69: 中核リーダー | N69: 15
A70: 60 | H70: =IF(C70="⑤園内における研修を企画・実施する幼稚園又は認定こども園","〇","") | M70: 専門リーダー | N70: 15
A71: 合計 | G71: =SUMIF(G11:G70,"〇",I11:I70) -> 0 | H71: =IF(SUMIF(C11:C70,"⑤園内における研修を企画・実施する幼稚園又は認定こども園",I11:I70)>VLOOKUP(C6,M68:N83,2,FALSE),VLOOKUP(C6,M68:N83,2,FALSE),SUMIF(C11:C70,"⑤園内における研修を企画・実施する幼稚園又は認定こども園",I11:I70)) -> #N/A | I71: =IF(L71<0,SUM(I11:I70,L71),SUM(I11:I70)) -> #N/A | L71: =IF(SUMIF(C11:C70,"⑤園内における研修を企画・実施する幼稚園又は認定こども園",I11:I70)>VLOOKUP(C6,M68:N83,2,FALSE),VLOOKUP(C6,M68:N83,2,FALSE)-SUMIF(C11:C70,"⑤園内における研修を企画・実施する幼稚園又は認定こども園",I11:I70),"") -> #N/A | M71: 若手リーダー | N71: 4
B72: 【留意事項】 | M72: 若手リーダー | N72: 4
B73: (1) 研修ごとに１行で記載する。 | M73: なし_職員処遇改善費のみの対象者 | N73: 15
B74: (2) 「修了年月日」は、研修修了証の年月日又は研修を受講した年月日を記入する。 | M74: 園長で中核リーダーの研修 | N74: 15
B75: (3) 園内研修（幼稚園等）を対象としたい場合は、「園内研修実施状況」を添付すること。 | M75: 園長で専門リーダーの研修 | N75: 15
B76: (4) 一覧の内容を確認できる資料（幼稚園教諭免許状更新講習修了証明書（履修証明書）の写し等）を施設において保管すること。 | M76: 副園長で中核リーダーの研修 | N76: 15
B77: (5) 行が足りない場合は、No２～59の行を選択し、挿入すること。 | M77: 副園長で専門リーダーの研修 | N77: 15
B78: (6) 区分３及び職員処遇改善費の対象となる研修は「施設型給付費等に係る処遇改善等加算（区分３）に係る研修修了要件について」（令和７年９月16日付けこ成基202・７初幼教第４号 こども家庭庁成育局保育政策課長、こども家庭庁成育局成育基盤企画課長及び文部科学省初等中等教育局幼児教育課長連盟通知）の記載に基づくものとする。 | M78: 教頭で中核リーダーの研修 | N78: 15
B79: (7) 保育士等キャリアアップ研修は「保育士等キャリアアップ研修の実施について（平成29年４月１日厚生労働省雇用均等・児童家庭局保育課長通知）」の記載に基づくものが対象となる。 実施主体は「都道府県又は都道府県知事の指定した研修実施機関」とする。 | M79: 教頭で専門リーダーの研修 | N79: 15
M80: 主幹教諭で中核リーダーの研修 | N80: 15
M81: 主幹教諭で専門リーダーの研修 | N81: 15
M82: 主幹保育教諭で中核リーダーの研修 | N82: 15
M83: 主幹保育教諭で専門リーダーの研修 | N83: 15

Sheet ②名簿19
A1: 第５号様式の２ | D1: 令和 ８ 年度 研修受講履歴一覧集計表 （幼稚園・認定こども園）
H3: 所在区 | I3: =①集計表!H4 -> #N/A
H4: 施設・事業種別 | I4: =①集計表!H5 -> #N/A | L4: =IFERROR(LEFT(I4,FIND("（",I4)-1),I4)&C6 -> #N/A
H5: 施設・事業所番号 | I5: =①集計表!H6 -> 0
B6: 職位 | D6: ↓マネジメント分野の修了チェック↓ | H6: 施設・事業所名 | I6: =①集計表!H7 -> #N/A
B7: 氏名 | D7: =IF($C$6="","職位を選択してください",IF(ISNUMBER(SEARCH("中核リーダー",C6)),IF(SUMIF(G:G,"〇",I:I)>=15,"必修時間を満たしています","区分３（人数Ａ）対象者は、マネジメント分野（15時間）必修です。 入力してください。"),IF(ISNUMBER(SEARCH("専門リーダー",C6)),"必修ではありません。保育士等キャリアアップ研修のマネジメント分野は、令和４年３月31日までの修了分まで算定可。",IF(ISNUMBER(SEARCH("若手リーダー",C6)),"必修ではありません。保育士等キャリアアップ研修のマネジメント分野は、令和２年３月31日までの修了分まで算定可。","必修ではありません。")))) -> 職位を選択してください | H7: 代表者職・氏名 | I7: =①集計表!H8 -> 0 | K7: =Z4 -> 0
A9: 区分３及び職員処遇改善費の対象と認められる研修のみ入力してください（下記(6)参照）。そのうち、キャリアアップ研修が対象か否かについては最下部(7)を参照のうえ、不明な場合は実施主体に必ず確認してください。
A10: No | B10: 各行最後に入力 修了年月日 (例:R2.6.1) ※研修種別～ 研修分野 を入力後に入力してください。 | C10: 実施主体等 | D10: 講義名・テーマ | E10: キャリアアップ研修 研修分野 ※施設情報・職位を入力後に選択してください | F10: 修了証番号 | G10: マネジメント分野に係る 研修の場合は〇 | H10: 園内研修 | I10: 修了時間数 | J10: 備考 | K10: 開始日 | L10: キャリアアップ研修 | M10: 42826
A11: 1 | H11: =IF(C11="⑤園内における研修を企画・実施する幼稚園又は認定こども園","〇","") | K11: 終了日 | L11: マネジメント (専門リーダー) | M11: 44651
A12: 2 | H12: =IF(C12="⑤園内における研修を企画・実施する幼稚園又は認定こども園","〇","") | L12: マネジメント (若手リーダー) | M12: 43921
A13: 3 | H13: =IF(C13="⑤園内における研修を企画・実施する幼稚園又は認定こども園","〇","") | L13: それ以外 の研修 | M13: 45747
A14: 4 | H14: =IF(C14="⑤園内における研修を企画・実施する幼稚園又は認定こども園","〇","")
A15: 5 | H15: =IF(C15="⑤園内における研修を企画・実施する幼稚園又は認定こども園","〇","")
A16: 6 | H16: =IF(C16="⑤園内における研修を企画・実施する幼稚園又は認定こども園","〇","")
A17: 7 | H17: =IF(C17="⑤園内における研修を企画・実施する幼稚園又は認定こども園","〇","")
A18: 8 | H18: =IF(C18="⑤園内における研修を企画・実施する幼稚園又は認定こども園","〇","")
A19: 9 | H19: =IF(C19="⑤園内における研修を企画・実施する幼稚園又は認定こども園","〇","")
A20: 10 | H20: =IF(C20="⑤園内における研修を企画・実施する幼稚園又は認定こども園","〇","")
A21: 11 | H21: =IF(C21="⑤園内における研修を企画・実施する幼稚園又は認定こども園","〇","")
A22: 12 | H22: =IF(C22="⑤園内における研修を企画・実施する幼稚園又は認定こども園","〇","")
A23: 13 | H23: =IF(C23="⑤園内における研修を企画・実施する幼稚園又は認定こども園","〇","")
A24: 14 | H24: =IF(C24="⑤園内における研修を企画・実施する幼稚園又は認定こども園","〇","")
A25: 15 | H25: =IF(C25="⑤園内における研修を企画・実施する幼稚園又は認定こども園","〇","")
... A67: 57 | H67: =IF(C67="⑤園内における研修を企画・実施する幼稚園又は認定こども園","〇","")
A68: 58 | H68: =IF(C68="⑤園内における研修を企画・実施する幼稚園又は認定こども園","〇","") | M68: 園内研修 | N68: 最大時間
A69: 59 | H69: =IF(C69="⑤園内における研修を企画・実施する幼稚園又は認定こども園","〇","") | M69: 中核リーダー | N69: 15
A70: 60 | H70: =IF(C70="⑤園内における研修を企画・実施する幼稚園又は認定こども園","〇","") | M70: 専門リーダー | N70: 15
A71: 合計 | G71: =SUMIF(G11:G70,"〇",I11:I70) -> 0 | H71: =IF(SUMIF(C11:C70,"⑤園内における研修を企画・実施する幼稚園又は認定こども園",I11:I70)>VLOOKUP(C6,M68:N83,2,FALSE),VLOOKUP(C6,M68:N83,2,FALSE),SUMIF(C11:C70,"⑤園内における研修を企画・実施する幼稚園又は認定こども園",I11:I70)) -> #N/A | I71: =IF(L71<0,SUM(I11:I70,L71),SUM(I11:I70)) -> #N/A | L71: =IF(SUMIF(C11:C70,"⑤園内における研修を企画・実施する幼稚園又は認定こども園",I11:I70)>VLOOKUP(C6,M68:N83,2,FALSE),VLOOKUP(C6,M68:N83,2,FALSE)-SUMIF(C11:C70,"⑤園内における研修を企画・実施する幼稚園又は認定こども園",I11:I70),"") -> #N/A | M71: 若手リーダー | N71: 4
B72: 【留意事項】 | M72: 若手リーダー | N72: 4
B73: (1) 研修ごとに１行で記載する。 | M73: なし_職員処遇改善費のみの対象者 | N73: 15
B74: (2) 「修了年月日」は、研修修了証の年月日又は研修を受講した年月日を記入する。 | M74: 園長で中核リーダーの研修 | N74: 15
B75: (3) 園内研修（幼稚園等）を対象としたい場合は、「園内研修実施状況」を添付すること。 | M75: 園長で専門リーダーの研修 | N75: 15
B76: (4) 一覧の内容を確認できる資料（幼稚園教諭免許状更新講習修了証明書（履修証明書）の写し等）を施設において保管すること。 | M76: 副園長で中核リーダーの研修 | N76: 15
B77: (5) 行が足りない場合は、No２～59の行を選択し、挿入すること。 | M77: 副園長で専門リーダーの研修 | N77: 15
B78: (6) 区分３及び職員処遇改善費の対象となる研修は「施設型給付費等に係る処遇改善等加算（区分３）に係る研修修了要件について」（令和７年９月16日付けこ成基202・７初幼教第４号 こども家庭庁成育局保育政策課長、こども家庭庁成育局成育基盤企画課長及び文部科学省初等中等教育局幼児教育課長連盟通知）の記載に基づくものとする。 | M78: 教頭で中核リーダーの研修 | N78: 15
B79: (7) 保育士等キャリアアップ研修は「保育士等キャリアアップ研修の実施について（平成29年４月１日厚生労働省雇用均等・児童家庭局保育課長通知）」の記載に基づくものが対象となる。 実施主体は「都道府県又は都道府県知事の指定した研修実施機関」とする。 | M79: 教頭で専門リーダーの研修 | N79: 15
M80: 主幹教諭で中核リーダーの研修 | N80: 15
M81: 主幹教諭で専門リーダーの研修 | N81: 15
M82: 主幹保育教諭で中核リーダーの研修 | N82: 15
M83: 主幹保育教諭で専門リーダーの研修 | N83: 15

Sheet ②名簿20
A1: 第５号様式の２ | D1: 令和 ８ 年度 研修受講履歴一覧集計表 （幼稚園・認定こども園）
H3: 所在区 | I3: =①集計表!H4 -> #N/A
H4: 施設・事業種別 | I4: =①集計表!H5 -> #N/A | L4: =IFERROR(LEFT(I4,FIND("（",I4)-1),I4)&C6 -> #N/A
H5: 施設・事業所番号 | I5: =①集計表!H6 -> 0
B6: 職位 | D6: ↓マネジメント分野の修了チェック↓ | H6: 施設・事業所名 | I6: =①集計表!H7 -> #N/A
B7: 氏名 | D7: =IF($C$6="","職位を選択してください",IF(ISNUMBER(SEARCH("中核リーダー",C6)),IF(SUMIF(G:G,"〇",I:I)>=15,"必修時間を満たしています","区分３（人数Ａ）対象者は、マネジメント分野（15時間）必修です。 入力してください。"),IF(ISNUMBER(SEARCH("専門リーダー",C6)),"必修ではありません。保育士等キャリアアップ研修のマネジメント分野は、令和４年３月31日までの修了分まで算定可。",IF(ISNUMBER(SEARCH("若手リーダー",C6)),"必修ではありません。保育士等キャリアアップ研修のマネジメント分野は、令和２年３月31日までの修了分まで算定可。","必修ではありません。")))) -> 職位を選択してください | H7: 代表者職・氏名 | I7: =①集計表!H8 -> 0 | K7: =Z4 -> 0
A9: 区分３及び職員処遇改善費の対象と認められる研修のみ入力してください（下記(6)参照）。そのうち、キャリアアップ研修が対象か否かについては最下部(7)を参照のうえ、不明な場合は実施主体に必ず確認してください。
A10: No | B10: 各行最後に入力 修了年月日 (例:R2.6.1) ※研修種別～ 研修分野 を入力後に入力してください。 | C10: 実施主体等 | D10: 講義名・テーマ | E10: キャリアアップ研修 研修分野 ※施設情報・職位を入力後に選択してください | F10: 修了証番号 | G10: マネジメント分野に係る 研修の場合は〇 | H10: 園内研修 | I10: 修了時間数 | J10: 備考 | K10: 開始日 | L10: キャリアアップ研修 | M10: 42826
A11: 1 | H11: =IF(C11="⑤園内における研修を企画・実施する幼稚園又は認定こども園","〇","") | K11: 終了日 | L11: マネジメント (専門リーダー) | M11: 44651
A12: 2 | H12: =IF(C12="⑤園内における研修を企画・実施する幼稚園又は認定こども園","〇","") | L12: マネジメント (若手リーダー) | M12: 43921
A13: 3 | H13: =IF(C13="⑤園内における研修を企画・実施する幼稚園又は認定こども園","〇","") | L13: それ以外 の研修 | M13: 45747
A14: 4 | H14: =IF(C14="⑤園内における研修を企画・実施する幼稚園又は認定こども園","〇","")
A15: 5 | H15: =IF(C15="⑤園内における研修を企画・実施する幼稚園又は認定こども園","〇","")
A16: 6 | H16: =IF(C16="⑤園内における研修を企画・実施する幼稚園又は認定こども園","〇","")
A17: 7 | H17: =IF(C17="⑤園内における研修を企画・実施する幼稚園又は認定こども園","〇","")
A18: 8 | H18: =IF(C18="⑤園内における研修を企画・実施する幼稚園又は認定こども園","〇","")
A19: 9 | H19: =IF(C19="⑤園内における研修を企画・実施する幼稚園又は認定こども園","〇","")
A20: 10 | H20: =IF(C20="⑤園内における研修を企画・実施する幼稚園又は認定こども園","〇","")
A21: 11 | H21: =IF(C21="⑤園内における研修を企画・実施する幼稚園又は認定こども園","〇","")
A22: 12 | H22: =IF(C22="⑤園内における研修を企画・実施する幼稚園又は認定こども園","〇","")
A23: 13 | H23: =IF(C23="⑤園内における研修を企画・実施する幼稚園又は認定こども園","〇","")
A24: 14 | H24: =IF(C24="⑤園内における研修を企画・実施する幼稚園又は認定こども園","〇","")
A25: 15 | H25: =IF(C25="⑤園内における研修を企画・実施する幼稚園又は認定こども園","〇","")
... A67: 57 | H67: =IF(C67="⑤園内における研修を企画・実施する幼稚園又は認定こども園","〇","")
A68: 58 | H68: =IF(C68="⑤園内における研修を企画・実施する幼稚園又は認定こども園","〇","") | M68: 園内研修 | N68: 最大時間
A69: 59 | H69: =IF(C69="⑤園内における研修を企画・実施する幼稚園又は認定こども園","〇","") | M69: 中核リーダー | N69: 15
A70: 60 | H70: =IF(C70="⑤園内における研修を企画・実施する幼稚園又は認定こども園","〇","") | M70: 専門リーダー | N70: 15
A71: 合計 | G71: =SUMIF(G11:G70,"〇",I11:I70) -> 0 | H71: =IF(SUMIF(C11:C70,"⑤園内における研修を企画・実施する幼稚園又は認定こども園",I11:I70)>VLOOKUP(C6,M68:N83,2,FALSE),VLOOKUP(C6,M68:N83,2,FALSE),SUMIF(C11:C70,"⑤園内における研修を企画・実施する幼稚園又は認定こども園",I11:I70)) -> #N/A | I71: =IF(L71<0,SUM(I11:I70,L71),SUM(I11:I70)) -> #N/A | L71: =IF(SUMIF(C11:C70,"⑤園内における研修を企画・実施する幼稚園又は認定こども園",I11:I70)>VLOOKUP(C6,M68:N83,2,FALSE),VLOOKUP(C6,M68:N83,2,FALSE)-SUMIF(C11:C70,"⑤園内における研修を企画・実施する幼稚園又は認定こども園",I11:I70),"") -> #N/A | M71: 若手リーダー | N71: 4
B72: 【留意事項】 | M72: 若手リーダー | N72: 4
B73: (1) 研修ごとに１行で記載する。 | M73: なし_職員処遇改善費のみの対象者 | N73: 15
B74: (2) 「修了年月日」は、研修修了証の年月日又は研修を受講した年月日を記入する。 | M74: 園長で中核リーダーの研修 | N74: 15
B75: (3) 園内研修（幼稚園等）を対象としたい場合は、「園内研修実施状況」を添付すること。 | M75: 園長で専門リーダーの研修 | N75: 15
B76: (4) 一覧の内容を確認できる資料（幼稚園教諭免許状更新講習修了証明書（履修証明書）の写し等）を施設において保管すること。 | M76: 副園長で中核リーダーの研修 | N76: 15
B77: (5) 行が足りない場合は、No２～59の行を選択し、挿入すること。 | M77: 副園長で専門リーダーの研修 | N77: 15
B78: (6) 区分３及び職員処遇改善費の対象となる研修は「施設型給付費等に係る処遇改善等加算（区分３）に係る研修修了要件について」（令和７年９月16日付けこ成基202・７初幼教第４号 こども家庭庁成育局保育政策課長、こども家庭庁成育局成育基盤企画課長及び文部科学省初等中等教育局幼児教育課長連盟通知）の記載に基づくものとする。 | M78: 教頭で中核リーダーの研修 | N78: 15
B79: (7) 保育士等キャリアアップ研修は「保育士等キャリアアップ研修の実施について（平成29年４月１日厚生労働省雇用均等・児童家庭局保育課長通知）」の記載に基づくものが対象となる。 実施主体は「都道府県又は都道府県知事の指定した研修実施機関」とする。 | M79: 教頭で専門リーダーの研修 | N79: 15
M80: 主幹教諭で中核リーダーの研修 | N80: 15
M81: 主幹教諭で専門リーダーの研修 | N81: 15
M82: 主幹保育教諭で中核リーダーの研修 | N82: 15
M83: 主幹保育教諭で専門リーダーの研修 | N83: 15

Sheet ②名簿21
A1: 第５号様式の２ | D1: 令和 ８ 年度 研修受講履歴一覧集計表 （幼稚園・認定こども園）
H3: 所在区 | I3: =①集計表!H4 -> #N/A
H4: 施設・事業種別 | I4: =①集計表!H5 -> #N/A | L4: =IFERROR(LEFT(I4,FIND("（",I4)-1),I4)&C6 -> #N/A
H5: 施設・事業所番号 | I5: =①集計表!H6 -> 0
B6: 職位 | D6: ↓マネジメント分野の修了チェック↓ | H6: 施設・事業所名 | I6: =①集計表!H7 -> #N/A
B7: 氏名 | D7: =IF($C$6="","職位を選択してください",IF(ISNUMBER(SEARCH("中核リーダー",C6)),IF(SUMIF(G:G,"〇",I:I)>=15,"必修時間を満たしています","区分３（人数Ａ）対象者は、マネジメント分野（15時間）必修です。 入力してください。"),IF(ISNUMBER(SEARCH("専門リーダー",C6)),"必修ではありません。保育士等キャリアアップ研修のマネジメント分野は、令和４年３月31日までの修了分まで算定可。",IF(ISNUMBER(SEARCH("若手リーダー",C6)),"必修ではありません。保育士等キャリアアップ研修のマネジメント分野は、令和２年３月31日までの修了分まで算定可。","必修ではありません。")))) -> 職位を選択してください | H7: 代表者職・氏名 | I7: =①集計表!H8 -> 0 | K7: =Z4 -> 0
A9: 区分３及び職員処遇改善費の対象と認められる研修のみ入力してください（下記(6)参照）。そのうち、キャリアアップ研修が対象か否かについては最下部(7)を参照のうえ、不明な場合は実施主体に必ず確認してください。
A10: No | B10: 各行最後に入力 修了年月日 (例:R2.6.1) ※研修種別～ 研修分野 を入力後に入力してください。 | C10: 実施主体等 | D10: 講義名・テーマ | E10: キャリアアップ研修 研修分野 ※施設情報・職位を入力後に選択してください | F10: 修了証番号 | G10: マネジメント分野に係る 研修の場合は〇 | H10: 園内研修 | I10: 修了時間数 | J10: 備考 | K10: 開始日 | L10: キャリアアップ研修 | M10: 42826
A11: 1 | H11: =IF(C11="⑤園内における研修を企画・実施する幼稚園又は認定こども園","〇","") | K11: 終了日 | L11: マネジメント (専門リーダー) | M11: 44651
A12: 2 | H12: =IF(C12="⑤園内における研修を企画・実施する幼稚園又は認定こども園","〇","") | L12: マネジメント (若手リーダー) | M12: 43921
A13: 3 | H13: =IF(C13="⑤園内における研修を企画・実施する幼稚園又は認定こども園","〇","") | L13: それ以外 の研修 | M13: 45747
A14: 4 | H14: =IF(C14="⑤園内における研修を企画・実施する幼稚園又は認定こども園","〇","")
A15: 5 | H15: =IF(C15="⑤園内における研修を企画・実施する幼稚園又は認定こども園","〇","")
A16: 6 | H16: =IF(C16="⑤園内における研修を企画・実施する幼稚園又は認定こども園","〇","")
A17: 7 | H17: =IF(C17="⑤園内における研修を企画・実施する幼稚園又は認定こども園","〇","")
A18: 8 | H18: =IF(C18="⑤園内における研修を企画・実施する幼稚園又は認定こども園","〇","")
A19: 9 | H19: =IF(C19="⑤園内における研修を企画・実施する幼稚園又は認定こども園","〇","")
A20: 10 | H20: =IF(C20="⑤園内における研修を企画・実施する幼稚園又は認定こども園","〇","")
A21: 11 | H21: =IF(C21="⑤園内における研修を企画・実施する幼稚園又は認定こども園","〇","")
A22: 12 | H22: =IF(C22="⑤園内における研修を企画・実施する幼稚園又は認定こども園","〇","")
A23: 13 | H23: =IF(C23="⑤園内における研修を企画・実施する幼稚園又は認定こども園","〇","")
A24: 14 | H24: =IF(C24="⑤園内における研修を企画・実施する幼稚園又は認定こども園","〇","")
A25: 15 | H25: =IF(C25="⑤園内における研修を企画・実施する幼稚園又は認定こども園","〇","")
... A67: 57 | H67: =IF(C67="⑤園内における研修を企画・実施する幼稚園又は認定こども園","〇","")
A68: 58 | H68: =IF(C68="⑤園内における研修を企画・実施する幼稚園又は認定こども園","〇","") | M68: 園内研修 | N68: 最大時間
A69: 59 | H69: =IF(C69="⑤園内における研修を企画・実施する幼稚園又は認定こども園","〇","") | M69: 中核リーダー | N69: 15
A70: 60 | H70: =IF(C70="⑤園内における研修を企画・実施する幼稚園又は認定こども園","〇","") | M70: 専門リーダー | N70: 15
A71: 合計 | G71: =SUMIF(G11:G70,"〇",I11:I70) -> 0 | H71: =IF(SUMIF(C11:C70,"⑤園内における研修を企画・実施する幼稚園又は認定こども園",I11:I70)>VLOOKUP(C6,M68:N83,2,FALSE),VLOOKUP(C6,M68:N83,2,FALSE),SUMIF(C11:C70,"⑤園内における研修を企画・実施する幼稚園又は認定こども園",I11:I70)) -> #N/A | I71: =IF(L71<0,SUM(I11:I70,L71),SUM(I11:I70)) -> #N/A | L71: =IF(SUMIF(C11:C70,"⑤園内における研修を企画・実施する幼稚園又は認定こども園",I11:I70)>VLOOKUP(C6,M68:N83,2,FALSE),VLOOKUP(C6,M68:N83,2,FALSE)-SUMIF(C11:C70,"⑤園内における研修を企画・実施する幼稚園又は認定こども園",I11:I70),"") -> #N/A | M71: 若手リーダー | N71: 4
B72: 【留意事項】 | M72: 若手リーダー | N72: 4
B73: (1) 研修ごとに１行で記載する。 | M73: なし_職員処遇改善費のみの対象者 | N73: 15
B74: (2) 「修了年月日」は、研修修了証の年月日又は研修を受講した年月日を記入する。 | M74: 園長で中核リーダーの研修 | N74: 15
B75: (3) 園内研修（幼稚園等）を対象としたい場合は、「園内研修実施状況」を添付すること。 | M75: 園長で専門リーダーの研修 | N75: 15
B76: (4) 一覧の内容を確認できる資料（幼稚園教諭免許状更新講習修了証明書（履修証明書）の写し等）を施設において保管すること。 | M76: 副園長で中核リーダーの研修 | N76: 15
B77: (5) 行が足りない場合は、No２～59の行を選択し、挿入すること。 | M77: 副園長で専門リーダーの研修 | N77: 15
B78: (6) 区分３及び職員処遇改善費の対象となる研修は「施設型給付費等に係る処遇改善等加算（区分３）に係る研修修了要件について」（令和７年９月16日付けこ成基202・７初幼教第４号 こども家庭庁成育局保育政策課長、こども家庭庁成育局成育基盤企画課長及び文部科学省初等中等教育局幼児教育課長連盟通知）の記載に基づくものとする。 | M78: 教頭で中核リーダーの研修 | N78: 15
B79: (7) 保育士等キャリアアップ研修は「保育士等キャリアアップ研修の実施について（平成29年４月１日厚生労働省雇用均等・児童家庭局保育課長通知）」の記載に基づくものが対象となる。 実施主体は「都道府県又は都道府県知事の指定した研修実施機関」とする。 | M79: 教頭で専門リーダーの研修 | N79: 15
M80: 主幹教諭で中核リーダーの研修 | N80: 15
M81: 主幹教諭で専門リーダーの研修 | N81: 15
M82: 主幹保育教諭で中核リーダーの研修 | N82: 15
M83: 主幹保育教諭で専門リーダーの研修 | N83: 15

Sheet ②名簿22
A1: 第５号様式の２ | D1: 令和 ８ 年度 研修受講履歴一覧集計表 （幼稚園・認定こども園）
H3: 所在区 | I3: =①集計表!H4 -> #N/A
H4: 施設・事業種別 | I4: =①集計表!H5 -> #N/A | L4: =IFERROR(LEFT(I4,FIND("（",I4)-1),I4)&C6 -> #N/A
H5: 施設・事業所番号 | I5: =①集計表!H6 -> 0
B6: 職位 | D6: ↓マネジメント分野の修了チェック↓ | H6: 施設・事業所名 | I6: =①集計表!H7 -> #N/A
B7: 氏名 | D7: =IF($C$6="","職位を選択してください",IF(ISNUMBER(SEARCH("中核リーダー",C6)),IF(SUMIF(G:G,"〇",I:I)>=15,"必修時間を満たしています","区分３（人数Ａ）対象者は、マネジメント分野（15時間）必修です。 入力してください。"),IF(ISNUMBER(SEARCH("専門リーダー",C6)),"必修ではありません。保育士等キャリアアップ研修のマネジメント分野は、令和４年３月31日までの修了分まで算定可。",IF(ISNUMBER(SEARCH("若手リーダー",C6)),"必修ではありません。保育士等キャリアアップ研修のマネジメント分野は、令和２年３月31日までの修了分まで算定可。","必修ではありません。")))) -> 職位を選択してください | H7: 代表者職・氏名 | I7: =①集計表!H8 -> 0 | K7: =Z4 -> 0
A9: 区分３及び職員処遇改善費の対象と認められる研修のみ入力してください（下記(6)参照）。そのうち、キャリアアップ研修が対象か否かについては最下部(7)を参照のうえ、不明な場合は実施主体に必ず確認してください。
A10: No | B10: 各行最後に入力 修了年月日 (例:R2.6.1) ※研修種別～ 研修分野 を入力後に入力してください。 | C10: 実施主体等 | D10: 講義名・テーマ | E10: キャリアアップ研修 研修分野 ※施設情報・職位を入力後に選択してください | F10: 修了証番号 | G10: マネジメント分野に係る 研修の場合は〇 | H10: 園内研修 | I10: 修了時間数 | J10: 備考 | K10: 開始日 | L10: キャリアアップ研修 | M10: 42826
A11: 1 | H11: =IF(C11="⑤園内における研修を企画・実施する幼稚園又は認定こども園","〇","") | K11: 終了日 | L11: マネジメント (専門リーダー) | M11: 44651
A12: 2 | H12: =IF(C12="⑤園内における研修を企画・実施する幼稚園又は認定こども園","〇","") | L12: マネジメント (若手リーダー) | M12: 43921
A13: 3 | H13: =IF(C13="⑤園内における研修を企画・実施する幼稚園又は認定こども園","〇","") | L13: それ以外 の研修 | M13: 45747
A14: 4 | H14: =IF(C14="⑤園内における研修を企画・実施する幼稚園又は認定こども園","〇","")
A15: 5 | H15: =IF(C15="⑤園内における研修を企画・実施する幼稚園又は認定こども園","〇","")
A16: 6 | H16: =IF(C16="⑤園内における研修を企画・実施する幼稚園又は認定こども園","〇","")
A17: 7 | H17: =IF(C17="⑤園内における研修を企画・実施する幼稚園又は認定こども園","〇","")
A18: 8 | H18: =IF(C18="⑤園内における研修を企画・実施する幼稚園又は認定こども園","〇","")
A19: 9 | H19: =IF(C19="⑤園内における研修を企画・実施する幼稚園又は認定こども園","〇","")
A20: 10 | H20: =IF(C20="⑤園内における研修を企画・実施する幼稚園又は認定こども園","〇","")
A21: 11 | H21: =IF(C21="⑤園内における研修を企画・実施する幼稚園又は認定こども園","〇","")
A22: 12 | H22: =IF(C22="⑤園内における研修を企画・実施する幼稚園又は認定こども園","〇","")
A23: 13 | H23: =IF(C23="⑤園内における研修を企画・実施する幼稚園又は認定こども園","〇","")
A24: 14 | H24: =IF(C24="⑤園内における研修を企画・実施する幼稚園又は認定こども園","〇","")
A25: 15 | H25: =IF(C25="⑤園内における研修を企画・実施する幼稚園又は認定こども園","〇","")
... A67: 57 | H67: =IF(C67="⑤園内における研修を企画・実施する幼稚園又は認定こども園","〇","")
A68: 58 | H68: =IF(C68="⑤園内における研修を企画・実施する幼稚園又は認定こども園","〇","") | M68: 園内研修 | N68: 最大時間
A69: 59 | H69: =IF(C69="⑤園内における研修を企画・実施する幼稚園又は認定こども園","〇","") | M69: 中核リーダー | N69: 15
A70: 60 | H70: =IF(C70="⑤園内における研修を企画・実施する幼稚園又は認定こども園","〇","") | M70: 専門リーダー | N70: 15
A71: 合計 | G71: =SUMIF(G11:G70,"〇",I11:I70) -> 0 | H71: =IF(SUMIF(C11:C70,"⑤園内における研修を企画・実施する幼稚園又は認定こども園",I11:I70)>VLOOKUP(C6,M68:N83,2,FALSE),VLOOKUP(C6,M68:N83,2,FALSE),SUMIF(C11:C70,"⑤園内における研修を企画・実施する幼稚園又は認定こども園",I11:I70)) -> #N/A | I71: =IF(L71<0,SUM(I11:I70,L71),SUM(I11:I70)) -> #N/A | L71: =IF(SUMIF(C11:C70,"⑤園内における研修を企画・実施する幼稚園又は認定こども園",I11:I70)>VLOOKUP(C6,M68:N83,2,FALSE),VLOOKUP(C6,M68:N83,2,FALSE)-SUMIF(C11:C70,"⑤園内における研修を企画・実施する幼稚園又は認定こども園",I11:I70),"") -> #N/A | M71: 若手リーダー | N71: 4
B72: 【留意事項】 | M72: 若手リーダー | N72: 4
B73: (1) 研修ごとに１行で記載する。 | M73: なし_職員処遇改善費のみの対象者 | N73: 15
B74: (2) 「修了年月日」は、研修修了証の年月日又は研修を受講した年月日を記入する。 | M74: 園長で中核リーダーの研修 | N74: 15
B75: (3) 園内研修（幼稚園等）を対象としたい場合は、「園内研修実施状況」を添付すること。 | M75: 園長で専門リーダーの研修 | N75: 15
B76: (4) 一覧の内容を確認できる資料（幼稚園教諭免許状更新講習修了証明書（履修証明書）の写し等）を施設において保管すること。 | M76: 副園長で中核リーダーの研修 | N76: 15
B77: (5) 行が足りない場合は、No２～59の行を選択し、挿入すること。 | M77: 副園長で専門リーダーの研修 | N77: 15
B78: (6) 区分３及び職員処遇改善費の対象となる研修は「施設型給付費等に係る処遇改善等加算（区分３）に係る研修修了要件について」（令和７年９月16日付けこ成基202・７初幼教第４号 こども家庭庁成育局保育政策課長、こども家庭庁成育局成育基盤企画課長及び文部科学省初等中等教育局幼児教育課長連盟通知）の記載に基づくものとする。 | M78: 教頭で中核リーダーの研修 | N78: 15
B79: (7) 保育士等キャリアアップ研修は「保育士等キャリアアップ研修の実施について（平成29年４月１日厚生労働省雇用均等・児童家庭局保育課長通知）」の記載に基づくものが対象となる。 実施主体は「都道府県又は都道府県知事の指定した研修実施機関」とする。 | M79: 教頭で専門リーダーの研修 | N79: 15
M80: 主幹教諭で中核リーダーの研修 | N80: 15
M81: 主幹教諭で専門リーダーの研修 | N81: 15
M82: 主幹保育教諭で中核リーダーの研修 | N82: 15
M83: 主幹保育教諭で専門リーダーの研修 | N83: 15

Sheet ②名簿23
A1: 第５号様式の２ | D1: 令和 ８ 年度 研修受講履歴一覧集計表 （幼稚園・認定こども園）
H3: 所在区 | I3: =①集計表!H4 -> #N/A
H4: 施設・事業種別 | I4: =①集計表!H5 -> #N/A | L4: =IFERROR(LEFT(I4,FIND("（",I4)-1),I4)&C6 -> #N/A
H5: 施設・事業所番号 | I5: =①集計表!H6 -> 0
B6: 職位 | D6: ↓マネジメント分野の修了チェック↓ | H6: 施設・事業所名 | I6: =①集計表!H7 -> #N/A
B7: 氏名 | D7: =IF($C$6="","職位を選択してください",IF(ISNUMBER(SEARCH("中核リーダー",C6)),IF(SUMIF(G:G,"〇",I:I)>=15,"必修時間を満たしています","区分３（人数Ａ）対象者は、マネジメント分野（15時間）必修です。 入力してください。"),IF(ISNUMBER(SEARCH("専門リーダー",C6)),"必修ではありません。保育士等キャリアアップ研修のマネジメント分野は、令和４年３月31日までの修了分まで算定可。",IF(ISNUMBER(SEARCH("若手リーダー",C6)),"必修ではありません。保育士等キャリアアップ研修のマネジメント分野は、令和２年３月31日までの修了分まで算定可。","必修ではありません。")))) -> 職位を選択してください | H7: 代表者職・氏名 | I7: =①集計表!H8 -> 0 | K7: =Z4 -> 0
A9: 区分３及び職員処遇改善費の対象と認められる研修のみ入力してください（下記(6)参照）。そのうち、キャリアアップ研修が対象か否かについては最下部(7)を参照のうえ、不明な場合は実施主体に必ず確認してください。
A10: No | B10: 各行最後に入力 修了年月日 (例:R2.6.1) ※研修種別～ 研修分野 を入力後に入力してください。 | C10: 実施主体等 | D10: 講義名・テーマ | E10: キャリアアップ研修 研修分野 ※施設情報・職位を入力後に選択してください | F10: 修了証番号 | G10: マネジメント分野に係る 研修の場合は〇 | H10: 園内研修 | I10: 修了時間数 | J10: 備考 | K10: 開始日 | L10: キャリアアップ研修 | M10: 42826
A11: 1 | H11: =IF(C11="⑤園内における研修を企画・実施する幼稚園又は認定こども園","〇","") | K11: 終了日 | L11: マネジメント (専門リーダー) | M11: 44651
A12: 2 | H12: =IF(C12="⑤園内における研修を企画・実施する幼稚園又は認定こども園","〇","") | L12: マネジメント (若手リーダー) | M12: 43921
A13: 3 | H13: =IF(C13="⑤園内における研修を企画・実施する幼稚園又は認定こども園","〇","") | L13: それ以外 の研修 | M13: 45747
A14: 4 | H14: =IF(C14="⑤園内における研修を企画・実施する幼稚園又は認定こども園","〇","")
A15: 5 | H15: =IF(C15="⑤園内における研修を企画・実施する幼稚園又は認定こども園","〇","")
A16: 6 | H16: =IF(C16="⑤園内における研修を企画・実施する幼稚園又は認定こども園","〇","")
A17: 7 | H17: =IF(C17="⑤園内における研修を企画・実施する幼稚園又は認定こども園","〇","")
A18: 8 | H18: =IF(C18="⑤園内における研修を企画・実施する幼稚園又は認定こども園","〇","")
A19: 9 | H19: =IF(C19="⑤園内における研修を企画・実施する幼稚園又は認定こども園","〇","")
A20: 10 | H20: =IF(C20="⑤園内における研修を企画・実施する幼稚園又は認定こども園","〇","")
A21: 11 | H21: =IF(C21="⑤園内における研修を企画・実施する幼稚園又は認定こども園","〇","")
A22: 12 | H22: =IF(C22="⑤園内における研修を企画・実施する幼稚園又は認定こども園","〇","")
A23: 13 | H23: =IF(C23="⑤園内における研修を企画・実施する幼稚園又は認定こども園","〇","")
A24: 14 | H24: =IF(C24="⑤園内における研修を企画・実施する幼稚園又は認定こども園","〇","")
A25: 15 | H25: =IF(C25="⑤園内における研修を企画・実施する幼稚園又は認定こども園","〇","")
... A67: 57 | H67: =IF(C67="⑤園内における研修を企画・実施する幼稚園又は認定こども園","〇","")
A68: 58 | H68: =IF(C68="⑤園内における研修を企画・実施する幼稚園又は認定こども園","〇","") | M68: 園内研修 | N68: 最大時間
A69: 59 | H69: =IF(C69="⑤園内における研修を企画・実施する幼稚園又は認定こども園","〇","") | M69: 中核リーダー | N69: 15
A70: 60 | H70: =IF(C70="⑤園内における研修を企画・実施する幼稚園又は認定こども園","〇","") | M70: 専門リーダー | N70: 15
A71: 合計 | G71: =SUMIF(G11:G70,"〇",I11:I70) -> 0 | H71: =IF(SUMIF(C11:C70,"⑤園内における研修を企画・実施する幼稚園又は認定こども園",I11:I70)>VLOOKUP(C6,M68:N83,2,FALSE),VLOOKUP(C6,M68:N83,2,FALSE),SUMIF(C11:C70,"⑤園内における研修を企画・実施する幼稚園又は認定こども園",I11:I70)) -> #N/A | I71: =IF(L71<0,SUM(I11:I70,L71),SUM(I11:I70)) -> #N/A | L71: =IF(SUMIF(C11:C70,"⑤園内における研修を企画・実施する幼稚園又は認定こども園",I11:I70)>VLOOKUP(C6,M68:N83,2,FALSE),VLOOKUP(C6,M68:N83,2,FALSE)-SUMIF(C11:C70,"⑤園内における研修を企画・実施する幼稚園又は認定こども園",I11:I70),"") -> #N/A | M71: 若手リーダー | N71: 4
B72: 【留意事項】 | M72: 若手リーダー | N72: 4
B73: (1) 研修ごとに１行で記載する。 | M73: なし_職員処遇改善費のみの対象者 | N73: 15
B74: (2) 「修了年月日」は、研修修了証の年月日又は研修を受講した年月日を記入する。 | M74: 園長で中核リーダーの研修 | N74: 15
B75: (3) 園内研修（幼稚園等）を対象としたい場合は、「園内研修実施状況」を添付すること。 | M75: 園長で専門リーダーの研修 | N75: 15
B76: (4) 一覧の内容を確認できる資料（幼稚園教諭免許状更新講習修了証明書（履修証明書）の写し等）を施設において保管すること。 | M76: 副園長で中核リーダーの研修 | N76: 15
B77: (5) 行が足りない場合は、No２～59の行を選択し、挿入すること。 | M77: 副園長で専門リーダーの研修 | N77: 15
B78: (6) 区分３及び職員処遇改善費の対象となる研修は「施設型給付費等に係る処遇改善等加算（区分３）に係る研修修了要件について」（令和７年９月16日付けこ成基202・７初幼教第４号 こども家庭庁成育局保育政策課長、こども家庭庁成育局成育基盤企画課長及び文部科学省初等中等教育局幼児教育課長連盟通知）の記載に基づくものとする。 | M78: 教頭で中核リーダーの研修 | N78: 15
B79: (7) 保育士等キャリアアップ研修は「保育士等キャリアアップ研修の実施について（平成29年４月１日厚生労働省雇用均等・児童家庭局保育課長通知）」の記載に基づくものが対象となる。 実施主体は「都道府県又は都道府県知事の指定した研修実施機関」とする。 | M79: 教頭で専門リーダーの研修 | N79: 15
M80: 主幹教諭で中核リーダーの研修 | N80: 15
M81: 主幹教諭で専門リーダーの研修 | N81: 15
M82: 主幹保育教諭で中核リーダーの研修 | N82: 15
M83: 主幹保育教諭で専門リーダーの研修 | N83: 15

Sheet ②名簿24
A1: 第５号様式の２ | D1: 令和 ８ 年度 研修受講履歴一覧集計表 （幼稚園・認定こども園）
H3: 所在区 | I3: =①集計表!H4 -> #N/A
H4: 施設・事業種別 | I4: =①集計表!H5 -> #N/A | L4: =IFERROR(LEFT(I4,FIND("（",I4)-1),I4)&C6 -> #N/A
H5: 施設・事業所番号 | I5: =①集計表!H6 -> 0
B6: 職位 | D6: ↓マネジメント分野の修了チェック↓ | H6: 施設・事業所名 | I6: =①集計表!H7 -> #N/A
B7: 氏名 | D7: =IF($C$6="","職位を選択してください",IF(ISNUMBER(SEARCH("中核リーダー",C6)),IF(SUMIF(G:G,"〇",I:I)>=15,"必修時間を満たしています","区分３（人数Ａ）対象者は、マネジメント分野（15時間）必修です。 入力してください。"),IF(ISNUMBER(SEARCH("専門リーダー",C6)),"必修ではありません。保育士等キャリアアップ研修のマネジメント分野は、令和４年３月31日までの修了分まで算定可。",IF(ISNUMBER(SEARCH("若手リーダー",C6)),"必修ではありません。保育士等キャリアアップ研修のマネジメント分野は、令和２年３月31日までの修了分まで算定可。","必修ではありません。")))) -> 職位を選択してください | H7: 代表者職・氏名 | I7: =①集計表!H8 -> 0 | K7: =Z4 -> 0
A9: 区分３及び職員処遇改善費の対象と認められる研修のみ入力してください（下記(6)参照）。そのうち、キャリアアップ研修が対象か否かについては最下部(7)を参照のうえ、不明な場合は実施主体に必ず確認してください。
A10: No | B10: 各行最後に入力 修了年月日 (例:R2.6.1) ※研修種別～ 研修分野 を入力後に入力してください。 | C10: 実施主体等 | D10: 講義名・テーマ | E10: キャリアアップ研修 研修分野 ※施設情報・職位を入力後に選択してください | F10: 修了証番号 | G10: マネジメント分野に係る 研修の場合は〇 | H10: 園内研修 | I10: 修了時間数 | J10: 備考 | K10: 開始日 | L10: キャリアアップ研修 | M10: 42826
A11: 1 | H11: =IF(C11="⑤園内における研修を企画・実施する幼稚園又は認定こども園","〇","") | K11: 終了日 | L11: マネジメント (専門リーダー) | M11: 44651
A12: 2 | H12: =IF(C12="⑤園内における研修を企画・実施する幼稚園又は認定こども園","〇","") | L12: マネジメント (若手リーダー) | M12: 43921
A13: 3 | H13: =IF(C13="⑤園内における研修を企画・実施する幼稚園又は認定こども園","〇","") | L13: それ以外 の研修 | M13: 45747
A14: 4 | H14: =IF(C14="⑤園内における研修を企画・実施する幼稚園又は認定こども園","〇","")
A15: 5 | H15: =IF(C15="⑤園内における研修を企画・実施する幼稚園又は認定こども園","〇","")
A16: 6 | H16: =IF(C16="⑤園内における研修を企画・実施する幼稚園又は認定こども園","〇","")
A17: 7 | H17: =IF(C17="⑤園内における研修を企画・実施する幼稚園又は認定こども園","〇","")
A18: 8 | H18: =IF(C18="⑤園内における研修を企画・実施する幼稚園又は認定こども園","〇","")
A19: 9 | H19: =IF(C19="⑤園内における研修を企画・実施する幼稚園又は認定こども園","〇","")
A20: 10 | H20: =IF(C20="⑤園内における研修を企画・実施する幼稚園又は認定こども園","〇","")
A21: 11 | H21: =IF(C21="⑤園内における研修を企画・実施する幼稚園又は認定こども園","〇","")
A22: 12 | H22: =IF(C22="⑤園内における研修を企画・実施する幼稚園又は認定こども園","〇","")
A23: 13 | H23: =IF(C23="⑤園内における研修を企画・実施する幼稚園又は認定こども園","〇","")
A24: 14 | H24: =IF(C24="⑤園内における研修を企画・実施する幼稚園又は認定こども園","〇","")
A25: 15 | H25: =IF(C25="⑤園内における研修を企画・実施する幼稚園又は認定こども園","〇","")
... A67: 57 | H67: =IF(C67="⑤園内における研修を企画・実施する幼稚園又は認定こども園","〇","")
A68: 58 | H68: =IF(C68="⑤園内における研修を企画・実施する幼稚園又は認定こども園","〇","") | M68: 園内研修 | N68: 最大時間
A69: 59 | H69: =IF(C69="⑤園内における研修を企画・実施する幼稚園又は認定こども園","〇","") | M69: 中核リーダー | N69: 15
A70: 60 | H70: =IF(C70="⑤園内における研修を企画・実施する幼稚園又は認定こども園","〇","") | M70: 専門リーダー | N70: 15
A71: 合計 | G71: =SUMIF(G11:G70,"〇",I11:I70) -> 0 | H71: =IF(SUMIF(C11:C70,"⑤園内における研修を企画・実施する幼稚園又は認定こども園",I11:I70)>VLOOKUP(C6,M68:N83,2,FALSE),VLOOKUP(C6,M68:N83,2,FALSE),SUMIF(C11:C70,"⑤園内における研修を企画・実施する幼稚園又は認定こども園",I11:I70)) -> #N/A | I71: =IF(L71<0,SUM(I11:I70,L71),SUM(I11:I70)) -> #N/A | L71: =IF(SUMIF(C11:C70,"⑤園内における研修を企画・実施する幼稚園又は認定こども園",I11:I70)>VLOOKUP(C6,M68:N83,2,FALSE),VLOOKUP(C6,M68:N83,2,FALSE)-SUMIF(C11:C70,"⑤園内における研修を企画・実施する幼稚園又は認定こども園",I11:I70),"") -> #N/A | M71: 若手リーダー | N71: 4
B72: 【留意事項】 | M72: 若手リーダー | N72: 4
B73: (1) 研修ごとに１行で記載する。 | M73: なし_職員処遇改善費のみの対象者 | N73: 15
B74: (2) 「修了年月日」は、研修修了証の年月日又は研修を受講した年月日を記入する。 | M74: 園長で中核リーダーの研修 | N74: 15
B75: (3) 園内研修（幼稚園等）を対象としたい場合は、「園内研修実施状況」を添付すること。 | M75: 園長で専門リーダーの研修 | N75: 15
B76: (4) 一覧の内容を確認できる資料（幼稚園教諭免許状更新講習修了証明書（履修証明書）の写し等）を施設において保管すること。 | M76: 副園長で中核リーダーの研修 | N76: 15
B77: (5) 行が足りない場合は、No２～59の行を選択し、挿入すること。 | M77: 副園長で専門リーダーの研修 | N77: 15
B78: (6) 区分３及び職員処遇改善費の対象となる研修は「施設型給付費等に係る処遇改善等加算（区分３）に係る研修修了要件について」（令和７年９月16日付けこ成基202・７初幼教第４号 こども家庭庁成育局保育政策課長、こども家庭庁成育局成育基盤企画課長及び文部科学省初等中等教育局幼児教育課長連盟通知）の記載に基づくものとする。 | M78: 教頭で中核リーダーの研修 | N78: 15
B79: (7) 保育士等キャリアアップ研修は「保育士等キャリアアップ研修の実施について（平成29年４月１日厚生労働省雇用均等・児童家庭局保育課長通知）」の記載に基づくものが対象となる。 実施主体は「都道府県又は都道府県知事の指定した研修実施機関」とする。 | M79: 教頭で専門リーダーの研修 | N79: 15
M80: 主幹教諭で中核リーダーの研修 | N80: 15
M81: 主幹教諭で専門リーダーの研修 | N81: 15
M82: 主幹保育教諭で中核リーダーの研修 | N82: 15
M83: 主幹保育教諭で専門リーダーの研修 | N83: 15

Sheet ②名簿25
A1: 第５号様式の２ | D1: 令和 ８ 年度 研修受講履歴一覧集計表 （幼稚園・認定こども園）
H3: 所在区 | I3: =①集計表!H4 -> #N/A
H4: 施設・事業種別 | I4: =①集計表!H5 -> #N/A | L4: =IFERROR(LEFT(I4,FIND("（",I4)-1),I4)&C6 -> #N/A
H5: 施設・事業所番号 | I5: =①集計表!H6 -> 0
B6: 職位 | D6: ↓マネジメント分野の修了チェック↓ | H6: 施設・事業所名 | I6: =①集計表!H7 -> #N/A
B7: 氏名 | D7: =IF($C$6="","職位を選択してください",IF(ISNUMBER(SEARCH("中核リーダー",C6)),IF(SUMIF(G:G,"〇",I:I)>=15,"必修時間を満たしています","区分３（人数Ａ）対象者は、マネジメント分野（15時間）必修です。 入力してください。"),IF(ISNUMBER(SEARCH("専門リーダー",C6)),"必修ではありません。保育士等キャリアアップ研修のマネジメント分野は、令和４年３月31日までの修了分まで算定可。",IF(ISNUMBER(SEARCH("若手リーダー",C6)),"必修ではありません。保育士等キャリアアップ研修のマネジメント分野は、令和２年３月31日までの修了分まで算定可。","必修ではありません。")))) -> 職位を選択してください | H7: 代表者職・氏名 | I7: =①集計表!H8 -> 0 | K7: =Z4 -> 0
A9: 区分３及び職員処遇改善費の対象と認められる研修のみ入力してください（下記(6)参照）。そのうち、キャリアアップ研修が対象か否かについては最下部(7)を参照のうえ、不明な場合は実施主体に必ず確認してください。
A10: No | B10: 各行最後に入力 修了年月日 (例:R2.6.1) ※研修種別～ 研修分野 を入力後に入力してください。 | C10: 実施主体等 | D10: 講義名・テーマ | E10: キャリアアップ研修 研修分野 ※施設情報・職位を入力後に選択してください | F10: 修了証番号 | G10: マネジメント分野に係る 研修の場合は〇 | H10: 園内研修 | I10: 修了時間数 | J10: 備考 | K10: 開始日 | L10: キャリアアップ研修 | M10: 42826
A11: 1 | H11: =IF(C11="⑤園内における研修を企画・実施する幼稚園又は認定こども園","〇","") | K11: 終了日 | L11: マネジメント (専門リーダー) | M11: 44651
A12: 2 | H12: =IF(C12="⑤園内における研修を企画・実施する幼稚園又は認定こども園","〇","") | L12: マネジメント (若手リーダー) | M12: 43921
A13: 3 | H13: =IF(C13="⑤園内における研修を企画・実施する幼稚園又は認定こども園","〇","") | L13: それ以外 の研修 | M13: 45747
A14: 4 | H14: =IF(C14="⑤園内における研修を企画・実施する幼稚園又は認定こども園","〇","")
A15: 5 | H15: =IF(C15="⑤園内における研修を企画・実施する幼稚園又は認定こども園","〇","")
A16: 6 | H16: =IF(C16="⑤園内における研修を企画・実施する幼稚園又は認定こども園","〇","")
A17: 7 | H17: =IF(C17="⑤園内における研修を企画・実施する幼稚園又は認定こども園","〇","")
A18: 8 | H18: =IF(C18="⑤園内における研修を企画・実施する幼稚園又は認定こども園","〇","")
A19: 9 | H19: =IF(C19="⑤園内における研修を企画・実施する幼稚園又は認定こども園","〇","")
A20: 10 | H20: =IF(C20="⑤園内における研修を企画・実施する幼稚園又は認定こども園","〇","")
A21: 11 | H21: =IF(C21="⑤園内における研修を企画・実施する幼稚園又は認定こども園","〇","")
A22: 12 | H22: =IF(C22="⑤園内における研修を企画・実施する幼稚園又は認定こども園","〇","")
A23: 13 | H23: =IF(C23="⑤園内における研修を企画・実施する幼稚園又は認定こども園","〇","")
A24: 14 | H24: =IF(C24="⑤園内における研修を企画・実施する幼稚園又は認定こども園","〇","")
A25: 15 | H25: =IF(C25="⑤園内における研修を企画・実施する幼稚園又は認定こども園","〇","")
... A67: 57 | H67: =IF(C67="⑤園内における研修を企画・実施する幼稚園又は認定こども園","〇","")
A68: 58 | H68: =IF(C68="⑤園内における研修を企画・実施する幼稚園又は認定こども園","〇","") | M68: 園内研修 | N68: 最大時間
A69: 59 | H69: =IF(C69="⑤園内における研修を企画・実施する幼稚園又は認定こども園","〇","") | M69: 中核リーダー | N69: 15
A70: 60 | H70: =IF(C70="⑤園内における研修を企画・実施する幼稚園又は認定こども園","〇","") | M70: 専門リーダー | N70: 15
A71: 合計 | G71: =SUMIF(G11:G70,"〇",I11:I70) -> 0 | H71: =IF(SUMIF(C11:C70,"⑤園内における研修を企画・実施する幼稚園又は認定こども園",I11:I70)>VLOOKUP(C6,M68:N83,2,FALSE),VLOOKUP(C6,M68:N83,2,FALSE),SUMIF(C11:C70,"⑤園内における研修を企画・実施する幼稚園又は認定こども園",I11:I70)) -> #N/A | I71: =IF(L71<0,SUM(I11:I70,L71),SUM(I11:I70)) -> #N/A | L71: =IF(SUMIF(C11:C70,"⑤園内における研修を企画・実施する幼稚園又は認定こども園",I11:I70)>VLOOKUP(C6,M68:N83,2,FALSE),VLOOKUP(C6,M68:N83,2,FALSE)-SUMIF(C11:C70,"⑤園内における研修を企画・実施する幼稚園又は認定こども園",I11:I70),"") -> #N/A | M71: 若手リーダー | N71: 4
B72: 【留意事項】 | M72: 若手リーダー | N72: 4
B73: (1) 研修ごとに１行で記載する。 | M73: なし_職員処遇改善費のみの対象者 | N73: 15
B74: (2) 「修了年月日」は、研修修了証の年月日又は研修を受講した年月日を記入する。 | M74: 園長で中核リーダーの研修 | N74: 15
B75: (3) 園内研修（幼稚園等）を対象としたい場合は、「園内研修実施状況」を添付すること。 | M75: 園長で専門リーダーの研修 | N75: 15
B76: (4) 一覧の内容を確認できる資料（幼稚園教諭免許状更新講習修了証明書（履修証明書）の写し等）を施設において保管すること。 | M76: 副園長で中核リーダーの研修 | N76: 15
B77: (5) 行が足りない場合は、No２～59の行を選択し、挿入すること。 | M77: 副園長で専門リーダーの研修 | N77: 15
B78: (6) 区分３及び職員処遇改善費の対象となる研修は「施設型給付費等に係る処遇改善等加算（区分３）に係る研修修了要件について」（令和７年９月16日付けこ成基202・７初幼教第４号 こども家庭庁成育局保育政策課長、こども家庭庁成育局成育基盤企画課長及び文部科学省初等中等教育局幼児教育課長連盟通知）の記載に基づくものとする。 | M78: 教頭で中核リーダーの研修 | N78: 15
B79: (7) 保育士等キャリアアップ研修は「保育士等キャリアアップ研修の実施について（平成29年４月１日厚生労働省雇用均等・児童家庭局保育課長通知）」の記載に基づくものが対象となる。 実施主体は「都道府県又は都道府県知事の指定した研修実施機関」とする。 | M79: 教頭で専門リーダーの研修 | N79: 15
M80: 主幹教諭で中核リーダーの研修 | N80: 15
M81: 主幹教諭で専門リーダーの研修 | N81: 15
M82: 主幹保育教諭で中核リーダーの研修 | N82: 15
M83: 主幹保育教諭で専門リーダーの研修 | N83: 15

Sheet ②名簿26
A1: 第５号様式の２ | D1: 令和 ８ 年度 研修受講履歴一覧集計表 （幼稚園・認定こども園）
H3: 所在区 | I3: =①集計表!H4 -> #N/A
H4: 施設・事業種別 | I4: =①集計表!H5 -> #N/A | L4: =IFERROR(LEFT(I4,FIND("（",I4)-1),I4)&C6 -> #N/A
H5: 施設・事業所番号 | I5: =①集計表!H6 -> 0
B6: 職位 | D6: ↓マネジメント分野の修了チェック↓ | H6: 施設・事業所名 | I6: =①集計表!H7 -> #N/A
B7: 氏名 | D7: =IF($C$6="","職位を選択してください",IF(ISNUMBER(SEARCH("中核リーダー",C6)),IF(SUMIF(G:G,"〇",I:I)>=15,"必修時間を満たしています","区分３（人数Ａ）対象者は、マネジメント分野（15時間）必修です。 入力してください。"),IF(ISNUMBER(SEARCH("専門リーダー",C6)),"必修ではありません。保育士等キャリアアップ研修のマネジメント分野は、令和４年３月31日までの修了分まで算定可。",IF(ISNUMBER(SEARCH("若手リーダー",C6)),"必修ではありません。保育士等キャリアアップ研修のマネジメント分野は、令和２年３月31日までの修了分まで算定可。","必修ではありません。")))) -> 職位を選択してください | H7: 代表者職・氏名 | I7: =①集計表!H8 -> 0 | K7: =Z4 -> 0
A9: 区分３及び職員処遇改善費の対象と認められる研修のみ入力してください（下記(6)参照）。そのうち、キャリアアップ研修が対象か否かについては最下部(7)を参照のうえ、不明な場合は実施主体に必ず確認してください。
A10: No | B10: 各行最後に入力 修了年月日 (例:R2.6.1) ※研修種別～ 研修分野 を入力後に入力してください。 | C10: 実施主体等 | D10: 講義名・テーマ | E10: キャリアアップ研修 研修分野 ※施設情報・職位を入力後に選択してください | F10: 修了証番号 | G10: マネジメント分野に係る 研修の場合は〇 | H10: 園内研修 | I10: 修了時間数 | J10: 備考 | K10: 開始日 | L10: キャリアアップ研修 | M10: 42826
A11: 1 | H11: =IF(C11="⑤園内における研修を企画・実施する幼稚園又は認定こども園","〇","") | K11: 終了日 | L11: マネジメント (専門リーダー) | M11: 44651
A12: 2 | H12: =IF(C12="⑤園内における研修を企画・実施する幼稚園又は認定こども園","〇","") | L12: マネジメント (若手リーダー) | M12: 43921
A13: 3 | H13: =IF(C13="⑤園内における研修を企画・実施する幼稚園又は認定こども園","〇","") | L13: それ以外 の研修 | M13: 45747
A14: 4 | H14: =IF(C14="⑤園内における研修を企画・実施する幼稚園又は認定こども園","〇","")
A15: 5 | H15: =IF(C15="⑤園内における研修を企画・実施する幼稚園又は認定こども園","〇","")
A16: 6 | H16: =IF(C16="⑤園内における研修を企画・実施する幼稚園又は認定こども園","〇","")
A17: 7 | H17: =IF(C17="⑤園内における研修を企画・実施する幼稚園又は認定こども園","〇","")
A18: 8 | H18: =IF(C18="⑤園内における研修を企画・実施する幼稚園又は認定こども園","〇","")
A19: 9 | H19: =IF(C19="⑤園内における研修を企画・実施する幼稚園又は認定こども園","〇","")
A20: 10 | H20: =IF(C20="⑤園内における研修を企画・実施する幼稚園又は認定こども園","〇","")
A21: 11 | H21: =IF(C21="⑤園内における研修を企画・実施する幼稚園又は認定こども園","〇","")
A22: 12 | H22: =IF(C22="⑤園内における研修を企画・実施する幼稚園又は認定こども園","〇","")
A23: 13 | H23: =IF(C23="⑤園内における研修を企画・実施する幼稚園又は認定こども園","〇","")
A24: 14 | H24: =IF(C24="⑤園内における研修を企画・実施する幼稚園又は認定こども園","〇","")
A25: 15 | H25: =IF(C25="⑤園内における研修を企画・実施する幼稚園又は認定こども園","〇","")
... A67: 57 | H67: =IF(C67="⑤園内における研修を企画・実施する幼稚園又は認定こども園","〇","")
A68: 58 | H68: =IF(C68="⑤園内における研修を企画・実施する幼稚園又は認定こども園","〇","") | M68: 園内研修 | N68: 最大時間
A69: 59 | H69: =IF(C69="⑤園内における研修を企画・実施する幼稚園又は認定こども園","〇","") | M69: 中核リーダー | N69: 15
A70: 60 | H70: =IF(C70="⑤園内における研修を企画・実施する幼稚園又は認定こども園","〇","") | M70: 専門リーダー | N70: 15
A71: 合計 | G71: =SUMIF(G11:G70,"〇",I11:I70) -> 0 | H71: =IF(SUMIF(C11:C70,"⑤園内における研修を企画・実施する幼稚園又は認定こども園",I11:I70)>VLOOKUP(C6,M68:N83,2,FALSE),VLOOKUP(C6,M68:N83,2,FALSE),SUMIF(C11:C70,"⑤園内における研修を企画・実施する幼稚園又は認定こども園",I11:I70)) -> #N/A | I71: =IF(L71<0,SUM(I11:I70,L71),SUM(I11:I70)) -> #N/A | L71: =IF(SUMIF(C11:C70,"⑤園内における研修を企画・実施する幼稚園又は認定こども園",I11:I70)>VLOOKUP(C6,M68:N83,2,FALSE),VLOOKUP(C6,M68:N83,2,FALSE)-SUMIF(C11:C70,"⑤園内における研修を企画・実施する幼稚園又は認定こども園",I11:I70),"") -> #N/A | M71: 若手リーダー | N71: 4
B72: 【留意事項】 | M72: 若手リーダー | N72: 4
B73: (1) 研修ごとに１行で記載する。 | M73: なし_職員処遇改善費のみの対象者 | N73: 15
B74: (2) 「修了年月日」は、研修修了証の年月日又は研修を受講した年月日を記入する。 | M74: 園長で中核リーダーの研修 | N74: 15
B75: (3) 園内研修（幼稚園等）を対象としたい場合は、「園内研修実施状況」を添付すること。 | M75: 園長で専門リーダーの研修 | N75: 15
B76: (4) 一覧の内容を確認できる資料（幼稚園教諭免許状更新講習修了証明書（履修証明書）の写し等）を施設において保管すること。 | M76: 副園長で中核リーダーの研修 | N76: 15
B77: (5) 行が足りない場合は、No２～59の行を選択し、挿入すること。 | M77: 副園長で専門リーダーの研修 | N77: 15
B78: (6) 区分３及び職員処遇改善費の対象となる研修は「施設型給付費等に係る処遇改善等加算（区分３）に係る研修修了要件について」（令和７年９月16日付けこ成基202・７初幼教第４号 こども家庭庁成育局保育政策課長、こども家庭庁成育局成育基盤企画課長及び文部科学省初等中等教育局幼児教育課長連盟通知）の記載に基づくものとする。 | M78: 教頭で中核リーダーの研修 | N78: 15
B79: (7) 保育士等キャリアアップ研修は「保育士等キャリアアップ研修の実施について（平成29年４月１日厚生労働省雇用均等・児童家庭局保育課長通知）」の記載に基づくものが対象となる。 実施主体は「都道府県又は都道府県知事の指定した研修実施機関」とする。 | M79: 教頭で専門リーダーの研修 | N79: 15
M80: 主幹教諭で中核リーダーの研修 | N80: 15
M81: 主幹教諭で専門リーダーの研修 | N81: 15
M82: 主幹保育教諭で中核リーダーの研修 | N82: 15
M83: 主幹保育教諭で専門リーダーの研修 | N83: 15

Sheet ②名簿27
A1: 第５号様式の２ | D1: 令和 ８ 年度 研修受講履歴一覧集計表 （幼稚園・認定こども園）
H3: 所在区 | I3: =①集計表!H4 -> #N/A
H4: 施設・事業種別 | I4: =①集計表!H5 -> #N/A | L4: =IFERROR(LEFT(I4,FIND("（",I4)-1),I4)&C6 -> #N/A
H5: 施設・事業所番号 | I5: =①集計表!H6 -> 0
B6: 職位 | D6: ↓マネジメント分野の修了チェック↓ | H6: 施設・事業所名 | I6: =①集計表!H7 -> #N/A
B7: 氏名 | D7: =IF($C$6="","職位を選択してください",IF(ISNUMBER(SEARCH("中核リーダー",C6)),IF(SUMIF(G:G,"〇",I:I)>=15,"必修時間を満たしています","区分３（人数Ａ）対象者は、マネジメント分野（15時間）必修です。 入力してください。"),IF(ISNUMBER(SEARCH("専門リーダー",C6)),"必修ではありません。保育士等キャリアアップ研修のマネジメント分野は、令和４年３月31日までの修了分まで算定可。",IF(ISNUMBER(SEARCH("若手リーダー",C6)),"必修ではありません。保育士等キャリアアップ研修のマネジメント分野は、令和２年３月31日までの修了分まで算定可。","必修ではありません。")))) -> 職位を選択してください | H7: 代表者職・氏名 | I7: =①集計表!H8 -> 0 | K7: =Z4 -> 0
A9: 区分３及び職員処遇改善費の対象と認められる研修のみ入力してください（下記(6)参照）。そのうち、キャリアアップ研修が対象か否かについては最下部(7)を参照のうえ、不明な場合は実施主体に必ず確認してください。
A10: No | B10: 各行最後に入力 修了年月日 (例:R2.6.1) ※研修種別～ 研修分野 を入力後に入力してください。 | C10: 実施主体等 | D10: 講義名・テーマ | E10: キャリアアップ研修 研修分野 ※施設情報・職位を入力後に選択してください | F10: 修了証番号 | G10: マネジメント分野に係る 研修の場合は〇 | H10: 園内研修 | I10: 修了時間数 | J10: 備考 | K10: 開始日 | L10: キャリアアップ研修 | M10: 42826
A11: 1 | H11: =IF(C11="⑤園内における研修を企画・実施する幼稚園又は認定こども園","〇","") | K11: 終了日 | L11: マネジメント (専門リーダー) | M11: 44651
A12: 2 | H12: =IF(C12="⑤園内における研修を企画・実施する幼稚園又は認定こども園","〇","") | L12: マネジメント (若手リーダー) | M12: 43921
A13: 3 | H13: =IF(C13="⑤園内における研修を企画・実施する幼稚園又は認定こども園","〇","") | L13: それ以外 の研修 | M13: 45747
A14: 4 | H14: =IF(C14="⑤園内における研修を企画・実施する幼稚園又は認定こども園","〇","")
A15: 5 | H15: =IF(C15="⑤園内における研修を企画・実施する幼稚園又は認定こども園","〇","")
A16: 6 | H16: =IF(C16="⑤園内における研修を企画・実施する幼稚園又は認定こども園","〇","")
A17: 7 | H17: =IF(C17="⑤園内における研修を企画・実施する幼稚園又は認定こども園","〇","")
A18: 8 | H18: =IF(C18="⑤園内における研修を企画・実施する幼稚園又は認定こども園","〇","")
A19: 9 | H19: =IF(C19="⑤園内における研修を企画・実施する幼稚園又は認定こども園","〇","")
A20: 10 | H20: =IF(C20="⑤園内における研修を企画・実施する幼稚園又は認定こども園","〇","")
A21: 11 | H21: =IF(C21="⑤園内における研修を企画・実施する幼稚園又は認定こども園","〇","")
A22: 12 | H22: =IF(C22="⑤園内における研修を企画・実施する幼稚園又は認定こども園","〇","")
A23: 13 | H23: =IF(C23="⑤園内における研修を企画・実施する幼稚園又は認定こども園","〇","")
A24: 14 | H24: =IF(C24="⑤園内における研修を企画・実施する幼稚園又は認定こども園","〇","")
A25: 15 | H25: =IF(C25="⑤園内における研修を企画・実施する幼稚園又は認定こども園","〇","")
... A67: 57 | H67: =IF(C67="⑤園内における研修を企画・実施する幼稚園又は認定こども園","〇","")
A68: 58 | H68: =IF(C68="⑤園内における研修を企画・実施する幼稚園又は認定こども園","〇","") | M68: 園内研修 | N68: 最大時間
A69: 59 | H69: =IF(C69="⑤園内における研修を企画・実施する幼稚園又は認定こども園","〇","") | M69: 中核リーダー | N69: 15
A70: 60 | H70: =IF(C70="⑤園内における研修を企画・実施する幼稚園又は認定こども園","〇","") | M70: 専門リーダー | N70: 15
A71: 合計 | G71: =SUMIF(G11:G70,"〇",I11:I70) -> 0 | H71: =IF(SUMIF(C11:C70,"⑤園内における研修を企画・実施する幼稚園又は認定こども園",I11:I70)>VLOOKUP(C6,M68:N83,2,FALSE),VLOOKUP(C6,M68:N83,2,FALSE),SUMIF(C11:C70,"⑤園内における研修を企画・実施する幼稚園又は認定こども園",I11:I70)) -> #N/A | I71: =IF(L71<0,SUM(I11:I70,L71),SUM(I11:I70)) -> #N/A | L71: =IF(SUMIF(C11:C70,"⑤園内における研修を企画・実施する幼稚園又は認定こども園",I11:I70)>VLOOKUP(C6,M68:N83,2,FALSE),VLOOKUP(C6,M68:N83,2,FALSE)-SUMIF(C11:C70,"⑤園内における研修を企画・実施する幼稚園又は認定こども園",I11:I70),"") -> #N/A | M71: 若手リーダー | N71: 4
B72: 【留意事項】 | M72: 若手リーダー | N72: 4
B73: (1) 研修ごとに１行で記載する。 | M73: なし_職員処遇改善費のみの対象者 | N73: 15
B74: (2) 「修了年月日」は、研修修了証の年月日又は研修を受講した年月日を記入する。 | M74: 園長で中核リーダーの研修 | N74: 15
B75: (3) 園内研修（幼稚園等）を対象としたい場合は、「園内研修実施状況」を添付すること。 | M75: 園長で専門リーダーの研修 | N75: 15
B76: (4) 一覧の内容を確認できる資料（幼稚園教諭免許状更新講習修了証明書（履修証明書）の写し等）を施設において保管すること。 | M76: 副園長で中核リーダーの研修 | N76: 15
B77: (5) 行が足りない場合は、No２～59の行を選択し、挿入すること。 | M77: 副園長で専門リーダーの研修 | N77: 15
B78: (6) 区分３及び職員処遇改善費の対象となる研修は「施設型給付費等に係る処遇改善等加算（区分３）に係る研修修了要件について」（令和７年９月16日付けこ成基202・７初幼教第４号 こども家庭庁成育局保育政策課長、こども家庭庁成育局成育基盤企画課長及び文部科学省初等中等教育局幼児教育課長連盟通知）の記載に基づくものとする。 | M78: 教頭で中核リーダーの研修 | N78: 15
B79: (7) 保育士等キャリアアップ研修は「保育士等キャリアアップ研修の実施について（平成29年４月１日厚生労働省雇用均等・児童家庭局保育課長通知）」の記載に基づくものが対象となる。 実施主体は「都道府県又は都道府県知事の指定した研修実施機関」とする。 | M79: 教頭で専門リーダーの研修 | N79: 15
M80: 主幹教諭で中核リーダーの研修 | N80: 15
M81: 主幹教諭で専門リーダーの研修 | N81: 15
M82: 主幹保育教諭で中核リーダーの研修 | N82: 15
M83: 主幹保育教諭で専門リーダーの研修 | N83: 15

Sheet ②名簿28
A1: 第５号様式の２ | D1: 令和 ８ 年度 研修受講履歴一覧集計表 （幼稚園・認定こども園）
H3: 所在区 | I3: =①集計表!H4 -> #N/A
H4: 施設・事業種別 | I4: =①集計表!H5 -> #N/A | L4: =IFERROR(LEFT(I4,FIND("（",I4)-1),I4)&C6 -> #N/A
H5: 施設・事業所番号 | I5: =①集計表!H6 -> 0
B6: 職位 | D6: ↓マネジメント分野の修了チェック↓ | H6: 施設・事業所名 | I6: =①集計表!H7 -> #N/A
B7: 氏名 | D7: =IF($C$6="","職位を選択してください",IF(ISNUMBER(SEARCH("中核リーダー",C6)),IF(SUMIF(G:G,"〇",I:I)>=15,"必修時間を満たしています","区分３（人数Ａ）対象者は、マネジメント分野（15時間）必修です。 入力してください。"),IF(ISNUMBER(SEARCH("専門リーダー",C6)),"必修ではありません。保育士等キャリアアップ研修のマネジメント分野は、令和４年３月31日までの修了分まで算定可。",IF(ISNUMBER(SEARCH("若手リーダー",C6)),"必修ではありません。保育士等キャリアアップ研修のマネジメント分野は、令和２年３月31日までの修了分まで算定可。","必修ではありません。")))) -> 職位を選択してください | H7: 代表者職・氏名 | I7: =①集計表!H8 -> 0 | K7: =Z4 -> 0
A9: 区分３及び職員処遇改善費の対象と認められる研修のみ入力してください（下記(6)参照）。そのうち、キャリアアップ研修が対象か否かについては最下部(7)を参照のうえ、不明な場合は実施主体に必ず確認してください。
A10: No | B10: 各行最後に入力 修了年月日 (例:R2.6.1) ※研修種別～ 研修分野 を入力後に入力してください。 | C10: 実施主体等 | D10: 講義名・テーマ | E10: キャリアアップ研修 研修分野 ※施設情報・職位を入力後に選択してください | F10: 修了証番号 | G10: マネジメント分野に係る 研修の場合は〇 | H10: 園内研修 | I10: 修了時間数 | J10: 備考 | K10: 開始日 | L10: キャリアアップ研修 | M10: 42826
A11: 1 | H11: =IF(C11="⑤園内における研修を企画・実施する幼稚園又は認定こども園","〇","") | K11: 終了日 | L11: マネジメント (専門リーダー) | M11: 44651
A12: 2 | H12: =IF(C12="⑤園内における研修を企画・実施する幼稚園又は認定こども園","〇","") | L12: マネジメント (若手リーダー) | M12: 43921
A13: 3 | H13: =IF(C13="⑤園内における研修を企画・実施する幼稚園又は認定こども園","〇","") | L13: それ以外 の研修 | M13: 45747
A14: 4 | H14: =IF(C14="⑤園内における研修を企画・実施する幼稚園又は認定こども園","〇","")
A15: 5 | H15: =IF(C15="⑤園内における研修を企画・実施する幼稚園又は認定こども園","〇","")
A16: 6 | H16: =IF(C16="⑤園内における研修を企画・実施する幼稚園又は認定こども園","〇","")
A17: 7 | H17: =IF(C17="⑤園内における研修を企画・実施する幼稚園又は認定こども園","〇","")
A18: 8 | H18: =IF(C18="⑤園内における研修を企画・実施する幼稚園又は認定こども園","〇","")
A19: 9 | H19: =IF(C19="⑤園内における研修を企画・実施する幼稚園又は認定こども園","〇","")
A20: 10 | H20: =IF(C20="⑤園内における研修を企画・実施する幼稚園又は認定こども園","〇","")
A21: 11 | H21: =IF(C21="⑤園内における研修を企画・実施する幼稚園又は認定こども園","〇","")
A22: 12 | H22: =IF(C22="⑤園内における研修を企画・実施する幼稚園又は認定こども園","〇","")
A23: 13 | H23: =IF(C23="⑤園内における研修を企画・実施する幼稚園又は認定こども園","〇","")
A24: 14 | H24: =IF(C24="⑤園内における研修を企画・実施する幼稚園又は認定こども園","〇","")
A25: 15 | H25: =IF(C25="⑤園内における研修を企画・実施する幼稚園又は認定こども園","〇","")
... A67: 57 | H67: =IF(C67="⑤園内における研修を企画・実施する幼稚園又は認定こども園","〇","")
A68: 58 | H68: =IF(C68="⑤園内における研修を企画・実施する幼稚園又は認定こども園","〇","") | M68: 園内研修 | N68: 最大時間
A69: 59 | H69: =IF(C69="⑤園内における研修を企画・実施する幼稚園又は認定こども園","〇","") | M69: 中核リーダー | N69: 15
A70: 60 | H70: =IF(C70="⑤園内における研修を企画・実施する幼稚園又は認定こども園","〇","") | M70: 専門リーダー | N70: 15
A71: 合計 | G71: =SUMIF(G11:G70,"〇",I11:I70) -> 0 | H71: =IF(SUMIF(C11:C70,"⑤園内における研修を企画・実施する幼稚園又は認定こども園",I11:I70)>VLOOKUP(C6,M68:N83,2,FALSE),VLOOKUP(C6,M68:N83,2,FALSE),SUMIF(C11:C70,"⑤園内における研修を企画・実施する幼稚園又は認定こども園",I11:I70)) -> #N/A | I71: =IF(L71<0,SUM(I11:I70,L71),SUM(I11:I70)) -> #N/A | L71: =IF(SUMIF(C11:C70,"⑤園内における研修を企画・実施する幼稚園又は認定こども園",I11:I70)>VLOOKUP(C6,M68:N83,2,FALSE),VLOOKUP(C6,M68:N83,2,FALSE)-SUMIF(C11:C70,"⑤園内における研修を企画・実施する幼稚園又は認定こども園",I11:I70),"") -> #N/A | M71: 若手リーダー | N71: 4
B72: 【留意事項】 | M72: 若手リーダー | N72: 4
B73: (1) 研修ごとに１行で記載する。 | M73: なし_職員処遇改善費のみの対象者 | N73: 15
B74: (2) 「修了年月日」は、研修修了証の年月日又は研修を受講した年月日を記入する。 | M74: 園長で中核リーダーの研修 | N74: 15
B75: (3) 園内研修（幼稚園等）を対象としたい場合は、「園内研修実施状況」を添付すること。 | M75: 園長で専門リーダーの研修 | N75: 15
B76: (4) 一覧の内容を確認できる資料（幼稚園教諭免許状更新講習修了証明書（履修証明書）の写し等）を施設において保管すること。 | M76: 副園長で中核リーダーの研修 | N76: 15
B77: (5) 行が足りない場合は、No２～59の行を選択し、挿入すること。 | M77: 副園長で専門リーダーの研修 | N77: 15
B78: (6) 区分３及び職員処遇改善費の対象となる研修は「施設型給付費等に係る処遇改善等加算（区分３）に係る研修修了要件について」（令和７年９月16日付けこ成基202・７初幼教第４号 こども家庭庁成育局保育政策課長、こども家庭庁成育局成育基盤企画課長及び文部科学省初等中等教育局幼児教育課長連盟通知）の記載に基づくものとする。 | M78: 教頭で中核リーダーの研修 | N78: 15
B79: (7) 保育士等キャリアアップ研修は「保育士等キャリアアップ研修の実施について（平成29年４月１日厚生労働省雇用均等・児童家庭局保育課長通知）」の記載に基づくものが対象となる。 実施主体は「都道府県又は都道府県知事の指定した研修実施機関」とする。 | M79: 教頭で専門リーダーの研修 | N79: 15
M80: 主幹教諭で中核リーダーの研修 | N80: 15
M81: 主幹教諭で専門リーダーの研修 | N81: 15
M82: 主幹保育教諭で中核リーダーの研修 | N82: 15
M83: 主幹保育教諭で専門リーダーの研修 | N83: 15

Sheet ②名簿29
A1: 第５号様式の２ | D1: 令和 ８ 年度 研修受講履歴一覧集計表 （幼稚園・認定こども園）
H3: 所在区 | I3: =①集計表!H4 -> #N/A
H4: 施設・事業種別 | I4: =①集計表!H5 -> #N/A | L4: =IFERROR(LEFT(I4,FIND("（",I4)-1),I4)&C6 -> #N/A
H5: 施設・事業所番号 | I5: =①集計表!H6 -> 0
B6: 職位 | D6: ↓マネジメント分野の修了チェック↓ | H6: 施設・事業所名 | I6: =①集計表!H7 -> #N/A
B7: 氏名 | D7: =IF($C$6="","職位を選択してください",IF(ISNUMBER(SEARCH("中核リーダー",C6)),IF(SUMIF(G:G,"〇",I:I)>=15,"必修時間を満たしています","区分３（人数Ａ）対象者は、マネジメント分野（15時間）必修です。 入力してください。"),IF(ISNUMBER(SEARCH("専門リーダー",C6)),"必修ではありません。保育士等キャリアアップ研修のマネジメント分野は、令和４年３月31日までの修了分まで算定可。",IF(ISNUMBER(SEARCH("若手リーダー",C6)),"必修ではありません。保育士等キャリアアップ研修のマネジメント分野は、令和２年３月31日までの修了分まで算定可。","必修ではありません。")))) -> 職位を選択してください | H7: 代表者職・氏名 | I7: =①集計表!H8 -> 0 | K7: =Z4 -> 0
A9: 区分３及び職員処遇改善費の対象と認められる研修のみ入力してください（下記(6)参照）。そのうち、キャリアアップ研修が対象か否かについては最下部(7)を参照のうえ、不明な場合は実施主体に必ず確認してください。
A10: No | B10: 各行最後に入力 修了年月日 (例:R2.6.1) ※研修種別～ 研修分野 を入力後に入力してください。 | C10: 実施主体等 | D10: 講義名・テーマ | E10: キャリアアップ研修 研修分野 ※施設情報・職位を入力後に選択してください | F10: 修了証番号 | G10: マネジメント分野に係る 研修の場合は〇 | H10: 園内研修 | I10: 修了時間数 | J10: 備考 | K10: 開始日 | L10: キャリアアップ研修 | M10: 42826
A11: 1 | H11: =IF(C11="⑤園内における研修を企画・実施する幼稚園又は認定こども園","〇","") | K11: 終了日 | L11: マネジメント (専門リーダー) | M11: 44651
A12: 2 | H12: =IF(C12="⑤園内における研修を企画・実施する幼稚園又は認定こども園","〇","") | L12: マネジメント (若手リーダー) | M12: 43921
A13: 3 | H13: =IF(C13="⑤園内における研修を企画・実施する幼稚園又は認定こども園","〇","") | L13: それ以外 の研修 | M13: 45747
A14: 4 | H14: =IF(C14="⑤園内における研修を企画・実施する幼稚園又は認定こども園","〇","")
A15: 5 | H15: =IF(C15="⑤園内における研修を企画・実施する幼稚園又は認定こども園","〇","")
A16: 6 | H16: =IF(C16="⑤園内における研修を企画・実施する幼稚園又は認定こども園","〇","")
A17: 7 | H17: =IF(C17="⑤園内における研修を企画・実施する幼稚園又は認定こども園","〇","")
A18: 8 | H18: =IF(C18="⑤園内における研修を企画・実施する幼稚園又は認定こども園","〇","")
A19: 9 | H19: =IF(C19="⑤園内における研修を企画・実施する幼稚園又は認定こども園","〇","")
A20: 10 | H20: =IF(C20="⑤園内における研修を企画・実施する幼稚園又は認定こども園","〇","")
A21: 11 | H21: =IF(C21="⑤園内における研修を企画・実施する幼稚園又は認定こども園","〇","")
A22: 12 | H22: =IF(C22="⑤園内における研修を企画・実施する幼稚園又は認定こども園","〇","")
A23: 13 | H23: =IF(C23="⑤園内における研修を企画・実施する幼稚園又は認定こども園","〇","")
A24: 14 | H24: =IF(C24="⑤園内における研修を企画・実施する幼稚園又は認定こども園","〇","")
A25: 15 | H25: =IF(C25="⑤園内における研修を企画・実施する幼稚園又は認定こども園","〇","")
... A67: 57 | H67: =IF(C67="⑤園内における研修を企画・実施する幼稚園又は認定こども園","〇","")
A68: 58 | H68: =IF(C68="⑤園内における研修を企画・実施する幼稚園又は認定こども園","〇","") | M68: 園内研修 | N68: 最大時間
A69: 59 | H69: =IF(C69="⑤園内における研修を企画・実施する幼稚園又は認定こども園","〇","") | M69: 中核リーダー | N69: 15
A70: 60 | H70: =IF(C70="⑤園内における研修を企画・実施する幼稚園又は認定こども園","〇","") | M70: 専門リーダー | N70: 15
A71: 合計 | G71: =SUMIF(G11:G70,"〇",I11:I70) -> 0 | H71: =IF(SUMIF(C11:C70,"⑤園内における研修を企画・実施する幼稚園又は認定こども園",I11:I70)>VLOOKUP(C6,M68:N83,2,FALSE),VLOOKUP(C6,M68:N83,2,FALSE),SUMIF(C11:C70,"⑤園内における研修を企画・実施する幼稚園又は認定こども園",I11:I70)) -> #N/A | I71: =IF(L71<0,SUM(I11:I70,L71),SUM(I11:I70)) -> #N/A | L71: =IF(SUMIF(C11:C70,"⑤園内における研修を企画・実施する幼稚園又は認定こども園",I11:I70)>VLOOKUP(C6,M68:N83,2,FALSE),VLOOKUP(C6,M68:N83,2,FALSE)-SUMIF(C11:C70,"⑤園内における研修を企画・実施する幼稚園又は認定こども園",I11:I70),"") -> #N/A | M71: 若手リーダー | N71: 4
B72: 【留意事項】 | M72: 若手リーダー | N72: 4
B73: (1) 研修ごとに１行で記載する。 | M73: なし_職員処遇改善費のみの対象者 | N73: 15
B74: (2) 「修了年月日」は、研修修了証の年月日又は研修を受講した年月日を記入する。 | M74: 園長で中核リーダーの研修 | N74: 15
B75: (3) 園内研修（幼稚園等）を対象としたい場合は、「園内研修実施状況」を添付すること。 | M75: 園長で専門リーダーの研修 | N75: 15
B76: (4) 一覧の内容を確認できる資料（幼稚園教諭免許状更新講習修了証明書（履修証明書）の写し等）を施設において保管すること。 | M76: 副園長で中核リーダーの研修 | N76: 15
B77: (5) 行が足りない場合は、No２～59の行を選択し、挿入すること。 | M77: 副園長で専門リーダーの研修 | N77: 15
B78: (6) 区分３及び職員処遇改善費の対象となる研修は「施設型給付費等に係る処遇改善等加算（区分３）に係る研修修了要件について」（令和７年９月16日付けこ成基202・７初幼教第４号 こども家庭庁成育局保育政策課長、こども家庭庁成育局成育基盤企画課長及び文部科学省初等中等教育局幼児教育課長連盟通知）の記載に基づくものとする。 | M78: 教頭で中核リーダーの研修 | N78: 15
B79: (7) 保育士等キャリアアップ研修は「保育士等キャリアアップ研修の実施について（平成29年４月１日厚生労働省雇用均等・児童家庭局保育課長通知）」の記載に基づくものが対象となる。 実施主体は「都道府県又は都道府県知事の指定した研修実施機関」とする。 | M79: 教頭で専門リーダーの研修 | N79: 15
M80: 主幹教諭で中核リーダーの研修 | N80: 15
M81: 主幹教諭で専門リーダーの研修 | N81: 15
M82: 主幹保育教諭で中核リーダーの研修 | N82: 15
M83: 主幹保育教諭で専門リーダーの研修 | N83: 15

Sheet ②名簿30
A1: 第５号様式の２ | D1: 令和 ８ 年度 研修受講履歴一覧集計表 （幼稚園・認定こども園）
H3: 所在区 | I3: =①集計表!H4 -> #N/A
H4: 施設・事業種別 | I4: =①集計表!H5 -> #N/A | L4: =IFERROR(LEFT(I4,FIND("（",I4)-1),I4)&C6 -> #N/A
H5: 施設・事業所番号 | I5: =①集計表!H6 -> 0
B6: 職位 | D6: ↓マネジメント分野の修了チェック↓ | H6: 施設・事業所名 | I6: =①集計表!H7 -> #N/A
B7: 氏名 | D7: =IF($C$6="","職位を選択してください",IF(ISNUMBER(SEARCH("中核リーダー",C6)),IF(SUMIF(G:G,"〇",I:I)>=15,"必修時間を満たしています","区分３（人数Ａ）対象者は、マネジメント分野（15時間）必修です。 入力してください。"),IF(ISNUMBER(SEARCH("専門リーダー",C6)),"必修ではありません。保育士等キャリアアップ研修のマネジメント分野は、令和４年３月31日までの修了分まで算定可。",IF(ISNUMBER(SEARCH("若手リーダー",C6)),"必修ではありません。保育士等キャリアアップ研修のマネジメント分野は、令和２年３月31日までの修了分まで算定可。","必修ではありません。")))) -> 職位を選択してください | H7: 代表者職・氏名 | I7: =①集計表!H8 -> 0 | K7: =Z4 -> 0
A9: 区分３及び職員処遇改善費の対象と認められる研修のみ入力してください（下記(6)参照）。そのうち、キャリアアップ研修が対象か否かについては最下部(7)を参照のうえ、不明な場合は実施主体に必ず確認してください。
A10: No | B10: 各行最後に入力 修了年月日 (例:R2.6.1) ※研修種別～ 研修分野 を入力後に入力してください。 | C10: 実施主体等 | D10: 講義名・テーマ | E10: キャリアアップ研修 研修分野 ※施設情報・職位を入力後に選択してください | F10: 修了証番号 | G10: マネジメント分野に係る 研修の場合は〇 | H10: 園内研修 | I10: 修了時間数 | J10: 備考 | K10: 開始日 | L10: キャリアアップ研修 | M10: 42826
A11: 1 | H11: =IF(C11="⑤園内における研修を企画・実施する幼稚園又は認定こども園","〇","") | K11: 終了日 | L11: マネジメント (専門リーダー) | M11: 44651
A12: 2 | H12: =IF(C12="⑤園内における研修を企画・実施する幼稚園又は認定こども園","〇","") | L12: マネジメント (若手リーダー) | M12: 43921
A13: 3 | H13: =IF(C13="⑤園内における研修を企画・実施する幼稚園又は認定こども園","〇","") | L13: それ以外 の研修 | M13: 45747
A14: 4 | H14: =IF(C14="⑤園内における研修を企画・実施する幼稚園又は認定こども園","〇","")
A15: 5 | H15: =IF(C15="⑤園内における研修を企画・実施する幼稚園又は認定こども園","〇","")
A16: 6 | H16: =IF(C16="⑤園内における研修を企画・実施する幼稚園又は認定こども園","〇","")
A17: 7 | H17: =IF(C17="⑤園内における研修を企画・実施する幼稚園又は認定こども園","〇","")
A18: 8 | H18: =IF(C18="⑤園内における研修を企画・実施する幼稚園又は認定こども園","〇","")
A19: 9 | H19: =IF(C19="⑤園内における研修を企画・実施する幼稚園又は認定こども園","〇","")
A20: 10 | H20: =IF(C20="⑤園内における研修を企画・実施する幼稚園又は認定こども園","〇","")
A21: 11 | H21: =IF(C21="⑤園内における研修を企画・実施する幼稚園又は認定こども園","〇","")
A22: 12 | H22: =IF(C22="⑤園内における研修を企画・実施する幼稚園又は認定こども園","〇","")
A23: 13 | H23: =IF(C23="⑤園内における研修を企画・実施する幼稚園又は認定こども園","〇","")
A24: 14 | H24: =IF(C24="⑤園内における研修を企画・実施する幼稚園又は認定こども園","〇","")
A25: 15 | H25: =IF(C25="⑤園内における研修を企画・実施する幼稚園又は認定こども園","〇","")
... A67: 57 | H67: =IF(C67="⑤園内における研修を企画・実施する幼稚園又は認定こども園","〇","")
A68: 58 | H68: =IF(C68="⑤園内における研修を企画・実施する幼稚園又は認定こども園","〇","") | M68: 園内研修 | N68: 最大時間
A69: 59 | H69: =IF(C69="⑤園内における研修を企画・実施する幼稚園又は認定こども園","〇","") | M69: 中核リーダー | N69: 15
A70: 60 | H70: =IF(C70="⑤園内における研修を企画・実施する幼稚園又は認定こども園","〇","") | M70: 専門リーダー | N70: 15
A71: 合計 | G71: =SUMIF(G11:G70,"〇",I11:I70) -> 0 | H71: =IF(SUMIF(C11:C70,"⑤園内における研修を企画・実施する幼稚園又は認定こども園",I11:I70)>VLOOKUP(C6,M68:N83,2,FALSE),VLOOKUP(C6,M68:N83,2,FALSE),SUMIF(C11:C70,"⑤園内における研修を企画・実施する幼稚園又は認定こども園",I11:I70)) -> #N/A | I71: =IF(L71<0,SUM(I11:I70,L71),SUM(I11:I70)) -> #N/A | L71: =IF(SUMIF(C11:C70,"⑤園内における研修を企画・実施する幼稚園又は認定こども園",I11:I70)>VLOOKUP(C6,M68:N83,2,FALSE),VLOOKUP(C6,M68:N83,2,FALSE)-SUMIF(C11:C70,"⑤園内における研修を企画・実施する幼稚園又は認定こども園",I11:I70),"") -> #N/A | M71: 若手リーダー | N71: 4
B72: 【留意事項】 | M72: 若手リーダー | N72: 4
B73: (1) 研修ごとに１行で記載する。 | M73: なし_職員処遇改善費のみの対象者 | N73: 15
B74: (2) 「修了年月日」は、研修修了証の年月日又は研修を受講した年月日を記入する。 | M74: 園長で中核リーダーの研修 | N74: 15
B75: (3) 園内研修（幼稚園等）を対象としたい場合は、「園内研修実施状況」を添付すること。 | M75: 園長で専門リーダーの研修 | N75: 15
B76: (4) 一覧の内容を確認できる資料（幼稚園教諭免許状更新講習修了証明書（履修証明書）の写し等）を施設において保管すること。 | M76: 副園長で中核リーダーの研修 | N76: 15
B77: (5) 行が足りない場合は、No２～59の行を選択し、挿入すること。 | M77: 副園長で専門リーダーの研修 | N77: 15
B78: (6) 区分３及び職員処遇改善費の対象となる研修は「施設型給付費等に係る処遇改善等加算（区分３）に係る研修修了要件について」（令和７年９月16日付けこ成基202・７初幼教第４号 こども家庭庁成育局保育政策課長、こども家庭庁成育局成育基盤企画課長及び文部科学省初等中等教育局幼児教育課長連盟通知）の記載に基づくものとする。 | M78: 教頭で中核リーダーの研修 | N78: 15
B79: (7) 保育士等キャリアアップ研修は「保育士等キャリアアップ研修の実施について（平成29年４月１日厚生労働省雇用均等・児童家庭局保育課長通知）」の記載に基づくものが対象となる。 実施主体は「都道府県又は都道府県知事の指定した研修実施機関」とする。 | M79: 教頭で専門リーダーの研修 | N79: 15
M80: 主幹教諭で中核リーダーの研修 | N80: 15
M81: 主幹教諭で専門リーダーの研修 | N81: 15
M82: 主幹保育教諭で中核リーダーの研修 | N82: 15
M83: 主幹保育教諭で専門リーダーの研修 | N83: 15

Sheet ②名簿31
A1: 第５号様式の２ | D1: 令和 ８ 年度 研修受講履歴一覧集計表 （幼稚園・認定こども園）
H3: 所在区 | I3: =①集計表!H4 -> #N/A
H4: 施設・事業種別 | I4: =①集計表!H5 -> #N/A | L4: =IFERROR(LEFT(I4,FIND("（",I4)-1),I4)&C6 -> #N/A
H5: 施設・事業所番号 | I5: =①集計表!H6 -> 0
B6: 職位 | D6: ↓マネジメント分野の修了チェック↓ | H6: 施設・事業所名 | I6: =①集計表!H7 -> #N/A
B7: 氏名 | D7: =IF($C$6="","職位を選択してください",IF(ISNUMBER(SEARCH("中核リーダー",C6)),IF(SUMIF(G:G,"〇",I:I)>=15,"必修時間を満たしています","区分３（人数Ａ）対象者は、マネジメント分野（15時間）必修です。 入力してください。"),IF(ISNUMBER(SEARCH("専門リーダー",C6)),"必修ではありません。保育士等キャリアアップ研修のマネジメント分野は、令和４年３月31日までの修了分まで算定可。",IF(ISNUMBER(SEARCH("若手リーダー",C6)),"必修ではありません。保育士等キャリアアップ研修のマネジメント分野は、令和２年３月31日までの修了分まで算定可。","必修ではありません。")))) -> 職位を選択してください | H7: 代表者職・氏名 | I7: =①集計表!H8 -> 0 | K7: =Z4 -> 0
A9: 区分３及び職員処遇改善費の対象と認められる研修のみ入力してください（下記(6)参照）。そのうち、キャリアアップ研修が対象か否かについては最下部(7)を参照のうえ、不明な場合は実施主体に必ず確認してください。
A10: No | B10: 各行最後に入力 修了年月日 (例:R2.6.1) ※研修種別～ 研修分野 を入力後に入力してください。 | C10: 実施主体等 | D10: 講義名・テーマ | E10: キャリアアップ研修 研修分野 ※施設情報・職位を入力後に選択してください | F10: 修了証番号 | G10: マネジメント分野に係る 研修の場合は〇 | H10: 園内研修 | I10: 修了時間数 | J10: 備考 | K10: 開始日 | L10: キャリアアップ研修 | M10: 42826
A11: 1 | H11: =IF(C11="⑤園内における研修を企画・実施する幼稚園又は認定こども園","〇","") | K11: 終了日 | L11: マネジメント (専門リーダー) | M11: 44651
A12: 2 | H12: =IF(C12="⑤園内における研修を企画・実施する幼稚園又は認定こども園","〇","") | L12: マネジメント (若手リーダー) | M12: 43921
A13: 3 | H13: =IF(C13="⑤園内における研修を企画・実施する幼稚園又は認定こども園","〇","") | L13: それ以外 の研修 | M13: 45747
A14: 4 | H14: =IF(C14="⑤園内における研修を企画・実施する幼稚園又は認定こども園","〇","")
A15: 5 | H15: =IF(C15="⑤園内における研修を企画・実施する幼稚園又は認定こども園","〇","")
A16: 6 | H16: =IF(C16="⑤園内における研修を企画・実施する幼稚園又は認定こども園","〇","")
A17: 7 | H17: =IF(C17="⑤園内における研修を企画・実施する幼稚園又は認定こども園","〇","")
A18: 8 | H18: =IF(C18="⑤園内における研修を企画・実施する幼稚園又は認定こども園","〇","")
A19: 9 | H19: =IF(C19="⑤園内における研修を企画・実施する幼稚園又は認定こども園","〇","")
A20: 10 | H20: =IF(C20="⑤園内における研修を企画・実施する幼稚園又は認定こども園","〇","")
A21: 11 | H21: =IF(C21="⑤園内における研修を企画・実施する幼稚園又は認定こども園","〇","")
A22: 12 | H22: =IF(C22="⑤園内における研修を企画・実施する幼稚園又は認定こども園","〇","")
A23: 13 | H23: =IF(C23="⑤園内における研修を企画・実施する幼稚園又は認定こども園","〇","")
A24: 14 | H24: =IF(C24="⑤園内における研修を企画・実施する幼稚園又は認定こども園","〇","")
A25: 15 | H25: =IF(C25="⑤園内における研修を企画・実施する幼稚園又は認定こども園","〇","")
... A67: 57 | H67: =IF(C67="⑤園内における研修を企画・実施する幼稚園又は認定こども園","〇","")
A68: 58 | H68: =IF(C68="⑤園内における研修を企画・実施する幼稚園又は認定こども園","〇","") | M68: 園内研修 | N68: 最大時間
A69: 59 | H69: =IF(C69="⑤園内における研修を企画・実施する幼稚園又は認定こども園","〇","") | M69: 中核リーダー | N69: 15
A70: 60 | H70: =IF(C70="⑤園内における研修を企画・実施する幼稚園又は認定こども園","〇","") | M70: 専門リーダー | N70: 15
A71: 合計 | G71: =SUMIF(G11:G70,"〇",I11:I70) -> 0 | H71: =IF(SUMIF(C11:C70,"⑤園内における研修を企画・実施する幼稚園又は認定こども園",I11:I70)>VLOOKUP(C6,M68:N83,2,FALSE),VLOOKUP(C6,M68:N83,2,FALSE),SUMIF(C11:C70,"⑤園内における研修を企画・実施する幼稚園又は認定こども園",I11:I70)) -> #N/A | I71: =IF(L71<0,SUM(I11:I70,L71),SUM(I11:I70)) -> #N/A | L71: =IF(SUMIF(C11:C70,"⑤園内における研修を企画・実施する幼稚園又は認定こども園",I11:I70)>VLOOKUP(C6,M68:N83,2,FALSE),VLOOKUP(C6,M68:N83,2,FALSE)-SUMIF(C11:C70,"⑤園内における研修を企画・実施する幼稚園又は認定こども園",I11:I70),"") -> #N/A | M71: 若手リーダー | N71: 4
B72: 【留意事項】 | M72: 若手リーダー | N72: 4
B73: (1) 研修ごとに１行で記載する。 | M73: なし_職員処遇改善費のみの対象者 | N73: 15
B74: (2) 「修了年月日」は、研修修了証の年月日又は研修を受講した年月日を記入する。 | M74: 園長で中核リーダーの研修 | N74: 15
B75: (3) 園内研修（幼稚園等）を対象としたい場合は、「園内研修実施状況」を添付すること。 | M75: 園長で専門リーダーの研修 | N75: 15
B76: (4) 一覧の内容を確認できる資料（幼稚園教諭免許状更新講習修了証明書（履修証明書）の写し等）を施設において保管すること。 | M76: 副園長で中核リーダーの研修 | N76: 15
B77: (5) 行が足りない場合は、No２～59の行を選択し、挿入すること。 | M77: 副園長で専門リーダーの研修 | N77: 15
B78: (6) 区分３及び職員処遇改善費の対象となる研修は「施設型給付費等に係る処遇改善等加算（区分３）に係る研修修了要件について」（令和７年９月16日付けこ成基202・７初幼教第４号 こども家庭庁成育局保育政策課長、こども家庭庁成育局成育基盤企画課長及び文部科学省初等中等教育局幼児教育課長連盟通知）の記載に基づくものとする。 | M78: 教頭で中核リーダーの研修 | N78: 15
B79: (7) 保育士等キャリアアップ研修は「保育士等キャリアアップ研修の実施について（平成29年４月１日厚生労働省雇用均等・児童家庭局保育課長通知）」の記載に基づくものが対象となる。 実施主体は「都道府県又は都道府県知事の指定した研修実施機関」とする。 | M79: 教頭で専門リーダーの研修 | N79: 15
M80: 主幹教諭で中核リーダーの研修 | N80: 15
M81: 主幹教諭で専門リーダーの研修 | N81: 15
M82: 主幹保育教諭で中核リーダーの研修 | N82: 15
M83: 主幹保育教諭で専門リーダーの研修 | N83: 15

Sheet ②名簿32
A1: 第５号様式の２ | D1: 令和 ８ 年度 研修受講履歴一覧集計表 （幼稚園・認定こども園）
H3: 所在区 | I3: =①集計表!H4 -> #N/A
H4: 施設・事業種別 | I4: =①集計表!H5 -> #N/A | L4: =IFERROR(LEFT(I4,FIND("（",I4)-1),I4)&C6 -> #N/A
H5: 施設・事業所番号 | I5: =①集計表!H6 -> 0
B6: 職位 | D6: ↓マネジメント分野の修了チェック↓ | H6: 施設・事業所名 | I6: =①集計表!H7 -> #N/A
B7: 氏名 | D7: =IF($C$6="","職位を選択してください",IF(ISNUMBER(SEARCH("中核リーダー",C6)),IF(SUMIF(G:G,"〇",I:I)>=15,"必修時間を満たしています","区分３（人数Ａ）対象者は、マネジメント分野（15時間）必修です。 入力してください。"),IF(ISNUMBER(SEARCH("専門リーダー",C6)),"必修ではありません。保育士等キャリアアップ研修のマネジメント分野は、令和４年３月31日までの修了分まで算定可。",IF(ISNUMBER(SEARCH("若手リーダー",C6)),"必修ではありません。保育士等キャリアアップ研修のマネジメント分野は、令和２年３月31日までの修了分まで算定可。","必修ではありません。")))) -> 職位を選択してください | H7: 代表者職・氏名 | I7: =①集計表!H8 -> 0 | K7: =Z4 -> 0
A9: 区分３及び職員処遇改善費の対象と認められる研修のみ入力してください（下記(6)参照）。そのうち、キャリアアップ研修が対象か否かについては最下部(7)を参照のうえ、不明な場合は実施主体に必ず確認してください。
A10: No | B10: 各行最後に入力 修了年月日 (例:R2.6.1) ※研修種別～ 研修分野 を入力後に入力してください。 | C10: 実施主体等 | D10: 講義名・テーマ | E10: キャリアアップ研修 研修分野 ※施設情報・職位を入力後に選択してください | F10: 修了証番号 | G10: マネジメント分野に係る 研修の場合は〇 | H10: 園内研修 | I10: 修了時間数 | J10: 備考 | K10: 開始日 | L10: キャリアアップ研修 | M10: 42826
A11: 1 | H11: =IF(C11="⑤園内における研修を企画・実施する幼稚園又は認定こども園","〇","") | K11: 終了日 | L11: マネジメント (専門リーダー) | M11: 44651
A12: 2 | H12: =IF(C12="⑤園内における研修を企画・実施する幼稚園又は認定こども園","〇","") | L12: マネジメント (若手リーダー) | M12: 43921
A13: 3 | H13: =IF(C13="⑤園内における研修を企画・実施する幼稚園又は認定こども園","〇","") | L13: それ以外 の研修 | M13: 45747
A14: 4 | H14: =IF(C14="⑤園内における研修を企画・実施する幼稚園又は認定こども園","〇","")
A15: 5 | H15: =IF(C15="⑤園内における研修を企画・実施する幼稚園又は認定こども園","〇","")
A16: 6 | H16: =IF(C16="⑤園内における研修を企画・実施する幼稚園又は認定こども園","〇","")
A17: 7 | H17: =IF(C17="⑤園内における研修を企画・実施する幼稚園又は認定こども園","〇","")
A18: 8 | H18: =IF(C18="⑤園内における研修を企画・実施する幼稚園又は認定こども園","〇","")
A19: 9 | H19: =IF(C19="⑤園内における研修を企画・実施する幼稚園又は認定こども園","〇","")
A20: 10 | H20: =IF(C20="⑤園内における研修を企画・実施する幼稚園又は認定こども園","〇","")
A21: 11 | H21: =IF(C21="⑤園内における研修を企画・実施する幼稚園又は認定こども園","〇","")
A22: 12 | H22: =IF(C22="⑤園内における研修を企画・実施する幼稚園又は認定こども園","〇","")
A23: 13 | H23: =IF(C23="⑤園内における研修を企画・実施する幼稚園又は認定こども園","〇","")
A24: 14 | H24: =IF(C24="⑤園内における研修を企画・実施する幼稚園又は認定こども園","〇","")
A25: 15 | H25: =IF(C25="⑤園内における研修を企画・実施する幼稚園又は認定こども園","〇","")
... A67: 57 | H67: =IF(C67="⑤園内における研修を企画・実施する幼稚園又は認定こども園","〇","")
A68: 58 | H68: =IF(C68="⑤園内における研修を企画・実施する幼稚園又は認定こども園","〇","") | M68: 園内研修 | N68: 最大時間
A69: 59 | H69: =IF(C69="⑤園内における研修を企画・実施する幼稚園又は認定こども園","〇","") | M69: 中核リーダー | N69: 15
A70: 60 | H70: =IF(C70="⑤園内における研修を企画・実施する幼稚園又は認定こども園","〇","") | M70: 専門リーダー | N70: 15
A71: 合計 | G71: =SUMIF(G11:G70,"〇",I11:I70) -> 0 | H71: =IF(SUMIF(C11:C70,"⑤園内における研修を企画・実施する幼稚園又は認定こども園",I11:I70)>VLOOKUP(C6,M68:N83,2,FALSE),VLOOKUP(C6,M68:N83,2,FALSE),SUMIF(C11:C70,"⑤園内における研修を企画・実施する幼稚園又は認定こども園",I11:I70)) -> #N/A | I71: =IF(L71<0,SUM(I11:I70,L71),SUM(I11:I70)) -> #N/A | L71: =IF(SUMIF(C11:C70,"⑤園内における研修を企画・実施する幼稚園又は認定こども園",I11:I70)>VLOOKUP(C6,M68:N83,2,FALSE),VLOOKUP(C6,M68:N83,2,FALSE)-SUMIF(C11:C70,"⑤園内における研修を企画・実施する幼稚園又は認定こども園",I11:I70),"") -> #N/A | M71: 若手リーダー | N71: 4
B72: 【留意事項】 | M72: 若手リーダー | N72: 4
B73: (1) 研修ごとに１行で記載する。 | M73: なし_職員処遇改善費のみの対象者 | N73: 15
B74: (2) 「修了年月日」は、研修修了証の年月日又は研修を受講した年月日を記入する。 | M74: 園長で中核リーダーの研修 | N74: 15
B75: (3) 園内研修（幼稚園等）を対象としたい場合は、「園内研修実施状況」を添付すること。 | M75: 園長で専門リーダーの研修 | N75: 15
B76: (4) 一覧の内容を確認できる資料（幼稚園教諭免許状更新講習修了証明書（履修証明書）の写し等）を施設において保管すること。 | M76: 副園長で中核リーダーの研修 | N76: 15
B77: (5) 行が足りない場合は、No２～59の行を選択し、挿入すること。 | M77: 副園長で専門リーダーの研修 | N77: 15
B78: (6) 区分３及び職員処遇改善費の対象となる研修は「施設型給付費等に係る処遇改善等加算（区分３）に係る研修修了要件について」（令和７年９月16日付けこ成基202・７初幼教第４号 こども家庭庁成育局保育政策課長、こども家庭庁成育局成育基盤企画課長及び文部科学省初等中等教育局幼児教育課長連盟通知）の記載に基づくものとする。 | M78: 教頭で中核リーダーの研修 | N78: 15
B79: (7) 保育士等キャリアアップ研修は「保育士等キャリアアップ研修の実施について（平成29年４月１日厚生労働省雇用均等・児童家庭局保育課長通知）」の記載に基づくものが対象となる。 実施主体は「都道府県又は都道府県知事の指定した研修実施機関」とする。 | M79: 教頭で専門リーダーの研修 | N79: 15
M80: 主幹教諭で中核リーダーの研修 | N80: 15
M81: 主幹教諭で専門リーダーの研修 | N81: 15
M82: 主幹保育教諭で中核リーダーの研修 | N82: 15
M83: 主幹保育教諭で専門リーダーの研修 | N83: 15

Sheet ②名簿33
A1: 第５号様式の２ | D1: 令和 ８ 年度 研修受講履歴一覧集計表 （幼稚園・認定こども園）
H3: 所在区 | I3: =①集計表!H4 -> #N/A
H4: 施設・事業種別 | I4: =①集計表!H5 -> #N/A | L4: =IFERROR(LEFT(I4,FIND("（",I4)-1),I4)&C6 -> #N/A
H5: 施設・事業所番号 | I5: =①集計表!H6 -> 0
B6: 職位 | D6: ↓マネジメント分野の修了チェック↓ | H6: 施設・事業所名 | I6: =①集計表!H7 -> #N/A
B7: 氏名 | D7: =IF($C$6="","職位を選択してください",IF(ISNUMBER(SEARCH("中核リーダー",C6)),IF(SUMIF(G:G,"〇",I:I)>=15,"必修時間を満たしています","区分３（人数Ａ）対象者は、マネジメント分野（15時間）必修です。 入力してください。"),IF(ISNUMBER(SEARCH("専門リーダー",C6)),"必修ではありません。保育士等キャリアアップ研修のマネジメント分野は、令和４年３月31日までの修了分まで算定可。",IF(ISNUMBER(SEARCH("若手リーダー",C6)),"必修ではありません。保育士等キャリアアップ研修のマネジメント分野は、令和２年３月31日までの修了分まで算定可。","必修ではありません。")))) -> 職位を選択してください | H7: 代表者職・氏名 | I7: =①集計表!H8 -> 0 | K7: =Z4 -> 0
A9: 区分３及び職員処遇改善費の対象と認められる研修のみ入力してください（下記(6)参照）。そのうち、キャリアアップ研修が対象か否かについては最下部(7)を参照のうえ、不明な場合は実施主体に必ず確認してください。
A10: No | B10: 各行最後に入力 修了年月日 (例:R2.6.1) ※研修種別～ 研修分野 を入力後に入力してください。 | C10: 実施主体等 | D10: 講義名・テーマ | E10: キャリアアップ研修 研修分野 ※施設情報・職位を入力後に選択してください | F10: 修了証番号 | G10: マネジメント分野に係る 研修の場合は〇 | H10: 園内研修 | I10: 修了時間数 | J10: 備考 | K10: 開始日 | L10: キャリアアップ研修 | M10: 42826
A11: 1 | H11: =IF(C11="⑤園内における研修を企画・実施する幼稚園又は認定こども園","〇","") | K11: 終了日 | L11: マネジメント (専門リーダー) | M11: 44651
A12: 2 | H12: =IF(C12="⑤園内における研修を企画・実施する幼稚園又は認定こども園","〇","") | L12: マネジメント (若手リーダー) | M12: 43921
A13: 3 | H13: =IF(C13="⑤園内における研修を企画・実施する幼稚園又は認定こども園","〇","") | L13: それ以外 の研修 | M13: 45747
A14: 4 | H14: =IF(C14="⑤園内における研修を企画・実施する幼稚園又は認定こども園","〇","")
A15: 5 | H15: =IF(C15="⑤園内における研修を企画・実施する幼稚園又は認定こども園","〇","")
A16: 6 | H16: =IF(C16="⑤園内における研修を企画・実施する幼稚園又は認定こども園","〇","")
A17: 7 | H17: =IF(C17="⑤園内における研修を企画・実施する幼稚園又は認定こども園","〇","")
A18: 8 | H18: =IF(C18="⑤園内における研修を企画・実施する幼稚園又は認定こども園","〇","")
A19: 9 | H19: =IF(C19="⑤園内における研修を企画・実施する幼稚園又は認定こども園","〇","")
A20: 10 | H20: =IF(C20="⑤園内における研修を企画・実施する幼稚園又は認定こども園","〇","")
A21: 11 | H21: =IF(C21="⑤園内における研修を企画・実施する幼稚園又は認定こども園","〇","")
A22: 12 | H22: =IF(C22="⑤園内における研修を企画・実施する幼稚園又は認定こども園","〇","")
A23: 13 | H23: =IF(C23="⑤園内における研修を企画・実施する幼稚園又は認定こども園","〇","")
A24: 14 | H24: =IF(C24="⑤園内における研修を企画・実施する幼稚園又は認定こども園","〇","")
A25: 15 | H25: =IF(C25="⑤園内における研修を企画・実施する幼稚園又は認定こども園","〇","")
... A67: 57 | H67: =IF(C67="⑤園内における研修を企画・実施する幼稚園又は認定こども園","〇","")
A68: 58 | H68: =IF(C68="⑤園内における研修を企画・実施する幼稚園又は認定こども園","〇","") | M68: 園内研修 | N68: 最大時間
A69: 59 | H69: =IF(C69="⑤園内における研修を企画・実施する幼稚園又は認定こども園","〇","") | M69: 中核リーダー | N69: 15
A70: 60 | H70: =IF(C70="⑤園内における研修を企画・実施する幼稚園又は認定こども園","〇","") | M70: 専門リーダー | N70: 15
A71: 合計 | G71: =SUMIF(G11:G70,"〇",I11:I70) -> 0 | H71: =IF(SUMIF(C11:C70,"⑤園内における研修を企画・実施する幼稚園又は認定こども園",I11:I70)>VLOOKUP(C6,M68:N83,2,FALSE),VLOOKUP(C6,M68:N83,2,FALSE),SUMIF(C11:C70,"⑤園内における研修を企画・実施する幼稚園又は認定こども園",I11:I70)) -> #N/A | I71: =IF(L71<0,SUM(I11:I70,L71),SUM(I11:I70)) -> #N/A | L71: =IF(SUMIF(C11:C70,"⑤園内における研修を企画・実施する幼稚園又は認定こども園",I11:I70)>VLOOKUP(C6,M68:N83,2,FALSE),VLOOKUP(C6,M68:N83,2,FALSE)-SUMIF(C11:C70,"⑤園内における研修を企画・実施する幼稚園又は認定こども園",I11:I70),"") -> #N/A | M71: 若手リーダー | N71: 4
B72: 【留意事項】 | M72: 若手リーダー | N72: 4
B73: (1) 研修ごとに１行で記載する。 | M73: なし_職員処遇改善費のみの対象者 | N73: 15
B74: (2) 「修了年月日」は、研修修了証の年月日又は研修を受講した年月日を記入する。 | M74: 園長で中核リーダーの研修 | N74: 15
B75: (3) 園内研修（幼稚園等）を対象としたい場合は、「園内研修実施状況」を添付すること。 | M75: 園長で専門リーダーの研修 | N75: 15
B76: (4) 一覧の内容を確認できる資料（幼稚園教諭免許状更新講習修了証明書（履修証明書）の写し等）を施設において保管すること。 | M76: 副園長で中核リーダーの研修 | N76: 15
B77: (5) 行が足りない場合は、No２～59の行を選択し、挿入すること。 | M77: 副園長で専門リーダーの研修 | N77: 15
B78: (6) 区分３及び職員処遇改善費の対象となる研修は「施設型給付費等に係る処遇改善等加算（区分３）に係る研修修了要件について」（令和７年９月16日付けこ成基202・７初幼教第４号 こども家庭庁成育局保育政策課長、こども家庭庁成育局成育基盤企画課長及び文部科学省初等中等教育局幼児教育課長連盟通知）の記載に基づくものとする。 | M78: 教頭で中核リーダーの研修 | N78: 15
B79: (7) 保育士等キャリアアップ研修は「保育士等キャリアアップ研修の実施について（平成29年４月１日厚生労働省雇用均等・児童家庭局保育課長通知）」の記載に基づくものが対象となる。 実施主体は「都道府県又は都道府県知事の指定した研修実施機関」とする。 | M79: 教頭で専門リーダーの研修 | N79: 15
M80: 主幹教諭で中核リーダーの研修 | N80: 15
M81: 主幹教諭で専門リーダーの研修 | N81: 15
M82: 主幹保育教諭で中核リーダーの研修 | N82: 15
M83: 主幹保育教諭で専門リーダーの研修 | N83: 15

Sheet ②名簿34
A1: 第５号様式の２ | D1: 令和 ８ 年度 研修受講履歴一覧集計表 （幼稚園・認定こども園）
H3: 所在区 | I3: =①集計表!H4 -> #N/A
H4: 施設・事業種別 | I4: =①集計表!H5 -> #N/A | L4: =IFERROR(LEFT(I4,FIND("（",I4)-1),I4)&C6 -> #N/A
H5: 施設・事業所番号 | I5: =①集計表!H6 -> 0
B6: 職位 | D6: ↓マネジメント分野の修了チェック↓ | H6: 施設・事業所名 | I6: =①集計表!H7 -> #N/A
B7: 氏名 | D7: =IF($C$6="","職位を選択してください",IF(ISNUMBER(SEARCH("中核リーダー",C6)),IF(SUMIF(G:G,"〇",I:I)>=15,"必修時間を満たしています","区分３（人数Ａ）対象者は、マネジメント分野（15時間）必修です。 入力してください。"),IF(ISNUMBER(SEARCH("専門リーダー",C6)),"必修ではありません。保育士等キャリアアップ研修のマネジメント分野は、令和４年３月31日までの修了分まで算定可。",IF(ISNUMBER(SEARCH("若手リーダー",C6)),"必修ではありません。保育士等キャリアアップ研修のマネジメント分野は、令和２年３月31日までの修了分まで算定可。","必修ではありません。")))) -> 職位を選択してください | H7: 代表者職・氏名 | I7: =①集計表!H8 -> 0 | K7: =Z4 -> 0
A9: 区分３及び職員処遇改善費の対象と認められる研修のみ入力してください（下記(6)参照）。そのうち、キャリアアップ研修が対象か否かについては最下部(7)を参照のうえ、不明な場合は実施主体に必ず確認してください。
A10: No | B10: 各行最後に入力 修了年月日 (例:R2.6.1) ※研修種別～ 研修分野 を入力後に入力してください。 | C10: 実施主体等 | D10: 講義名・テーマ | E10: キャリアアップ研修 研修分野 ※施設情報・職位を入力後に選択してください | F10: 修了証番号 | G10: マネジメント分野に係る 研修の場合は〇 | H10: 園内研修 | I10: 修了時間数 | J10: 備考 | K10: 開始日 | L10: キャリアアップ研修 | M10: 42826
A11: 1 | H11: =IF(C11="⑤園内における研修を企画・実施する幼稚園又は認定こども園","〇","") | K11: 終了日 | L11: マネジメント (専門リーダー) | M11: 44651
A12: 2 | H12: =IF(C12="⑤園内における研修を企画・実施する幼稚園又は認定こども園","〇","") | L12: マネジメント (若手リーダー) | M12: 43921
A13: 3 | H13: =IF(C13="⑤園内における研修を企画・実施する幼稚園又は認定こども園","〇","") | L13: それ以外 の研修 | M13: 45747
A14: 4 | H14: =IF(C14="⑤園内における研修を企画・実施する幼稚園又は認定こども園","〇","")
A15: 5 | H15: =IF(C15="⑤園内における研修を企画・実施する幼稚園又は認定こども園","〇","")
A16: 6 | H16: =IF(C16="⑤園内における研修を企画・実施する幼稚園又は認定こども園","〇","")
A17: 7 | H17: =IF(C17="⑤園内における研修を企画・実施する幼稚園又は認定こども園","〇","")
A18: 8 | H18: =IF(C18="⑤園内における研修を企画・実施する幼稚園又は認定こども園","〇","")
A19: 9 | H19: =IF(C19="⑤園内における研修を企画・実施する幼稚園又は認定こども園","〇","")
A20: 10 | H20: =IF(C20="⑤園内における研修を企画・実施する幼稚園又は認定こども園","〇","")
A21: 11 | H21: =IF(C21="⑤園内における研修を企画・実施する幼稚園又は認定こども園","〇","")
A22: 12 | H22: =IF(C22="⑤園内における研修を企画・実施する幼稚園又は認定こども園","〇","")
A23: 13 | H23: =IF(C23="⑤園内における研修を企画・実施する幼稚園又は認定こども園","〇","")
A24: 14 | H24: =IF(C24="⑤園内における研修を企画・実施する幼稚園又は認定こども園","〇","")
A25: 15 | H25: =IF(C25="⑤園内における研修を企画・実施する幼稚園又は認定こども園","〇","")
... A67: 57 | H67: =IF(C67="⑤園内における研修を企画・実施する幼稚園又は認定こども園","〇","")
A68: 58 | H68: =IF(C68="⑤園内における研修を企画・実施する幼稚園又は認定こども園","〇","") | M68: 園内研修 | N68: 最大時間
A69: 59 | H69: =IF(C69="⑤園内における研修を企画・実施する幼稚園又は認定こども園","〇","") | M69: 中核リーダー | N69: 15
A70: 60 | H70: =IF(C70="⑤園内における研修を企画・実施する幼稚園又は認定こども園","〇","") | M70: 専門リーダー | N70: 15
A71: 合計 | G71: =SUMIF(G11:G70,"〇",I11:I70) -> 0 | H71: =IF(SUMIF(C11:C70,"⑤園内における研修を企画・実施する幼稚園又は認定こども園",I11:I70)>VLOOKUP(C6,M68:N83,2,FALSE),VLOOKUP(C6,M68:N83,2,FALSE),SUMIF(C11:C70,"⑤園内における研修を企画・実施する幼稚園又は認定こども園",I11:I70)) -> #N/A | I71: =IF(L71<0,SUM(I11:I70,L71),SUM(I11:I70)) -> #N/A | L71: =IF(SUMIF(C11:C70,"⑤園内における研修を企画・実施する幼稚園又は認定こども園",I11:I70)>VLOOKUP(C6,M68:N83,2,FALSE),VLOOKUP(C6,M68:N83,2,FALSE)-SUMIF(C11:C70,"⑤園内における研修を企画・実施する幼稚園又は認定こども園",I11:I70),"") -> #N/A | M71: 若手リーダー | N71: 4
B72: 【留意事項】 | M72: 若手リーダー | N72: 4
B73: (1) 研修ごとに１行で記載する。 | M73: なし_職員処遇改善費のみの対象者 | N73: 15
B74: (2) 「修了年月日」は、研修修了証の年月日又は研修を受講した年月日を記入する。 | M74: 園長で中核リーダーの研修 | N74: 15
B75: (3) 園内研修（幼稚園等）を対象としたい場合は、「園内研修実施状況」を添付すること。 | M75: 園長で専門リーダーの研修 | N75: 15
B76: (4) 一覧の内容を確認できる資料（幼稚園教諭免許状更新講習修了証明書（履修証明書）の写し等）を施設において保管すること。 | M76: 副園長で中核リーダーの研修 | N76: 15
B77: (5) 行が足りない場合は、No２～59の行を選択し、挿入すること。 | M77: 副園長で専門リーダーの研修 | N77: 15
B78: (6) 区分３及び職員処遇改善費の対象となる研修は「施設型給付費等に係る処遇改善等加算（区分３）に係る研修修了要件について」（令和７年９月16日付けこ成基202・７初幼教第４号 こども家庭庁成育局保育政策課長、こども家庭庁成育局成育基盤企画課長及び文部科学省初等中等教育局幼児教育課長連盟通知）の記載に基づくものとする。 | M78: 教頭で中核リーダーの研修 | N78: 15
B79: (7) 保育士等キャリアアップ研修は「保育士等キャリアアップ研修の実施について（平成29年４月１日厚生労働省雇用均等・児童家庭局保育課長通知）」の記載に基づくものが対象となる。 実施主体は「都道府県又は都道府県知事の指定した研修実施機関」とする。 | M79: 教頭で専門リーダーの研修 | N79: 15
M80: 主幹教諭で中核リーダーの研修 | N80: 15
M81: 主幹教諭で専門リーダーの研修 | N81: 15
M82: 主幹保育教諭で中核リーダーの研修 | N82: 15
M83: 主幹保育教諭で専門リーダーの研修 | N83: 15

Sheet ②名簿35
A1: 第５号様式の２ | D1: 令和 ８ 年度 研修受講履歴一覧集計表 （幼稚園・認定こども園）
H3: 所在区 | I3: =①集計表!H4 -> #N/A
H4: 施設・事業種別 | I4: =①集計表!H5 -> #N/A | L4: =IFERROR(LEFT(I4,FIND("（",I4)-1),I4)&C6 -> #N/A
H5: 施設・事業所番号 | I5: =①集計表!H6 -> 0
B6: 職位 | D6: ↓マネジメント分野の修了チェック↓ | H6: 施設・事業所名 | I6: =①集計表!H7 -> #N/A
B7: 氏名 | D7: =IF($C$6="","職位を選択してください",IF(ISNUMBER(SEARCH("中核リーダー",C6)),IF(SUMIF(G:G,"〇",I:I)>=15,"必修時間を満たしています","区分３（人数Ａ）対象者は、マネジメント分野（15時間）必修です。 入力してください。"),IF(ISNUMBER(SEARCH("専門リーダー",C6)),"必修ではありません。保育士等キャリアアップ研修のマネジメント分野は、令和４年３月31日までの修了分まで算定可。",IF(ISNUMBER(SEARCH("若手リーダー",C6)),"必修ではありません。保育士等キャリアアップ研修のマネジメント分野は、令和２年３月31日までの修了分まで算定可。","必修ではありません。")))) -> 職位を選択してください | H7: 代表者職・氏名 | I7: =①集計表!H8 -> 0 | K7: =Z4 -> 0
A9: 区分３及び職員処遇改善費の対象と認められる研修のみ入力してください（下記(6)参照）。そのうち、キャリアアップ研修が対象か否かについては最下部(7)を参照のうえ、不明な場合は実施主体に必ず確認してください。
A10: No | B10: 各行最後に入力 修了年月日 (例:R2.6.1) ※研修種別～ 研修分野 を入力後に入力してください。 | C10: 実施主体等 | D10: 講義名・テーマ | E10: キャリアアップ研修 研修分野 ※施設情報・職位を入力後に選択してください | F10: 修了証番号 | G10: マネジメント分野に係る 研修の場合は〇 | H10: 園内研修 | I10: 修了時間数 | J10: 備考 | K10: 開始日 | L10: キャリアアップ研修 | M10: 42826
A11: 1 | H11: =IF(C11="⑤園内における研修を企画・実施する幼稚園又は認定こども園","〇","") | K11: 終了日 | L11: マネジメント (専門リーダー) | M11: 44651
A12: 2 | H12: =IF(C12="⑤園内における研修を企画・実施する幼稚園又は認定こども園","〇","") | L12: マネジメント (若手リーダー) | M12: 43921
A13: 3 | H13: =IF(C13="⑤園内における研修を企画・実施する幼稚園又は認定こども園","〇","") | L13: それ以外 の研修 | M13: 45747
A14: 4 | H14: =IF(C14="⑤園内における研修を企画・実施する幼稚園又は認定こども園","〇","")
A15: 5 | H15: =IF(C15="⑤園内における研修を企画・実施する幼稚園又は認定こども園","〇","")
A16: 6 | H16: =IF(C16="⑤園内における研修を企画・実施する幼稚園又は認定こども園","〇","")
A17: 7 | H17: =IF(C17="⑤園内における研修を企画・実施する幼稚園又は認定こども園","〇","")
A18: 8 | H18: =IF(C18="⑤園内における研修を企画・実施する幼稚園又は認定こども園","〇","")
A19: 9 | H19: =IF(C19="⑤園内における研修を企画・実施する幼稚園又は認定こども園","〇","")
A20: 10 | H20: =IF(C20="⑤園内における研修を企画・実施する幼稚園又は認定こども園","〇","")
A21: 11 | H21: =IF(C21="⑤園内における研修を企画・実施する幼稚園又は認定こども園","〇","")
A22: 12 | H22: =IF(C22="⑤園内における研修を企画・実施する幼稚園又は認定こども園","〇","")
A23: 13 | H23: =IF(C23="⑤園内における研修を企画・実施する幼稚園又は認定こども園","〇","")
A24: 14 | H24: =IF(C24="⑤園内における研修を企画・実施する幼稚園又は認定こども園","〇","")
A25: 15 | H25: =IF(C25="⑤園内における研修を企画・実施する幼稚園又は認定こども園","〇","")
... A67: 57 | H67: =IF(C67="⑤園内における研修を企画・実施する幼稚園又は認定こども園","〇","")
A68: 58 | H68: =IF(C68="⑤園内における研修を企画・実施する幼稚園又は認定こども園","〇","") | M68: 園内研修 | N68: 最大時間
A69: 59 | H69: =IF(C69="⑤園内における研修を企画・実施する幼稚園又は認定こども園","〇","") | M69: 中核リーダー | N69: 15
A70: 60 | H70: =IF(C70="⑤園内における研修を企画・実施する幼稚園又は認定こども園","〇","") | M70: 専門リーダー | N70: 15
A71: 合計 | G71: =SUMIF(G11:G70,"〇",I11:I70) -> 0 | H71: =IF(SUMIF(C11:C70,"⑤園内における研修を企画・実施する幼稚園又は認定こども園",I11:I70)>VLOOKUP(C6,M68:N83,2,FALSE),VLOOKUP(C6,M68:N83,2,FALSE),SUMIF(C11:C70,"⑤園内における研修を企画・実施する幼稚園又は認定こども園",I11:I70)) -> #N/A | I71: =IF(L71<0,SUM(I11:I70,L71),SUM(I11:I70)) -> #N/A | L71: =IF(SUMIF(C11:C70,"⑤園内における研修を企画・実施する幼稚園又は認定こども園",I11:I70)>VLOOKUP(C6,M68:N83,2,FALSE),VLOOKUP(C6,M68:N83,2,FALSE)-SUMIF(C11:C70,"⑤園内における研修を企画・実施する幼稚園又は認定こども園",I11:I70),"") -> #N/A | M71: 若手リーダー | N71: 4
B72: 【留意事項】 | M72: 若手リーダー | N72: 4
B73: (1) 研修ごとに１行で記載する。 | M73: なし_職員処遇改善費のみの対象者 | N73: 15
B74: (2) 「修了年月日」は、研修修了証の年月日又は研修を受講した年月日を記入する。 | M74: 園長で中核リーダーの研修 | N74: 15
B75: (3) 園内研修（幼稚園等）を対象としたい場合は、「園内研修実施状況」を添付すること。 | M75: 園長で専門リーダーの研修 | N75: 15
B76: (4) 一覧の内容を確認できる資料（幼稚園教諭免許状更新講習修了証明書（履修証明書）の写し等）を施設において保管すること。 | M76: 副園長で中核リーダーの研修 | N76: 15
B77: (5) 行が足りない場合は、No２～59の行を選択し、挿入すること。 | M77: 副園長で専門リーダーの研修 | N77: 15
B78: (6) 区分３及び職員処遇改善費の対象となる研修は「施設型給付費等に係る処遇改善等加算（区分３）に係る研修修了要件について」（令和７年９月16日付けこ成基202・７初幼教第４号 こども家庭庁成育局保育政策課長、こども家庭庁成育局成育基盤企画課長及び文部科学省初等中等教育局幼児教育課長連盟通知）の記載に基づくものとする。 | M78: 教頭で中核リーダーの研修 | N78: 15
B79: (7) 保育士等キャリアアップ研修は「保育士等キャリアアップ研修の実施について（平成29年４月１日厚生労働省雇用均等・児童家庭局保育課長通知）」の記載に基づくものが対象となる。 実施主体は「都道府県又は都道府県知事の指定した研修実施機関」とする。 | M79: 教頭で専門リーダーの研修 | N79: 15
M80: 主幹教諭で中核リーダーの研修 | N80: 15
M81: 主幹教諭で専門リーダーの研修 | N81: 15
M82: 主幹保育教諭で中核リーダーの研修 | N82: 15
M83: 主幹保育教諭で専門リーダーの研修 | N83: 15

Sheet ②名簿36
A1: 第５号様式の２ | D1: 令和 ８ 年度 研修受講履歴一覧集計表 （幼稚園・認定こども園）
H3: 所在区 | I3: =①集計表!H4 -> #N/A
H4: 施設・事業種別 | I4: =①集計表!H5 -> #N/A | L4: =IFERROR(LEFT(I4,FIND("（",I4)-1),I4)&C6 -> #N/A
H5: 施設・事業所番号 | I5: =①集計表!H6 -> 0
B6: 職位 | D6: ↓マネジメント分野の修了チェック↓ | H6: 施設・事業所名 | I6: =①集計表!H7 -> #N/A
B7: 氏名 | D7: =IF($C$6="","職位を選択してください",IF(ISNUMBER(SEARCH("中核リーダー",C6)),IF(SUMIF(G:G,"〇",I:I)>=15,"必修時間を満たしています","区分３（人数Ａ）対象者は、マネジメント分野（15時間）必修です。 入力してください。"),IF(ISNUMBER(SEARCH("専門リーダー",C6)),"必修ではありません。保育士等キャリアアップ研修のマネジメント分野は、令和４年３月31日までの修了分まで算定可。",IF(ISNUMBER(SEARCH("若手リーダー",C6)),"必修ではありません。保育士等キャリアアップ研修のマネジメント分野は、令和２年３月31日までの修了分まで算定可。","必修ではありません。")))) -> 職位を選択してください | H7: 代表者職・氏名 | I7: =①集計表!H8 -> 0 | K7: =Z4 -> 0
A9: 区分３及び職員処遇改善費の対象と認められる研修のみ入力してください（下記(6)参照）。そのうち、キャリアアップ研修が対象か否かについては最下部(7)を参照のうえ、不明な場合は実施主体に必ず確認してください。
A10: No | B10: 各行最後に入力 修了年月日 (例:R2.6.1) ※研修種別～ 研修分野 を入力後に入力してください。 | C10: 実施主体等 | D10: 講義名・テーマ | E10: キャリアアップ研修 研修分野 ※施設情報・職位を入力後に選択してください | F10: 修了証番号 | G10: マネジメント分野に係る 研修の場合は〇 | H10: 園内研修 | I10: 修了時間数 | J10: 備考 | K10: 開始日 | L10: キャリアアップ研修 | M10: 42826
A11: 1 | H11: =IF(C11="⑤園内における研修を企画・実施する幼稚園又は認定こども園","〇","") | K11: 終了日 | L11: マネジメント (専門リーダー) | M11: 44651
A12: 2 | H12: =IF(C12="⑤園内における研修を企画・実施する幼稚園又は認定こども園","〇","") | L12: マネジメント (若手リーダー) | M12: 43921
A13: 3 | H13: =IF(C13="⑤園内における研修を企画・実施する幼稚園又は認定こども園","〇","") | L13: それ以外 の研修 | M13: 45747
A14: 4 | H14: =IF(C14="⑤園内における研修を企画・実施する幼稚園又は認定こども園","〇","")
A15: 5 | H15: =IF(C15="⑤園内における研修を企画・実施する幼稚園又は認定こども園","〇","")
A16: 6 | H16: =IF(C16="⑤園内における研修を企画・実施する幼稚園又は認定こども園","〇","")
A17: 7 | H17: =IF(C17="⑤園内における研修を企画・実施する幼稚園又は認定こども園","〇","")
A18: 8 | H18: =IF(C18="⑤園内における研修を企画・実施する幼稚園又は認定こども園","〇","")
A19: 9 | H19: =IF(C19="⑤園内における研修を企画・実施する幼稚園又は認定こども園","〇","")
A20: 10 | H20: =IF(C20="⑤園内における研修を企画・実施する幼稚園又は認定こども園","〇","")
A21: 11 | H21: =IF(C21="⑤園内における研修を企画・実施する幼稚園又は認定こども園","〇","")
A22: 12 | H22: =IF(C22="⑤園内における研修を企画・実施する幼稚園又は認定こども園","〇","")
A23: 13 | H23: =IF(C23="⑤園内における研修を企画・実施する幼稚園又は認定こども園","〇","")
A24: 14 | H24: =IF(C24="⑤園内における研修を企画・実施する幼稚園又は認定こども園","〇","")
A25: 15 | H25: =IF(C25="⑤園内における研修を企画・実施する幼稚園又は認定こども園","〇","")
... A67: 57 | H67: =IF(C67="⑤園内における研修を企画・実施する幼稚園又は認定こども園","〇","")
A68: 58 | H68: =IF(C68="⑤園内における研修を企画・実施する幼稚園又は認定こども園","〇","") | M68: 園内研修 | N68: 最大時間
A69: 59 | H69: =IF(C69="⑤園内における研修を企画・実施する幼稚園又は認定こども園","〇","") | M69: 中核リーダー | N69: 15
A70: 60 | H70: =IF(C70="⑤園内における研修を企画・実施する幼稚園又は認定こども園","〇","") | M70: 専門リーダー | N70: 15
A71: 合計 | G71: =SUMIF(G11:G70,"〇",I11:I70) -> 0 | H71: =IF(SUMIF(C11:C70,"⑤園内における研修を企画・実施する幼稚園又は認定こども園",I11:I70)>VLOOKUP(C6,M68:N83,2,FALSE),VLOOKUP(C6,M68:N83,2,FALSE),SUMIF(C11:C70,"⑤園内における研修を企画・実施する幼稚園又は認定こども園",I11:I70)) -> #N/A | I71: =IF(L71<0,SUM(I11:I70,L71),SUM(I11:I70)) -> #N/A | L71: =IF(SUMIF(C11:C70,"⑤園内における研修を企画・実施する幼稚園又は認定こども園",I11:I70)>VLOOKUP(C6,M68:N83,2,FALSE),VLOOKUP(C6,M68:N83,2,FALSE)-SUMIF(C11:C70,"⑤園内における研修を企画・実施する幼稚園又は認定こども園",I11:I70),"") -> #N/A | M71: 若手リーダー | N71: 4
B72: 【留意事項】 | M72: 若手リーダー | N72: 4
B73: (1) 研修ごとに１行で記載する。 | M73: なし_職員処遇改善費のみの対象者 | N73: 15
B74: (2) 「修了年月日」は、研修修了証の年月日又は研修を受講した年月日を記入する。 | M74: 園長で中核リーダーの研修 | N74: 15
B75: (3) 園内研修（幼稚園等）を対象としたい場合は、「園内研修実施状況」を添付すること。 | M75: 園長で専門リーダーの研修 | N75: 15
B76: (4) 一覧の内容を確認できる資料（幼稚園教諭免許状更新講習修了証明書（履修証明書）の写し等）を施設において保管すること。 | M76: 副園長で中核リーダーの研修 | N76: 15
B77: (5) 行が足りない場合は、No２～59の行を選択し、挿入すること。 | M77: 副園長で専門リーダーの研修 | N77: 15
B78: (6) 区分３及び職員処遇改善費の対象となる研修は「施設型給付費等に係る処遇改善等加算（区分３）に係る研修修了要件について」（令和７年９月16日付けこ成基202・７初幼教第４号 こども家庭庁成育局保育政策課長、こども家庭庁成育局成育基盤企画課長及び文部科学省初等中等教育局幼児教育課長連盟通知）の記載に基づくものとする。 | M78: 教頭で中核リーダーの研修 | N78: 15
B79: (7) 保育士等キャリアアップ研修は「保育士等キャリアアップ研修の実施について（平成29年４月１日厚生労働省雇用均等・児童家庭局保育課長通知）」の記載に基づくものが対象となる。 実施主体は「都道府県又は都道府県知事の指定した研修実施機関」とする。 | M79: 教頭で専門リーダーの研修 | N79: 15
M80: 主幹教諭で中核リーダーの研修 | N80: 15
M81: 主幹教諭で専門リーダーの研修 | N81: 15
M82: 主幹保育教諭で中核リーダーの研修 | N82: 15
M83: 主幹保育教諭で専門リーダーの研修 | N83: 15

Sheet ②名簿37
A1: 第５号様式の２ | D1: 令和 ８ 年度 研修受講履歴一覧集計表 （幼稚園・認定こども園）
H3: 所在区 | I3: =①集計表!H4 -> #N/A
H4: 施設・事業種別 | I4: =①集計表!H5 -> #N/A | L4: =IFERROR(LEFT(I4,FIND("（",I4)-1),I4)&C6 -> #N/A
H5: 施設・事業所番号 | I5: =①集計表!H6 -> 0
B6: 職位 | D6: ↓マネジメント分野の修了チェック↓ | H6: 施設・事業所名 | I6: =①集計表!H7 -> #N/A
B7: 氏名 | D7: =IF($C$6="","職位を選択してください",IF(ISNUMBER(SEARCH("中核リーダー",C6)),IF(SUMIF(G:G,"〇",I:I)>=15,"必修時間を満たしています","区分３（人数Ａ）対象者は、マネジメント分野（15時間）必修です。 入力してください。"),IF(ISNUMBER(SEARCH("専門リーダー",C6)),"必修ではありません。保育士等キャリアアップ研修のマネジメント分野は、令和４年３月31日までの修了分まで算定可。",IF(ISNUMBER(SEARCH("若手リーダー",C6)),"必修ではありません。保育士等キャリアアップ研修のマネジメント分野は、令和２年３月31日までの修了分まで算定可。","必修ではありません。")))) -> 職位を選択してください | H7: 代表者職・氏名 | I7: =①集計表!H8 -> 0 | K7: =Z4 -> 0
A9: 区分３及び職員処遇改善費の対象と認められる研修のみ入力してください（下記(6)参照）。そのうち、キャリアアップ研修が対象か否かについては最下部(7)を参照のうえ、不明な場合は実施主体に必ず確認してください。
A10: No | B10: 各行最後に入力 修了年月日 (例:R2.6.1) ※研修種別～ 研修分野 を入力後に入力してください。 | C10: 実施主体等 | D10: 講義名・テーマ | E10: キャリアアップ研修 研修分野 ※施設情報・職位を入力後に選択してください | F10: 修了証番号 | G10: マネジメント分野に係る 研修の場合は〇 | H10: 園内研修 | I10: 修了時間数 | J10: 備考 | K10: 開始日 | L10: キャリアアップ研修 | M10: 42826
A11: 1 | H11: =IF(C11="⑤園内における研修を企画・実施する幼稚園又は認定こども園","〇","") | K11: 終了日 | L11: マネジメント (専門リーダー) | M11: 44651
A12: 2 | H12: =IF(C12="⑤園内における研修を企画・実施する幼稚園又は認定こども園","〇","") | L12: マネジメント (若手リーダー) | M12: 43921
A13: 3 | H13: =IF(C13="⑤園内における研修を企画・実施する幼稚園又は認定こども園","〇","") | L13: それ以外 の研修 | M13: 45747
A14: 4 | H14: =IF(C14="⑤園内における研修を企画・実施する幼稚園又は認定こども園","〇","")
A15: 5 | H15: =IF(C15="⑤園内における研修を企画・実施する幼稚園又は認定こども園","〇","")
A16: 6 | H16: =IF(C16="⑤園内における研修を企画・実施する幼稚園又は認定こども園","〇","")
A17: 7 | H17: =IF(C17="⑤園内における研修を企画・実施する幼稚園又は認定こども園","〇","")
A18: 8 | H18: =IF(C18="⑤園内における研修を企画・実施する幼稚園又は認定こども園","〇","")
A19: 9 | H19: =IF(C19="⑤園内における研修を企画・実施する幼稚園又は認定こども園","〇","")
A20: 10 | H20: =IF(C20="⑤園内における研修を企画・実施する幼稚園又は認定こども園","〇","")
A21: 11 | H21: =IF(C21="⑤園内における研修を企画・実施する幼稚園又は認定こども園","〇","")
A22: 12 | H22: =IF(C22="⑤園内における研修を企画・実施する幼稚園又は認定こども園","〇","")
A23: 13 | H23: =IF(C23="⑤園内における研修を企画・実施する幼稚園又は認定こども園","〇","")
A24: 14 | H24: =IF(C24="⑤園内における研修を企画・実施する幼稚園又は認定こども園","〇","")
A25: 15 | H25: =IF(C25="⑤園内における研修を企画・実施する幼稚園又は認定こども園","〇","")
... A67: 57 | H67: =IF(C67="⑤園内における研修を企画・実施する幼稚園又は認定こども園","〇","")
A68: 58 | H68: =IF(C68="⑤園内における研修を企画・実施する幼稚園又は認定こども園","〇","") | M68: 園内研修 | N68: 最大時間
A69: 59 | H69: =IF(C69="⑤園内における研修を企画・実施する幼稚園又は認定こども園","〇","") | M69: 中核リーダー | N69: 15
A70: 60 | H70: =IF(C70="⑤園内における研修を企画・実施する幼稚園又は認定こども園","〇","") | M70: 専門リーダー | N70: 15
A71: 合計 | G71: =SUMIF(G11:G70,"〇",I11:I70) -> 0 | H71: =IF(SUMIF(C11:C70,"⑤園内における研修を企画・実施する幼稚園又は認定こども園",I11:I70)>VLOOKUP(C6,M68:N83,2,FALSE),VLOOKUP(C6,M68:N83,2,FALSE),SUMIF(C11:C70,"⑤園内における研修を企画・実施する幼稚園又は認定こども園",I11:I70)) -> #N/A | I71: =IF(L71<0,SUM(I11:I70,L71),SUM(I11:I70)) -> #N/A | L71: =IF(SUMIF(C11:C70,"⑤園内における研修を企画・実施する幼稚園又は認定こども園",I11:I70)>VLOOKUP(C6,M68:N83,2,FALSE),VLOOKUP(C6,M68:N83,2,FALSE)-SUMIF(C11:C70,"⑤園内における研修を企画・実施する幼稚園又は認定こども園",I11:I70),"") -> #N/A | M71: 若手リーダー | N71: 4
B72: 【留意事項】 | M72: 若手リーダー | N72: 4
B73: (1) 研修ごとに１行で記載する。 | M73: なし_職員処遇改善費のみの対象者 | N73: 15
B74: (2) 「修了年月日」は、研修修了証の年月日又は研修を受講した年月日を記入する。 | M74: 園長で中核リーダーの研修 | N74: 15
B75: (3) 園内研修（幼稚園等）を対象としたい場合は、「園内研修実施状況」を添付すること。 | M75: 園長で専門リーダーの研修 | N75: 15
B76: (4) 一覧の内容を確認できる資料（幼稚園教諭免許状更新講習修了証明書（履修証明書）の写し等）を施設において保管すること。 | M76: 副園長で中核リーダーの研修 | N76: 15
B77: (5) 行が足りない場合は、No２～59の行を選択し、挿入すること。 | M77: 副園長で専門リーダーの研修 | N77: 15
B78: (6) 区分３及び職員処遇改善費の対象となる研修は「施設型給付費等に係る処遇改善等加算（区分３）に係る研修修了要件について」（令和７年９月16日付けこ成基202・７初幼教第４号 こども家庭庁成育局保育政策課長、こども家庭庁成育局成育基盤企画課長及び文部科学省初等中等教育局幼児教育課長連盟通知）の記載に基づくものとする。 | M78: 教頭で中核リーダーの研修 | N78: 15
B79: (7) 保育士等キャリアアップ研修は「保育士等キャリアアップ研修の実施について（平成29年４月１日厚生労働省雇用均等・児童家庭局保育課長通知）」の記載に基づくものが対象となる。 実施主体は「都道府県又は都道府県知事の指定した研修実施機関」とする。 | M79: 教頭で専門リーダーの研修 | N79: 15
M80: 主幹教諭で中核リーダーの研修 | N80: 15
M81: 主幹教諭で専門リーダーの研修 | N81: 15
M82: 主幹保育教諭で中核リーダーの研修 | N82: 15
M83: 主幹保育教諭で専門リーダーの研修 | N83: 15

Sheet ②名簿38
A1: 第５号様式の２ | D1: 令和 ８ 年度 研修受講履歴一覧集計表 （幼稚園・認定こども園）
H3: 所在区 | I3: =①集計表!H4 -> #N/A
H4: 施設・事業種別 | I4: =①集計表!H5 -> #N/A | L4: =IFERROR(LEFT(I4,FIND("（",I4)-1),I4)&C6 -> #N/A
H5: 施設・事業所番号 | I5: =①集計表!H6 -> 0
B6: 職位 | D6: ↓マネジメント分野の修了チェック↓ | H6: 施設・事業所名 | I6: =①集計表!H7 -> #N/A
B7: 氏名 | D7: =IF($C$6="","職位を選択してください",IF(ISNUMBER(SEARCH("中核リーダー",C6)),IF(SUMIF(G:G,"〇",I:I)>=15,"必修時間を満たしています","区分３（人数Ａ）対象者は、マネジメント分野（15時間）必修です。 入力してください。"),IF(ISNUMBER(SEARCH("専門リーダー",C6)),"必修ではありません。保育士等キャリアアップ研修のマネジメント分野は、令和４年３月31日までの修了分まで算定可。",IF(ISNUMBER(SEARCH("若手リーダー",C6)),"必修ではありません。保育士等キャリアアップ研修のマネジメント分野は、令和２年３月31日までの修了分まで算定可。","必修ではありません。")))) -> 職位を選択してください | H7: 代表者職・氏名 | I7: =①集計表!H8 -> 0 | K7: =Z4 -> 0
A9: 区分３及び職員処遇改善費の対象と認められる研修のみ入力してください（下記(6)参照）。そのうち、キャリアアップ研修が対象か否かについては最下部(7)を参照のうえ、不明な場合は実施主体に必ず確認してください。
A10: No | B10: 各行最後に入力 修了年月日 (例:R2.6.1) ※研修種別～ 研修分野 を入力後に入力してください。 | C10: 実施主体等 | D10: 講義名・テーマ | E10: キャリアアップ研修 研修分野 ※施設情報・職位を入力後に選択してください | F10: 修了証番号 | G10: マネジメント分野に係る 研修の場合は〇 | H10: 園内研修 | I10: 修了時間数 | J10: 備考 | K10: 開始日 | L10: キャリアアップ研修 | M10: 42826
A11: 1 | H11: =IF(C11="⑤園内における研修を企画・実施する幼稚園又は認定こども園","〇","") | K11: 終了日 | L11: マネジメント (専門リーダー) | M11: 44651
A12: 2 | H12: =IF(C12="⑤園内における研修を企画・実施する幼稚園又は認定こども園","〇","") | L12: マネジメント (若手リーダー) | M12: 43921
A13: 3 | H13: =IF(C13="⑤園内における研修を企画・実施する幼稚園又は認定こども園","〇","") | L13: それ以外 の研修 | M13: 45747
A14: 4 | H14: =IF(C14="⑤園内における研修を企画・実施する幼稚園又は認定こども園","〇","")
A15: 5 | H15: =IF(C15="⑤園内における研修を企画・実施する幼稚園又は認定こども園","〇","")
A16: 6 | H16: =IF(C16="⑤園内における研修を企画・実施する幼稚園又は認定こども園","〇","")
A17: 7 | H17: =IF(C17="⑤園内における研修を企画・実施する幼稚園又は認定こども園","〇","")
A18: 8 | H18: =IF(C18="⑤園内における研修を企画・実施する幼稚園又は認定こども園","〇","")
A19: 9 | H19: =IF(C19="⑤園内における研修を企画・実施する幼稚園又は認定こども園","〇","")
A20: 10 | H20: =IF(C20="⑤園内における研修を企画・実施する幼稚園又は認定こども園","〇","")
A21: 11 | H21: =IF(C21="⑤園内における研修を企画・実施する幼稚園又は認定こども園","〇","")
A22: 12 | H22: =IF(C22="⑤園内における研修を企画・実施する幼稚園又は認定こども園","〇","")
A23: 13 | H23: =IF(C23="⑤園内における研修を企画・実施する幼稚園又は認定こども園","〇","")
A24: 14 | H24: =IF(C24="⑤園内における研修を企画・実施する幼稚園又は認定こども園","〇","")
A25: 15 | H25: =IF(C25="⑤園内における研修を企画・実施する幼稚園又は認定こども園","〇","")
... A67: 57 | H67: =IF(C67="⑤園内における研修を企画・実施する幼稚園又は認定こども園","〇","")
A68: 58 | H68: =IF(C68="⑤園内における研修を企画・実施する幼稚園又は認定こども園","〇","") | M68: 園内研修 | N68: 最大時間
A69: 59 | H69: =IF(C69="⑤園内における研修を企画・実施する幼稚園又は認定こども園","〇","") | M69: 中核リーダー | N69: 15
A70: 60 | H70: =IF(C70="⑤園内における研修を企画・実施する幼稚園又は認定こども園","〇","") | M70: 専門リーダー | N70: 15
A71: 合計 | G71: =SUMIF(G11:G70,"〇",I11:I70) -> 0 | H71: =IF(SUMIF(C11:C70,"⑤園内における研修を企画・実施する幼稚園又は認定こども園",I11:I70)>VLOOKUP(C6,M68:N83,2,FALSE),VLOOKUP(C6,M68:N83,2,FALSE),SUMIF(C11:C70,"⑤園内における研修を企画・実施する幼稚園又は認定こども園",I11:I70)) -> #N/A | I71: =IF(L71<0,SUM(I11:I70,L71),SUM(I11:I70)) -> #N/A | L71: =IF(SUMIF(C11:C70,"⑤園内における研修を企画・実施する幼稚園又は認定こども園",I11:I70)>VLOOKUP(C6,M68:N83,2,FALSE),VLOOKUP(C6,M68:N83,2,FALSE)-SUMIF(C11:C70,"⑤園内における研修を企画・実施する幼稚園又は認定こども園",I11:I70),"") -> #N/A | M71: 若手リーダー | N71: 4
B72: 【留意事項】 | M72: 若手リーダー | N72: 4
B73: (1) 研修ごとに１行で記載する。 | M73: なし_職員処遇改善費のみの対象者 | N73: 15
B74: (2) 「修了年月日」は、研修修了証の年月日又は研修を受講した年月日を記入する。 | M74: 園長で中核リーダーの研修 | N74: 15
B75: (3) 園内研修（幼稚園等）を対象としたい場合は、「園内研修実施状況」を添付すること。 | M75: 園長で専門リーダーの研修 | N75: 15
B76: (4) 一覧の内容を確認できる資料（幼稚園教諭免許状更新講習修了証明書（履修証明書）の写し等）を施設において保管すること。 | M76: 副園長で中核リーダーの研修 | N76: 15
B77: (5) 行が足りない場合は、No２～59の行を選択し、挿入すること。 | M77: 副園長で専門リーダーの研修 | N77: 15
B78: (6) 区分３及び職員処遇改善費の対象となる研修は「施設型給付費等に係る処遇改善等加算（区分３）に係る研修修了要件について」（令和７年９月16日付けこ成基202・７初幼教第４号 こども家庭庁成育局保育政策課長、こども家庭庁成育局成育基盤企画課長及び文部科学省初等中等教育局幼児教育課長連盟通知）の記載に基づくものとする。 | M78: 教頭で中核リーダーの研修 | N78: 15
B79: (7) 保育士等キャリアアップ研修は「保育士等キャリアアップ研修の実施について（平成29年４月１日厚生労働省雇用均等・児童家庭局保育課長通知）」の記載に基づくものが対象となる。 実施主体は「都道府県又は都道府県知事の指定した研修実施機関」とする。 | M79: 教頭で専門リーダーの研修 | N79: 15
M80: 主幹教諭で中核リーダーの研修 | N80: 15
M81: 主幹教諭で専門リーダーの研修 | N81: 15
M82: 主幹保育教諭で中核リーダーの研修 | N82: 15
M83: 主幹保育教諭で専門リーダーの研修 | N83: 15

Sheet ②名簿39
A1: 第５号様式の２ | D1: 令和 ８ 年度 研修受講履歴一覧集計表 （幼稚園・認定こども園）
H3: 所在区 | I3: =①集計表!H4 -> #N/A
H4: 施設・事業種別 | I4: =①集計表!H5 -> #N/A | L4: =IFERROR(LEFT(I4,FIND("（",I4)-1),I4)&C6 -> #N/A
H5: 施設・事業所番号 | I5: =①集計表!H6 -> 0
B6: 職位 | D6: ↓マネジメント分野の修了チェック↓ | H6: 施設・事業所名 | I6: =①集計表!H7 -> #N/A
B7: 氏名 | D7: =IF($C$6="","職位を選択してください",IF(ISNUMBER(SEARCH("中核リーダー",C6)),IF(SUMIF(G:G,"〇",I:I)>=15,"必修時間を満たしています","区分３（人数Ａ）対象者は、マネジメント分野（15時間）必修です。 入力してください。"),IF(ISNUMBER(SEARCH("専門リーダー",C6)),"必修ではありません。保育士等キャリアアップ研修のマネジメント分野は、令和４年３月31日までの修了分まで算定可。",IF(ISNUMBER(SEARCH("若手リーダー",C6)),"必修ではありません。保育士等キャリアアップ研修のマネジメント分野は、令和２年３月31日までの修了分まで算定可。","必修ではありません。")))) -> 職位を選択してください | H7: 代表者職・氏名 | I7: =①集計表!H8 -> 0 | K7: =Z4 -> 0
A9: 区分３及び職員処遇改善費の対象と認められる研修のみ入力してください（下記(6)参照）。そのうち、キャリアアップ研修が対象か否かについては最下部(7)を参照のうえ、不明な場合は実施主体に必ず確認してください。
A10: No | B10: 各行最後に入力 修了年月日 (例:R2.6.1) ※研修種別～ 研修分野 を入力後に入力してください。 | C10: 実施主体等 | D10: 講義名・テーマ | E10: キャリアアップ研修 研修分野 ※施設情報・職位を入力後に選択してください | F10: 修了証番号 | G10: マネジメント分野に係る 研修の場合は〇 | H10: 園内研修 | I10: 修了時間数 | J10: 備考 | K10: 開始日 | L10: キャリアアップ研修 | M10: 42826
A11: 1 | H11: =IF(C11="⑤園内における研修を企画・実施する幼稚園又は認定こども園","〇","") | K11: 終了日 | L11: マネジメント (専門リーダー) | M11: 44651
A12: 2 | H12: =IF(C12="⑤園内における研修を企画・実施する幼稚園又は認定こども園","〇","") | L12: マネジメント (若手リーダー) | M12: 43921
A13: 3 | H13: =IF(C13="⑤園内における研修を企画・実施する幼稚園又は認定こども園","〇","") | L13: それ以外 の研修 | M13: 45747
A14: 4 | H14: =IF(C14="⑤園内における研修を企画・実施する幼稚園又は認定こども園","〇","")
A15: 5 | H15: =IF(C15="⑤園内における研修を企画・実施する幼稚園又は認定こども園","〇","")
A16: 6 | H16: =IF(C16="⑤園内における研修を企画・実施する幼稚園又は認定こども園","〇","")
A17: 7 | H17: =IF(C17="⑤園内における研修を企画・実施する幼稚園又は認定こども園","〇","")
A18: 8 | H18: =IF(C18="⑤園内における研修を企画・実施する幼稚園又は認定こども園","〇","")
A19: 9 | H19: =IF(C19="⑤園内における研修を企画・実施する幼稚園又は認定こども園","〇","")
A20: 10 | H20: =IF(C20="⑤園内における研修を企画・実施する幼稚園又は認定こども園","〇","")
A21: 11 | H21: =IF(C21="⑤園内における研修を企画・実施する幼稚園又は認定こども園","〇","")
A22: 12 | H22: =IF(C22="⑤園内における研修を企画・実施する幼稚園又は認定こども園","〇","")
A23: 13 | H23: =IF(C23="⑤園内における研修を企画・実施する幼稚園又は認定こども園","〇","")
A24: 14 | H24: =IF(C24="⑤園内における研修を企画・実施する幼稚園又は認定こども園","〇","")
A25: 15 | H25: =IF(C25="⑤園内における研修を企画・実施する幼稚園又は認定こども園","〇","")
... A67: 57 | H67: =IF(C67="⑤園内における研修を企画・実施する幼稚園又は認定こども園","〇","")
A68: 58 | H68: =IF(C68="⑤園内における研修を企画・実施する幼稚園又は認定こども園","〇","") | M68: 園内研修 | N68: 最大時間
A69: 59 | H69: =IF(C69="⑤園内における研修を企画・実施する幼稚園又は認定こども園","〇","") | M69: 中核リーダー | N69: 15
A70: 60 | H70: =IF(C70="⑤園内における研修を企画・実施する幼稚園又は認定こども園","〇","") | M70: 専門リーダー | N70: 15
A71: 合計 | G71: =SUMIF(G11:G70,"〇",I11:I70) -> 0 | H71: =IF(SUMIF(C11:C70,"⑤園内における研修を企画・実施する幼稚園又は認定こども園",I11:I70)>VLOOKUP(C6,M68:N83,2,FALSE),VLOOKUP(C6,M68:N83,2,FALSE),SUMIF(C11:C70,"⑤園内における研修を企画・実施する幼稚園又は認定こども園",I11:I70)) -> #N/A | I71: =IF(L71<0,SUM(I11:I70,L71),SUM(I11:I70)) -> #N/A | L71: =IF(SUMIF(C11:C70,"⑤園内における研修を企画・実施する幼稚園又は認定こども園",I11:I70)>VLOOKUP(C6,M68:N83,2,FALSE),VLOOKUP(C6,M68:N83,2,FALSE)-SUMIF(C11:C70,"⑤園内における研修を企画・実施する幼稚園又は認定こども園",I11:I70),"") -> #N/A | M71: 若手リーダー | N71: 4
B72: 【留意事項】 | M72: 若手リーダー | N72: 4
B73: (1) 研修ごとに１行で記載する。 | M73: なし_職員処遇改善費のみの対象者 | N73: 15
B74: (2) 「修了年月日」は、研修修了証の年月日又は研修を受講した年月日を記入する。 | M74: 園長で中核リーダーの研修 | N74: 15
B75: (3) 園内研修（幼稚園等）を対象としたい場合は、「園内研修実施状況」を添付すること。 | M75: 園長で専門リーダーの研修 | N75: 15
B76: (4) 一覧の内容を確認できる資料（幼稚園教諭免許状更新講習修了証明書（履修証明書）の写し等）を施設において保管すること。 | M76: 副園長で中核リーダーの研修 | N76: 15
B77: (5) 行が足りない場合は、No２～59の行を選択し、挿入すること。 | M77: 副園長で専門リーダーの研修 | N77: 15
B78: (6) 区分３及び職員処遇改善費の対象となる研修は「施設型給付費等に係る処遇改善等加算（区分３）に係る研修修了要件について」（令和７年９月16日付けこ成基202・７初幼教第４号 こども家庭庁成育局保育政策課長、こども家庭庁成育局成育基盤企画課長及び文部科学省初等中等教育局幼児教育課長連盟通知）の記載に基づくものとする。 | M78: 教頭で中核リーダーの研修 | N78: 15
B79: (7) 保育士等キャリアアップ研修は「保育士等キャリアアップ研修の実施について（平成29年４月１日厚生労働省雇用均等・児童家庭局保育課長通知）」の記載に基づくものが対象となる。 実施主体は「都道府県又は都道府県知事の指定した研修実施機関」とする。 | M79: 教頭で専門リーダーの研修 | N79: 15
M80: 主幹教諭で中核リーダーの研修 | N80: 15
M81: 主幹教諭で専門リーダーの研修 | N81: 15
M82: 主幹保育教諭で中核リーダーの研修 | N82: 15
M83: 主幹保育教諭で専門リーダーの研修 | N83: 15

Sheet ②名簿40
A1: 第５号様式の２ | D1: 令和 ８ 年度 研修受講履歴一覧集計表 （幼稚園・認定こども園）
H3: 所在区 | I3: =①集計表!H4 -> #N/A
H4: 施設・事業種別 | I4: =①集計表!H5 -> #N/A | L4: =IFERROR(LEFT(I4,FIND("（",I4)-1),I4)&C6 -> #N/A
H5: 施設・事業所番号 | I5: =①集計表!H6 -> 0
B6: 職位 | D6: ↓マネジメント分野の修了チェック↓ | H6: 施設・事業所名 | I6: =①集計表!H7 -> #N/A
B7: 氏名 | D7: =IF($C$6="","職位を選択してください",IF(ISNUMBER(SEARCH("中核リーダー",C6)),IF(SUMIF(G:G,"〇",I:I)>=15,"必修時間を満たしています","区分３（人数Ａ）対象者は、マネジメント分野（15時間）必修です。 入力してください。"),IF(ISNUMBER(SEARCH("専門リーダー",C6)),"必修ではありません。保育士等キャリアアップ研修のマネジメント分野は、令和４年３月31日までの修了分まで算定可。",IF(ISNUMBER(SEARCH("若手リーダー",C6)),"必修ではありません。保育士等キャリアアップ研修のマネジメント分野は、令和２年３月31日までの修了分まで算定可。","必修ではありません。")))) -> 職位を選択してください | H7: 代表者職・氏名 | I7: =①集計表!H8 -> 0 | K7: =Z4 -> 0
A9: 区分３及び職員処遇改善費の対象と認められる研修のみ入力してください（下記(6)参照）。そのうち、キャリアアップ研修が対象か否かについては最下部(7)を参照のうえ、不明な場合は実施主体に必ず確認してください。
A10: No | B10: 各行最後に入力 修了年月日 (例:R2.6.1) ※研修種別～ 研修分野 を入力後に入力してください。 | C10: 実施主体等 | D10: 講義名・テーマ | E10: キャリアアップ研修 研修分野 ※施設情報・職位を入力後に選択してください | F10: 修了証番号 | G10: マネジメント分野に係る 研修の場合は〇 | H10: 園内研修 | I10: 修了時間数 | J10: 備考 | K10: 開始日 | L10: キャリアアップ研修 | M10: 42826
A11: 1 | H11: =IF(C11="⑤園内における研修を企画・実施する幼稚園又は認定こども園","〇","") | K11: 終了日 | L11: マネジメント (専門リーダー) | M11: 44651
A12: 2 | H12: =IF(C12="⑤園内における研修を企画・実施する幼稚園又は認定こども園","〇","") | L12: マネジメント (若手リーダー) | M12: 43921
A13: 3 | H13: =IF(C13="⑤園内における研修を企画・実施する幼稚園又は認定こども園","〇","") | L13: それ以外 の研修 | M13: 45747
A14: 4 | H14: =IF(C14="⑤園内における研修を企画・実施する幼稚園又は認定こども園","〇","")
A15: 5 | H15: =IF(C15="⑤園内における研修を企画・実施する幼稚園又は認定こども園","〇","")
A16: 6 | H16: =IF(C16="⑤園内における研修を企画・実施する幼稚園又は認定こども園","〇","")
A17: 7 | H17: =IF(C17="⑤園内における研修を企画・実施する幼稚園又は認定こども園","〇","")
A18: 8 | H18: =IF(C18="⑤園内における研修を企画・実施する幼稚園又は認定こども園","〇","")
A19: 9 | H19: =IF(C19="⑤園内における研修を企画・実施する幼稚園又は認定こども園","〇","")
A20: 10 | H20: =IF(C20="⑤園内における研修を企画・実施する幼稚園又は認定こども園","〇","")
A21: 11 | H21: =IF(C21="⑤園内における研修を企画・実施する幼稚園又は認定こども園","〇","")
A22: 12 | H22: =IF(C22="⑤園内における研修を企画・実施する幼稚園又は認定こども園","〇","")
A23: 13 | H23: =IF(C23="⑤園内における研修を企画・実施する幼稚園又は認定こども園","〇","")
A24: 14 | H24: =IF(C24="⑤園内における研修を企画・実施する幼稚園又は認定こども園","〇","")
A25: 15 | H25: =IF(C25="⑤園内における研修を企画・実施する幼稚園又は認定こども園","〇","")
... A67: 57 | H67: =IF(C67="⑤園内における研修を企画・実施する幼稚園又は認定こども園","〇","")
A68: 58 | H68: =IF(C68="⑤園内における研修を企画・実施する幼稚園又は認定こども園","〇","") | M68: 園内研修 | N68: 最大時間
A69: 59 | H69: =IF(C69="⑤園内における研修を企画・実施する幼稚園又は認定こども園","〇","") | M69: 中核リーダー | N69: 15
A70: 60 | H70: =IF(C70="⑤園内における研修を企画・実施する幼稚園又は認定こども園","〇","") | M70: 専門リーダー | N70: 15
A71: 合計 | G71: =SUMIF(G11:G70,"〇",I11:I70) -> 0 | H71: =IF(SUMIF(C11:C70,"⑤園内における研修を企画・実施する幼稚園又は認定こども園",I11:I70)>VLOOKUP(C6,M68:N83,2,FALSE),VLOOKUP(C6,M68:N83,2,FALSE),SUMIF(C11:C70,"⑤園内における研修を企画・実施する幼稚園又は認定こども園",I11:I70)) -> #N/A | I71: =IF(L71<0,SUM(I11:I70,L71),SUM(I11:I70)) -> #N/A | L71: =IF(SUMIF(C11:C70,"⑤園内における研修を企画・実施する幼稚園又は認定こども園",I11:I70)>VLOOKUP(C6,M68:N83,2,FALSE),VLOOKUP(C6,M68:N83,2,FALSE)-SUMIF(C11:C70,"⑤園内における研修を企画・実施する幼稚園又は認定こども園",I11:I70),"") -> #N/A | M71: 若手リーダー | N71: 4
B72: 【留意事項】 | M72: 若手リーダー | N72: 4
B73: (1) 研修ごとに１行で記載する。 | M73: なし_職員処遇改善費のみの対象者 | N73: 15
B74: (2) 「修了年月日」は、研修修了証の年月日又は研修を受講した年月日を記入する。 | M74: 園長で中核リーダーの研修 | N74: 15
B75: (3) 園内研修（幼稚園等）を対象としたい場合は、「園内研修実施状況」を添付すること。 | M75: 園長で専門リーダーの研修 | N75: 15
B76: (4) 一覧の内容を確認できる資料（幼稚園教諭免許状更新講習修了証明書（履修証明書）の写し等）を施設において保管すること。 | M76: 副園長で中核リーダーの研修 | N76: 15
B77: (5) 行が足りない場合は、No２～59の行を選択し、挿入すること。 | M77: 副園長で専門リーダーの研修 | N77: 15
B78: (6) 区分３及び職員処遇改善費の対象となる研修は「施設型給付費等に係る処遇改善等加算（区分３）に係る研修修了要件について」（令和７年９月16日付けこ成基202・７初幼教第４号 こども家庭庁成育局保育政策課長、こども家庭庁成育局成育基盤企画課長及び文部科学省初等中等教育局幼児教育課長連盟通知）の記載に基づくものとする。 | M78: 教頭で中核リーダーの研修 | N78: 15
B79: (7) 保育士等キャリアアップ研修は「保育士等キャリアアップ研修の実施について（平成29年４月１日厚生労働省雇用均等・児童家庭局保育課長通知）」の記載に基づくものが対象となる。 実施主体は「都道府県又は都道府県知事の指定した研修実施機関」とする。 | M79: 教頭で専門リーダーの研修 | N79: 15
M80: 主幹教諭で中核リーダーの研修 | N80: 15
M81: 主幹教諭で専門リーダーの研修 | N81: 15
M82: 主幹保育教諭で中核リーダーの研修 | N82: 15
M83: 主幹保育教諭で専門リーダーの研修 | N83: 15

Sheet ②名簿41
A1: 第５号様式の２ | D1: 令和 ８ 年度 研修受講履歴一覧集計表 （幼稚園・認定こども園）
H3: 所在区 | I3: =①集計表!H4 -> #N/A
H4: 施設・事業種別 | I4: =①集計表!H5 -> #N/A | L4: =IFERROR(LEFT(I4,FIND("（",I4)-1),I4)&C6 -> #N/A
H5: 施設・事業所番号 | I5: =①集計表!H6 -> 0
B6: 職位 | D6: ↓マネジメント分野の修了チェック↓ | H6: 施設・事業所名 | I6: =①集計表!H7 -> #N/A
B7: 氏名 | D7: =IF($C$6="","職位を選択してください",IF(ISNUMBER(SEARCH("中核リーダー",C6)),IF(SUMIF(G:G,"〇",I:I)>=15,"必修時間を満たしています","区分３（人数Ａ）対象者は、マネジメント分野（15時間）必修です。 入力してください。"),IF(ISNUMBER(SEARCH("専門リーダー",C6)),"必修ではありません。保育士等キャリアアップ研修のマネジメント分野は、令和４年３月31日までの修了分まで算定可。",IF(ISNUMBER(SEARCH("若手リーダー",C6)),"必修ではありません。保育士等キャリアアップ研修のマネジメント分野は、令和２年３月31日までの修了分まで算定可。","必修ではありません。")))) -> 職位を選択してください | H7: 代表者職・氏名 | I7: =①集計表!H8 -> 0 | K7: =Z4 -> 0
A9: 区分３及び職員処遇改善費の対象と認められる研修のみ入力してください（下記(6)参照）。そのうち、キャリアアップ研修が対象か否かについては最下部(7)を参照のうえ、不明な場合は実施主体に必ず確認してください。
A10: No | B10: 各行最後に入力 修了年月日 (例:R2.6.1) ※研修種別～ 研修分野 を入力後に入力してください。 | C10: 実施主体等 | D10: 講義名・テーマ | E10: キャリアアップ研修 研修分野 ※施設情報・職位を入力後に選択してください | F10: 修了証番号 | G10: マネジメント分野に係る 研修の場合は〇 | H10: 園内研修 | I10: 修了時間数 | J10: 備考 | K10: 開始日 | L10: キャリアアップ研修 | M10: 42826
A11: 1 | H11: =IF(C11="⑤園内における研修を企画・実施する幼稚園又は認定こども園","〇","") | K11: 終了日 | L11: マネジメント (専門リーダー) | M11: 44651
A12: 2 | H12: =IF(C12="⑤園内における研修を企画・実施する幼稚園又は認定こども園","〇","") | L12: マネジメント (若手リーダー) | M12: 43921
A13: 3 | H13: =IF(C13="⑤園内における研修を企画・実施する幼稚園又は認定こども園","〇","") | L13: それ以外 の研修 | M13: 45747
A14: 4 | H14: =IF(C14="⑤園内における研修を企画・実施する幼稚園又は認定こども園","〇","")
A15: 5 | H15: =IF(C15="⑤園内における研修を企画・実施する幼稚園又は認定こども園","〇","")
A16: 6 | H16: =IF(C16="⑤園内における研修を企画・実施する幼稚園又は認定こども園","〇","")
A17: 7 | H17: =IF(C17="⑤園内における研修を企画・実施する幼稚園又は認定こども園","〇","")
A18: 8 | H18: =IF(C18="⑤園内における研修を企画・実施する幼稚園又は認定こども園","〇","")
A19: 9 | H19: =IF(C19="⑤園内における研修を企画・実施する幼稚園又は認定こども園","〇","")
A20: 10 | H20: =IF(C20="⑤園内における研修を企画・実施する幼稚園又は認定こども園","〇","")
A21: 11 | H21: =IF(C21="⑤園内における研修を企画・実施する幼稚園又は認定こども園","〇","")
A22: 12 | H22: =IF(C22="⑤園内における研修を企画・実施する幼稚園又は認定こども園","〇","")
A23: 13 | H23: =IF(C23="⑤園内における研修を企画・実施する幼稚園又は認定こども園","〇","")
A24: 14 | H24: =IF(C24="⑤園内における研修を企画・実施する幼稚園又は認定こども園","〇","")
A25: 15 | H25: =IF(C25="⑤園内における研修を企画・実施する幼稚園又は認定こども園","〇","")
... A67: 57 | H67: =IF(C67="⑤園内における研修を企画・実施する幼稚園又は認定こども園","〇","")
A68: 58 | H68: =IF(C68="⑤園内における研修を企画・実施する幼稚園又は認定こども園","〇","") | M68: 園内研修 | N68: 最大時間
A69: 59 | H69: =IF(C69="⑤園内における研修を企画・実施する幼稚園又は認定こども園","〇","") | M69: 中核リーダー | N69: 15
A70: 60 | H70: =IF(C70="⑤園内における研修を企画・実施する幼稚園又は認定こども園","〇","") | M70: 専門リーダー | N70: 15
A71: 合計 | G71: =SUMIF(G11:G70,"〇",I11:I70) -> 0 | H71: =IF(SUMIF(C11:C70,"⑤園内における研修を企画・実施する幼稚園又は認定こども園",I11:I70)>VLOOKUP(C6,M68:N83,2,FALSE),VLOOKUP(C6,M68:N83,2,FALSE),SUMIF(C11:C70,"⑤園内における研修を企画・実施する幼稚園又は認定こども園",I11:I70)) -> #N/A | I71: =IF(L71<0,SUM(I11:I70,L71),SUM(I11:I70)) -> #N/A | L71: =IF(SUMIF(C11:C70,"⑤園内における研修を企画・実施する幼稚園又は認定こども園",I11:I70)>VLOOKUP(C6,M68:N83,2,FALSE),VLOOKUP(C6,M68:N83,2,FALSE)-SUMIF(C11:C70,"⑤園内における研修を企画・実施する幼稚園又は認定こども園",I11:I70),"") -> #N/A | M71: 若手リーダー | N71: 4
B72: 【留意事項】 | M72: 若手リーダー | N72: 4
B73: (1) 研修ごとに１行で記載する。 | M73: なし_職員処遇改善費のみの対象者 | N73: 15
B74: (2) 「修了年月日」は、研修修了証の年月日又は研修を受講した年月日を記入する。 | M74: 園長で中核リーダーの研修 | N74: 15
B75: (3) 園内研修（幼稚園等）を対象としたい場合は、「園内研修実施状況」を添付すること。 | M75: 園長で専門リーダーの研修 | N75: 15
B76: (4) 一覧の内容を確認できる資料（幼稚園教諭免許状更新講習修了証明書（履修証明書）の写し等）を施設において保管すること。 | M76: 副園長で中核リーダーの研修 | N76: 15
B77: (5) 行が足りない場合は、No２～59の行を選択し、挿入すること。 | M77: 副園長で専門リーダーの研修 | N77: 15
B78: (6) 区分３及び職員処遇改善費の対象となる研修は「施設型給付費等に係る処遇改善等加算（区分３）に係る研修修了要件について」（令和７年９月16日付けこ成基202・７初幼教第４号 こども家庭庁成育局保育政策課長、こども家庭庁成育局成育基盤企画課長及び文部科学省初等中等教育局幼児教育課長連盟通知）の記載に基づくものとする。 | M78: 教頭で中核リーダーの研修 | N78: 15
B79: (7) 保育士等キャリアアップ研修は「保育士等キャリアアップ研修の実施について（平成29年４月１日厚生労働省雇用均等・児童家庭局保育課長通知）」の記載に基づくものが対象となる。 実施主体は「都道府県又は都道府県知事の指定した研修実施機関」とする。 | M79: 教頭で専門リーダーの研修 | N79: 15
M80: 主幹教諭で中核リーダーの研修 | N80: 15
M81: 主幹教諭で専門リーダーの研修 | N81: 15
M82: 主幹保育教諭で中核リーダーの研修 | N82: 15
M83: 主幹保育教諭で専門リーダーの研修 | N83: 15

Sheet ②名簿42
A1: 第５号様式の２ | D1: 令和 ８ 年度 研修受講履歴一覧集計表 （幼稚園・認定こども園）
H3: 所在区 | I3: =①集計表!H4 -> #N/A
H4: 施設・事業種別 | I4: =①集計表!H5 -> #N/A | L4: =IFERROR(LEFT(I4,FIND("（",I4)-1),I4)&C6 -> #N/A
H5: 施設・事業所番号 | I5: =①集計表!H6 -> 0
B6: 職位 | D6: ↓マネジメント分野の修了チェック↓ | H6: 施設・事業所名 | I6: =①集計表!H7 -> #N/A
B7: 氏名 | D7: =IF($C$6="","職位を選択してください",IF(ISNUMBER(SEARCH("中核リーダー",C6)),IF(SUMIF(G:G,"〇",I:I)>=15,"必修時間を満たしています","区分３（人数Ａ）対象者は、マネジメント分野（15時間）必修です。 入力してください。"),IF(ISNUMBER(SEARCH("専門リーダー",C6)),"必修ではありません。保育士等キャリアアップ研修のマネジメント分野は、令和４年３月31日までの修了分まで算定可。",IF(ISNUMBER(SEARCH("若手リーダー",C6)),"必修ではありません。保育士等キャリアアップ研修のマネジメント分野は、令和２年３月31日までの修了分まで算定可。","必修ではありません。")))) -> 職位を選択してください | H7: 代表者職・氏名 | I7: =①集計表!H8 -> 0 | K7: =Z4 -> 0
A9: 区分３及び職員処遇改善費の対象と認められる研修のみ入力してください（下記(6)参照）。そのうち、キャリアアップ研修が対象か否かについては最下部(7)を参照のうえ、不明な場合は実施主体に必ず確認してください。
A10: No | B10: 各行最後に入力 修了年月日 (例:R2.6.1) ※研修種別～ 研修分野 を入力後に入力してください。 | C10: 実施主体等 | D10: 講義名・テーマ | E10: キャリアアップ研修 研修分野 ※施設情報・職位を入力後に選択してください | F10: 修了証番号 | G10: マネジメント分野に係る 研修の場合は〇 | H10: 園内研修 | I10: 修了時間数 | J10: 備考 | K10: 開始日 | L10: キャリアアップ研修 | M10: 42826
A11: 1 | H11: =IF(C11="⑤園内における研修を企画・実施する幼稚園又は認定こども園","〇","") | K11: 終了日 | L11: マネジメント (専門リーダー) | M11: 44651
A12: 2 | H12: =IF(C12="⑤園内における研修を企画・実施する幼稚園又は認定こども園","〇","") | L12: マネジメント (若手リーダー) | M12: 43921
A13: 3 | H13: =IF(C13="⑤園内における研修を企画・実施する幼稚園又は認定こども園","〇","") | L13: それ以外 の研修 | M13: 45747
A14: 4 | H14: =IF(C14="⑤園内における研修を企画・実施する幼稚園又は認定こども園","〇","")
A15: 5 | H15: =IF(C15="⑤園内における研修を企画・実施する幼稚園又は認定こども園","〇","")
A16: 6 | H16: =IF(C16="⑤園内における研修を企画・実施する幼稚園又は認定こども園","〇","")
A17: 7 | H17: =IF(C17="⑤園内における研修を企画・実施する幼稚園又は認定こども園","〇","")
A18: 8 | H18: =IF(C18="⑤園内における研修を企画・実施する幼稚園又は認定こども園","〇","")
A19: 9 | H19: =IF(C19="⑤園内における研修を企画・実施する幼稚園又は認定こども園","〇","")
A20: 10 | H20: =IF(C20="⑤園内における研修を企画・実施する幼稚園又は認定こども園","〇","")
A21: 11 | H21: =IF(C21="⑤園内における研修を企画・実施する幼稚園又は認定こども園","〇","")
A22: 12 | H22: =IF(C22="⑤園内における研修を企画・実施する幼稚園又は認定こども園","〇","")
A23: 13 | H23: =IF(C23="⑤園内における研修を企画・実施する幼稚園又は認定こども園","〇","")
A24: 14 | H24: =IF(C24="⑤園内における研修を企画・実施する幼稚園又は認定こども園","〇","")
A25: 15 | H25: =IF(C25="⑤園内における研修を企画・実施する幼稚園又は認定こども園","〇","")
... A67: 57 | H67: =IF(C67="⑤園内における研修を企画・実施する幼稚園又は認定こども園","〇","")
A68: 58 | H68: =IF(C68="⑤園内における研修を企画・実施する幼稚園又は認定こども園","〇","") | M68: 園内研修 | N68: 最大時間
A69: 59 | H69: =IF(C69="⑤園内における研修を企画・実施する幼稚園又は認定こども園","〇","") | M69: 中核リーダー | N69: 15
A70: 60 | H70: =IF(C70="⑤園内における研修を企画・実施する幼稚園又は認定こども園","〇","") | M70: 専門リーダー | N70: 15
A71: 合計 | G71: =SUMIF(G11:G70,"〇",I11:I70) -> 0 | H71: =IF(SUMIF(C11:C70,"⑤園内における研修を企画・実施する幼稚園又は認定こども園",I11:I70)>VLOOKUP(C6,M68:N83,2,FALSE),VLOOKUP(C6,M68:N83,2,FALSE),SUMIF(C11:C70,"⑤園内における研修を企画・実施する幼稚園又は認定こども園",I11:I70)) -> #N/A | I71: =IF(L71<0,SUM(I11:I70,L71),SUM(I11:I70)) -> #N/A | L71: =IF(SUMIF(C11:C70,"⑤園内における研修を企画・実施する幼稚園又は認定こども園",I11:I70)>VLOOKUP(C6,M68:N83,2,FALSE),VLOOKUP(C6,M68:N83,2,FALSE)-SUMIF(C11:C70,"⑤園内における研修を企画・実施する幼稚園又は認定こども園",I11:I70),"") -> #N/A | M71: 若手リーダー | N71: 4
B72: 【留意事項】 | M72: 若手リーダー | N72: 4
B73: (1) 研修ごとに１行で記載する。 | M73: なし_職員処遇改善費のみの対象者 | N73: 15
B74: (2) 「修了年月日」は、研修修了証の年月日又は研修を受講した年月日を記入する。 | M74: 園長で中核リーダーの研修 | N74: 15
B75: (3) 園内研修（幼稚園等）を対象としたい場合は、「園内研修実施状況」を添付すること。 | M75: 園長で専門リーダーの研修 | N75: 15
B76: (4) 一覧の内容を確認できる資料（幼稚園教諭免許状更新講習修了証明書（履修証明書）の写し等）を施設において保管すること。 | M76: 副園長で中核リーダーの研修 | N76: 15
B77: (5) 行が足りない場合は、No２～59の行を選択し、挿入すること。 | M77: 副園長で専門リーダーの研修 | N77: 15
B78: (6) 区分３及び職員処遇改善費の対象となる研修は「施設型給付費等に係る処遇改善等加算（区分３）に係る研修修了要件について」（令和７年９月16日付けこ成基202・７初幼教第４号 こども家庭庁成育局保育政策課長、こども家庭庁成育局成育基盤企画課長及び文部科学省初等中等教育局幼児教育課長連盟通知）の記載に基づくものとする。 | M78: 教頭で中核リーダーの研修 | N78: 15
B79: (7) 保育士等キャリアアップ研修は「保育士等キャリアアップ研修の実施について（平成29年４月１日厚生労働省雇用均等・児童家庭局保育課長通知）」の記載に基づくものが対象となる。 実施主体は「都道府県又は都道府県知事の指定した研修実施機関」とする。 | M79: 教頭で専門リーダーの研修 | N79: 15
M80: 主幹教諭で中核リーダーの研修 | N80: 15
M81: 主幹教諭で専門リーダーの研修 | N81: 15
M82: 主幹保育教諭で中核リーダーの研修 | N82: 15
M83: 主幹保育教諭で専門リーダーの研修 | N83: 15

Sheet ②名簿43
A1: 第５号様式の２ | D1: 令和 ８ 年度 研修受講履歴一覧集計表 （幼稚園・認定こども園）
H3: 所在区 | I3: =①集計表!H4 -> #N/A
H4: 施設・事業種別 | I4: =①集計表!H5 -> #N/A | L4: =IFERROR(LEFT(I4,FIND("（",I4)-1),I4)&C6 -> #N/A
H5: 施設・事業所番号 | I5: =①集計表!H6 -> 0
B6: 職位 | D6: ↓マネジメント分野の修了チェック↓ | H6: 施設・事業所名 | I6: =①集計表!H7 -> #N/A
B7: 氏名 | D7: =IF($C$6="","職位を選択してください",IF(ISNUMBER(SEARCH("中核リーダー",C6)),IF(SUMIF(G:G,"〇",I:I)>=15,"必修時間を満たしています","区分３（人数Ａ）対象者は、マネジメント分野（15時間）必修です。 入力してください。"),IF(ISNUMBER(SEARCH("専門リーダー",C6)),"必修ではありません。保育士等キャリアアップ研修のマネジメント分野は、令和４年３月31日までの修了分まで算定可。",IF(ISNUMBER(SEARCH("若手リーダー",C6)),"必修ではありません。保育士等キャリアアップ研修のマネジメント分野は、令和２年３月31日までの修了分まで算定可。","必修ではありません。")))) -> 職位を選択してください | H7: 代表者職・氏名 | I7: =①集計表!H8 -> 0 | K7: =Z4 -> 0
A9: 区分３及び職員処遇改善費の対象と認められる研修のみ入力してください（下記(6)参照）。そのうち、キャリアアップ研修が対象か否かについては最下部(7)を参照のうえ、不明な場合は実施主体に必ず確認してください。
A10: No | B10: 各行最後に入力 修了年月日 (例:R2.6.1) ※研修種別～ 研修分野 を入力後に入力してください。 | C10: 実施主体等 | D10: 講義名・テーマ | E10: キャリアアップ研修 研修分野 ※施設情報・職位を入力後に選択してください | F10: 修了証番号 | G10: マネジメント分野に係る 研修の場合は〇 | H10: 園内研修 | I10: 修了時間数 | J10: 備考 | K10: 開始日 | L10: キャリアアップ研修 | M10: 42826
A11: 1 | H11: =IF(C11="⑤園内における研修を企画・実施する幼稚園又は認定こども園","〇","") | K11: 終了日 | L11: マネジメント (専門リーダー) | M11: 44651
A12: 2 | H12: =IF(C12="⑤園内における研修を企画・実施する幼稚園又は認定こども園","〇","") | L12: マネジメント (若手リーダー) | M12: 43921
A13: 3 | H13: =IF(C13="⑤園内における研修を企画・実施する幼稚園又は認定こども園","〇","") | L13: それ以外 の研修 | M13: 45747
A14: 4 | H14: =IF(C14="⑤園内における研修を企画・実施する幼稚園又は認定こども園","〇","")
A15: 5 | H15: =IF(C15="⑤園内における研修を企画・実施する幼稚園又は認定こども園","〇","")
A16: 6 | H16: =IF(C16="⑤園内における研修を企画・実施する幼稚園又は認定こども園","〇","")
A17: 7 | H17: =IF(C17="⑤園内における研修を企画・実施する幼稚園又は認定こども園","〇","")
A18: 8 | H18: =IF(C18="⑤園内における研修を企画・実施する幼稚園又は認定こども園","〇","")
A19: 9 | H19: =IF(C19="⑤園内における研修を企画・実施する幼稚園又は認定こども園","〇","")
A20: 10 | H20: =IF(C20="⑤園内における研修を企画・実施する幼稚園又は認定こども園","〇","")
A21: 11 | H21: =IF(C21="⑤園内における研修を企画・実施する幼稚園又は認定こども園","〇","")
A22: 12 | H22: =IF(C22="⑤園内における研修を企画・実施する幼稚園又は認定こども園","〇","")
A23: 13 | H23: =IF(C23="⑤園内における研修を企画・実施する幼稚園又は認定こども園","〇","")
A24: 14 | H24: =IF(C24="⑤園内における研修を企画・実施する幼稚園又は認定こども園","〇","")
A25: 15 | H25: =IF(C25="⑤園内における研修を企画・実施する幼稚園又は認定こども園","〇","")
... A67: 57 | H67: =IF(C67="⑤園内における研修を企画・実施する幼稚園又は認定こども園","〇","")
A68: 58 | H68: =IF(C68="⑤園内における研修を企画・実施する幼稚園又は認定こども園","〇","") | M68: 園内研修 | N68: 最大時間
A69: 59 | H69: =IF(C69="⑤園内における研修を企画・実施する幼稚園又は認定こども園","〇","") | M69: 中核リーダー | N69: 15
A70: 60 | H70: =IF(C70="⑤園内における研修を企画・実施する幼稚園又は認定こども園","〇","") | M70: 専門リーダー | N70: 15
A71: 合計 | G71: =SUMIF(G11:G70,"〇",I11:I70) -> 0 | H71: =IF(SUMIF(C11:C70,"⑤園内における研修を企画・実施する幼稚園又は認定こども園",I11:I70)>VLOOKUP(C6,M68:N83,2,FALSE),VLOOKUP(C6,M68:N83,2,FALSE),SUMIF(C11:C70,"⑤園内における研修を企画・実施する幼稚園又は認定こども園",I11:I70)) -> #N/A | I71: =IF(L71<0,SUM(I11:I70,L71),SUM(I11:I70)) -> #N/A | L71: =IF(SUMIF(C11:C70,"⑤園内における研修を企画・実施する幼稚園又は認定こども園",I11:I70)>VLOOKUP(C6,M68:N83,2,FALSE),VLOOKUP(C6,M68:N83,2,FALSE)-SUMIF(C11:C70,"⑤園内における研修を企画・実施する幼稚園又は認定こども園",I11:I70),"") -> #N/A | M71: 若手リーダー | N71: 4
B72: 【留意事項】 | M72: 若手リーダー | N72: 4
B73: (1) 研修ごとに１行で記載する。 | M73: なし_職員処遇改善費のみの対象者 | N73: 15
B74: (2) 「修了年月日」は、研修修了証の年月日又は研修を受講した年月日を記入する。 | M74: 園長で中核リーダーの研修 | N74: 15
B75: (3) 園内研修（幼稚園等）を対象としたい場合は、「園内研修実施状況」を添付すること。 | M75: 園長で専門リーダーの研修 | N75: 15
B76: (4) 一覧の内容を確認できる資料（幼稚園教諭免許状更新講習修了証明書（履修証明書）の写し等）を施設において保管すること。 | M76: 副園長で中核リーダーの研修 | N76: 15
B77: (5) 行が足りない場合は、No２～59の行を選択し、挿入すること。 | M77: 副園長で専門リーダーの研修 | N77: 15
B78: (6) 区分３及び職員処遇改善費の対象となる研修は「施設型給付費等に係る処遇改善等加算（区分３）に係る研修修了要件について」（令和７年９月16日付けこ成基202・７初幼教第４号 こども家庭庁成育局保育政策課長、こども家庭庁成育局成育基盤企画課長及び文部科学省初等中等教育局幼児教育課長連盟通知）の記載に基づくものとする。 | M78: 教頭で中核リーダーの研修 | N78: 15
B79: (7) 保育士等キャリアアップ研修は「保育士等キャリアアップ研修の実施について（平成29年４月１日厚生労働省雇用均等・児童家庭局保育課長通知）」の記載に基づくものが対象となる。 実施主体は「都道府県又は都道府県知事の指定した研修実施機関」とする。 | M79: 教頭で専門リーダーの研修 | N79: 15
M80: 主幹教諭で中核リーダーの研修 | N80: 15
M81: 主幹教諭で専門リーダーの研修 | N81: 15
M82: 主幹保育教諭で中核リーダーの研修 | N82: 15
M83: 主幹保育教諭で専門リーダーの研修 | N83: 15

Sheet ②名簿44
A1: 第５号様式の２ | D1: 令和 ８ 年度 研修受講履歴一覧集計表 （幼稚園・認定こども園）
H3: 所在区 | I3: =①集計表!H4 -> #N/A
H4: 施設・事業種別 | I4: =①集計表!H5 -> #N/A | L4: =IFERROR(LEFT(I4,FIND("（",I4)-1),I4)&C6 -> #N/A
H5: 施設・事業所番号 | I5: =①集計表!H6 -> 0
B6: 職位 | D6: ↓マネジメント分野の修了チェック↓ | H6: 施設・事業所名 | I6: =①集計表!H7 -> #N/A
B7: 氏名 | D7: =IF($C$6="","職位を選択してください",IF(ISNUMBER(SEARCH("中核リーダー",C6)),IF(SUMIF(G:G,"〇",I:I)>=15,"必修時間を満たしています","区分３（人数Ａ）対象者は、マネジメント分野（15時間）必修です。 入力してください。"),IF(ISNUMBER(SEARCH("専門リーダー",C6)),"必修ではありません。保育士等キャリアアップ研修のマネジメント分野は、令和４年３月31日までの修了分まで算定可。",IF(ISNUMBER(SEARCH("若手リーダー",C6)),"必修ではありません。保育士等キャリアアップ研修のマネジメント分野は、令和２年３月31日までの修了分まで算定可。","必修ではありません。")))) -> 職位を選択してください | H7: 代表者職・氏名 | I7: =①集計表!H8 -> 0 | K7: =Z4 -> 0
A9: 区分３及び職員処遇改善費の対象と認められる研修のみ入力してください（下記(6)参照）。そのうち、キャリアアップ研修が対象か否かについては最下部(7)を参照のうえ、不明な場合は実施主体に必ず確認してください。
A10: No | B10: 各行最後に入力 修了年月日 (例:R2.6.1) ※研修種別～ 研修分野 を入力後に入力してください。 | C10: 実施主体等 | D10: 講義名・テーマ | E10: キャリアアップ研修 研修分野 ※施設情報・職位を入力後に選択してください | F10: 修了証番号 | G10: マネジメント分野に係る 研修の場合は〇 | H10: 園内研修 | I10: 修了時間数 | J10: 備考 | K10: 開始日 | L10: キャリアアップ研修 | M10: 42826
A11: 1 | H11: =IF(C11="⑤園内における研修を企画・実施する幼稚園又は認定こども園","〇","") | K11: 終了日 | L11: マネジメント (専門リーダー) | M11: 44651
A12: 2 | H12: =IF(C12="⑤園内における研修を企画・実施する幼稚園又は認定こども園","〇","") | L12: マネジメント (若手リーダー) | M12: 43921
A13: 3 | H13: =IF(C13="⑤園内における研修を企画・実施する幼稚園又は認定こども園","〇","") | L13: それ以外 の研修 | M13: 45747
A14: 4 | H14: =IF(C14="⑤園内における研修を企画・実施する幼稚園又は認定こども園","〇","")
A15: 5 | H15: =IF(C15="⑤園内における研修を企画・実施する幼稚園又は認定こども園","〇","")
A16: 6 | H16: =IF(C16="⑤園内における研修を企画・実施する幼稚園又は認定こども園","〇","")
A17: 7 | H17: =IF(C17="⑤園内における研修を企画・実施する幼稚園又は認定こども園","〇","")
A18: 8 | H18: =IF(C18="⑤園内における研修を企画・実施する幼稚園又は認定こども園","〇","")
A19: 9 | H19: =IF(C19="⑤園内における研修を企画・実施する幼稚園又は認定こども園","〇","")
A20: 10 | H20: =IF(C20="⑤園内における研修を企画・実施する幼稚園又は認定こども園","〇","")
A21: 11 | H21: =IF(C21="⑤園内における研修を企画・実施する幼稚園又は認定こども園","〇","")
A22: 12 | H22: =IF(C22="⑤園内における研修を企画・実施する幼稚園又は認定こども園","〇","")
A23: 13 | H23: =IF(C23="⑤園内における研修を企画・実施する幼稚園又は認定こども園","〇","")
A24: 14 | H24: =IF(C24="⑤園内における研修を企画・実施する幼稚園又は認定こども園","〇","")
A25: 15 | H25: =IF(C25="⑤園内における研修を企画・実施する幼稚園又は認定こども園","〇","")
... A67: 57 | H67: =IF(C67="⑤園内における研修を企画・実施する幼稚園又は認定こども園","〇","")
A68: 58 | H68: =IF(C68="⑤園内における研修を企画・実施する幼稚園又は認定こども園","〇","") | M68: 園内研修 | N68: 最大時間
A69: 59 | H69: =IF(C69="⑤園内における研修を企画・実施する幼稚園又は認定こども園","〇","") | M69: 中核リーダー | N69: 15
A70: 60 | H70: =IF(C70="⑤園内における研修を企画・実施する幼稚園又は認定こども園","〇","") | M70: 専門リーダー | N70: 15
A71: 合計 | G71: =SUMIF(G11:G70,"〇",I11:I70) -> 0 | H71: =IF(SUMIF(C11:C70,"⑤園内における研修を企画・実施する幼稚園又は認定こども園",I11:I70)>VLOOKUP(C6,M68:N83,2,FALSE),VLOOKUP(C6,M68:N83,2,FALSE),SUMIF(C11:C70,"⑤園内における研修を企画・実施する幼稚園又は認定こども園",I11:I70)) -> #N/A | I71: =IF(L71<0,SUM(I11:I70,L71),SUM(I11:I70)) -> #N/A | L71: =IF(SUMIF(C11:C70,"⑤園内における研修を企画・実施する幼稚園又は認定こども園",I11:I70)>VLOOKUP(C6,M68:N83,2,FALSE),VLOOKUP(C6,M68:N83,2,FALSE)-SUMIF(C11:C70,"⑤園内における研修を企画・実施する幼稚園又は認定こども園",I11:I70),"") -> #N/A | M71: 若手リーダー | N71: 4
B72: 【留意事項】 | M72: 若手リーダー | N72: 4
B73: (1) 研修ごとに１行で記載する。 | M73: なし_職員処遇改善費のみの対象者 | N73: 15
B74: (2) 「修了年月日」は、研修修了証の年月日又は研修を受講した年月日を記入する。 | M74: 園長で中核リーダーの研修 | N74: 15
B75: (3) 園内研修（幼稚園等）を対象としたい場合は、「園内研修実施状況」を添付すること。 | M75: 園長で専門リーダーの研修 | N75: 15
B76: (4) 一覧の内容を確認できる資料（幼稚園教諭免許状更新講習修了証明書（履修証明書）の写し等）を施設において保管すること。 | M76: 副園長で中核リーダーの研修 | N76: 15
B77: (5) 行が足りない場合は、No２～59の行を選択し、挿入すること。 | M77: 副園長で専門リーダーの研修 | N77: 15
B78: (6) 区分３及び職員処遇改善費の対象となる研修は「施設型給付費等に係る処遇改善等加算（区分３）に係る研修修了要件について」（令和７年９月16日付けこ成基202・７初幼教第４号 こども家庭庁成育局保育政策課長、こども家庭庁成育局成育基盤企画課長及び文部科学省初等中等教育局幼児教育課長連盟通知）の記載に基づくものとする。 | M78: 教頭で中核リーダーの研修 | N78: 15
B79: (7) 保育士等キャリアアップ研修は「保育士等キャリアアップ研修の実施について（平成29年４月１日厚生労働省雇用均等・児童家庭局保育課長通知）」の記載に基づくものが対象となる。 実施主体は「都道府県又は都道府県知事の指定した研修実施機関」とする。 | M79: 教頭で専門リーダーの研修 | N79: 15
M80: 主幹教諭で中核リーダーの研修 | N80: 15
M81: 主幹教諭で専門リーダーの研修 | N81: 15
M82: 主幹保育教諭で中核リーダーの研修 | N82: 15
M83: 主幹保育教諭で専門リーダーの研修 | N83: 15

Sheet ②名簿45
A1: 第５号様式の２ | D1: 令和 ８ 年度 研修受講履歴一覧集計表 （幼稚園・認定こども園）
H3: 所在区 | I3: =①集計表!H4 -> #N/A
H4: 施設・事業種別 | I4: =①集計表!H5 -> #N/A | L4: =IFERROR(LEFT(I4,FIND("（",I4)-1),I4)&C6 -> #N/A
H5: 施設・事業所番号 | I5: =①集計表!H6 -> 0
B6: 職位 | D6: ↓マネジメント分野の修了チェック↓ | H6: 施設・事業所名 | I6: =①集計表!H7 -> #N/A
B7: 氏名 | D7: =IF($C$6="","職位を選択してください",IF(ISNUMBER(SEARCH("中核リーダー",C6)),IF(SUMIF(G:G,"〇",I:I)>=15,"必修時間を満たしています","区分３（人数Ａ）対象者は、マネジメント分野（15時間）必修です。 入力してください。"),IF(ISNUMBER(SEARCH("専門リーダー",C6)),"必修ではありません。保育士等キャリアアップ研修のマネジメント分野は、令和４年３月31日までの修了分まで算定可。",IF(ISNUMBER(SEARCH("若手リーダー",C6)),"必修ではありません。保育士等キャリアアップ研修のマネジメント分野は、令和２年３月31日までの修了分まで算定可。","必修ではありません。")))) -> 職位を選択してください | H7: 代表者職・氏名 | I7: =①集計表!H8 -> 0 | K7: =Z4 -> 0
A9: 区分３及び職員処遇改善費の対象と認められる研修のみ入力してください（下記(6)参照）。そのうち、キャリアアップ研修が対象か否かについては最下部(7)を参照のうえ、不明な場合は実施主体に必ず確認してください。
A10: No | B10: 各行最後に入力 修了年月日 (例:R2.6.1) ※研修種別～ 研修分野 を入力後に入力してください。 | C10: 実施主体等 | D10: 講義名・テーマ | E10: キャリアアップ研修 研修分野 ※施設情報・職位を入力後に選択してください | F10: 修了証番号 | G10: マネジメント分野に係る 研修の場合は〇 | H10: 園内研修 | I10: 修了時間数 | J10: 備考 | K10: 開始日 | L10: キャリアアップ研修 | M10: 42826
A11: 1 | H11: =IF(C11="⑤園内における研修を企画・実施する幼稚園又は認定こども園","〇","") | K11: 終了日 | L11: マネジメント (専門リーダー) | M11: 44651
A12: 2 | H12: =IF(C12="⑤園内における研修を企画・実施する幼稚園又は認定こども園","〇","") | L12: マネジメント (若手リーダー) | M12: 43921
A13: 3 | H13: =IF(C13="⑤園内における研修を企画・実施する幼稚園又は認定こども園","〇","") | L13: それ以外 の研修 | M13: 45747
A14: 4 | H14: =IF(C14="⑤園内における研修を企画・実施する幼稚園又は認定こども園","〇","")
A15: 5 | H15: =IF(C15="⑤園内における研修を企画・実施する幼稚園又は認定こども園","〇","")
A16: 6 | H16: =IF(C16="⑤園内における研修を企画・実施する幼稚園又は認定こども園","〇","")
A17: 7 | H17: =IF(C17="⑤園内における研修を企画・実施する幼稚園又は認定こども園","〇","")
A18: 8 | H18: =IF(C18="⑤園内における研修を企画・実施する幼稚園又は認定こども園","〇","")
A19: 9 | H19: =IF(C19="⑤園内における研修を企画・実施する幼稚園又は認定こども園","〇","")
A20: 10 | H20: =IF(C20="⑤園内における研修を企画・実施する幼稚園又は認定こども園","〇","")
A21: 11 | H21: =IF(C21="⑤園内における研修を企画・実施する幼稚園又は認定こども園","〇","")
A22: 12 | H22: =IF(C22="⑤園内における研修を企画・実施する幼稚園又は認定こども園","〇","")
A23: 13 | H23: =IF(C23="⑤園内における研修を企画・実施する幼稚園又は認定こども園","〇","")
A24: 14 | H24: =IF(C24="⑤園内における研修を企画・実施する幼稚園又は認定こども園","〇","")
A25: 15 | H25: =IF(C25="⑤園内における研修を企画・実施する幼稚園又は認定こども園","〇","")
... A67: 57 | H67: =IF(C67="⑤園内における研修を企画・実施する幼稚園又は認定こども園","〇","")
A68: 58 | H68: =IF(C68="⑤園内における研修を企画・実施する幼稚園又は認定こども園","〇","") | M68: 園内研修 | N68: 最大時間
A69: 59 | H69: =IF(C69="⑤園内における研修を企画・実施する幼稚園又は認定こども園","〇","") | M69: 中核リーダー | N69: 15
A70: 60 | H70: =IF(C70="⑤園内における研修を企画・実施する幼稚園又は認定こども園","〇","") | M70: 専門リーダー | N70: 15
A71: 合計 | G71: =SUMIF(G11:G70,"〇",I11:I70) -> 0 | H71: =IF(SUMIF(C11:C70,"⑤園内における研修を企画・実施する幼稚園又は認定こども園",I11:I70)>VLOOKUP(C6,M68:N83,2,FALSE),VLOOKUP(C6,M68:N83,2,FALSE),SUMIF(C11:C70,"⑤園内における研修を企画・実施する幼稚園又は認定こども園",I11:I70)) -> #N/A | I71: =IF(L71<0,SUM(I11:I70,L71),SUM(I11:I70)) -> #N/A | L71: =IF(SUMIF(C11:C70,"⑤園内における研修を企画・実施する幼稚園又は認定こども園",I11:I70)>VLOOKUP(C6,M68:N83,2,FALSE),VLOOKUP(C6,M68:N83,2,FALSE)-SUMIF(C11:C70,"⑤園内における研修を企画・実施する幼稚園又は認定こども園",I11:I70),"") -> #N/A | M71: 若手リーダー | N71: 4
B72: 【留意事項】 | M72: 若手リーダー | N72: 4
B73: (1) 研修ごとに１行で記載する。 | M73: なし_職員処遇改善費のみの対象者 | N73: 15
B74: (2) 「修了年月日」は、研修修了証の年月日又は研修を受講した年月日を記入する。 | M74: 園長で中核リーダーの研修 | N74: 15
B75: (3) 園内研修（幼稚園等）を対象としたい場合は、「園内研修実施状況」を添付すること。 | M75: 園長で専門リーダーの研修 | N75: 15
B76: (4) 一覧の内容を確認できる資料（幼稚園教諭免許状更新講習修了証明書（履修証明書）の写し等）を施設において保管すること。 | M76: 副園長で中核リーダーの研修 | N76: 15
B77: (5) 行が足りない場合は、No２～59の行を選択し、挿入すること。 | M77: 副園長で専門リーダーの研修 | N77: 15
B78: (6) 区分３及び職員処遇改善費の対象となる研修は「施設型給付費等に係る処遇改善等加算（区分３）に係る研修修了要件について」（令和７年９月16日付けこ成基202・７初幼教第４号 こども家庭庁成育局保育政策課長、こども家庭庁成育局成育基盤企画課長及び文部科学省初等中等教育局幼児教育課長連盟通知）の記載に基づくものとする。 | M78: 教頭で中核リーダーの研修 | N78: 15
B79: (7) 保育士等キャリアアップ研修は「保育士等キャリアアップ研修の実施について（平成29年４月１日厚生労働省雇用均等・児童家庭局保育課長通知）」の記載に基づくものが対象となる。 実施主体は「都道府県又は都道府県知事の指定した研修実施機関」とする。 | M79: 教頭で専門リーダーの研修 | N79: 15
M80: 主幹教諭で中核リーダーの研修 | N80: 15
M81: 主幹教諭で専門リーダーの研修 | N81: 15
M82: 主幹保育教諭で中核リーダーの研修 | N82: 15
M83: 主幹保育教諭で専門リーダーの研修 | N83: 15

Sheet ②名簿46
A1: 第５号様式の２ | D1: 令和 ８ 年度 研修受講履歴一覧集計表 （幼稚園・認定こども園）
H3: 所在区 | I3: =①集計表!H4 -> #N/A
H4: 施設・事業種別 | I4: =①集計表!H5 -> #N/A | L4: =IFERROR(LEFT(I4,FIND("（",I4)-1),I4)&C6 -> #N/A
H5: 施設・事業所番号 | I5: =①集計表!H6 -> 0
B6: 職位 | D6: ↓マネジメント分野の修了チェック↓ | H6: 施設・事業所名 | I6: =①集計表!H7 -> #N/A
B7: 氏名 | D7: =IF($C$6="","職位を選択してください",IF(ISNUMBER(SEARCH("中核リーダー",C6)),IF(SUMIF(G:G,"〇",I:I)>=15,"必修時間を満たしています","区分３（人数Ａ）対象者は、マネジメント分野（15時間）必修です。 入力してください。"),IF(ISNUMBER(SEARCH("専門リーダー",C6)),"必修ではありません。保育士等キャリアアップ研修のマネジメント分野は、令和４年３月31日までの修了分まで算定可。",IF(ISNUMBER(SEARCH("若手リーダー",C6)),"必修ではありません。保育士等キャリアアップ研修のマネジメント分野は、令和２年３月31日までの修了分まで算定可。","必修ではありません。")))) -> 職位を選択してください | H7: 代表者職・氏名 | I7: =①集計表!H8 -> 0 | K7: =Z4 -> 0
A9: 区分３及び職員処遇改善費の対象と認められる研修のみ入力してください（下記(6)参照）。そのうち、キャリアアップ研修が対象か否かについては最下部(7)を参照のうえ、不明な場合は実施主体に必ず確認してください。
A10: No | B10: 各行最後に入力 修了年月日 (例:R2.6.1) ※研修種別～ 研修分野 を入力後に入力してください。 | C10: 実施主体等 | D10: 講義名・テーマ | E10: キャリアアップ研修 研修分野 ※施設情報・職位を入力後に選択してください | F10: 修了証番号 | G10: マネジメント分野に係る 研修の場合は〇 | H10: 園内研修 | I10: 修了時間数 | J10: 備考 | K10: 開始日 | L10: キャリアアップ研修 | M10: 42826
A11: 1 | H11: =IF(C11="⑤園内における研修を企画・実施する幼稚園又は認定こども園","〇","") | K11: 終了日 | L11: マネジメント (専門リーダー) | M11: 44651
A12: 2 | H12: =IF(C12="⑤園内における研修を企画・実施する幼稚園又は認定こども園","〇","") | L12: マネジメント (若手リーダー) | M12: 43921
A13: 3 | H13: =IF(C13="⑤園内における研修を企画・実施する幼稚園又は認定こども園","〇","") | L13: それ以外 の研修 | M13: 45747
A14: 4 | H14: =IF(C14="⑤園内における研修を企画・実施する幼稚園又は認定こども園","〇","")
A15: 5 | H15: =IF(C15="⑤園内における研修を企画・実施する幼稚園又は認定こども園","〇","")
A16: 6 | H16: =IF(C16="⑤園内における研修を企画・実施する幼稚園又は認定こども園","〇","")
A17: 7 | H17: =IF(C17="⑤園内における研修を企画・実施する幼稚園又は認定こども園","〇","")
A18: 8 | H18: =IF(C18="⑤園内における研修を企画・実施する幼稚園又は認定こども園","〇","")
A19: 9 | H19: =IF(C19="⑤園内における研修を企画・実施する幼稚園又は認定こども園","〇","")
A20: 10 | H20: =IF(C20="⑤園内における研修を企画・実施する幼稚園又は認定こども園","〇","")
A21: 11 | H21: =IF(C21="⑤園内における研修を企画・実施する幼稚園又は認定こども園","〇","")
A22: 12 | H22: =IF(C22="⑤園内における研修を企画・実施する幼稚園又は認定こども園","〇","")
A23: 13 | H23: =IF(C23="⑤園内における研修を企画・実施する幼稚園又は認定こども園","〇","")
A24: 14 | H24: =IF(C24="⑤園内における研修を企画・実施する幼稚園又は認定こども園","〇","")
A25: 15 | H25: =IF(C25="⑤園内における研修を企画・実施する幼稚園又は認定こども園","〇","")
... A67: 57 | H67: =IF(C67="⑤園内における研修を企画・実施する幼稚園又は認定こども園","〇","")
A68: 58 | H68: =IF(C68="⑤園内における研修を企画・実施する幼稚園又は認定こども園","〇","") | M68: 園内研修 | N68: 最大時間
A69: 59 | H69: =IF(C69="⑤園内における研修を企画・実施する幼稚園又は認定こども園","〇","") | M69: 中核リーダー | N69: 15
A70: 60 | H70: =IF(C70="⑤園内における研修を企画・実施する幼稚園又は認定こども園","〇","") | M70: 専門リーダー | N70: 15
A71: 合計 | G71: =SUMIF(G11:G70,"〇",I11:I70) -> 0 | H71: =IF(SUMIF(C11:C70,"⑤園内における研修を企画・実施する幼稚園又は認定こども園",I11:I70)>VLOOKUP(C6,M68:N83,2,FALSE),VLOOKUP(C6,M68:N83,2,FALSE),SUMIF(C11:C70,"⑤園内における研修を企画・実施する幼稚園又は認定こども園",I11:I70)) -> #N/A | I71: =IF(L71<0,SUM(I11:I70,L71),SUM(I11:I70)) -> #N/A | L71: =IF(SUMIF(C11:C70,"⑤園内における研修を企画・実施する幼稚園又は認定こども園",I11:I70)>VLOOKUP(C6,M68:N83,2,FALSE),VLOOKUP(C6,M68:N83,2,FALSE)-SUMIF(C11:C70,"⑤園内における研修を企画・実施する幼稚園又は認定こども園",I11:I70),"") -> #N/A | M71: 若手リーダー | N71: 4
B72: 【留意事項】 | M72: 若手リーダー | N72: 4
B73: (1) 研修ごとに１行で記載する。 | M73: なし_職員処遇改善費のみの対象者 | N73: 15
B74: (2) 「修了年月日」は、研修修了証の年月日又は研修を受講した年月日を記入する。 | M74: 園長で中核リーダーの研修 | N74: 15
B75: (3) 園内研修（幼稚園等）を対象としたい場合は、「園内研修実施状況」を添付すること。 | M75: 園長で専門リーダーの研修 | N75: 15
B76: (4) 一覧の内容を確認できる資料（幼稚園教諭免許状更新講習修了証明書（履修証明書）の写し等）を施設において保管すること。 | M76: 副園長で中核リーダーの研修 | N76: 15
B77: (5) 行が足りない場合は、No２～59の行を選択し、挿入すること。 | M77: 副園長で専門リーダーの研修 | N77: 15
B78: (6) 区分３及び職員処遇改善費の対象となる研修は「施設型給付費等に係る処遇改善等加算（区分３）に係る研修修了要件について」（令和７年９月16日付けこ成基202・７初幼教第４号 こども家庭庁成育局保育政策課長、こども家庭庁成育局成育基盤企画課長及び文部科学省初等中等教育局幼児教育課長連盟通知）の記載に基づくものとする。 | M78: 教頭で中核リーダーの研修 | N78: 15
B79: (7) 保育士等キャリアアップ研修は「保育士等キャリアアップ研修の実施について（平成29年４月１日厚生労働省雇用均等・児童家庭局保育課長通知）」の記載に基づくものが対象となる。 実施主体は「都道府県又は都道府県知事の指定した研修実施機関」とする。 | M79: 教頭で専門リーダーの研修 | N79: 15
M80: 主幹教諭で中核リーダーの研修 | N80: 15
M81: 主幹教諭で専門リーダーの研修 | N81: 15
M82: 主幹保育教諭で中核リーダーの研修 | N82: 15
M83: 主幹保育教諭で専門リーダーの研修 | N83: 15

Sheet ②名簿47
A1: 第５号様式の２ | D1: 令和 ８ 年度 研修受講履歴一覧集計表 （幼稚園・認定こども園）
H3: 所在区 | I3: =①集計表!H4 -> #N/A
H4: 施設・事業種別 | I4: =①集計表!H5 -> #N/A | L4: =IFERROR(LEFT(I4,FIND("（",I4)-1),I4)&C6 -> #N/A
H5: 施設・事業所番号 | I5: =①集計表!H6 -> 0
B6: 職位 | D6: ↓マネジメント分野の修了チェック↓ | H6: 施設・事業所名 | I6: =①集計表!H7 -> #N/A
B7: 氏名 | D7: =IF($C$6="","職位を選択してください",IF(ISNUMBER(SEARCH("中核リーダー",C6)),IF(SUMIF(G:G,"〇",I:I)>=15,"必修時間を満たしています","区分３（人数Ａ）対象者は、マネジメント分野（15時間）必修です。 入力してください。"),IF(ISNUMBER(SEARCH("専門リーダー",C6)),"必修ではありません。保育士等キャリアアップ研修のマネジメント分野は、令和４年３月31日までの修了分まで算定可。",IF(ISNUMBER(SEARCH("若手リーダー",C6)),"必修ではありません。保育士等キャリアアップ研修のマネジメント分野は、令和２年３月31日までの修了分まで算定可。","必修ではありません。")))) -> 職位を選択してください | H7: 代表者職・氏名 | I7: =①集計表!H8 -> 0 | K7: =Z4 -> 0
A9: 区分３及び職員処遇改善費の対象と認められる研修のみ入力してください（下記(6)参照）。そのうち、キャリアアップ研修が対象か否かについては最下部(7)を参照のうえ、不明な場合は実施主体に必ず確認してください。
A10: No | B10: 各行最後に入力 修了年月日 (例:R2.6.1) ※研修種別～ 研修分野 を入力後に入力してください。 | C10: 実施主体等 | D10: 講義名・テーマ | E10: キャリアアップ研修 研修分野 ※施設情報・職位を入力後に選択してください | F10: 修了証番号 | G10: マネジメント分野に係る 研修の場合は〇 | H10: 園内研修 | I10: 修了時間数 | J10: 備考 | K10: 開始日 | L10: キャリアアップ研修 | M10: 42826
A11: 1 | H11: =IF(C11="⑤園内における研修を企画・実施する幼稚園又は認定こども園","〇","") | K11: 終了日 | L11: マネジメント (専門リーダー) | M11: 44651
A12: 2 | H12: =IF(C12="⑤園内における研修を企画・実施する幼稚園又は認定こども園","〇","") | L12: マネジメント (若手リーダー) | M12: 43921
A13: 3 | H13: =IF(C13="⑤園内における研修を企画・実施する幼稚園又は認定こども園","〇","") | L13: それ以外 の研修 | M13: 45747
A14: 4 | H14: =IF(C14="⑤園内における研修を企画・実施する幼稚園又は認定こども園","〇","")
A15: 5 | H15: =IF(C15="⑤園内における研修を企画・実施する幼稚園又は認定こども園","〇","")
A16: 6 | H16: =IF(C16="⑤園内における研修を企画・実施する幼稚園又は認定こども園","〇","")
A17: 7 | H17: =IF(C17="⑤園内における研修を企画・実施する幼稚園又は認定こども園","〇","")
A18: 8 | H18: =IF(C18="⑤園内における研修を企画・実施する幼稚園又は認定こども園","〇","")
A19: 9 | H19: =IF(C19="⑤園内における研修を企画・実施する幼稚園又は認定こども園","〇","")
A20: 10 | H20: =IF(C20="⑤園内における研修を企画・実施する幼稚園又は認定こども園","〇","")
A21: 11 | H21: =IF(C21="⑤園内における研修を企画・実施する幼稚園又は認定こども園","〇","")
A22: 12 | H22: =IF(C22="⑤園内における研修を企画・実施する幼稚園又は認定こども園","〇","")
A23: 13 | H23: =IF(C23="⑤園内における研修を企画・実施する幼稚園又は認定こども園","〇","")
A24: 14 | H24: =IF(C24="⑤園内における研修を企画・実施する幼稚園又は認定こども園","〇","")
A25: 15 | H25: =IF(C25="⑤園内における研修を企画・実施する幼稚園又は認定こども園","〇","")
... A67: 57 | H67: =IF(C67="⑤園内における研修を企画・実施する幼稚園又は認定こども園","〇","")
A68: 58 | H68: =IF(C68="⑤園内における研修を企画・実施する幼稚園又は認定こども園","〇","") | M68: 園内研修 | N68: 最大時間
A69: 59 | H69: =IF(C69="⑤園内における研修を企画・実施する幼稚園又は認定こども園","〇","") | M69: 中核リーダー | N69: 15
A70: 60 | H70: =IF(C70="⑤園内における研修を企画・実施する幼稚園又は認定こども園","〇","") | M70: 専門リーダー | N70: 15
A71: 合計 | G71: =SUMIF(G11:G70,"〇",I11:I70) -> 0 | H71: =IF(SUMIF(C11:C70,"⑤園内における研修を企画・実施する幼稚園又は認定こども園",I11:I70)>VLOOKUP(C6,M68:N83,2,FALSE),VLOOKUP(C6,M68:N83,2,FALSE),SUMIF(C11:C70,"⑤園内における研修を企画・実施する幼稚園又は認定こども園",I11:I70)) -> #N/A | I71: =IF(L71<0,SUM(I11:I70,L71),SUM(I11:I70)) -> #N/A | L71: =IF(SUMIF(C11:C70,"⑤園内における研修を企画・実施する幼稚園又は認定こども園",I11:I70)>VLOOKUP(C6,M68:N83,2,FALSE),VLOOKUP(C6,M68:N83,2,FALSE)-SUMIF(C11:C70,"⑤園内における研修を企画・実施する幼稚園又は認定こども園",I11:I70),"") -> #N/A | M71: 若手リーダー | N71: 4
B72: 【留意事項】 | M72: 若手リーダー | N72: 4
B73: (1) 研修ごとに１行で記載する。 | M73: なし_職員処遇改善費のみの対象者 | N73: 15
B74: (2) 「修了年月日」は、研修修了証の年月日又は研修を受講した年月日を記入する。 | M74: 園長で中核リーダーの研修 | N74: 15
B75: (3) 園内研修（幼稚園等）を対象としたい場合は、「園内研修実施状況」を添付すること。 | M75: 園長で専門リーダーの研修 | N75: 15
B76: (4) 一覧の内容を確認できる資料（幼稚園教諭免許状更新講習修了証明書（履修証明書）の写し等）を施設において保管すること。 | M76: 副園長で中核リーダーの研修 | N76: 15
B77: (5) 行が足りない場合は、No２～59の行を選択し、挿入すること。 | M77: 副園長で専門リーダーの研修 | N77: 15
B78: (6) 区分３及び職員処遇改善費の対象となる研修は「施設型給付費等に係る処遇改善等加算（区分３）に係る研修修了要件について」（令和７年９月16日付けこ成基202・７初幼教第４号 こども家庭庁成育局保育政策課長、こども家庭庁成育局成育基盤企画課長及び文部科学省初等中等教育局幼児教育課長連盟通知）の記載に基づくものとする。 | M78: 教頭で中核リーダーの研修 | N78: 15
B79: (7) 保育士等キャリアアップ研修は「保育士等キャリアアップ研修の実施について（平成29年４月１日厚生労働省雇用均等・児童家庭局保育課長通知）」の記載に基づくものが対象となる。 実施主体は「都道府県又は都道府県知事の指定した研修実施機関」とする。 | M79: 教頭で専門リーダーの研修 | N79: 15
M80: 主幹教諭で中核リーダーの研修 | N80: 15
M81: 主幹教諭で専門リーダーの研修 | N81: 15
M82: 主幹保育教諭で中核リーダーの研修 | N82: 15
M83: 主幹保育教諭で専門リーダーの研修 | N83: 15

Sheet ②名簿48
A1: 第５号様式の２ | D1: 令和 ８ 年度 研修受講履歴一覧集計表 （幼稚園・認定こども園）
H3: 所在区 | I3: =①集計表!H4 -> #N/A
H4: 施設・事業種別 | I4: =①集計表!H5 -> #N/A | L4: =IFERROR(LEFT(I4,FIND("（",I4)-1),I4)&C6 -> #N/A
H5: 施設・事業所番号 | I5: =①集計表!H6 -> 0
B6: 職位 | D6: ↓マネジメント分野の修了チェック↓ | H6: 施設・事業所名 | I6: =①集計表!H7 -> #N/A
B7: 氏名 | D7: =IF($C$6="","職位を選択してください",IF(ISNUMBER(SEARCH("中核リーダー",C6)),IF(SUMIF(G:G,"〇",I:I)>=15,"必修時間を満たしています","区分３（人数Ａ）対象者は、マネジメント分野（15時間）必修です。 入力してください。"),IF(ISNUMBER(SEARCH("専門リーダー",C6)),"必修ではありません。保育士等キャリアアップ研修のマネジメント分野は、令和４年３月31日までの修了分まで算定可。",IF(ISNUMBER(SEARCH("若手リーダー",C6)),"必修ではありません。保育士等キャリアアップ研修のマネジメント分野は、令和２年３月31日までの修了分まで算定可。","必修ではありません。")))) -> 職位を選択してください | H7: 代表者職・氏名 | I7: =①集計表!H8 -> 0 | K7: =Z4 -> 0
A9: 区分３及び職員処遇改善費の対象と認められる研修のみ入力してください（下記(6)参照）。そのうち、キャリアアップ研修が対象か否かについては最下部(7)を参照のうえ、不明な場合は実施主体に必ず確認してください。
A10: No | B10: 各行最後に入力 修了年月日 (例:R2.6.1) ※研修種別～ 研修分野 を入力後に入力してください。 | C10: 実施主体等 | D10: 講義名・テーマ | E10: キャリアアップ研修 研修分野 ※施設情報・職位を入力後に選択してください | F10: 修了証番号 | G10: マネジメント分野に係る 研修の場合は〇 | H10: 園内研修 | I10: 修了時間数 | J10: 備考 | K10: 開始日 | L10: キャリアアップ研修 | M10: 42826
A11: 1 | H11: =IF(C11="⑤園内における研修を企画・実施する幼稚園又は認定こども園","〇","") | K11: 終了日 | L11: マネジメント (専門リーダー) | M11: 44651
A12: 2 | H12: =IF(C12="⑤園内における研修を企画・実施する幼稚園又は認定こども園","〇","") | L12: マネジメント (若手リーダー) | M12: 43921
A13: 3 | H13: =IF(C13="⑤園内における研修を企画・実施する幼稚園又は認定こども園","〇","") | L13: それ以外 の研修 | M13: 45747
A14: 4 | H14: =IF(C14="⑤園内における研修を企画・実施する幼稚園又は認定こども園","〇","")
A15: 5 | H15: =IF(C15="⑤園内における研修を企画・実施する幼稚園又は認定こども園","〇","")
A16: 6 | H16: =IF(C16="⑤園内における研修を企画・実施する幼稚園又は認定こども園","〇","")
A17: 7 | H17: =IF(C17="⑤園内における研修を企画・実施する幼稚園又は認定こども園","〇","")
A18: 8 | H18: =IF(C18="⑤園内における研修を企画・実施する幼稚園又は認定こども園","〇","")
A19: 9 | H19: =IF(C19="⑤園内における研修を企画・実施する幼稚園又は認定こども園","〇","")
A20: 10 | H20: =IF(C20="⑤園内における研修を企画・実施する幼稚園又は認定こども園","〇","")
A21: 11 | H21: =IF(C21="⑤園内における研修を企画・実施する幼稚園又は認定こども園","〇","")
A22: 12 | H22: =IF(C22="⑤園内における研修を企画・実施する幼稚園又は認定こども園","〇","")
A23: 13 | H23: =IF(C23="⑤園内における研修を企画・実施する幼稚園又は認定こども園","〇","")
A24: 14 | H24: =IF(C24="⑤園内における研修を企画・実施する幼稚園又は認定こども園","〇","")
A25: 15 | H25: =IF(C25="⑤園内における研修を企画・実施する幼稚園又は認定こども園","〇","")
... A67: 57 | H67: =IF(C67="⑤園内における研修を企画・実施する幼稚園又は認定こども園","〇","")
A68: 58 | H68: =IF(C68="⑤園内における研修を企画・実施する幼稚園又は認定こども園","〇","") | M68: 園内研修 | N68: 最大時間
A69: 59 | H69: =IF(C69="⑤園内における研修を企画・実施する幼稚園又は認定こども園","〇","") | M69: 中核リーダー | N69: 15
A70: 60 | H70: =IF(C70="⑤園内における研修を企画・実施する幼稚園又は認定こども園","〇","") | M70: 専門リーダー | N70: 15
A71: 合計 | G71: =SUMIF(G11:G70,"〇",I11:I70) -> 0 | H71: =IF(SUMIF(C11:C70,"⑤園内における研修を企画・実施する幼稚園又は認定こども園",I11:I70)>VLOOKUP(C6,M68:N83,2,FALSE),VLOOKUP(C6,M68:N83,2,FALSE),SUMIF(C11:C70,"⑤園内における研修を企画・実施する幼稚園又は認定こども園",I11:I70)) -> #N/A | I71: =IF(L71<0,SUM(I11:I70,L71),SUM(I11:I70)) -> #N/A | L71: =IF(SUMIF(C11:C70,"⑤園内における研修を企画・実施する幼稚園又は認定こども園",I11:I70)>VLOOKUP(C6,M68:N83,2,FALSE),VLOOKUP(C6,M68:N83,2,FALSE)-SUMIF(C11:C70,"⑤園内における研修を企画・実施する幼稚園又は認定こども園",I11:I70),"") -> #N/A | M71: 若手リーダー | N71: 4
B72: 【留意事項】 | M72: 若手リーダー | N72: 4
B73: (1) 研修ごとに１行で記載する。 | M73: なし_職員処遇改善費のみの対象者 | N73: 15
B74: (2) 「修了年月日」は、研修修了証の年月日又は研修を受講した年月日を記入する。 | M74: 園長で中核リーダーの研修 | N74: 15
B75: (3) 園内研修（幼稚園等）を対象としたい場合は、「園内研修実施状況」を添付すること。 | M75: 園長で専門リーダーの研修 | N75: 15
B76: (4) 一覧の内容を確認できる資料（幼稚園教諭免許状更新講習修了証明書（履修証明書）の写し等）を施設において保管すること。 | M76: 副園長で中核リーダーの研修 | N76: 15
B77: (5) 行が足りない場合は、No２～59の行を選択し、挿入すること。 | M77: 副園長で専門リーダーの研修 | N77: 15
B78: (6) 区分３及び職員処遇改善費の対象となる研修は「施設型給付費等に係る処遇改善等加算（区分３）に係る研修修了要件について」（令和７年９月16日付けこ成基202・７初幼教第４号 こども家庭庁成育局保育政策課長、こども家庭庁成育局成育基盤企画課長及び文部科学省初等中等教育局幼児教育課長連盟通知）の記載に基づくものとする。 | M78: 教頭で中核リーダーの研修 | N78: 15
B79: (7) 保育士等キャリアアップ研修は「保育士等キャリアアップ研修の実施について（平成29年４月１日厚生労働省雇用均等・児童家庭局保育課長通知）」の記載に基づくものが対象となる。 実施主体は「都道府県又は都道府県知事の指定した研修実施機関」とする。 | M79: 教頭で専門リーダーの研修 | N79: 15
M80: 主幹教諭で中核リーダーの研修 | N80: 15
M81: 主幹教諭で専門リーダーの研修 | N81: 15
M82: 主幹保育教諭で中核リーダーの研修 | N82: 15
M83: 主幹保育教諭で専門リーダーの研修 | N83: 15

Sheet ②名簿49
A1: 第５号様式の２ | D1: 令和 ８ 年度 研修受講履歴一覧集計表 （幼稚園・認定こども園）
H3: 所在区 | I3: =①集計表!H4 -> #N/A
H4: 施設・事業種別 | I4: =①集計表!H5 -> #N/A | L4: =IFERROR(LEFT(I4,FIND("（",I4)-1),I4)&C6 -> #N/A
H5: 施設・事業所番号 | I5: =①集計表!H6 -> 0
B6: 職位 | D6: ↓マネジメント分野の修了チェック↓ | H6: 施設・事業所名 | I6: =①集計表!H7 -> #N/A
B7: 氏名 | D7: =IF($C$6="","職位を選択してください",IF(ISNUMBER(SEARCH("中核リーダー",C6)),IF(SUMIF(G:G,"〇",I:I)>=15,"必修時間を満たしています","区分３（人数Ａ）対象者は、マネジメント分野（15時間）必修です。 入力してください。"),IF(ISNUMBER(SEARCH("専門リーダー",C6)),"必修ではありません。保育士等キャリアアップ研修のマネジメント分野は、令和４年３月31日までの修了分まで算定可。",IF(ISNUMBER(SEARCH("若手リーダー",C6)),"必修ではありません。保育士等キャリアアップ研修のマネジメント分野は、令和２年３月31日までの修了分まで算定可。","必修ではありません。")))) -> 職位を選択してください | H7: 代表者職・氏名 | I7: =①集計表!H8 -> 0 | K7: =Z4 -> 0
A9: 区分３及び職員処遇改善費の対象と認められる研修のみ入力してください（下記(6)参照）。そのうち、キャリアアップ研修が対象か否かについては最下部(7)を参照のうえ、不明な場合は実施主体に必ず確認してください。
A10: No | B10: 各行最後に入力 修了年月日 (例:R2.6.1) ※研修種別～ 研修分野 を入力後に入力してください。 | C10: 実施主体等 | D10: 講義名・テーマ | E10: キャリアアップ研修 研修分野 ※施設情報・職位を入力後に選択してください | F10: 修了証番号 | G10: マネジメント分野に係る 研修の場合は〇 | H10: 園内研修 | I10: 修了時間数 | J10: 備考 | K10: 開始日 | L10: キャリアアップ研修 | M10: 42826
A11: 1 | H11: =IF(C11="⑤園内における研修を企画・実施する幼稚園又は認定こども園","〇","") | K11: 終了日 | L11: マネジメント (専門リーダー) | M11: 44651
A12: 2 | H12: =IF(C12="⑤園内における研修を企画・実施する幼稚園又は認定こども園","〇","") | L12: マネジメント (若手リーダー) | M12: 43921
A13: 3 | H13: =IF(C13="⑤園内における研修を企画・実施する幼稚園又は認定こども園","〇","") | L13: それ以外 の研修 | M13: 45747
A14: 4 | H14: =IF(C14="⑤園内における研修を企画・実施する幼稚園又は認定こども園","〇","")
A15: 5 | H15: =IF(C15="⑤園内における研修を企画・実施する幼稚園又は認定こども園","〇","")
A16: 6 | H16: =IF(C16="⑤園内における研修を企画・実施する幼稚園又は認定こども園","〇","")
A17: 7 | H17: =IF(C17="⑤園内における研修を企画・実施する幼稚園又は認定こども園","〇","")
