Workbook
Name 【幼稚園又は認定こども園に勤務していた者】その他: マスタ!$B$13:$B$17
Name ×: マスタ!$D$3:$D$6
Name 〇: マスタ!$D$3:$D$7
Name その他: マスタ!$B$13:$B$18
Name なし_職員処遇改善費のみの対象者: マスタ!$H$3:$H$10
Name なし_職員処遇改善費のみの対象者×: マスタ!$T$14:$T$17
Name なし_職員処遇改善費のみの対象者〇: マスタ!$J$14:$J$18
Name 園長で専門リーダーの研修: マスタ!$J$3:$J$10
Name 園長で専門リーダーの研修×: マスタ!$V$14:$V$15
Name 園長で専門リーダーの研修〇: マスタ!$L$14:$L$16
Name 園長で副主任保育士の研修: マスタ!$I$3:$I$10
Name 園長で副主任保育士の研修×: マスタ!$U$14:$U$15
Name 園長で副主任保育士の研修〇: マスタ!$K$14:$K$16
Name 研修名_処遇Ⅱ: マスタ!$D$3:$D$7
Name 研修名_職員処遇改善費: マスタ!$D$14:$D$17
Name 主任保育士で専門リーダーの研修: マスタ!$L$3:$L$10
Name 主任保育士で専門リーダーの研修×: マスタ!$X$14:$X$15
Name 主任保育士で専門リーダーの研修〇: マスタ!$N$14:$N$16
Name 主任保育士で副主任保育士の研修: マスタ!$K$3:$K$10
Name 主任保育士で副主任保育士の研修×: マスタ!$W$14:$W$15
Name 主任保育士で副主任保育士の研修〇: マスタ!$M$14:$M$16
Name 職務分野別リーダー: マスタ!$G$3:$G$10
Name 職務分野別リーダー×: マスタ!$S$14:$S$17
Name 職務分野別リーダー〇: マスタ!$I$14:$I$18
Name 専門リーダー: マスタ!$F$3:$F$10
Name 専門リーダー×: マスタ!$R$14:$R$17
Name 専門リーダー〇: マスタ!$H$14:$H$18
Name 副園長で専門リーダーの研修: マスタ!$N$3:$N$10
Name 副園長で専門リーダーの研修×: マスタ!$Z$14:$Z$15
Name 副園長で専門リーダーの研修〇: マスタ!$P$14:$P$16
Name 副園長で副主任保育士の研修: マスタ!$M$3:$M$10
Name 副園長で副主任保育士の研修×: マスタ!$Y$14:$Y$15
Name 副園長で副主任保育士の研修〇: マスタ!$O$14:$O$16
Name 副主任保育士: マスタ!$E$3:$E$10
Name 副主任保育士×: マスタ!$Q$14:$Q$17
Name 副主任保育士〇: マスタ!$G$14:$G$18
Name 保育士等キャリアアップ研修_通知に基づくもの: マスタ!$C$13:$C$14

Sheet R8施設一覧
A1: 施設事業所番号 | B1: 施設・事業区分 | C1: 施設・事業所種別 | D1: 所在区 | E1: 施設住所区コード | F1: 施設名 | G1: しせつめい
A2: 1410051013654 | B2: 6 | C2: 認可保育所 | D2: 神奈川区 | E2: 010 | F2: いずみ反町保育園 | G2: いずみたんまちほいくえん
A3: 1410051013662 | B3: 6 | C3: 認可保育所 | D3: 鶴見区 | E3: 000 | F3: 市場保育園 | G3: いちばほいくえん
A4: 1410051013670 | B4: 6 | C4: 認可保育所 | D4: 鶴見区 | E4: 000 | F4: 上末吉白百合保育園 | G4: かみすえよししらゆりほいくえん
A5: 1410051013688 | B5: 6 | C5: 認可保育所 | D5: 鶴見区 | E5: 000 | F5: 駒岡保育園 | G5: こまおかほいくえん
A6: 1410051013696 | B6: 6 | C6: 認可保育所 | D6: 鶴見区 | E6: 000 | F6: 新鶴見はなかご保育園 | G6: しんつるみはなかごほいくえん
A7: 1410051013704 | B7: 6 | C7: 認可保育所 | D7: 鶴見区 | E7: 000 | F7: 末吉いづみ保育園 | G7: すえよしいづみほいくえん
A8: 1410051013712 | B8: 6 | C8: 認可保育所 | D8: 鶴見区 | E8: 000 | F8: 太陽の子尻手保育園 | G8: たいようのこしってほいくえん
A9: 1410051013720 | B9: 6 | C9: 認可保育所 | D9: 鶴見区 | E9: 000 | F9: 鶴見すずらん保育園 | G9: つるみすずらんほいくえん
A10: 1410051013738 | B10: 6 | C10: 認可保育所 | D10: 鶴見区 | E10: 000 | F10: 鶴見ポケット保育園 | G10: つるみぽけっとほいくえん
A11: 1410051013761 | B11: 6 | C11: 認可保育所 | D11: 鶴見区 | E11: 000 | F11: ナーサリーつるみ | G11: なーさりーつるみ
A12: 1410051013779 | B12: 6 | C12: 認可保育所 | D12: 鶴見区 | E12: 000 | F12: にじの風保育園 | G12: にじのかぜほいくえん
A13: 1410051013787 | B13: 6 | C13: 認可保育所 | D13: 鶴見区 | E13: 000 | F13: ねむの樹北寺尾保育園 | G13: ねむのききたてらおほいくえん
... A1336: 1410051028868 | B1336: 5 | C1336: 幼稚園 | D1336: 戸塚区 | E1336: 090 | F1336: 学校法人川辺学園 冨士見ケ丘幼稚園 | G1336: がっこうほうじんかわべがくえんふじみがおかようちえん

Sheet 記載例
A1: 第５号様式の１ | D1: 令和 ８ 年度 研修受講履歴一覧 名簿（保育所・地域型保育事業所）
G3: 所在区 | H3: 中区
G4: 施設・事業所種別 | H4: 保育所
G5: 施設・事業所番号 | H5: 141005xxxxxxx
B6: 職位 | C6: 副主任保育士 | G6: 施設・事業所名 | H6: ○○保育所
B7: 氏名 | C7: ○○ ○○ | G7: 代表者職・氏名 | H7: △△ △△
B8: 幼稚園又は認定こども園に勤務していた者 | D8: 〇 | E8: ↓マネジメント分野の修了チェック↓ | L8: 開始日（データの入力規則用）
E9: =IF($C$6="","職位を選択してください",IF(ISNUMBER(SEARCH("副主任保育士",C6)),IF(COUNTIF(H:H,"マネジメント研修")>0,"必修数を満たしています","マネジメント分野に係る研修は1分野必修です。入力してください。"),IF(ISNUMBER(SEARCH("職員処遇",C6)),"必修ではありません。","必修ではありません。令和２年３月31日までの修了分は算定可能です。"))) -> 必修数を満たしています
A10: 区分３及び職員処遇改善費の対象と認められる研修のみ入力してください。対象かどうかについては最下部(6)を参照のうえ、不明な場合は実施主体に必ず確認してください。
A11: No | B11: 各行最後に入力 修了年月日 (例:R2.6.1) ※研修種別～ 研修分野 を入力後に入力してください。 | C11: 研修種別 | D11: 実施主体 ※研修種別を入力後に選択してください | F11: 講義名・テーマ | G11: 修了証番号 | H11: 研修分野 ※職位を入力後に選択してください | I11: 横浜市（区）主催研修等の 修了時間数 （単位：時間） | J11: 備考 | L11: 修了年月日 （データの入力規則用）
A12: 1 | B12: 44896 | C12: 保育士等キャリアアップ研修（下記(6)に基づくもの） | D12: ①都道府県 | G12: 123456789012 | H12: 乳児保育 | L12: 保育実践 マネジメント | M12: 43921
A13: 2 | B13: 44896 | C13: 保育士等キャリアアップ研修（下記(6)に基づくもの） | D13: ②都道府県により指定を受けた機関（市町村等） | G13: 234567890123 | H13: マネジメント研修 | K13: =IF(H13<>"",1,0) -> 1 | L13: それ以外の研修 | M13: 45382
A14: 3 | B14: 43692 | C14: 幼稚園教諭旧免許状更新講習・免許法認定講習 | F14: ○△□○△□（※領域名） | H14: 幼児教育 | I14: 7 | K14: =IF(H14<>"",1,0) -> 1 | L14: =IF(C14="その他",1,"")
A15: 4 | B15: 43676 | C15: 幼稚園教諭旧免許状更新講習・免許法認定講習 | F15: ●△■○△□（※領域名） | H15: 乳児保育 | I15: 6 | K15: =IF(H15<>"",1,0) -> 1 | L15: =IF(C15="その他",1,"")
A16: 5 | B16: 43115 | C16: 幼稚園教諭旧免許状更新講習・免許法認定講習 | F16: ○▲□○▲■（※領域名） | H16: 乳児保育 | I16: 8 | K16: =IF(H16<>"",1,0) -> 1 | L16: =IF(C16="その他",1,"")
A17: 6 | B17: 43110 | C17: 保育士等キャリアアップ研修（下記(6)に基づくもの） | D17: ①都道府県 | G17: 345678901234 | H17: 食育・アレルギー対応 | K17: =IF(H17<>"",1,0) -> 1 | L17: =IF(C17="その他",1,"")
A18: 7 | K18: =IF(H18<>"",1,0) -> 0 | L18: =IF(C18="その他",1,"")
A19: 8 | K19: =IF(H19<>"",1,0) -> 0 | L19: =IF(C19="その他",1,"")
A20: 9 | K20: =IF(H20<>"",1,0) -> 0 | L20: =IF(C20="その他",1,"")
A21: 10 | K21: =IF(H21<>"",1,0) -> 0 | L21: =IF(C21="その他",1,"")
A22: 11 | K22: =IF(H22<>"",1,0) -> 0 | L22: =IF(C22="その他",1,"")
A23: 12 | K23: =IF(H23<>"",1,0) -> 0 | L23: =IF(C23="その他",1,"")
A24: 13 | K24: =IF(H24<>"",1,0) -> 0 | L24: =IF(C24="その他",1,"")
A25: 14 | K25: =IF(H25<>"",1,0) -> 0 | L25: =IF(C25="その他",1,"")
A26: 15 | K26: =IF(H26<>"",1,0) -> 0 | L26: =IF(SUMIF(C13:C26,"【職員処遇改善費のみ対象】園内研修",I12:I26)>VLOOKUP(C6,M26:N28,2,FALSE),VLOOKUP(C6,M26:N28,2,FALSE)-SUMIF(C13:C26,"【職員処遇改善費のみ対象】園内研修",I12:I26),"") -> #N/A | M26: 園内研修 | N26: 4
B27: 【留意事項】
B28: (1) 「修了年月日」は、研修修了証の年月日又は研修を受講した年月日を記入する。
B29: (2) 幼稚園又は認定こども園に勤務していた者は幼稚園教育要領等を踏まえて教育の質を高めるための知識・技術の向上を目的とした研修を15時間以上受講していた 場合、１分野修了とできる。できるだけ速やかに保育士等キャリアアップ研修の受講を促すこと。
B30: (3) 保育実践研修は平成29年度から令和元年度までに実施されたものに限り含めることができる。 マネジメント研修は平成29年度から令和元年度までに実施されたものに限り専門分野別研修に含めることができる。(副主任保育士は令和２年度以降も含めることができる。)
B31: (4) 研修受講履歴一覧の内容を確認できる資料（保育士等キャリアアップ研修修了証の写等）を施設において保管すること。
B32: (5) 行が足りない場合は、No２～14の行を選択し挿入すること。
B33: (6) 保育士等キャリアアップ研修は「保育士等キャリアアップ研修の実施について（平成29年４月１日厚生労働省雇用均等・児童家庭局保育課長通知）」の記載に基づき、 「都道府県又は都道府県知事の指定した研修実施機関」が実施主体であるものが対象となる。
B34: (7) 保育士等キャリアアップ研修は「保育士等キャリアアップ研修の実施について」（平成29年４月１日付け雇児保発０４０１第１号厚生労働省雇用均等・児童家庭局保育課長通知） の記載に基づくものが対象となる。実施主体は「都道府県又は都道府県知事の指定した研修実施機関」とする。

Sheet マスタ
A1: ※最後に非表示にします | C1: 職位
B2: 施設・事業種別 | C2: 副主任保育士 | D2: 研修名_区分３ | E2: 副主任保育士 | F2: 専門リーダー | G2: 職務分野別リーダー | H2: なし_職員処遇改善費のみの対象者 | I2: 園長で副主任保育士の研修 | J2: 園長で専門リーダーの研修 | K2: 主任保育士で副主任保育士の研修 | L2: 主任保育士で専門リーダーの研修 | M2: 副園長で副主任保育士の研修 | N2: 副園長で専門リーダーの研修
B3: 保育所 | C3: 専門リーダー | D3: 保育士等キャリアアップ研修（下記(7)に基づくもの） | E3: 乳児保育 | F3: 乳児保育 | G3: 乳児保育 | H3: 乳児保育 | I3: 乳児保育 | J3: 乳児保育 | K3: 乳児保育 | L3: 乳児保育 | M3: 乳児保育 | N3: 乳児保育
B4: 小規模保育事業 | C4: 職務分野別リーダー | D4: 幼稚園教諭旧免許状更新講習・免許法認定講習 | E4: 幼児教育 | F4: 幼児教育 | G4: 幼児教育 | H4: 幼児教育 | I4: 幼児教育 | J4: 幼児教育 | K4: 幼児教育 | L4: 幼児教育 | M4: 幼児教育 | N4: 幼児教育
B5: 家庭的保育事業 | C5: なし_職員処遇改善費のみの対象者 | D5: 【職員処遇改善費のみ対象】横浜市（区）主催研修 | E5: 障害児保育 | F5: 障害児保育 | G5: 障害児保育 | H5: 障害児保育 | I5: 障害児保育 | J5: 障害児保育 | K5: 障害児保育 | L5: 障害児保育 | M5: 障害児保育 | N5: 障害児保育
B6: 事業所内保育事業 | C6: 園長で副主任保育士の研修 | D6: 【職員処遇改善費のみ対象】園内研修 | E6: 食育・アレルギー対応 | F6: 食育・アレルギー対応 | G6: 食育・アレルギー対応 | H6: 食育・アレルギー対応 | I6: 食育・アレルギー対応 | J6: 食育・アレルギー対応 | K6: 食育・アレルギー対応 | L6: 食育・アレルギー対応 | M6: 食育・アレルギー対応 | N6: 食育・アレルギー対応
B7: 居宅訪問型保育事業 | C7: 園長で専門リーダーの研修 | D7: 【幼稚園又は認定こども園に勤務していた者】その他 | E7: 保健衛生・安全対策 | F7: 保健衛生・安全対策 | G7: 保健衛生・安全対策 | H7: 保健衛生・安全対策 | I7: 保健衛生・安全対策 | J7: 保健衛生・安全対策 | K7: 保健衛生・安全対策 | L7: 保健衛生・安全対策 | M7: 保健衛生・安全対策 | N7: 保健衛生・安全対策
C8: 主任保育士で副主任保育士の研修 | D8: ※職員処遇を兼ねる人もいるが、区分３の要件をみたしている段階で、市主催研修の必要がないため、選択肢なし | E8: 保護者支援・子育て支援 | F8: 保護者支援・子育て支援 | G8: 保護者支援・子育て支援 | H8: 保護者支援・子育て支援 | I8: 保護者支援・子育て支援 | J8: 保護者支援・子育て支援 | K8: 保護者支援・子育て支援 | L8: 保護者支援・子育て支援 | M8: 保護者支援・子育て支援 | N8: 保護者支援・子育て支援
C9: 主任保育士で専門リーダーの研修 | E9: マネジメント研修 | F9: マネジメント研修（H29～R1） | G9: マネジメント研修（H29～R1） | H9: マネジメント研修 | I9: マネジメント研修 | J9: マネジメント研修（H29～R1） | K9: マネジメント研修 | L9: マネジメント研修（H29～R1） | M9: マネジメント研修 | N9: マネジメント研修（H29～R1）
C10: 副園長で副主任保育士の研修 | E10: 保育実践研修（H29～R1） | F10: 保育実践研修（H29～R1） | G10: 保育実践研修（H29～R1） | H10: 保育実践研修（H29～R1） | I10: 保育実践研修（H29～R1） | J10: 保育実践研修（H29～R1） | K10: 保育実践研修（H29～R1） | L10: 保育実践研修（H29～R1） | M10: 保育実践研修（H29～R1） | N10: 保育実践研修（H29～R1）
C11: 副園長で専門リーダーの研修
B12: 実施主体（幼稚園・認定こども園） | C12: 実施主体(保育士等キャリアアップ研修（下記(7)に基づくもの））
B13: ①都道府県又は市町村（教育委員会を含む。） | C13: ①都道府県 | D13: 研修名_職員処遇改善費 | E13: 〇 | F13: ✕ | G13: 副主任保育士〇 | H13: 専門リーダー〇 | I13: 職務分野別リーダー〇 | J13: なし_職員処遇改善費のみの対象者〇 | K13: 園長で副主任保育士の研修〇 | L13: 園長で専門リーダーの研修〇 | M13: 主任保育士で副主任保育士の研修〇 | N13: 主任保育士で専門リーダーの研修〇 | O13: 副園長で副主任保育士の研修〇 | P13: 副園長で専門リーダーの研修〇 | Q13: 副主任保育士× | R13: 専門リーダー✕ | S13: 職務分野別リーダー✕ | T13: なし_職員処遇改善費のみの対象者✕ | U13: 園長で副主任保育士の研修✕ | V13: 園長で専門リーダーの研修✕ | W13: 主任保育士で副主任保育士の研修✕ | X13: 主任保育士で専門リーダーの研修✕ | Y13: 副園長で副主任保育士の研修✕ | Z13: 副園長で専門リーダーの研修✕
B14: ②幼稚園関係団体又は認定こども園関係団体のうち、都道府県が適当と認めた者 | C14: ②都道府県により指定を受けた機関（市町村等） | D14: 保育士等キャリアアップ研修（下記(7)に基づくもの） | E14: 保育士等キャリアアップ研修（下記(7)に基づくもの） | F14: 保育士等キャリアアップ研修（下記(7)に基づくもの） | G14: 保育士等キャリアアップ研修（下記(7)に基づくもの） | H14: 保育士等キャリアアップ研修（下記(7)に基づくもの） | I14: 保育士等キャリアアップ研修（下記(7)に基づくもの） | J14: 保育士等キャリアアップ研修（下記(7)に基づくもの） | K14: 保育士等キャリアアップ研修（下記(7)に基づくもの） | L14: 保育士等キャリアアップ研修（下記(7)に基づくもの） | M14: 保育士等キャリアアップ研修（下記(7)に基づくもの） | N14: 保育士等キャリアアップ研修（下記(7)に基づくもの） | O14: 保育士等キャリアアップ研修（下記(7)に基づくもの） | P14: 保育士等キャリアアップ研修（下記(7)に基づくもの） | Q14: 保育士等キャリアアップ研修（下記(7)に基づくもの） | R14: 保育士等キャリアアップ研修（下記(7)に基づくもの） | S14: 保育士等キャリアアップ研修（下記(7)に基づくもの） | T14: 保育士等キャリアアップ研修（下記(7)に基づくもの） | U14: 保育士等キャリアアップ研修（下記(7)に基づくもの） | V14: 保育士等キャリアアップ研修（下記(7)に基づくもの） | W14: 保育士等キャリアアップ研修（下記(7)に基づくもの） | X14: 保育士等キャリアアップ研修（下記(7)に基づくもの） | Y14: 保育士等キャリアアップ研修（下記(7)に基づくもの） | Z14: 保育士等キャリアアップ研修（下記(7)に基づくもの）
B15: ③大学等 | D15: 幼稚園教諭旧免許状更新講習・免許法認定講習 | E15: 幼稚園教諭旧免許状更新講習・免許法認定講習 | F15: 幼稚園教諭旧免許状更新講習・免許法認定講習 | G15: 幼稚園教諭旧免許状更新講習・免許法認定講習 | H15: 幼稚園教諭旧免許状更新講習・免許法認定講習 | I15: 幼稚園教諭旧免許状更新講習・免許法認定講習 | J15: 幼稚園教諭旧免許状更新講習・免許法認定講習 | K15: 幼稚園教諭旧免許状更新講習・免許法認定講習 | L15: 幼稚園教諭旧免許状更新講習・免許法認定講習 | M15: 幼稚園教諭旧免許状更新講習・免許法認定講習 | N15: 幼稚園教諭旧免許状更新講習・免許法認定講習 | O15: 幼稚園教諭旧免許状更新講習・免許法認定講習 | P15: 幼稚園教諭旧免許状更新講習・免許法認定講習 | Q15: 幼稚園教諭旧免許状更新講習・免許法認定講習 | R15: 幼稚園教諭旧免許状更新講習・免許法認定講習 | S15: 幼稚園教諭旧免許状更新講習・免許法認定講習 | T15: 幼稚園教諭旧免許状更新講習・免許法認定講習 | U15: 幼稚園教諭旧免許状更新講習・免許法認定講習 | V15: 幼稚園教諭旧免許状更新講習・免許法認定講習 | W15: 幼稚園教諭旧免許状更新講習・免許法認定講習 | X15: 幼稚園教諭旧免許状更新講習・免許法認定講習 | Y15: 幼稚園教諭旧免許状更新講習・免許法認定講習 | Z15: 幼稚園教諭旧免許状更新講習・免許法認定講習
B16: ④その他都道府県が適当と認めた者 | D16: 園内研修 | E16: 【職員処遇改善費のみ対象】横浜市（区）主催研修 | F16: 【職員処遇改善費のみ対象】横浜市（区）主催研修 | G16: 【職員処遇改善費のみ対象】横浜市（区）主催研修 | H16: 【職員処遇改善費のみ対象】横浜市（区）主催研修 | I16: 【職員処遇改善費のみ対象】横浜市（区）主催研修 | J16: 【職員処遇改善費のみ対象】横浜市（区）主催研修 | K16: 【幼稚園又は認定こども園に勤務していた者】その他 | L16: 【幼稚園又は認定こども園に勤務していた者】その他 | M16: 【幼稚園又は認定こども園に勤務していた者】その他 | N16: 【幼稚園又は認定こども園に勤務していた者】その他 | O16: 【幼稚園又は認定こども園に勤務していた者】その他 | P16: 【幼稚園又は認定こども園に勤務していた者】その他 | Q16: 【職員処遇改善費のみ対象】横浜市（区）主催研修 | R16: 【職員処遇改善費のみ対象】横浜市（区）主催研修 | S16: 【職員処遇改善費のみ対象】横浜市（区）主催研修 | T16: 【職員処遇改善費のみ対象】横浜市（区）主催研修
B17: ⑤園内における研修を企画・実施する幼稚園又は認定こども園 | D17: 横浜市（区）主催研修 | E17: 【職員処遇改善費のみ対象】園内研修 | F17: 【職員処遇改善費のみ対象】園内研修 | G17: 【職員処遇改善費のみ対象】園内研修 | H17: 【職員処遇改善費のみ対象】園内研修 | I17: 【職員処遇改善費のみ対象】園内研修 | J17: 【職員処遇改善費のみ対象】園内研修 | Q17: 【職員処遇改善費のみ対象】園内研修 | R17: 【職員処遇改善費のみ対象】園内研修 | S17: 【職員処遇改善費のみ対象】園内研修 | T17: 【職員処遇改善費のみ対象】園内研修
B18: ⑥保育士等キャリアアップ研修（下記(7)に基づくもの） | E18: 【幼稚園又は認定こども園に勤務していた者】その他 | G18: 【幼稚園又は認定こども園に勤務していた者】その他 | H18: 【幼稚園又は認定こども園に勤務していた者】その他 | I18: 【幼稚園又は認定こども園に勤務していた者】その他 | J18: 【幼稚園又は認定こども園に勤務していた者】その他
C20: 実施主体の選択肢を表示させるための対応表（名前の定義に文字種制限があるため）
C21: 選択肢の名称 | D21: 「名前の定義」の名称
C22: 保育士等キャリアアップ研修（下記(7)に基づくもの） | D22: 保育士等キャリアアップ研修_通知に基づくもの
C23: 【幼稚園又は認定こども園に勤務していた者】その他 | D23: 【幼稚園又は認定こども園に勤務していた者】その他

Sheet ①集計表
A1: 第５号様式の１
C2: 令和８年度 研修受講履歴一覧 集計表 | D2: （保育所・地域型保育事業所）
C4: 下記説明テキストに注意事項、対象研修を記載しております。 | F4: 所在区 | H4: =VLOOKUP($H$6,'R8施設一覧'!$A$2:$F$2000,4,0) -> #N/A
C5: 必ず確認しながら、作成してください | F5: 施設・事業所種別 | H5: =VLOOKUP($H$6,'R8施設一覧'!$A$2:$F$2000,3,0) -> #N/A
C6: ●処遇改善等加算区分１・２・３及び職員処遇改善費～制度編～ （令和8年4月版） | F6: 施設・事業所番号
C7: ●処遇改善等加算区分３及び職員処遇改善費 申請事務手続き編 （令和8年10月版） | F7: 施設・事業所名 | H7: =VLOOKUP($H$6,'R8施設一覧'!$A$2:$F$2000,6,0) -> #N/A
F8: 代表者職・氏名
B9: Ｂ列最後非表示にする
A10: No | B10: シート名 | C10: 氏名 | D10: 職位
A12: 1 | B12: ②名簿１ | C12: {=IF(INDIRECT(B12&"!$C$7")="","",INDIRECT(B12&"!$C$7"))} | D12: {=IF(INDIRECT(B12&"!$C$6")="","",INDIRECT(B12&"!$C$6"))}
A13: 2 | B13: ②名簿２ | C13: {=IF(INDIRECT(B13&"!$C$7")="","",INDIRECT(B13&"!$C$7"))} | D13: {=IF(INDIRECT(B13&"!$C$6")="","",INDIRECT(B13&"!$C$6"))}
A14: 3 | B14: ②名簿３ | C14: {=IF(INDIRECT(B14&"!$C$7")="","",INDIRECT(B14&"!$C$7"))} | D14: {=IF(INDIRECT(B14&"!$C$6")="","",INDIRECT(B14&"!$C$6"))}
A15: 4 | B15: ②名簿４ | C15: {=IF(INDIRECT(B15&"!$C$7")="","",INDIRECT(B15&"!$C$7"))} | D15: {=IF(INDIRECT(B15&"!$C$6")="","",INDIRECT(B15&"!$C$6"))}
A16: 5 | B16: ②名簿５ | C16: {=IF(INDIRECT(B16&"!$C$7")="","",INDIRECT(B16&"!$C$7"))} | D16: {=IF(INDIRECT(B16&"!$C$6")="","",INDIRECT(B16&"!$C$6"))}
A17: 6 | B17: ②名簿６ | C17: {=IF(INDIRECT(B17&"!$C$7")="","",INDIRECT(B17&"!$C$7"))} | D17: {=IF(INDIRECT(B17&"!$C$6")="","",INDIRECT(B17&"!$C$6"))}
A18: 7 | B18: ②名簿７ | C18: {=IF(INDIRECT(B18&"!$C$7")="","",INDIRECT(B18&"!$C$7"))} | D18: {=IF(INDIRECT(B18&"!$C$6")="","",INDIRECT(B18&"!$C$6"))}
A19: 8 | B19: ②名簿８ | C19: {=IF(INDIRECT(B19&"!$C$7")="","",INDIRECT(B19&"!$C$7"))} | D19: {=IF(INDIRECT(B19&"!$C$6")="","",INDIRECT(B19&"!$C$6"))}
A20: 9 | B20: ②名簿９ | C20: {=IF(INDIRECT(B20&"!$C$7")="","",INDIRECT(B20&"!$C$7"))} | D20: {=IF(INDIRECT(B20&"!$C$6")="","",INDIRECT(B20&"!$C$6"))}
A21: 10 | B21: ②名簿１０ | C21: {=IF(INDIRECT(B21&"!$C$7")="","",INDIRECT(B21&"!$C$7"))} | D21: {=IF(INDIRECT(B21&"!$C$6")="","",INDIRECT(B21&"!$C$6"))}
A22: 11 | B22: ②名簿１１ | C22: {=IF(INDIRECT(B22&"!$C$7")="","",INDIRECT(B22&"!$C$7"))} | D22: {=IF(INDIRECT(B22&"!$C$6")="","",INDIRECT(B22&"!$C$6"))}
A23: 12 | B23: ②名簿１２ | C23: {=IF(INDIRECT(B23&"!$C$7")="","",INDIRECT(B23&"!$C$7"))} | D23: {=IF(INDIRECT(B23&"!$C$6")="","",INDIRECT(B23&"!$C$6"))}
... A111: 100 | B111: ②名簿１００ | C111: {=IF(INDIRECT(B111&"!$C$7")="","",INDIRECT(B111&"!$C$7"))} | D111: {=IF(INDIRECT(B111&"!$C$6")="","",INDIRECT(B111&"!$C$6"))}

Sheet ②名簿１
A1: 第５号様式の１ | D1: 令和 ８ 年度 研修受講履歴一覧 名簿（保育所・地域型保育事業所）
G3: 所在区 | H3: =①集計表!H4 -> #N/A
G4: 施設・事業所種別 | H4: =①集計表!H5 -> #N/A
G5: 施設・事業所番号 | H5: =①集計表!H6 -> 0
B6: 職位 | G6: 施設・事業所名 | H6: =①集計表!H7 -> #N/A
B7: 氏名 | G7: 代表者職・氏名 | H7: =①集計表!H8 -> 0
B8: 幼稚園又は認定こども園に勤務していた者 | E8: ↓マネジメント分野の修了チェック↓ | L8: 開始日（データの入力規則用）
E9: =IF($C$6="","職位を選択してください",IF(ISNUMBER(SEARCH("副主任保育士",C6)),IF(COUNTIF(H:H,"マネジメント研修")>0,"必修数を満たしています","区分３（人数Ａ）対象者は、マネジメント分野（1分野）必修です。入力してください。"),IF(ISNUMBER(SEARCH("職員処遇",C6)),"必修ではありません。","必修ではありません。令和２年３月31日までの修了分は算定可能です。"))) -> 職位を選択してください | L9: キャリアアップ研修 | M9: 42826
A10: 区分３及び職員処遇改善費の対象と認められる研修のみ入力してください（下記(6)参照）。そのうち、キャリアアップ研修が対象か否かについては最下部(7)を参照のうえ、不明な場合は実施主体に必ず確認してください。
A11: No | B11: 各行最後に入力 修了年月日 (例:R2.6.1) ※研修種別～ 研修分野 を入力後に入力してください。 | C11: 研修種別 | D11: 実施主体 ※研修種別を入力後に選択してください | F11: 講義名・テーマ | G11: 修了証番号 | H11: 研修分野 ※職位を入力後に選択してください | I11: 横浜市（区）主催研修等の 修了時間数 （単位：時間） | J11: 備考 | L11: 修了年月日 （データの入力規則用）
A12: 1 | L12: 保育実践 マネジメント | M12: 43921
A13: 2 | K13: =IF(H13<>"",1,0) -> 0 | L13: それ以外の研修 | M13: 45382
A14: 3 | K14: =IF(H14<>"",1,0) -> 0 | L14: =IF(C14="その他",1,"")
A15: 4 | K15: =IF(H15<>"",1,0) -> 0 | L15: =IF(C15="その他",1,"")
A16: 5 | K16: =IF(H16<>"",1,0) -> 0 | L16: =IF(C16="その他",1,"")
A17: 6 | K17: =IF(H17<>"",1,0) -> 0 | L17: =IF(C17="その他",1,"")
A18: 7 | K18: =IF(H18<>"",1,0) -> 0 | L18: =IF(C18="その他",1,"")
A19: 8 | K19: =IF(H19<>"",1,0) -> 0 | L19: =IF(C19="その他",1,"")
A20: 9 | K20: =IF(H20<>"",1,0) -> 0 | L20: =IF(C20="その他",1,"")
A21: 10 | K21: =IF(H21<>"",1,0) -> 0 | L21: =IF(C21="その他",1,"")
A22: 11 | K22: =IF(H22<>"",1,0) -> 0 | L22: =IF(C22="その他",1,"")
A23: 12 | K23: =IF(H23<>"",1,0) -> 0 | L23: =IF(C23="その他",1,"")
A24: 13 | K24: =IF(H24<>"",1,0) -> 0 | L24: =IF(C24="その他",1,"")
A25: 14 | K25: =IF(H25<>"",1,0) -> 0 | L25: =IF(C25="その他",1,"")
A26: 15 | K26: =IF(H26<>"",1,0) -> 0 | L26: =IF(SUMIF(C13:C26,"【職員処遇改善費のみ対象】園内研修",I12:I26)>VLOOKUP(C6,M26:N28,2,FALSE),VLOOKUP(C6,M26:N28,2,FALSE)-SUMIF(C13:C26,"【職員処遇改善費のみ対象】園内研修",I12:I26),"") -> #N/A | M26: 園内研修 | N26: 4
B27: 【留意事項】
B28: (1) 「修了年月日」は、研修修了証の年月日又は研修を受講した年月日を記入する。
B29: (2) 幼稚園又は認定こども園に勤務していた者は幼稚園教育要領等を踏まえて教育の質を高めるための知識・技術の向上を目的とした研修を15時間以上受講していた 場合、１分野修了とできる。できるだけ速やかに保育士等キャリアアップ研修の受講を促すこと。
B30: (3) 保育実践研修は平成29年度から令和元年度までに実施されたものに限り含めることができる。 マネジメント研修は平成29年度から令和元年度までに実施されたものに限り専門分野別研修に含めることができる。(副主任保育士は令和２年度以降も含めることができる。)
B31: (4) 研修受講履歴一覧の内容を確認できる資料（保育士等キャリアアップ研修修了証の写等）を施設において保管すること。
B32: (5) 行が足りない場合は、No２～14の行を選択し挿入すること。
B33: (6) 区分３の対象となる研修は「施設型給付費等に係る処遇改善等加算（区分３）に係る研修修了要件について」（令和７年９月16日付けこ成基202 ７初幼教第４号こども家庭庁成育局 保育政策課長、こども家庭庁成育局成育基盤企画課長及び文部科学省初等中等教育局幼児教育課長連盟通知）の記載に基づくものとする。 職員処遇改善費の対象となる研修は「横浜市処遇改善等加算取扱要領」（平成27年４月１日付けこ保運第１号）の記載に基づくものとする。
B34: (7) 保育士等キャリアアップ研修は「保育士等キャリアアップ研修の実施について」（平成29年４月１日付け雇児保発０４０１第１号厚生労働省雇用均等・児童家庭局保育課長通知） の記載に基づくものが対象となる。実施主体は「都道府県又は都道府県知事の指定した研修実施機関」とする。

Sheet ②名簿２
A1: 第５号様式の１ | D1: 令和 ８ 年度 研修受講履歴一覧 名簿（保育所・地域型保育事業所）
G3: 所在区 | H3: =①集計表!H4 -> #N/A
G4: 施設・事業所種別 | H4: =①集計表!H5 -> #N/A
G5: 施設・事業所番号 | H5: =①集計表!H6 -> 0
B6: 職位 | G6: 施設・事業所名 | H6: =①集計表!H7 -> #N/A
B7: 氏名 | G7: 代表者職・氏名 | H7: =①集計表!H8 -> 0
B8: 幼稚園又は認定こども園に勤務していた者 | E8: ↓マネジメント分野の修了チェック↓ | L8: 開始日（データの入力規則用）
E9: =IF($C$6="","職位を選択してください",IF(ISNUMBER(SEARCH("副主任保育士",C6)),IF(COUNTIF(H:H,"マネジメント研修")>0,"必修数を満たしています","区分３（人数Ａ）対象者は、マネジメント分野（1分野）必修です。入力してください。"),IF(ISNUMBER(SEARCH("職員処遇",C6)),"必修ではありません。","必修ではありません。令和２年３月31日までの修了分は算定可能です。"))) -> 職位を選択してください | L9: キャリアアップ研修 | M9: 42826
A10: 区分３及び職員処遇改善費の対象と認められる研修のみ入力してください（下記(6)参照）。そのうち、キャリアアップ研修が対象か否かについては最下部(7)を参照のうえ、不明な場合は実施主体に必ず確認してください。
A11: No | B11: 各行最後に入力 修了年月日 (例:R2.6.1) ※研修種別～ 研修分野 を入力後に入力してください。 | C11: 研修種別 | D11: 実施主体 ※研修種別を入力後に選択してください | F11: 講義名・テーマ | G11: 修了証番号 | H11: 研修分野 ※職位を入力後に選択してください | I11: 横浜市（区）主催研修等の 修了時間数 （単位：時間） | J11: 備考 | L11: 修了年月日 （データの入力規則用）
A12: 1 | L12: 保育実践 マネジメント | M12: 43921
A13: 2 | K13: =IF(H13<>"",1,0) -> 0 | L13: それ以外の研修 | M13: 45382
A14: 3 | K14: =IF(H14<>"",1,0) -> 0 | L14: =IF(C14="その他",1,"")
A15: 4 | K15: =IF(H15<>"",1,0) -> 0 | L15: =IF(C15="その他",1,"")
A16: 5 | K16: =IF(H16<>"",1,0) -> 0 | L16: =IF(C16="その他",1,"")
A17: 6 | K17: =IF(H17<>"",1,0) -> 0 | L17: =IF(C17="その他",1,"")
A18: 7 | K18: =IF(H18<>"",1,0) -> 0 | L18: =IF(C18="その他",1,"")
A19: 8 | K19: =IF(H19<>"",1,0) -> 0 | L19: =IF(C19="その他",1,"")
A20: 9 | K20: =IF(H20<>"",1,0) -> 0 | L20: =IF(C20="その他",1,"")
A21: 10 | K21: =IF(H21<>"",1,0) -> 0 | L21: =IF(C21="その他",1,"")
A22: 11 | K22: =IF(H22<>"",1,0) -> 0 | L22: =IF(C22="その他",1,"")
A23: 12 | K23: =IF(H23<>"",1,0) -> 0 | L23: =IF(C23="その他",1,"")
A24: 13 | K24: =IF(H24<>"",1,0) -> 0 | L24: =IF(C24="その他",1,"")
A25: 14 | K25: =IF(H25<>"",1,0) -> 0 | L25: =IF(C25="その他",1,"")
A26: 15 | K26: =IF(H26<>"",1,0) -> 0 | L26: =IF(SUMIF(C13:C26,"【職員処遇改善費のみ対象】園内研修",I12:I26)>VLOOKUP(C6,M26:N28,2,FALSE),VLOOKUP(C6,M26:N28,2,FALSE)-SUMIF(C13:C26,"【職員処遇改善費のみ対象】園内研修",I12:I26),"") -> #N/A | M26: 園内研修 | N26: 4
B27: 【留意事項】
B28: (1) 「修了年月日」は、研修修了証の年月日又は研修を受講した年月日を記入する。
B29: (2) 幼稚園又は認定こども園に勤務していた者は幼稚園教育要領等を踏まえて教育の質を高めるための知識・技術の向上を目的とした研修を15時間以上受講していた 場合、１分野修了とできる。できるだけ速やかに保育士等キャリアアップ研修の受講を促すこと。
B30: (3) 保育実践研修は平成29年度から令和元年度までに実施されたものに限り含めることができる。 マネジメント研修は平成29年度から令和元年度までに実施されたものに限り専門分野別研修に含めることができる。(副主任保育士は令和２年度以降も含めることができる。)
B31: (4) 研修受講履歴一覧の内容を確認できる資料（保育士等キャリアアップ研修修了証の写等）を施設において保管すること。
B32: (5) 行が足りない場合は、No２～14の行を選択し挿入すること。
B33: (6) 区分３の対象となる研修は「施設型給付費等に係る処遇改善等加算（区分３）に係る研修修了要件について」（令和７年９月16日付けこ成基202 ７初幼教第４号こども家庭庁成育局 保育政策課長、こども家庭庁成育局成育基盤企画課長及び文部科学省初等中等教育局幼児教育課長連盟通知）の記載に基づくものとする。 職員処遇改善費の対象となる研修は「横浜市処遇改善等加算取扱要領」（平成27年４月１日付けこ保運第１号）の記載に基づくものとする。
B34: (7) 保育士等キャリアアップ研修は「保育士等キャリアアップ研修の実施について」（平成29年４月１日付け雇児保発０４０１第１号厚生労働省雇用均等・児童家庭局保育課長通知） の記載に基づくものが対象となる。実施主体は「都道府県又は都道府県知事の指定した研修実施機関」とする。

Sheet ②名簿３
A1: 第５号様式の１ | D1: 令和 ８ 年度 研修受講履歴一覧 名簿（保育所・地域型保育事業所）
G3: 所在区 | H3: =①集計表!H4 -> #N/A
G4: 施設・事業所種別 | H4: =①集計表!H5 -> #N/A
G5: 施設・事業所番号 | H5: =①集計表!H6 -> 0
B6: 職位 | G6: 施設・事業所名 | H6: =①集計表!H7 -> #N/A
B7: 氏名 | G7: 代表者職・氏名 | H7: =①集計表!H8 -> 0
B8: 幼稚園又は認定こども園に勤務していた者 | E8: ↓マネジメント分野の修了チェック↓ | L8: 開始日（データの入力規則用）
E9: =IF($C$6="","職位を選択してください",IF(ISNUMBER(SEARCH("副主任保育士",C6)),IF(COUNTIF(H:H,"マネジメント研修")>0,"必修数を満たしています","区分３（人数Ａ）対象者は、マネジメント分野（1分野）必修です。入力してください。"),IF(ISNUMBER(SEARCH("職員処遇",C6)),"必修ではありません。","必修ではありません。令和２年３月31日までの修了分は算定可能です。"))) -> 職位を選択してください | L9: キャリアアップ研修 | M9: 42826
A10: 区分３及び職員処遇改善費の対象と認められる研修のみ入力してください（下記(6)参照）。そのうち、キャリアアップ研修が対象か否かについては最下部(7)を参照のうえ、不明な場合は実施主体に必ず確認してください。
A11: No | B11: 各行最後に入力 修了年月日 (例:R2.6.1) ※研修種別～ 研修分野 を入力後に入力してください。 | C11: 研修種別 | D11: 実施主体 ※研修種別を入力後に選択してください | F11: 講義名・テーマ | G11: 修了証番号 | H11: 研修分野 ※職位を入力後に選択してください | I11: 横浜市（区）主催研修等の 修了時間数 （単位：時間） | J11: 備考 | L11: 修了年月日 （データの入力規則用）
A12: 1 | L12: 保育実践 マネジメント | M12: 43921
A13: 2 | K13: =IF(H13<>"",1,0) -> 0 | L13: それ以外の研修 | M13: 45382
A14: 3 | K14: =IF(H14<>"",1,0) -> 0 | L14: =IF(C14="その他",1,"")
A15: 4 | K15: =IF(H15<>"",1,0) -> 0 | L15: =IF(C15="その他",1,"")
A16: 5 | K16: =IF(H16<>"",1,0) -> 0 | L16: =IF(C16="その他",1,"")
A17: 6 | K17: =IF(H17<>"",1,0) -> 0 | L17: =IF(C17="その他",1,"")
A18: 7 | K18: =IF(H18<>"",1,0) -> 0 | L18: =IF(C18="その他",1,"")
A19: 8 | K19: =IF(H19<>"",1,0) -> 0 | L19: =IF(C19="その他",1,"")
A20: 9 | K20: =IF(H20<>"",1,0) -> 0 | L20: =IF(C20="その他",1,"")
A21: 10 | K21: =IF(H21<>"",1,0) -> 0 | L21: =IF(C21="その他",1,"")
A22: 11 | K22: =IF(H22<>"",1,0) -> 0 | L22: =IF(C22="その他",1,"")
A23: 12 | K23: =IF(H23<>"",1,0) -> 0 | L23: =IF(C23="その他",1,"")
A24: 13 | K24: =IF(H24<>"",1,0) -> 0 | L24: =IF(C24="その他",1,"")
A25: 14 | K25: =IF(H25<>"",1,0) -> 0 | L25: =IF(C25="その他",1,"")
A26: 15 | K26: =IF(H26<>"",1,0) -> 0 | L26: =IF(SUMIF(C13:C26,"【職員処遇改善費のみ対象】園内研修",I12:I26)>VLOOKUP(C6,M26:N28,2,FALSE),VLOOKUP(C6,M26:N28,2,FALSE)-SUMIF(C13:C26,"【職員処遇改善費のみ対象】園内研修",I12:I26),"") -> #N/A | M26: 園内研修 | N26: 4
B27: 【留意事項】
B28: (1) 「修了年月日」は、研修修了証の年月日又は研修を受講した年月日を記入する。
B29: (2) 幼稚園又は認定こども園に勤務していた者は幼稚園教育要領等を踏まえて教育の質を高めるための知識・技術の向上を目的とした研修を15時間以上受講していた 場合、１分野修了とできる。できるだけ速やかに保育士等キャリアアップ研修の受講を促すこと。
B30: (3) 保育実践研修は平成29年度から令和元年度までに実施されたものに限り含めることができる。 マネジメント研修は平成29年度から令和元年度までに実施されたものに限り専門分野別研修に含めることができる。(副主任保育士は令和２年度以降も含めることができる。)
B31: (4) 研修受講履歴一覧の内容を確認できる資料（保育士等キャリアアップ研修修了証の写等）を施設において保管すること。
B32: (5) 行が足りない場合は、No２～14の行を選択し挿入すること。
B33: (6) 区分３の対象となる研修は「施設型給付費等に係る処遇改善等加算（区分３）に係る研修修了要件について」（令和７年９月16日付けこ成基202 ７初幼教第４号こども家庭庁成育局 保育政策課長、こども家庭庁成育局成育基盤企画課長及び文部科学省初等中等教育局幼児教育課長連盟通知）の記載に基づくものとする。 職員処遇改善費の対象となる研修は「横浜市処遇改善等加算取扱要領」（平成27年４月１日付けこ保運第１号）の記載に基づくものとする。
B34: (7) 保育士等キャリアアップ研修は「保育士等キャリアアップ研修の実施について」（平成29年４月１日付け雇児保発０４０１第１号厚生労働省雇用均等・児童家庭局保育課長通知） の記載に基づくものが対象となる。実施主体は「都道府県又は都道府県知事の指定した研修実施機関」とする。

Sheet ②名簿４
A1: 第５号様式の１ | D1: 令和 ８ 年度 研修受講履歴一覧 名簿（保育所・地域型保育事業所）
G3: 所在区 | H3: =①集計表!H4 -> #N/A
G4: 施設・事業所種別 | H4: =①集計表!H5 -> #N/A
G5: 施設・事業所番号 | H5: =①集計表!H6 -> 0
B6: 職位 | G6: 施設・事業所名 | H6: =①集計表!H7 -> #N/A
B7: 氏名 | G7: 代表者職・氏名 | H7: =①集計表!H8 -> 0
B8: 幼稚園又は認定こども園に勤務していた者 | E8: ↓マネジメント分野の修了チェック↓ | L8: 開始日（データの入力規則用）
E9: =IF($C$6="","職位を選択してください",IF(ISNUMBER(SEARCH("副主任保育士",C6)),IF(COUNTIF(H:H,"マネジメント研修")>0,"必修数を満たしています","区分３（人数Ａ）対象者は、マネジメント分野（1分野）必修です。入力してください。"),IF(ISNUMBER(SEARCH("職員処遇",C6)),"必修ではありません。","必修ではありません。令和２年３月31日までの修了分は算定可能です。"))) -> 職位を選択してください | L9: キャリアアップ研修 | M9: 42826
A10: 区分３及び職員処遇改善費の対象と認められる研修のみ入力してください（下記(6)参照）。そのうち、キャリアアップ研修が対象か否かについては最下部(7)を参照のうえ、不明な場合は実施主体に必ず確認してください。
A11: No | B11: 各行最後に入力 修了年月日 (例:R2.6.1) ※研修種別～ 研修分野 を入力後に入力してください。 | C11: 研修種別 | D11: 実施主体 ※研修種別を入力後に選択してください | F11: 講義名・テーマ | G11: 修了証番号 | H11: 研修分野 ※職位を入力後に選択してください | I11: 横浜市（区）主催研修等の 修了時間数 （単位：時間） | J11: 備考 | L11: 修了年月日 （データの入力規則用）
A12: 1 | L12: 保育実践 マネジメント | M12: 43921
A13: 2 | K13: =IF(H13<>"",1,0) -> 0 | L13: それ以外の研修 | M13: 45382
A14: 3 | K14: =IF(H14<>"",1,0) -> 0 | L14: =IF(C14="その他",1,"")
A15: 4 | K15: =IF(H15<>"",1,0) -> 0 | L15: =IF(C15="その他",1,"")
A16: 5 | K16: =IF(H16<>"",1,0) -> 0 | L16: =IF(C16="その他",1,"")
A17: 6 | K17: =IF(H17<>"",1,0) -> 0 | L17: =IF(C17="その他",1,"")
A18: 7 | K18: =IF(H18<>"",1,0) -> 0 | L18: =IF(C18="その他",1,"")
A19: 8 | K19: =IF(H19<>"",1,0) -> 0 | L19: =IF(C19="その他",1,"")
A20: 9 | K20: =IF(H20<>"",1,0) -> 0 | L20: =IF(C20="その他",1,"")
A21: 10 | K21: =IF(H21<>"",1,0) -> 0 | L21: =IF(C21="その他",1,"")
A22: 11 | K22: =IF(H22<>"",1,0) -> 0 | L22: =IF(C22="その他",1,"")
A23: 12 | K23: =IF(H23<>"",1,0) -> 0 | L23: =IF(C23="その他",1,"")
A24: 13 | K24: =IF(H24<>"",1,0) -> 0 | L24: =IF(C24="その他",1,"")
A25: 14 | K25: =IF(H25<>"",1,0) -> 0 | L25: =IF(C25="その他",1,"")
A26: 15 | K26: =IF(H26<>"",1,0) -> 0 | L26: =IF(SUMIF(C13:C26,"【職員処遇改善費のみ対象】園内研修",I12:I26)>VLOOKUP(C6,M26:N28,2,FALSE),VLOOKUP(C6,M26:N28,2,FALSE)-SUMIF(C13:C26,"【職員処遇改善費のみ対象】園内研修",I12:I26),"") -> #N/A | M26: 園内研修 | N26: 4
B27: 【留意事項】
B28: (1) 「修了年月日」は、研修修了証の年月日又は研修を受講した年月日を記入する。
B29: (2) 幼稚園又は認定こども園に勤務していた者は幼稚園教育要領等を踏まえて教育の質を高めるための知識・技術の向上を目的とした研修を15時間以上受講していた 場合、１分野修了とできる。できるだけ速やかに保育士等キャリアアップ研修の受講を促すこと。
B30: (3) 保育実践研修は平成29年度から令和元年度までに実施されたものに限り含めることができる。 マネジメント研修は平成29年度から令和元年度までに実施されたものに限り専門分野別研修に含めることができる。(副主任保育士は令和２年度以降も含めることができる。)
B31: (4) 研修受講履歴一覧の内容を確認できる資料（保育士等キャリアアップ研修修了証の写等）を施設において保管すること。
B32: (5) 行が足りない場合は、No２～14の行を選択し挿入すること。
B33: (6) 区分３の対象となる研修は「施設型給付費等に係る処遇改善等加算（区分３）に係る研修修了要件について」（令和７年９月16日付けこ成基202 ７初幼教第４号こども家庭庁成育局 保育政策課長、こども家庭庁成育局成育基盤企画課長及び文部科学省初等中等教育局幼児教育課長連盟通知）の記載に基づくものとする。 職員処遇改善費の対象となる研修は「横浜市処遇改善等加算取扱要領」（平成27年４月１日付けこ保運第１号）の記載に基づくものとする。
B34: (7) 保育士等キャリアアップ研修は「保育士等キャリアアップ研修の実施について」（平成29年４月１日付け雇児保発０４０１第１号厚生労働省雇用均等・児童家庭局保育課長通知） の記載に基づくものが対象となる。実施主体は「都道府県又は都道府県知事の指定した研修実施機関」とする。

Sheet ②名簿５
A1: 第５号様式の１ | D1: 令和 ８ 年度 研修受講履歴一覧 名簿（保育所・地域型保育事業所）
G3: 所在区 | H3: =①集計表!H4 -> #N/A
G4: 施設・事業所種別 | H4: =①集計表!H5 -> #N/A
G5: 施設・事業所番号 | H5: =①集計表!H6 -> 0
B6: 職位 | G6: 施設・事業所名 | H6: =①集計表!H7 -> #N/A
B7: 氏名 | G7: 代表者職・氏名 | H7: =①集計表!H8 -> 0
B8: 幼稚園又は認定こども園に勤務していた者 | E8: ↓マネジメント分野の修了チェック↓ | L8: 開始日（データの入力規則用）
E9: =IF($C$6="","職位を選択してください",IF(ISNUMBER(SEARCH("副主任保育士",C6)),IF(COUNTIF(H:H,"マネジメント研修")>0,"必修数を満たしています","区分３（人数Ａ）対象者は、マネジメント分野（1分野）必修です。入力してください。"),IF(ISNUMBER(SEARCH("職員処遇",C6)),"必修ではありません。","必修ではありません。令和２年３月31日までの修了分は算定可能です。"))) -> 職位を選択してください | L9: キャリアアップ研修 | M9: 42826
A10: 区分３及び職員処遇改善費の対象と認められる研修のみ入力してください（下記(6)参照）。そのうち、キャリアアップ研修が対象か否かについては最下部(7)を参照のうえ、不明な場合は実施主体に必ず確認してください。
A11: No | B11: 各行最後に入力 修了年月日 (例:R2.6.1) ※研修種別～ 研修分野 を入力後に入力してください。 | C11: 研修種別 | D11: 実施主体 ※研修種別を入力後に選択してください | F11: 講義名・テーマ | G11: 修了証番号 | H11: 研修分野 ※職位を入力後に選択してください | I11: 横浜市（区）主催研修等の 修了時間数 （単位：時間） | J11: 備考 | L11: 修了年月日 （データの入力規則用）
A12: 1 | L12: 保育実践 マネジメント | M12: 43921
A13: 2 | K13: =IF(H13<>"",1,0) -> 0 | L13: それ以外の研修 | M13: 45382
A14: 3 | K14: =IF(H14<>"",1,0) -> 0 | L14: =IF(C14="その他",1,"")
A15: 4 | K15: =IF(H15<>"",1,0) -> 0 | L15: =IF(C15="その他",1,"")
A16: 5 | K16: =IF(H16<>"",1,0) -> 0 | L16: =IF(C16="その他",1,"")
A17: 6 | K17: =IF(H17<>"",1,0) -> 0 | L17: =IF(C17="その他",1,"")
A18: 7 | K18: =IF(H18<>"",1,0) -> 0 | L18: =IF(C18="その他",1,"")
A19: 8 | K19: =IF(H19<>"",1,0) -> 0 | L19: =IF(C19="その他",1,"")
A20: 9 | K20: =IF(H20<>"",1,0) -> 0 | L20: =IF(C20="その他",1,"")
A21: 10 | K21: =IF(H21<>"",1,0) -> 0 | L21: =IF(C21="その他",1,"")
A22: 11 | K22: =IF(H22<>"",1,0) -> 0 | L22: =IF(C22="その他",1,"")
A23: 12 | K23: =IF(H23<>"",1,0) -> 0 | L23: =IF(C23="その他",1,"")
A24: 13 | K24: =IF(H24<>"",1,0) -> 0 | L24: =IF(C24="その他",1,"")
A25: 14 | K25: =IF(H25<>"",1,0) -> 0 | L25: =IF(C25="その他",1,"")
A26: 15 | K26: =IF(H26<>"",1,0) -> 0 | L26: =IF(SUMIF(C13:C26,"【職員処遇改善費のみ対象】園内研修",I12:I26)>VLOOKUP(C6,M26:N28,2,FALSE),VLOOKUP(C6,M26:N28,2,FALSE)-SUMIF(C13:C26,"【職員処遇改善費のみ対象】園内研修",I12:I26),"") -> #N/A | M26: 園内研修 | N26: 4
B27: 【留意事項】
B28: (1) 「修了年月日」は、研修修了証の年月日又は研修を受講した年月日を記入する。
B29: (2) 幼稚園又は認定こども園に勤務していた者は幼稚園教育要領等を踏まえて教育の質を高めるための知識・技術の向上を目的とした研修を15時間以上受講していた 場合、１分野修了とできる。できるだけ速やかに保育士等キャリアアップ研修の受講を促すこと。
B30: (3) 保育実践研修は平成29年度から令和元年度までに実施されたものに限り含めることができる。 マネジメント研修は平成29年度から令和元年度までに実施されたものに限り専門分野別研修に含めることができる。(副主任保育士は令和２年度以降も含めることができる。)
B31: (4) 研修受講履歴一覧の内容を確認できる資料（保育士等キャリアアップ研修修了証の写等）を施設において保管すること。
B32: (5) 行が足りない場合は、No２～14の行を選択し挿入すること。
B33: (6) 区分３の対象となる研修は「施設型給付費等に係る処遇改善等加算（区分３）に係る研修修了要件について」（令和７年９月16日付けこ成基202 ７初幼教第４号こども家庭庁成育局 保育政策課長、こども家庭庁成育局成育基盤企画課長及び文部科学省初等中等教育局幼児教育課長連盟通知）の記載に基づくものとする。 職員処遇改善費の対象となる研修は「横浜市処遇改善等加算取扱要領」（平成27年４月１日付けこ保運第１号）の記載に基づくものとする。
B34: (7) 保育士等キャリアアップ研修は「保育士等キャリアアップ研修の実施について」（平成29年４月１日付け雇児保発０４０１第１号厚生労働省雇用均等・児童家庭局保育課長通知） の記載に基づくものが対象となる。実施主体は「都道府県又は都道府県知事の指定した研修実施機関」とする。

Sheet ②名簿６
A1: 第５号様式の１ | D1: 令和 ８ 年度 研修受講履歴一覧 名簿（保育所・地域型保育事業所）
G3: 所在区 | H3: =①集計表!H4 -> #N/A
G4: 施設・事業所種別 | H4: =①集計表!H5 -> #N/A
G5: 施設・事業所番号 | H5: =①集計表!H6 -> 0
B6: 職位 | G6: 施設・事業所名 | H6: =①集計表!H7 -> #N/A
B7: 氏名 | G7: 代表者職・氏名 | H7: =①集計表!H8 -> 0
B8: 幼稚園又は認定こども園に勤務していた者 | E8: ↓マネジメント分野の修了チェック↓ | L8: 開始日（データの入力規則用）
E9: =IF($C$6="","職位を選択してください",IF(ISNUMBER(SEARCH("副主任保育士",C6)),IF(COUNTIF(H:H,"マネジメント研修")>0,"必修数を満たしています","区分３（人数Ａ）対象者は、マネジメント分野（1分野）必修です。入力してください。"),IF(ISNUMBER(SEARCH("職員処遇",C6)),"必修ではありません。","必修ではありません。令和２年３月31日までの修了分は算定可能です。"))) -> 職位を選択してください | L9: キャリアアップ研修 | M9: 42826
A10: 区分３及び職員処遇改善費の対象と認められる研修のみ入力してください（下記(6)参照）。そのうち、キャリアアップ研修が対象か否かについては最下部(7)を参照のうえ、不明な場合は実施主体に必ず確認してください。
A11: No | B11: 各行最後に入力 修了年月日 (例:R2.6.1) ※研修種別～ 研修分野 を入力後に入力してください。 | C11: 研修種別 | D11: 実施主体 ※研修種別を入力後に選択してください | F11: 講義名・テーマ | G11: 修了証番号 | H11: 研修分野 ※職位を入力後に選択してください | I11: 横浜市（区）主催研修等の 修了時間数 （単位：時間） | J11: 備考 | L11: 修了年月日 （データの入力規則用）
A12: 1 | L12: 保育実践 マネジメント | M12: 43921
A13: 2 | K13: =IF(H13<>"",1,0) -> 0 | L13: それ以外の研修 | M13: 45382
A14: 3 | K14: =IF(H14<>"",1,0) -> 0 | L14: =IF(C14="その他",1,"")
A15: 4 | K15: =IF(H15<>"",1,0) -> 0 | L15: =IF(C15="その他",1,"")
A16: 5 | K16: =IF(H16<>"",1,0) -> 0 | L16: =IF(C16="その他",1,"")
A17: 6 | K17: =IF(H17<>"",1,0) -> 0 | L17: =IF(C17="その他",1,"")
A18: 7 | K18: =IF(H18<>"",1,0) -> 0 | L18: =IF(C18="その他",1,"")
A19: 8 | K19: =IF(H19<>"",1,0) -> 0 | L19: =IF(C19="その他",1,"")
A20: 9 | K20: =IF(H20<>"",1,0) -> 0 | L20: =IF(C20="その他",1,"")
A21: 10 | K21: =IF(H21<>"",1,0) -> 0 | L21: =IF(C21="その他",1,"")
A22: 11 | K22: =IF(H22<>"",1,0) -> 0 | L22: =IF(C22="その他",1,"")
A23: 12 | K23: =IF(H23<>"",1,0) -> 0 | L23: =IF(C23="その他",1,"")
A24: 13 | K24: =IF(H24<>"",1,0) -> 0 | L24: =IF(C24="その他",1,"")
A25: 14 | K25: =IF(H25<>"",1,0) -> 0 | L25: =IF(C25="その他",1,"")
A26: 15 | K26: =IF(H26<>"",1,0) -> 0 | L26: =IF(SUMIF(C13:C26,"【職員処遇改善費のみ対象】園内研修",I12:I26)>VLOOKUP(C6,M26:N28,2,FALSE),VLOOKUP(C6,M26:N28,2,FALSE)-SUMIF(C13:C26,"【職員処遇改善費のみ対象】園内研修",I12:I26),"") -> #N/A | M26: 園内研修 | N26: 4
B27: 【留意事項】
B28: (1) 「修了年月日」は、研修修了証の年月日又は研修を受講した年月日を記入する。
B29: (2) 幼稚園又は認定こども園に勤務していた者は幼稚園教育要領等を踏まえて教育の質を高めるための知識・技術の向上を目的とした研修を15時間以上受講していた 場合、１分野修了とできる。できるだけ速やかに保育士等キャリアアップ研修の受講を促すこと。
B30: (3) 保育実践研修は平成29年度から令和元年度までに実施されたものに限り含めることができる。 マネジメント研修は平成29年度から令和元年度までに実施されたものに限り専門分野別研修に含めることができる。(副主任保育士は令和２年度以降も含めることができる。)
B31: (4) 研修受講履歴一覧の内容を確認できる資料（保育士等キャリアアップ研修修了証の写等）を施設において保管すること。
B32: (5) 行が足りない場合は、No２～14の行を選択し挿入すること。
B33: (6) 区分３の対象となる研修は「施設型給付費等に係る処遇改善等加算（区分３）に係る研修修了要件について」（令和７年９月16日付けこ成基202 ７初幼教第４号こども家庭庁成育局 保育政策課長、こども家庭庁成育局成育基盤企画課長及び文部科学省初等中等教育局幼児教育課長連盟通知）の記載に基づくものとする。 職員処遇改善費の対象となる研修は「横浜市処遇改善等加算取扱要領」（平成27年４月１日付けこ保運第１号）の記載に基づくものとする。
B34: (7) 保育士等キャリアアップ研修は「保育士等キャリアアップ研修の実施について」（平成29年４月１日付け雇児保発０４０１第１号厚生労働省雇用均等・児童家庭局保育課長通知） の記載に基づくものが対象となる。実施主体は「都道府県又は都道府県知事の指定した研修実施機関」とする。

Sheet ②名簿７
A1: 第５号様式の１ | D1: 令和 ８ 年度 研修受講履歴一覧 名簿（保育所・地域型保育事業所）
G3: 所在区 | H3: =①集計表!H4 -> #N/A
G4: 施設・事業所種別 | H4: =①集計表!H5 -> #N/A
G5: 施設・事業所番号 | H5: =①集計表!H6 -> 0
B6: 職位 | G6: 施設・事業所名 | H6: =①集計表!H7 -> #N/A
B7: 氏名 | G7: 代表者職・氏名 | H7: =①集計表!H8 -> 0
B8: 幼稚園又は認定こども園に勤務していた者 | E8: ↓マネジメント分野の修了チェック↓ | L8: 開始日（データの入力規則用）
E9: =IF($C$6="","職位を選択してください",IF(ISNUMBER(SEARCH("副主任保育士",C6)),IF(COUNTIF(H:H,"マネジメント研修")>0,"必修数を満たしています","区分３（人数Ａ）対象者は、マネジメント分野（1分野）必修です。入力してください。"),IF(ISNUMBER(SEARCH("職員処遇",C6)),"必修ではありません。","必修ではありません。令和２年３月31日までの修了分は算定可能です。"))) -> 職位を選択してください | L9: キャリアアップ研修 | M9: 42826
A10: 区分３及び職員処遇改善費の対象と認められる研修のみ入力してください（下記(6)参照）。そのうち、キャリアアップ研修が対象か否かについては最下部(7)を参照のうえ、不明な場合は実施主体に必ず確認してください。
A11: No | B11: 各行最後に入力 修了年月日 (例:R2.6.1) ※研修種別～ 研修分野 を入力後に入力してください。 | C11: 研修種別 | D11: 実施主体 ※研修種別を入力後に選択してください | F11: 講義名・テーマ | G11: 修了証番号 | H11: 研修分野 ※職位を入力後に選択してください | I11: 横浜市（区）主催研修等の 修了時間数 （単位：時間） | J11: 備考 | L11: 修了年月日 （データの入力規則用）
A12: 1 | L12: 保育実践 マネジメント | M12: 43921
A13: 2 | K13: =IF(H13<>"",1,0) -> 0 | L13: それ以外の研修 | M13: 45382
A14: 3 | K14: =IF(H14<>"",1,0) -> 0 | L14: =IF(C14="その他",1,"")
A15: 4 | K15: =IF(H15<>"",1,0) -> 0 | L15: =IF(C15="その他",1,"")
A16: 5 | K16: =IF(H16<>"",1,0) -> 0 | L16: =IF(C16="その他",1,"")
A17: 6 | K17: =IF(H17<>"",1,0) -> 0 | L17: =IF(C17="その他",1,"")
A18: 7 | K18: =IF(H18<>"",1,0) -> 0 | L18: =IF(C18="その他",1,"")
A19: 8 | K19: =IF(H19<>"",1,0) -> 0 | L19: =IF(C19="その他",1,"")
A20: 9 | K20: =IF(H20<>"",1,0) -> 0 | L20: =IF(C20="その他",1,"")
A21: 10 | K21: =IF(H21<>"",1,0) -> 0 | L21: =IF(C21="その他",1,"")
A22: 11 | K22: =IF(H22<>"",1,0) -> 0 | L22: =IF(C22="その他",1,"")
A23: 12 | K23: =IF(H23<>"",1,0) -> 0 | L23: =IF(C23="その他",1,"")
A24: 13 | K24: =IF(H24<>"",1,0) -> 0 | L24: =IF(C24="その他",1,"")
A25: 14 | K25: =IF(H25<>"",1,0) -> 0 | L25: =IF(C25="その他",1,"")
A26: 15 | K26: =IF(H26<>"",1,0) -> 0 | L26: =IF(SUMIF(C13:C26,"【職員処遇改善費のみ対象】園内研修",I12:I26)>VLOOKUP(C6,M26:N28,2,FALSE),VLOOKUP(C6,M26:N28,2,FALSE)-SUMIF(C13:C26,"【職員処遇改善費のみ対象】園内研修",I12:I26),"") -> #N/A | M26: 園内研修 | N26: 4
B27: 【留意事項】
B28: (1) 「修了年月日」は、研修修了証の年月日又は研修を受講した年月日を記入する。
B29: (2) 幼稚園又は認定こども園に勤務していた者は幼稚園教育要領等を踏まえて教育の質を高めるための知識・技術の向上を目的とした研修を15時間以上受講していた 場合、１分野修了とできる。できるだけ速やかに保育士等キャリアアップ研修の受講を促すこと。
B30: (3) 保育実践研修は平成29年度から令和元年度までに実施されたものに限り含めることができる。 マネジメント研修は平成29年度から令和元年度までに実施されたものに限り専門分野別研修に含めることができる。(副主任保育士は令和２年度以降も含めることができる。)
B31: (4) 研修受講履歴一覧の内容を確認できる資料（保育士等キャリアアップ研修修了証の写等）を施設において保管すること。
B32: (5) 行が足りない場合は、No２～14の行を選択し挿入すること。
B33: (6) 区分３の対象となる研修は「施設型給付費等に係る処遇改善等加算（区分３）に係る研修修了要件について」（令和７年９月16日付けこ成基202 ７初幼教第４号こども家庭庁成育局 保育政策課長、こども家庭庁成育局成育基盤企画課長及び文部科学省初等中等教育局幼児教育課長連盟通知）の記載に基づくものとする。 職員処遇改善費の対象となる研修は「横浜市処遇改善等加算取扱要領」（平成27年４月１日付けこ保運第１号）の記載に基づくものとする。
B34: (7) 保育士等キャリアアップ研修は「保育士等キャリアアップ研修の実施について」（平成29年４月１日付け雇児保発０４０１第１号厚生労働省雇用均等・児童家庭局保育課長通知） の記載に基づくものが対象となる。実施主体は「都道府県又は都道府県知事の指定した研修実施機関」とする。

Sheet ②名簿８
A1: 第５号様式の１ | D1: 令和 ８ 年度 研修受講履歴一覧 名簿（保育所・地域型保育事業所）
G3: 所在区 | H3: =①集計表!H4 -> #N/A
G4: 施設・事業所種別 | H4: =①集計表!H5 -> #N/A
G5: 施設・事業所番号 | H5: =①集計表!H6 -> 0
B6: 職位 | G6: 施設・事業所名 | H6: =①集計表!H7 -> #N/A
B7: 氏名 | G7: 代表者職・氏名 | H7: =①集計表!H8 -> 0
B8: 幼稚園又は認定こども園に勤務していた者 | E8: ↓マネジメント分野の修了チェック↓ | L8: 開始日（データの入力規則用）
E9: =IF($C$6="","職位を選択してください",IF(ISNUMBER(SEARCH("副主任保育士",C6)),IF(COUNTIF(H:H,"マネジメント研修")>0,"必修数を満たしています","区分３（人数Ａ）対象者は、マネジメント分野（1分野）必修です。入力してください。"),IF(ISNUMBER(SEARCH("職員処遇",C6)),"必修ではありません。","必修ではありません。令和２年３月31日までの修了分は算定可能です。"))) -> 職位を選択してください | L9: キャリアアップ研修 | M9: 42826
A10: 区分３及び職員処遇改善費の対象と認められる研修のみ入力してください（下記(6)参照）。そのうち、キャリアアップ研修が対象か否かについては最下部(7)を参照のうえ、不明な場合は実施主体に必ず確認してください。
A11: No | B11: 各行最後に入力 修了年月日 (例:R2.6.1) ※研修種別～ 研修分野 を入力後に入力してください。 | C11: 研修種別 | D11: 実施主体 ※研修種別を入力後に選択してください | F11: 講義名・テーマ | G11: 修了証番号 | H11: 研修分野 ※職位を入力後に選択してください | I11: 横浜市（区）主催研修等の 修了時間数 （単位：時間） | J11: 備考 | L11: 修了年月日 （データの入力規則用）
A12: 1 | L12: 保育実践 マネジメント | M12: 43921
A13: 2 | K13: =IF(H13<>"",1,0) -> 0 | L13: それ以外の研修 | M13: 45382
A14: 3 | K14: =IF(H14<>"",1,0) -> 0 | L14: =IF(C14="その他",1,"")
A15: 4 | K15: =IF(H15<>"",1,0) -> 0 | L15: =IF(C15="その他",1,"")
A16: 5 | K16: =IF(H16<>"",1,0) -> 0 | L16: =IF(C16="その他",1,"")
A17: 6 | K17: =IF(H17<>"",1,0) -> 0 | L17: =IF(C17="その他",1,"")
A18: 7 | K18: =IF(H18<>"",1,0) -> 0 | L18: =IF(C18="その他",1,"")
A19: 8 | K19: =IF(H19<>"",1,0) -> 0 | L19: =IF(C19="その他",1,"")
A20: 9 | K20: =IF(H20<>"",1,0) -> 0 | L20: =IF(C20="その他",1,"")
A21: 10 | K21: =IF(H21<>"",1,0) -> 0 | L21: =IF(C21="その他",1,"")
A22: 11 | K22: =IF(H22<>"",1,0) -> 0 | L22: =IF(C22="その他",1,"")
A23: 12 | K23: =IF(H23<>"",1,0) -> 0 | L23: =IF(C23="その他",1,"")
A24: 13 | K24: =IF(H24<>"",1,0) -> 0 | L24: =IF(C24="その他",1,"")
A25: 14 | K25: =IF(H25<>"",1,0) -> 0 | L25: =IF(C25="その他",1,"")
A26: 15 | K26: =IF(H26<>"",1,0) -> 0 | L26: =IF(SUMIF(C13:C26,"【職員処遇改善費のみ対象】園内研修",I12:I26)>VLOOKUP(C6,M26:N28,2,FALSE),VLOOKUP(C6,M26:N28,2,FALSE)-SUMIF(C13:C26,"【職員処遇改善費のみ対象】園内研修",I12:I26),"") -> #N/A | M26: 園内研修 | N26: 4
B27: 【留意事項】
B28: (1) 「修了年月日」は、研修修了証の年月日又は研修を受講した年月日を記入する。
B29: (2) 幼稚園又は認定こども園に勤務していた者は幼稚園教育要領等を踏まえて教育の質を高めるための知識・技術の向上を目的とした研修を15時間以上受講していた 場合、１分野修了とできる。できるだけ速やかに保育士等キャリアアップ研修の受講を促すこと。
B30: (3) 保育実践研修は平成29年度から令和元年度までに実施されたものに限り含めることができる。 マネジメント研修は平成29年度から令和元年度までに実施されたものに限り専門分野別研修に含めることができる。(副主任保育士は令和２年度以降も含めることができる。)
B31: (4) 研修受講履歴一覧の内容を確認できる資料（保育士等キャリアアップ研修修了証の写等）を施設において保管すること。
B32: (5) 行が足りない場合は、No２～14の行を選択し挿入すること。
B33: (6) 区分３の対象となる研修は「施設型給付費等に係る処遇改善等加算（区分３）に係る研修修了要件について」（令和７年９月16日付けこ成基202 ７初幼教第４号こども家庭庁成育局 保育政策課長、こども家庭庁成育局成育基盤企画課長及び文部科学省初等中等教育局幼児教育課長連盟通知）の記載に基づくものとする。 職員処遇改善費の対象となる研修は「横浜市処遇改善等加算取扱要領」（平成27年４月１日付けこ保運第１号）の記載に基づくものとする。
B34: (7) 保育士等キャリアアップ研修は「保育士等キャリアアップ研修の実施について」（平成29年４月１日付け雇児保発０４０１第１号厚生労働省雇用均等・児童家庭局保育課長通知） の記載に基づくものが対象となる。実施主体は「都道府県又は都道府県知事の指定した研修実施機関」とする。

Sheet ②名簿９
A1: 第５号様式の１ | D1: 令和 ８ 年度 研修受講履歴一覧 名簿（保育所・地域型保育事業所）
G3: 所在区 | H3: =①集計表!H4 -> #N/A
G4: 施設・事業所種別 | H4: =①集計表!H5 -> #N/A
G5: 施設・事業所番号 | H5: =①集計表!H6 -> 0
B6: 職位 | G6: 施設・事業所名 | H6: =①集計表!H7 -> #N/A
B7: 氏名 | G7: 代表者職・氏名 | H7: =①集計表!H8 -> 0
B8: 幼稚園又は認定こども園に勤務していた者 | E8: ↓マネジメント分野の修了チェック↓ | L8: 開始日（データの入力規則用）
E9: =IF($C$6="","職位を選択してください",IF(ISNUMBER(SEARCH("副主任保育士",C6)),IF(COUNTIF(H:H,"マネジメント研修")>0,"必修数を満たしています","区分３（人数Ａ）対象者は、マネジメント分野（1分野）必修です。入力してください。"),IF(ISNUMBER(SEARCH("職員処遇",C6)),"必修ではありません。","必修ではありません。令和２年３月31日までの修了分は算定可能です。"))) -> 職位を選択してください | L9: キャリアアップ研修 | M9: 42826
A10: 区分３及び職員処遇改善費の対象と認められる研修のみ入力してください（下記(6)参照）。そのうち、キャリアアップ研修が対象か否かについては最下部(7)を参照のうえ、不明な場合は実施主体に必ず確認してください。
A11: No | B11: 各行最後に入力 修了年月日 (例:R2.6.1) ※研修種別～ 研修分野 を入力後に入力してください。 | C11: 研修種別 | D11: 実施主体 ※研修種別を入力後に選択してください | F11: 講義名・テーマ | G11: 修了証番号 | H11: 研修分野 ※職位を入力後に選択してください | I11: 横浜市（区）主催研修等の 修了時間数 （単位：時間） | J11: 備考 | L11: 修了年月日 （データの入力規則用）
A12: 1 | L12: 保育実践 マネジメント | M12: 43921
A13: 2 | K13: =IF(H13<>"",1,0) -> 0 | L13: それ以外の研修 | M13: 45382
A14: 3 | K14: =IF(H14<>"",1,0) -> 0 | L14: =IF(C14="その他",1,"")
A15: 4 | K15: =IF(H15<>"",1,0) -> 0 | L15: =IF(C15="その他",1,"")
A16: 5 | K16: =IF(H16<>"",1,0) -> 0 | L16: =IF(C16="その他",1,"")
A17: 6 | K17: =IF(H17<>"",1,0) -> 0 | L17: =IF(C17="その他",1,"")
A18: 7 | K18: =IF(H18<>"",1,0) -> 0 | L18: =IF(C18="その他",1,"")
A19: 8 | K19: =IF(H19<>"",1,0) -> 0 | L19: =IF(C19="その他",1,"")
A20: 9 | K20: =IF(H20<>"",1,0) -> 0 | L20: =IF(C20="その他",1,"")
A21: 10 | K21: =IF(H21<>"",1,0) -> 0 | L21: =IF(C21="その他",1,"")
A22: 11 | K22: =IF(H22<>"",1,0) -> 0 | L22: =IF(C22="その他",1,"")
A23: 12 | K23: =IF(H23<>"",1,0) -> 0 | L23: =IF(C23="その他",1,"")
A24: 13 | K24: =IF(H24<>"",1,0) -> 0 | L24: =IF(C24="その他",1,"")
A25: 14 | K25: =IF(H25<>"",1,0) -> 0 | L25: =IF(C25="その他",1,"")
A26: 15 | K26: =IF(H26<>"",1,0) -> 0 | L26: =IF(SUMIF(C13:C26,"【職員処遇改善費のみ対象】園内研修",I12:I26)>VLOOKUP(C6,M26:N28,2,FALSE),VLOOKUP(C6,M26:N28,2,FALSE)-SUMIF(C13:C26,"【職員処遇改善費のみ対象】園内研修",I12:I26),"") -> #N/A | M26: 園内研修 | N26: 4
B27: 【留意事項】
B28: (1) 「修了年月日」は、研修修了証の年月日又は研修を受講した年月日を記入する。
B29: (2) 幼稚園又は認定こども園に勤務していた者は幼稚園教育要領等を踏まえて教育の質を高めるための知識・技術の向上を目的とした研修を15時間以上受講していた 場合、１分野修了とできる。できるだけ速やかに保育士等キャリアアップ研修の受講を促すこと。
B30: (3) 保育実践研修は平成29年度から令和元年度までに実施されたものに限り含めることができる。 マネジメント研修は平成29年度から令和元年度までに実施されたものに限り専門分野別研修に含めることができる。(副主任保育士は令和２年度以降も含めることができる。)
B31: (4) 研修受講履歴一覧の内容を確認できる資料（保育士等キャリアアップ研修修了証の写等）を施設において保管すること。
B32: (5) 行が足りない場合は、No２～14の行を選択し挿入すること。
B33: (6) 区分３の対象となる研修は「施設型給付費等に係る処遇改善等加算（区分３）に係る研修修了要件について」（令和７年９月16日付けこ成基202 ７初幼教第４号こども家庭庁成育局 保育政策課長、こども家庭庁成育局成育基盤企画課長及び文部科学省初等中等教育局幼児教育課長連盟通知）の記載に基づくものとする。 職員処遇改善費の対象となる研修は「横浜市処遇改善等加算取扱要領」（平成27年４月１日付けこ保運第１号）の記載に基づくものとする。
B34: (7) 保育士等キャリアアップ研修は「保育士等キャリアアップ研修の実施について」（平成29年４月１日付け雇児保発０４０１第１号厚生労働省雇用均等・児童家庭局保育課長通知） の記載に基づくものが対象となる。実施主体は「都道府県又は都道府県知事の指定した研修実施機関」とする。

Sheet ②名簿10
A1: 第５号様式の１ | D1: 令和 ８ 年度 研修受講履歴一覧 名簿（保育所・地域型保育事業所）
G3: 所在区 | H3: =①集計表!H4 -> #N/A
G4: 施設・事業所種別 | H4: =①集計表!H5 -> #N/A
G5: 施設・事業所番号 | H5: =①集計表!H6 -> 0
B6: 職位 | G6: 施設・事業所名 | H6: =①集計表!H7 -> #N/A
B7: 氏名 | G7: 代表者職・氏名 | H7: =①集計表!H8 -> 0
B8: 幼稚園又は認定こども園に勤務していた者 | E8: ↓マネジメント分野の修了チェック↓ | L8: 開始日（データの入力規則用）
E9: =IF($C$6="","職位を選択してください",IF(ISNUMBER(SEARCH("副主任保育士",C6)),IF(COUNTIF(H:H,"マネジメント研修")>0,"必修数を満たしています","区分３（人数Ａ）対象者は、マネジメント分野（1分野）必修です。入力してください。"),IF(ISNUMBER(SEARCH("職員処遇",C6)),"必修ではありません。","必修ではありません。令和２年３月31日までの修了分は算定可能です。"))) -> 職位を選択してください | L9: キャリアアップ研修 | M9: 42826
A10: 区分３及び職員処遇改善費の対象と認められる研修のみ入力してください（下記(6)参照）。そのうち、キャリアアップ研修が対象か否かについては最下部(7)を参照のうえ、不明な場合は実施主体に必ず確認してください。
A11: No | B11: 各行最後に入力 修了年月日 (例:R2.6.1) ※研修種別～ 研修分野 を入力後に入力してください。 | C11: 研修種別 | D11: 実施主体 ※研修種別を入力後に選択してください | F11: 講義名・テーマ | G11: 修了証番号 | H11: 研修分野 ※職位を入力後に選択してください | I11: 横浜市（区）主催研修等の 修了時間数 （単位：時間） | J11: 備考 | L11: 修了年月日 （データの入力規則用）
A12: 1 | L12: 保育実践 マネジメント | M12: 43921
A13: 2 | K13: =IF(H13<>"",1,0) -> 0 | L13: それ以外の研修 | M13: 45382
A14: 3 | K14: =IF(H14<>"",1,0) -> 0 | L14: =IF(C14="その他",1,"")
A15: 4 | K15: =IF(H15<>"",1,0) -> 0 | L15: =IF(C15="その他",1,"")
A16: 5 | K16: =IF(H16<>"",1,0) -> 0 | L16: =IF(C16="その他",1,"")
A17: 6 | K17: =IF(H17<>"",1,0) -> 0 | L17: =IF(C17="その他",1,"")
A18: 7 | K18: =IF(H18<>"",1,0) -> 0 | L18: =IF(C18="その他",1,"")
A19: 8 | K19: =IF(H19<>"",1,0) -> 0 | L19: =IF(C19="その他",1,"")
A20: 9 | K20: =IF(H20<>"",1,0) -> 0 | L20: =IF(C20="その他",1,"")
A21: 10 | K21: =IF(H21<>"",1,0) -> 0 | L21: =IF(C21="その他",1,"")
A22: 11 | K22: =IF(H22<>"",1,0) -> 0 | L22: =IF(C22="その他",1,"")
A23: 12 | K23: =IF(H23<>"",1,0) -> 0 | L23: =IF(C23="その他",1,"")
A24: 13 | K24: =IF(H24<>"",1,0) -> 0 | L24: =IF(C24="その他",1,"")
A25: 14 | K25: =IF(H25<>"",1,0) -> 0 | L25: =IF(C25="その他",1,"")
A26: 15 | K26: =IF(H26<>"",1,0) -> 0 | L26: =IF(SUMIF(C13:C26,"【職員処遇改善費のみ対象】園内研修",I12:I26)>VLOOKUP(C6,M26:N28,2,FALSE),VLOOKUP(C6,M26:N28,2,FALSE)-SUMIF(C13:C26,"【職員処遇改善費のみ対象】園内研修",I12:I26),"") -> #N/A | M26: 園内研修 | N26: 4
B27: 【留意事項】
B28: (1) 「修了年月日」は、研修修了証の年月日又は研修を受講した年月日を記入する。
B29: (2) 幼稚園又は認定こども園に勤務していた者は幼稚園教育要領等を踏まえて教育の質を高めるための知識・技術の向上を目的とした研修を15時間以上受講していた 場合、１分野修了とできる。できるだけ速やかに保育士等キャリアアップ研修の受講を促すこと。
B30: (3) 保育実践研修は平成29年度から令和元年度までに実施されたものに限り含めることができる。 マネジメント研修は平成29年度から令和元年度までに実施されたものに限り専門分野別研修に含めることができる。(副主任保育士は令和２年度以降も含めることができる。)
B31: (4) 研修受講履歴一覧の内容を確認できる資料（保育士等キャリアアップ研修修了証の写等）を施設において保管すること。
B32: (5) 行が足りない場合は、No２～14の行を選択し挿入すること。
B33: (6) 区分３の対象となる研修は「施設型給付費等に係る処遇改善等加算（区分３）に係る研修修了要件について」（令和７年９月16日付けこ成基202 ７初幼教第４号こども家庭庁成育局 保育政策課長、こども家庭庁成育局成育基盤企画課長及び文部科学省初等中等教育局幼児教育課長連盟通知）の記載に基づくものとする。 職員処遇改善費の対象となる研修は「横浜市処遇改善等加算取扱要領」（平成27年４月１日付けこ保運第１号）の記載に基づくものとする。
B34: (7) 保育士等キャリアアップ研修は「保育士等キャリアアップ研修の実施について」（平成29年４月１日付け雇児保発０４０１第１号厚生労働省雇用均等・児童家庭局保育課長通知） の記載に基づくものが対象となる。実施主体は「都道府県又は都道府県知事の指定した研修実施機関」とする。

Sheet ②名簿11
A1: 第５号様式の１ | D1: 令和 ８ 年度 研修受講履歴一覧 名簿（保育所・地域型保育事業所）
G3: 所在区 | H3: =①集計表!H4 -> #N/A
G4: 施設・事業所種別 | H4: =①集計表!H5 -> #N/A
G5: 施設・事業所番号 | H5: =①集計表!H6 -> 0
B6: 職位 | G6: 施設・事業所名 | H6: =①集計表!H7 -> #N/A
B7: 氏名 | G7: 代表者職・氏名 | H7: =①集計表!H8 -> 0
B8: 幼稚園又は認定こども園に勤務していた者 | E8: ↓マネジメント分野の修了チェック↓ | L8: 開始日（データの入力規則用）
E9: =IF($C$6="","職位を選択してください",IF(ISNUMBER(SEARCH("副主任保育士",C6)),IF(COUNTIF(H:H,"マネジメント研修")>0,"必修数を満たしています","区分３（人数Ａ）対象者は、マネジメント分野（1分野）必修です。入力してください。"),IF(ISNUMBER(SEARCH("職員処遇",C6)),"必修ではありません。","必修ではありません。令和２年３月31日までの修了分は算定可能です。"))) -> 職位を選択してください | L9: キャリアアップ研修 | M9: 42826
A10: 区分３及び職員処遇改善費の対象と認められる研修のみ入力してください（下記(6)参照）。そのうち、キャリアアップ研修が対象か否かについては最下部(7)を参照のうえ、不明な場合は実施主体に必ず確認してください。
A11: No | B11: 各行最後に入力 修了年月日 (例:R2.6.1) ※研修種別～ 研修分野 を入力後に入力してください。 | C11: 研修種別 | D11: 実施主体 ※研修種別を入力後に選択してください | F11: 講義名・テーマ | G11: 修了証番号 | H11: 研修分野 ※職位を入力後に選択してください | I11: 横浜市（区）主催研修等の 修了時間数 （単位：時間） | J11: 備考 | L11: 修了年月日 （データの入力規則用）
A12: 1 | L12: 保育実践 マネジメント | M12: 43921
A13: 2 | K13: =IF(H13<>"",1,0) -> 0 | L13: それ以外の研修 | M13: 45382
A14: 3 | K14: =IF(H14<>"",1,0) -> 0 | L14: =IF(C14="その他",1,"")
A15: 4 | K15: =IF(H15<>"",1,0) -> 0 | L15: =IF(C15="その他",1,"")
A16: 5 | K16: =IF(H16<>"",1,0) -> 0 | L16: =IF(C16="その他",1,"")
A17: 6 | K17: =IF(H17<>"",1,0) -> 0 | L17: =IF(C17="その他",1,"")
A18: 7 | K18: =IF(H18<>"",1,0) -> 0 | L18: =IF(C18="その他",1,"")
A19: 8 | K19: =IF(H19<>"",1,0) -> 0 | L19: =IF(C19="その他",1,"")
A20: 9 | K20: =IF(H20<>"",1,0) -> 0 | L20: =IF(C20="その他",1,"")
A21: 10 | K21: =IF(H21<>"",1,0) -> 0 | L21: =IF(C21="その他",1,"")
A22: 11 | K22: =IF(H22<>"",1,0) -> 0 | L22: =IF(C22="その他",1,"")
A23: 12 | K23: =IF(H23<>"",1,0) -> 0 | L23: =IF(C23="その他",1,"")
A24: 13 | K24: =IF(H24<>"",1,0) -> 0 | L24: =IF(C24="その他",1,"")
A25: 14 | K25: =IF(H25<>"",1,0) -> 0 | L25: =IF(C25="その他",1,"")
A26: 15 | K26: =IF(H26<>"",1,0) -> 0 | L26: =IF(SUMIF(C13:C26,"【職員処遇改善費のみ対象】園内研修",I12:I26)>VLOOKUP(C6,M26:N28,2,FALSE),VLOOKUP(C6,M26:N28,2,FALSE)-SUMIF(C13:C26,"【職員処遇改善費のみ対象】園内研修",I12:I26),"") -> #N/A | M26: 園内研修 | N26: 4
B27: 【留意事項】
B28: (1) 「修了年月日」は、研修修了証の年月日又は研修を受講した年月日を記入する。
B29: (2) 幼稚園又は認定こども園に勤務していた者は幼稚園教育要領等を踏まえて教育の質を高めるための知識・技術の向上を目的とした研修を15時間以上受講していた 場合、１分野修了とできる。できるだけ速やかに保育士等キャリアアップ研修の受講を促すこと。
B30: (3) 保育実践研修は平成29年度から令和元年度までに実施されたものに限り含めることができる。 マネジメント研修は平成29年度から令和元年度までに実施されたものに限り専門分野別研修に含めることができる。(副主任保育士は令和２年度以降も含めることができる。)
B31: (4) 研修受講履歴一覧の内容を確認できる資料（保育士等キャリアアップ研修修了証の写等）を施設において保管すること。
B32: (5) 行が足りない場合は、No２～14の行を選択し挿入すること。
B33: (6) 区分３の対象となる研修は「施設型給付費等に係る処遇改善等加算（区分３）に係る研修修了要件について」（令和７年９月16日付けこ成基202 ７初幼教第４号こども家庭庁成育局 保育政策課長、こども家庭庁成育局成育基盤企画課長及び文部科学省初等中等教育局幼児教育課長連盟通知）の記載に基づくものとする。 職員処遇改善費の対象となる研修は「横浜市処遇改善等加算取扱要領」（平成27年４月１日付けこ保運第１号）の記載に基づくものとする。
B34: (7) 保育士等キャリアアップ研修は「保育士等キャリアアップ研修の実施について」（平成29年４月１日付け雇児保発０４０１第１号厚生労働省雇用均等・児童家庭局保育課長通知） の記載に基づくものが対象となる。実施主体は「都道府県又は都道府県知事の指定した研修実施機関」とする。

Sheet ②名簿12
A1: 第５号様式の１ | D1: 令和 ８ 年度 研修受講履歴一覧 名簿（保育所・地域型保育事業所）
G3: 所在区 | H3: =①集計表!H4 -> #N/A
G4: 施設・事業所種別 | H4: =①集計表!H5 -> #N/A
G5: 施設・事業所番号 | H5: =①集計表!H6 -> 0
B6: 職位 | G6: 施設・事業所名 | H6: =①集計表!H7 -> #N/A
B7: 氏名 | G7: 代表者職・氏名 | H7: =①集計表!H8 -> 0
B8: 幼稚園又は認定こども園に勤務していた者 | E8: ↓マネジメント分野の修了チェック↓ | L8: 開始日（データの入力規則用）
E9: =IF($C$6="","職位を選択してください",IF(ISNUMBER(SEARCH("副主任保育士",C6)),IF(COUNTIF(H:H,"マネジメント研修")>0,"必修数を満たしています","区分３（人数Ａ）対象者は、マネジメント分野（1分野）必修です。入力してください。"),IF(ISNUMBER(SEARCH("職員処遇",C6)),"必修ではありません。","必修ではありません。令和２年３月31日までの修了分は算定可能です。"))) -> 職位を選択してください | L9: キャリアアップ研修 | M9: 42826
A10: 区分３及び職員処遇改善費の対象と認められる研修のみ入力してください（下記(6)参照）。そのうち、キャリアアップ研修が対象か否かについては最下部(7)を参照のうえ、不明な場合は実施主体に必ず確認してください。
A11: No | B11: 各行最後に入力 修了年月日 (例:R2.6.1) ※研修種別～ 研修分野 を入力後に入力してください。 | C11: 研修種別 | D11: 実施主体 ※研修種別を入力後に選択してください | F11: 講義名・テーマ | G11: 修了証番号 | H11: 研修分野 ※職位を入力後に選択してください | I11: 横浜市（区）主催研修等の 修了時間数 （単位：時間） | J11: 備考 | L11: 修了年月日 （データの入力規則用）
A12: 1 | L12: 保育実践 マネジメント | M12: 43921
A13: 2 | K13: =IF(H13<>"",1,0) -> 0 | L13: それ以外の研修 | M13: 45382
A14: 3 | K14: =IF(H14<>"",1,0) -> 0 | L14: =IF(C14="その他",1,"")
A15: 4 | K15: =IF(H15<>"",1,0) -> 0 | L15: =IF(C15="その他",1,"")
A16: 5 | K16: =IF(H16<>"",1,0) -> 0 | L16: =IF(C16="その他",1,"")
A17: 6 | K17: =IF(H17<>"",1,0) -> 0 | L17: =IF(C17="その他",1,"")
A18: 7 | K18: =IF(H18<>"",1,0) -> 0 | L18: =IF(C18="その他",1,"")
A19: 8 | K19: =IF(H19<>"",1,0) -> 0 | L19: =IF(C19="その他",1,"")
A20: 9 | K20: =IF(H20<>"",1,0) -> 0 | L20: =IF(C20="その他",1,"")
A21: 10 | K21: =IF(H21<>"",1,0) -> 0 | L21: =IF(C21="その他",1,"")
A22: 11 | K22: =IF(H22<>"",1,0) -> 0 | L22: =IF(C22="その他",1,"")
A23: 12 | K23: =IF(H23<>"",1,0) -> 0 | L23: =IF(C23="その他",1,"")
A24: 13 | K24: =IF(H24<>"",1,0) -> 0 | L24: =IF(C24="その他",1,"")
A25: 14 | K25: =IF(H25<>"",1,0) -> 0 | L25: =IF(C25="その他",1,"")
A26: 15 | K26: =IF(H26<>"",1,0) -> 0 | L26: =IF(SUMIF(C13:C26,"【職員処遇改善費のみ対象】園内研修",I12:I26)>VLOOKUP(C6,M26:N28,2,FALSE),VLOOKUP(C6,M26:N28,2,FALSE)-SUMIF(C13:C26,"【職員処遇改善費のみ対象】園内研修",I12:I26),"") -> #N/A | M26: 園内研修 | N26: 4
B27: 【留意事項】
B28: (1) 「修了年月日」は、研修修了証の年月日又は研修を受講した年月日を記入する。
B29: (2) 幼稚園又は認定こども園に勤務していた者は幼稚園教育要領等を踏まえて教育の質を高めるための知識・技術の向上を目的とした研修を15時間以上受講していた 場合、１分野修了とできる。できるだけ速やかに保育士等キャリアアップ研修の受講を促すこと。
B30: (3) 保育実践研修は平成29年度から令和元年度までに実施されたものに限り含めることができる。 マネジメント研修は平成29年度から令和元年度までに実施されたものに限り専門分野別研修に含めることができる。(副主任保育士は令和２年度以降も含めることができる。)
B31: (4) 研修受講履歴一覧の内容を確認できる資料（保育士等キャリアアップ研修修了証の写等）を施設において保管すること。
B32: (5) 行が足りない場合は、No２～14の行を選択し挿入すること。
B33: (6) 区分３の対象となる研修は「施設型給付費等に係る処遇改善等加算（区分３）に係る研修修了要件について」（令和７年９月16日付けこ成基202 ７初幼教第４号こども家庭庁成育局 保育政策課長、こども家庭庁成育局成育基盤企画課長及び文部科学省初等中等教育局幼児教育課長連盟通知）の記載に基づくものとする。 職員処遇改善費の対象となる研修は「横浜市処遇改善等加算取扱要領」（平成27年４月１日付けこ保運第１号）の記載に基づくものとする。
B34: (7) 保育士等キャリアアップ研修は「保育士等キャリアアップ研修の実施について」（平成29年４月１日付け雇児保発０４０１第１号厚生労働省雇用均等・児童家庭局保育課長通知） の記載に基づくものが対象となる。実施主体は「都道府県又は都道府県知事の指定した研修実施機関」とする。

Sheet ②名簿13
A1: 第５号様式の１ | D1: 令和 ８ 年度 研修受講履歴一覧 名簿（保育所・地域型保育事業所）
G3: 所在区 | H3: =①集計表!H4 -> #N/A
G4: 施設・事業所種別 | H4: =①集計表!H5 -> #N/A
G5: 施設・事業所番号 | H5: =①集計表!H6 -> 0
B6: 職位 | G6: 施設・事業所名 | H6: =①集計表!H7 -> #N/A
B7: 氏名 | G7: 代表者職・氏名 | H7: =①集計表!H8 -> 0
B8: 幼稚園又は認定こども園に勤務していた者 | E8: ↓マネジメント分野の修了チェック↓ | L8: 開始日（データの入力規則用）
E9: =IF($C$6="","職位を選択してください",IF(ISNUMBER(SEARCH("副主任保育士",C6)),IF(COUNTIF(H:H,"マネジメント研修")>0,"必修数を満たしています","区分３（人数Ａ）対象者は、マネジメント分野（1分野）必修です。入力してください。"),IF(ISNUMBER(SEARCH("職員処遇",C6)),"必修ではありません。","必修ではありません。令和２年３月31日までの修了分は算定可能です。"))) -> 職位を選択してください | L9: キャリアアップ研修 | M9: 42826
A10: 区分３及び職員処遇改善費の対象と認められる研修のみ入力してください（下記(6)参照）。そのうち、キャリアアップ研修が対象か否かについては最下部(7)を参照のうえ、不明な場合は実施主体に必ず確認してください。
A11: No | B11: 各行最後に入力 修了年月日 (例:R2.6.1) ※研修種別～ 研修分野 を入力後に入力してください。 | C11: 研修種別 | D11: 実施主体 ※研修種別を入力後に選択してください | F11: 講義名・テーマ | G11: 修了証番号 | H11: 研修分野 ※職位を入力後に選択してください | I11: 横浜市（区）主催研修等の 修了時間数 （単位：時間） | J11: 備考 | L11: 修了年月日 （データの入力規則用）
A12: 1 | L12: 保育実践 マネジメント | M12: 43921
A13: 2 | K13: =IF(H13<>"",1,0) -> 0 | L13: それ以外の研修 | M13: 45382
A14: 3 | K14: =IF(H14<>"",1,0) -> 0 | L14: =IF(C14="その他",1,"")
A15: 4 | K15: =IF(H15<>"",1,0) -> 0 | L15: =IF(C15="その他",1,"")
A16: 5 | K16: =IF(H16<>"",1,0) -> 0 | L16: =IF(C16="その他",1,"")
A17: 6 | K17: =IF(H17<>"",1,0) -> 0 | L17: =IF(C17="その他",1,"")
A18: 7 | K18: =IF(H18<>"",1,0) -> 0 | L18: =IF(C18="その他",1,"")
A19: 8 | K19: =IF(H19<>"",1,0) -> 0 | L19: =IF(C19="その他",1,"")
A20: 9 | K20: =IF(H20<>"",1,0) -> 0 | L20: =IF(C20="その他",1,"")
A21: 10 | K21: =IF(H21<>"",1,0) -> 0 | L21: =IF(C21="その他",1,"")
A22: 11 | K22: =IF(H22<>"",1,0) -> 0 | L22: =IF(C22="その他",1,"")
A23: 12 | K23: =IF(H23<>"",1,0) -> 0 | L23: =IF(C23="その他",1,"")
A24: 13 | K24: =IF(H24<>"",1,0) -> 0 | L24: =IF(C24="その他",1,"")
A25: 14 | K25: =IF(H25<>"",1,0) -> 0 | L25: =IF(C25="その他",1,"")
A26: 15 | K26: =IF(H26<>"",1,0) -> 0 | L26: =IF(SUMIF(C13:C26,"【職員処遇改善費のみ対象】園内研修",I12:I26)>VLOOKUP(C6,M26:N28,2,FALSE),VLOOKUP(C6,M26:N28,2,FALSE)-SUMIF(C13:C26,"【職員処遇改善費のみ対象】園内研修",I12:I26),"") -> #N/A | M26: 園内研修 | N26: 4
B27: 【留意事項】
B28: (1) 「修了年月日」は、研修修了証の年月日又は研修を受講した年月日を記入する。
B29: (2) 幼稚園又は認定こども園に勤務していた者は幼稚園教育要領等を踏まえて教育の質を高めるための知識・技術の向上を目的とした研修を15時間以上受講していた 場合、１分野修了とできる。できるだけ速やかに保育士等キャリアアップ研修の受講を促すこと。
B30: (3) 保育実践研修は平成29年度から令和元年度までに実施されたものに限り含めることができる。 マネジメント研修は平成29年度から令和元年度までに実施されたものに限り専門分野別研修に含めることができる。(副主任保育士は令和２年度以降も含めることができる。)
B31: (4) 研修受講履歴一覧の内容を確認できる資料（保育士等キャリアアップ研修修了証の写等）を施設において保管すること。
B32: (5) 行が足りない場合は、No２～14の行を選択し挿入すること。
B33: (6) 区分３の対象となる研修は「施設型給付費等に係る処遇改善等加算（区分３）に係る研修修了要件について」（令和７年９月16日付けこ成基202 ７初幼教第４号こども家庭庁成育局 保育政策課長、こども家庭庁成育局成育基盤企画課長及び文部科学省初等中等教育局幼児教育課長連盟通知）の記載に基づくものとする。 職員処遇改善費の対象となる研修は「横浜市処遇改善等加算取扱要領」（平成27年４月１日付けこ保運第１号）の記載に基づくものとする。
B34: (7) 保育士等キャリアアップ研修は「保育士等キャリアアップ研修の実施について」（平成29年４月１日付け雇児保発０４０１第１号厚生労働省雇用均等・児童家庭局保育課長通知） の記載に基づくものが対象となる。実施主体は「都道府県又は都道府県知事の指定した研修実施機関」とする。

Sheet ②名簿14
A1: 第５号様式の１ | D1: 令和 ８ 年度 研修受講履歴一覧 名簿（保育所・地域型保育事業所）
G3: 所在区 | H3: =①集計表!H4 -> #N/A
G4: 施設・事業所種別 | H4: =①集計表!H5 -> #N/A
G5: 施設・事業所番号 | H5: =①集計表!H6 -> 0
B6: 職位 | G6: 施設・事業所名 | H6: =①集計表!H7 -> #N/A
B7: 氏名 | G7: 代表者職・氏名 | H7: =①集計表!H8 -> 0
B8: 幼稚園又は認定こども園に勤務していた者 | E8: ↓マネジメント分野の修了チェック↓ | L8: 開始日（データの入力規則用）
E9: =IF($C$6="","職位を選択してください",IF(ISNUMBER(SEARCH("副主任保育士",C6)),IF(COUNTIF(H:H,"マネジメント研修")>0,"必修数を満たしています","区分３（人数Ａ）対象者は、マネジメント分野（1分野）必修です。入力してください。"),IF(ISNUMBER(SEARCH("職員処遇",C6)),"必修ではありません。","必修ではありません。令和２年３月31日までの修了分は算定可能です。"))) -> 職位を選択してください | L9: キャリアアップ研修 | M9: 42826
A10: 区分３及び職員処遇改善費の対象と認められる研修のみ入力してください（下記(6)参照）。そのうち、キャリアアップ研修が対象か否かについては最下部(7)を参照のうえ、不明な場合は実施主体に必ず確認してください。
A11: No | B11: 各行最後に入力 修了年月日 (例:R2.6.1) ※研修種別～ 研修分野 を入力後に入力してください。 | C11: 研修種別 | D11: 実施主体 ※研修種別を入力後に選択してください | F11: 講義名・テーマ | G11: 修了証番号 | H11: 研修分野 ※職位を入力後に選択してください | I11: 横浜市（区）主催研修等の 修了時間数 （単位：時間） | J11: 備考 | L11: 修了年月日 （データの入力規則用）
A12: 1 | L12: 保育実践 マネジメント | M12: 43921
A13: 2 | K13: =IF(H13<>"",1,0) -> 0 | L13: それ以外の研修 | M13: 45382
A14: 3 | K14: =IF(H14<>"",1,0) -> 0 | L14: =IF(C14="その他",1,"")
A15: 4 | K15: =IF(H15<>"",1,0) -> 0 | L15: =IF(C15="その他",1,"")
A16: 5 | K16: =IF(H16<>"",1,0) -> 0 | L16: =IF(C16="その他",1,"")
A17: 6 | K17: =IF(H17<>"",1,0) -> 0 | L17: =IF(C17="その他",1,"")
A18: 7 | K18: =IF(H18<>"",1,0) -> 0 | L18: =IF(C18="その他",1,"")
A19: 8 | K19: =IF(H19<>"",1,0) -> 0 | L19: =IF(C19="その他",1,"")
A20: 9 | K20: =IF(H20<>"",1,0) -> 0 | L20: =IF(C20="その他",1,"")
A21: 10 | K21: =IF(H21<>"",1,0) -> 0 | L21: =IF(C21="その他",1,"")
A22: 11 | K22: =IF(H22<>"",1,0) -> 0 | L22: =IF(C22="その他",1,"")
A23: 12 | K23: =IF(H23<>"",1,0) -> 0 | L23: =IF(C23="その他",1,"")
A24: 13 | K24: =IF(H24<>"",1,0) -> 0 | L24: =IF(C24="その他",1,"")
A25: 14 | K25: =IF(H25<>"",1,0) -> 0 | L25: =IF(C25="その他",1,"")
A26: 15 | K26: =IF(H26<>"",1,0) -> 0 | L26: =IF(SUMIF(C13:C26,"【職員処遇改善費のみ対象】園内研修",I12:I26)>VLOOKUP(C6,M26:N28,2,FALSE),VLOOKUP(C6,M26:N28,2,FALSE)-SUMIF(C13:C26,"【職員処遇改善費のみ対象】園内研修",I12:I26),"") -> #N/A | M26: 園内研修 | N26: 4
B27: 【留意事項】
B28: (1) 「修了年月日」は、研修修了証の年月日又は研修を受講した年月日を記入する。
B29: (2) 幼稚園又は認定こども園に勤務していた者は幼稚園教育要領等を踏まえて教育の質を高めるための知識・技術の向上を目的とした研修を15時間以上受講していた 場合、１分野修了とできる。できるだけ速やかに保育士等キャリアアップ研修の受講を促すこと。
B30: (3) 保育実践研修は平成29年度から令和元年度までに実施されたものに限り含めることができる。 マネジメント研修は平成29年度から令和元年度までに実施されたものに限り専門分野別研修に含めることができる。(副主任保育士は令和２年度以降も含めることができる。)
B31: (4) 研修受講履歴一覧の内容を確認できる資料（保育士等キャリアアップ研修修了証の写等）を施設において保管すること。
B32: (5) 行が足りない場合は、No２～14の行を選択し挿入すること。
B33: (6) 区分３の対象となる研修は「施設型給付費等に係る処遇改善等加算（区分３）に係る研修修了要件について」（令和７年９月16日付けこ成基202 ７初幼教第４号こども家庭庁成育局 保育政策課長、こども家庭庁成育局成育基盤企画課長及び文部科学省初等中等教育局幼児教育課長連盟通知）の記載に基づくものとする。 職員処遇改善費の対象となる研修は「横浜市処遇改善等加算取扱要領」（平成27年４月１日付けこ保運第１号）の記載に基づくものとする。
B34: (7) 保育士等キャリアアップ研修は「保育士等キャリアアップ研修の実施について」（平成29年４月１日付け雇児保発０４０１第１号厚生労働省雇用均等・児童家庭局保育課長通知） の記載に基づくものが対象となる。実施主体は「都道府県又は都道府県知事の指定した研修実施機関」とする。

Sheet ②名簿15
A1: 第５号様式の１ | D1: 令和 ８ 年度 研修受講履歴一覧 名簿（保育所・地域型保育事業所）
G3: 所在区 | H3: =①集計表!H4 -> #N/A
G4: 施設・事業所種別 | H4: =①集計表!H5 -> #N/A
G5: 施設・事業所番号 | H5: =①集計表!H6 -> 0
B6: 職位 | G6: 施設・事業所名 | H6: =①集計表!H7 -> #N/A
B7: 氏名 | G7: 代表者職・氏名 | H7: =①集計表!H8 -> 0
B8: 幼稚園又は認定こども園に勤務していた者 | E8: ↓マネジメント分野の修了チェック↓ | L8: 開始日（データの入力規則用）
E9: =IF($C$6="","職位を選択してください",IF(ISNUMBER(SEARCH("副主任保育士",C6)),IF(COUNTIF(H:H,"マネジメント研修")>0,"必修数を満たしています","区分３（人数Ａ）対象者は、マネジメント分野（1分野）必修です。入力してください。"),IF(ISNUMBER(SEARCH("職員処遇",C6)),"必修ではありません。","必修ではありません。令和２年３月31日までの修了分は算定可能です。"))) -> 職位を選択してください | L9: キャリアアップ研修 | M9: 42826
A10: 区分３及び職員処遇改善費の対象と認められる研修のみ入力してください（下記(6)参照）。そのうち、キャリアアップ研修が対象か否かについては最下部(7)を参照のうえ、不明な場合は実施主体に必ず確認してください。
A11: No | B11: 各行最後に入力 修了年月日 (例:R2.6.1) ※研修種別～ 研修分野 を入力後に入力してください。 | C11: 研修種別 | D11: 実施主体 ※研修種別を入力後に選択してください | F11: 講義名・テーマ | G11: 修了証番号 | H11: 研修分野 ※職位を入力後に選択してください | I11: 横浜市（区）主催研修等の 修了時間数 （単位：時間） | J11: 備考 | L11: 修了年月日 （データの入力規則用）
A12: 1 | L12: 保育実践 マネジメント | M12: 43921
A13: 2 | K13: =IF(H13<>"",1,0) -> 0 | L13: それ以外の研修 | M13: 45382
A14: 3 | K14: =IF(H14<>"",1,0) -> 0 | L14: =IF(C14="その他",1,"")
A15: 4 | K15: =IF(H15<>"",1,0) -> 0 | L15: =IF(C15="その他",1,"")
A16: 5 | K16: =IF(H16<>"",1,0) -> 0 | L16: =IF(C16="その他",1,"")
A17: 6 | K17: =IF(H17<>"",1,0) -> 0 | L17: =IF(C17="その他",1,"")
A18: 7 | K18: =IF(H18<>"",1,0) -> 0 | L18: =IF(C18="その他",1,"")
A19: 8 | K19: =IF(H19<>"",1,0) -> 0 | L19: =IF(C19="その他",1,"")
A20: 9 | K20: =IF(H20<>"",1,0) -> 0 | L20: =IF(C20="その他",1,"")
A21: 10 | K21: =IF(H21<>"",1,0) -> 0 | L21: =IF(C21="その他",1,"")
A22: 11 | K22: =IF(H22<>"",1,0) -> 0 | L22: =IF(C22="その他",1,"")
A23: 12 | K23: =IF(H23<>"",1,0) -> 0 | L23: =IF(C23="その他",1,"")
A24: 13 | K24: =IF(H24<>"",1,0) -> 0 | L24: =IF(C24="その他",1,"")
A25: 14 | K25: =IF(H25<>"",1,0) -> 0 | L25: =IF(C25="その他",1,"")
A26: 15 | K26: =IF(H26<>"",1,0) -> 0 | L26: =IF(SUMIF(C13:C26,"【職員処遇改善費のみ対象】園内研修",I12:I26)>VLOOKUP(C6,M26:N28,2,FALSE),VLOOKUP(C6,M26:N28,2,FALSE)-SUMIF(C13:C26,"【職員処遇改善費のみ対象】園内研修",I12:I26),"") -> #N/A | M26: 園内研修 | N26: 4
B27: 【留意事項】
B28: (1) 「修了年月日」は、研修修了証の年月日又は研修を受講した年月日を記入する。
B29: (2) 幼稚園又は認定こども園に勤務していた者は幼稚園教育要領等を踏まえて教育の質を高めるための知識・技術の向上を目的とした研修を15時間以上受講していた 場合、１分野修了とできる。できるだけ速やかに保育士等キャリアアップ研修の受講を促すこと。
B30: (3) 保育実践研修は平成29年度から令和元年度までに実施されたものに限り含めることができる。 マネジメント研修は平成29年度から令和元年度までに実施されたものに限り専門分野別研修に含めることができる。(副主任保育士は令和２年度以降も含めることができる。)
B31: (4) 研修受講履歴一覧の内容を確認できる資料（保育士等キャリアアップ研修修了証の写等）を施設において保管すること。
B32: (5) 行が足りない場合は、No２～14の行を選択し挿入すること。
B33: (6) 区分３の対象となる研修は「施設型給付費等に係る処遇改善等加算（区分３）に係る研修修了要件について」（令和７年９月16日付けこ成基202 ７初幼教第４号こども家庭庁成育局 保育政策課長、こども家庭庁成育局成育基盤企画課長及び文部科学省初等中等教育局幼児教育課長連盟通知）の記載に基づくものとする。 職員処遇改善費の対象となる研修は「横浜市処遇改善等加算取扱要領」（平成27年４月１日付けこ保運第１号）の記載に基づくものとする。
B34: (7) 保育士等キャリアアップ研修は「保育士等キャリアアップ研修の実施について」（平成29年４月１日付け雇児保発０４０１第１号厚生労働省雇用均等・児童家庭局保育課長通知） の記載に基づくものが対象となる。実施主体は「都道府県又は都道府県知事の指定した研修実施機関」とする。

Sheet ②名簿16
A1: 第５号様式の１ | D1: 令和 ８ 年度 研修受講履歴一覧 名簿（保育所・地域型保育事業所）
G3: 所在区 | H3: =①集計表!H4 -> #N/A
G4: 施設・事業所種別 | H4: =①集計表!H5 -> #N/A
G5: 施設・事業所番号 | H5: =①集計表!H6 -> 0
B6: 職位 | G6: 施設・事業所名 | H6: =①集計表!H7 -> #N/A
B7: 氏名 | G7: 代表者職・氏名 | H7: =①集計表!H8 -> 0
B8: 幼稚園又は認定こども園に勤務していた者 | E8: ↓マネジメント分野の修了チェック↓ | L8: 開始日（データの入力規則用）
E9: =IF($C$6="","職位を選択してください",IF(ISNUMBER(SEARCH("副主任保育士",C6)),IF(COUNTIF(H:H,"マネジメント研修")>0,"必修数を満たしています","区分３（人数Ａ）対象者は、マネジメント分野（1分野）必修です。入力してください。"),IF(ISNUMBER(SEARCH("職員処遇",C6)),"必修ではありません。","必修ではありません。令和２年３月31日までの修了分は算定可能です。"))) -> 職位を選択してください | L9: キャリアアップ研修 | M9: 42826
A10: 区分３及び職員処遇改善費の対象と認められる研修のみ入力してください（下記(6)参照）。そのうち、キャリアアップ研修が対象か否かについては最下部(7)を参照のうえ、不明な場合は実施主体に必ず確認してください。
A11: No | B11: 各行最後に入力 修了年月日 (例:R2.6.1) ※研修種別～ 研修分野 を入力後に入力してください。 | C11: 研修種別 | D11: 実施主体 ※研修種別を入力後に選択してください | F11: 講義名・テーマ | G11: 修了証番号 | H11: 研修分野 ※職位を入力後に選択してください | I11: 横浜市（区）主催研修等の 修了時間数 （単位：時間） | J11: 備考 | L11: 修了年月日 （データの入力規則用）
A12: 1 | L12: 保育実践 マネジメント | M12: 43921
A13: 2 | K13: =IF(H13<>"",1,0) -> 0 | L13: それ以外の研修 | M13: 45382
A14: 3 | K14: =IF(H14<>"",1,0) -> 0 | L14: =IF(C14="その他",1,"")
A15: 4 | K15: =IF(H15<>"",1,0) -> 0 | L15: =IF(C15="その他",1,"")
A16: 5 | K16: =IF(H16<>"",1,0) -> 0 | L16: =IF(C16="その他",1,"")
A17: 6 | K17: =IF(H17<>"",1,0) -> 0 | L17: =IF(C17="その他",1,"")
A18: 7 | K18: =IF(H18<>"",1,0) -> 0 | L18: =IF(C18="その他",1,"")
A19: 8 | K19: =IF(H19<>"",1,0) -> 0 | L19: =IF(C19="その他",1,"")
A20: 9 | K20: =IF(H20<>"",1,0) -> 0 | L20: =IF(C20="その他",1,"")
A21: 10 | K21: =IF(H21<>"",1,0) -> 0 | L21: =IF(C21="その他",1,"")
A22: 11 | K22: =IF(H22<>"",1,0) -> 0 | L22: =IF(C22="その他",1,"")
A23: 12 | K23: =IF(H23<>"",1,0) -> 0 | L23: =IF(C23="その他",1,"")
A24: 13 | K24: =IF(H24<>"",1,0) -> 0 | L24: =IF(C24="その他",1,"")
A25: 14 | K25: =IF(H25<>"",1,0) -> 0 | L25: =IF(C25="その他",1,"")
A26: 15 | K26: =IF(H26<>"",1,0) -> 0 | L26: =IF(SUMIF(C13:C26,"【職員処遇改善費のみ対象】園内研修",I12:I26)>VLOOKUP(C6,M26:N28,2,FALSE),VLOOKUP(C6,M26:N28,2,FALSE)-SUMIF(C13:C26,"【職員処遇改善費のみ対象】園内研修",I12:I26),"") -> #N/A | M26: 園内研修 | N26: 4
B27: 【留意事項】
B28: (1) 「修了年月日」は、研修修了証の年月日又は研修を受講した年月日を記入する。
B29: (2) 幼稚園又は認定こども園に勤務していた者は幼稚園教育要領等を踏まえて教育の質を高めるための知識・技術の向上を目的とした研修を15時間以上受講していた 場合、１分野修了とできる。できるだけ速やかに保育士等キャリアアップ研修の受講を促すこと。
B30: (3) 保育実践研修は平成29年度から令和元年度までに実施されたものに限り含めることができる。 マネジメント研修は平成29年度から令和元年度までに実施されたものに限り専門分野別研修に含めることができる。(副主任保育士は令和２年度以降も含めることができる。)
B31: (4) 研修受講履歴一覧の内容を確認できる資料（保育士等キャリアアップ研修修了証の写等）を施設において保管すること。
B32: (5) 行が足りない場合は、No２～14の行を選択し挿入すること。
B33: (6) 区分３の対象となる研修は「施設型給付費等に係る処遇改善等加算（区分３）に係る研修修了要件について」（令和７年９月16日付けこ成基202 ７初幼教第４号こども家庭庁成育局 保育政策課長、こども家庭庁成育局成育基盤企画課長及び文部科学省初等中等教育局幼児教育課長連盟通知）の記載に基づくものとする。 職員処遇改善費の対象となる研修は「横浜市処遇改善等加算取扱要領」（平成27年４月１日付けこ保運第１号）の記載に基づくものとする。
B34: (7) 保育士等キャリアアップ研修は「保育士等キャリアアップ研修の実施について」（平成29年４月１日付け雇児保発０４０１第１号厚生労働省雇用均等・児童家庭局保育課長通知） の記載に基づくものが対象となる。実施主体は「都道府県又は都道府県知事の指定した研修実施機関」とする。

Sheet ②名簿17
A1: 第５号様式の１ | D1: 令和 ８ 年度 研修受講履歴一覧 名簿（保育所・地域型保育事業所）
G3: 所在区 | H3: =①集計表!H4 -> #N/A
G4: 施設・事業所種別 | H4: =①集計表!H5 -> #N/A
G5: 施設・事業所番号 | H5: =①集計表!H6 -> 0
B6: 職位 | G6: 施設・事業所名 | H6: =①集計表!H7 -> #N/A
B7: 氏名 | G7: 代表者職・氏名 | H7: =①集計表!H8 -> 0
B8: 幼稚園又は認定こども園に勤務していた者 | E8: ↓マネジメント分野の修了チェック↓ | L8: 開始日（データの入力規則用）
E9: =IF($C$6="","職位を選択してください",IF(ISNUMBER(SEARCH("副主任保育士",C6)),IF(COUNTIF(H:H,"マネジメント研修")>0,"必修数を満たしています","区分３（人数Ａ）対象者は、マネジメント分野（1分野）必修です。入力してください。"),IF(ISNUMBER(SEARCH("職員処遇",C6)),"必修ではありません。","必修ではありません。令和２年３月31日までの修了分は算定可能です。"))) -> 職位を選択してください | L9: キャリアアップ研修 | M9: 42826
A10: 区分３及び職員処遇改善費の対象と認められる研修のみ入力してください（下記(6)参照）。そのうち、キャリアアップ研修が対象か否かについては最下部(7)を参照のうえ、不明な場合は実施主体に必ず確認してください。
A11: No | B11: 各行最後に入力 修了年月日 (例:R2.6.1) ※研修種別～ 研修分野 を入力後に入力してください。 | C11: 研修種別 | D11: 実施主体 ※研修種別を入力後に選択してください | F11: 講義名・テーマ | G11: 修了証番号 | H11: 研修分野 ※職位を入力後に選択してください | I11: 横浜市（区）主催研修等の 修了時間数 （単位：時間） | J11: 備考 | L11: 修了年月日 （データの入力規則用）
A12: 1 | L12: 保育実践 マネジメント | M12: 43921
A13: 2 | K13: =IF(H13<>"",1,0) -> 0 | L13: それ以外の研修 | M13: 45382
A14: 3 | K14: =IF(H14<>"",1,0) -> 0 | L14: =IF(C14="その他",1,"")
A15: 4 | K15: =IF(H15<>"",1,0) -> 0 | L15: =IF(C15="その他",1,"")
A16: 5 | K16: =IF(H16<>"",1,0) -> 0 | L16: =IF(C16="その他",1,"")
A17: 6 | K17: =IF(H17<>"",1,0) -> 0 | L17: =IF(C17="その他",1,"")
A18: 7 | K18: =IF(H18<>"",1,0) -> 0 | L18: =IF(C18="その他",1,"")
A19: 8 | K19: =IF(H19<>"",1,0) -> 0 | L19: =IF(C19="その他",1,"")
A20: 9 | K20: =IF(H20<>"",1,0) -> 0 | L20: =IF(C20="その他",1,"")
A21: 10 | K21: =IF(H21<>"",1,0) -> 0 | L21: =IF(C21="その他",1,"")
A22: 11 | K22: =IF(H22<>"",1,0) -> 0 | L22: =IF(C22="その他",1,"")
A23: 12 | K23: =IF(H23<>"",1,0) -> 0 | L23: =IF(C23="その他",1,"")
A24: 13 | K24: =IF(H24<>"",1,0) -> 0 | L24: =IF(C24="その他",1,"")
A25: 14 | K25: =IF(H25<>"",1,0) -> 0 | L25: =IF(C25="その他",1,"")
A26: 15 | K26: =IF(H26<>"",1,0) -> 0 | L26: =IF(SUMIF(C13:C26,"【職員処遇改善費のみ対象】園内研修",I12:I26)>VLOOKUP(C6,M26:N28,2,FALSE),VLOOKUP(C6,M26:N28,2,FALSE)-SUMIF(C13:C26,"【職員処遇改善費のみ対象】園内研修",I12:I26),"") -> #N/A | M26: 園内研修 | N26: 4
B27: 【留意事項】
B28: (1) 「修了年月日」は、研修修了証の年月日又は研修を受講した年月日を記入する。
B29: (2) 幼稚園又は認定こども園に勤務していた者は幼稚園教育要領等を踏まえて教育の質を高めるための知識・技術の向上を目的とした研修を15時間以上受講していた 場合、１分野修了とできる。できるだけ速やかに保育士等キャリアアップ研修の受講を促すこと。
B30: (3) 保育実践研修は平成29年度から令和元年度までに実施されたものに限り含めることができる。 マネジメント研修は平成29年度から令和元年度までに実施されたものに限り専門分野別研修に含めることができる。(副主任保育士は令和２年度以降も含めることができる。)
B31: (4) 研修受講履歴一覧の内容を確認できる資料（保育士等キャリアアップ研修修了証の写等）を施設において保管すること。
B32: (5) 行が足りない場合は、No２～14の行を選択し挿入すること。
B33: (6) 区分３の対象となる研修は「施設型給付費等に係る処遇改善等加算（区分３）に係る研修修了要件について」（令和７年９月16日付けこ成基202 ７初幼教第４号こども家庭庁成育局 保育政策課長、こども家庭庁成育局成育基盤企画課長及び文部科学省初等中等教育局幼児教育課長連盟通知）の記載に基づくものとする。 職員処遇改善費の対象となる研修は「横浜市処遇改善等加算取扱要領」（平成27年４月１日付けこ保運第１号）の記載に基づくものとする。
B34: (7) 保育士等キャリアアップ研修は「保育士等キャリアアップ研修の実施について」（平成29年４月１日付け雇児保発０４０１第１号厚生労働省雇用均等・児童家庭局保育課長通知） の記載に基づくものが対象となる。実施主体は「都道府県又は都道府県知事の指定した研修実施機関」とする。

Sheet ②名簿18
A1: 第５号様式の１ | D1: 令和 ８ 年度 研修受講履歴一覧 名簿（保育所・地域型保育事業所）
G3: 所在区 | H3: =①集計表!H4 -> #N/A
G4: 施設・事業所種別 | H4: =①集計表!H5 -> #N/A
G5: 施設・事業所番号 | H5: =①集計表!H6 -> 0
B6: 職位 | G6: 施設・事業所名 | H6: =①集計表!H7 -> #N/A
B7: 氏名 | G7: 代表者職・氏名 | H7: =①集計表!H8 -> 0
B8: 幼稚園又は認定こども園に勤務していた者 | E8: ↓マネジメント分野の修了チェック↓ | L8: 開始日（データの入力規則用）
E9: =IF($C$6="","職位を選択してください",IF(ISNUMBER(SEARCH("副主任保育士",C6)),IF(COUNTIF(H:H,"マネジメント研修")>0,"必修数を満たしています","区分３（人数Ａ）対象者は、マネジメント分野（1分野）必修です。入力してください。"),IF(ISNUMBER(SEARCH("職員処遇",C6)),"必修ではありません。","必修ではありません。令和２年３月31日までの修了分は算定可能です。"))) -> 職位を選択してください | L9: キャリアアップ研修 | M9: 42826
A10: 区分３及び職員処遇改善費の対象と認められる研修のみ入力してください（下記(6)参照）。そのうち、キャリアアップ研修が対象か否かについては最下部(7)を参照のうえ、不明な場合は実施主体に必ず確認してください。
A11: No | B11: 各行最後に入力 修了年月日 (例:R2.6.1) ※研修種別～ 研修分野 を入力後に入力してください。 | C11: 研修種別 | D11: 実施主体 ※研修種別を入力後に選択してください | F11: 講義名・テーマ | G11: 修了証番号 | H11: 研修分野 ※職位を入力後に選択してください | I11: 横浜市（区）主催研修等の 修了時間数 （単位：時間） | J11: 備考 | L11: 修了年月日 （データの入力規則用）
A12: 1 | L12: 保育実践 マネジメント | M12: 43921
A13: 2 | K13: =IF(H13<>"",1,0) -> 0 | L13: それ以外の研修 | M13: 45382
A14: 3 | K14: =IF(H14<>"",1,0) -> 0 | L14: =IF(C14="その他",1,"")
A15: 4 | K15: =IF(H15<>"",1,0) -> 0 | L15: =IF(C15="その他",1,"")
A16: 5 | K16: =IF(H16<>"",1,0) -> 0 | L16: =IF(C16="その他",1,"")
A17: 6 | K17: =IF(H17<>"",1,0) -> 0 | L17: =IF(C17="その他",1,"")
A18: 7 | K18: =IF(H18<>"",1,0) -> 0 | L18: =IF(C18="その他",1,"")
A19: 8 | K19: =IF(H19<>"",1,0) -> 0 | L19: =IF(C19="その他",1,"")
A20: 9 | K20: =IF(H20<>"",1,0) -> 0 | L20: =IF(C20="その他",1,"")
A21: 10 | K21: =IF(H21<>"",1,0) -> 0 | L21: =IF(C21="その他",1,"")
A22: 11 | K22: =IF(H22<>"",1,0) -> 0 | L22: =IF(C22="その他",1,"")
A23: 12 | K23: =IF(H23<>"",1,0) -> 0 | L23: =IF(C23="その他",1,"")
A24: 13 | K24: =IF(H24<>"",1,0) -> 0 | L24: =IF(C24="その他",1,"")
A25: 14 | K25: =IF(H25<>"",1,0) -> 0 | L25: =IF(C25="その他",1,"")
A26: 15 | K26: =IF(H26<>"",1,0) -> 0 | L26: =IF(SUMIF(C13:C26,"【職員処遇改善費のみ対象】園内研修",I12:I26)>VLOOKUP(C6,M26:N28,2,FALSE),VLOOKUP(C6,M26:N28,2,FALSE)-SUMIF(C13:C26,"【職員処遇改善費のみ対象】園内研修",I12:I26),"") -> #N/A | M26: 園内研修 | N26: 4
B27: 【留意事項】
B28: (1) 「修了年月日」は、研修修了証の年月日又は研修を受講した年月日を記入する。
B29: (2) 幼稚園又は認定こども園に勤務していた者は幼稚園教育要領等を踏まえて教育の質を高めるための知識・技術の向上を目的とした研修を15時間以上受講していた 場合、１分野修了とできる。できるだけ速やかに保育士等キャリアアップ研修の受講を促すこと。
B30: (3) 保育実践研修は平成29年度から令和元年度までに実施されたものに限り含めることができる。 マネジメント研修は平成29年度から令和元年度までに実施されたものに限り専門分野別研修に含めることができる。(副主任保育士は令和２年度以降も含めることができる。)
B31: (4) 研修受講履歴一覧の内容を確認できる資料（保育士等キャリアアップ研修修了証の写等）を施設において保管すること。
B32: (5) 行が足りない場合は、No２～14の行を選択し挿入すること。
B33: (6) 区分３の対象となる研修は「施設型給付費等に係る処遇改善等加算（区分３）に係る研修修了要件について」（令和７年９月16日付けこ成基202 ７初幼教第４号こども家庭庁成育局 保育政策課長、こども家庭庁成育局成育基盤企画課長及び文部科学省初等中等教育局幼児教育課長連盟通知）の記載に基づくものとする。 職員処遇改善費の対象となる研修は「横浜市処遇改善等加算取扱要領」（平成27年４月１日付けこ保運第１号）の記載に基づくものとする。
B34: (7) 保育士等キャリアアップ研修は「保育士等キャリアアップ研修の実施について」（平成29年４月１日付け雇児保発０４０１第１号厚生労働省雇用均等・児童家庭局保育課長通知） の記載に基づくものが対象となる。実施主体は「都道府県又は都道府県知事の指定した研修実施機関」とする。

Sheet ②名簿19
A1: 第５号様式の１ | D1: 令和 ８ 年度 研修受講履歴一覧 名簿（保育所・地域型保育事業所）
G3: 所在区 | H3: =①集計表!H4 -> #N/A
G4: 施設・事業所種別 | H4: =①集計表!H5 -> #N/A
G5: 施設・事業所番号 | H5: =①集計表!H6 -> 0
B6: 職位 | G6: 施設・事業所名 | H6: =①集計表!H7 -> #N/A
B7: 氏名 | G7: 代表者職・氏名 | H7: =①集計表!H8 -> 0
B8: 幼稚園又は認定こども園に勤務していた者 | E8: ↓マネジメント分野の修了チェック↓ | L8: 開始日（データの入力規則用）
E9: =IF($C$6="","職位を選択してください",IF(ISNUMBER(SEARCH("副主任保育士",C6)),IF(COUNTIF(H:H,"マネジメント研修")>0,"必修数を満たしています","区分３（人数Ａ）対象者は、マネジメント分野（1分野）必修です。入力してください。"),IF(ISNUMBER(SEARCH("職員処遇",C6)),"必修ではありません。","必修ではありません。令和２年３月31日までの修了分は算定可能です。"))) -> 職位を選択してください | L9: キャリアアップ研修 | M9: 42826
A10: 区分３及び職員処遇改善費の対象と認められる研修のみ入力してください（下記(6)参照）。そのうち、キャリアアップ研修が対象か否かについては最下部(7)を参照のうえ、不明な場合は実施主体に必ず確認してください。
A11: No | B11: 各行最後に入力 修了年月日 (例:R2.6.1) ※研修種別～ 研修分野 を入力後に入力してください。 | C11: 研修種別 | D11: 実施主体 ※研修種別を入力後に選択してください | F11: 講義名・テーマ | G11: 修了証番号 | H11: 研修分野 ※職位を入力後に選択してください | I11: 横浜市（区）主催研修等の 修了時間数 （単位：時間） | J11: 備考 | L11: 修了年月日 （データの入力規則用）
A12: 1 | L12: 保育実践 マネジメント | M12: 43921
A13: 2 | K13: =IF(H13<>"",1,0) -> 0 | L13: それ以外の研修 | M13: 45382
A14: 3 | K14: =IF(H14<>"",1,0) -> 0 | L14: =IF(C14="その他",1,"")
A15: 4 | K15: =IF(H15<>"",1,0) -> 0 | L15: =IF(C15="その他",1,"")
A16: 5 | K16: =IF(H16<>"",1,0) -> 0 | L16: =IF(C16="その他",1,"")
A17: 6 | K17: =IF(H17<>"",1,0) -> 0 | L17: =IF(C17="その他",1,"")
A18: 7 | K18: =IF(H18<>"",1,0) -> 0 | L18: =IF(C18="その他",1,"")
A19: 8 | K19: =IF(H19<>"",1,0) -> 0 | L19: =IF(C19="その他",1,"")
A20: 9 | K20: =IF(H20<>"",1,0) -> 0 | L20: =IF(C20="その他",1,"")
A21: 10 | K21: =IF(H21<>"",1,0) -> 0 | L21: =IF(C21="その他",1,"")
A22: 11 | K22: =IF(H22<>"",1,0) -> 0 | L22: =IF(C22="その他",1,"")
A23: 12 | K23: =IF(H23<>"",1,0) -> 0 | L23: =IF(C23="その他",1,"")
A24: 13 | K24: =IF(H24<>"",1,0) -> 0 | L24: =IF(C24="その他",1,"")
A25: 14 | K25: =IF(H25<>"",1,0) -> 0 | L25: =IF(C25="その他",1,"")
A26: 15 | K26: =IF(H26<>"",1,0) -> 0 | L26: =IF(SUMIF(C13:C26,"【職員処遇改善費のみ対象】園内研修",I12:I26)>VLOOKUP(C6,M26:N28,2,FALSE),VLOOKUP(C6,M26:N28,2,FALSE)-SUMIF(C13:C26,"【職員処遇改善費のみ対象】園内研修",I12:I26),"") -> #N/A | M26: 園内研修 | N26: 4
B27: 【留意事項】
B28: (1) 「修了年月日」は、研修修了証の年月日又は研修を受講した年月日を記入する。
B29: (2) 幼稚園又は認定こども園に勤務していた者は幼稚園教育要領等を踏まえて教育の質を高めるための知識・技術の向上を目的とした研修を15時間以上受講していた 場合、１分野修了とできる。できるだけ速やかに保育士等キャリアアップ研修の受講を促すこと。
B30: (3) 保育実践研修は平成29年度から令和元年度までに実施されたものに限り含めることができる。 マネジメント研修は平成29年度から令和元年度までに実施されたものに限り専門分野別研修に含めることができる。(副主任保育士は令和２年度以降も含めることができる。)
B31: (4) 研修受講履歴一覧の内容を確認できる資料（保育士等キャリアアップ研修修了証の写等）を施設において保管すること。
B32: (5) 行が足りない場合は、No２～14の行を選択し挿入すること。
B33: (6) 区分３の対象となる研修は「施設型給付費等に係る処遇改善等加算（区分３）に係る研修修了要件について」（令和７年９月16日付けこ成基202 ７初幼教第４号こども家庭庁成育局 保育政策課長、こども家庭庁成育局成育基盤企画課長及び文部科学省初等中等教育局幼児教育課長連盟通知）の記載に基づくものとする。 職員処遇改善費の対象となる研修は「横浜市処遇改善等加算取扱要領」（平成27年４月１日付けこ保運第１号）の記載に基づくものとする。
B34: (7) 保育士等キャリアアップ研修は「保育士等キャリアアップ研修の実施について」（平成29年４月１日付け雇児保発０４０１第１号厚生労働省雇用均等・児童家庭局保育課長通知） の記載に基づくものが対象となる。実施主体は「都道府県又は都道府県知事の指定した研修実施機関」とする。

Sheet ②名簿20
A1: 第５号様式の１ | D1: 令和 ８ 年度 研修受講履歴一覧 名簿（保育所・地域型保育事業所）
G3: 所在区 | H3: =①集計表!H4 -> #N/A
G4: 施設・事業所種別 | H4: =①集計表!H5 -> #N/A
G5: 施設・事業所番号 | H5: =①集計表!H6 -> 0
B6: 職位 | G6: 施設・事業所名 | H6: =①集計表!H7 -> #N/A
B7: 氏名 | G7: 代表者職・氏名 | H7: =①集計表!H8 -> 0
B8: 幼稚園又は認定こども園に勤務していた者 | E8: ↓マネジメント分野の修了チェック↓ | L8: 開始日（データの入力規則用）
E9: =IF($C$6="","職位を選択してください",IF(ISNUMBER(SEARCH("副主任保育士",C6)),IF(COUNTIF(H:H,"マネジメント研修")>0,"必修数を満たしています","区分３（人数Ａ）対象者は、マネジメント分野（1分野）必修です。入力してください。"),IF(ISNUMBER(SEARCH("職員処遇",C6)),"必修ではありません。","必修ではありません。令和２年３月31日までの修了分は算定可能です。"))) -> 職位を選択してください | L9: キャリアアップ研修 | M9: 42826
A10: 区分３及び職員処遇改善費の対象と認められる研修のみ入力してください（下記(6)参照）。そのうち、キャリアアップ研修が対象か否かについては最下部(7)を参照のうえ、不明な場合は実施主体に必ず確認してください。
A11: No | B11: 各行最後に入力 修了年月日 (例:R2.6.1) ※研修種別～ 研修分野 を入力後に入力してください。 | C11: 研修種別 | D11: 実施主体 ※研修種別を入力後に選択してください | F11: 講義名・テーマ | G11: 修了証番号 | H11: 研修分野 ※職位を入力後に選択してください | I11: 横浜市（区）主催研修等の 修了時間数 （単位：時間） | J11: 備考 | L11: 修了年月日 （データの入力規則用）
A12: 1 | L12: 保育実践 マネジメント | M12: 43921
A13: 2 | K13: =IF(H13<>"",1,0) -> 0 | L13: それ以外の研修 | M13: 45382
A14: 3 | K14: =IF(H14<>"",1,0) -> 0 | L14: =IF(C14="その他",1,"")
A15: 4 | K15: =IF(H15<>"",1,0) -> 0 | L15: =IF(C15="その他",1,"")
A16: 5 | K16: =IF(H16<>"",1,0) -> 0 | L16: =IF(C16="その他",1,"")
A17: 6 | K17: =IF(H17<>"",1,0) -> 0 | L17: =IF(C17="その他",1,"")
A18: 7 | K18: =IF(H18<>"",1,0) -> 0 | L18: =IF(C18="その他",1,"")
A19: 8 | K19: =IF(H19<>"",1,0) -> 0 | L19: =IF(C19="その他",1,"")
A20: 9 | K20: =IF(H20<>"",1,0) -> 0 | L20: =IF(C20="その他",1,"")
A21: 10 | K21: =IF(H21<>"",1,0) -> 0 | L21: =IF(C21="その他",1,"")
A22: 11 | K22: =IF(H22<>"",1,0) -> 0 | L22: =IF(C22="その他",1,"")
A23: 12 | K23: =IF(H23<>"",1,0) -> 0 | L23: =IF(C23="その他",1,"")
A24: 13 | K24: =IF(H24<>"",1,0) -> 0 | L24: =IF(C24="その他",1,"")
A25: 14 | K25: =IF(H25<>"",1,0) -> 0 | L25: =IF(C25="その他",1,"")
A26: 15 | K26: =IF(H26<>"",1,0) -> 0 | L26: =IF(SUMIF(C13:C26,"【職員処遇改善費のみ対象】園内研修",I12:I26)>VLOOKUP(C6,M26:N28,2,FALSE),VLOOKUP(C6,M26:N28,2,FALSE)-SUMIF(C13:C26,"【職員処遇改善費のみ対象】園内研修",I12:I26),"") -> #N/A | M26: 園内研修 | N26: 4
B27: 【留意事項】
B28: (1) 「修了年月日」は、研修修了証の年月日又は研修を受講した年月日を記入する。
B29: (2) 幼稚園又は認定こども園に勤務していた者は幼稚園教育要領等を踏まえて教育の質を高めるための知識・技術の向上を目的とした研修を15時間以上受講していた 場合、１分野修了とできる。できるだけ速やかに保育士等キャリアアップ研修の受講を促すこと。
B30: (3) 保育実践研修は平成29年度から令和元年度までに実施されたものに限り含めることができる。 マネジメント研修は平成29年度から令和元年度までに実施されたものに限り専門分野別研修に含めることができる。(副主任保育士は令和２年度以降も含めることができる。)
B31: (4) 研修受講履歴一覧の内容を確認できる資料（保育士等キャリアアップ研修修了証の写等）を施設において保管すること。
B32: (5) 行が足りない場合は、No２～14の行を選択し挿入すること。
B33: (6) 区分３の対象となる研修は「施設型給付費等に係る処遇改善等加算（区分３）に係る研修修了要件について」（令和７年９月16日付けこ成基202 ７初幼教第４号こども家庭庁成育局 保育政策課長、こども家庭庁成育局成育基盤企画課長及び文部科学省初等中等教育局幼児教育課長連盟通知）の記載に基づくものとする。 職員処遇改善費の対象となる研修は「横浜市処遇改善等加算取扱要領」（平成27年４月１日付けこ保運第１号）の記載に基づくものとする。
B34: (7) 保育士等キャリアアップ研修は「保育士等キャリアアップ研修の実施について」（平成29年４月１日付け雇児保発０４０１第１号厚生労働省雇用均等・児童家庭局保育課長通知） の記載に基づくものが対象となる。実施主体は「都道府県又は都道府県知事の指定した研修実施機関」とする。

Sheet ②名簿21
A1: 第５号様式の１ | D1: 令和 ８ 年度 研修受講履歴一覧 名簿（保育所・地域型保育事業所）
G3: 所在区 | H3: =①集計表!H4 -> #N/A
G4: 施設・事業所種別 | H4: =①集計表!H5 -> #N/A
G5: 施設・事業所番号 | H5: =①集計表!H6 -> 0
B6: 職位 | G6: 施設・事業所名 | H6: =①集計表!H7 -> #N/A
B7: 氏名 | G7: 代表者職・氏名 | H7: =①集計表!H8 -> 0
B8: 幼稚園又は認定こども園に勤務していた者 | E8: ↓マネジメント分野の修了チェック↓ | L8: 開始日（データの入力規則用）
E9: =IF($C$6="","職位を選択してください",IF(ISNUMBER(SEARCH("副主任保育士",C6)),IF(COUNTIF(H:H,"マネジメント研修")>0,"必修数を満たしています","区分３（人数Ａ）対象者は、マネジメント分野（1分野）必修です。入力してください。"),IF(ISNUMBER(SEARCH("職員処遇",C6)),"必修ではありません。","必修ではありません。令和２年３月31日までの修了分は算定可能です。"))) -> 職位を選択してください | L9: キャリアアップ研修 | M9: 42826
A10: 区分３及び職員処遇改善費の対象と認められる研修のみ入力してください（下記(6)参照）。そのうち、キャリアアップ研修が対象か否かについては最下部(7)を参照のうえ、不明な場合は実施主体に必ず確認してください。
A11: No | B11: 各行最後に入力 修了年月日 (例:R2.6.1) ※研修種別～ 研修分野 を入力後に入力してください。 | C11: 研修種別 | D11: 実施主体 ※研修種別を入力後に選択してください | F11: 講義名・テーマ | G11: 修了証番号 | H11: 研修分野 ※職位を入力後に選択してください | I11: 横浜市（区）主催研修等の 修了時間数 （単位：時間） | J11: 備考 | L11: 修了年月日 （データの入力規則用）
A12: 1 | L12: 保育実践 マネジメント | M12: 43921
A13: 2 | K13: =IF(H13<>"",1,0) -> 0 | L13: それ以外の研修 | M13: 45382
A14: 3 | K14: =IF(H14<>"",1,0) -> 0 | L14: =IF(C14="その他",1,"")
A15: 4 | K15: =IF(H15<>"",1,0) -> 0 | L15: =IF(C15="その他",1,"")
A16: 5 | K16: =IF(H16<>"",1,0) -> 0 | L16: =IF(C16="その他",1,"")
A17: 6 | K17: =IF(H17<>"",1,0) -> 0 | L17: =IF(C17="その他",1,"")
A18: 7 | K18: =IF(H18<>"",1,0) -> 0 | L18: =IF(C18="その他",1,"")
A19: 8 | K19: =IF(H19<>"",1,0) -> 0 | L19: =IF(C19="その他",1,"")
A20: 9 | K20: =IF(H20<>"",1,0) -> 0 | L20: =IF(C20="その他",1,"")
A21: 10 | K21: =IF(H21<>"",1,0) -> 0 | L21: =IF(C21="その他",1,"")
A22: 11 | K22: =IF(H22<>"",1,0) -> 0 | L22: =IF(C22="その他",1,"")
A23: 12 | K23: =IF(H23<>"",1,0) -> 0 | L23: =IF(C23="その他",1,"")
A24: 13 | K24: =IF(H24<>"",1,0) -> 0 | L24: =IF(C24="その他",1,"")
A25: 14 | K25: =IF(H25<>"",1,0) -> 0 | L25: =IF(C25="その他",1,"")
A26: 15 | K26: =IF(H26<>"",1,0) -> 0 | L26: =IF(SUMIF(C13:C26,"【職員処遇改善費のみ対象】園内研修",I12:I26)>VLOOKUP(C6,M26:N28,2,FALSE),VLOOKUP(C6,M26:N28,2,FALSE)-SUMIF(C13:C26,"【職員処遇改善費のみ対象】園内研修",I12:I26),"") -> #N/A | M26: 園内研修 | N26: 4
B27: 【留意事項】
B28: (1) 「修了年月日」は、研修修了証の年月日又は研修を受講した年月日を記入する。
B29: (2) 幼稚園又は認定こども園に勤務していた者は幼稚園教育要領等を踏まえて教育の質を高めるための知識・技術の向上を目的とした研修を15時間以上受講していた 場合、１分野修了とできる。できるだけ速やかに保育士等キャリアアップ研修の受講を促すこと。
B30: (3) 保育実践研修は平成29年度から令和元年度までに実施されたものに限り含めることができる。 マネジメント研修は平成29年度から令和元年度までに実施されたものに限り専門分野別研修に含めることができる。(副主任保育士は令和２年度以降も含めることができる。)
B31: (4) 研修受講履歴一覧の内容を確認できる資料（保育士等キャリアアップ研修修了証の写等）を施設において保管すること。
B32: (5) 行が足りない場合は、No２～14の行を選択し挿入すること。
B33: (6) 区分３の対象となる研修は「施設型給付費等に係る処遇改善等加算（区分３）に係る研修修了要件について」（令和７年９月16日付けこ成基202 ７初幼教第４号こども家庭庁成育局 保育政策課長、こども家庭庁成育局成育基盤企画課長及び文部科学省初等中等教育局幼児教育課長連盟通知）の記載に基づくものとする。 職員処遇改善費の対象となる研修は「横浜市処遇改善等加算取扱要領」（平成27年４月１日付けこ保運第１号）の記載に基づくものとする。
B34: (7) 保育士等キャリアアップ研修は「保育士等キャリアアップ研修の実施について」（平成29年４月１日付け雇児保発０４０１第１号厚生労働省雇用均等・児童家庭局保育課長通知） の記載に基づくものが対象となる。実施主体は「都道府県又は都道府県知事の指定した研修実施機関」とする。

Sheet ②名簿22
A1: 第５号様式の１ | D1: 令和 ８ 年度 研修受講履歴一覧 名簿（保育所・地域型保育事業所）
G3: 所在区 | H3: =①集計表!H4 -> #N/A
G4: 施設・事業所種別 | H4: =①集計表!H5 -> #N/A
G5: 施設・事業所番号 | H5: =①集計表!H6 -> 0
B6: 職位 | G6: 施設・事業所名 | H6: =①集計表!H7 -> #N/A
B7: 氏名 | G7: 代表者職・氏名 | H7: =①集計表!H8 -> 0
B8: 幼稚園又は認定こども園に勤務していた者 | E8: ↓マネジメント分野の修了チェック↓ | L8: 開始日（データの入力規則用）
E9: =IF($C$6="","職位を選択してください",IF(ISNUMBER(SEARCH("副主任保育士",C6)),IF(COUNTIF(H:H,"マネジメント研修")>0,"必修数を満たしています","区分３（人数Ａ）対象者は、マネジメント分野（1分野）必修です。入力してください。"),IF(ISNUMBER(SEARCH("職員処遇",C6)),"必修ではありません。","必修ではありません。令和２年３月31日までの修了分は算定可能です。"))) -> 職位を選択してください | L9: キャリアアップ研修 | M9: 42826
A10: 区分３及び職員処遇改善費の対象と認められる研修のみ入力してください（下記(6)参照）。そのうち、キャリアアップ研修が対象か否かについては最下部(7)を参照のうえ、不明な場合は実施主体に必ず確認してください。
A11: No | B11: 各行最後に入力 修了年月日 (例:R2.6.1) ※研修種別～ 研修分野 を入力後に入力してください。 | C11: 研修種別 | D11: 実施主体 ※研修種別を入力後に選択してください | F11: 講義名・テーマ | G11: 修了証番号 | H11: 研修分野 ※職位を入力後に選択してください | I11: 横浜市（区）主催研修等の 修了時間数 （単位：時間） | J11: 備考 | L11: 修了年月日 （データの入力規則用）
A12: 1 | L12: 保育実践 マネジメント | M12: 43921
A13: 2 | K13: =IF(H13<>"",1,0) -> 0 | L13: それ以外の研修 | M13: 45382
A14: 3 | K14: =IF(H14<>"",1,0) -> 0 | L14: =IF(C14="その他",1,"")
A15: 4 | K15: =IF(H15<>"",1,0) -> 0 | L15: =IF(C15="その他",1,"")
A16: 5 | K16: =IF(H16<>"",1,0) -> 0 | L16: =IF(C16="その他",1,"")
A17: 6 | K17: =IF(H17<>"",1,0) -> 0 | L17: =IF(C17="その他",1,"")
A18: 7 | K18: =IF(H18<>"",1,0) -> 0 | L18: =IF(C18="その他",1,"")
A19: 8 | K19: =IF(H19<>"",1,0) -> 0 | L19: =IF(C19="その他",1,"")
A20: 9 | K20: =IF(H20<>"",1,0) -> 0 | L20: =IF(C20="その他",1,"")
A21: 10 | K21: =IF(H21<>"",1,0) -> 0 | L21: =IF(C21="その他",1,"")
A22: 11 | K22: =IF(H22<>"",1,0) -> 0 | L22: =IF(C22="その他",1,"")
A23: 12 | K23: =IF(H23<>"",1,0) -> 0 | L23: =IF(C23="その他",1,"")
A24: 13 | K24: =IF(H24<>"",1,0) -> 0 | L24: =IF(C24="その他",1,"")
A25: 14 | K25: =IF(H25<>"",1,0) -> 0 | L25: =IF(C25="その他",1,"")
A26: 15 | K26: =IF(H26<>"",1,0) -> 0 | L26: =IF(SUMIF(C13:C26,"【職員処遇改善費のみ対象】園内研修",I12:I26)>VLOOKUP(C6,M26:N28,2,FALSE),VLOOKUP(C6,M26:N28,2,FALSE)-SUMIF(C13:C26,"【職員処遇改善費のみ対象】園内研修",I12:I26),"") -> #N/A | M26: 園内研修 | N26: 4
B27: 【留意事項】
B28: (1) 「修了年月日」は、研修修了証の年月日又は研修を受講した年月日を記入する。
B29: (2) 幼稚園又は認定こども園に勤務していた者は幼稚園教育要領等を踏まえて教育の質を高めるための知識・技術の向上を目的とした研修を15時間以上受講していた 場合、１分野修了とできる。できるだけ速やかに保育士等キャリアアップ研修の受講を促すこと。
B30: (3) 保育実践研修は平成29年度から令和元年度までに実施されたものに限り含めることができる。 マネジメント研修は平成29年度から令和元年度までに実施されたものに限り専門分野別研修に含めることができる。(副主任保育士は令和２年度以降も含めることができる。)
B31: (4) 研修受講履歴一覧の内容を確認できる資料（保育士等キャリアアップ研修修了証の写等）を施設において保管すること。
B32: (5) 行が足りない場合は、No２～14の行を選択し挿入すること。
B33: (6) 区分３の対象となる研修は「施設型給付費等に係る処遇改善等加算（区分３）に係る研修修了要件について」（令和７年９月16日付けこ成基202 ７初幼教第４号こども家庭庁成育局 保育政策課長、こども家庭庁成育局成育基盤企画課長及び文部科学省初等中等教育局幼児教育課長連盟通知）の記載に基づくものとする。 職員処遇改善費の対象となる研修は「横浜市処遇改善等加算取扱要領」（平成27年４月１日付けこ保運第１号）の記載に基づくものとする。
B34: (7) 保育士等キャリアアップ研修は「保育士等キャリアアップ研修の実施について」（平成29年４月１日付け雇児保発０４０１第１号厚生労働省雇用均等・児童家庭局保育課長通知） の記載に基づくものが対象となる。実施主体は「都道府県又は都道府県知事の指定した研修実施機関」とする。

Sheet ②名簿23
A1: 第５号様式の１ | D1: 令和 ８ 年度 研修受講履歴一覧 名簿（保育所・地域型保育事業所）
G3: 所在区 | H3: =①集計表!H4 -> #N/A
G4: 施設・事業所種別 | H4: =①集計表!H5 -> #N/A
G5: 施設・事業所番号 | H5: =①集計表!H6 -> 0
B6: 職位 | G6: 施設・事業所名 | H6: =①集計表!H7 -> #N/A
B7: 氏名 | G7: 代表者職・氏名 | H7: =①集計表!H8 -> 0
B8: 幼稚園又は認定こども園に勤務していた者 | E8: ↓マネジメント分野の修了チェック↓ | L8: 開始日（データの入力規則用）
E9: =IF($C$6="","職位を選択してください",IF(ISNUMBER(SEARCH("副主任保育士",C6)),IF(COUNTIF(H:H,"マネジメント研修")>0,"必修数を満たしています","区分３（人数Ａ）対象者は、マネジメント分野（1分野）必修です。入力してください。"),IF(ISNUMBER(SEARCH("職員処遇",C6)),"必修ではありません。","必修ではありません。令和２年３月31日までの修了分は算定可能です。"))) -> 職位を選択してください | L9: キャリアアップ研修 | M9: 42826
A10: 区分３及び職員処遇改善費の対象と認められる研修のみ入力してください（下記(6)参照）。そのうち、キャリアアップ研修が対象か否かについては最下部(7)を参照のうえ、不明な場合は実施主体に必ず確認してください。
A11: No | B11: 各行最後に入力 修了年月日 (例:R2.6.1) ※研修種別～ 研修分野 を入力後に入力してください。 | C11: 研修種別 | D11: 実施主体 ※研修種別を入力後に選択してください | F11: 講義名・テーマ | G11: 修了証番号 | H11: 研修分野 ※職位を入力後に選択してください | I11: 横浜市（区）主催研修等の 修了時間数 （単位：時間） | J11: 備考 | L11: 修了年月日 （データの入力規則用）
A12: 1 | L12: 保育実践 マネジメント | M12: 43921
A13: 2 | K13: =IF(H13<>"",1,0) -> 0 | L13: それ以外の研修 | M13: 45382
A14: 3 | K14: =IF(H14<>"",1,0) -> 0 | L14: =IF(C14="その他",1,"")
A15: 4 | K15: =IF(H15<>"",1,0) -> 0 | L15: =IF(C15="その他",1,"")
A16: 5 | K16: =IF(H16<>"",1,0) -> 0 | L16: =IF(C16="その他",1,"")
A17: 6 | K17: =IF(H17<>"",1,0) -> 0 | L17: =IF(C17="その他",1,"")
A18: 7 | K18: =IF(H18<>"",1,0) -> 0 | L18: =IF(C18="その他",1,"")
A19: 8 | K19: =IF(H19<>"",1,0) -> 0 | L19: =IF(C19="その他",1,"")
A20: 9 | K20: =IF(H20<>"",1,0) -> 0 | L20: =IF(C20="その他",1,"")
A21: 10 | K21: =IF(H21<>"",1,0) -> 0 | L21: =IF(C21="その他",1,"")
A22: 11 | K22: =IF(H22<>"",1,0) -> 0 | L22: =IF(C22="その他",1,"")
A23: 12 | K23: =IF(H23<>"",1,0) -> 0 | L23: =IF(C23="その他",1,"")
A24: 13 | K24: =IF(H24<>"",1,0) -> 0 | L24: =IF(C24="その他",1,"")
A25: 14 | K25: =IF(H25<>"",1,0) -> 0 | L25: =IF(C25="その他",1,"")
A26: 15 | K26: =IF(H26<>"",1,0) -> 0 | L26: =IF(SUMIF(C13:C26,"【職員処遇改善費のみ対象】園内研修",I12:I26)>VLOOKUP(C6,M26:N28,2,FALSE),VLOOKUP(C6,M26:N28,2,FALSE)-SUMIF(C13:C26,"【職員処遇改善費のみ対象】園内研修",I12:I26),"") -> #N/A | M26: 園内研修 | N26: 4
B27: 【留意事項】
B28: (1) 「修了年月日」は、研修修了証の年月日又は研修を受講した年月日を記入する。
B29: (2) 幼稚園又は認定こども園に勤務していた者は幼稚園教育要領等を踏まえて教育の質を高めるための知識・技術の向上を目的とした研修を15時間以上受講していた 場合、１分野修了とできる。できるだけ速やかに保育士等キャリアアップ研修の受講を促すこと。
B30: (3) 保育実践研修は平成29年度から令和元年度までに実施されたものに限り含めることができる。 マネジメント研修は平成29年度から令和元年度までに実施されたものに限り専門分野別研修に含めることができる。(副主任保育士は令和２年度以降も含めることができる。)
B31: (4) 研修受講履歴一覧の内容を確認できる資料（保育士等キャリアアップ研修修了証の写等）を施設において保管すること。
B32: (5) 行が足りない場合は、No２～14の行を選択し挿入すること。
B33: (6) 区分３の対象となる研修は「施設型給付費等に係る処遇改善等加算（区分３）に係る研修修了要件について」（令和７年９月16日付けこ成基202 ７初幼教第４号こども家庭庁成育局 保育政策課長、こども家庭庁成育局成育基盤企画課長及び文部科学省初等中等教育局幼児教育課長連盟通知）の記載に基づくものとする。 職員処遇改善費の対象となる研修は「横浜市処遇改善等加算取扱要領」（平成27年４月１日付けこ保運第１号）の記載に基づくものとする。
B34: (7) 保育士等キャリアアップ研修は「保育士等キャリアアップ研修の実施について」（平成29年４月１日付け雇児保発０４０１第１号厚生労働省雇用均等・児童家庭局保育課長通知） の記載に基づくものが対象となる。実施主体は「都道府県又は都道府県知事の指定した研修実施機関」とする。

Sheet ②名簿24
A1: 第５号様式の１ | D1: 令和 ８ 年度 研修受講履歴一覧 名簿（保育所・地域型保育事業所）
G3: 所在区 | H3: =①集計表!H4 -> #N/A
G4: 施設・事業所種別 | H4: =①集計表!H5 -> #N/A
G5: 施設・事業所番号 | H5: =①集計表!H6 -> 0
B6: 職位 | G6: 施設・事業所名 | H6: =①集計表!H7 -> #N/A
B7: 氏名 | G7: 代表者職・氏名 | H7: =①集計表!H8 -> 0
B8: 幼稚園又は認定こども園に勤務していた者 | E8: ↓マネジメント分野の修了チェック↓ | L8: 開始日（データの入力規則用）
E9: =IF($C$6="","職位を選択してください",IF(ISNUMBER(SEARCH("副主任保育士",C6)),IF(COUNTIF(H:H,"マネジメント研修")>0,"必修数を満たしています","区分３（人数Ａ）対象者は、マネジメント分野（1分野）必修です。入力してください。"),IF(ISNUMBER(SEARCH("職員処遇",C6)),"必修ではありません。","必修ではありません。令和２年３月31日までの修了分は算定可能です。"))) -> 職位を選択してください | L9: キャリアアップ研修 | M9: 42826
A10: 区分３及び職員処遇改善費の対象と認められる研修のみ入力してください（下記(6)参照）。そのうち、キャリアアップ研修が対象か否かについては最下部(7)を参照のうえ、不明な場合は実施主体に必ず確認してください。
A11: No | B11: 各行最後に入力 修了年月日 (例:R2.6.1) ※研修種別～ 研修分野 を入力後に入力してください。 | C11: 研修種別 | D11: 実施主体 ※研修種別を入力後に選択してください | F11: 講義名・テーマ | G11: 修了証番号 | H11: 研修分野 ※職位を入力後に選択してください | I11: 横浜市（区）主催研修等の 修了時間数 （単位：時間） | J11: 備考 | L11: 修了年月日 （データの入力規則用）
A12: 1 | L12: 保育実践 マネジメント | M12: 43921
A13: 2 | K13: =IF(H13<>"",1,0) -> 0 | L13: それ以外の研修 | M13: 45382
A14: 3 | K14: =IF(H14<>"",1,0) -> 0 | L14: =IF(C14="その他",1,"")
A15: 4 | K15: =IF(H15<>"",1,0) -> 0 | L15: =IF(C15="その他",1,"")
A16: 5 | K16: =IF(H16<>"",1,0) -> 0 | L16: =IF(C16="その他",1,"")
A17: 6 | K17: =IF(H17<>"",1,0) -> 0 | L17: =IF(C17="その他",1,"")
A18: 7 | K18: =IF(H18<>"",1,0) -> 0 | L18: =IF(C18="その他",1,"")
A19: 8 | K19: =IF(H19<>"",1,0) -> 0 | L19: =IF(C19="その他",1,"")
A20: 9 | K20: =IF(H20<>"",1,0) -> 0 | L20: =IF(C20="その他",1,"")
A21: 10 | K21: =IF(H21<>"",1,0) -> 0 | L21: =IF(C21="その他",1,"")
A22: 11 | K22: =IF(H22<>"",1,0) -> 0 | L22: =IF(C22="その他",1,"")
A23: 12 | K23: =IF(H23<>"",1,0) -> 0 | L23: =IF(C23="その他",1,"")
A24: 13 | K24: =IF(H24<>"",1,0) -> 0 | L24: =IF(C24="その他",1,"")
A25: 14 | K25: =IF(H25<>"",1,0) -> 0 | L25: =IF(C25="その他",1,"")
A26: 15 | K26: =IF(H26<>"",1,0) -> 0 | L26: =IF(SUMIF(C13:C26,"【職員処遇改善費のみ対象】園内研修",I12:I26)>VLOOKUP(C6,M26:N28,2,FALSE),VLOOKUP(C6,M26:N28,2,FALSE)-SUMIF(C13:C26,"【職員処遇改善費のみ対象】園内研修",I12:I26),"") -> #N/A | M26: 園内研修 | N26: 4
B27: 【留意事項】
B28: (1) 「修了年月日」は、研修修了証の年月日又は研修を受講した年月日を記入する。
B29: (2) 幼稚園又は認定こども園に勤務していた者は幼稚園教育要領等を踏まえて教育の質を高めるための知識・技術の向上を目的とした研修を15時間以上受講していた 場合、１分野修了とできる。できるだけ速やかに保育士等キャリアアップ研修の受講を促すこと。
B30: (3) 保育実践研修は平成29年度から令和元年度までに実施されたものに限り含めることができる。 マネジメント研修は平成29年度から令和元年度までに実施されたものに限り専門分野別研修に含めることができる。(副主任保育士は令和２年度以降も含めることができる。)
B31: (4) 研修受講履歴一覧の内容を確認できる資料（保育士等キャリアアップ研修修了証の写等）を施設において保管すること。
B32: (5) 行が足りない場合は、No２～14の行を選択し挿入すること。
B33: (6) 区分３の対象となる研修は「施設型給付費等に係る処遇改善等加算（区分３）に係る研修修了要件について」（令和７年９月16日付けこ成基202 ７初幼教第４号こども家庭庁成育局 保育政策課長、こども家庭庁成育局成育基盤企画課長及び文部科学省初等中等教育局幼児教育課長連盟通知）の記載に基づくものとする。 職員処遇改善費の対象となる研修は「横浜市処遇改善等加算取扱要領」（平成27年４月１日付けこ保運第１号）の記載に基づくものとする。
B34: (7) 保育士等キャリアアップ研修は「保育士等キャリアアップ研修の実施について」（平成29年４月１日付け雇児保発０４０１第１号厚生労働省雇用均等・児童家庭局保育課長通知） の記載に基づくものが対象となる。実施主体は「都道府県又は都道府県知事の指定した研修実施機関」とする。

Sheet ②名簿25
A1: 第５号様式の１ | D1: 令和 ８ 年度 研修受講履歴一覧 名簿（保育所・地域型保育事業所）
G3: 所在区 | H3: =①集計表!H4 -> #N/A
G4: 施設・事業所種別 | H4: =①集計表!H5 -> #N/A
G5: 施設・事業所番号 | H5: =①集計表!H6 -> 0
B6: 職位 | G6: 施設・事業所名 | H6: =①集計表!H7 -> #N/A
B7: 氏名 | G7: 代表者職・氏名 | H7: =①集計表!H8 -> 0
B8: 幼稚園又は認定こども園に勤務していた者 | E8: ↓マネジメント分野の修了チェック↓ | L8: 開始日（データの入力規則用）
E9: =IF($C$6="","職位を選択してください",IF(ISNUMBER(SEARCH("副主任保育士",C6)),IF(COUNTIF(H:H,"マネジメント研修")>0,"必修数を満たしています","区分３（人数Ａ）対象者は、マネジメント分野（1分野）必修です。入力してください。"),IF(ISNUMBER(SEARCH("職員処遇",C6)),"必修ではありません。","必修ではありません。令和２年３月31日までの修了分は算定可能です。"))) -> 職位を選択してください | L9: キャリアアップ研修 | M9: 42826
A10: 区分３及び職員処遇改善費の対象と認められる研修のみ入力してください（下記(6)参照）。そのうち、キャリアアップ研修が対象か否かについては最下部(7)を参照のうえ、不明な場合は実施主体に必ず確認してください。
A11: No | B11: 各行最後に入力 修了年月日 (例:R2.6.1) ※研修種別～ 研修分野 を入力後に入力してください。 | C11: 研修種別 | D11: 実施主体 ※研修種別を入力後に選択してください | F11: 講義名・テーマ | G11: 修了証番号 | H11: 研修分野 ※職位を入力後に選択してください | I11: 横浜市（区）主催研修等の 修了時間数 （単位：時間） | J11: 備考 | L11: 修了年月日 （データの入力規則用）
A12: 1 | L12: 保育実践 マネジメント | M12: 43921
A13: 2 | K13: =IF(H13<>"",1,0) -> 0 | L13: それ以外の研修 | M13: 45382
A14: 3 | K14: =IF(H14<>"",1,0) -> 0 | L14: =IF(C14="その他",1,"")
A15: 4 | K15: =IF(H15<>"",1,0) -> 0 | L15: =IF(C15="その他",1,"")
A16: 5 | K16: =IF(H16<>"",1,0) -> 0 | L16: =IF(C16="その他",1,"")
A17: 6 | K17: =IF(H17<>"",1,0) -> 0 | L17: =IF(C17="その他",1,"")
A18: 7 | K18: =IF(H18<>"",1,0) -> 0 | L18: =IF(C18="その他",1,"")
A19: 8 | K19: =IF(H19<>"",1,0) -> 0 | L19: =IF(C19="その他",1,"")
A20: 9 | K20: =IF(H20<>"",1,0) -> 0 | L20: =IF(C20="その他",1,"")
A21: 10 | K21: =IF(H21<>"",1,0) -> 0 | L21: =IF(C21="その他",1,"")
A22: 11 | K22: =IF(H22<>"",1,0) -> 0 | L22: =IF(C22="その他",1,"")
A23: 12 | K23: =IF(H23<>"",1,0) -> 0 | L23: =IF(C23="その他",1,"")
A24: 13 | K24: =IF(H24<>"",1,0) -> 0 | L24: =IF(C24="その他",1,"")
A25: 14 | K25: =IF(H25<>"",1,0) -> 0 | L25: =IF(C25="その他",1,"")
A26: 15 | K26: =IF(H26<>"",1,0) -> 0 | L26: =IF(SUMIF(C13:C26,"【職員処遇改善費のみ対象】園内研修",I12:I26)>VLOOKUP(C6,M26:N28,2,FALSE),VLOOKUP(C6,M26:N28,2,FALSE)-SUMIF(C13:C26,"【職員処遇改善費のみ対象】園内研修",I12:I26),"") -> #N/A | M26: 園内研修 | N26: 4
B27: 【留意事項】
B28: (1) 「修了年月日」は、研修修了証の年月日又は研修を受講した年月日を記入する。
B29: (2) 幼稚園又は認定こども園に勤務していた者は幼稚園教育要領等を踏まえて教育の質を高めるための知識・技術の向上を目的とした研修を15時間以上受講していた 場合、１分野修了とできる。できるだけ速やかに保育士等キャリアアップ研修の受講を促すこと。
B30: (3) 保育実践研修は平成29年度から令和元年度までに実施されたものに限り含めることができる。 マネジメント研修は平成29年度から令和元年度までに実施されたものに限り専門分野別研修に含めることができる。(副主任保育士は令和２年度以降も含めることができる。)
B31: (4) 研修受講履歴一覧の内容を確認できる資料（保育士等キャリアアップ研修修了証の写等）を施設において保管すること。
B32: (5) 行が足りない場合は、No２～14の行を選択し挿入すること。
B33: (6) 区分３の対象となる研修は「施設型給付費等に係る処遇改善等加算（区分３）に係る研修修了要件について」（令和７年９月16日付けこ成基202 ７初幼教第４号こども家庭庁成育局 保育政策課長、こども家庭庁成育局成育基盤企画課長及び文部科学省初等中等教育局幼児教育課長連盟通知）の記載に基づくものとする。 職員処遇改善費の対象となる研修は「横浜市処遇改善等加算取扱要領」（平成27年４月１日付けこ保運第１号）の記載に基づくものとする。
B34: (7) 保育士等キャリアアップ研修は「保育士等キャリアアップ研修の実施について」（平成29年４月１日付け雇児保発０４０１第１号厚生労働省雇用均等・児童家庭局保育課長通知） の記載に基づくものが対象となる。実施主体は「都道府県又は都道府県知事の指定した研修実施機関」とする。

Sheet ②名簿26
A1: 第５号様式の１ | D1: 令和 ８ 年度 研修受講履歴一覧 名簿（保育所・地域型保育事業所）
G3: 所在区 | H3: =①集計表!H4 -> #N/A
G4: 施設・事業所種別 | H4: =①集計表!H5 -> #N/A
G5: 施設・事業所番号 | H5: =①集計表!H6 -> 0
B6: 職位 | G6: 施設・事業所名 | H6: =①集計表!H7 -> #N/A
B7: 氏名 | G7: 代表者職・氏名 | H7: =①集計表!H8 -> 0
B8: 幼稚園又は認定こども園に勤務していた者 | E8: ↓マネジメント分野の修了チェック↓ | L8: 開始日（データの入力規則用）
E9: =IF($C$6="","職位を選択してください",IF(ISNUMBER(SEARCH("副主任保育士",C6)),IF(COUNTIF(H:H,"マネジメント研修")>0,"必修数を満たしています","区分３（人数Ａ）対象者は、マネジメント分野（1分野）必修です。入力してください。"),IF(ISNUMBER(SEARCH("職員処遇",C6)),"必修ではありません。","必修ではありません。令和２年３月31日までの修了分は算定可能です。"))) -> 職位を選択してください | L9: キャリアアップ研修 | M9: 42826
A10: 区分３及び職員処遇改善費の対象と認められる研修のみ入力してください（下記(6)参照）。そのうち、キャリアアップ研修が対象か否かについては最下部(7)を参照のうえ、不明な場合は実施主体に必ず確認してください。
A11: No | B11: 各行最後に入力 修了年月日 (例:R2.6.1) ※研修種別～ 研修分野 を入力後に入力してください。 | C11: 研修種別 | D11: 実施主体 ※研修種別を入力後に選択してください | F11: 講義名・テーマ | G11: 修了証番号 | H11: 研修分野 ※職位を入力後に選択してください | I11: 横浜市（区）主催研修等の 修了時間数 （単位：時間） | J11: 備考 | L11: 修了年月日 （データの入力規則用）
A12: 1 | L12: 保育実践 マネジメント | M12: 43921
A13: 2 | K13: =IF(H13<>"",1,0) -> 0 | L13: それ以外の研修 | M13: 45382
A14: 3 | K14: =IF(H14<>"",1,0) -> 0 | L14: =IF(C14="その他",1,"")
A15: 4 | K15: =IF(H15<>"",1,0) -> 0 | L15: =IF(C15="その他",1,"")
A16: 5 | K16: =IF(H16<>"",1,0) -> 0 | L16: =IF(C16="その他",1,"")
A17: 6 | K17: =IF(H17<>"",1,0) -> 0 | L17: =IF(C17="その他",1,"")
A18: 7 | K18: =IF(H18<>"",1,0) -> 0 | L18: =IF(C18="その他",1,"")
A19: 8 | K19: =IF(H19<>"",1,0) -> 0 | L19: =IF(C19="その他",1,"")
A20: 9 | K20: =IF(H20<>"",1,0) -> 0 | L20: =IF(C20="その他",1,"")
A21: 10 | K21: =IF(H21<>"",1,0) -> 0 | L21: =IF(C21="その他",1,"")
A22: 11 | K22: =IF(H22<>"",1,0) -> 0 | L22: =IF(C22="その他",1,"")
A23: 12 | K23: =IF(H23<>"",1,0) -> 0 | L23: =IF(C23="その他",1,"")
A24: 13 | K24: =IF(H24<>"",1,0) -> 0 | L24: =IF(C24="その他",1,"")
A25: 14 | K25: =IF(H25<>"",1,0) -> 0 | L25: =IF(C25="その他",1,"")
A26: 15 | K26: =IF(H26<>"",1,0) -> 0 | L26: =IF(SUMIF(C13:C26,"【職員処遇改善費のみ対象】園内研修",I12:I26)>VLOOKUP(C6,M26:N28,2,FALSE),VLOOKUP(C6,M26:N28,2,FALSE)-SUMIF(C13:C26,"【職員処遇改善費のみ対象】園内研修",I12:I26),"") -> #N/A | M26: 園内研修 | N26: 4
B27: 【留意事項】
B28: (1) 「修了年月日」は、研修修了証の年月日又は研修を受講した年月日を記入する。
B29: (2) 幼稚園又は認定こども園に勤務していた者は幼稚園教育要領等を踏まえて教育の質を高めるための知識・技術の向上を目的とした研修を15時間以上受講していた 場合、１分野修了とできる。できるだけ速やかに保育士等キャリアアップ研修の受講を促すこと。
B30: (3) 保育実践研修は平成29年度から令和元年度までに実施されたものに限り含めることができる。 マネジメント研修は平成29年度から令和元年度までに実施されたものに限り専門分野別研修に含めることができる。(副主任保育士は令和２年度以降も含めることができる。)
B31: (4) 研修受講履歴一覧の内容を確認できる資料（保育士等キャリアアップ研修修了証の写等）を施設において保管すること。
B32: (5) 行が足りない場合は、No２～14の行を選択し挿入すること。
B33: (6) 区分３の対象となる研修は「施設型給付費等に係る処遇改善等加算（区分３）に係る研修修了要件について」（令和７年９月16日付けこ成基202 ７初幼教第４号こども家庭庁成育局 保育政策課長、こども家庭庁成育局成育基盤企画課長及び文部科学省初等中等教育局幼児教育課長連盟通知）の記載に基づくものとする。 職員処遇改善費の対象となる研修は「横浜市処遇改善等加算取扱要領」（平成27年４月１日付けこ保運第１号）の記載に基づくものとする。
B34: (7) 保育士等キャリアアップ研修は「保育士等キャリアアップ研修の実施について」（平成29年４月１日付け雇児保発０４０１第１号厚生労働省雇用均等・児童家庭局保育課長通知） の記載に基づくものが対象となる。実施主体は「都道府県又は都道府県知事の指定した研修実施機関」とする。

Sheet ②名簿27
A1: 第５号様式の１ | D1: 令和 ８ 年度 研修受講履歴一覧 名簿（保育所・地域型保育事業所）
G3: 所在区 | H3: =①集計表!H4 -> #N/A
G4: 施設・事業所種別 | H4: =①集計表!H5 -> #N/A
G5: 施設・事業所番号 | H5: =①集計表!H6 -> 0
B6: 職位 | G6: 施設・事業所名 | H6: =①集計表!H7 -> #N/A
B7: 氏名 | G7: 代表者職・氏名 | H7: =①集計表!H8 -> 0
B8: 幼稚園又は認定こども園に勤務していた者 | E8: ↓マネジメント分野の修了チェック↓ | L8: 開始日（データの入力規則用）
E9: =IF($C$6="","職位を選択してください",IF(ISNUMBER(SEARCH("副主任保育士",C6)),IF(COUNTIF(H:H,"マネジメント研修")>0,"必修数を満たしています","区分３（人数Ａ）対象者は、マネジメント分野（1分野）必修です。入力してください。"),IF(ISNUMBER(SEARCH("職員処遇",C6)),"必修ではありません。","必修ではありません。令和２年３月31日までの修了分は算定可能です。"))) -> 職位を選択してください | L9: キャリアアップ研修 | M9: 42826
A10: 区分３及び職員処遇改善費の対象と認められる研修のみ入力してください（下記(6)参照）。そのうち、キャリアアップ研修が対象か否かについては最下部(7)を参照のうえ、不明な場合は実施主体に必ず確認してください。
A11: No | B11: 各行最後に入力 修了年月日 (例:R2.6.1) ※研修種別～ 研修分野 を入力後に入力してください。 | C11: 研修種別 | D11: 実施主体 ※研修種別を入力後に選択してください | F11: 講義名・テーマ | G11: 修了証番号 | H11: 研修分野 ※職位を入力後に選択してください | I11: 横浜市（区）主催研修等の 修了時間数 （単位：時間） | J11: 備考 | L11: 修了年月日 （データの入力規則用）
A12: 1 | L12: 保育実践 マネジメント | M12: 43921
A13: 2 | K13: =IF(H13<>"",1,0) -> 0 | L13: それ以外の研修 | M13: 45382
A14: 3 | K14: =IF(H14<>"",1,0) -> 0 | L14: =IF(C14="その他",1,"")
A15: 4 | K15: =IF(H15<>"",1,0) -> 0 | L15: =IF(C15="その他",1,"")
A16: 5 | K16: =IF(H16<>"",1,0) -> 0 | L16: =IF(C16="その他",1,"")
A17: 6 | K17: =IF(H17<>"",1,0) -> 0 | L17: =IF(C17="その他",1,"")
A18: 7 | K18: =IF(H18<>"",1,0) -> 0 | L18: =IF(C18="その他",1,"")
A19: 8 | K19: =IF(H19<>"",1,0) -> 0 | L19: =IF(C19="その他",1,"")
A20: 9 | K20: =IF(H20<>"",1,0) -> 0 | L20: =IF(C20="その他",1,"")
A21: 10 | K21: =IF(H21<>"",1,0) -> 0 | L21: =IF(C21="その他",1,"")
A22: 11 | K22: =IF(H22<>"",1,0) -> 0 | L22: =IF(C22="その他",1,"")
A23: 12 | K23: =IF(H23<>"",1,0) -> 0 | L23: =IF(C23="その他",1,"")
A24: 13 | K24: =IF(H24<>"",1,0) -> 0 | L24: =IF(C24="その他",1,"")
A25: 14 | K25: =IF(H25<>"",1,0) -> 0 | L25: =IF(C25="その他",1,"")
A26: 15 | K26: =IF(H26<>"",1,0) -> 0 | L26: =IF(SUMIF(C13:C26,"【職員処遇改善費のみ対象】園内研修",I12:I26)>VLOOKUP(C6,M26:N28,2,FALSE),VLOOKUP(C6,M26:N28,2,FALSE)-SUMIF(C13:C26,"【職員処遇改善費のみ対象】園内研修",I12:I26),"") -> #N/A | M26: 園内研修 | N26: 4
B27: 【留意事項】
B28: (1) 「修了年月日」は、研修修了証の年月日又は研修を受講した年月日を記入する。
B29: (2) 幼稚園又は認定こども園に勤務していた者は幼稚園教育要領等を踏まえて教育の質を高めるための知識・技術の向上を目的とした研修を15時間以上受講していた 場合、１分野修了とできる。できるだけ速やかに保育士等キャリアアップ研修の受講を促すこと。
B30: (3) 保育実践研修は平成29年度から令和元年度までに実施されたものに限り含めることができる。 マネジメント研修は平成29年度から令和元年度までに実施されたものに限り専門分野別研修に含めることができる。(副主任保育士は令和２年度以降も含めることができる。)
B31: (4) 研修受講履歴一覧の内容を確認できる資料（保育士等キャリアアップ研修修了証の写等）を施設において保管すること。
B32: (5) 行が足りない場合は、No２～14の行を選択し挿入すること。
B33: (6) 区分３の対象となる研修は「施設型給付費等に係る処遇改善等加算（区分３）に係る研修修了要件について」（令和７年９月16日付けこ成基202 ７初幼教第４号こども家庭庁成育局 保育政策課長、こども家庭庁成育局成育基盤企画課長及び文部科学省初等中等教育局幼児教育課長連盟通知）の記載に基づくものとする。 職員処遇改善費の対象となる研修は「横浜市処遇改善等加算取扱要領」（平成27年４月１日付けこ保運第１号）の記載に基づくものとする。
B34: (7) 保育士等キャリアアップ研修は「保育士等キャリアアップ研修の実施について」（平成29年４月１日付け雇児保発０４０１第１号厚生労働省雇用均等・児童家庭局保育課長通知） の記載に基づくものが対象となる。実施主体は「都道府県又は都道府県知事の指定した研修実施機関」とする。

Sheet ②名簿28
A1: 第５号様式の１ | D1: 令和 ８ 年度 研修受講履歴一覧 名簿（保育所・地域型保育事業所）
G3: 所在区 | H3: =①集計表!H4 -> #N/A
G4: 施設・事業所種別 | H4: =①集計表!H5 -> #N/A
G5: 施設・事業所番号 | H5: =①集計表!H6 -> 0
B6: 職位 | G6: 施設・事業所名 | H6: =①集計表!H7 -> #N/A
B7: 氏名 | G7: 代表者職・氏名 | H7: =①集計表!H8 -> 0
B8: 幼稚園又は認定こども園に勤務していた者 | E8: ↓マネジメント分野の修了チェック↓ | L8: 開始日（データの入力規則用）
E9: =IF($C$6="","職位を選択してください",IF(ISNUMBER(SEARCH("副主任保育士",C6)),IF(COUNTIF(H:H,"マネジメント研修")>0,"必修数を満たしています","区分３（人数Ａ）対象者は、マネジメント分野（1分野）必修です。入力してください。"),IF(ISNUMBER(SEARCH("職員処遇",C6)),"必修ではありません。","必修ではありません。令和２年３月31日までの修了分は算定可能です。"))) -> 職位を選択してください | L9: キャリアアップ研修 | M9: 42826
A10: 区分３及び職員処遇改善費の対象と認められる研修のみ入力してください（下記(6)参照）。そのうち、キャリアアップ研修が対象か否かについては最下部(7)を参照のうえ、不明な場合は実施主体に必ず確認してください。
A11: No | B11: 各行最後に入力 修了年月日 (例:R2.6.1) ※研修種別～ 研修分野 を入力後に入力してください。 | C11: 研修種別 | D11: 実施主体 ※研修種別を入力後に選択してください | F11: 講義名・テーマ | G11: 修了証番号 | H11: 研修分野 ※職位を入力後に選択してください | I11: 横浜市（区）主催研修等の 修了時間数 （単位：時間） | J11: 備考 | L11: 修了年月日 （データの入力規則用）
A12: 1 | L12: 保育実践 マネジメント | M12: 43921
A13: 2 | K13: =IF(H13<>"",1,0) -> 0 | L13: それ以外の研修 | M13: 45382
A14: 3 | K14: =IF(H14<>"",1,0) -> 0 | L14: =IF(C14="その他",1,"")
A15: 4 | K15: =IF(H15<>"",1,0) -> 0 | L15: =IF(C15="その他",1,"")
A16: 5 | K16: =IF(H16<>"",1,0) -> 0 | L16: =IF(C16="その他",1,"")
A17: 6 | K17: =IF(H17<>"",1,0) -> 0 | L17: =IF(C17="その他",1,"")
A18: 7 | K18: =IF(H18<>"",1,0) -> 0 | L18: =IF(C18="その他",1,"")
A19: 8 | K19: =IF(H19<>"",1,0) -> 0 | L19: =IF(C19="その他",1,"")
A20: 9 | K20: =IF(H20<>"",1,0) -> 0 | L20: =IF(C20="その他",1,"")
A21: 10 | K21: =IF(H21<>"",1,0) -> 0 | L21: =IF(C21="その他",1,"")
A22: 11 | K22: =IF(H22<>"",1,0) -> 0 | L22: =IF(C22="その他",1,"")
A23: 12 | K23: =IF(H23<>"",1,0) -> 0 | L23: =IF(C23="その他",1,"")
A24: 13 | K24: =IF(H24<>"",1,0) -> 0 | L24: =IF(C24="その他",1,"")
A25: 14 | K25: =IF(H25<>"",1,0) -> 0 | L25: =IF(C25="その他",1,"")
A26: 15 | K26: =IF(H26<>"",1,0) -> 0 | L26: =IF(SUMIF(C13:C26,"【職員処遇改善費のみ対象】園内研修",I12:I26)>VLOOKUP(C6,M26:N28,2,FALSE),VLOOKUP(C6,M26:N28,2,FALSE)-SUMIF(C13:C26,"【職員処遇改善費のみ対象】園内研修",I12:I26),"") -> #N/A | M26: 園内研修 | N26: 4
B27: 【留意事項】
B28: (1) 「修了年月日」は、研修修了証の年月日又は研修を受講した年月日を記入する。
B29: (2) 幼稚園又は認定こども園に勤務していた者は幼稚園教育要領等を踏まえて教育の質を高めるための知識・技術の向上を目的とした研修を15時間以上受講していた 場合、１分野修了とできる。できるだけ速やかに保育士等キャリアアップ研修の受講を促すこと。
B30: (3) 保育実践研修は平成29年度から令和元年度までに実施されたものに限り含めることができる。 マネジメント研修は平成29年度から令和元年度までに実施されたものに限り専門分野別研修に含めることができる。(副主任保育士は令和２年度以降も含めることができる。)
B31: (4) 研修受講履歴一覧の内容を確認できる資料（保育士等キャリアアップ研修修了証の写等）を施設において保管すること。
B32: (5) 行が足りない場合は、No２～14の行を選択し挿入すること。
B33: (6) 区分３の対象となる研修は「施設型給付費等に係る処遇改善等加算（区分３）に係る研修修了要件について」（令和７年９月16日付けこ成基202 ７初幼教第４号こども家庭庁成育局 保育政策課長、こども家庭庁成育局成育基盤企画課長及び文部科学省初等中等教育局幼児教育課長連盟通知）の記載に基づくものとする。 職員処遇改善費の対象となる研修は「横浜市処遇改善等加算取扱要領」（平成27年４月１日付けこ保運第１号）の記載に基づくものとする。
B34: (7) 保育士等キャリアアップ研修は「保育士等キャリアアップ研修の実施について」（平成29年４月１日付け雇児保発０４０１第１号厚生労働省雇用均等・児童家庭局保育課長通知） の記載に基づくものが対象となる。実施主体は「都道府県又は都道府県知事の指定した研修実施機関」とする。

Sheet ②名簿29
A1: 第５号様式の１ | D1: 令和 ８ 年度 研修受講履歴一覧 名簿（保育所・地域型保育事業所）
G3: 所在区 | H3: =①集計表!H4 -> #N/A
G4: 施設・事業所種別 | H4: =①集計表!H5 -> #N/A
G5: 施設・事業所番号 | H5: =①集計表!H6 -> 0
B6: 職位 | G6: 施設・事業所名 | H6: =①集計表!H7 -> #N/A
B7: 氏名 | G7: 代表者職・氏名 | H7: =①集計表!H8 -> 0
B8: 幼稚園又は認定こども園に勤務していた者 | E8: ↓マネジメント分野の修了チェック↓ | L8: 開始日（データの入力規則用）
E9: =IF($C$6="","職位を選択してください",IF(ISNUMBER(SEARCH("副主任保育士",C6)),IF(COUNTIF(H:H,"マネジメント研修")>0,"必修数を満たしています","区分３（人数Ａ）対象者は、マネジメント分野（1分野）必修です。入力してください。"),IF(ISNUMBER(SEARCH("職員処遇",C6)),"必修ではありません。","必修ではありません。令和２年３月31日までの修了分は算定可能です。"))) -> 職位を選択してください | L9: キャリアアップ研修 | M9: 42826
A10: 区分３及び職員処遇改善費の対象と認められる研修のみ入力してください（下記(6)参照）。そのうち、キャリアアップ研修が対象か否かについては最下部(7)を参照のうえ、不明な場合は実施主体に必ず確認してください。
A11: No | B11: 各行最後に入力 修了年月日 (例:R2.6.1) ※研修種別～ 研修分野 を入力後に入力してください。 | C11: 研修種別 | D11: 実施主体 ※研修種別を入力後に選択してください | F11: 講義名・テーマ | G11: 修了証番号 | H11: 研修分野 ※職位を入力後に選択してください | I11: 横浜市（区）主催研修等の 修了時間数 （単位：時間） | J11: 備考 | L11: 修了年月日 （データの入力規則用）
A12: 1 | L12: 保育実践 マネジメント | M12: 43921
A13: 2 | K13: =IF(H13<>"",1,0) -> 0 | L13: それ以外の研修 | M13: 45382
A14: 3 | K14: =IF(H14<>"",1,0) -> 0 | L14: =IF(C14="その他",1,"")
A15: 4 | K15: =IF(H15<>"",1,0) -> 0 | L15: =IF(C15="その他",1,"")
A16: 5 | K16: =IF(H16<>"",1,0) -> 0 | L16: =IF(C16="その他",1,"")
A17: 6 | K17: =IF(H17<>"",1,0) -> 0 | L17: =IF(C17="その他",1,"")
A18: 7 | K18: =IF(H18<>"",1,0) -> 0 | L18: =IF(C18="その他",1,"")
A19: 8 | K19: =IF(H19<>"",1,0) -> 0 | L19: =IF(C19="その他",1,"")
A20: 9 | K20: =IF(H20<>"",1,0) -> 0 | L20: =IF(C20="その他",1,"")
A21: 10 | K21: =IF(H21<>"",1,0) -> 0 | L21: =IF(C21="その他",1,"")
A22: 11 | K22: =IF(H22<>"",1,0) -> 0 | L22: =IF(C22="その他",1,"")
A23: 12 | K23: =IF(H23<>"",1,0) -> 0 | L23: =IF(C23="その他",1,"")
A24: 13 | K24: =IF(H24<>"",1,0) -> 0 | L24: =IF(C24="その他",1,"")
A25: 14 | K25: =IF(H25<>"",1,0) -> 0 | L25: =IF(C25="その他",1,"")
A26: 15 | K26: =IF(H26<>"",1,0) -> 0 | L26: =IF(SUMIF(C13:C26,"【職員処遇改善費のみ対象】園内研修",I12:I26)>VLOOKUP(C6,M26:N28,2,FALSE),VLOOKUP(C6,M26:N28,2,FALSE)-SUMIF(C13:C26,"【職員処遇改善費のみ対象】園内研修",I12:I26),"") -> #N/A | M26: 園内研修 | N26: 4
B27: 【留意事項】
B28: (1) 「修了年月日」は、研修修了証の年月日又は研修を受講した年月日を記入する。
B29: (2) 幼稚園又は認定こども園に勤務していた者は幼稚園教育要領等を踏まえて教育の質を高めるための知識・技術の向上を目的とした研修を15時間以上受講していた 場合、１分野修了とできる。できるだけ速やかに保育士等キャリアアップ研修の受講を促すこと。
B30: (3) 保育実践研修は平成29年度から令和元年度までに実施されたものに限り含めることができる。 マネジメント研修は平成29年度から令和元年度までに実施されたものに限り専門分野別研修に含めることができる。(副主任保育士は令和２年度以降も含めることができる。)
B31: (4) 研修受講履歴一覧の内容を確認できる資料（保育士等キャリアアップ研修修了証の写等）を施設において保管すること。
B32: (5) 行が足りない場合は、No２～14の行を選択し挿入すること。
B33: (6) 区分３の対象となる研修は「施設型給付費等に係る処遇改善等加算（区分３）に係る研修修了要件について」（令和７年９月16日付けこ成基202 ７初幼教第４号こども家庭庁成育局 保育政策課長、こども家庭庁成育局成育基盤企画課長及び文部科学省初等中等教育局幼児教育課長連盟通知）の記載に基づくものとする。 職員処遇改善費の対象となる研修は「横浜市処遇改善等加算取扱要領」（平成27年４月１日付けこ保運第１号）の記載に基づくものとする。
B34: (7) 保育士等キャリアアップ研修は「保育士等キャリアアップ研修の実施について」（平成29年４月１日付け雇児保発０４０１第１号厚生労働省雇用均等・児童家庭局保育課長通知） の記載に基づくものが対象となる。実施主体は「都道府県又は都道府県知事の指定した研修実施機関」とする。

Sheet ②名簿30
A1: 第５号様式の１ | D1: 令和 ８ 年度 研修受講履歴一覧 名簿（保育所・地域型保育事業所）
G3: 所在区 | H3: =①集計表!H4 -> #N/A
G4: 施設・事業所種別 | H4: =①集計表!H5 -> #N/A
G5: 施設・事業所番号 | H5: =①集計表!H6 -> 0
B6: 職位 | G6: 施設・事業所名 | H6: =①集計表!H7 -> #N/A
B7: 氏名 | G7: 代表者職・氏名 | H7: =①集計表!H8 -> 0
B8: 幼稚園又は認定こども園に勤務していた者 | E8: ↓マネジメント分野の修了チェック↓ | L8: 開始日（データの入力規則用）
E9: =IF($C$6="","職位を選択してください",IF(ISNUMBER(SEARCH("副主任保育士",C6)),IF(COUNTIF(H:H,"マネジメント研修")>0,"必修数を満たしています","区分３（人数Ａ）対象者は、マネジメント分野（1分野）必修です。入力してください。"),IF(ISNUMBER(SEARCH("職員処遇",C6)),"必修ではありません。","必修ではありません。令和２年３月31日までの修了分は算定可能です。"))) -> 職位を選択してください | L9: キャリアアップ研修 | M9: 42826
A10: 区分３及び職員処遇改善費の対象と認められる研修のみ入力してください（下記(6)参照）。そのうち、キャリアアップ研修が対象か否かについては最下部(7)を参照のうえ、不明な場合は実施主体に必ず確認してください。
A11: No | B11: 各行最後に入力 修了年月日 (例:R2.6.1) ※研修種別～ 研修分野 を入力後に入力してください。 | C11: 研修種別 | D11: 実施主体 ※研修種別を入力後に選択してください | F11: 講義名・テーマ | G11: 修了証番号 | H11: 研修分野 ※職位を入力後に選択してください | I11: 横浜市（区）主催研修等の 修了時間数 （単位：時間） | J11: 備考 | L11: 修了年月日 （データの入力規則用）
A12: 1 | L12: 保育実践 マネジメント | M12: 43921
A13: 2 | K13: =IF(H13<>"",1,0) -> 0 | L13: それ以外の研修 | M13: 45382
A14: 3 | K14: =IF(H14<>"",1,0) -> 0 | L14: =IF(C14="その他",1,"")
A15: 4 | K15: =IF(H15<>"",1,0) -> 0 | L15: =IF(C15="その他",1,"")
A16: 5 | K16: =IF(H16<>"",1,0) -> 0 | L16: =IF(C16="その他",1,"")
A17: 6 | K17: =IF(H17<>"",1,0) -> 0 | L17: =IF(C17="その他",1,"")
A18: 7 | K18: =IF(H18<>"",1,0) -> 0 | L18: =IF(C18="その他",1,"")
A19: 8 | K19: =IF(H19<>"",1,0) -> 0 | L19: =IF(C19="その他",1,"")
A20: 9 | K20: =IF(H20<>"",1,0) -> 0 | L20: =IF(C20="その他",1,"")
A21: 10 | K21: =IF(H21<>"",1,0) -> 0 | L21: =IF(C21="その他",1,"")
A22: 11 | K22: =IF(H22<>"",1,0) -> 0 | L22: =IF(C22="その他",1,"")
A23: 12 | K23: =IF(H23<>"",1,0) -> 0 | L23: =IF(C23="その他",1,"")
A24: 13 | K24: =IF(H24<>"",1,0) -> 0 | L24: =IF(C24="その他",1,"")
A25: 14 | K25: =IF(H25<>"",1,0) -> 0 | L25: =IF(C25="その他",1,"")
A26: 15 | K26: =IF(H26<>"",1,0) -> 0 | L26: =IF(SUMIF(C13:C26,"【職員処遇改善費のみ対象】園内研修",I12:I26)>VLOOKUP(C6,M26:N28,2,FALSE),VLOOKUP(C6,M26:N28,2,FALSE)-SUMIF(C13:C26,"【職員処遇改善費のみ対象】園内研修",I12:I26),"") -> #N/A | M26: 園内研修 | N26: 4
B27: 【留意事項】
B28: (1) 「修了年月日」は、研修修了証の年月日又は研修を受講した年月日を記入する。
B29: (2) 幼稚園又は認定こども園に勤務していた者は幼稚園教育要領等を踏まえて教育の質を高めるための知識・技術の向上を目的とした研修を15時間以上受講していた 場合、１分野修了とできる。できるだけ速やかに保育士等キャリアアップ研修の受講を促すこと。
B30: (3) 保育実践研修は平成29年度から令和元年度までに実施されたものに限り含めることができる。 マネジメント研修は平成29年度から令和元年度までに実施されたものに限り専門分野別研修に含めることができる。(副主任保育士は令和２年度以降も含めることができる。)
B31: (4) 研修受講履歴一覧の内容を確認できる資料（保育士等キャリアアップ研修修了証の写等）を施設において保管すること。
B32: (5) 行が足りない場合は、No２～14の行を選択し挿入すること。
B33: (6) 区分３の対象となる研修は「施設型給付費等に係る処遇改善等加算（区分３）に係る研修修了要件について」（令和７年９月16日付けこ成基202 ７初幼教第４号こども家庭庁成育局 保育政策課長、こども家庭庁成育局成育基盤企画課長及び文部科学省初等中等教育局幼児教育課長連盟通知）の記載に基づくものとする。 職員処遇改善費の対象となる研修は「横浜市処遇改善等加算取扱要領」（平成27年４月１日付けこ保運第１号）の記載に基づくものとする。
B34: (7) 保育士等キャリアアップ研修は「保育士等キャリアアップ研修の実施について」（平成29年４月１日付け雇児保発０４０１第１号厚生労働省雇用均等・児童家庭局保育課長通知） の記載に基づくものが対象となる。実施主体は「都道府県又は都道府県知事の指定した研修実施機関」とする。

Sheet ②名簿31
A1: 第５号様式の１ | D1: 令和 ８ 年度 研修受講履歴一覧 名簿（保育所・地域型保育事業所）
G3: 所在区 | H3: =①集計表!H4 -> #N/A
G4: 施設・事業所種別 | H4: =①集計表!H5 -> #N/A
G5: 施設・事業所番号 | H5: =①集計表!H6 -> 0
B6: 職位 | G6: 施設・事業所名 | H6: =①集計表!H7 -> #N/A
B7: 氏名 | G7: 代表者職・氏名 | H7: =①集計表!H8 -> 0
B8: 幼稚園又は認定こども園に勤務していた者 | E8: ↓マネジメント分野の修了チェック↓ | L8: 開始日（データの入力規則用）
E9: =IF($C$6="","職位を選択してください",IF(ISNUMBER(SEARCH("副主任保育士",C6)),IF(COUNTIF(H:H,"マネジメント研修")>0,"必修数を満たしています","区分３（人数Ａ）対象者は、マネジメント分野（1分野）必修です。入力してください。"),IF(ISNUMBER(SEARCH("職員処遇",C6)),"必修ではありません。","必修ではありません。令和２年３月31日までの修了分は算定可能です。"))) -> 職位を選択してください | L9: キャリアアップ研修 | M9: 42826
A10: 区分３及び職員処遇改善費の対象と認められる研修のみ入力してください（下記(6)参照）。そのうち、キャリアアップ研修が対象か否かについては最下部(7)を参照のうえ、不明な場合は実施主体に必ず確認してください。
A11: No | B11: 各行最後に入力 修了年月日 (例:R2.6.1) ※研修種別～ 研修分野 を入力後に入力してください。 | C11: 研修種別 | D11: 実施主体 ※研修種別を入力後に選択してください | F11: 講義名・テーマ | G11: 修了証番号 | H11: 研修分野 ※職位を入力後に選択してください | I11: 横浜市（区）主催研修等の 修了時間数 （単位：時間） | J11: 備考 | L11: 修了年月日 （データの入力規則用）
A12: 1 | L12: 保育実践 マネジメント | M12: 43921
A13: 2 | K13: =IF(H13<>"",1,0) -> 0 | L13: それ以外の研修 | M13: 45382
A14: 3 | K14: =IF(H14<>"",1,0) -> 0 | L14: =IF(C14="その他",1,"")
A15: 4 | K15: =IF(H15<>"",1,0) -> 0 | L15: =IF(C15="その他",1,"")
A16: 5 | K16: =IF(H16<>"",1,0) -> 0 | L16: =IF(C16="その他",1,"")
A17: 6 | K17: =IF(H17<>"",1,0) -> 0 | L17: =IF(C17="その他",1,"")
A18: 7 | K18: =IF(H18<>"",1,0) -> 0 | L18: =IF(C18="その他",1,"")
A19: 8 | K19: =IF(H19<>"",1,0) -> 0 | L19: =IF(C19="その他",1,"")
A20: 9 | K20: =IF(H20<>"",1,0) -> 0 | L20: =IF(C20="その他",1,"")
A21: 10 | K21: =IF(H21<>"",1,0) -> 0 | L21: =IF(C21="その他",1,"")
A22: 11 | K22: =IF(H22<>"",1,0) -> 0 | L22: =IF(C22="その他",1,"")
A23: 12 | K23: =IF(H23<>"",1,0) -> 0 | L23: =IF(C23="その他",1,"")
A24: 13 | K24: =IF(H24<>"",1,0) -> 0 | L24: =IF(C24="その他",1,"")
A25: 14 | K25: =IF(H25<>"",1,0) -> 0 | L25: =IF(C25="その他",1,"")
A26: 15 | K26: =IF(H26<>"",1,0) -> 0 | L26: =IF(SUMIF(C13:C26,"【職員処遇改善費のみ対象】園内研修",I12:I26)>VLOOKUP(C6,M26:N28,2,FALSE),VLOOKUP(C6,M26:N28,2,FALSE)-SUMIF(C13:C26,"【職員処遇改善費のみ対象】園内研修",I12:I26),"") -> #N/A | M26: 園内研修 | N26: 4
B27: 【留意事項】
B28: (1) 「修了年月日」は、研修修了証の年月日又は研修を受講した年月日を記入する。
B29: (2) 幼稚園又は認定こども園に勤務していた者は幼稚園教育要領等を踏まえて教育の質を高めるための知識・技術の向上を目的とした研修を15時間以上受講していた 場合、１分野修了とできる。できるだけ速やかに保育士等キャリアアップ研修の受講を促すこと。
B30: (3) 保育実践研修は平成29年度から令和元年度までに実施されたものに限り含めることができる。 マネジメント研修は平成29年度から令和元年度までに実施されたものに限り専門分野別研修に含めることができる。(副主任保育士は令和２年度以降も含めることができる。)
B31: (4) 研修受講履歴一覧の内容を確認できる資料（保育士等キャリアアップ研修修了証の写等）を施設において保管すること。
B32: (5) 行が足りない場合は、No２～14の行を選択し挿入すること。
B33: (6) 区分３の対象となる研修は「施設型給付費等に係る処遇改善等加算（区分３）に係る研修修了要件について」（令和７年９月16日付けこ成基202 ７初幼教第４号こども家庭庁成育局 保育政策課長、こども家庭庁成育局成育基盤企画課長及び文部科学省初等中等教育局幼児教育課長連盟通知）の記載に基づくものとする。 職員処遇改善費の対象となる研修は「横浜市処遇改善等加算取扱要領」（平成27年４月１日付けこ保運第１号）の記載に基づくものとする。
B34: (7) 保育士等キャリアアップ研修は「保育士等キャリアアップ研修の実施について」（平成29年４月１日付け雇児保発０４０１第１号厚生労働省雇用均等・児童家庭局保育課長通知） の記載に基づくものが対象となる。実施主体は「都道府県又は都道府県知事の指定した研修実施機関」とする。

Sheet ②名簿32
A1: 第５号様式の１ | D1: 令和 ８ 年度 研修受講履歴一覧 名簿（保育所・地域型保育事業所）
G3: 所在区 | H3: =①集計表!H4 -> #N/A
G4: 施設・事業所種別 | H4: =①集計表!H5 -> #N/A
G5: 施設・事業所番号 | H5: =①集計表!H6 -> 0
B6: 職位 | G6: 施設・事業所名 | H6: =①集計表!H7 -> #N/A
B7: 氏名 | G7: 代表者職・氏名 | H7: =①集計表!H8 -> 0
B8: 幼稚園又は認定こども園に勤務していた者 | E8: ↓マネジメント分野の修了チェック↓ | L8: 開始日（データの入力規則用）
E9: =IF($C$6="","職位を選択してください",IF(ISNUMBER(SEARCH("副主任保育士",C6)),IF(COUNTIF(H:H,"マネジメント研修")>0,"必修数を満たしています","区分３（人数Ａ）対象者は、マネジメント分野（1分野）必修です。入力してください。"),IF(ISNUMBER(SEARCH("職員処遇",C6)),"必修ではありません。","必修ではありません。令和２年３月31日までの修了分は算定可能です。"))) -> 職位を選択してください | L9: キャリアアップ研修 | M9: 42826
A10: 区分３及び職員処遇改善費の対象と認められる研修のみ入力してください（下記(6)参照）。そのうち、キャリアアップ研修が対象か否かについては最下部(7)を参照のうえ、不明な場合は実施主体に必ず確認してください。
A11: No | B11: 各行最後に入力 修了年月日 (例:R2.6.1) ※研修種別～ 研修分野 を入力後に入力してください。 | C11: 研修種別 | D11: 実施主体 ※研修種別を入力後に選択してください | F11: 講義名・テーマ | G11: 修了証番号 | H11: 研修分野 ※職位を入力後に選択してください | I11: 横浜市（区）主催研修等の 修了時間数 （単位：時間） | J11: 備考 | L11: 修了年月日 （データの入力規則用）
A12: 1 | L12: 保育実践 マネジメント | M12: 43921
A13: 2 | K13: =IF(H13<>"",1,0) -> 0 | L13: それ以外の研修 | M13: 45382
A14: 3 | K14: =IF(H14<>"",1,0) -> 0 | L14: =IF(C14="その他",1,"")
A15: 4 | K15: =IF(H15<>"",1,0) -> 0 | L15: =IF(C15="その他",1,"")
A16: 5 | K16: =IF(H16<>"",1,0) -> 0 | L16: =IF(C16="その他",1,"")
A17: 6 | K17: =IF(H17<>"",1,0) -> 0 | L17: =IF(C17="その他",1,"")
A18: 7 | K18: =IF(H18<>"",1,0) -> 0 | L18: =IF(C18="その他",1,"")
A19: 8 | K19: =IF(H19<>"",1,0) -> 0 | L19: =IF(C19="その他",1,"")
A20: 9 | K20: =IF(H20<>"",1,0) -> 0 | L20: =IF(C20="その他",1,"")
A21: 10 | K21: =IF(H21<>"",1,0) -> 0 | L21: =IF(C21="その他",1,"")
A22: 11 | K22: =IF(H22<>"",1,0) -> 0 | L22: =IF(C22="その他",1,"")
A23: 12 | K23: =IF(H23<>"",1,0) -> 0 | L23: =IF(C23="その他",1,"")
A24: 13 | K24: =IF(H24<>"",1,0) -> 0 | L24: =IF(C24="その他",1,"")
A25: 14 | K25: =IF(H25<>"",1,0) -> 0 | L25: =IF(C25="その他",1,"")
A26: 15 | K26: =IF(H26<>"",1,0) -> 0 | L26: =IF(SUMIF(C13:C26,"【職員処遇改善費のみ対象】園内研修",I12:I26)>VLOOKUP(C6,M26:N28,2,FALSE),VLOOKUP(C6,M26:N28,2,FALSE)-SUMIF(C13:C26,"【職員処遇改善費のみ対象】園内研修",I12:I26),"") -> #N/A | M26: 園内研修 | N26: 4
B27: 【留意事項】
B28: (1) 「修了年月日」は、研修修了証の年月日又は研修を受講した年月日を記入する。
B29: (2) 幼稚園又は認定こども園に勤務していた者は幼稚園教育要領等を踏まえて教育の質を高めるための知識・技術の向上を目的とした研修を15時間以上受講していた 場合、１分野修了とできる。できるだけ速やかに保育士等キャリアアップ研修の受講を促すこと。
B30: (3) 保育実践研修は平成29年度から令和元年度までに実施されたものに限り含めることができる。 マネジメント研修は平成29年度から令和元年度までに実施されたものに限り専門分野別研修に含めることができる。(副主任保育士は令和２年度以降も含めることができる。)
B31: (4) 研修受講履歴一覧の内容を確認できる資料（保育士等キャリアアップ研修修了証の写等）を施設において保管すること。
B32: (5) 行が足りない場合は、No２～14の行を選択し挿入すること。
B33: (6) 区分３の対象となる研修は「施設型給付費等に係る処遇改善等加算（区分３）に係る研修修了要件について」（令和７年９月16日付けこ成基202 ７初幼教第４号こども家庭庁成育局 保育政策課長、こども家庭庁成育局成育基盤企画課長及び文部科学省初等中等教育局幼児教育課長連盟通知）の記載に基づくものとする。 職員処遇改善費の対象となる研修は「横浜市処遇改善等加算取扱要領」（平成27年４月１日付けこ保運第１号）の記載に基づくものとする。
B34: (7) 保育士等キャリアアップ研修は「保育士等キャリアアップ研修の実施について」（平成29年４月１日付け雇児保発０４０１第１号厚生労働省雇用均等・児童家庭局保育課長通知） の記載に基づくものが対象となる。実施主体は「都道府県又は都道府県知事の指定した研修実施機関」とする。

Sheet ②名簿33
A1: 第５号様式の１ | D1: 令和 ８ 年度 研修受講履歴一覧 名簿（保育所・地域型保育事業所）
G3: 所在区 | H3: =①集計表!H4 -> #N/A
G4: 施設・事業所種別 | H4: =①集計表!H5 -> #N/A
G5: 施設・事業所番号 | H5: =①集計表!H6 -> 0
B6: 職位 | G6: 施設・事業所名 | H6: =①集計表!H7 -> #N/A
B7: 氏名 | G7: 代表者職・氏名 | H7: =①集計表!H8 -> 0
B8: 幼稚園又は認定こども園に勤務していた者 | E8: ↓マネジメント分野の修了チェック↓ | L8: 開始日（データの入力規則用）
E9: =IF($C$6="","職位を選択してください",IF(ISNUMBER(SEARCH("副主任保育士",C6)),IF(COUNTIF(H:H,"マネジメント研修")>0,"必修数を満たしています","区分３（人数Ａ）対象者は、マネジメント分野（1分野）必修です。入力してください。"),IF(ISNUMBER(SEARCH("職員処遇",C6)),"必修ではありません。","必修ではありません。令和２年３月31日までの修了分は算定可能です。"))) -> 職位を選択してください | L9: キャリアアップ研修 | M9: 42826
A10: 区分３及び職員処遇改善費の対象と認められる研修のみ入力してください（下記(6)参照）。そのうち、キャリアアップ研修が対象か否かについては最下部(7)を参照のうえ、不明な場合は実施主体に必ず確認してください。
A11: No | B11: 各行最後に入力 修了年月日 (例:R2.6.1) ※研修種別～ 研修分野 を入力後に入力してください。 | C11: 研修種別 | D11: 実施主体 ※研修種別を入力後に選択してください | F11: 講義名・テーマ | G11: 修了証番号 | H11: 研修分野 ※職位を入力後に選択してください | I11: 横浜市（区）主催研修等の 修了時間数 （単位：時間） | J11: 備考 | L11: 修了年月日 （データの入力規則用）
A12: 1 | L12: 保育実践 マネジメント | M12: 43921
A13: 2 | K13: =IF(H13<>"",1,0) -> 0 | L13: それ以外の研修 | M13: 45382
A14: 3 | K14: =IF(H14<>"",1,0) -> 0 | L14: =IF(C14="その他",1,"")
A15: 4 | K15: =IF(H15<>"",1,0) -> 0 | L15: =IF(C15="その他",1,"")
A16: 5 | K16: =IF(H16<>"",1,0) -> 0 | L16: =IF(C16="その他",1,"")
A17: 6 | K17: =IF(H17<>"",1,0) -> 0 | L17: =IF(C17="その他",1,"")
A18: 7 | K18: =IF(H18<>"",1,0) -> 0 | L18: =IF(C18="その他",1,"")
A19: 8 | K19: =IF(H19<>"",1,0) -> 0 | L19: =IF(C19="その他",1,"")
A20: 9 | K20: =IF(H20<>"",1,0) -> 0 | L20: =IF(C20="その他",1,"")
A21: 10 | K21: =IF(H21<>"",1,0) -> 0 | L21: =IF(C21="その他",1,"")
A22: 11 | K22: =IF(H22<>"",1,0) -> 0 | L22: =IF(C22="その他",1,"")
A23: 12 | K23: =IF(H23<>"",1,0) -> 0 | L23: =IF(C23="その他",1,"")
A24: 13 | K24: =IF(H24<>"",1,0) -> 0 | L24: =IF(C24="その他",1,"")
A25: 14 | K25: =IF(H25<>"",1,0) -> 0 | L25: =IF(C25="その他",1,"")
A26: 15 | K26: =IF(H26<>"",1,0) -> 0 | L26: =IF(SUMIF(C13:C26,"【職員処遇改善費のみ対象】園内研修",I12:I26)>VLOOKUP(C6,M26:N28,2,FALSE),VLOOKUP(C6,M26:N28,2,FALSE)-SUMIF(C13:C26,"【職員処遇改善費のみ対象】園内研修",I12:I26),"") -> #N/A | M26: 園内研修 | N26: 4
B27: 【留意事項】
B28: (1) 「修了年月日」は、研修修了証の年月日又は研修を受講した年月日を記入する。
B29: (2) 幼稚園又は認定こども園に勤務していた者は幼稚園教育要領等を踏まえて教育の質を高めるための知識・技術の向上を目的とした研修を15時間以上受講していた 場合、１分野修了とできる。できるだけ速やかに保育士等キャリアアップ研修の受講を促すこと。
B30: (3) 保育実践研修は平成29年度から令和元年度までに実施されたものに限り含めることができる。 マネジメント研修は平成29年度から令和元年度までに実施されたものに限り専門分野別研修に含めることができる。(副主任保育士は令和２年度以降も含めることができる。)
B31: (4) 研修受講履歴一覧の内容を確認できる資料（保育士等キャリアアップ研修修了証の写等）を施設において保管すること。
B32: (5) 行が足りない場合は、No２～14の行を選択し挿入すること。
B33: (6) 区分３の対象となる研修は「施設型給付費等に係る処遇改善等加算（区分３）に係る研修修了要件について」（令和７年９月16日付けこ成基202 ７初幼教第４号こども家庭庁成育局 保育政策課長、こども家庭庁成育局成育基盤企画課長及び文部科学省初等中等教育局幼児教育課長連盟通知）の記載に基づくものとする。 職員処遇改善費の対象となる研修は「横浜市処遇改善等加算取扱要領」（平成27年４月１日付けこ保運第１号）の記載に基づくものとする。
B34: (7) 保育士等キャリアアップ研修は「保育士等キャリアアップ研修の実施について」（平成29年４月１日付け雇児保発０４０１第１号厚生労働省雇用均等・児童家庭局保育課長通知） の記載に基づくものが対象となる。実施主体は「都道府県又は都道府県知事の指定した研修実施機関」とする。

Sheet ②名簿34
A1: 第５号様式の１ | D1: 令和 ８ 年度 研修受講履歴一覧 名簿（保育所・地域型保育事業所）
G3: 所在区 | H3: =①集計表!H4 -> #N/A
G4: 施設・事業所種別 | H4: =①集計表!H5 -> #N/A
G5: 施設・事業所番号 | H5: =①集計表!H6 -> 0
B6: 職位 | G6: 施設・事業所名 | H6: =①集計表!H7 -> #N/A
B7: 氏名 | G7: 代表者職・氏名 | H7: =①集計表!H8 -> 0
B8: 幼稚園又は認定こども園に勤務していた者 | E8: ↓マネジメント分野の修了チェック↓ | L8: 開始日（データの入力規則用）
E9: =IF($C$6="","職位を選択してください",IF(ISNUMBER(SEARCH("副主任保育士",C6)),IF(COUNTIF(H:H,"マネジメント研修")>0,"必修数を満たしています","区分３（人数Ａ）対象者は、マネジメント分野（1分野）必修です。入力してください。"),IF(ISNUMBER(SEARCH("職員処遇",C6)),"必修ではありません。","必修ではありません。令和２年３月31日までの修了分は算定可能です。"))) -> 職位を選択してください | L9: キャリアアップ研修 | M9: 42826
A10: 区分３及び職員処遇改善費の対象と認められる研修のみ入力してください（下記(6)参照）。そのうち、キャリアアップ研修が対象か否かについては最下部(7)を参照のうえ、不明な場合は実施主体に必ず確認してください。
A11: No | B11: 各行最後に入力 修了年月日 (例:R2.6.1) ※研修種別～ 研修分野 を入力後に入力してください。 | C11: 研修種別 | D11: 実施主体 ※研修種別を入力後に選択してください | F11: 講義名・テーマ | G11: 修了証番号 | H11: 研修分野 ※職位を入力後に選択してください | I11: 横浜市（区）主催研修等の 修了時間数 （単位：時間） | J11: 備考 | L11: 修了年月日 （データの入力規則用）
A12: 1 | L12: 保育実践 マネジメント | M12: 43921
A13: 2 | K13: =IF(H13<>"",1,0) -> 0 | L13: それ以外の研修 | M13: 45382
A14: 3 | K14: =IF(H14<>"",1,0) -> 0 | L14: =IF(C14="その他",1,"")
A15: 4 | K15: =IF(H15<>"",1,0) -> 0 | L15: =IF(C15="その他",1,"")
A16: 5 | K16: =IF(H16<>"",1,0) -> 0 | L16: =IF(C16="その他",1,"")
A17: 6 | K17: =IF(H17<>"",1,0) -> 0 | L17: =IF(C17="その他",1,"")
A18: 7 | K18: =IF(H18<>"",1,0) -> 0 | L18: =IF(C18="その他",1,"")
A19: 8 | K19: =IF(H19<>"",1,0) -> 0 | L19: =IF(C19="その他",1,"")
A20: 9 | K20: =IF(H20<>"",1,0) -> 0 | L20: =IF(C20="その他",1,"")
A21: 10 | K21: =IF(H21<>"",1,0) -> 0 | L21: =IF(C21="その他",1,"")
A22: 11 | K22: =IF(H22<>"",1,0) -> 0 | L22: =IF(C22="その他",1,"")
A23: 12 | K23: =IF(H23<>"",1,0) -> 0 | L23: =IF(C23="その他",1,"")
A24: 13 | K24: =IF(H24<>"",1,0) -> 0 | L24: =IF(C24="その他",1,"")
A25: 14 | K25: =IF(H25<>"",1,0) -> 0 | L25: =IF(C25="その他",1,"")
A26: 15 | K26: =IF(H26<>"",1,0) -> 0 | L26: =IF(SUMIF(C13:C26,"【職員処遇改善費のみ対象】園内研修",I12:I26)>VLOOKUP(C6,M26:N28,2,FALSE),VLOOKUP(C6,M26:N28,2,FALSE)-SUMIF(C13:C26,"【職員処遇改善費のみ対象】園内研修",I12:I26),"") -> #N/A | M26: 園内研修 | N26: 4
B27: 【留意事項】
B28: (1) 「修了年月日」は、研修修了証の年月日又は研修を受講した年月日を記入する。
B29: (2) 幼稚園又は認定こども園に勤務していた者は幼稚園教育要領等を踏まえて教育の質を高めるための知識・技術の向上を目的とした研修を15時間以上受講していた 場合、１分野修了とできる。できるだけ速やかに保育士等キャリアアップ研修の受講を促すこと。
B30: (3) 保育実践研修は平成29年度から令和元年度までに実施されたものに限り含めることができる。 マネジメント研修は平成29年度から令和元年度までに実施されたものに限り専門分野別研修に含めることができる。(副主任保育士は令和２年度以降も含めることができる。)
B31: (4) 研修受講履歴一覧の内容を確認できる資料（保育士等キャリアアップ研修修了証の写等）を施設において保管すること。
B32: (5) 行が足りない場合は、No２～14の行を選択し挿入すること。
B33: (6) 区分３の対象となる研修は「施設型給付費等に係る処遇改善等加算（区分３）に係る研修修了要件について」（令和７年９月16日付けこ成基202 ７初幼教第４号こども家庭庁成育局 保育政策課長、こども家庭庁成育局成育基盤企画課長及び文部科学省初等中等教育局幼児教育課長連盟通知）の記載に基づくものとする。 職員処遇改善費の対象となる研修は「横浜市処遇改善等加算取扱要領」（平成27年４月１日付けこ保運第１号）の記載に基づくものとする。
B34: (7) 保育士等キャリアアップ研修は「保育士等キャリアアップ研修の実施について」（平成29年４月１日付け雇児保発０４０１第１号厚生労働省雇用均等・児童家庭局保育課長通知） の記載に基づくものが対象となる。実施主体は「都道府県又は都道府県知事の指定した研修実施機関」とする。

Sheet ②名簿35
A1: 第５号様式の１ | D1: 令和 ８ 年度 研修受講履歴一覧 名簿（保育所・地域型保育事業所）
G3: 所在区 | H3: =①集計表!H4 -> #N/A
G4: 施設・事業所種別 | H4: =①集計表!H5 -> #N/A
G5: 施設・事業所番号 | H5: =①集計表!H6 -> 0
B6: 職位 | G6: 施設・事業所名 | H6: =①集計表!H7 -> #N/A
B7: 氏名 | G7: 代表者職・氏名 | H7: =①集計表!H8 -> 0
B8: 幼稚園又は認定こども園に勤務していた者 | E8: ↓マネジメント分野の修了チェック↓ | L8: 開始日（データの入力規則用）
E9: =IF($C$6="","職位を選択してください",IF(ISNUMBER(SEARCH("副主任保育士",C6)),IF(COUNTIF(H:H,"マネジメント研修")>0,"必修数を満たしています","区分３（人数Ａ）対象者は、マネジメント分野（1分野）必修です。入力してください。"),IF(ISNUMBER(SEARCH("職員処遇",C6)),"必修ではありません。","必修ではありません。令和２年３月31日までの修了分は算定可能です。"))) -> 職位を選択してください | L9: キャリアアップ研修 | M9: 42826
A10: 区分３及び職員処遇改善費の対象と認められる研修のみ入力してください（下記(6)参照）。そのうち、キャリアアップ研修が対象か否かについては最下部(7)を参照のうえ、不明な場合は実施主体に必ず確認してください。
A11: No | B11: 各行最後に入力 修了年月日 (例:R2.6.1) ※研修種別～ 研修分野 を入力後に入力してください。 | C11: 研修種別 | D11: 実施主体 ※研修種別を入力後に選択してください | F11: 講義名・テーマ | G11: 修了証番号 | H11: 研修分野 ※職位を入力後に選択してください | I11: 横浜市（区）主催研修等の 修了時間数 （単位：時間） | J11: 備考 | L11: 修了年月日 （データの入力規則用）
A12: 1 | L12: 保育実践 マネジメント | M12: 43921
A13: 2 | K13: =IF(H13<>"",1,0) -> 0 | L13: それ以外の研修 | M13: 45382
A14: 3 | K14: =IF(H14<>"",1,0) -> 0 | L14: =IF(C14="その他",1,"")
A15: 4 | K15: =IF(H15<>"",1,0) -> 0 | L15: =IF(C15="その他",1,"")
A16: 5 | K16: =IF(H16<>"",1,0) -> 0 | L16: =IF(C16="その他",1,"")
A17: 6 | K17: =IF(H17<>"",1,0) -> 0 | L17: =IF(C17="その他",1,"")
A18: 7 | K18: =IF(H18<>"",1,0) -> 0 | L18: =IF(C18="その他",1,"")
A19: 8 | K19: =IF(H19<>"",1,0) -> 0 | L19: =IF(C19="その他",1,"")
A20: 9 | K20: =IF(H20<>"",1,0) -> 0 | L20: =IF(C20="その他",1,"")
A21: 10 | K21: =IF(H21<>"",1,0) -> 0 | L21: =IF(C21="その他",1,"")
A22: 11 | K22: =IF(H22<>"",1,0) -> 0 | L22: =IF(C22="その他",1,"")
A23: 12 | K23: =IF(H23<>"",1,0) -> 0 | L23: =IF(C23="その他",1,"")
A24: 13 | K24: =IF(H24<>"",1,0) -> 0 | L24: =IF(C24="その他",1,"")
A25: 14 | K25: =IF(H25<>"",1,0) -> 0 | L25: =IF(C25="その他",1,"")
A26: 15 | K26: =IF(H26<>"",1,0) -> 0 | L26: =IF(SUMIF(C13:C26,"【職員処遇改善費のみ対象】園内研修",I12:I26)>VLOOKUP(C6,M26:N28,2,FALSE),VLOOKUP(C6,M26:N28,2,FALSE)-SUMIF(C13:C26,"【職員処遇改善費のみ対象】園内研修",I12:I26),"") -> #N/A | M26: 園内研修 | N26: 4
B27: 【留意事項】
B28: (1) 「修了年月日」は、研修修了証の年月日又は研修を受講した年月日を記入する。
B29: (2) 幼稚園又は認定こども園に勤務していた者は幼稚園教育要領等を踏まえて教育の質を高めるための知識・技術の向上を目的とした研修を15時間以上受講していた 場合、１分野修了とできる。できるだけ速やかに保育士等キャリアアップ研修の受講を促すこと。
B30: (3) 保育実践研修は平成29年度から令和元年度までに実施されたものに限り含めることができる。 マネジメント研修は平成29年度から令和元年度までに実施されたものに限り専門分野別研修に含めることができる。(副主任保育士は令和２年度以降も含めることができる。)
B31: (4) 研修受講履歴一覧の内容を確認できる資料（保育士等キャリアアップ研修修了証の写等）を施設において保管すること。
B32: (5) 行が足りない場合は、No２～14の行を選択し挿入すること。
B33: (6) 区分３の対象となる研修は「施設型給付費等に係る処遇改善等加算（区分３）に係る研修修了要件について」（令和７年９月16日付けこ成基202 ７初幼教第４号こども家庭庁成育局 保育政策課長、こども家庭庁成育局成育基盤企画課長及び文部科学省初等中等教育局幼児教育課長連盟通知）の記載に基づくものとする。 職員処遇改善費の対象となる研修は「横浜市処遇改善等加算取扱要領」（平成27年４月１日付けこ保運第１号）の記載に基づくものとする。
B34: (7) 保育士等キャリアアップ研修は「保育士等キャリアアップ研修の実施について」（平成29年４月１日付け雇児保発０４０１第１号厚生労働省雇用均等・児童家庭局保育課長通知） の記載に基づくものが対象となる。実施主体は「都道府県又は都道府県知事の指定した研修実施機関」とする。

Sheet ②名簿36
A1: 第５号様式の１ | D1: 令和 ８ 年度 研修受講履歴一覧 名簿（保育所・地域型保育事業所）
G3: 所在区 | H3: =①集計表!H4 -> #N/A
G4: 施設・事業所種別 | H4: =①集計表!H5 -> #N/A
G5: 施設・事業所番号 | H5: =①集計表!H6 -> 0
B6: 職位 | G6: 施設・事業所名 | H6: =①集計表!H7 -> #N/A
B7: 氏名 | G7: 代表者職・氏名 | H7: =①集計表!H8 -> 0
B8: 幼稚園又は認定こども園に勤務していた者 | E8: ↓マネジメント分野の修了チェック↓ | L8: 開始日（データの入力規則用）
E9: =IF($C$6="","職位を選択してください",IF(ISNUMBER(SEARCH("副主任保育士",C6)),IF(COUNTIF(H:H,"マネジメント研修")>0,"必修数を満たしています","区分３（人数Ａ）対象者は、マネジメント分野（1分野）必修です。入力してください。"),IF(ISNUMBER(SEARCH("職員処遇",C6)),"必修ではありません。","必修ではありません。令和２年３月31日までの修了分は算定可能です。"))) -> 職位を選択してください | L9: キャリアアップ研修 | M9: 42826
A10: 区分３及び職員処遇改善費の対象と認められる研修のみ入力してください（下記(6)参照）。そのうち、キャリアアップ研修が対象か否かについては最下部(7)を参照のうえ、不明な場合は実施主体に必ず確認してください。
A11: No | B11: 各行最後に入力 修了年月日 (例:R2.6.1) ※研修種別～ 研修分野 を入力後に入力してください。 | C11: 研修種別 | D11: 実施主体 ※研修種別を入力後に選択してください | F11: 講義名・テーマ | G11: 修了証番号 | H11: 研修分野 ※職位を入力後に選択してください | I11: 横浜市（区）主催研修等の 修了時間数 （単位：時間） | J11: 備考 | L11: 修了年月日 （データの入力規則用）
A12: 1 | L12: 保育実践 マネジメント | M12: 43921
A13: 2 | K13: =IF(H13<>"",1,0) -> 0 | L13: それ以外の研修 | M13: 45382
A14: 3 | K14: =IF(H14<>"",1,0) -> 0 | L14: =IF(C14="その他",1,"")
A15: 4 | K15: =IF(H15<>"",1,0) -> 0 | L15: =IF(C15="その他",1,"")
A16: 5 | K16: =IF(H16<>"",1,0) -> 0 | L16: =IF(C16="その他",1,"")
A17: 6 | K17: =IF(H17<>"",1,0) -> 0 | L17: =IF(C17="その他",1,"")
A18: 7 | K18: =IF(H18<>"",1,0) -> 0 | L18: =IF(C18="その他",1,"")
A19: 8 | K19: =IF(H19<>"",1,0) -> 0 | L19: =IF(C19="その他",1,"")
A20: 9 | K20: =IF(H20<>"",1,0) -> 0 | L20: =IF(C20="その他",1,"")
A21: 10 | K21: =IF(H21<>"",1,0) -> 0 | L21: =IF(C21="その他",1,"")
A22: 11 | K22: =IF(H22<>"",1,0) -> 0 | L22: =IF(C22="その他",1,"")
A23: 12 | K23: =IF(H23<>"",1,0) -> 0 | L23: =IF(C23="その他",1,"")
A24: 13 | K24: =IF(H24<>"",1,0) -> 0 | L24: =IF(C24="その他",1,"")
A25: 14 | K25: =IF(H25<>"",1,0) -> 0 | L25: =IF(C25="その他",1,"")
A26: 15 | K26: =IF(H26<>"",1,0) -> 0 | L26: =IF(SUMIF(C13:C26,"【職員処遇改善費のみ対象】園内研修",I12:I26)>VLOOKUP(C6,M26:N28,2,FALSE),VLOOKUP(C6,M26:N28,2,FALSE)-SUMIF(C13:C26,"【職員処遇改善費のみ対象】園内研修",I12:I26),"") -> #N/A | M26: 園内研修 | N26: 4
B27: 【留意事項】
B28: (1) 「修了年月日」は、研修修了証の年月日又は研修を受講した年月日を記入する。
B29: (2) 幼稚園又は認定こども園に勤務していた者は幼稚園教育要領等を踏まえて教育の質を高めるための知識・技術の向上を目的とした研修を15時間以上受講していた 場合、１分野修了とできる。できるだけ速やかに保育士等キャリアアップ研修の受講を促すこと。
B30: (3) 保育実践研修は平成29年度から令和元年度までに実施されたものに限り含めることができる。 マネジメント研修は平成29年度から令和元年度までに実施されたものに限り専門分野別研修に含めることができる。(副主任保育士は令和２年度以降も含めることができる。)
B31: (4) 研修受講履歴一覧の内容を確認できる資料（保育士等キャリアアップ研修修了証の写等）を施設において保管すること。
B32: (5) 行が足りない場合は、No２～14の行を選択し挿入すること。
B33: (6) 区分３の対象となる研修は「施設型給付費等に係る処遇改善等加算（区分３）に係る研修修了要件について」（令和７年９月16日付けこ成基202 ７初幼教第４号こども家庭庁成育局 保育政策課長、こども家庭庁成育局成育基盤企画課長及び文部科学省初等中等教育局幼児教育課長連盟通知）の記載に基づくものとする。 職員処遇改善費の対象となる研修は「横浜市処遇改善等加算取扱要領」（平成27年４月１日付けこ保運第１号）の記載に基づくものとする。
B34: (7) 保育士等キャリアアップ研修は「保育士等キャリアアップ研修の実施について」（平成29年４月１日付け雇児保発０４０１第１号厚生労働省雇用均等・児童家庭局保育課長通知） の記載に基づくものが対象となる。実施主体は「都道府県又は都道府県知事の指定した研修実施機関」とする。

Sheet ②名簿37
A1: 第５号様式の１ | D1: 令和 ８ 年度 研修受講履歴一覧 名簿（保育所・地域型保育事業所）
G3: 所在区 | H3: =①集計表!H4 -> #N/A
G4: 施設・事業所種別 | H4: =①集計表!H5 -> #N/A
G5: 施設・事業所番号 | H5: =①集計表!H6 -> 0
B6: 職位 | G6: 施設・事業所名 | H6: =①集計表!H7 -> #N/A
B7: 氏名 | G7: 代表者職・氏名 | H7: =①集計表!H8 -> 0
B8: 幼稚園又は認定こども園に勤務していた者 | E8: ↓マネジメント分野の修了チェック↓ | L8: 開始日（データの入力規則用）
E9: =IF($C$6="","職位を選択してください",IF(ISNUMBER(SEARCH("副主任保育士",C6)),IF(COUNTIF(H:H,"マネジメント研修")>0,"必修数を満たしています","区分３（人数Ａ）対象者は、マネジメント分野（1分野）必修です。入力してください。"),IF(ISNUMBER(SEARCH("職員処遇",C6)),"必修ではありません。","必修ではありません。令和２年３月31日までの修了分は算定可能です。"))) -> 職位を選択してください | L9: キャリアアップ研修 | M9: 42826
A10: 区分３及び職員処遇改善費の対象と認められる研修のみ入力してください（下記(6)参照）。そのうち、キャリアアップ研修が対象か否かについては最下部(7)を参照のうえ、不明な場合は実施主体に必ず確認してください。
A11: No | B11: 各行最後に入力 修了年月日 (例:R2.6.1) ※研修種別～ 研修分野 を入力後に入力してください。 | C11: 研修種別 | D11: 実施主体 ※研修種別を入力後に選択してください | F11: 講義名・テーマ | G11: 修了証番号 | H11: 研修分野 ※職位を入力後に選択してください | I11: 横浜市（区）主催研修等の 修了時間数 （単位：時間） | J11: 備考 | L11: 修了年月日 （データの入力規則用）
A12: 1 | L12: 保育実践 マネジメント | M12: 43921
A13: 2 | K13: =IF(H13<>"",1,0) -> 0 | L13: それ以外の研修 | M13: 45382
A14: 3 | K14: =IF(H14<>"",1,0) -> 0 | L14: =IF(C14="その他",1,"")
A15: 4 | K15: =IF(H15<>"",1,0) -> 0 | L15: =IF(C15="その他",1,"")
A16: 5 | K16: =IF(H16<>"",1,0) -> 0 | L16: =IF(C16="その他",1,"")
A17: 6 | K17: =IF(H17<>"",1,0) -> 0 | L17: =IF(C17="その他",1,"")
A18: 7 | K18: =IF(H18<>"",1,0) -> 0 | L18: =IF(C18="その他",1,"")
A19: 8 | K19: =IF(H19<>"",1,0) -> 0 | L19: =IF(C19="その他",1,"")
A20: 9 | K20: =IF(H20<>"",1,0) -> 0 | L20: =IF(C20="その他",1,"")
A21: 10 | K21: =IF(H21<>"",1,0) -> 0 | L21: =IF(C21="その他",1,"")
A22: 11 | K22: =IF(H22<>"",1,0) -> 0 | L22: =IF(C22="その他",1,"")
A23: 12 | K23: =IF(H23<>"",1,0) -> 0 | L23: =IF(C23="その他",1,"")
A24: 13 | K24: =IF(H24<>"",1,0) -> 0 | L24: =IF(C24="その他",1,"")
A25: 14 | K25: =IF(H25<>"",1,0) -> 0 | L25: =IF(C25="その他",1,"")
A26: 15 | K26: =IF(H26<>"",1,0) -> 0 | L26: =IF(SUMIF(C13:C26,"【職員処遇改善費のみ対象】園内研修",I12:I26)>VLOOKUP(C6,M26:N28,2,FALSE),VLOOKUP(C6,M26:N28,2,FALSE)-SUMIF(C13:C26,"【職員処遇改善費のみ対象】園内研修",I12:I26),"") -> #N/A | M26: 園内研修 | N26: 4
B27: 【留意事項】
B28: (1) 「修了年月日」は、研修修了証の年月日又は研修を受講した年月日を記入する。
B29: (2) 幼稚園又は認定こども園に勤務していた者は幼稚園教育要領等を踏まえて教育の質を高めるための知識・技術の向上を目的とした研修を15時間以上受講していた 場合、１分野修了とできる。できるだけ速やかに保育士等キャリアアップ研修の受講を促すこと。
B30: (3) 保育実践研修は平成29年度から令和元年度までに実施されたものに限り含めることができる。 マネジメント研修は平成29年度から令和元年度までに実施されたものに限り専門分野別研修に含めることができる。(副主任保育士は令和２年度以降も含めることができる。)
B31: (4) 研修受講履歴一覧の内容を確認できる資料（保育士等キャリアアップ研修修了証の写等）を施設において保管すること。
B32: (5) 行が足りない場合は、No２～14の行を選択し挿入すること。
B33: (6) 区分３の対象となる研修は「施設型給付費等に係る処遇改善等加算（区分３）に係る研修修了要件について」（令和７年９月16日付けこ成基202 ７初幼教第４号こども家庭庁成育局 保育政策課長、こども家庭庁成育局成育基盤企画課長及び文部科学省初等中等教育局幼児教育課長連盟通知）の記載に基づくものとする。 職員処遇改善費の対象となる研修は「横浜市処遇改善等加算取扱要領」（平成27年４月１日付けこ保運第１号）の記載に基づくものとする。
B34: (7) 保育士等キャリアアップ研修は「保育士等キャリアアップ研修の実施について」（平成29年４月１日付け雇児保発０４０１第１号厚生労働省雇用均等・児童家庭局保育課長通知） の記載に基づくものが対象となる。実施主体は「都道府県又は都道府県知事の指定した研修実施機関」とする。

Sheet ②名簿38
A1: 第５号様式の１ | D1: 令和 ８ 年度 研修受講履歴一覧 名簿（保育所・地域型保育事業所）
G3: 所在区 | H3: =①集計表!H4 -> #N/A
G4: 施設・事業所種別 | H4: =①集計表!H5 -> #N/A
G5: 施設・事業所番号 | H5: =①集計表!H6 -> 0
B6: 職位 | G6: 施設・事業所名 | H6: =①集計表!H7 -> #N/A
B7: 氏名 | G7: 代表者職・氏名 | H7: =①集計表!H8 -> 0
B8: 幼稚園又は認定こども園に勤務していた者 | E8: ↓マネジメント分野の修了チェック↓ | L8: 開始日（データの入力規則用）
E9: =IF($C$6="","職位を選択してください",IF(ISNUMBER(SEARCH("副主任保育士",C6)),IF(COUNTIF(H:H,"マネジメント研修")>0,"必修数を満たしています","区分３（人数Ａ）対象者は、マネジメント分野（1分野）必修です。入力してください。"),IF(ISNUMBER(SEARCH("職員処遇",C6)),"必修ではありません。","必修ではありません。令和２年３月31日までの修了分は算定可能です。"))) -> 職位を選択してください | L9: キャリアアップ研修 | M9: 42826
A10: 区分３及び職員処遇改善費の対象と認められる研修のみ入力してください（下記(6)参照）。そのうち、キャリアアップ研修が対象か否かについては最下部(7)を参照のうえ、不明な場合は実施主体に必ず確認してください。
A11: No | B11: 各行最後に入力 修了年月日 (例:R2.6.1) ※研修種別～ 研修分野 を入力後に入力してください。 | C11: 研修種別 | D11: 実施主体 ※研修種別を入力後に選択してください | F11: 講義名・テーマ | G11: 修了証番号 | H11: 研修分野 ※職位を入力後に選択してください | I11: 横浜市（区）主催研修等の 修了時間数 （単位：時間） | J11: 備考 | L11: 修了年月日 （データの入力規則用）
A12: 1 | L12: 保育実践 マネジメント | M12: 43921
A13: 2 | K13: =IF(H13<>"",1,0) -> 0 | L13: それ以外の研修 | M13: 45382
A14: 3 | K14: =IF(H14<>"",1,0) -> 0 | L14: =IF(C14="その他",1,"")
A15: 4 | K15: =IF(H15<>"",1,0) -> 0 | L15: =IF(C15="その他",1,"")
A16: 5 | K16: =IF(H16<>"",1,0) -> 0 | L16: =IF(C16="その他",1,"")
A17: 6 | K17: =IF(H17<>"",1,0) -> 0 | L17: =IF(C17="その他",1,"")
A18: 7 | K18: =IF(H18<>"",1,0) -> 0 | L18: =IF(C18="その他",1,"")
A19: 8 | K19: =IF(H19<>"",1,0) -> 0 | L19: =IF(C19="その他",1,"")
A20: 9 | K20: =IF(H20<>"",1,0) -> 0 | L20: =IF(C20="その他",1,"")
A21: 10 | K21: =IF(H21<>"",1,0) -> 0 | L21: =IF(C21="その他",1,"")
A22: 11 | K22: =IF(H22<>"",1,0) -> 0 | L22: =IF(C22="その他",1,"")
A23: 12 | K23: =IF(H23<>"",1,0) -> 0 | L23: =IF(C23="その他",1,"")
A24: 13 | K24: =IF(H24<>"",1,0) -> 0 | L24: =IF(C24="その他",1,"")
A25: 14 | K25: =IF(H25<>"",1,0) -> 0 | L25: =IF(C25="その他",1,"")
A26: 15 | K26: =IF(H26<>"",1,0) -> 0 | L26: =IF(SUMIF(C13:C26,"【職員処遇改善費のみ対象】園内研修",I12:I26)>VLOOKUP(C6,M26:N28,2,FALSE),VLOOKUP(C6,M26:N28,2,FALSE)-SUMIF(C13:C26,"【職員処遇改善費のみ対象】園内研修",I12:I26),"") -> #N/A | M26: 園内研修 | N26: 4
B27: 【留意事項】
B28: (1) 「修了年月日」は、研修修了証の年月日又は研修を受講した年月日を記入する。
B29: (2) 幼稚園又は認定こども園に勤務していた者は幼稚園教育要領等を踏まえて教育の質を高めるための知識・技術の向上を目的とした研修を15時間以上受講していた 場合、１分野修了とできる。できるだけ速やかに保育士等キャリアアップ研修の受講を促すこと。
B30: (3) 保育実践研修は平成29年度から令和元年度までに実施されたものに限り含めることができる。 マネジメント研修は平成29年度から令和元年度までに実施されたものに限り専門分野別研修に含めることができる。(副主任保育士は令和２年度以降も含めることができる。)
B31: (4) 研修受講履歴一覧の内容を確認できる資料（保育士等キャリアアップ研修修了証の写等）を施設において保管すること。
B32: (5) 行が足りない場合は、No２～14の行を選択し挿入すること。
B33: (6) 区分３の対象となる研修は「施設型給付費等に係る処遇改善等加算（区分３）に係る研修修了要件について」（令和７年９月16日付けこ成基202 ７初幼教第４号こども家庭庁成育局 保育政策課長、こども家庭庁成育局成育基盤企画課長及び文部科学省初等中等教育局幼児教育課長連盟通知）の記載に基づくものとする。 職員処遇改善費の対象となる研修は「横浜市処遇改善等加算取扱要領」（平成27年４月１日付けこ保運第１号）の記載に基づくものとする。
B34: (7) 保育士等キャリアアップ研修は「保育士等キャリアアップ研修の実施について」（平成29年４月１日付け雇児保発０４０１第１号厚生労働省雇用均等・児童家庭局保育課長通知） の記載に基づくものが対象となる。実施主体は「都道府県又は都道府県知事の指定した研修実施機関」とする。

Sheet ②名簿39
A1: 第５号様式の１ | D1: 令和 ８ 年度 研修受講履歴一覧 名簿（保育所・地域型保育事業所）
G3: 所在区 | H3: =①集計表!H4 -> #N/A
G4: 施設・事業所種別 | H4: =①集計表!H5 -> #N/A
G5: 施設・事業所番号 | H5: =①集計表!H6 -> 0
B6: 職位 | G6: 施設・事業所名 | H6: =①集計表!H7 -> #N/A
B7: 氏名 | G7: 代表者職・氏名 | H7: =①集計表!H8 -> 0
B8: 幼稚園又は認定こども園に勤務していた者 | E8: ↓マネジメント分野の修了チェック↓ | L8: 開始日（データの入力規則用）
E9: =IF($C$6="","職位を選択してください",IF(ISNUMBER(SEARCH("副主任保育士",C6)),IF(COUNTIF(H:H,"マネジメント研修")>0,"必修数を満たしています","区分３（人数Ａ）対象者は、マネジメント分野（1分野）必修です。入力してください。"),IF(ISNUMBER(SEARCH("職員処遇",C6)),"必修ではありません。","必修ではありません。令和２年３月31日までの修了分は算定可能です。"))) -> 職位を選択してください | L9: キャリアアップ研修 | M9: 42826
A10: 区分３及び職員処遇改善費の対象と認められる研修のみ入力してください（下記(6)参照）。そのうち、キャリアアップ研修が対象か否かについては最下部(7)を参照のうえ、不明な場合は実施主体に必ず確認してください。
A11: No | B11: 各行最後に入力 修了年月日 (例:R2.6.1) ※研修種別～ 研修分野 を入力後に入力してください。 | C11: 研修種別 | D11: 実施主体 ※研修種別を入力後に選択してください | F11: 講義名・テーマ | G11: 修了証番号 | H11: 研修分野 ※職位を入力後に選択してください | I11: 横浜市（区）主催研修等の 修了時間数 （単位：時間） | J11: 備考 | L11: 修了年月日 （データの入力規則用）
A12: 1 | L12: 保育実践 マネジメント | M12: 43921
A13: 2 | K13: =IF(H13<>"",1,0) -> 0 | L13: それ以外の研修 | M13: 45382
A14: 3 | K14: =IF(H14<>"",1,0) -> 0 | L14: =IF(C14="その他",1,"")
A15: 4 | K15: =IF(H15<>"",1,0) -> 0 | L15: =IF(C15="その他",1,"")
A16: 5 | K16: =IF(H16<>"",1,0) -> 0 | L16: =IF(C16="その他",1,"")
A17: 6 | K17: =IF(H17<>"",1,0) -> 0 | L17: =IF(C17="その他",1,"")
A18: 7 | K18: =IF(H18<>"",1,0) -> 0 | L18: =IF(C18="その他",1,"")
A19: 8 | K19: =IF(H19<>"",1,0) -> 0 | L19: =IF(C19="その他",1,"")
A20: 9 | K20: =IF(H20<>"",1,0) -> 0 | L20: =IF(C20="その他",1,"")
A21: 10 | K21: =IF(H21<>"",1,0) -> 0 | L21: =IF(C21="その他",1,"")
A22: 11 | K22: =IF(H22<>"",1,0) -> 0 | L22: =IF(C22="その他",1,"")
A23: 12 | K23: =IF(H23<>"",1,0) -> 0 | L23: =IF(C23="その他",1,"")
A24: 13 | K24: =IF(H24<>"",1,0) -> 0 | L24: =IF(C24="その他",1,"")
A25: 14 | K25: =IF(H25<>"",1,0) -> 0 | L25: =IF(C25="その他",1,"")
A26: 15 | K26: =IF(H26<>"",1,0) -> 0 | L26: =IF(SUMIF(C13:C26,"【職員処遇改善費のみ対象】園内研修",I12:I26)>VLOOKUP(C6,M26:N28,2,FALSE),VLOOKUP(C6,M26:N28,2,FALSE)-SUMIF(C13:C26,"【職員処遇改善費のみ対象】園内研修",I12:I26),"") -> #N/A | M26: 園内研修 | N26: 4
B27: 【留意事項】
B28: (1) 「修了年月日」は、研修修了証の年月日又は研修を受講した年月日を記入する。
B29: (2) 幼稚園又は認定こども園に勤務していた者は幼稚園教育要領等を踏まえて教育の質を高めるための知識・技術の向上を目的とした研修を15時間以上受講していた 場合、１分野修了とできる。できるだけ速やかに保育士等キャリアアップ研修の受講を促すこと。
B30: (3) 保育実践研修は平成29年度から令和元年度までに実施されたものに限り含めることができる。 マネジメント研修は平成29年度から令和元年度までに実施されたものに限り専門分野別研修に含めることができる。(副主任保育士は令和２年度以降も含めることができる。)
B31: (4) 研修受講履歴一覧の内容を確認できる資料（保育士等キャリアアップ研修修了証の写等）を施設において保管すること。
B32: (5) 行が足りない場合は、No２～14の行を選択し挿入すること。
B33: (6) 区分３の対象となる研修は「施設型給付費等に係る処遇改善等加算（区分３）に係る研修修了要件について」（令和７年９月16日付けこ成基202 ７初幼教第４号こども家庭庁成育局 保育政策課長、こども家庭庁成育局成育基盤企画課長及び文部科学省初等中等教育局幼児教育課長連盟通知）の記載に基づくものとする。 職員処遇改善費の対象となる研修は「横浜市処遇改善等加算取扱要領」（平成27年４月１日付けこ保運第１号）の記載に基づくものとする。
B34: (7) 保育士等キャリアアップ研修は「保育士等キャリアアップ研修の実施について」（平成29年４月１日付け雇児保発０４０１第１号厚生労働省雇用均等・児童家庭局保育課長通知） の記載に基づくものが対象となる。実施主体は「都道府県又は都道府県知事の指定した研修実施機関」とする。

Sheet ②名簿40
A1: 第５号様式の１ | D1: 令和 ８ 年度 研修受講履歴一覧 名簿（保育所・地域型保育事業所）
G3: 所在区 | H3: =①集計表!H4 -> #N/A
G4: 施設・事業所種別 | H4: =①集計表!H5 -> #N/A
G5: 施設・事業所番号 | H5: =①集計表!H6 -> 0
B6: 職位 | G6: 施設・事業所名 | H6: =①集計表!H7 -> #N/A
B7: 氏名 | G7: 代表者職・氏名 | H7: =①集計表!H8 -> 0
B8: 幼稚園又は認定こども園に勤務していた者 | E8: ↓マネジメント分野の修了チェック↓ | L8: 開始日（データの入力規則用）
E9: =IF($C$6="","職位を選択してください",IF(ISNUMBER(SEARCH("副主任保育士",C6)),IF(COUNTIF(H:H,"マネジメント研修")>0,"必修数を満たしています","区分３（人数Ａ）対象者は、マネジメント分野（1分野）必修です。入力してください。"),IF(ISNUMBER(SEARCH("職員処遇",C6)),"必修ではありません。","必修ではありません。令和２年３月31日までの修了分は算定可能です。"))) -> 職位を選択してください | L9: キャリアアップ研修 | M9: 42826
A10: 区分３及び職員処遇改善費の対象と認められる研修のみ入力してください（下記(6)参照）。そのうち、キャリアアップ研修が対象か否かについては最下部(7)を参照のうえ、不明な場合は実施主体に必ず確認してください。
A11: No | B11: 各行最後に入力 修了年月日 (例:R2.6.1) ※研修種別～ 研修分野 を入力後に入力してください。 | C11: 研修種別 | D11: 実施主体 ※研修種別を入力後に選択してください | F11: 講義名・テーマ | G11: 修了証番号 | H11: 研修分野 ※職位を入力後に選択してください | I11: 横浜市（区）主催研修等の 修了時間数 （単位：時間） | J11: 備考 | L11: 修了年月日 （データの入力規則用）
A12: 1 | L12: 保育実践 マネジメント | M12: 43921
A13: 2 | K13: =IF(H13<>"",1,0) -> 0 | L13: それ以外の研修 | M13: 45382
A14: 3 | K14: =IF(H14<>"",1,0) -> 0 | L14: =IF(C14="その他",1,"")
A15: 4 | K15: =IF(H15<>"",1,0) -> 0 | L15: =IF(C15="その他",1,"")
A16: 5 | K16: =IF(H16<>"",1,0) -> 0 | L16: =IF(C16="その他",1,"")
A17: 6 | K17: =IF(H17<>"",1,0) -> 0 | L17: =IF(C17="その他",1,"")
A18: 7 | K18: =IF(H18<>"",1,0) -> 0 | L18: =IF(C18="その他",1,"")
A19: 8 | K19: =IF(H19<>"",1,0) -> 0 | L19: =IF(C19="その他",1,"")
A20: 9 | K20: =IF(H20<>"",1,0) -> 0 | L20: =IF(C20="その他",1,"")
A21: 10 | K21: =IF(H21<>"",1,0) -> 0 | L21: =IF(C21="その他",1,"")
A22: 11 | K22: =IF(H22<>"",1,0) -> 0 | L22: =IF(C22="その他",1,"")
A23: 12 | K23: =IF(H23<>"",1,0) -> 0 | L23: =IF(C23="その他",1,"")
A24: 13 | K24: =IF(H24<>"",1,0) -> 0 | L24: =IF(C24="その他",1,"")
A25: 14 | K25: =IF(H25<>"",1,0) -> 0 | L25: =IF(C25="その他",1,"")
A26: 15 | K26: =IF(H26<>"",1,0) -> 0 | L26: =IF(SUMIF(C13:C26,"【職員処遇改善費のみ対象】園内研修",I12:I26)>VLOOKUP(C6,M26:N28,2,FALSE),VLOOKUP(C6,M26:N28,2,FALSE)-SUMIF(C13:C26,"【職員処遇改善費のみ対象】園内研修",I12:I26),"") -> #N/A | M26: 園内研修 | N26: 4
B27: 【留意事項】
B28: (1) 「修了年月日」は、研修修了証の年月日又は研修を受講した年月日を記入する。
B29: (2) 幼稚園又は認定こども園に勤務していた者は幼稚園教育要領等を踏まえて教育の質を高めるための知識・技術の向上を目的とした研修を15時間以上受講していた 場合、１分野修了とできる。できるだけ速やかに保育士等キャリアアップ研修の受講を促すこと。
B30: (3) 保育実践研修は平成29年度から令和元年度までに実施されたものに限り含めることができる。 マネジメント研修は平成29年度から令和元年度までに実施されたものに限り専門分野別研修に含めることができる。(副主任保育士は令和２年度以降も含めることができる。)
B31: (4) 研修受講履歴一覧の内容を確認できる資料（保育士等キャリアアップ研修修了証の写等）を施設において保管すること。
B32: (5) 行が足りない場合は、No２～14の行を選択し挿入すること。
B33: (6) 区分３の対象となる研修は「施設型給付費等に係る処遇改善等加算（区分３）に係る研修修了要件について」（令和７年９月16日付けこ成基202 ７初幼教第４号こども家庭庁成育局 保育政策課長、こども家庭庁成育局成育基盤企画課長及び文部科学省初等中等教育局幼児教育課長連盟通知）の記載に基づくものとする。 職員処遇改善費の対象となる研修は「横浜市処遇改善等加算取扱要領」（平成27年４月１日付けこ保運第１号）の記載に基づくものとする。
B34: (7) 保育士等キャリアアップ研修は「保育士等キャリアアップ研修の実施について」（平成29年４月１日付け雇児保発０４０１第１号厚生労働省雇用均等・児童家庭局保育課長通知） の記載に基づくものが対象となる。実施主体は「都道府県又は都道府県知事の指定した研修実施機関」とする。

Sheet ②名簿41
A1: 第５号様式の１ | D1: 令和 ８ 年度 研修受講履歴一覧 名簿（保育所・地域型保育事業所）
G3: 所在区 | H3: =①集計表!H4 -> #N/A
G4: 施設・事業所種別 | H4: =①集計表!H5 -> #N/A
G5: 施設・事業所番号 | H5: =①集計表!H6 -> 0
B6: 職位 | G6: 施設・事業所名 | H6: =①集計表!H7 -> #N/A
B7: 氏名 | G7: 代表者職・氏名 | H7: =①集計表!H8 -> 0
B8: 幼稚園又は認定こども園に勤務していた者 | E8: ↓マネジメント分野の修了チェック↓ | L8: 開始日（データの入力規則用）
E9: =IF($C$6="","職位を選択してください",IF(ISNUMBER(SEARCH("副主任保育士",C6)),IF(COUNTIF(H:H,"マネジメント研修")>0,"必修数を満たしています","区分３（人数Ａ）対象者は、マネジメント分野（1分野）必修です。入力してください。"),IF(ISNUMBER(SEARCH("職員処遇",C6)),"必修ではありません。","必修ではありません。令和２年３月31日までの修了分は算定可能です。"))) -> 職位を選択してください | L9: キャリアアップ研修 | M9: 42826
A10: 区分３及び職員処遇改善費の対象と認められる研修のみ入力してください（下記(6)参照）。そのうち、キャリアアップ研修が対象か否かについては最下部(7)を参照のうえ、不明な場合は実施主体に必ず確認してください。
A11: No | B11: 各行最後に入力 修了年月日 (例:R2.6.1) ※研修種別～ 研修分野 を入力後に入力してください。 | C11: 研修種別 | D11: 実施主体 ※研修種別を入力後に選択してください | F11: 講義名・テーマ | G11: 修了証番号 | H11: 研修分野 ※職位を入力後に選択してください | I11: 横浜市（区）主催研修等の 修了時間数 （単位：時間） | J11: 備考 | L11: 修了年月日 （データの入力規則用）
A12: 1 | L12: 保育実践 マネジメント | M12: 43921
A13: 2 | K13: =IF(H13<>"",1,0) -> 0 | L13: それ以外の研修 | M13: 45382
A14: 3 | K14: =IF(H14<>"",1,0) -> 0 | L14: =IF(C14="その他",1,"")
A15: 4 | K15: =IF(H15<>"",1,0) -> 0 | L15: =IF(C15="その他",1,"")
A16: 5 | K16: =IF(H16<>"",1,0) -> 0 | L16: =IF(C16="その他",1,"")
A17: 6 | K17: =IF(H17<>"",1,0) -> 0 | L17: =IF(C17="その他",1,"")
A18: 7 | K18: =IF(H18<>"",1,0) -> 0 | L18: =IF(C18="その他",1,"")
A19: 8 | K19: =IF(H19<>"",1,0) -> 0 | L19: =IF(C19="その他",1,"")
A20: 9 | K20: =IF(H20<>"",1,0) -> 0 | L20: =IF(C20="その他",1,"")
A21: 10 | K21: =IF(H21<>"",1,0) -> 0 | L21: =IF(C21="その他",1,"")
A22: 11 | K22: =IF(H22<>"",1,0) -> 0 | L22: =IF(C22="その他",1,"")
A23: 12 | K23: =IF(H23<>"",1,0) -> 0 | L23: =IF(C23="その他",1,"")
A24: 13 | K24: =IF(H24<>"",1,0) -> 0 | L24: =IF(C24="その他",1,"")
A25: 14 | K25: =IF(H25<>"",1,0) -> 0 | L25: =IF(C25="その他",1,"")
A26: 15 | K26: =IF(H26<>"",1,0) -> 0 | L26: =IF(SUMIF(C13:C26,"【職員処遇改善費のみ対象】園内研修",I12:I26)>VLOOKUP(C6,M26:N28,2,FALSE),VLOOKUP(C6,M26:N28,2,FALSE)-SUMIF(C13:C26,"【職員処遇改善費のみ対象】園内研修",I12:I26),"") -> #N/A | M26: 園内研修 | N26: 4
B27: 【留意事項】
B28: (1) 「修了年月日」は、研修修了証の年月日又は研修を受講した年月日を記入する。
B29: (2) 幼稚園又は認定こども園に勤務していた者は幼稚園教育要領等を踏まえて教育の質を高めるための知識・技術の向上を目的とした研修を15時間以上受講していた 場合、１分野修了とできる。できるだけ速やかに保育士等キャリアアップ研修の受講を促すこと。
B30: (3) 保育実践研修は平成29年度から令和元年度までに実施されたものに限り含めることができる。 マネジメント研修は平成29年度から令和元年度までに実施されたものに限り専門分野別研修に含めることができる。(副主任保育士は令和２年度以降も含めることができる。)
B31: (4) 研修受講履歴一覧の内容を確認できる資料（保育士等キャリアアップ研修修了証の写等）を施設において保管すること。
B32: (5) 行が足りない場合は、No２～14の行を選択し挿入すること。
B33: (6) 区分３の対象となる研修は「施設型給付費等に係る処遇改善等加算（区分３）に係る研修修了要件について」（令和７年９月16日付けこ成基202 ７初幼教第４号こども家庭庁成育局 保育政策課長、こども家庭庁成育局成育基盤企画課長及び文部科学省初等中等教育局幼児教育課長連盟通知）の記載に基づくものとする。 職員処遇改善費の対象となる研修は「横浜市処遇改善等加算取扱要領」（平成27年４月１日付けこ保運第１号）の記載に基づくものとする。
B34: (7) 保育士等キャリアアップ研修は「保育士等キャリアアップ研修の実施について」（平成29年４月１日付け雇児保発０４０１第１号厚生労働省雇用均等・児童家庭局保育課長通知） の記載に基づくものが対象となる。実施主体は「都道府県又は都道府県知事の指定した研修実施機関」とする。

Sheet ②名簿42
A1: 第５号様式の１ | D1: 令和 ８ 年度 研修受講履歴一覧 名簿（保育所・地域型保育事業所）
G3: 所在区 | H3: =①集計表!H4 -> #N/A
G4: 施設・事業所種別 | H4: =①集計表!H5 -> #N/A
G5: 施設・事業所番号 | H5: =①集計表!H6 -> 0
B6: 職位 | G6: 施設・事業所名 | H6: =①集計表!H7 -> #N/A
B7: 氏名 | G7: 代表者職・氏名 | H7: =①集計表!H8 -> 0
B8: 幼稚園又は認定こども園に勤務していた者 | E8: ↓マネジメント分野の修了チェック↓ | L8: 開始日（データの入力規則用）
E9: =IF($C$6="","職位を選択してください",IF(ISNUMBER(SEARCH("副主任保育士",C6)),IF(COUNTIF(H:H,"マネジメント研修")>0,"必修数を満たしています","区分３（人数Ａ）対象者は、マネジメント分野（1分野）必修です。入力してください。"),IF(ISNUMBER(SEARCH("職員処遇",C6)),"必修ではありません。","必修ではありません。令和２年３月31日までの修了分は算定可能です。"))) -> 職位を選択してください | L9: キャリアアップ研修 | M9: 42826
A10: 区分３及び職員処遇改善費の対象と認められる研修のみ入力してください（下記(6)参照）。そのうち、キャリアアップ研修が対象か否かについては最下部(7)を参照のうえ、不明な場合は実施主体に必ず確認してください。
A11: No | B11: 各行最後に入力 修了年月日 (例:R2.6.1) ※研修種別～ 研修分野 を入力後に入力してください。 | C11: 研修種別 | D11: 実施主体 ※研修種別を入力後に選択してください | F11: 講義名・テーマ | G11: 修了証番号 | H11: 研修分野 ※職位を入力後に選択してください | I11: 横浜市（区）主催研修等の 修了時間数 （単位：時間） | J11: 備考 | L11: 修了年月日 （データの入力規則用）
A12: 1 | L12: 保育実践 マネジメント | M12: 43921
A13: 2 | K13: =IF(H13<>"",1,0) -> 0 | L13: それ以外の研修 | M13: 45382
A14: 3 | K14: =IF(H14<>"",1,0) -> 0 | L14: =IF(C14="その他",1,"")
A15: 4 | K15: =IF(H15<>"",1,0) -> 0 | L15: =IF(C15="その他",1,"")
A16: 5 | K16: =IF(H16<>"",1,0) -> 0 | L16: =IF(C16="その他",1,"")
A17: 6 | K17: =IF(H17<>"",1,0) -> 0 | L17: =IF(C17="その他",1,"")
A18: 7 | K18: =IF(H18<>"",1,0) -> 0 | L18: =IF(C18="その他",1,"")
A19: 8 | K19: =IF(H19<>"",1,0) -> 0 | L19: =IF(C19="その他",1,"")
A20: 9 | K20: =IF(H20<>"",1,0) -> 0 | L20: =IF(C20="その他",1,"")
A21: 10 | K21: =IF(H21<>"",1,0) -> 0 | L21: =IF(C21="その他",1,"")
A22: 11 | K22: =IF(H22<>"",1,0) -> 0 | L22: =IF(C22="その他",1,"")
A23: 12 | K23: =IF(H23<>"",1,0) -> 0 | L23: =IF(C23="その他",1,"")
A24: 13 | K24: =IF(H24<>"",1,0) -> 0 | L24: =IF(C24="その他",1,"")
A25: 14 | K25: =IF(H25<>"",1,0) -> 0 | L25: =IF(C25="その他",1,"")
A26: 15 | K26: =IF(H26<>"",1,0) -> 0 | L26: =IF(SUMIF(C13:C26,"【職員処遇改善費のみ対象】園内研修",I12:I26)>VLOOKUP(C6,M26:N28,2,FALSE),VLOOKUP(C6,M26:N28,2,FALSE)-SUMIF(C13:C26,"【職員処遇改善費のみ対象】園内研修",I12:I26),"") -> #N/A | M26: 園内研修 | N26: 4
B27: 【留意事項】
B28: (1) 「修了年月日」は、研修修了証の年月日又は研修を受講した年月日を記入する。
B29: (2) 幼稚園又は認定こども園に勤務していた者は幼稚園教育要領等を踏まえて教育の質を高めるための知識・技術の向上を目的とした研修を15時間以上受講していた 場合、１分野修了とできる。できるだけ速やかに保育士等キャリアアップ研修の受講を促すこと。
B30: (3) 保育実践研修は平成29年度から令和元年度までに実施されたものに限り含めることができる。 マネジメント研修は平成29年度から令和元年度までに実施されたものに限り専門分野別研修に含めることができる。(副主任保育士は令和２年度以降も含めることができる。)
B31: (4) 研修受講履歴一覧の内容を確認できる資料（保育士等キャリアアップ研修修了証の写等）を施設において保管すること。
B32: (5) 行が足りない場合は、No２～14の行を選択し挿入すること。
B33: (6) 区分３の対象となる研修は「施設型給付費等に係る処遇改善等加算（区分３）に係る研修修了要件について」（令和７年９月16日付けこ成基202 ７初幼教第４号こども家庭庁成育局 保育政策課長、こども家庭庁成育局成育基盤企画課長及び文部科学省初等中等教育局幼児教育課長連盟通知）の記載に基づくものとする。 職員処遇改善費の対象となる研修は「横浜市処遇改善等加算取扱要領」（平成27年４月１日付けこ保運第１号）の記載に基づくものとする。
B34: (7) 保育士等キャリアアップ研修は「保育士等キャリアアップ研修の実施について」（平成29年４月１日付け雇児保発０４０１第１号厚生労働省雇用均等・児童家庭局保育課長通知） の記載に基づくものが対象となる。実施主体は「都道府県又は都道府県知事の指定した研修実施機関」とする。

Sheet ②名簿43
A1: 第５号様式の１ | D1: 令和 ８ 年度 研修受講履歴一覧 名簿（保育所・地域型保育事業所）
G3: 所在区 | H3: =①集計表!H4 -> #N/A
G4: 施設・事業所種別 | H4: =①集計表!H5 -> #N/A
G5: 施設・事業所番号 | H5: =①集計表!H6 -> 0
B6: 職位 | G6: 施設・事業所名 | H6: =①集計表!H7 -> #N/A
B7: 氏名 | G7: 代表者職・氏名 | H7: =①集計表!H8 -> 0
B8: 幼稚園又は認定こども園に勤務していた者 | E8: ↓マネジメント分野の修了チェック↓ | L8: 開始日（データの入力規則用）
E9: =IF($C$6="","職位を選択してください",IF(ISNUMBER(SEARCH("副主任保育士",C6)),IF(COUNTIF(H:H,"マネジメント研修")>0,"必修数を満たしています","区分３（人数Ａ）対象者は、マネジメント分野（1分野）必修です。入力してください。"),IF(ISNUMBER(SEARCH("職員処遇",C6)),"必修ではありません。","必修ではありません。令和２年３月31日までの修了分は算定可能です。"))) -> 職位を選択してください | L9: キャリアアップ研修 | M9: 42826
A10: 区分３及び職員処遇改善費の対象と認められる研修のみ入力してください（下記(6)参照）。そのうち、キャリアアップ研修が対象か否かについては最下部(7)を参照のうえ、不明な場合は実施主体に必ず確認してください。
A11: No | B11: 各行最後に入力 修了年月日 (例:R2.6.1) ※研修種別～ 研修分野 を入力後に入力してください。 | C11: 研修種別 | D11: 実施主体 ※研修種別を入力後に選択してください | F11: 講義名・テーマ | G11: 修了証番号 | H11: 研修分野 ※職位を入力後に選択してください | I11: 横浜市（区）主催研修等の 修了時間数 （単位：時間） | J11: 備考 | L11: 修了年月日 （データの入力規則用）
A12: 1 | L12: 保育実践 マネジメント | M12: 43921
A13: 2 | K13: =IF(H13<>"",1,0) -> 0 | L13: それ以外の研修 | M13: 45382
A14: 3 | K14: =IF(H14<>"",1,0) -> 0 | L14: =IF(C14="その他",1,"")
A15: 4 | K15: =IF(H15<>"",1,0) -> 0 | L15: =IF(C15="その他",1,"")
A16: 5 | K16: =IF(H16<>"",1,0) -> 0 | L16: =IF(C16="その他",1,"")
A17: 6 | K17: =IF(H17<>"",1,0) -> 0 | L17: =IF(C17="その他",1,"")
A18: 7 | K18: =IF(H18<>"",1,0) -> 0 | L18: =IF(C18="その他",1,"")
A19: 8 | K19: =IF(H19<>"",1,0) -> 0 | L19: =IF(C19="その他",1,"")
A20: 9 | K20: =IF(H20<>"",1,0) -> 0 | L20: =IF(C20="その他",1,"")
A21: 10 | K21: =IF(H21<>"",1,0) -> 0 | L21: =IF(C21="その他",1,"")
A22: 11 | K22: =IF(H22<>"",1,0) -> 0 | L22: =IF(C22="その他",1,"")
A23: 12 | K23: =IF(H23<>"",1,0) -> 0 | L23: =IF(C23="その他",1,"")
A24: 13 | K24: =IF(H24<>"",1,0) -> 0 | L24: =IF(C24="その他",1,"")
A25: 14 | K25: =IF(H25<>"",1,0) -> 0 | L25: =IF(C25="その他",1,"")
A26: 15 | K26: =IF(H26<>"",1,0) -> 0 | L26: =IF(SUMIF(C13:C26,"【職員処遇改善費のみ対象】園内研修",I12:I26)>VLOOKUP(C6,M26:N28,2,FALSE),VLOOKUP(C6,M26:N28,2,FALSE)-SUMIF(C13:C26,"【職員処遇改善費のみ対象】園内研修",I12:I26),"") -> #N/A | M26: 園内研修 | N26: 4
B27: 【留意事項】
B28: (1) 「修了年月日」は、研修修了証の年月日又は研修を受講した年月日を記入する。
B29: (2) 幼稚園又は認定こども園に勤務していた者は幼稚園教育要領等を踏まえて教育の質を高めるための知識・技術の向上を目的とした研修を15時間以上受講していた 場合、１分野修了とできる。できるだけ速やかに保育士等キャリアアップ研修の受講を促すこと。
B30: (3) 保育実践研修は平成29年度から令和元年度までに実施されたものに限り含めることができる。 マネジメント研修は平成29年度から令和元年度までに実施されたものに限り専門分野別研修に含めることができる。(副主任保育士は令和２年度以降も含めることができる。)
B31: (4) 研修受講履歴一覧の内容を確認できる資料（保育士等キャリアアップ研修修了証の写等）を施設において保管すること。
B32: (5) 行が足りない場合は、No２～14の行を選択し挿入すること。
B33: (6) 区分３の対象となる研修は「施設型給付費等に係る処遇改善等加算（区分３）に係る研修修了要件について」（令和７年９月16日付けこ成基202 ７初幼教第４号こども家庭庁成育局 保育政策課長、こども家庭庁成育局成育基盤企画課長及び文部科学省初等中等教育局幼児教育課長連盟通知）の記載に基づくものとする。 職員処遇改善費の対象となる研修は「横浜市処遇改善等加算取扱要領」（平成27年４月１日付けこ保運第１号）の記載に基づくものとする。
B34: (7) 保育士等キャリアアップ研修は「保育士等キャリアアップ研修の実施について」（平成29年４月１日付け雇児保発０４０１第１号厚生労働省雇用均等・児童家庭局保育課長通知） の記載に基づくものが対象となる。実施主体は「都道府県又は都道府県知事の指定した研修実施機関」とする。

Sheet ②名簿44
A1: 第５号様式の１ | D1: 令和 ８ 年度 研修受講履歴一覧 名簿（保育所・地域型保育事業所）
G3: 所在区 | H3: =①集計表!H4 -> #N/A
G4: 施設・事業所種別 | H4: =①集計表!H5 -> #N/A
G5: 施設・事業所番号 | H5: =①集計表!H6 -> 0
B6: 職位 | G6: 施設・事業所名 | H6: =①集計表!H7 -> #N/A
B7: 氏名 | G7: 代表者職・氏名 | H7: =①集計表!H8 -> 0
B8: 幼稚園又は認定こども園に勤務していた者 | E8: ↓マネジメント分野の修了チェック↓ | L8: 開始日（データの入力規則用）
E9: =IF($C$6="","職位を選択してください",IF(ISNUMBER(SEARCH("副主任保育士",C6)),IF(COUNTIF(H:H,"マネジメント研修")>0,"必修数を満たしています","区分３（人数Ａ）対象者は、マネジメント分野（1分野）必修です。入力してください。"),IF(ISNUMBER(SEARCH("職員処遇",C6)),"必修ではありません。","必修ではありません。令和２年３月31日までの修了分は算定可能です。"))) -> 職位を選択してください | L9: キャリアアップ研修 | M9: 42826
A10: 区分３及び職員処遇改善費の対象と認められる研修のみ入力してください（下記(6)参照）。そのうち、キャリアアップ研修が対象か否かについては最下部(7)を参照のうえ、不明な場合は実施主体に必ず確認してください。
A11: No | B11: 各行最後に入力 修了年月日 (例:R2.6.1) ※研修種別～ 研修分野 を入力後に入力してください。 | C11: 研修種別 | D11: 実施主体 ※研修種別を入力後に選択してください | F11: 講義名・テーマ | G11: 修了証番号 | H11: 研修分野 ※職位を入力後に選択してください | I11: 横浜市（区）主催研修等の 修了時間数 （単位：時間） | J11: 備考 | L11: 修了年月日 （データの入力規則用）
A12: 1 | L12: 保育実践 マネジメント | M12: 43921
A13: 2 | K13: =IF(H13<>"",1,0) -> 0 | L13: それ以外の研修 | M13: 45382
A14: 3 | K14: =IF(H14<>"",1,0) -> 0 | L14: =IF(C14="その他",1,"")
A15: 4 | K15: =IF(H15<>"",1,0) -> 0 | L15: =IF(C15="その他",1,"")
A16: 5 | K16: =IF(H16<>"",1,0) -> 0 | L16: =IF(C16="その他",1,"")
A17: 6 | K17: =IF(H17<>"",1,0) -> 0 | L17: =IF(C17="その他",1,"")
A18: 7 | K18: =IF(H18<>"",1,0) -> 0 | L18: =IF(C18="その他",1,"")
A19: 8 | K19: =IF(H19<>"",1,0) -> 0 | L19: =IF(C19="その他",1,"")
A20: 9 | K20: =IF(H20<>"",1,0) -> 0 | L20: =IF(C20="その他",1,"")
A21: 10 | K21: =IF(H21<>"",1,0) -> 0 | L21: =IF(C21="その他",1,"")
A22: 11 | K22: =IF(H22<>"",1,0) -> 0 | L22: =IF(C22="その他",1,"")
A23: 12 | K23: =IF(H23<>"",1,0) -> 0 | L23: =IF(C23="その他",1,"")
A24: 13 | K24: =IF(H24<>"",1,0) -> 0 | L24: =IF(C24="その他",1,"")
A25: 14 | K25: =IF(H25<>"",1,0) -> 0 | L25: =IF(C25="その他",1,"")
A26: 15 | K26: =IF(H26<>"",1,0) -> 0 | L26: =IF(SUMIF(C13:C26,"【職員処遇改善費のみ対象】園内研修",I12:I26)>VLOOKUP(C6,M26:N28,2,FALSE),VLOOKUP(C6,M26:N28,2,FALSE)-SUMIF(C13:C26,"【職員処遇改善費のみ対象】園内研修",I12:I26),"") -> #N/A | M26: 園内研修 | N26: 4
B27: 【留意事項】
B28: (1) 「修了年月日」は、研修修了証の年月日又は研修を受講した年月日を記入する。
B29: (2) 幼稚園又は認定こども園に勤務していた者は幼稚園教育要領等を踏まえて教育の質を高めるための知識・技術の向上を目的とした研修を15時間以上受講していた 場合、１分野修了とできる。できるだけ速やかに保育士等キャリアアップ研修の受講を促すこと。
B30: (3) 保育実践研修は平成29年度から令和元年度までに実施されたものに限り含めることができる。 マネジメント研修は平成29年度から令和元年度までに実施されたものに限り専門分野別研修に含めることができる。(副主任保育士は令和２年度以降も含めることができる。)
B31: (4) 研修受講履歴一覧の内容を確認できる資料（保育士等キャリアアップ研修修了証の写等）を施設において保管すること。
B32: (5) 行が足りない場合は、No２～14の行を選択し挿入すること。
B33: (6) 区分３の対象となる研修は「施設型給付費等に係る処遇改善等加算（区分３）に係る研修修了要件について」（令和７年９月16日付けこ成基202 ７初幼教第４号こども家庭庁成育局 保育政策課長、こども家庭庁成育局成育基盤企画課長及び文部科学省初等中等教育局幼児教育課長連盟通知）の記載に基づくものとする。 職員処遇改善費の対象となる研修は「横浜市処遇改善等加算取扱要領」（平成27年４月１日付けこ保運第１号）の記載に基づくものとする。
B34: (7) 保育士等キャリアアップ研修は「保育士等キャリアアップ研修の実施について」（平成29年４月１日付け雇児保発０４０１第１号厚生労働省雇用均等・児童家庭局保育課長通知） の記載に基づくものが対象となる。実施主体は「都道府県又は都道府県知事の指定した研修実施機関」とする。

Sheet ②名簿45
A1: 第５号様式の１ | D1: 令和 ８ 年度 研修受講履歴一覧 名簿（保育所・地域型保育事業所）
G3: 所在区 | H3: =①集計表!H4 -> #N/A
G4: 施設・事業所種別 | H4: =①集計表!H5 -> #N/A
G5: 施設・事業所番号 | H5: =①集計表!H6 -> 0
B6: 職位 | G6: 施設・事業所名 | H6: =①集計表!H7 -> #N/A
B7: 氏名 | G7: 代表者職・氏名 | H7: =①集計表!H8 -> 0
B8: 幼稚園又は認定こども園に勤務していた者 | E8: ↓マネジメント分野の修了チェック↓ | L8: 開始日（データの入力規則用）
E9: =IF($C$6="","職位を選択してください",IF(ISNUMBER(SEARCH("副主任保育士",C6)),IF(COUNTIF(H:H,"マネジメント研修")>0,"必修数を満たしています","区分３（人数Ａ）対象者は、マネジメント分野（1分野）必修です。入力してください。"),IF(ISNUMBER(SEARCH("職員処遇",C6)),"必修ではありません。","必修ではありません。令和２年３月31日までの修了分は算定可能です。"))) -> 職位を選択してください | L9: キャリアアップ研修 | M9: 42826
A10: 区分３及び職員処遇改善費の対象と認められる研修のみ入力してください（下記(6)参照）。そのうち、キャリアアップ研修が対象か否かについては最下部(7)を参照のうえ、不明な場合は実施主体に必ず確認してください。
A11: No | B11: 各行最後に入力 修了年月日 (例:R2.6.1) ※研修種別～ 研修分野 を入力後に入力してください。 | C11: 研修種別 | D11: 実施主体 ※研修種別を入力後に選択してください | F11: 講義名・テーマ | G11: 修了証番号 | H11: 研修分野 ※職位を入力後に選択してください | I11: 横浜市（区）主催研修等の 修了時間数 （単位：時間） | J11: 備考 | L11: 修了年月日 （データの入力規則用）
A12: 1 | L12: 保育実践 マネジメント | M12: 43921
A13: 2 | K13: =IF(H13<>"",1,0) -> 0 | L13: それ以外の研修 | M13: 45382
A14: 3 | K14: =IF(H14<>"",1,0) -> 0 | L14: =IF(C14="その他",1,"")
A15: 4 | K15: =IF(H15<>"",1,0) -> 0 | L15: =IF(C15="その他",1,"")
A16: 5 | K16: =IF(H16<>"",1,0) -> 0 | L16: =IF(C16="その他",1,"")
A17: 6 | K17: =IF(H17<>"",1,0) -> 0 | L17: =IF(C17="その他",1,"")
A18: 7 | K18: =IF(H18<>"",1,0) -> 0 | L18: =IF(C18="その他",1,"")
A19: 8 | K19: =IF(H19<>"",1,0) -> 0 | L19: =IF(C19="その他",1,"")
A20: 9 | K20: =IF(H20<>"",1,0) -> 0 | L20: =IF(C20="その他",1,"")
A21: 10 | K21: =IF(H21<>"",1,0) -> 0 | L21: =IF(C21="その他",1,"")
A22: 11 | K22: =IF(H22<>"",1,0) -> 0 | L22: =IF(C22="その他",1,"")
A23: 12 | K23: =IF(H23<>"",1,0) -> 0 | L23: =IF(C23="その他",1,"")
A24: 13 | K24: =IF(H24<>"",1,0) -> 0 | L24: =IF(C24="その他",1,"")
A25: 14 | K25: =IF(H25<>"",1,0) -> 0 | L25: =IF(C25="その他",1,"")
A26: 15 | K26: =IF(H26<>"",1,0) -> 0 | L26: =IF(SUMIF(C13:C26,"【職員処遇改善費のみ対象】園内研修",I12:I26)>VLOOKUP(C6,M26:N28,2,FALSE),VLOOKUP(C6,M26:N28,2,FALSE)-SUMIF(C13:C26,"【職員処遇改善費のみ対象】園内研修",I12:I26),"") -> #N/A | M26: 園内研修 | N26: 4
B27: 【留意事項】
B28: (1) 「修了年月日」は、研修修了証の年月日又は研修を受講した年月日を記入する。
B29: (2) 幼稚園又は認定こども園に勤務していた者は幼稚園教育要領等を踏まえて教育の質を高めるための知識・技術の向上を目的とした研修を15時間以上受講していた 場合、１分野修了とできる。できるだけ速やかに保育士等キャリアアップ研修の受講を促すこと。
B30: (3) 保育実践研修は平成29年度から令和元年度までに実施されたものに限り含めることができる。 マネジメント研修は平成29年度から令和元年度までに実施されたものに限り専門分野別研修に含めることができる。(副主任保育士は令和２年度以降も含めることができる。)
B31: (4) 研修受講履歴一覧の内容を確認できる資料（保育士等キャリアアップ研修修了証の写等）を施設において保管すること。
B32: (5) 行が足りない場合は、No２～14の行を選択し挿入すること。
B33: (6) 区分３の対象となる研修は「施設型給付費等に係る処遇改善等加算（区分３）に係る研修修了要件について」（令和７年９月16日付けこ成基202 ７初幼教第４号こども家庭庁成育局 保育政策課長、こども家庭庁成育局成育基盤企画課長及び文部科学省初等中等教育局幼児教育課長連盟通知）の記載に基づくものとする。 職員処遇改善費の対象となる研修は「横浜市処遇改善等加算取扱要領」（平成27年４月１日付けこ保運第１号）の記載に基づくものとする。
B34: (7) 保育士等キャリアアップ研修は「保育士等キャリアアップ研修の実施について」（平成29年４月１日付け雇児保発０４０１第１号厚生労働省雇用均等・児童家庭局保育課長通知） の記載に基づくものが対象となる。実施主体は「都道府県又は都道府県知事の指定した研修実施機関」とする。

Sheet ②名簿46
A1: 第５号様式の１ | D1: 令和 ８ 年度 研修受講履歴一覧 名簿（保育所・地域型保育事業所）
G3: 所在区 | H3: =①集計表!H4 -> #N/A
G4: 施設・事業所種別 | H4: =①集計表!H5 -> #N/A
G5: 施設・事業所番号 | H5: =①集計表!H6 -> 0
B6: 職位 | G6: 施設・事業所名 | H6: =①集計表!H7 -> #N/A
B7: 氏名 | G7: 代表者職・氏名 | H7: =①集計表!H8 -> 0
B8: 幼稚園又は認定こども園に勤務していた者 | E8: ↓マネジメント分野の修了チェック↓ | L8: 開始日（データの入力規則用）
E9: =IF($C$6="","職位を選択してください",IF(ISNUMBER(SEARCH("副主任保育士",C6)),IF(COUNTIF(H:H,"マネジメント研修")>0,"必修数を満たしています","区分３（人数Ａ）対象者は、マネジメント分野（1分野）必修です。入力してください。"),IF(ISNUMBER(SEARCH("職員処遇",C6)),"必修ではありません。","必修ではありません。令和２年３月31日までの修了分は算定可能です。"))) -> 職位を選択してください | L9: キャリアアップ研修 | M9: 42826
A10: 区分３及び職員処遇改善費の対象と認められる研修のみ入力してください（下記(6)参照）。そのうち、キャリアアップ研修が対象か否かについては最下部(7)を参照のうえ、不明な場合は実施主体に必ず確認してください。
A11: No | B11: 各行最後に入力 修了年月日 (例:R2.6.1) ※研修種別～ 研修分野 を入力後に入力してください。 | C11: 研修種別 | D11: 実施主体 ※研修種別を入力後に選択してください | F11: 講義名・テーマ | G11: 修了証番号 | H11: 研修分野 ※職位を入力後に選択してください | I11: 横浜市（区）主催研修等の 修了時間数 （単位：時間） | J11: 備考 | L11: 修了年月日 （データの入力規則用）
A12: 1 | L12: 保育実践 マネジメント | M12: 43921
A13: 2 | K13: =IF(H13<>"",1,0) -> 0 | L13: それ以外の研修 | M13: 45382
A14: 3 | K14: =IF(H14<>"",1,0) -> 0 | L14: =IF(C14="その他",1,"")
A15: 4 | K15: =IF(H15<>"",1,0) -> 0 | L15: =IF(C15="その他",1,"")
A16: 5 | K16: =IF(H16<>"",1,0) -> 0 | L16: =IF(C16="その他",1,"")
A17: 6 | K17: =IF(H17<>"",1,0) -> 0 | L17: =IF(C17="その他",1,"")
A18: 7 | K18: =IF(H18<>"",1,0) -> 0 | L18: =IF(C18="その他",1,"")
A19: 8 | K19: =IF(H19<>"",1,0) -> 0 | L19: =IF(C19="その他",1,"")
A20: 9 | K20: =IF(H20<>"",1,0) -> 0 | L20: =IF(C20="その他",1,"")
A21: 10 | K21: =IF(H21<>"",1,0) -> 0 | L21: =IF(C21="その他",1,"")
A22: 11 | K22: =IF(H22<>"",1,0) -> 0 | L22: =IF(C22="その他",1,"")
A23: 12 | K23: =IF(H23<>"",1,0) -> 0 | L23: =IF(C23="その他",1,"")
A24: 13 | K24: =IF(H24<>"",1,0) -> 0 | L24: =IF(C24="その他",1,"")
A25: 14 | K25: =IF(H25<>"",1,0) -> 0 | L25: =IF(C25="その他",1,"")
A26: 15 | K26: =IF(H26<>"",1,0) -> 0 | L26: =IF(SUMIF(C13:C26,"【職員処遇改善費のみ対象】園内研修",I12:I26)>VLOOKUP(C6,M26:N28,2,FALSE),VLOOKUP(C6,M26:N28,2,FALSE)-SUMIF(C13:C26,"【職員処遇改善費のみ対象】園内研修",I12:I26),"") -> #N/A | M26: 園内研修 | N26: 4
B27: 【留意事項】
B28: (1) 「修了年月日」は、研修修了証の年月日又は研修を受講した年月日を記入する。
B29: (2) 幼稚園又は認定こども園に勤務していた者は幼稚園教育要領等を踏まえて教育の質を高めるための知識・技術の向上を目的とした研修を15時間以上受講していた 場合、１分野修了とできる。できるだけ速やかに保育士等キャリアアップ研修の受講を促すこと。
B30: (3) 保育実践研修は平成29年度から令和元年度までに実施されたものに限り含めることができる。 マネジメント研修は平成29年度から令和元年度までに実施されたものに限り専門分野別研修に含めることができる。(副主任保育士は令和２年度以降も含めることができる。)
B31: (4) 研修受講履歴一覧の内容を確認できる資料（保育士等キャリアアップ研修修了証の写等）を施設において保管すること。
B32: (5) 行が足りない場合は、No２～14の行を選択し挿入すること。
B33: (6) 区分３の対象となる研修は「施設型給付費等に係る処遇改善等加算（区分３）に係る研修修了要件について」（令和７年９月16日付けこ成基202 ７初幼教第４号こども家庭庁成育局 保育政策課長、こども家庭庁成育局成育基盤企画課長及び文部科学省初等中等教育局幼児教育課長連盟通知）の記載に基づくものとする。 職員処遇改善費の対象となる研修は「横浜市処遇改善等加算取扱要領」（平成27年４月１日付けこ保運第１号）の記載に基づくものとする。
B34: (7) 保育士等キャリアアップ研修は「保育士等キャリアアップ研修の実施について」（平成29年４月１日付け雇児保発０４０１第１号厚生労働省雇用均等・児童家庭局保育課長通知） の記載に基づくものが対象となる。実施主体は「都道府県又は都道府県知事の指定した研修実施機関」とする。

Sheet ②名簿47
A1: 第５号様式の１ | D1: 令和 ８ 年度 研修受講履歴一覧 名簿（保育所・地域型保育事業所）
G3: 所在区 | H3: =①集計表!H4 -> #N/A
G4: 施設・事業所種別 | H4: =①集計表!H5 -> #N/A
G5: 施設・事業所番号 | H5: =①集計表!H6 -> 0
B6: 職位 | G6: 施設・事業所名 | H6: =①集計表!H7 -> #N/A
B7: 氏名 | G7: 代表者職・氏名 | H7: =①集計表!H8 -> 0
B8: 幼稚園又は認定こども園に勤務していた者 | E8: ↓マネジメント分野の修了チェック↓ | L8: 開始日（データの入力規則用）
E9: =IF($C$6="","職位を選択してください",IF(ISNUMBER(SEARCH("副主任保育士",C6)),IF(COUNTIF(H:H,"マネジメント研修")>0,"必修数を満たしています","区分３（人数Ａ）対象者は、マネジメント分野（1分野）必修です。入力してください。"),IF(ISNUMBER(SEARCH("職員処遇",C6)),"必修ではありません。","必修ではありません。令和２年３月31日までの修了分は算定可能です。"))) -> 職位を選択してください | L9: キャリアアップ研修 | M9: 42826
A10: 区分３及び職員処遇改善費の対象と認められる研修のみ入力してください（下記(6)参照）。そのうち、キャリアアップ研修が対象か否かについては最下部(7)を参照のうえ、不明な場合は実施主体に必ず確認してください。
A11: No | B11: 各行最後に入力 修了年月日 (例:R2.6.1) ※研修種別～ 研修分野 を入力後に入力してください。 | C11: 研修種別 | D11: 実施主体 ※研修種別を入力後に選択してください | F11: 講義名・テーマ | G11: 修了証番号 | H11: 研修分野 ※職位を入力後に選択してください | I11: 横浜市（区）主催研修等の 修了時間数 （単位：時間） | J11: 備考 | L11: 修了年月日 （データの入力規則用）
A12: 1 | L12: 保育実践 マネジメント | M12: 43921
A13: 2 | K13: =IF(H13<>"",1,0) -> 0 | L13: それ以外の研修 | M13: 45382
A14: 3 | K14: =IF(H14<>"",1,0) -> 0 | L14: =IF(C14="その他",1,"")
A15: 4 | K15: =IF(H15<>"",1,0) -> 0 | L15: =IF(C15="その他",1,"")
A16: 5 | K16: =IF(H16<>"",1,0) -> 0 | L16: =IF(C16="その他",1,"")
A17: 6 | K17: =IF(H17<>"",1,0) -> 0 | L17: =IF(C17="その他",1,"")
A18: 7 | K18: =IF(H18<>"",1,0) -> 0 | L18: =IF(C18="その他",1,"")
A19: 8 | K19: =IF(H19<>"",1,0) -> 0 | L19: =IF(C19="その他",1,"")
A20: 9 | K20: =IF(H20<>"",1,0) -> 0 | L20: =IF(C20="その他",1,"")
A21: 10 | K21: =IF(H21<>"",1,0) -> 0 | L21: =IF(C21="その他",1,"")
A22: 11 | K22: =IF(H22<>"",1,0) -> 0 | L22: =IF(C22="その他",1,"")
A23: 12 | K23: =IF(H23<>"",1,0) -> 0 | L23: =IF(C23="その他",1,"")
A24: 13 | K24: =IF(H24<>"",1,0) -> 0 | L24: =IF(C24="その他",1,"")
A25: 14 | K25: =IF(H25<>"",1,0) -> 0 | L25: =IF(C25="その他",1,"")
A26: 15 | K26: =IF(H26<>"",1,0) -> 0 | L26: =IF(SUMIF(C13:C26,"【職員処遇改善費のみ対象】園内研修",I12:I26)>VLOOKUP(C6,M26:N28,2,FALSE),VLOOKUP(C6,M26:N28,2,FALSE)-SUMIF(C13:C26,"【職員処遇改善費のみ対象】園内研修",I12:I26),"") -> #N/A | M26: 園内研修 | N26: 4
B27: 【留意事項】
B28: (1) 「修了年月日」は、研修修了証の年月日又は研修を受講した年月日を記入する。
B29: (2) 幼稚園又は認定こども園に勤務していた者は幼稚園教育要領等を踏まえて教育の質を高めるための知識・技術の向上を目的とした研修を15時間以上受講していた 場合、１分野修了とできる。できるだけ速やかに保育士等キャリアアップ研修の受講を促すこと。
B30: (3) 保育実践研修は平成29年度から令和元年度までに実施されたものに限り含めることができる。 マネジメント研修は平成29年度から令和元年度までに実施されたものに限り専門分野別研修に含めることができる。(副主任保育士は令和２年度以降も含めることができる。)
B31: (4) 研修受講履歴一覧の内容を確認できる資料（保育士等キャリアアップ研修修了証の写等）を施設において保管すること。
B32: (5) 行が足りない場合は、No２～14の行を選択し挿入すること。
B33: (6) 区分３の対象となる研修は「施設型給付費等に係る処遇改善等加算（区分３）に係る研修修了要件について」（令和７年９月16日付けこ成基202 ７初幼教第４号こども家庭庁成育局 保育政策課長、こども家庭庁成育局成育基盤企画課長及び文部科学省初等中等教育局幼児教育課長連盟通知）の記載に基づくものとする。 職員処遇改善費の対象となる研修は「横浜市処遇改善等加算取扱要領」（平成27年４月１日付けこ保運第１号）の記載に基づくものとする。
B34: (7) 保育士等キャリアアップ研修は「保育士等キャリアアップ研修の実施について」（平成29年４月１日付け雇児保発０４０１第１号厚生労働省雇用均等・児童家庭局保育課長通知） の記載に基づくものが対象となる。実施主体は「都道府県又は都道府県知事の指定した研修実施機関」とする。

Sheet ②名簿48
A1: 第５号様式の１ | D1: 令和 ８ 年度 研修受講履歴一覧 名簿（保育所・地域型保育事業所）
G3: 所在区 | H3: =①集計表!H4 -> #N/A
G4: 施設・事業所種別 | H4: =①集計表!H5 -> #N/A
G5: 施設・事業所番号 | H5: =①集計表!H6 -> 0
B6: 職位 | G6: 施設・事業所名 | H6: =①集計表!H7 -> #N/A
B7: 氏名 | G7: 代表者職・氏名 | H7: =①集計表!H8 -> 0
B8: 幼稚園又は認定こども園に勤務していた者 | E8: ↓マネジメント分野の修了チェック↓ | L8: 開始日（データの入力規則用）
E9: =IF($C$6="","職位を選択してください",IF(ISNUMBER(SEARCH("副主任保育士",C6)),IF(COUNTIF(H:H,"マネジメント研修")>0,"必修数を満たしています","区分３（人数Ａ）対象者は、マネジメント分野（1分野）必修です。入力してください。"),IF(ISNUMBER(SEARCH("職員処遇",C6)),"必修ではありません。","必修ではありません。令和２年３月31日までの修了分は算定可能です。"))) -> 職位を選択してください | L9: キャリアアップ研修 | M9: 42826
A10: 区分３及び職員処遇改善費の対象と認められる研修のみ入力してください（下記(6)参照）。そのうち、キャリアアップ研修が対象か否かについては最下部(7)を参照のうえ、不明な場合は実施主体に必ず確認してください。
A11: No | B11: 各行最後に入力 修了年月日 (例:R2.6.1) ※研修種別～ 研修分野 を入力後に入力してください。 | C11: 研修種別 | D11: 実施主体 ※研修種別を入力後に選択してください | F11: 講義名・テーマ | G11: 修了証番号 | H11: 研修分野 ※職位を入力後に選択してください | I11: 横浜市（区）主催研修等の 修了時間数 （単位：時間） | J11: 備考 | L11: 修了年月日 （データの入力規則用）
A12: 1 | L12: 保育実践 マネジメント | M12: 43921
A13: 2 | K13: =IF(H13<>"",1,0) -> 0 | L13: それ以外の研修 | M13: 45382
A14: 3 | K14: =IF(H14<>"",1,0) -> 0 | L14: =IF(C14="その他",1,"")
A15: 4 | K15: =IF(H15<>"",1,0) -> 0 | L15: =IF(C15="その他",1,"")
A16: 5 | K16: =IF(H16<>"",1,0) -> 0 | L16: =IF(C16="その他",1,"")
A17: 6 | K17: =IF(H17<>"",1,0) -> 0 | L17: =IF(C17="その他",1,"")
A18: 7 | K18: =IF(H18<>"",1,0) -> 0 | L18: =IF(C18="その他",1,"")
A19: 8 | K19: =IF(H19<>"",1,0) -> 0 | L19: =IF(C19="その他",1,"")
A20: 9 | K20: =IF(H20<>"",1,0) -> 0 | L20: =IF(C20="その他",1,"")
A21: 10 | K21: =IF(H21<>"",1,0) -> 0 | L21: =IF(C21="その他",1,"")
A22: 11 | K22: =IF(H22<>"",1,0) -> 0 | L22: =IF(C22="その他",1,"")
A23: 12 | K23: =IF(H23<>"",1,0) -> 0 | L23: =IF(C23="その他",1,"")
A24: 13 | K24: =IF(H24<>"",1,0) -> 0 | L24: =IF(C24="その他",1,"")
A25: 14 | K25: =IF(H25<>"",1,0) -> 0 | L25: =IF(C25="その他",1,"")
A26: 15 | K26: =IF(H26<>"",1,0) -> 0 | L26: =IF(SUMIF(C13:C26,"【職員処遇改善費のみ対象】園内研修",I12:I26)>VLOOKUP(C6,M26:N28,2,FALSE),VLOOKUP(C6,M26:N28,2,FALSE)-SUMIF(C13:C26,"【職員処遇改善費のみ対象】園内研修",I12:I26),"") -> #N/A | M26: 園内研修 | N26: 4
B27: 【留意事項】
B28: (1) 「修了年月日」は、研修修了証の年月日又は研修を受講した年月日を記入する。
B29: (2) 幼稚園又は認定こども園に勤務していた者は幼稚園教育要領等を踏まえて教育の質を高めるための知識・技術の向上を目的とした研修を15時間以上受講していた 場合、１分野修了とできる。できるだけ速やかに保育士等キャリアアップ研修の受講を促すこと。
B30: (3) 保育実践研修は平成29年度から令和元年度までに実施されたものに限り含めることができる。 マネジメント研修は平成29年度から令和元年度までに実施されたものに限り専門分野別研修に含めることができる。(副主任保育士は令和２年度以降も含めることができる。)
B31: (4) 研修受講履歴一覧の内容を確認できる資料（保育士等キャリアアップ研修修了証の写等）を施設において保管すること。
B32: (5) 行が足りない場合は、No２～14の行を選択し挿入すること。
B33: (6) 区分３の対象となる研修は「施設型給付費等に係る処遇改善等加算（区分３）に係る研修修了要件について」（令和７年９月16日付けこ成基202 ７初幼教第４号こども家庭庁成育局 保育政策課長、こども家庭庁成育局成育基盤企画課長及び文部科学省初等中等教育局幼児教育課長連盟通知）の記載に基づくものとする。 職員処遇改善費の対象となる研修は「横浜市処遇改善等加算取扱要領」（平成27年４月１日付けこ保運第１号）の記載に基づくものとする。
B34: (7) 保育士等キャリアアップ研修は「保育士等キャリアアップ研修の実施について」（平成29年４月１日付け雇児保発０４０１第１号厚生労働省雇用均等・児童家庭局保育課長通知） の記載に基づくものが対象となる。実施主体は「都道府県又は都道府県知事の指定した研修実施機関」とする。

Sheet ②名簿49
A1: 第５号様式の１ | D1: 令和 ８ 年度 研修受講履歴一覧 名簿（保育所・地域型保育事業所）
G3: 所在区 | H3: =①集計表!H4 -> #N/A
G4: 施設・事業所種別 | H4: =①集計表!H5 -> #N/A
G5: 施設・事業所番号 | H5: =①集計表!H6 -> 0
B6: 職位 | G6: 施設・事業所名 | H6: =①集計表!H7 -> #N/A
B7: 氏名 | G7: 代表者職・氏名 | H7: =①集計表!H8 -> 0
B8: 幼稚園又は認定こども園に勤務していた者 | E8: ↓マネジメント分野の修了チェック↓ | L8: 開始日（データの入力規則用）
E9: =IF($C$6="","職位を選択してください",IF(ISNUMBER(SEARCH("副主任保育士",C6)),IF(COUNTIF(H:H,"マネジメント研修")>0,"必修数を満たしています","区分３（人数Ａ）対象者は、マネジメント分野（1分野）必修です。入力してください。"),IF(ISNUMBER(SEARCH("職員処遇",C6)),"必修ではありません。","必修ではありません。令和２年３月31日までの修了分は算定可能です。"))) -> 職位を選択してください | L9: キャリアアップ研修 | M9: 42826
A10: 区分３及び職員処遇改善費の対象と認められる研修のみ入力してください（下記(6)参照）。そのうち、キャリアアップ研修が対象か否かについては最下部(7)を参照のうえ、不明な場合は実施主体に必ず確認してください。
A11: No | B11: 各行最後に入力 修了年月日 (例:R2.6.1) ※研修種別～ 研修分野 を入力後に入力してください。 | C11: 研修種別 | D11: 実施主体 ※研修種別を入力後に選択してください | F11: 講義名・テーマ | G11: 修了証番号 | H11: 研修分野 ※職位を入力後に選択してください | I11: 横浜市（区）主催研修等の 修了時間数 （単位：時間） | J11: 備考 | L11: 修了年月日 （データの入力規則用）
A12: 1 | L12: 保育実践 マネジメント | M12: 43921
A13: 2 | K13: =IF(H13<>"",1,0) -> 0 | L13: それ以外の研修 | M13: 45382
A14: 3 | K14: =IF(H14<>"",1,0) -> 0 | L14: =IF(C14="その他",1,"")
A15: 4 | K15: =IF(H15<>"",1,0) -> 0 | L15: =IF(C15="その他",1,"")
A16: 5 | K16: =IF(H16<>"",1,0) -> 0 | L16: =IF(C16="その他",1,"")
A17: 6 | K17: =IF(H17<>"",1,0) -> 0 | L17: =IF(C17="その他",1,"")
A18: 7 | K18: =IF(H18<>"",1,0) -> 0 | L18: =IF(C18="その他",1,"")
A19: 8 | K19: =IF(H19<>"",1,0) -> 0 | L19: =IF(C19="その他",1,"")
A20: 9 | K20: =IF(H20<>"",1,0) -> 0 | L20: =IF(C20="その他",1,"")
A21: 10 | K21: =IF(H21<>"",1,0) -> 0 | L21: =IF(C21="その他",1,"")
A22: 11 | K22: =IF(H22<>"",1,0) -> 0 | L22: =IF(C22="その他",1,"")
A23: 12 | K23: =IF(H23<>"",1,0) -> 0 | L23: =IF(C23="その他",1,"")
A24: 13 | K24: =IF(H24<>"",1,0) -> 0 | L24: =IF(C24="その他",1,"")
A25: 14 | K25: =IF(H25<>"",1,0) -> 0 | L25: =IF(C25="その他",1,"")
A26: 15 | K26: =IF(H26<>"",1,0) -> 0 | L26: =IF(SUMIF(C13:C26,"【職員処遇改善費のみ対象】園内研修",I12:I26)>VLOOKUP(C6,M26:N28,2,FALSE),VLOOKUP(C6,M26:N28,2,FALSE)-SUMIF(C13:C26,"【職員処遇改善費のみ対象】園内研修",I12:I26),"") -> #N/A | M26: 園内研修 | N26: 4
B27: 【留意事項】
B28: (1) 「修了年月日」は、研修修了証の年月日又は研修を受講した年月日を記入する。
B29: (2) 幼稚園又は認定こども園に勤務していた者は幼稚園教育要領等を踏まえて教育の質を高めるための知識・技術の向上を目的とした研修を15時間以上受講していた 場合、１分野修了とできる。できるだけ速やかに保育士等キャリアアップ研修の受講を促すこと。
B30: (3) 保育実践研修は平成29年度から令和元年度までに実施されたものに限り含めることができる。 マネジメント研修は平成29年度から令和元年度までに実施されたものに限り専門分野別研修に含めることができる。(副主任保育士は令和２年度以降も含めることができる。)
B31: (4) 研修受講履歴一覧の内容を確認できる資料（保育士等キャリアアップ研修修了証の写等）を施設において保管すること。
B32: (5) 行が足りない場合は、No２～14の行を選択し挿入すること。
B33: (6) 区分３の対象となる研修は「施設型給付費等に係る処遇改善等加算（区分３）に係る研修修了要件について」（令和７年９月16日付けこ成基202 ７初幼教第４号こども家庭庁成育局 保育政策課長、こども家庭庁成育局成育基盤企画課長及び文部科学省初等中等教育局幼児教育課長連盟通知）の記載に基づくものとする。 職員処遇改善費の対象となる研修は「横浜市処遇改善等加算取扱要領」（平成27年４月１日付けこ保運第１号）の記載に基づくものとする。
B34: (7) 保育士等キャリアアップ研修は「保育士等キャリアアップ研修の実施について」（平成29年４月１日付け雇児保発０４０１第１号厚生労働省雇用均等・児童家庭局保育課長通知） の記載に基づくものが対象となる。実施主体は「都道府県又は都道府県知事の指定した研修実施機関」とする。

Sheet ②名簿50
A1: 第５号様式の１ | D1: 令和 ８ 年度 研修受講履歴一覧 名簿（保育所・地域型保育事業所）
G3: 所在区 | H3: =①集計表!H4 -> #N/A
G4: 施設・事業所種別 | H4: =①集計表!H5 -> #N/A
G5: 施設・事業所番号 | H5: =①集計表!H6 -> 0
B6: 職位 | G6: 施設・事業所名 | H6: =①集計表!H7 -> #N/A
B7: 氏名 | G7: 代表者職・氏名 | H7: =①集計表!H8 -> 0
B8: 幼稚園又は認定こども園に勤務していた者 | E8: ↓マネジメント分野の修了チェック↓ | L8: 開始日（データの入力規則用）
E9: =IF($C$6="","職位を選択してください",IF(ISNUMBER(SEARCH("副主任保育士",C6)),IF(COUNTIF(H:H,"マネジメント研修")>0,"必修数を満たしています","区分３（人数Ａ）対象者は、マネジメント分野（1分野）必修です。入力してください。"),IF(ISNUMBER(SEARCH("職員処遇",C6)),"必修ではありません。","必修ではありません。令和２年３月31日までの修了分は算定可能です。"))) -> 職位を選択してください | L9: キャリアアップ研修 | M9: 42826
A10: 区分３及び職員処遇改善費の対象と認められる研修のみ入力してください（下記(6)参照）。そのうち、キャリアアップ研修が対象か否かについては最下部(7)を参照のうえ、不明な場合は実施主体に必ず確認してください。
A11: No | B11: 各行最後に入力 修了年月日 (例:R2.6.1) ※研修種別～ 研修分野 を入力後に入力してください。 | C11: 研修種別 | D11: 実施主体 ※研修種別を入力後に選択してください | F11: 講義名・テーマ | G11: 修了証番号 | H11: 研修分野 ※職位を入力後に選択してください | I11: 横浜市（区）主催研修等の 修了時間数 （単位：時間） | J11: 備考 | L11: 修了年月日 （データの入力規則用）
A12: 1 | L12: 保育実践 マネジメント | M12: 43921
A13: 2 | K13: =IF(H13<>"",1,0) -> 0 | L13: それ以外の研修 | M13: 45382
A14: 3 | K14: =IF(H14<>"",1,0) -> 0 | L14: =IF(C14="その他",1,"")
A15: 4 | K15: =IF(H15<>"",1,0) -> 0 | L15: =IF(C15="その他",1,"")
A16: 5 | K16: =IF(H16<>"",1,0) -> 0 | L16: =IF(C16="その他",1,"")
A17: 6 | K17: =IF(H17<>"",1,0) -> 0 | L17: =IF(C17="その他",1,"")
A18: 7 | K18: =IF(H18<>"",1,0) -> 0 | L18: =IF(C18="その他",1,"")
A19: 8 | K19: =IF(H19<>"",1,0) -> 0 | L19: =IF(C19="その他",1,"")
A20: 9 | K20: =IF(H20<>"",1,0) -> 0 | L20: =IF(C20="その他",1,"")
A21: 10 | K21: =IF(H21<>"",1,0) -> 0 | L21: =IF(C21="その他",1,"")
A22: 11 | K22: =IF(H22<>"",1,0) -> 0 | L22: =IF(C22="その他",1,"")
A23: 12 | K23: =IF(H23<>"",1,0) -> 0 | L23: =IF(C23="その他",1,"")
A24: 13 | K24: =IF(H24<>"",1,0) -> 0 | L24: =IF(C24="その他",1,"")
A25: 14 | K25: =IF(H25<>"",1,0) -> 0 | L25: =IF(C25="その他",1,"")
A26: 15 | K26: =IF(H26<>"",1,0) -> 0 | L26: =IF(SUMIF(C13:C26,"【職員処遇改善費のみ対象】園内研修",I12:I26)>VLOOKUP(C6,M26:N28,2,FALSE),VLOOKUP(C6,M26:N28,2,FALSE)-SUMIF(C13:C26,"【職員処遇改善費のみ対象】園内研修",I12:I26),"") -> #N/A | M26: 園内研修 | N26: 4
B27: 【留意事項】
B28: (1) 「修了年月日」は、研修修了証の年月日又は研修を受講した年月日を記入する。
B29: (2) 幼稚園又は認定こども園に勤務していた者は幼稚園教育要領等を踏まえて教育の質を高めるための知識・技術の向上を目的とした研修を15時間以上受講していた 場合、１分野修了とできる。できるだけ速やかに保育士等キャリアアップ研修の受講を促すこと。
B30: (3) 保育実践研修は平成29年度から令和元年度までに実施されたものに限り含めることができる。 マネジメント研修は平成29年度から令和元年度までに実施されたものに限り専門分野別研修に含めることができる。(副主任保育士は令和２年度以降も含めることができる。)
B31: (4) 研修受講履歴一覧の内容を確認できる資料（保育士等キャリアアップ研修修了証の写等）を施設において保管すること。
B32: (5) 行が足りない場合は、No２～14の行を選択し挿入すること。
B33: (6) 区分３の対象となる研修は「施設型給付費等に係る処遇改善等加算（区分３）に係る研修修了要件について」（令和７年９月16日付けこ成基202 ７初幼教第４号こども家庭庁成育局 保育政策課長、こども家庭庁成育局成育基盤企画課長及び文部科学省初等中等教育局幼児教育課長連盟通知）の記載に基づくものとする。 職員処遇改善費の対象となる研修は「横浜市処遇改善等加算取扱要領」（平成27年４月１日付けこ保運第１号）の記載に基づくものとする。
B34: (7) 保育士等キャリアアップ研修は「保育士等キャリアアップ研修の実施について」（平成29年４月１日付け雇児保発０４０１第１号厚生労働省雇用均等・児童家庭局保育課長通知） の記載に基づくものが対象となる。実施主体は「都道府県又は都道府県知事の指定した研修実施機関」とする。

Sheet ②名簿51
A1: 第５号様式の１ | D1: 令和 ８ 年度 研修受講履歴一覧 名簿（保育所・地域型保育事業所）
G3: 所在区 | H3: =①集計表!H4 -> #N/A
G4: 施設・事業所種別 | H4: =①集計表!H5 -> #N/A
G5: 施設・事業所番号 | H5: =①集計表!H6 -> 0
B6: 職位 | G6: 施設・事業所名 | H6: =①集計表!H7 -> #N/A
B7: 氏名 | G7: 代表者職・氏名 | H7: =①集計表!H8 -> 0
B8: 幼稚園又は認定こども園に勤務していた者 | E8: ↓マネジメント分野の修了チェック↓ | L8: 開始日（データの入力規則用）
E9: =IF($C$6="","職位を選択してください",IF(ISNUMBER(SEARCH("副主任保育士",C6)),IF(COUNTIF(H:H,"マネジメント研修")>0,"必修数を満たしています","区分３（人数Ａ）対象者は、マネジメント分野（1分野）必修です。入力してください。"),IF(ISNUMBER(SEARCH("職員処遇",C6)),"必修ではありません。","必修ではありません。令和２年３月31日までの修了分は算定可能です。"))) -> 職位を選択してください | L9: キャリアアップ研修 | M9: 42826
A10: 区分３及び職員処遇改善費の対象と認められる研修のみ入力してください（下記(6)参照）。そのうち、キャリアアップ研修が対象か否かについては最下部(7)を参照のうえ、不明な場合は実施主体に必ず確認してください。
A11: No | B11: 各行最後に入力 修了年月日 (例:R2.6.1) ※研修種別～ 研修分野 を入力後に入力してください。 | C11: 研修種別 | D11: 実施主体 ※研修種別を入力後に選択してください | F11: 講義名・テーマ | G11: 修了証番号 | H11: 研修分野 ※職位を入力後に選択してください | I11: 横浜市（区）主催研修等の 修了時間数 （単位：時間） | J11: 備考 | L11: 修了年月日 （データの入力規則用）
A12: 1 | L12: 保育実践 マネジメント | M12: 43921
A13: 2 | K13: =IF(H13<>"",1,0) -> 0 | L13: それ以外の研修 | M13: 45382
A14: 3 | K14: =IF(H14<>"",1,0) -> 0 | L14: =IF(C14="その他",1,"")
A15: 4 | K15: =IF(H15<>"",1,0) -> 0 | L15: =IF(C15="その他",1,"")
A16: 5 | K16: =IF(H16<>"",1,0) -> 0 | L16: =IF(C16="その他",1,"")
A17: 6 | K17: =IF(H17<>"",1,0) -> 0 | L17: =IF(C17="その他",1,"")
A18: 7 | K18: =IF(H18<>"",1,0) -> 0 | L18: =IF(C18="その他",1,"")
A19: 8 | K19: =IF(H19<>"",1,0) -> 0 | L19: =IF(C19="その他",1,"")
A20: 9 | K20: =IF(H20<>"",1,0) -> 0 | L20: =IF(C20="その他",1,"")
A21: 10 | K21: =IF(H21<>"",1,0) -> 0 | L21: =IF(C21="その他",1,"")
A22: 11 | K22: =IF(H22<>"",1,0) -> 0 | L22: =IF(C22="その他",1,"")
A23: 12 | K23: =IF(H23<>"",1,0) -> 0 | L23: =IF(C23="その他",1,"")
A24: 13 | K24: =IF(H24<>"",1,0) -> 0 | L24: =IF(C24="その他",1,"")
A25: 14 | K25: =IF(H25<>"",1,0) -> 0 | L25: =IF(C25="その他",1,"")
A26: 15 | K26: =IF(H26<>"",1,0) -> 0 | L26: =IF(SUMIF(C13:C26,"【職員処遇改善費のみ対象】園内研修",I12:I26)>VLOOKUP(C6,M26:N28,2,FALSE),VLOOKUP(C6,M26:N28,2,FALSE)-SUMIF(C13:C26,"【職員処遇改善費のみ対象】園内研修",I12:I26),"") -> #N/A | M26: 園内研修 | N26: 4
B27: 【留意事項】
B28: (1) 「修了年月日」は、研修修了証の年月日又は研修を受講した年月日を記入する。
B29: (2) 幼稚園又は認定こども園に勤務していた者は幼稚園教育要領等を踏まえて教育の質を高めるための知識・技術の向上を目的とした研修を15時間以上受講していた 場合、１分野修了とできる。できるだけ速やかに保育士等キャリアアップ研修の受講を促すこと。
B30: (3) 保育実践研修は平成29年度から令和元年度までに実施されたものに限り含めることができる。 マネジメント研修は平成29年度から令和元年度までに実施されたものに限り専門分野別研修に含めることができる。(副主任保育士は令和２年度以降も含めることができる。)
B31: (4) 研修受講履歴一覧の内容を確認できる資料（保育士等キャリアアップ研修修了証の写等）を施設において保管すること。
B32: (5) 行が足りない場合は、No２～14の行を選択し挿入すること。
B33: (6) 区分３の対象となる研修は「施設型給付費等に係る処遇改善等加算（区分３）に係る研修修了要件について」（令和７年９月16日付けこ成基202 ７初幼教第４号こども家庭庁成育局 保育政策課長、こども家庭庁成育局成育基盤企画課長及び文部科学省初等中等教育局幼児教育課長連盟通知）の記載に基づくものとする。 職員処遇改善費の対象となる研修は「横浜市処遇改善等加算取扱要領」（平成27年４月１日付けこ保運第１号）の記載に基づくものとする。
B34: (7) 保育士等キャリアアップ研修は「保育士等キャリアアップ研修の実施について」（平成29年４月１日付け雇児保発０４０１第１号厚生労働省雇用均等・児童家庭局保育課長通知） の記載に基づくものが対象となる。実施主体は「都道府県又は都道府県知事の指定した研修実施機関」とする。

Sheet ②名簿52
A1: 第５号様式の１ | D1: 令和 ８ 年度 研修受講履歴一覧 名簿（保育所・地域型保育事業所）
G3: 所在区 | H3: =①集計表!H4 -> #N/A
G4: 施設・事業所種別 | H4: =①集計表!H5 -> #N/A
G5: 施設・事業所番号 | H5: =①集計表!H6 -> 0
B6: 職位 | G6: 施設・事業所名 | H6: =①集計表!H7 -> #N/A
B7: 氏名 | G7: 代表者職・氏名 | H7: =①集計表!H8 -> 0
B8: 幼稚園又は認定こども園に勤務していた者 | E8: ↓マネジメント分野の修了チェック↓ | L8: 開始日（データの入力規則用）
E9: =IF($C$6="","職位を選択してください",IF(ISNUMBER(SEARCH("副主任保育士",C6)),IF(COUNTIF(H:H,"マネジメント研修")>0,"必修数を満たしています","区分３（人数Ａ）対象者は、マネジメント分野（1分野）必修です。入力してください。"),IF(ISNUMBER(SEARCH("職員処遇",C6)),"必修ではありません。","必修ではありません。令和２年３月31日までの修了分は算定可能です。"))) -> 職位を選択してください | L9: キャリアアップ研修 | M9: 42826
A10: 区分３及び職員処遇改善費の対象と認められる研修のみ入力してください（下記(6)参照）。そのうち、キャリアアップ研修が対象か否かについては最下部(7)を参照のうえ、不明な場合は実施主体に必ず確認してください。
A11: No | B11: 各行最後に入力 修了年月日 (例:R2.6.1) ※研修種別～ 研修分野 を入力後に入力してください。 | C11: 研修種別 | D11: 実施主体 ※研修種別を入力後に選択してください | F11: 講義名・テーマ | G11: 修了証番号 | H11: 研修分野 ※職位を入力後に選択してください | I11: 横浜市（区）主催研修等の 修了時間数 （単位：時間） | J11: 備考 | L11: 修了年月日 （データの入力規則用）
A12: 1 | L12: 保育実践 マネジメント | M12: 43921
A13: 2 | K13: =IF(H13<>"",1,0) -> 0 | L13: それ以外の研修 | M13: 45382
A14: 3 | K14: =IF(H14<>"",1,0) -> 0 | L14: =IF(C14="その他",1,"")
A15: 4 | K15: =IF(H15<>"",1,0) -> 0 | L15: =IF(C15="その他",1,"")
A16: 5 | K16: =IF(H16<>"",1,0) -> 0 | L16: =IF(C16="その他",1,"")
A17: 6 | K17: =IF(H17<>"",1,0) -> 0 | L17: =IF(C17="その他",1,"")
A18: 7 | K18: =IF(H18<>"",1,0) -> 0 | L18: =IF(C18="その他",1,"")
A19: 8 | K19: =IF(H19<>"",1,0) -> 0 | L19: =IF(C19="その他",1,"")
A20: 9 | K20: =IF(H20<>"",1,0) -> 0 | L20: =IF(C20="その他",1,"")
A21: 10 | K21: =IF(H21<>"",1,0) -> 0 | L21: =IF(C21="その他",1,"")
A22: 11 | K22: =IF(H22<>"",1,0) -> 0 | L22: =IF(C22="その他",1,"")
A23: 12 | K23: =IF(H23<>"",1,0) -> 0 | L23: =IF(C23="その他",1,"")
A24: 13 | K24: =IF(H24<>"",1,0) -> 0 | L24: =IF(C24="その他",1,"")
A25: 14 | K25: =IF(H25<>"",1,0) -> 0 | L25: =IF(C25="その他",1,"")
A26: 15 | K26: =IF(H26<>"",1,0) -> 0 | L26: =IF(SUMIF(C13:C26,"【職員処遇改善費のみ対象】園内研修",I12:I26)>VLOOKUP(C6,M26:N28,2,FALSE),VLOOKUP(C6,M26:N28,2,FALSE)-SUMIF(C13:C26,"【職員処遇改善費のみ対象】園内研修",I12:I26),"") -> #N/A | M26: 園内研修 | N26: 4
B27: 【留意事項】
B28: (1) 「修了年月日」は、研修修了証の年月日又は研修を受講した年月日を記入する。
B29: (2) 幼稚園又は認定こども園に勤務していた者は幼稚園教育要領等を踏まえて教育の質を高めるための知識・技術の向上を目的とした研修を15時間以上受講していた 場合、１分野修了とできる。できるだけ速やかに保育士等キャリアアップ研修の受講を促すこと。
B30: (3) 保育実践研修は平成29年度から令和元年度までに実施されたものに限り含めることができる。 マネジメント研修は平成29年度から令和元年度までに実施されたものに限り専門分野別研修に含めることができる。(副主任保育士は令和２年度以降も含めることができる。)
B31: (4) 研修受講履歴一覧の内容を確認できる資料（保育士等キャリアアップ研修修了証の写等）を施設において保管すること。
B32: (5) 行が足りない場合は、No２～14の行を選択し挿入すること。
B33: (6) 区分３の対象となる研修は「施設型給付費等に係る処遇改善等加算（区分３）に係る研修修了要件について」（令和７年９月16日付けこ成基202 ７初幼教第４号こども家庭庁成育局 保育政策課長、こども家庭庁成育局成育基盤企画課長及び文部科学省初等中等教育局幼児教育課長連盟通知）の記載に基づくものとする。 職員処遇改善費の対象となる研修は「横浜市処遇改善等加算取扱要領」（平成27年４月１日付けこ保運第１号）の記載に基づくものとする。
B34: (7) 保育士等キャリアアップ研修は「保育士等キャリアアップ研修の実施について」（平成29年４月１日付け雇児保発０４０１第１号厚生労働省雇用均等・児童家庭局保育課長通知） の記載に基づくものが対象となる。実施主体は「都道府県又は都道府県知事の指定した研修実施機関」とする。

Sheet ②名簿53
A1: 第５号様式の１ | D1: 令和 ８ 年度 研修受講履歴一覧 名簿（保育所・地域型保育事業所）
G3: 所在区 | H3: =①集計表!H4 -> #N/A
G4: 施設・事業所種別 | H4: =①集計表!H5 -> #N/A
G5: 施設・事業所番号 | H5: =①集計表!H6 -> 0
B6: 職位 | G6: 施設・事業所名 | H6: =①集計表!H7 -> #N/A
B7: 氏名 | G7: 代表者職・氏名 | H7: =①集計表!H8 -> 0
B8: 幼稚園又は認定こども園に勤務していた者 | E8: ↓マネジメント分野の修了チェック↓ | L8: 開始日（データの入力規則用）
E9: =IF($C$6="","職位を選択してください",IF(ISNUMBER(SEARCH("副主任保育士",C6)),IF(COUNTIF(H:H,"マネジメント研修")>0,"必修数を満たしています","区分３（人数Ａ）対象者は、マネジメント分野（1分野）必修です。入力してください。"),IF(ISNUMBER(SEARCH("職員処遇",C6)),"必修ではありません。","必修ではありません。令和２年３月31日までの修了分は算定可能です。"))) -> 職位を選択してください | L9: キャリアアップ研修 | M9: 42826
A10: 区分３及び職員処遇改善費の対象と認められる研修のみ入力してください（下記(6)参照）。そのうち、キャリアアップ研修が対象か否かについては最下部(7)を参照のうえ、不明な場合は実施主体に必ず確認してください。
A11: No | B11: 各行最後に入力 修了年月日 (例:R2.6.1) ※研修種別～ 研修分野 を入力後に入力してください。 | C11: 研修種別 | D11: 実施主体 ※研修種別を入力後に選択してください | F11: 講義名・テーマ | G11: 修了証番号 | H11: 研修分野 ※職位を入力後に選択してください | I11: 横浜市（区）主催研修等の 修了時間数 （単位：時間） | J11: 備考 | L11: 修了年月日 （データの入力規則用）
A12: 1 | L12: 保育実践 マネジメント | M12: 43921
A13: 2 | K13: =IF(H13<>"",1,0) -> 0 | L13: それ以外の研修 | M13: 45382
A14: 3 | K14: =IF(H14<>"",1,0) -> 0 | L14: =IF(C14="その他",1,"")
A15: 4 | K15: =IF(H15<>"",1,0) -> 0 | L15: =IF(C15="その他",1,"")
A16: 5 | K16: =IF(H16<>"",1,0) -> 0 | L16: =IF(C16="その他",1,"")
A17: 6 | K17: =IF(H17<>"",1,0) -> 0 | L17: =IF(C17="その他",1,"")
A18: 7 | K18: =IF(H18<>"",1,0) -> 0 | L18: =IF(C18="その他",1,"")
A19: 8 | K19: =IF(H19<>"",1,0) -> 0 | L19: =IF(C19="その他",1,"")
A20: 9 | K20: =IF(H20<>"",1,0) -> 0 | L20: =IF(C20="その他",1,"")
A21: 10 | K21: =IF(H21<>"",1,0) -> 0 | L21: =IF(C21="その他",1,"")
A22: 11 | K22: =IF(H22<>"",1,0) -> 0 | L22: =IF(C22="その他",1,"")
A23: 12 | K23: =IF(H23<>"",1,0) -> 0 | L23: =IF(C23="その他",1,"")
A24: 13 | K24: =IF(H24<>"",1,0) -> 0 | L24: =IF(C24="その他",1,"")
A25: 14 | K25: =IF(H25<>"",1,0) -> 0 | L25: =IF(C25="その他",1,"")
A26: 15 | K26: =IF(H26<>"",1,0) -> 0 | L26: =IF(SUMIF(C13:C26,"【職員処遇改善費のみ対象】園内研修",I12:I26)>VLOOKUP(C6,M26:N28,2,FALSE),VLOOKUP(C6,M26:N28,2,FALSE)-SUMIF(C13:C26,"【職員処遇改善費のみ対象】園内研修",I12:I26),"") -> #N/A | M26: 園内研修 | N26: 4
B27: 【留意事項】
B28: (1) 「修了年月日」は、研修修了証の年月日又は研修を受講した年月日を記入する。
B29: (2) 幼稚園又は認定こども園に勤務していた者は幼稚園教育要領等を踏まえて教育の質を高めるための知識・技術の向上を目的とした研修を15時間以上受講していた 場合、１分野修了とできる。できるだけ速やかに保育士等キャリアアップ研修の受講を促すこと。
B30: (3) 保育実践研修は平成29年度から令和元年度までに実施されたものに限り含めることができる。 マネジメント研修は平成29年度から令和元年度までに実施されたものに限り専門分野別研修に含めることができる。(副主任保育士は令和２年度以降も含めることができる。)
B31: (4) 研修受講履歴一覧の内容を確認できる資料（保育士等キャリアアップ研修修了証の写等）を施設において保管すること。
B32: (5) 行が足りない場合は、No２～14の行を選択し挿入すること。
B33: (6) 区分３の対象となる研修は「施設型給付費等に係る処遇改善等加算（区分３）に係る研修修了要件について」（令和７年９月16日付けこ成基202 ７初幼教第４号こども家庭庁成育局 保育政策課長、こども家庭庁成育局成育基盤企画課長及び文部科学省初等中等教育局幼児教育課長連盟通知）の記載に基づくものとする。 職員処遇改善費の対象となる研修は「横浜市処遇改善等加算取扱要領」（平成27年４月１日付けこ保運第１号）の記載に基づくものとする。
B34: (7) 保育士等キャリアアップ研修は「保育士等キャリアアップ研修の実施について」（平成29年４月１日付け雇児保発０４０１第１号厚生労働省雇用均等・児童家庭局保育課長通知） の記載に基づくものが対象となる。実施主体は「都道府県又は都道府県知事の指定した研修実施機関」とする。

Sheet ②名簿54
A1: 第５号様式の１ | D1: 令和 ８ 年度 研修受講履歴一覧 名簿（保育所・地域型保育事業所）
G3: 所在区 | H3: =①集計表!H4 -> #N/A
G4: 施設・事業所種別 | H4: =①集計表!H5 -> #N/A
G5: 施設・事業所番号 | H5: =①集計表!H6 -> 0
B6: 職位 | G6: 施設・事業所名 | H6: =①集計表!H7 -> #N/A
B7: 氏名 | G7: 代表者職・氏名 | H7: =①集計表!H8 -> 0
B8: 幼稚園又は認定こども園に勤務していた者 | E8: ↓マネジメント分野の修了チェック↓ | L8: 開始日（データの入力規則用）
E9: =IF($C$6="","職位を選択してください",IF(ISNUMBER(SEARCH("副主任保育士",C6)),IF(COUNTIF(H:H,"マネジメント研修")>0,"必修数を満たしています","区分３（人数Ａ）対象者は、マネジメント分野（1分野）必修です。入力してください。"),IF(ISNUMBER(SEARCH("職員処遇",C6)),"必修ではありません。","必修ではありません。令和２年３月31日までの修了分は算定可能です。"))) -> 職位を選択してください | L9: キャリアアップ研修 | M9: 42826
A10: 区分３及び職員処遇改善費の対象と認められる研修のみ入力してください（下記(6)参照）。そのうち、キャリアアップ研修が対象か否かについては最下部(7)を参照のうえ、不明な場合は実施主体に必ず確認してください。
A11: No | B11: 各行最後に入力 修了年月日 (例:R2.6.1) ※研修種別～ 研修分野 を入力後に入力してください。 | C11: 研修種別 | D11: 実施主体 ※研修種別を入力後に選択してください | F11: 講義名・テーマ | G11: 修了証番号 | H11: 研修分野 ※職位を入力後に選択してください | I11: 横浜市（区）主催研修等の 修了時間数 （単位：時間） | J11: 備考 | L11: 修了年月日 （データの入力規則用）
A12: 1 | L12: 保育実践 マネジメント | M12: 43921
A13: 2 | K13: =IF(H13<>"",1,0) -> 0 | L13: それ以外の研修 | M13: 45382
A14: 3 | K14: =IF(H14<>"",1,0) -> 0 | L14: =IF(C14="その他",1,"")
A15: 4 | K15: =IF(H15<>"",1,0) -> 0 | L15: =IF(C15="その他",1,"")
A16: 5 | K16: =IF(H16<>"",1,0) -> 0 | L16: =IF(C16="その他",1,"")
A17: 6 | K17: =IF(H17<>"",1,0) -> 0 | L17: =IF(C17="その他",1,"")
A18: 7 | K18: =IF(H18<>"",1,0) -> 0 | L18: =IF(C18="その他",1,"")
A19: 8 | K19: =IF(H19<>"",1,0) -> 0 | L19: =IF(C19="その他",1,"")
A20: 9 | K20: =IF(H20<>"",1,0) -> 0 | L20: =IF(C20="その他",1,"")
A21: 10 | K21: =IF(H21<>"",1,0) -> 0 | L21: =IF(C21="その他",1,"")
A22: 11 | K22: =IF(H22<>"",1,0) -> 0 | L22: =IF(C22="その他",1,"")
A23: 12 | K23: =IF(H23<>"",1,0) -> 0 | L23: =IF(C23="その他",1,"")
A24: 13 | K24: =IF(H24<>"",1,0) -> 0 | L24: =IF(C24="その他",1,"")
A25: 14 | K25: =IF(H25<>"",1,0) -> 0 | L25: =IF(C25="その他",1,"")
A26: 15 | K26: =IF(H26<>"",1,0) -> 0 | L26: =IF(SUMIF(C13:C26,"【職員処遇改善費のみ対象】園内研修",I12:I26)>VLOOKUP(C6,M26:N28,2,FALSE),VLOOKUP(C6,M26:N28,2,FALSE)-SUMIF(C13:C26,"【職員処遇改善費のみ対象】園内研修",I12:I26),"") -> #N/A | M26: 園内研修 | N26: 4
B27: 【留意事項】
B28: (1) 「修了年月日」は、研修修了証の年月日又は研修を受講した年月日を記入する。
B29: (2) 幼稚園又は認定こども園に勤務していた者は幼稚園教育要領等を踏まえて教育の質を高めるための知識・技術の向上を目的とした研修を15時間以上受講していた 場合、１分野修了とできる。できるだけ速やかに保育士等キャリアアップ研修の受講を促すこと。
B30: (3) 保育実践研修は平成29年度から令和元年度までに実施されたものに限り含めることができる。 マネジメント研修は平成29年度から令和元年度までに実施されたものに限り専門分野別研修に含めることができる。(副主任保育士は令和２年度以降も含めることができる。)
B31: (4) 研修受講履歴一覧の内容を確認できる資料（保育士等キャリアアップ研修修了証の写等）を施設において保管すること。
B32: (5) 行が足りない場合は、No２～14の行を選択し挿入すること。
B33: (6) 区分３の対象となる研修は「施設型給付費等に係る処遇改善等加算（区分３）に係る研修修了要件について」（令和７年９月16日付けこ成基202 ７初幼教第４号こども家庭庁成育局 保育政策課長、こども家庭庁成育局成育基盤企画課長及び文部科学省初等中等教育局幼児教育課長連盟通知）の記載に基づくものとする。 職員処遇改善費の対象となる研修は「横浜市処遇改善等加算取扱要領」（平成27年４月１日付けこ保運第１号）の記載に基づくものとする。
B34: (7) 保育士等キャリアアップ研修は「保育士等キャリアアップ研修の実施について」（平成29年４月１日付け雇児保発０４０１第１号厚生労働省雇用均等・児童家庭局保育課長通知） の記載に基づくものが対象となる。実施主体は「都道府県又は都道府県知事の指定した研修実施機関」とする。

Sheet ②名簿55
A1: 第５号様式の１ | D1: 令和 ８ 年度 研修受講履歴一覧 名簿（保育所・地域型保育事業所）
G3: 所在区 | H3: =①集計表!H4 -> #N/A
G4: 施設・事業所種別 | H4: =①集計表!H5 -> #N/A
G5: 施設・事業所番号 | H5: =①集計表!H6 -> 0
B6: 職位 | G6: 施設・事業所名 | H6: =①集計表!H7 -> #N/A
B7: 氏名 | G7: 代表者職・氏名 | H7: =①集計表!H8 -> 0
B8: 幼稚園又は認定こども園に勤務していた者 | E8: ↓マネジメント分野の修了チェック↓ | L8: 開始日（データの入力規則用）
E9: =IF($C$6="","職位を選択してください",IF(ISNUMBER(SEARCH("副主任保育士",C6)),IF(COUNTIF(H:H,"マネジメント研修")>0,"必修数を満たしています","区分３（人数Ａ）対象者は、マネジメント分野（1分野）必修です。入力してください。"),IF(ISNUMBER(SEARCH("職員処遇",C6)),"必修ではありません。","必修ではありません。令和２年３月31日までの修了分は算定可能です。"))) -> 職位を選択してください | L9: キャリアアップ研修 | M9: 42826
A10: 区分３及び職員処遇改善費の対象と認められる研修のみ入力してください（下記(6)参照）。そのうち、キャリアアップ研修が対象か否かについては最下部(7)を参照のうえ、不明な場合は実施主体に必ず確認してください。
A11: No | B11: 各行最後に入力 修了年月日 (例:R2.6.1) ※研修種別～ 研修分野 を入力後に入力してください。 | C11: 研修種別 | D11: 実施主体 ※研修種別を入力後に選択してください | F11: 講義名・テーマ | G11: 修了証番号 | H11: 研修分野 ※職位を入力後に選択してください | I11: 横浜市（区）主催研修等の 修了時間数 （単位：時間） | J11: 備考 | L11: 修了年月日 （データの入力規則用）
A12: 1 | L12: 保育実践 マネジメント | M12: 43921
A13: 2 | K13: =IF(H13<>"",1,0) -> 0 | L13: それ以外の研修 | M13: 45382
A14: 3 | K14: =IF(H14<>"",1,0) -> 0 | L14: =IF(C14="その他",1,"")
A15: 4 | K15: =IF(H15<>"",1,0) -> 0 | L15: =IF(C15="その他",1,"")
A16: 5 | K16: =IF(H16<>"",1,0) -> 0 | L16: =IF(C16="その他",1,"")
A17: 6 | K17: =IF(H17<>"",1,0) -> 0 | L17: =IF(C17="その他",1,"")
A18: 7 | K18: =IF(H18<>"",1,0) -> 0 | L18: =IF(C18="その他",1,"")
A19: 8 | K19: =IF(H19<>"",1,0) -> 0 | L19: =IF(C19="その他",1,"")
A20: 9 | K20: =IF(H20<>"",1,0) -> 0 | L20: =IF(C20="その他",1,"")
A21: 10 | K21: =IF(H21<>"",1,0) -> 0 | L21: =IF(C21="その他",1,"")
A22: 11 | K22: =IF(H22<>"",1,0) -> 0 | L22: =IF(C22="その他",1,"")
A23: 12 | K23: =IF(H23<>"",1,0) -> 0 | L23: =IF(C23="その他",1,"")
A24: 13 | K24: =IF(H24<>"",1,0) -> 0 | L24: =IF(C24="その他",1,"")
A25: 14 | K25: =IF(H25<>"",1,0) -> 0 | L25: =IF(C25="その他",1,"")
A26: 15 | K26: =IF(H26<>"",1,0) -> 0 | L26: =IF(SUMIF(C13:C26,"【職員処遇改善費のみ対象】園内研修",I12:I26)>VLOOKUP(C6,M26:N28,2,FALSE),VLOOKUP(C6,M26:N28,2,FALSE)-SUMIF(C13:C26,"【職員処遇改善費のみ対象】園内研修",I12:I26),"") -> #N/A | M26: 園内研修 | N26: 4
B27: 【留意事項】
B28: (1) 「修了年月日」は、研修修了証の年月日又は研修を受講した年月日を記入する。
B29: (2) 幼稚園又は認定こども園に勤務していた者は幼稚園教育要領等を踏まえて教育の質を高めるための知識・技術の向上を目的とした研修を15時間以上受講していた 場合、１分野修了とできる。できるだけ速やかに保育士等キャリアアップ研修の受講を促すこと。
B30: (3) 保育実践研修は平成29年度から令和元年度までに実施されたものに限り含めることができる。 マネジメント研修は平成29年度から令和元年度までに実施されたものに限り専門分野別研修に含めることができる。(副主任保育士は令和２年度以降も含めることができる。)
B31: (4) 研修受講履歴一覧の内容を確認できる資料（保育士等キャリアアップ研修修了証の写等）を施設において保管すること。
B32: (5) 行が足りない場合は、No２～14の行を選択し挿入すること。
B33: (6) 区分３の対象となる研修は「施設型給付費等に係る処遇改善等加算（区分３）に係る研修修了要件について」（令和７年９月16日付けこ成基202 ７初幼教第４号こども家庭庁成育局 保育政策課長、こども家庭庁成育局成育基盤企画課長及び文部科学省初等中等教育局幼児教育課長連盟通知）の記載に基づくものとする。 職員処遇改善費の対象となる研修は「横浜市処遇改善等加算取扱要領」（平成27年４月１日付けこ保運第１号）の記載に基づくものとする。
B34: (7) 保育士等キャリアアップ研修は「保育士等キャリアアップ研修の実施について」（平成29年４月１日付け雇児保発０４０１第１号厚生労働省雇用均等・児童家庭局保育課長通知） の記載に基づくものが対象となる。実施主体は「都道府県又は都道府県知事の指定した研修実施機関」とする。

Sheet ②名簿56
A1: 第５号様式の１ | D1: 令和 ８ 年度 研修受講履歴一覧 名簿（保育所・地域型保育事業所）
G3: 所在区 | H3: =①集計表!H4 -> #N/A
G4: 施設・事業所種別 | H4: =①集計表!H5 -> #N/A
G5: 施設・事業所番号 | H5: =①集計表!H6 -> 0
B6: 職位 | G6: 施設・事業所名 | H6: =①集計表!H7 -> #N/A
B7: 氏名 | G7: 代表者職・氏名 | H7: =①集計表!H8 -> 0
B8: 幼稚園又は認定こども園に勤務していた者 | E8: ↓マネジメント分野の修了チェック↓ | L8: 開始日（データの入力規則用）
E9: =IF($C$6="","職位を選択してください",IF(ISNUMBER(SEARCH("副主任保育士",C6)),IF(COUNTIF(H:H,"マネジメント研修")>0,"必修数を満たしています","区分３（人数Ａ）対象者は、マネジメント分野（1分野）必修です。入力してください。"),IF(ISNUMBER(SEARCH("職員処遇",C6)),"必修ではありません。","必修ではありません。令和２年３月31日までの修了分は算定可能です。"))) -> 職位を選択してください | L9: キャリアアップ研修 | M9: 42826
A10: 区分３及び職員処遇改善費の対象と認められる研修のみ入力してください（下記(6)参照）。そのうち、キャリアアップ研修が対象か否かについては最下部(7)を参照のうえ、不明な場合は実施主体に必ず確認してください。
A11: No | B11: 各行最後に入力 修了年月日 (例:R2.6.1) ※研修種別～ 研修分野 を入力後に入力してください。 | C11: 研修種別 | D11: 実施主体 ※研修種別を入力後に選択してください | F11: 講義名・テーマ | G11: 修了証番号 | H11: 研修分野 ※職位を入力後に選択してください | I11: 横浜市（区）主催研修等の 修了時間数 （単位：時間） | J11: 備考 | L11: 修了年月日 （データの入力規則用）
A12: 1 | L12: 保育実践 マネジメント | M12: 43921
A13: 2 | K13: =IF(H13<>"",1,0) -> 0 | L13: それ以外の研修 | M13: 45382
A14: 3 | K14: =IF(H14<>"",1,0) -> 0 | L14: =IF(C14="その他",1,"")
A15: 4 | K15: =IF(H15<>"",1,0) -> 0 | L15: =IF(C15="その他",1,"")
A16: 5 | K16: =IF(H16<>"",1,0) -> 0 | L16: =IF(C16="その他",1,"")
A17: 6 | K17: =IF(H17<>"",1,0) -> 0 | L17: =IF(C17="その他",1,"")
A18: 7 | K18: =IF(H18<>"",1,0) -> 0 | L18: =IF(C18="その他",1,"")
A19: 8 | K19: =IF(H19<>"",1,0) -> 0 | L19: =IF(C19="その他",1,"")
A20: 9 | K20: =IF(H20<>"",1,0) -> 0 | L20: =IF(C20="その他",1,"")
A21: 10 | K21: =IF(H21<>"",1,0) -> 0 | L21: =IF(C21="その他",1,"")
A22: 11 | K22: =IF(H22<>"",1,0) -> 0 | L22: =IF(C22="その他",1,"")
A23: 12 | K23: =IF(H23<>"",1,0) -> 0 | L23: =IF(C23="その他",1,"")
A24: 13 | K24: =IF(H24<>"",1,0) -> 0 | L24: =IF(C24="その他",1,"")
A25: 14 | K25: =IF(H25<>"",1,0) -> 0 | L25: =IF(C25="その他",1,"")
A26: 15 | K26: =IF(H26<>"",1,0) -> 0 | L26: =IF(SUMIF(C13:C26,"【職員処遇改善費のみ対象】園内研修",I12:I26)>VLOOKUP(C6,M26:N28,2,FALSE),VLOOKUP(C6,M26:N28,2,FALSE)-SUMIF(C13:C26,"【職員処遇改善費のみ対象】園内研修",I12:I26),"") -> #N/A | M26: 園内研修 | N26: 4
B27: 【留意事項】
B28: (1) 「修了年月日」は、研修修了証の年月日又は研修を受講した年月日を記入する。
B29: (2) 幼稚園又は認定こども園に勤務していた者は幼稚園教育要領等を踏まえて教育の質を高めるための知識・技術の向上を目的とした研修を15時間以上受講していた 場合、１分野修了とできる。できるだけ速やかに保育士等キャリアアップ研修の受講を促すこと。
B30: (3) 保育実践研修は平成29年度から令和元年度までに実施されたものに限り含めることができる。 マネジメント研修は平成29年度から令和元年度までに実施されたものに限り専門分野別研修に含めることができる。(副主任保育士は令和２年度以降も含めることができる。)
B31: (4) 研修受講履歴一覧の内容を確認できる資料（保育士等キャリアアップ研修修了証の写等）を施設において保管すること。
B32: (5) 行が足りない場合は、No２～14の行を選択し挿入すること。
B33: (6) 区分３の対象となる研修は「施設型給付費等に係る処遇改善等加算（区分３）に係る研修修了要件について」（令和７年９月16日付けこ成基202 ７初幼教第４号こども家庭庁成育局 保育政策課長、こども家庭庁成育局成育基盤企画課長及び文部科学省初等中等教育局幼児教育課長連盟通知）の記載に基づくものとする。 職員処遇改善費の対象となる研修は「横浜市処遇改善等加算取扱要領」（平成27年４月１日付けこ保運第１号）の記載に基づくものとする。
B34: (7) 保育士等キャリアアップ研修は「保育士等キャリアアップ研修の実施について」（平成29年４月１日付け雇児保発０４０１第１号厚生労働省雇用均等・児童家庭局保育課長通知） の記載に基づくものが対象となる。実施主体は「都道府県又は都道府県知事の指定した研修実施機関」とする。

Sheet ②名簿57
A1: 第５号様式の１ | D1: 令和 ８ 年度 研修受講履歴一覧 名簿（保育所・地域型保育事業所）
G3: 所在区 | H3: =①集計表!H4 -> #N/A
G4: 施設・事業所種別 | H4: =①集計表!H5 -> #N/A
G5: 施設・事業所番号 | H5: =①集計表!H6 -> 0
B6: 職位 | G6: 施設・事業所名 | H6: =①集計表!H7 -> #N/A
B7: 氏名 | G7: 代表者職・氏名 | H7: =①集計表!H8 -> 0
B8: 幼稚園又は認定こども園に勤務していた者 | E8: ↓マネジメント分野の修了チェック↓ | L8: 開始日（データの入力規則用）
E9: =IF($C$6="","職位を選択してください",IF(ISNUMBER(SEARCH("副主任保育士",C6)),IF(COUNTIF(H:H,"マネジメント研修")>0,"必修数を満たしています","区分３（人数Ａ）対象者は、マネジメント分野（1分野）必修です。入力してください。"),IF(ISNUMBER(SEARCH("職員処遇",C6)),"必修ではありません。","必修ではありません。令和２年３月31日までの修了分は算定可能です。"))) -> 職位を選択してください | L9: キャリアアップ研修 | M9: 42826
A10: 区分３及び職員処遇改善費の対象と認められる研修のみ入力してください（下記(6)参照）。そのうち、キャリアアップ研修が対象か否かについては最下部(7)を参照のうえ、不明な場合は実施主体に必ず確認してください。
A11: No | B11: 各行最後に入力 修了年月日 (例:R2.6.1) ※研修種別～ 研修分野 を入力後に入力してください。 | C11: 研修種別 | D11: 実施主体 ※研修種別を入力後に選択してください | F11: 講義名・テーマ | G11: 修了証番号 | H11: 研修分野 ※職位を入力後に選択してください | I11: 横浜市（区）主催研修等の 修了時間数 （単位：時間） | J11: 備考 | L11: 修了年月日 （データの入力規則用）
A12: 1 | L12: 保育実践 マネジメント | M12: 43921
A13: 2 | K13: =IF(H13<>"",1,0) -> 0 | L13: それ以外の研修 | M13: 45382
A14: 3 | K14: =IF(H14<>"",1,0) -> 0 | L14: =IF(C14="その他",1,"")
A15: 4 | K15: =IF(H15<>"",1,0) -> 0 | L15: =IF(C15="その他",1,"")
A16: 5 | K16: =IF(H16<>"",1,0) -> 0 | L16: =IF(C16="その他",1,"")
A17: 6 | K17: =IF(H17<>"",1,0) -> 0 | L17: =IF(C17="その他",1,"")
A18: 7 | K18: =IF(H18<>"",1,0) -> 0 | L18: =IF(C18="その他",1,"")
A19: 8 | K19: =IF(H19<>"",1,0) -> 0 | L19: =IF(C19="その他",1,"")
A20: 9 | K20: =IF(H20<>"",1,0) -> 0 | L20: =IF(C20="その他",1,"")
A21: 10 | K21: =IF(H21<>"",1,0) -> 0 | L21: =IF(C21="その他",1,"")
A22: 11 | K22: =IF(H22<>"",1,0) -> 0 | L22: =IF(C22="その他",1,"")
A23: 12 | K23: =IF(H23<>"",1,0) -> 0 | L23: =IF(C23="その他",1,"")
A24: 13 | K24: =IF(H24<>"",1,0) -> 0 | L24: =IF(C24="その他",1,"")
A25: 14 | K25: =IF(H25<>"",1,0) -> 0 | L25: =IF(C25="その他",1,"")
A26: 15 | K26: =IF(H26<>"",1,0) -> 0 | L26: =IF(SUMIF(C13:C26,"【職員処遇改善費のみ対象】園内研修",I12:I26)>VLOOKUP(C6,M26:N28,2,FALSE),VLOOKUP(C6,M26:N28,2,FALSE)-SUMIF(C13:C26,"【職員処遇改善費のみ対象】園内研修",I12:I26),"") -> #N/A | M26: 園内研修 | N26: 4
B27: 【留意事項】
B28: (1) 「修了年月日」は、研修修了証の年月日又は研修を受講した年月日を記入する。
B29: (2) 幼稚園又は認定こども園に勤務していた者は幼稚園教育要領等を踏まえて教育の質を高めるための知識・技術の向上を目的とした研修を15時間以上受講していた 場合、１分野修了とできる。できるだけ速やかに保育士等キャリアアップ研修の受講を促すこと。
B30: (3) 保育実践研修は平成29年度から令和元年度までに実施されたものに限り含めることができる。 マネジメント研修は平成29年度から令和元年度までに実施されたものに限り専門分野別研修に含めることができる。(副主任保育士は令和２年度以降も含めることができる。)
B31: (4) 研修受講履歴一覧の内容を確認できる資料（保育士等キャリアアップ研修修了証の写等）を施設において保管すること。
B32: (5) 行が足りない場合は、No２～14の行を選択し挿入すること。
B33: (6) 区分３の対象となる研修は「施設型給付費等に係る処遇改善等加算（区分３）に係る研修修了要件について」（令和７年９月16日付けこ成基202 ７初幼教第４号こども家庭庁成育局 保育政策課長、こども家庭庁成育局成育基盤企画課長及び文部科学省初等中等教育局幼児教育課長連盟通知）の記載に基づくものとする。 職員処遇改善費の対象となる研修は「横浜市処遇改善等加算取扱要領」（平成27年４月１日付けこ保運第１号）の記載に基づくものとする。
B34: (7) 保育士等キャリアアップ研修は「保育士等キャリアアップ研修の実施について」（平成29年４月１日付け雇児保発０４０１第１号厚生労働省雇用均等・児童家庭局保育課長通知） の記載に基づくものが対象となる。実施主体は「都道府県又は都道府県知事の指定した研修実施機関」とする。

Sheet ②名簿58
A1: 第５号様式の１ | D1: 令和 ８ 年度 研修受講履歴一覧 名簿（保育所・地域型保育事業所）
G3: 所在区 | H3: =①集計表!H4 -> #N/A
G4: 施設・事業所種別 | H4: =①集計表!H5 -> #N/A
G5: 施設・事業所番号 | H5: =①集計表!H6 -> 0
B6: 職位 | G6: 施設・事業所名 | H6: =①集計表!H7 -> #N/A
B7: 氏名 | G7: 代表者職・氏名 | H7: =①集計表!H8 -> 0
B8: 幼稚園又は認定こども園に勤務していた者 | E8: ↓マネジメント分野の修了チェック↓ | L8: 開始日（データの入力規則用）
E9: =IF($C$6="","職位を選択してください",IF(ISNUMBER(SEARCH("副主任保育士",C6)),IF(COUNTIF(H:H,"マネジメント研修")>0,"必修数を満たしています","区分３（人数Ａ）対象者は、マネジメント分野（1分野）必修です。入力してください。"),IF(ISNUMBER(SEARCH("職員処遇",C6)),"必修ではありません。","必修ではありません。令和２年３月31日までの修了分は算定可能です。"))) -> 職位を選択してください | L9: キャリアアップ研修 | M9: 42826
A10: 区分３及び職員処遇改善費の対象と認められる研修のみ入力してください（下記(6)参照）。そのうち、キャリアアップ研修が対象か否かについては最下部(7)を参照のうえ、不明な場合は実施主体に必ず確認してください。
A11: No | B11: 各行最後に入力 修了年月日 (例:R2.6.1) ※研修種別～ 研修分野 を入力後に入力してください。 | C11: 研修種別 | D11: 実施主体 ※研修種別を入力後に選択してください | F11: 講義名・テーマ | G11: 修了証番号 | H11: 研修分野 ※職位を入力後に選択してください | I11: 横浜市（区）主催研修等の 修了時間数 （単位：時間） | J11: 備考 | L11: 修了年月日 （データの入力規則用）
A12: 1 | L12: 保育実践 マネジメント | M12: 43921
A13: 2 | K13: =IF(H13<>"",1,0) -> 0 | L13: それ以外の研修 | M13: 45382
A14: 3 | K14: =IF(H14<>"",1,0) -> 0 | L14: =IF(C14="その他",1,"")
A15: 4 | K15: =IF(H15<>"",1,0) -> 0 | L15: =IF(C15="その他",1,"")
A16: 5 | K16: =IF(H16<>"",1,0) -> 0 | L16: =IF(C16="その他",1,"")
A17: 6 | K17: =IF(H17<>"",1,0) -> 0 | L17: =IF(C17="その他",1,"")
A18: 7 | K18: =IF(H18<>"",1,0) -> 0 | L18: =IF(C18="その他",1,"")
A19: 8 | K19: =IF(H19<>"",1,0) -> 0 | L19: =IF(C19="その他",1,"")
A20: 9 | K20: =IF(H20<>"",1,0) -> 0 | L20: =IF(C20="その他",1,"")
A21: 10 | K21: =IF(H21<>"",1,0) -> 0 | L21: =IF(C21="その他",1,"")
A22: 11 | K22: =IF(H22<>"",1,0) -> 0 | L22: =IF(C22="その他",1,"")
A23: 12 | K23: =IF(H23<>"",1,0) -> 0 | L23: =IF(C23="その他",1,"")
A24: 13 | K24: =IF(H24<>"",1,0) -> 0 | L24: =IF(C24="その他",1,"")
A25: 14 | K25: =IF(H25<>"",1,0) -> 0 | L25: =IF(C25="その他",1,"")
A26: 15 | K26: =IF(H26<>"",1,0) -> 0 | L26: =IF(SUMIF(C13:C26,"【職員処遇改善費のみ対象】園内研修",I12:I26)>VLOOKUP(C6,M26:N28,2,FALSE),VLOOKUP(C6,M26:N28,2,FALSE)-SUMIF(C13:C26,"【職員処遇改善費のみ対象】園内研修",I12:I26),"") -> #N/A | M26: 園内研修 | N26: 4
B27: 【留意事項】
B28: (1) 「修了年月日」は、研修修了証の年月日又は研修を受講した年月日を記入する。
B29: (2) 幼稚園又は認定こども園に勤務していた者は幼稚園教育要領等を踏まえて教育の質を高めるための知識・技術の向上を目的とした研修を15時間以上受講していた 場合、１分野修了とできる。できるだけ速やかに保育士等キャリアアップ研修の受講を促すこと。
B30: (3) 保育実践研修は平成29年度から令和元年度までに実施されたものに限り含めることができる。 マネジメント研修は平成29年度から令和元年度までに実施されたものに限り専門分野別研修に含めることができる。(副主任保育士は令和２年度以降も含めることができる。)
B31: (4) 研修受講履歴一覧の内容を確認できる資料（保育士等キャリアアップ研修修了証の写等）を施設において保管すること。
B32: (5) 行が足りない場合は、No２～14の行を選択し挿入すること。
B33: (6) 区分３の対象となる研修は「施設型給付費等に係る処遇改善等加算（区分３）に係る研修修了要件について」（令和７年９月16日付けこ成基202 ７初幼教第４号こども家庭庁成育局 保育政策課長、こども家庭庁成育局成育基盤企画課長及び文部科学省初等中等教育局幼児教育課長連盟通知）の記載に基づくものとする。 職員処遇改善費の対象となる研修は「横浜市処遇改善等加算取扱要領」（平成27年４月１日付けこ保運第１号）の記載に基づくものとする。
B34: (7) 保育士等キャリアアップ研修は「保育士等キャリアアップ研修の実施について」（平成29年４月１日付け雇児保発０４０１第１号厚生労働省雇用均等・児童家庭局保育課長通知） の記載に基づくものが対象となる。実施主体は「都道府県又は都道府県知事の指定した研修実施機関」とする。

Sheet ②名簿59
A1: 第５号様式の１ | D1: 令和 ８ 年度 研修受講履歴一覧 名簿（保育所・地域型保育事業所）
G3: 所在区 | H3: =①集計表!H4 -> #N/A
G4: 施設・事業所種別 | H4: =①集計表!H5 -> #N/A
G5: 施設・事業所番号 | H5: =①集計表!H6 -> 0
B6: 職位 | G6: 施設・事業所名 | H6: =①集計表!H7 -> #N/A
B7: 氏名 | G7: 代表者職・氏名 | H7: =①集計表!H8 -> 0
B8: 幼稚園又は認定こども園に勤務していた者 | E8: ↓マネジメント分野の修了チェック↓ | L8: 開始日（データの入力規則用）
E9: =IF($C$6="","職位を選択してください",IF(ISNUMBER(SEARCH("副主任保育士",C6)),IF(COUNTIF(H:H,"マネジメント研修")>0,"必修数を満たしています","区分３（人数Ａ）対象者は、マネジメント分野（1分野）必修です。入力してください。"),IF(ISNUMBER(SEARCH("職員処遇",C6)),"必修ではありません。","必修ではありません。令和２年３月31日までの修了分は算定可能です。"))) -> 職位を選択してください | L9: キャリアアップ研修 | M9: 42826
A10: 区分３及び職員処遇改善費の対象と認められる研修のみ入力してください（下記(6)参照）。そのうち、キャリアアップ研修が対象か否かについては最下部(7)を参照のうえ、不明な場合は実施主体に必ず確認してください。
A11: No | B11: 各行最後に入力 修了年月日 (例:R2.6.1) ※研修種別～ 研修分野 を入力後に入力してください。 | C11: 研修種別 | D11: 実施主体 ※研修種別を入力後に選択してください | F11: 講義名・テーマ | G11: 修了証番号 | H11: 研修分野 ※職位を入力後に選択してください | I11: 横浜市（区）主催研修等の 修了時間数 （単位：時間） | J11: 備考 | L11: 修了年月日 （データの入力規則用）
A12: 1 | L12: 保育実践 マネジメント | M12: 43921
A13: 2 | K13: =IF(H13<>"",1,0) -> 0 | L13: それ以外の研修 | M13: 45382
A14: 3 | K14: =IF(H14<>"",1,0) -> 0 | L14: =IF(C14="その他",1,"")
A15: 4 | K15: =IF(H15<>"",1,0) -> 0 | L15: =IF(C15="その他",1,"")
A16: 5 | K16: =IF(H16<>"",1,0) -> 0 | L16: =IF(C16="その他",1,"")
A17: 6 | K17: =IF(H17<>"",1,0) -> 0 | L17: =IF(C17="その他",1,"")
A18: 7 | K18: =IF(H18<>"",1,0) -> 0 | L18: =IF(C18="その他",1,"")
A19: 8 | K19: =IF(H19<>"",1,0) -> 0 | L19: =IF(C19="その他",1,"")
A20: 9 | K20: =IF(H20<>"",1,0) -> 0 | L20: =IF(C20="その他",1,"")
A21: 10 | K21: =IF(H21<>"",1,0) -> 0 | L21: =IF(C21="その他",1,"")
A22: 11 | K22: =IF(H22<>"",1,0) -> 0 | L22: =IF(C22="その他",1,"")
A23: 12 | K23: =IF(H23<>"",1,0) -> 0 | L23: =IF(C23="その他",1,"")
A24: 13 | K24: =IF(H24<>"",1,0) -> 0 | L24: =IF(C24="その他",1,"")
A25: 14 | K25: =IF(H25<>"",1,0) -> 0 | L25: =IF(C25="その他",1,"")
A26: 15 | K26: =IF(H26<>"",1,0) -> 0 | L26: =IF(SUMIF(C13:C26,"【職員処遇改善費のみ対象】園内研修",I12:I26)>VLOOKUP(C6,M26:N28,2,FALSE),VLOOKUP(C6,M26:N28,2,FALSE)-SUMIF(C13:C26,"【職員処遇改善費のみ対象】園内研修",I12:I26),"") -> #N/A | M26: 園内研修 | N26: 4
B27: 【留意事項】
B28: (1) 「修了年月日」は、研修修了証の年月日又は研修を受講した年月日を記入する。
B29: (2) 幼稚園又は認定こども園に勤務していた者は幼稚園教育要領等を踏まえて教育の質を高めるための知識・技術の向上を目的とした研修を15時間以上受講していた 場合、１分野修了とできる。できるだけ速やかに保育士等キャリアアップ研修の受講を促すこと。
B30: (3) 保育実践研修は平成29年度から令和元年度までに実施されたものに限り含めることができる。 マネジメント研修は平成29年度から令和元年度までに実施されたものに限り専門分野別研修に含めることができる。(副主任保育士は令和２年度以降も含めることができる。)
B31: (4) 研修受講履歴一覧の内容を確認できる資料（保育士等キャリアアップ研修修了証の写等）を施設において保管すること。
B32: (5) 行が足りない場合は、No２～14の行を選択し挿入すること。
B33: (6) 区分３の対象となる研修は「施設型給付費等に係る処遇改善等加算（区分３）に係る研修修了要件について」（令和７年９月16日付けこ成基202 ７初幼教第４号こども家庭庁成育局 保育政策課長、こども家庭庁成育局成育基盤企画課長及び文部科学省初等中等教育局幼児教育課長連盟通知）の記載に基づくものとする。 職員処遇改善費の対象となる研修は「横浜市処遇改善等加算取扱要領」（平成27年４月１日付けこ保運第１号）の記載に基づくものとする。
B34: (7) 保育士等キャリアアップ研修は「保育士等キャリアアップ研修の実施について」（平成29年４月１日付け雇児保発０４０１第１号厚生労働省雇用均等・児童家庭局保育課長通知） の記載に基づくものが対象となる。実施主体は「都道府県又は都道府県知事の指定した研修実施機関」とする。

Sheet ②名簿60
A1: 第５号様式の１ | D1: 令和 ８ 年度 研修受講履歴一覧 名簿（保育所・地域型保育事業所）
G3: 所在区 | H3: =①集計表!H4 -> #N/A
G4: 施設・事業所種別 | H4: =①集計表!H5 -> #N/A
G5: 施設・事業所番号 | H5: =①集計表!H6 -> 0
B6: 職位 | G6: 施設・事業所名 | H6: =①集計表!H7 -> #N/A
B7: 氏名 | G7: 代表者職・氏名 | H7: =①集計表!H8 -> 0
B8: 幼稚園又は認定こども園に勤務していた者 | E8: ↓マネジメント分野の修了チェック↓ | L8: 開始日（データの入力規則用）
E9: =IF($C$6="","職位を選択してください",IF(ISNUMBER(SEARCH("副主任保育士",C6)),IF(COUNTIF(H:H,"マネジメント研修")>0,"必修数を満たしています","区分３（人数Ａ）対象者は、マネジメント分野（1分野）必修です。入力してください。"),IF(ISNUMBER(SEARCH("職員処遇",C6)),"必修ではありません。","必修ではありません。令和２年３月31日までの修了分は算定可能です。"))) -> 職位を選択してください | L9: キャリアアップ研修 | M9: 42826
A10: 区分３及び職員処遇改善費の対象と認められる研修のみ入力してください（下記(6)参照）。そのうち、キャリアアップ研修が対象か否かについては最下部(7)を参照のうえ、不明な場合は実施主体に必ず確認してください。
A11: No | B11: 各行最後に入力 修了年月日 (例:R2.6.1) ※研修種別～ 研修分野 を入力後に入力してください。 | C11: 研修種別 | D11: 実施主体 ※研修種別を入力後に選択してください | F11: 講義名・テーマ | G11: 修了証番号 | H11: 研修分野 ※職位を入力後に選択してください | I11: 横浜市（区）主催研修等の 修了時間数 （単位：時間） | J11: 備考 | L11: 修了年月日 （データの入力規則用）
A12: 1 | L12: 保育実践 マネジメント | M12: 43921
A13: 2 | K13: =IF(H13<>"",1,0) -> 0 | L13: それ以外の研修 | M13: 45382
A14: 3 | K14: =IF(H14<>"",1,0) -> 0 | L14: =IF(C14="その他",1,"")
A15: 4 | K15: =IF(H15<>"",1,0) -> 0 | L15: =IF(C15="その他",1,"")
A16: 5 | K16: =IF(H16<>"",1,0) -> 0 | L16: =IF(C16="その他",1,"")
A17: 6 | K17: =IF(H17<>"",1,0) -> 0 | L17: =IF(C17="その他",1,"")
A18: 7 | K18: =IF(H18<>"",1,0) -> 0 | L18: =IF(C18="その他",1,"")
A19: 8 | K19: =IF(H19<>"",1,0) -> 0 | L19: =IF(C19="その他",1,"")
A20: 9 | K20: =IF(H20<>"",1,0) -> 0 | L20: =IF(C20="その他",1,"")
A21: 10 | K21: =IF(H21<>"",1,0) -> 0 | L21: =IF(C21="その他",1,"")
A22: 11 | K22: =IF(H22<>"",1,0) -> 0 | L22: =IF(C22="その他",1,"")
A23: 12 | K23: =IF(H23<>"",1,0) -> 0 | L23: =IF(C23="その他",1,"")
A24: 13 | K24: =IF(H24<>"",1,0) -> 0 | L24: =IF(C24="その他",1,"")
A25: 14 | K25: =IF(H25<>"",1,0) -> 0 | L25: =IF(C25="その他",1,"")
A26: 15 | K26: =IF(H26<>"",1,0) -> 0 | L26: =IF(SUMIF(C13:C26,"【職員処遇改善費のみ対象】園内研修",I12:I26)>VLOOKUP(C6,M26:N28,2,FALSE),VLOOKUP(C6,M26:N28,2,FALSE)-SUMIF(C13:C26,"【職員処遇改善費のみ対象】園内研修",I12:I26),"") -> #N/A | M26: 園内研修 | N26: 4
B27: 【留意事項】
B28: (1) 「修了年月日」は、研修修了証の年月日又は研修を受講した年月日を記入する。
B29: (2) 幼稚園又は認定こども園に勤務していた者は幼稚園教育要領等を踏まえて教育の質を高めるための知識・技術の向上を目的とした研修を15時間以上受講していた 場合、１分野修了とできる。できるだけ速やかに保育士等キャリアアップ研修の受講を促すこと。
B30: (3) 保育実践研修は平成29年度から令和元年度までに実施されたものに限り含めることができる。 マネジメント研修は平成29年度から令和元年度までに実施されたものに限り専門分野別研修に含めることができる。(副主任保育士は令和２年度以降も含めることができる。)
B31: (4) 研修受講履歴一覧の内容を確認できる資料（保育士等キャリアアップ研修修了証の写等）を施設において保管すること。
B32: (5) 行が足りない場合は、No２～14の行を選択し挿入すること。
B33: (6) 区分３の対象となる研修は「施設型給付費等に係る処遇改善等加算（区分３）に係る研修修了要件について」（令和７年９月16日付けこ成基202 ７初幼教第４号こども家庭庁成育局 保育政策課長、こども家庭庁成育局成育基盤企画課長及び文部科学省初等中等教育局幼児教育課長連盟通知）の記載に基づくものとする。 職員処遇改善費の対象となる研修は「横浜市処遇改善等加算取扱要領」（平成27年４月１日付けこ保運第１号）の記載に基づくものとする。
B34: (7) 保育士等キャリアアップ研修は「保育士等キャリアアップ研修の実施について」（平成29年４月１日付け雇児保発０４０１第１号厚生労働省雇用均等・児童家庭局保育課長通知） の記載に基づくものが対象となる。実施主体は「都道府県又は都道府県知事の指定した研修実施機関」とする。

Sheet ②名簿61
A1: 第５号様式の１ | D1: 令和 ８ 年度 研修受講履歴一覧 名簿（保育所・地域型保育事業所）
G3: 所在区 | H3: =①集計表!H4 -> #N/A
G4: 施設・事業所種別 | H4: =①集計表!H5 -> #N/A
G5: 施設・事業所番号 | H5: =①集計表!H6 -> 0
B6: 職位 | G6: 施設・事業所名 | H6: =①集計表!H7 -> #N/A
B7: 氏名 | G7: 代表者職・氏名 | H7: =①集計表!H8 -> 0
B8: 幼稚園又は認定こども園に勤務していた者 | E8: ↓マネジメント分野の修了チェック↓ | L8: 開始日（データの入力規則用）
E9: =IF($C$6="","職位を選択してください",IF(ISNUMBER(SEARCH("副主任保育士",C6)),IF(COUNTIF(H:H,"マネジメント研修")>0,"必修数を満たしています","区分３（人数Ａ）対象者は、マネジメント分野（1分野）必修です。入力してください。"),IF(ISNUMBER(SEARCH("職員処遇",C6)),"必修ではありません。","必修ではありません。令和２年３月31日までの修了分は算定可能です。"))) -> 職位を選択してください | L9: キャリアアップ研修 | M9: 42826
A10: 区分３及び職員処遇改善費の対象と認められる研修のみ入力してください（下記(6)参照）。そのうち、キャリアアップ研修が対象か否かについては最下部(7)を参照のうえ、不明な場合は実施主体に必ず確認してください。
A11: No | B11: 各行最後に入力 修了年月日 (例:R2.6.1) ※研修種別～ 研修分野 を入力後に入力してください。 | C11: 研修種別 | D11: 実施主体 ※研修種別を入力後に選択してください | F11: 講義名・テーマ | G11: 修了証番号 | H11: 研修分野 ※職位を入力後に選択してください | I11: 横浜市（区）主催研修等の 修了時間数 （単位：時間） | J11: 備考 | L11: 修了年月日 （データの入力規則用）
A12: 1 | L12: 保育実践 マネジメント | M12: 43921
A13: 2 | K13: =IF(H13<>"",1,0) -> 0 | L13: それ以外の研修 | M13: 45382
A14: 3 | K14: =IF(H14<>"",1,0) -> 0 | L14: =IF(C14="その他",1,"")
A15: 4 | K15: =IF(H15<>"",1,0) -> 0 | L15: =IF(C15="その他",1,"")
A16: 5 | K16: =IF(H16<>"",1,0) -> 0 | L16: =IF(C16="その他",1,"")
A17: 6 | K17: =IF(H17<>"",1,0) -> 0 | L17: =IF(C17="その他",1,"")
A18: 7 | K18: =IF(H18<>"",1,0) -> 0 | L18: =IF(C18="その他",1,"")
A19: 8 | K19: =IF(H19<>"",1,0) -> 0 | L19: =IF(C19="その他",1,"")
A20: 9 | K20: =IF(H20<>"",1,0) -> 0 | L20: =IF(C20="その他",1,"")
A21: 10 | K21: =IF(H21<>"",1,0) -> 0 | L21: =IF(C21="その他",1,"")
A22: 11 | K22: =IF(H22<>"",1,0) -> 0 | L22: =IF(C22="その他",1,"")
A23: 12 | K23: =IF(H23<>"",1,0) -> 0 | L23: =IF(C23="その他",1,"")
A24: 13 | K24: =IF(H24<>"",1,0) -> 0 | L24: =IF(C24="その他",1,"")
A25: 14 | K25: =IF(H25<>"",1,0) -> 0 | L25: =IF(C25="その他",1,"")
A26: 15 | K26: =IF(H26<>"",1,0) -> 0 | L26: =IF(SUMIF(C13:C26,"【職員処遇改善費のみ対象】園内研修",I12:I26)>VLOOKUP(C6,M26:N28,2,FALSE),VLOOKUP(C6,M26:N28,2,FALSE)-SUMIF(C13:C26,"【職員処遇改善費のみ対象】園内研修",I12:I26),"") -> #N/A | M26: 園内研修 | N26: 4
B27: 【留意事項】
B28: (1) 「修了年月日」は、研修修了証の年月日又は研修を受講した年月日を記入する。
B29: (2) 幼稚園又は認定こども園に勤務していた者は幼稚園教育要領等を踏まえて教育の質を高めるための知識・技術の向上を目的とした研修を15時間以上受講していた 場合、１分野修了とできる。できるだけ速やかに保育士等キャリアアップ研修の受講を促すこと。
B30: (3) 保育実践研修は平成29年度から令和元年度までに実施されたものに限り含めることができる。 マネジメント研修は平成29年度から令和元年度までに実施されたものに限り専門分野別研修に含めることができる。(副主任保育士は令和２年度以降も含めることができる。)
B31: (4) 研修受講履歴一覧の内容を確認できる資料（保育士等キャリアアップ研修修了証の写等）を施設において保管すること。
B32: (5) 行が足りない場合は、No２～14の行を選択し挿入すること。
B33: (6) 区分３の対象となる研修は「施設型給付費等に係る処遇改善等加算（区分３）に係る研修修了要件について」（令和７年９月16日付けこ成基202 ７初幼教第４号こども家庭庁成育局 保育政策課長、こども家庭庁成育局成育基盤企画課長及び文部科学省初等中等教育局幼児教育課長連盟通知）の記載に基づくものとする。 職員処遇改善費の対象となる研修は「横浜市処遇改善等加算取扱要領」（平成27年４月１日付けこ保運第１号）の記載に基づくものとする。
B34: (7) 保育士等キャリアアップ研修は「保育士等キャリアアップ研修の実施について」（平成29年４月１日付け雇児保発０４０１第１号厚生労働省雇用均等・児童家庭局保育課長通知） の記載に基づくものが対象となる。実施主体は「都道府県又は都道府県知事の指定した研修実施機関」とする。

Sheet ②名簿62
A1: 第５号様式の１ | D1: 令和 ８ 年度 研修受講履歴一覧 名簿（保育所・地域型保育事業所）
G3: 所在区 | H3: =①集計表!H4 -> #N/A
G4: 施設・事業所種別 | H4: =①集計表!H5 -> #N/A
G5: 施設・事業所番号 | H5: =①集計表!H6 -> 0
B6: 職位 | G6: 施設・事業所名 | H6: =①集計表!H7 -> #N/A
B7: 氏名 | G7: 代表者職・氏名 | H7: =①集計表!H8 -> 0
B8: 幼稚園又は認定こども園に勤務していた者 | E8: ↓マネジメント分野の修了チェック↓ | L8: 開始日（データの入力規則用）
E9: =IF($C$6="","職位を選択してください",IF(ISNUMBER(SEARCH("副主任保育士",C6)),IF(COUNTIF(H:H,"マネジメント研修")>0,"必修数を満たしています","区分３（人数Ａ）対象者は、マネジメント分野（1分野）必修です。入力してください。"),IF(ISNUMBER(SEARCH("職員処遇",C6)),"必修ではありません。","必修ではありません。令和２年３月31日までの修了分は算定可能です。"))) -> 職位を選択してください | L9: キャリアアップ研修 | M9: 42826
A10: 区分３及び職員処遇改善費の対象と認められる研修のみ入力してください（下記(6)参照）。そのうち、キャリアアップ研修が対象か否かについては最下部(7)を参照のうえ、不明な場合は実施主体に必ず確認してください。
A11: No | B11: 各行最後に入力 修了年月日 (例:R2.6.1) ※研修種別～ 研修分野 を入力後に入力してください。 | C11: 研修種別 | D11: 実施主体 ※研修種別を入力後に選択してください | F11: 講義名・テーマ | G11: 修了証番号 | H11: 研修分野 ※職位を入力後に選択してください | I11: 横浜市（区）主催研修等の 修了時間数 （単位：時間） | J11: 備考 | L11: 修了年月日 （データの入力規則用）
A12: 1 | L12: 保育実践 マネジメント | M12: 43921
A13: 2 | K13: =IF(H13<>"",1,0) -> 0 | L13: それ以外の研修 | M13: 45382
A14: 3 | K14: =IF(H14<>"",1,0) -> 0 | L14: =IF(C14="その他",1,"")
A15: 4 | K15: =IF(H15<>"",1,0) -> 0 | L15: =IF(C15="その他",1,"")
A16: 5 | K16: =IF(H16<>"",1,0) -> 0 | L16: =IF(C16="その他",1,"")
A17: 6 | K17: =IF(H17<>"",1,0) -> 0 | L17: =IF(C17="その他",1,"")
A18: 7 | K18: =IF(H18<>"",1,0) -> 0 | L18: =IF(C18="その他",1,"")
A19: 8 | K19: =IF(H19<>"",1,0) -> 0 | L19: =IF(C19="その他",1,"")
A20: 9 | K20: =IF(H20<>"",1,0) -> 0 | L20: =IF(C20="その他",1,"")
A21: 10 | K21: =IF(H21<>"",1,0) -> 0 | L21: =IF(C21="その他",1,"")
A22: 11 | K22: =IF(H22<>"",1,0) -> 0 | L22: =IF(C22="その他",1,"")
A23: 12 | K23: =IF(H23<>"",1,0) -> 0 | L23: =IF(C23="その他",1,"")
A24: 13 | K24: =IF(H24<>"",1,0) -> 0 | L24: =IF(C24="その他",1,"")
A25: 14 | K25: =IF(H25<>"",1,0) -> 0 | L25: =IF(C25="その他",1,"")
A26: 15 | K26: =IF(H26<>"",1,0) -> 0 | L26: =IF(SUMIF(C13:C26,"【職員処遇改善費のみ対象】園内研修",I12:I26)>VLOOKUP(C6,M26:N28,2,FALSE),VLOOKUP(C6,M26:N28,2,FALSE)-SUMIF(C13:C26,"【職員処遇改善費のみ対象】園内研修",I12:I26),"") -> #N/A | M26: 園内研修 | N26: 4
B27: 【留意事項】
B28: (1) 「修了年月日」は、研修修了証の年月日又は研修を受講した年月日を記入する。
B29: (2) 幼稚園又は認定こども園に勤務していた者は幼稚園教育要領等を踏まえて教育の質を高めるための知識・技術の向上を目的とした研修を15時間以上受講していた 場合、１分野修了とできる。できるだけ速やかに保育士等キャリアアップ研修の受講を促すこと。
B30: (3) 保育実践研修は平成29年度から令和元年度までに実施されたものに限り含めることができる。 マネジメント研修は平成29年度から令和元年度までに実施されたものに限り専門分野別研修に含めることができる。(副主任保育士は令和２年度以降も含めることができる。)
B31: (4) 研修受講履歴一覧の内容を確認できる資料（保育士等キャリアアップ研修修了証の写等）を施設において保管すること。
B32: (5) 行が足りない場合は、No２～14の行を選択し挿入すること。
B33: (6) 区分３の対象となる研修は「施設型給付費等に係る処遇改善等加算（区分３）に係る研修修了要件について」（令和７年９月16日付けこ成基202 ７初幼教第４号こども家庭庁成育局 保育政策課長、こども家庭庁成育局成育基盤企画課長及び文部科学省初等中等教育局幼児教育課長連盟通知）の記載に基づくものとする。 職員処遇改善費の対象となる研修は「横浜市処遇改善等加算取扱要領」（平成27年４月１日付けこ保運第１号）の記載に基づくものとする。
B34: (7) 保育士等キャリアアップ研修は「保育士等キャリアアップ研修の実施について」（平成29年４月１日付け雇児保発０４０１第１号厚生労働省雇用均等・児童家庭局保育課長通知） の記載に基づくものが対象となる。実施主体は「都道府県又は都道府県知事の指定した研修実施機関」とする。

Sheet ②名簿63
A1: 第５号様式の１ | D1: 令和 ８ 年度 研修受講履歴一覧 名簿（保育所・地域型保育事業所）
G3: 所在区 | H3: =①集計表!H4 -> #N/A
G4: 施設・事業所種別 | H4: =①集計表!H5 -> #N/A
G5: 施設・事業所番号 | H5: =①集計表!H6 -> 0
B6: 職位 | G6: 施設・事業所名 | H6: =①集計表!H7 -> #N/A
B7: 氏名 | G7: 代表者職・氏名 | H7: =①集計表!H8 -> 0
B8: 幼稚園又は認定こども園に勤務していた者 | E8: ↓マネジメント分野の修了チェック↓ | L8: 開始日（データの入力規則用）
E9: =IF($C$6="","職位を選択してください",IF(ISNUMBER(SEARCH("副主任保育士",C6)),IF(COUNTIF(H:H,"マネジメント研修")>0,"必修数を満たしています","区分３（人数Ａ）対象者は、マネジメント分野（1分野）必修です。入力してください。"),IF(ISNUMBER(SEARCH("職員処遇",C6)),"必修ではありません。","必修ではありません。令和２年３月31日までの修了分は算定可能です。"))) -> 職位を選択してください | L9: キャリアアップ研修 | M9: 42826
A10: 区分３及び職員処遇改善費の対象と認められる研修のみ入力してください（下記(6)参照）。そのうち、キャリアアップ研修が対象か否かについては最下部(7)を参照のうえ、不明な場合は実施主体に必ず確認してください。
A11: No | B11: 各行最後に入力 修了年月日 (例:R2.6.1) ※研修種別～ 研修分野 を入力後に入力してください。 | C11: 研修種別 | D11: 実施主体 ※研修種別を入力後に選択してください | F11: 講義名・テーマ | G11: 修了証番号 | H11: 研修分野 ※職位を入力後に選択してください | I11: 横浜市（区）主催研修等の 修了時間数 （単位：時間） | J11: 備考 | L11: 修了年月日 （データの入力規則用）
A12: 1 | L12: 保育実践 マネジメント | M12: 43921
A13: 2 | K13: =IF(H13<>"",1,0) -> 0 | L13: それ以外の研修 | M13: 45382
A14: 3 | K14: =IF(H14<>"",1,0) -> 0 | L14: =IF(C14="その他",1,"")
A15: 4 | K15: =IF(H15<>"",1,0) -> 0 | L15: =IF(C15="その他",1,"")
A16: 5 | K16: =IF(H16<>"",1,0) -> 0 | L16: =IF(C16="その他",1,"")
A17: 6 | K17: =IF(H17<>"",1,0) -> 0 | L17: =IF(C17="その他",1,"")
A18: 7 | K18: =IF(H18<>"",1,0) -> 0 | L18: =IF(C18="その他",1,"")
A19: 8 | K19: =IF(H19<>"",1,0) -> 0 | L19: =IF(C19="その他",1,"")
A20: 9 | K20: =IF(H20<>"",1,0) -> 0 | L20: =IF(C20="その他",1,"")
A21: 10 | K21: =IF(H21<>"",1,0) -> 0 | L21: =IF(C21="その他",1,"")
A22: 11 | K22: =IF(H22<>"",1,0) -> 0 | L22: =IF(C22="その他",1,"")
A23: 12 | K23: =IF(H23<>"",1,0) -> 0 | L23: =IF(C23="その他",1,"")
A24: 13 | K24: =IF(H24<>"",1,0) -> 0 | L24: =IF(C24="その他",1,"")
A25: 14 | K25: =IF(H25<>"",1,0) -> 0 | L25: =IF(C25="その他",1,"")
A26: 15 | K26: =IF(H26<>"",1,0) -> 0 | L26: =IF(SUMIF(C13:C26,"【職員処遇改善費のみ対象】園内研修",I12:I26)>VLOOKUP(C6,M26:N28,2,FALSE),VLOOKUP(C6,M26:N28,2,FALSE)-SUMIF(C13:C26,"【職員処遇改善費のみ対象】園内研修",I12:I26),"") -> #N/A | M26: 園内研修 | N26: 4
B27: 【留意事項】
B28: (1) 「修了年月日」は、研修修了証の年月日又は研修を受講した年月日を記入する。
B29: (2) 幼稚園又は認定こども園に勤務していた者は幼稚園教育要領等を踏まえて教育の質を高めるための知識・技術の向上を目的とした研修を15時間以上受講していた 場合、１分野修了とできる。できるだけ速やかに保育士等キャリアアップ研修の受講を促すこと。
B30: (3) 保育実践研修は平成29年度から令和元年度までに実施されたものに限り含めることができる。 マネジメント研修は平成29年度から令和元年度までに実施されたものに限り専門分野別研修に含めることができる。(副主任保育士は令和２年度以降も含めることができる。)
B31: (4) 研修受講履歴一覧の内容を確認できる資料（保育士等キャリアアップ研修修了証の写等）を施設において保管すること。
B32: (5) 行が足りない場合は、No２～14の行を選択し挿入すること。
B33: (6) 区分３の対象となる研修は「施設型給付費等に係る処遇改善等加算（区分３）に係る研修修了要件について」（令和７年９月16日付けこ成基202 ７初幼教第４号こども家庭庁成育局 保育政策課長、こども家庭庁成育局成育基盤企画課長及び文部科学省初等中等教育局幼児教育課長連盟通知）の記載に基づくものとする。 職員処遇改善費の対象となる研修は「横浜市処遇改善等加算取扱要領」（平成27年４月１日付けこ保運第１号）の記載に基づくものとする。
B34: (7) 保育士等キャリアアップ研修は「保育士等キャリアアップ研修の実施について」（平成29年４月１日付け雇児保発０４０１第１号厚生労働省雇用均等・児童家庭局保育課長通知） の記載に基づくものが対象となる。実施主体は「都道府県又は都道府県知事の指定した研修実施機関」とする。

Sheet ②名簿64
A1: 第５号様式の１ | D1: 令和 ８ 年度 研修受講履歴一覧 名簿（保育所・地域型保育事業所）
G3: 所在区 | H3: =①集計表!H4 -> #N/A
G4: 施設・事業所種別 | H4: =①集計表!H5 -> #N/A
G5: 施設・事業所番号 | H5: =①集計表!H6 -> 0
B6: 職位 | G6: 施設・事業所名 | H6: =①集計表!H7 -> #N/A
B7: 氏名 | G7: 代表者職・氏名 | H7: =①集計表!H8 -> 0
B8: 幼稚園又は認定こども園に勤務していた者 | E8: ↓マネジメント分野の修了チェック↓ | L8: 開始日（データの入力規則用）
E9: =IF($C$6="","職位を選択してください",IF(ISNUMBER(SEARCH("副主任保育士",C6)),IF(COUNTIF(H:H,"マネジメント研修")>0,"必修数を満たしています","区分３（人数Ａ）対象者は、マネジメント分野（1分野）必修です。入力してください。"),IF(ISNUMBER(SEARCH("職員処遇",C6)),"必修ではありません。","必修ではありません。令和２年３月31日までの修了分は算定可能です。"))) -> 職位を選択してください | L9: キャリアアップ研修 | M9: 42826
A10: 区分３及び職員処遇改善費の対象と認められる研修のみ入力してください（下記(6)参照）。そのうち、キャリアアップ研修が対象か否かについては最下部(7)を参照のうえ、不明な場合は実施主体に必ず確認してください。
A11: No | B11: 各行最後に入力 修了年月日 (例:R2.6.1) ※研修種別～ 研修分野 を入力後に入力してください。 | C11: 研修種別 | D11: 実施主体 ※研修種別を入力後に選択してください | F11: 講義名・テーマ | G11: 修了証番号 | H11: 研修分野 ※職位を入力後に選択してください | I11: 横浜市（区）主催研修等の 修了時間数 （単位：時間） | J11: 備考 | L11: 修了年月日 （データの入力規則用）
A12: 1 | L12: 保育実践 マネジメント | M12: 43921
A13: 2 | K13: =IF(H13<>"",1,0) -> 0 | L13: それ以外の研修 | M13: 45382
A14: 3 | K14: =IF(H14<>"",1,0) -> 0 | L14: =IF(C14="その他",1,"")
A15: 4 | K15: =IF(H15<>"",1,0) -> 0 | L15: =IF(C15="その他",1,"")
A16: 5 | K16: =IF(H16<>"",1,0) -> 0 | L16: =IF(C16="その他",1,"")
A17: 6 | K17: =IF(H17<>"",1,0) -> 0 | L17: =IF(C17="その他",1,"")
A18: 7 | K18: =IF(H18<>"",1,0) -> 0 | L18: =IF(C18="その他",1,"")
A19: 8 | K19: =IF(H19<>"",1,0) -> 0 | L19: =IF(C19="その他",1,"")
A20: 9 | K20: =IF(H20<>"",1,0) -> 0 | L20: =IF(C20="その他",1,"")
A21: 10 | K21: =IF(H21<>"",1,0) -> 0 | L21: =IF(C21="その他",1,"")
A22: 11 | K22: =IF(H22<>"",1,0) -> 0 | L22: =IF(C22="その他",1,"")
A23: 12 | K23: =IF(H23<>"",1,0) -> 0 | L23: =IF(C23="その他",1,"")
A24: 13 | K24: =IF(H24<>"",1,0) -> 0 | L24: =IF(C24="その他",1,"")
A25: 14 | K25: =IF(H25<>"",1,0) -> 0 | L25: =IF(C25="その他",1,"")
A26: 15 | K26: =IF(H26<>"",1,0) -> 0 | L26: =IF(SUMIF(C13:C26,"【職員処遇改善費のみ対象】園内研修",I12:I26)>VLOOKUP(C6,M26:N28,2,FALSE),VLOOKUP(C6,M26:N28,2,FALSE)-SUMIF(C13:C26,"【職員処遇改善費のみ対象】園内研修",I12:I26),"") -> #N/A | M26: 園内研修 | N26: 4
B27: 【留意事項】
B28: (1) 「修了年月日」は、研修修了証の年月日又は研修を受講した年月日を記入する。
B29: (2) 幼稚園又は認定こども園に勤務していた者は幼稚園教育要領等を踏まえて教育の質を高めるための知識・技術の向上を目的とした研修を15時間以上受講していた 場合、１分野修了とできる。できるだけ速やかに保育士等キャリアアップ研修の受講を促すこと。
B30: (3) 保育実践研修は平成29年度から令和元年度までに実施されたものに限り含めることができる。 マネジメント研修は平成29年度から令和元年度までに実施されたものに限り専門分野別研修に含めることができる。(副主任保育士は令和２年度以降も含めることができる。)
B31: (4) 研修受講履歴一覧の内容を確認できる資料（保育士等キャリアアップ研修修了証の写等）を施設において保管すること。
B32: (5) 行が足りない場合は、No２～14の行を選択し挿入すること。
B33: (6) 区分３の対象となる研修は「施設型給付費等に係る処遇改善等加算（区分３）に係る研修修了要件について」（令和７年９月16日付けこ成基202 ７初幼教第４号こども家庭庁成育局 保育政策課長、こども家庭庁成育局成育基盤企画課長及び文部科学省初等中等教育局幼児教育課長連盟通知）の記載に基づくものとする。 職員処遇改善費の対象となる研修は「横浜市処遇改善等加算取扱要領」（平成27年４月１日付けこ保運第１号）の記載に基づくものとする。
B34: (7) 保育士等キャリアアップ研修は「保育士等キャリアアップ研修の実施について」（平成29年４月１日付け雇児保発０４０１第１号厚生労働省雇用均等・児童家庭局保育課長通知） の記載に基づくものが対象となる。実施主体は「都道府県又は都道府県知事の指定した研修実施機関」とする。

Sheet ②名簿65
A1: 第５号様式の１ | D1: 令和 ８ 年度 研修受講履歴一覧 名簿（保育所・地域型保育事業所）
G3: 所在区 | H3: =①集計表!H4 -> #N/A
G4: 施設・事業所種別 | H4: =①集計表!H5 -> #N/A
G5: 施設・事業所番号 | H5: =①集計表!H6 -> 0
B6: 職位 | G6: 施設・事業所名 | H6: =①集計表!H7 -> #N/A
B7: 氏名 | G7: 代表者職・氏名 | H7: =①集計表!H8 -> 0
B8: 幼稚園又は認定こども園に勤務していた者 | E8: ↓マネジメント分野の修了チェック↓ | L8: 開始日（データの入力規則用）
E9: =IF($C$6="","職位を選択してください",IF(ISNUMBER(SEARCH("副主任保育士",C6)),IF(COUNTIF(H:H,"マネジメント研修")>0,"必修数を満たしています","区分３（人数Ａ）対象者は、マネジメント分野（1分野）必修です。入力してください。"),IF(ISNUMBER(SEARCH("職員処遇",C6)),"必修ではありません。","必修ではありません。令和２年３月31日までの修了分は算定可能です。"))) -> 職位を選択してください | L9: キャリアアップ研修 | M9: 42826
A10: 区分３及び職員処遇改善費の対象と認められる研修のみ入力してください（下記(6)参照）。そのうち、キャリアアップ研修が対象か否かについては最下部(7)を参照のうえ、不明な場合は実施主体に必ず確認してください。
A11: No | B11: 各行最後に入力 修了年月日 (例:R2.6.1) ※研修種別～ 研修分野 を入力後に入力してください。 | C11: 研修種別 | D11: 実施主体 ※研修種別を入力後に選択してください | F11: 講義名・テーマ | G11: 修了証番号 | H11: 研修分野 ※職位を入力後に選択してください | I11: 横浜市（区）主催研修等の 修了時間数 （単位：時間） | J11: 備考 | L11: 修了年月日 （データの入力規則用）
A12: 1 | L12: 保育実践 マネジメント | M12: 43921
A13: 2 | K13: =IF(H13<>"",1,0) -> 0 | L13: それ以外の研修 | M13: 45382
A14: 3 | K14: =IF(H14<>"",1,0) -> 0 | L14: =IF(C14="その他",1,"")
A15: 4 | K15: =IF(H15<>"",1,0) -> 0 | L15: =IF(C15="その他",1,"")
A16: 5 | K16: =IF(H16<>"",1,0) -> 0 | L16: =IF(C16="その他",1,"")
A17: 6 | K17: =IF(H17<>"",1,0) -> 0 | L17: =IF(C17="その他",1,"")
A18: 7 | K18: =IF(H18<>"",1,0) -> 0 | L18: =IF(C18="その他",1,"")
A19: 8 | K19: =IF(H19<>"",1,0) -> 0 | L19: =IF(C19="その他",1,"")
A20: 9 | K20: =IF(H20<>"",1,0) -> 0 | L20: =IF(C20="その他",1,"")
A21: 10 | K21: =IF(H21<>"",1,0) -> 0 | L21: =IF(C21="その他",1,"")
A22: 11 | K22: =IF(H22<>"",1,0) -> 0 | L22: =IF(C22="その他",1,"")
A23: 12 | K23: =IF(H23<>"",1,0) -> 0 | L23: =IF(C23="その他",1,"")
A24: 13 | K24: =IF(H24<>"",1,0) -> 0 | L24: =IF(C24="その他",1,"")
A25: 14 | K25: =IF(H25<>"",1,0) -> 0 | L25: =IF(C25="その他",1,"")
A26: 15 | K26: =IF(H26<>"",1,0) -> 0 | L26: =IF(SUMIF(C13:C26,"【職員処遇改善費のみ対象】園内研修",I12:I26)>VLOOKUP(C6,M26:N28,2,FALSE),VLOOKUP(C6,M26:N28,2,FALSE)-SUMIF(C13:C26,"【職員処遇改善費のみ対象】園内研修",I12:I26),"") -> #N/A | M26: 園内研修 | N26: 4
B27: 【留意事項】
B28: (1) 「修了年月日」は、研修修了証の年月日又は研修を受講した年月日を記入する。
B29: (2) 幼稚園又は認定こども園に勤務していた者は幼稚園教育要領等を踏まえて教育の質を高めるための知識・技術の向上を目的とした研修を15時間以上受講していた 場合、１分野修了とできる。できるだけ速やかに保育士等キャリアアップ研修の受講を促すこと。
B30: (3) 保育実践研修は平成29年度から令和元年度までに実施されたものに限り含めることができる。 マネジメント研修は平成29年度から令和元年度までに実施されたものに限り専門分野別研修に含めることができる。(副主任保育士は令和２年度以降も含めることができる。)
B31: (4) 研修受講履歴一覧の内容を確認できる資料（保育士等キャリアアップ研修修了証の写等）を施設において保管すること。
B32: (5) 行が足りない場合は、No２～14の行を選択し挿入すること。
B33: (6) 区分３の対象となる研修は「施設型給付費等に係る処遇改善等加算（区分３）に係る研修修了要件について」（令和７年９月16日付けこ成基202 ７初幼教第４号こども家庭庁成育局 保育政策課長、こども家庭庁成育局成育基盤企画課長及び文部科学省初等中等教育局幼児教育課長連盟通知）の記載に基づくものとする。 職員処遇改善費の対象となる研修は「横浜市処遇改善等加算取扱要領」（平成27年４月１日付けこ保運第１号）の記載に基づくものとする。
B34: (7) 保育士等キャリアアップ研修は「保育士等キャリアアップ研修の実施について」（平成29年４月１日付け雇児保発０４０１第１号厚生労働省雇用均等・児童家庭局保育課長通知） の記載に基づくものが対象となる。実施主体は「都道府県又は都道府県知事の指定した研修実施機関」とする。

Sheet ②名簿66
A1: 第５号様式の１ | D1: 令和 ８ 年度 研修受講履歴一覧 名簿（保育所・地域型保育事業所）
G3: 所在区 | H3: =①集計表!H4 -> #N/A
G4: 施設・事業所種別 | H4: =①集計表!H5 -> #N/A
G5: 施設・事業所番号 | H5: =①集計表!H6 -> 0
B6: 職位 | G6: 施設・事業所名 | H6: =①集計表!H7 -> #N/A
B7: 氏名 | G7: 代表者職・氏名 | H7: =①集計表!H8 -> 0
B8: 幼稚園又は認定こども園に勤務していた者 | E8: ↓マネジメント分野の修了チェック↓ | L8: 開始日（データの入力規則用）
E9: =IF($C$6="","職位を選択してください",IF(ISNUMBER(SEARCH("副主任保育士",C6)),IF(COUNTIF(H:H,"マネジメント研修")>0,"必修数を満たしています","区分３（人数Ａ）対象者は、マネジメント分野（1分野）必修です。入力してください。"),IF(ISNUMBER(SEARCH("職員処遇",C6)),"必修ではありません。","必修ではありません。令和２年３月31日までの修了分は算定可能です。"))) -> 職位を選択してください | L9: キャリアアップ研修 | M9: 42826
A10: 区分３及び職員処遇改善費の対象と認められる研修のみ入力してください（下記(6)参照）。そのうち、キャリアアップ研修が対象か否かについては最下部(7)を参照のうえ、不明な場合は実施主体に必ず確認してください。
A11: No | B11: 各行最後に入力 修了年月日 (例:R2.6.1) ※研修種別～ 研修分野 を入力後に入力してください。 | C11: 研修種別 | D11: 実施主体 ※研修種別を入力後に選択してください | F11: 講義名・テーマ | G11: 修了証番号 | H11: 研修分野 ※職位を入力後に選択してください | I11: 横浜市（区）主催研修等の 修了時間数 （単位：時間） | J11: 備考 | L11: 修了年月日 （データの入力規則用）
A12: 1 | L12: 保育実践 マネジメント | M12: 43921
A13: 2 | K13: =IF(H13<>"",1,0) -> 0 | L13: それ以外の研修 | M13: 45382
A14: 3 | K14: =IF(H14<>"",1,0) -> 0 | L14: =IF(C14="その他",1,"")
A15: 4 | K15: =IF(H15<>"",1,0) -> 0 | L15: =IF(C15="その他",1,"")
A16: 5 | K16: =IF(H16<>"",1,0) -> 0 | L16: =IF(C16="その他",1,"")
A17: 6 | K17: =IF(H17<>"",1,0) -> 0 | L17: =IF(C17="その他",1,"")
A18: 7 | K18: =IF(H18<>"",1,0) -> 0 | L18: =IF(C18="その他",1,"")
A19: 8 | K19: =IF(H19<>"",1,0) -> 0 | L19: =IF(C19="その他",1,"")
A20: 9 | K20: =IF(H20<>"",1,0) -> 0 | L20: =IF(C20="その他",1,"")
A21: 10 | K21: =IF(H21<>"",1,0) -> 0 | L21: =IF(C21="その他",1,"")
A22: 11 | K22: =IF(H22<>"",1,0) -> 0 | L22: =IF(C22="その他",1,"")
A23: 12 | K23: =IF(H23<>"",1,0) -> 0 | L23: =IF(C23="その他",1,"")
A24: 13 | K24: =IF(H24<>"",1,0) -> 0 | L24: =IF(C24="その他",1,"")
A25: 14 | K25: =IF(H25<>"",1,0) -> 0 | L25: =IF(C25="その他",1,"")
A26: 15 | K26: =IF(H26<>"",1,0) -> 0 | L26: =IF(SUMIF(C13:C26,"【職員処遇改善費のみ対象】園内研修",I12:I26)>VLOOKUP(C6,M26:N28,2,FALSE),VLOOKUP(C6,M26:N28,2,FALSE)-SUMIF(C13:C26,"【職員処遇改善費のみ対象】園内研修",I12:I26),"") -> #N/A | M26: 園内研修 | N26: 4
B27: 【留意事項】
B28: (1) 「修了年月日」は、研修修了証の年月日又は研修を受講した年月日を記入する。
B29: (2) 幼稚園又は認定こども園に勤務していた者は幼稚園教育要領等を踏まえて教育の質を高めるための知識・技術の向上を目的とした研修を15時間以上受講していた 場合、１分野修了とできる。できるだけ速やかに保育士等キャリアアップ研修の受講を促すこと。
B30: (3) 保育実践研修は平成29年度から令和元年度までに実施されたものに限り含めることができる。 マネジメント研修は平成29年度から令和元年度までに実施されたものに限り専門分野別研修に含めることができる。(副主任保育士は令和２年度以降も含めることができる。)
B31: (4) 研修受講履歴一覧の内容を確認できる資料（保育士等キャリアアップ研修修了証の写等）を施設において保管すること。
B32: (5) 行が足りない場合は、No２～14の行を選択し挿入すること。
B33: (6) 区分３の対象となる研修は「施設型給付費等に係る処遇改善等加算（区分３）に係る研修修了要件について」（令和７年９月16日付けこ成基202 ７初幼教第４号こども家庭庁成育局 保育政策課長、こども家庭庁成育局成育基盤企画課長及び文部科学省初等中等教育局幼児教育課長連盟通知）の記載に基づくものとする。 職員処遇改善費の対象となる研修は「横浜市処遇改善等加算取扱要領」（平成27年４月１日付けこ保運第１号）の記載に基づくものとする。
B34: (7) 保育士等キャリアアップ研修は「保育士等キャリアアップ研修の実施について」（平成29年４月１日付け雇児保発０４０１第１号厚生労働省雇用均等・児童家庭局保育課長通知） の記載に基づくものが対象となる。実施主体は「都道府県又は都道府県知事の指定した研修実施機関」とする。

Sheet ②名簿67
A1: 第５号様式の１ | D1: 令和 ８ 年度 研修受講履歴一覧 名簿（保育所・地域型保育事業所）
G3: 所在区 | H3: =①集計表!H4 -> #N/A
G4: 施設・事業所種別 | H4: =①集計表!H5 -> #N/A
G5: 施設・事業所番号 | H5: =①集計表!H6 -> 0
B6: 職位 | G6: 施設・事業所名 | H6: =①集計表!H7 -> #N/A
B7: 氏名 | G7: 代表者職・氏名 | H7: =①集計表!H8 -> 0
B8: 幼稚園又は認定こども園に勤務していた者 | E8: ↓マネジメント分野の修了チェック↓ | L8: 開始日（データの入力規則用）
E9: =IF($C$6="","職位を選択してください",IF(ISNUMBER(SEARCH("副主任保育士",C6)),IF(COUNTIF(H:H,"マネジメント研修")>0,"必修数を満たしています","区分３（人数Ａ）対象者は、マネジメント分野（1分野）必修です。入力してください。"),IF(ISNUMBER(SEARCH("職員処遇",C6)),"必修ではありません。","必修ではありません。令和２年３月31日までの修了分は算定可能です。"))) -> 職位を選択してください | L9: キャリアアップ研修 | M9: 42826
A10: 区分３及び職員処遇改善費の対象と認められる研修のみ入力してください（下記(6)参照）。そのうち、キャリアアップ研修が対象か否かについては最下部(7)を参照のうえ、不明な場合は実施主体に必ず確認してください。
