Workbook
Name _Qr228: #REF!
Name _Qr228: #REF!
Name _Qr228: #REF!
Name その他: #REF!
Name っっｗ: #REF!,#REF!,#REF!,#REF!
Name っっｗ: #REF!,#REF!,#REF!,#REF!
Name っっｗ: #REF!,#REF!,#REF!,#REF!
Name っっｗ: #REF!,#REF!,#REF!,#REF!
Name 引上率: [1]単価引上率!$B$2
Name 教育単価表: '[2]こども園 本単価表（教育）'!$A$6:$BP$40
Name 教育単価表: '[3]こども園 本単価表（教育）'!$A$6:$BP$40
Name 教育単価表: '[4]こども園 本単価表（教育）'!$A$6:$BP$40
Name 教育定員: '[2]積算表（教育）'!$AO$2:$AP$18
Name 教育定員: '[3]積算表（教育）'!$AO$2:$AP$18
Name 教育定員: '[4]積算表（教育）'!$AO$2:$AP$18
Name 教育定員Ⅱ: '[2]積算表（教育）'!#REF!
Name 教育定員Ⅱ: '[3]積算表（教育）'!#REF!
Name 教育定員Ⅱ: '[4]積算表（教育）'!#REF!
Name 第7号様式: #REF!
Name 第7号様式: #REF!
Name 第7号様式: #REF!
Name 単価表: [5]保育単価表!$A$6:$BI$74
Name 単価表: #REF!
Name 定員: [5]処遇Ⅰ!$AO$2:$AP$18
Name 定員: #REF!
Name 定員Ⅱ: [5]処遇Ⅰ!#REF!
Name 定員Ⅱ: #REF!
Name 適リスト: #REF!
Name 入力欄②１: #REF!,#REF!,#REF!,#REF!,#REF!,#REF!,#REF!,#REF!,#REF!,#REF!,#REF!,#REF!,#REF!,#REF!,#REF!,#REF!,#REF!,#REF!,#REF!,#REF!,#REF!,#REF!
Name 入力欄②１: #REF!,#REF!,#REF!,#REF!,#REF!,#REF!,#REF!,#REF!,#REF!,#REF!,#REF!,#REF!,#REF!,#REF!,#REF!,#REF!,#REF!,#REF!,#REF!,#REF!,#REF!,#REF!
Name 入力欄②１: #REF!,#REF!,#REF!,#REF!,#REF!,#REF!,#REF!,#REF!,#REF!,#REF!,#REF!,#REF!,#REF!,#REF!,#REF!,#REF!,#REF!,#REF!,#REF!,#REF!,#REF!,#REF!
Name 入力欄③０２: '[7]様式③ 歳入'!$AG$3,'[7]様式③ 歳入'!$AK$3,'[7]様式③ 歳入'!$B$6:$AL$64,'[7]様式③ 歳入'!$G$65:$Z$65
Name 入力欄③２: '[8]様式③ 歳入'!$AG$3,'[8]様式③ 歳入'!$AK$3,'[8]様式③ 歳入'!$B$6:$AL$64,'[8]様式③ 歳入'!$G$65:$Z$65
Name 入力欄③Ｂ: '[6]様式③ 歳入'!$AG$3,'[6]様式③ 歳入'!$AK$3,'[6]様式③ 歳入'!$B$6:$AL$64,'[6]様式③ 歳入'!$G$65:$Z$65
Name 否リスト: #REF!
Name 平均勤続年数: [5]加算区分!$B$3:$F$14
Name 平均勤続年数: #REF!
Name 保育単価表: '[2]保育単価表（保育）'!$A$6:$BO$78
Name 保育単価表: '[3]保育単価表（保育）'!$A$6:$BO$78
Name 保育単価表: '[4]保育単価表（保育）'!$A$6:$BO$78
Name 保育定員: '[2]積算表（保育）'!$AO$2:$AP$19
Name 保育定員: '[3]積算表（保育）'!$AO$2:$AP$19
Name 保育定員: '[4]積算表（保育）'!$AO$2:$AP$19
Name 保育定員Ⅱ: '[2]積算表（保育）'!#REF!
Name 保育定員Ⅱ: '[3]積算表（保育）'!#REF!
Name 保育定員Ⅱ: '[4]積算表（保育）'!#REF!

Sheet ①入力シート
A1: 令和８年度 処遇改善等加算区分３及び職員処遇改善費 申請書 入力シート
B3: 必ず、説明テキストを確認しながら、作成してください。 ●処遇改善等加算区分１・２・３及び職員処遇改善費 ～制度編～ （令和８年４月版） ●処遇改善等加算区分３及び職員処遇改善費 申請事務手続き編 （令和８年10月版） ★近年、テキスト通りに作成しなかったことによる書類の訂正、 テキスト内に回答が書いてあるお問い合わせが非常に増え ています。ご協力をお願いいたします。
B4: 【施設情報について】
C5: 市町村 | D5: 横浜市 | E5: =VLOOKUP(D7,施設情報!A2:I157,4,FALSE) -> #N/A | G5: ※施設番号入力後自動反映
C6: 施設・事業所種別 | D6: 幼稚園 | G6: =IF(AND(LEN(D7)=13,ISNUMBER(--D7),ISNA(D8)),"施設種別と様式が一致しません。入力した施設番号または施設種別を確認してください。","")
C7: 施設・事業所番号 | G7: ←最初に入力
C8: 施設・事業所名称 | D8: =VLOOKUP(D7,施設情報!A2:I157,6,FALSE) -> #N/A | G8: ※施設番号入力後自動反映
C9: 代表者職・氏名
C10: 担当者名※ | G10: ※令和８年度処遇改善等加算区分３及び職員処遇改善費申請書について、修正内容や確認事項がある際に使用します。 かならず、連絡がつながる担当者様のお名前、電話番号を入力してください。
C11: 担当者電話番号※
G12: ※上記担当者がどうしても対応できない曜日・時間帯等がありましたら、左の枠内に入力してください。
B13: 【処遇改善等加算区分３及び職員処遇改善費】
C14: 区分３の加算額の算定に係る研修修了者が1人以上いる
C16: 処遇改善等加算区分３ 加算の適用※ | M16: 該当
C17: ※加算額の算定に係る研修修了者が1人以上いることが加算適用の要件です。 ※処遇改善等加算区分３を適用する場合は、②入力シート２、③入力シート３の入力、 研修受講履歴一覧の提出が必要です。 | M17: 非該当
C18: 職員処遇改善費 加算の適用※
C19: ※処遇改善等加算区分３－①（副主任保育士等に係る加算）を適用する場合のみ、職員処遇改善費の適用が可能です。
B20: 【処遇改善等加算Ⅲ及び向上支援費加算Ⅲ】
C21: 処遇改善等加算Ⅲ 加算の適用
C22: 向上支援費加算Ⅲ 加算の適用※ | F22: -
C23: ※処遇改善等加算Ⅲを適用する場合のみ、向上支援費加算Ⅲの適用が可能です。 ※「向上支援費加算Ⅲ」は、保育所、認定こども園（２・３号）、小規模保育事業Ａ型・ Ｂ型、 事業所内保育事業が対象です。
B24: 【処遇改善等加算区分３が非該当の場合は以下は入力不要】
B26: 【施設の情報について】 ※処遇改善等加算区分３及び職員処遇改善費が非該当の場合は入力不要
C27: 利用定員 | I27: 人
C29: 年齢別児童数※ | E29: ４歳以上児 | I29: 人
E30: ３歳児 (満３歳児を除く) | I30: 人
E31: 満３歳児 | I31: 人
C32: ※年齢別児童数には、既存園は４月時点の利用子ども数又は「④平均年齢別児童数計算表」により計算した当年度の平均こども数、新規園は４月時点の利用子ども数を入力すること。
C34: 各種加算 の 適用状況 ※令和８年４月 時点の状況 | D34: ４歳以上児配置改善加算
D35: ３歳児配置改善加算
D36: 満３歳児対応加配加算
D37: 講師配置加算
D38: チーム保育加配加算 ※加配有無と加配人数を選択
D39: 通園送迎加算
D40: 給食実施加算 ※「自園調理」か「外部搬入」を選択
D41: 主幹教諭等専任加算
D42: 事務職員配置加算
D43: 指導充実加配加算
D44: 事務負担対応加配加算
D45: 栄養管理加算 ※配置のみ「あり」を選択（兼務、嘱託は「なし」を選択）
...

Sheet ②入力シート２
A1: 【処遇改善等加算区分３が非該当の場合は、入力不要です】 | H1: ①入力シートの「修了人数A」と当シートの加算対象者Aの人数、①入力シートの「人数C」と当シートの加算対象者Cの人数が一致するとそれぞれ〇が表示されます | AD1: =IF(①入力シート!D8="","","（"&①入力シート!D8&"） ") -> #N/A
H2: A | I2: ='⑤積算表（区分３）'!AA44 -> 0 | J2: 人 | K2: B | L2: ='⑤積算表（区分３）'!AA47 -> 0 | M2: 人 | N2: C | O2: ='⑤積算表（区分３）'!X61 -> 0 | P2: 人 | R2: ４月の改善額 | T2: 処遇改善等加算区分３ | V2: =AO3 -> 0 | X2: 職員処遇改善費 | Z2: =AP3 -> 0 | AF2: =IF(①入力シート!D7="","","（"&①入力シート!D7&"） ") | AN2: 改善すべき額 | AO2: =I2*AS2+L2*AS3 -> 0 | AP2: =O2*AS4 -> 0 | AR2: 中核リーダー等 | AS2: 40000
H3: 記載人数A | I3: =IF(COUNTIF($C$8:$D$305, "加算対象者A（修了者）") =I2, "○", "×") -> ○ | N3: 記載人数C | O3: =IF(COUNTIF($C$8:$D$305, "加算対象者C（修了者）")=O2, "○", "×") -> ○ | AN3: 4月の合計 | AO3: =SUMIF($BE6:$BE305,1,BG6:BG305)+SUMIF(③入力シート３!$BE6:$BE305,1,③入力シート３!BG6:BG305) -> 0 | AP3: =SUMIF($BE6:$BE305,1,BT6:BT305) -> 0 | AR3: 若手リーダー等 | AS3: 5000
A4: 副主任保育士等に係る賃金改善について | H4: 処遇改善等加算区分３（人数A） | U4: 職員処遇改善費（人数C） | AR4: 職員処遇 | AS4: 40000
B5: 氏名 | C5: 職名 | D5: 相当する職名 | E5: 職種 | F5: 経験年数 | G5: 改善した給与項目 | H5: 4月 | I5: 5月 | J5: 6月 | K5: 7月 | L5: 8月 | M5: 9月 | N5: 10月 | O5: 11月 | P5: 12月 | Q5: 1月 | R5: 2月 | S5: 3月 | T5: 合計 | U5: 4月 | V5: 5月 | W5: 6月 | X5: 7月 | Y5: 8月 | Z5: 9月 | AA5: 10月 | AB5: 11月 | AC5: 12月 | AD5: 1月 | AE5: 2月 | AF5: 3月 | AG5: 合計 | AN5: 職員 | AO5: 基本給等 | AP5: 月（年度当初から何か月目） | AQ5: 金額 | AR5: 月数 | AS5: 金額 | AT5: 月数 | AU5: 印刷行 | CH5: min | CI5: =IF(MIN(CI6:CI303)=0, SMALL(CI6:CI303,COUNTIF(CI6:CI303,0)+COUNTIF(CI6:CI303,1)+1), MIN(CI6:CI303)) -> #NUM! | CJ5: =IF(MIN(CJ6:CJ303)=0, SMALL(CJ6:CJ303,COUNTIF(CJ6:CJ303,0)+COUNTIF(CJ6:CJ303,1)+1), MIN(CJ6:CJ303)) -> #NUM! | CK5: =IF(MIN(CK6:CK303)=0, SMALL(CK6:CK303,COUNTIF(CK6:CK303,0)+COUNTIF(CK6:CK303,1)+1), MIN(CK6:CK303)) -> #NUM! | CL5: =IF(MIN(CL6:CL303)=0, SMALL(CL6:CL303,COUNTIF(CL6:CL303,0)+COUNTIF(CL6:CL303,1)+1), MIN(CL6:CL303)) -> #NUM! | CM5: =IF(MIN(CM6:CM303)=0, SMALL(CM6:CM303,COUNTIF(CM6:CM303,0)+COUNTIF(CM6:CM303,1)+1), MIN(CM6:CM303)) -> #NUM! | CN5: =IF(MIN(CN6:CN303)=0, SMALL(CN6:CN303,COUNTIF(CN6:CN303,0)+COUNTIF(CN6:CN303,1)+1), MIN(CN6:CN303)) -> #NUM! | CO5: =IF(MIN(CO6:CO303)=0, SMALL(CO6:CO303,COUNTIF(CO6:CO303,0)+COUNTIF(CO6:CO303,1)+1), MIN(CO6:CO303)) -> #NUM! | CP5: =IF(MIN(CP6:CP303)=0, SMALL(CP6:CP303,COUNTIF(CP6:CP303,0)+COUNTIF(CP6:CP303,1)+1), MIN(CP6:CP303)) -> #NUM! | ... CT5: =IF(MIN(CT6:CT303)=0, SMALL(CT6:CT303,COUNTIF(CT6:CT303,0)+COUNTIF(CT6:CT303,1)+1), MIN(CT6:CT303)) -> #NUM!
A6: 1 | G6: 基本給 | I6: =IF(H6="","",H6) | J6: =IF(I6="","",I6) | K6: =IF(J6="","",J6) | L6: =IF(K6="","",K6) | M6: =IF(L6="","",L6) | N6: =IF(M6="","",M6) | O6: =IF(N6="","",N6) | P6: =IF(O6="","",O6) | ... S6: =IF(R6="","",R6) | T6: =SUM(H6:S6) -> 0 | V6: =IF(U6="","",U6) | W6: =IF(V6="","",V6) | X6: =IF(W6="","",W6) | Y6: =IF(X6="","",X6) | Z6: =IF(Y6="","",Y6) | AA6: =IF(Z6="","",Z6) | AB6: =IF(AA6="","",AA6) | AC6: =IF(AB6="","",AB6) | ... AF6: =IF(AE6="","",AE6) | AG6: =SUM(U6:AF6) -> 0 | AI6: =MAX(BG6:BR6) -> 0 | AN6: 1 | AO6: 1 | AP6: 1 | AQ6: =IF($AP6=1,IF(INDIRECT(ADDRESS(($AN6-1)*3+$AO6+5,$AP6+7))="",0,INDIRECT(ADDRESS(($AN6-1)*3+$AO6+5,$AP6+7))),IF(INDIRECT(ADDRESS(($AN6-1)*3+$AO6+5,$AP6+7))="",0,IF(COUNTIF(INDIRECT(ADDRESS(($AN6-1)*36+($AO6-1)*12+6,COLUMN())):INDIRECT(ADDRESS(($AN6-1)*36+($AO6-1)*12+$AP6+4,COLUMN())),INDIRECT(ADDRESS(($AN6-1)*3+$AO6+5,$AP6+7)))>=1,0,INDIRECT(ADDRESS(($AN6-1)*3+$AO6+5,$AP6+7))))) -> 0 | AR6: =COUNTIF(INDIRECT("H"&(ROW()+12*(($AN6-1)*3+$AO6)-ROW())/12+5):INDIRECT("S"&(ROW()+12*(($AN6-1)*3+$AO6)-ROW())/12+5),AQ6) -> 0 | AS6: =IF($AP6=1,IF(INDIRECT(ADDRESS(($AN6-1)*3+$AO6+5,$AP6+20))="",0,INDIRECT(ADDRESS(($AN6-1)*3+$AO6+5,$AP6+20))),IF(INDIRECT(ADDRESS(($AN6-1)*3+$AO6+5,$AP6+20))="",0,IF(COUNTIF(INDIRECT(ADDRESS(($AN6-1)*36+($AO6-1)*12+6,COLUMN())):INDIRECT(ADDRESS(($AN6-1)*36+($AO6-1)*12+$AP6+4,COLUMN())),INDIRECT(ADDRESS(($AN6-1)*3+$AO6+5,$AP6+20)))>=1,0,INDIRECT(ADDRESS(($AN6-1)*3+$AO6+5,$AP6+20))))) -> 0 | AT6: =COUNTIF(INDIRECT("U"&(ROW()+12*(($AN6-1)*3+$AO6)-ROW())/12+5):INDIRECT("AF"&(ROW()+12*(($AN6-1)*3+$AO6)-ROW())/12+5),AS6) -> 0 | AU6: =IF(AND(AQ6+AS6>0,AR6+AT6>0),1,0) -> 0 | BE6: 1 | BG6: =SUM(H6:H7) -> 0 | BH6: =SUM(I6:I7) -> 0 | BI6: =SUM(J6:J7) -> 0 | BJ6: =SUM(K6:K7) -> 0 | BK6: =SUM(L6:L7) -> 0 | BL6: =SUM(M6:M7) -> 0 | BM6: =SUM(N6:N7) -> 0 | BN6: =SUM(O6:O7) -> 0 | ... BR6: =SUM(S6:S7) -> 0 | BT6: =SUM(U6:U7) -> 0 | BU6: =SUM(V6:V7) -> 0 | BV6: =SUM(W6:W7) -> 0 | BW6: =SUM(X6:X7) -> 0 | BX6: =SUM(Y6:Y7) -> 0 | BY6: =SUM(Z6:Z7) -> 0 | BZ6: =SUM(AA6:AA7) -> 0 | CA6: =SUM(AB6:AB7) -> 0 | ... CE6: =SUM(AF6:AF7) -> 0 | CH6: min対象 | CI6: =IF(OR($D6="副園長",$D6="教頭",$D6="主任保育士",$D6="主幹教諭",$D6="主幹保育教諭"),0,BG6) -> 0 | CJ6: =IF(OR($D6="副園長",$D6="教頭",$D6="主任保育士",$D6="主幹教諭",$D6="主幹保育教諭"),0,BH6) -> 0 | CK6: =IF(OR($D6="副園長",$D6="教頭",$D6="主任保育士",$D6="主幹教諭",$D6="主幹保育教諭"),0,BI6) -> 0 | CL6: =IF(OR($D6="副園長",$D6="教頭",$D6="主任保育士",$D6="主幹教諭",$D6="主幹保育教諭"),0,BJ6) -> 0 | CM6: =IF(OR($D6="副園長",$D6="教頭",$D6="主任保育士",$D6="主幹教諭",$D6="主幹保育教諭"),0,BK6) -> 0 | CN6: =IF(OR($D6="副園長",$D6="教頭",$D6="主任保育士",$D6="主幹教諭",$D6="主幹保育教諭"),0,BL6) -> 0 | CO6: =IF(OR($D6="副園長",$D6="教頭",$D6="主任保育士",$D6="主幹教諭",$D6="主幹保育教諭"),0,BM6) -> 0 | CP6: =IF(OR($D6="副園長",$D6="教頭",$D6="主任保育士",$D6="主幹教諭",$D6="主幹保育教諭"),0,BN6) -> 0 | ... CT6: =IF(OR($D6="副園長",$D6="教頭",$D6="主任保育士",$D6="主幹教諭",$D6="主幹保育教諭"),0,BR6) -> 0
G7: 手当 | I7: =IF(H7="","",H7) | J7: =IF(I7="","",I7) | K7: =IF(J7="","",J7) | L7: =IF(K7="","",K7) | M7: =IF(L7="","",L7) | N7: =IF(M7="","",M7) | O7: =IF(N7="","",N7) | P7: =IF(O7="","",O7) | ... S7: =IF(R7="","",R7) | T7: =SUM(H7:S7) -> 0 | V7: =IF(U7="","",U7) | W7: =IF(V7="","",V7) | X7: =IF(W7="","",W7) | Y7: =IF(X7="","",X7) | Z7: =IF(Y7="","",Y7) | AA7: =IF(Z7="","",Z7) | AB7: =IF(AA7="","",AA7) | AC7: =IF(AB7="","",AB7) | ... AF7: =IF(AE7="","",AE7) | AG7: =SUM(U7:AF7) -> 0 | AI7: =MIN(BG6:BR6) -> 0 | AN7: 1 | AO7: 1 | AP7: 2 | AQ7: =IF($AP7=1,IF(INDIRECT(ADDRESS(($AN7-1)*3+$AO7+5,$AP7+7))="",0,INDIRECT(ADDRESS(($AN7-1)*3+$AO7+5,$AP7+7))),IF(INDIRECT(ADDRESS(($AN7-1)*3+$AO7+5,$AP7+7))="",0,IF(COUNTIF(INDIRECT(ADDRESS(($AN7-1)*36+($AO7-1)*12+6,COLUMN())):INDIRECT(ADDRESS(($AN7-1)*36+($AO7-1)*12+$AP7+4,COLUMN())),INDIRECT(ADDRESS(($AN7-1)*3+$AO7+5,$AP7+7)))>=1,0,INDIRECT(ADDRESS(($AN7-1)*3+$AO7+5,$AP7+7))))) -> 0 | AR7: =COUNTIF(INDIRECT("H"&(ROW()+12*(($AN7-1)*3+$AO7)-ROW())/12+5):INDIRECT("S"&(ROW()+12*(($AN7-1)*3+$AO7)-ROW())/12+5),AQ7) -> 0 | AS7: =IF($AP7=1,IF(INDIRECT(ADDRESS(($AN7-1)*3+$AO7+5,$AP7+20))="",0,INDIRECT(ADDRESS(($AN7-1)*3+$AO7+5,$AP7+20))),IF(INDIRECT(ADDRESS(($AN7-1)*3+$AO7+5,$AP7+20))="",0,IF(COUNTIF(INDIRECT(ADDRESS(($AN7-1)*36+($AO7-1)*12+6,COLUMN())):INDIRECT(ADDRESS(($AN7-1)*36+($AO7-1)*12+$AP7+4,COLUMN())),INDIRECT(ADDRESS(($AN7-1)*3+$AO7+5,$AP7+20)))>=1,0,INDIRECT(ADDRESS(($AN7-1)*3+$AO7+5,$AP7+20))))) -> 0 | AT7: =COUNTIF(INDIRECT("U"&(ROW()+12*(($AN7-1)*3+$AO7)-ROW())/12+5):INDIRECT("AF"&(ROW()+12*(($AN7-1)*3+$AO7)-ROW())/12+5),AS7) -> 0 | AU7: =IF(AND(AQ7+AS7>0,AR7+AT7>0),COUNTIF(AU$6:AU6,">0")+1,0) -> 0 | BE7: 2 | BF7: ＞＠40000 | BG7: =IF(BG6+BT6>$AJ$27,1,0) -> 0 | BH7: =IF(BH6+BU6>$AJ$27,1,0) -> 0 | BI7: =IF(BI6+BV6>$AJ$27,1,0) -> 0 | BJ7: =IF(BJ6+BW6>$AJ$27,1,0) -> 0 | BK7: =IF(BK6+BX6>$AJ$27,1,0) -> 0 | BL7: =IF(BL6+BY6>$AJ$27,1,0) -> 0 | BM7: =IF(BM6+BZ6>$AJ$27,1,0) -> 0 | BN7: =IF(BN6+CA6>$AJ$27,1,0) -> 0 | ... BR7: =IF(BR6+CE6>$AJ$27,1,0) -> 0
G8: R8法定福利費残 | T8: =SUM(H8:S8) -> 0 | AG8: =SUM(U8:AF8) -> 0 | AN8: 1 | AO8: 1 | AP8: 3 | AQ8: =IF($AP8=1,IF(INDIRECT(ADDRESS(($AN8-1)*3+$AO8+5,$AP8+7))="",0,INDIRECT(ADDRESS(($AN8-1)*3+$AO8+5,$AP8+7))),IF(INDIRECT(ADDRESS(($AN8-1)*3+$AO8+5,$AP8+7))="",0,IF(COUNTIF(INDIRECT(ADDRESS(($AN8-1)*36+($AO8-1)*12+6,COLUMN())):INDIRECT(ADDRESS(($AN8-1)*36+($AO8-1)*12+$AP8+4,COLUMN())),INDIRECT(ADDRESS(($AN8-1)*3+$AO8+5,$AP8+7)))>=1,0,INDIRECT(ADDRESS(($AN8-1)*3+$AO8+5,$AP8+7))))) -> 0 | AR8: =COUNTIF(INDIRECT("H"&(ROW()+12*(($AN8-1)*3+$AO8)-ROW())/12+5):INDIRECT("S"&(ROW()+12*(($AN8-1)*3+$AO8)-ROW())/12+5),AQ8) -> 0 | AS8: =IF($AP8=1,IF(INDIRECT(ADDRESS(($AN8-1)*3+$AO8+5,$AP8+20))="",0,INDIRECT(ADDRESS(($AN8-1)*3+$AO8+5,$AP8+20))),IF(INDIRECT(ADDRESS(($AN8-1)*3+$AO8+5,$AP8+20))="",0,IF(COUNTIF(INDIRECT(ADDRESS(($AN8-1)*36+($AO8-1)*12+6,COLUMN())):INDIRECT(ADDRESS(($AN8-1)*36+($AO8-1)*12+$AP8+4,COLUMN())),INDIRECT(ADDRESS(($AN8-1)*3+$AO8+5,$AP8+20)))>=1,0,INDIRECT(ADDRESS(($AN8-1)*3+$AO8+5,$AP8+20))))) -> 0 | AT8: =COUNTIF(INDIRECT("U"&(ROW()+12*(($AN8-1)*3+$AO8)-ROW())/12+5):INDIRECT("AF"&(ROW()+12*(($AN8-1)*3+$AO8)-ROW())/12+5),AS8) -> 0 | AU8: =IF(AND(AQ8+AS8>0,AR8+AT8>0),COUNTIF(AU$6:AU7,">0")+1,0) -> 0 | BE8: 3
A9: 2 | G9: 基本給 | I9: =IF(H9="","",H9) | J9: =IF(I9="","",I9) | K9: =IF(J9="","",J9) | L9: =IF(K9="","",K9) | M9: =IF(L9="","",L9) | N9: =IF(M9="","",M9) | O9: =IF(N9="","",N9) | P9: =IF(O9="","",O9) | ... S9: =IF(R9="","",R9) | T9: =SUM(H9:S9) -> 0 | V9: =IF(U9="","",U9) | W9: =IF(V9="","",V9) | X9: =IF(W9="","",W9) | Y9: =IF(X9="","",X9) | Z9: =IF(Y9="","",Y9) | AA9: =IF(Z9="","",Z9) | AB9: =IF(AA9="","",AA9) | AC9: =IF(AB9="","",AB9) | ... AF9: =IF(AE9="","",AE9) | AG9: =SUM(U9:AF9) -> 0 | AN9: 1 | AO9: 1 | AP9: 4 | AQ9: =IF($AP9=1,IF(INDIRECT(ADDRESS(($AN9-1)*3+$AO9+5,$AP9+7))="",0,INDIRECT(ADDRESS(($AN9-1)*3+$AO9+5,$AP9+7))),IF(INDIRECT(ADDRESS(($AN9-1)*3+$AO9+5,$AP9+7))="",0,IF(COUNTIF(INDIRECT(ADDRESS(($AN9-1)*36+($AO9-1)*12+6,COLUMN())):INDIRECT(ADDRESS(($AN9-1)*36+($AO9-1)*12+$AP9+4,COLUMN())),INDIRECT(ADDRESS(($AN9-1)*3+$AO9+5,$AP9+7)))>=1,0,INDIRECT(ADDRESS(($AN9-1)*3+$AO9+5,$AP9+7))))) -> 0 | AR9: =COUNTIF(INDIRECT("H"&(ROW()+12*(($AN9-1)*3+$AO9)-ROW())/12+5):INDIRECT("S"&(ROW()+12*(($AN9-1)*3+$AO9)-ROW())/12+5),AQ9) -> 0 | AS9: =IF($AP9=1,IF(INDIRECT(ADDRESS(($AN9-1)*3+$AO9+5,$AP9+20))="",0,INDIRECT(ADDRESS(($AN9-1)*3+$AO9+5,$AP9+20))),IF(INDIRECT(ADDRESS(($AN9-1)*3+$AO9+5,$AP9+20))="",0,IF(COUNTIF(INDIRECT(ADDRESS(($AN9-1)*36+($AO9-1)*12+6,COLUMN())):INDIRECT(ADDRESS(($AN9-1)*36+($AO9-1)*12+$AP9+4,COLUMN())),INDIRECT(ADDRESS(($AN9-1)*3+$AO9+5,$AP9+20)))>=1,0,INDIRECT(ADDRESS(($AN9-1)*3+$AO9+5,$AP9+20))))) -> 0 | AT9: =COUNTIF(INDIRECT("U"&(ROW()+12*(($AN9-1)*3+$AO9)-ROW())/12+5):INDIRECT("AF"&(ROW()+12*(($AN9-1)*3+$AO9)-ROW())/12+5),AS9) -> 0 | AU9: =IF(AND(AQ9+AS9>0,AR9+AT9>0),COUNTIF(AU$6:AU8,">0")+1,0) -> 0 | BE9: 1 | BG9: =SUM(H9:H10) -> 0 | BH9: =SUM(I9:I10) -> 0 | BI9: =SUM(J9:J10) -> 0 | BJ9: =SUM(K9:K10) -> 0 | BK9: =SUM(L9:L10) -> 0 | BL9: =SUM(M9:M10) -> 0 | BM9: =SUM(N9:N10) -> 0 | BN9: =SUM(O9:O10) -> 0 | ... BR9: =SUM(S9:S10) -> 0 | BT9: =SUM(U9:U10) -> 0 | BU9: =SUM(V9:V10) -> 0 | BV9: =SUM(W9:W10) -> 0 | BW9: =SUM(X9:X10) -> 0 | BX9: =SUM(Y9:Y10) -> 0 | BY9: =SUM(Z9:Z10) -> 0 | BZ9: =SUM(AA9:AA10) -> 0 | CA9: =SUM(AB9:AB10) -> 0 | ... CE9: =SUM(AF9:AF10) -> 0 | CH9: min対象 | CI9: =IF(OR($D9="副園長",$D9="教頭",$D9="主任保育士",$D9="主幹教諭",$D9="主幹保育教諭"),0,BG9) -> 0 | CJ9: =IF(OR($D9="副園長",$D9="教頭",$D9="主任保育士",$D9="主幹教諭",$D9="主幹保育教諭"),0,BH9) -> 0 | CK9: =IF(OR($D9="副園長",$D9="教頭",$D9="主任保育士",$D9="主幹教諭",$D9="主幹保育教諭"),0,BI9) -> 0 | CL9: =IF(OR($D9="副園長",$D9="教頭",$D9="主任保育士",$D9="主幹教諭",$D9="主幹保育教諭"),0,BJ9) -> 0 | CM9: =IF(OR($D9="副園長",$D9="教頭",$D9="主任保育士",$D9="主幹教諭",$D9="主幹保育教諭"),0,BK9) -> 0 | CN9: =IF(OR($D9="副園長",$D9="教頭",$D9="主任保育士",$D9="主幹教諭",$D9="主幹保育教諭"),0,BL9) -> 0 | CO9: =IF(OR($D9="副園長",$D9="教頭",$D9="主任保育士",$D9="主幹教諭",$D9="主幹保育教諭"),0,BM9) -> 0 | CP9: =IF(OR($D9="副園長",$D9="教頭",$D9="主任保育士",$D9="主幹教諭",$D9="主幹保育教諭"),0,BN9) -> 0 | ... CT9: =IF(OR($D9="副園長",$D9="教頭",$D9="主任保育士",$D9="主幹教諭",$D9="主幹保育教諭"),0,BR9) -> 0
G10: 手当 | I10: =IF(H10="","",H10) | J10: =IF(I10="","",I10) | K10: =IF(J10="","",J10) | L10: =IF(K10="","",K10) | M10: =IF(L10="","",L10) | N10: =IF(M10="","",M10) | O10: =IF(N10="","",N10) | P10: =IF(O10="","",O10) | ... S10: =IF(R10="","",R10) | T10: =SUM(H10:S10) -> 0 | V10: =IF(U10="","",U10) | W10: =IF(V10="","",V10) | X10: =IF(W10="","",W10) | Y10: =IF(X10="","",X10) | Z10: =IF(Y10="","",Y10) | AA10: =IF(Z10="","",Z10) | AB10: =IF(AA10="","",AA10) | AC10: =IF(AB10="","",AB10) | ... AF10: =IF(AE10="","",AE10) | AG10: =SUM(U10:AF10) -> 0 | AI10: 相当する職名 | AJ10: 職種 | AN10: 1 | AO10: 1 | AP10: 5 | AQ10: =IF($AP10=1,IF(INDIRECT(ADDRESS(($AN10-1)*3+$AO10+5,$AP10+7))="",0,INDIRECT(ADDRESS(($AN10-1)*3+$AO10+5,$AP10+7))),IF(INDIRECT(ADDRESS(($AN10-1)*3+$AO10+5,$AP10+7))="",0,IF(COUNTIF(INDIRECT(ADDRESS(($AN10-1)*36+($AO10-1)*12+6,COLUMN())):INDIRECT(ADDRESS(($AN10-1)*36+($AO10-1)*12+$AP10+4,COLUMN())),INDIRECT(ADDRESS(($AN10-1)*3+$AO10+5,$AP10+7)))>=1,0,INDIRECT(ADDRESS(($AN10-1)*3+$AO10+5,$AP10+7))))) -> 0 | AR10: =COUNTIF(INDIRECT("H"&(ROW()+12*(($AN10-1)*3+$AO10)-ROW())/12+5):INDIRECT("S"&(ROW()+12*(($AN10-1)*3+$AO10)-ROW())/12+5),AQ10) -> 0 | AS10: =IF($AP10=1,IF(INDIRECT(ADDRESS(($AN10-1)*3+$AO10+5,$AP10+20))="",0,INDIRECT(ADDRESS(($AN10-1)*3+$AO10+5,$AP10+20))),IF(INDIRECT(ADDRESS(($AN10-1)*3+$AO10+5,$AP10+20))="",0,IF(COUNTIF(INDIRECT(ADDRESS(($AN10-1)*36+($AO10-1)*12+6,COLUMN())):INDIRECT(ADDRESS(($AN10-1)*36+($AO10-1)*12+$AP10+4,COLUMN())),INDIRECT(ADDRESS(($AN10-1)*3+$AO10+5,$AP10+20)))>=1,0,INDIRECT(ADDRESS(($AN10-1)*3+$AO10+5,$AP10+20))))) -> 0 | AT10: =COUNTIF(INDIRECT("U"&(ROW()+12*(($AN10-1)*3+$AO10)-ROW())/12+5):INDIRECT("AF"&(ROW()+12*(($AN10-1)*3+$AO10)-ROW())/12+5),AS10) -> 0 | AU10: =IF(AND(AQ10+AS10>0,AR10+AT10>0),COUNTIF(AU$6:AU9,">0")+1,0) -> 0 | BE10: 2 | BF10: ＞＠40000 | BG10: =IF(BG9+BT9>$AJ$27,1,0) -> 0 | BH10: =IF(BH9+BU9>$AJ$27,1,0) -> 0 | BI10: =IF(BI9+BV9>$AJ$27,1,0) -> 0 | BJ10: =IF(BJ9+BW9>$AJ$27,1,0) -> 0 | BK10: =IF(BK9+BX9>$AJ$27,1,0) -> 0 | BL10: =IF(BL9+BY9>$AJ$27,1,0) -> 0 | BM10: =IF(BM9+BZ9>$AJ$27,1,0) -> 0 | BN10: =IF(BN9+CA9>$AJ$27,1,0) -> 0 | ... BR10: =IF(BR9+CE9>$AJ$27,1,0) -> 0
G11: R8法定福利費残 | T11: =SUM(H11:S11) -> 0 | AG11: =SUM(U11:AF11) -> 0 | AI11: 園長 | AJ11: 園長 | AN11: 1 | AO11: 1 | AP11: 6 | AQ11: =IF($AP11=1,IF(INDIRECT(ADDRESS(($AN11-1)*3+$AO11+5,$AP11+7))="",0,INDIRECT(ADDRESS(($AN11-1)*3+$AO11+5,$AP11+7))),IF(INDIRECT(ADDRESS(($AN11-1)*3+$AO11+5,$AP11+7))="",0,IF(COUNTIF(INDIRECT(ADDRESS(($AN11-1)*36+($AO11-1)*12+6,COLUMN())):INDIRECT(ADDRESS(($AN11-1)*36+($AO11-1)*12+$AP11+4,COLUMN())),INDIRECT(ADDRESS(($AN11-1)*3+$AO11+5,$AP11+7)))>=1,0,INDIRECT(ADDRESS(($AN11-1)*3+$AO11+5,$AP11+7))))) -> 0 | AR11: =COUNTIF(INDIRECT("H"&(ROW()+12*(($AN11-1)*3+$AO11)-ROW())/12+5):INDIRECT("S"&(ROW()+12*(($AN11-1)*3+$AO11)-ROW())/12+5),AQ11) -> 0 | AS11: =IF($AP11=1,IF(INDIRECT(ADDRESS(($AN11-1)*3+$AO11+5,$AP11+20))="",0,INDIRECT(ADDRESS(($AN11-1)*3+$AO11+5,$AP11+20))),IF(INDIRECT(ADDRESS(($AN11-1)*3+$AO11+5,$AP11+20))="",0,IF(COUNTIF(INDIRECT(ADDRESS(($AN11-1)*36+($AO11-1)*12+6,COLUMN())):INDIRECT(ADDRESS(($AN11-1)*36+($AO11-1)*12+$AP11+4,COLUMN())),INDIRECT(ADDRESS(($AN11-1)*3+$AO11+5,$AP11+20)))>=1,0,INDIRECT(ADDRESS(($AN11-1)*3+$AO11+5,$AP11+20))))) -> 0 | AT11: =COUNTIF(INDIRECT("U"&(ROW()+12*(($AN11-1)*3+$AO11)-ROW())/12+5):INDIRECT("AF"&(ROW()+12*(($AN11-1)*3+$AO11)-ROW())/12+5),AS11) -> 0 | AU11: =IF(AND(AQ11+AS11>0,AR11+AT11>0),COUNTIF(AU$6:AU10,">0")+1,0) -> 0 | BE11: 3
A12: 3 | G12: 基本給 | I12: =IF(H12="","",H12) | J12: =IF(I12="","",I12) | K12: =IF(J12="","",J12) | L12: =IF(K12="","",K12) | M12: =IF(L12="","",L12) | N12: =IF(M12="","",M12) | O12: =IF(N12="","",N12) | P12: =IF(O12="","",O12) | ... S12: =IF(R12="","",R12) | T12: =SUM(H12:S12) -> 0 | V12: =IF(U12="","",U12) | W12: =IF(V12="","",V12) | X12: =IF(W12="","",W12) | Y12: =IF(X12="","",X12) | Z12: =IF(Y12="","",Y12) | AA12: =IF(Z12="","",Z12) | AB12: =IF(AA12="","",AA12) | AC12: =IF(AB12="","",AB12) | ... AF12: =IF(AE12="","",AE12) | AG12: =SUM(U12:AF12) -> 0 | AI12: 副園長 | AJ12: 副園長・教頭 | AN12: 1 | AO12: 1 | AP12: 7 | AQ12: =IF($AP12=1,IF(INDIRECT(ADDRESS(($AN12-1)*3+$AO12+5,$AP12+7))="",0,INDIRECT(ADDRESS(($AN12-1)*3+$AO12+5,$AP12+7))),IF(INDIRECT(ADDRESS(($AN12-1)*3+$AO12+5,$AP12+7))="",0,IF(COUNTIF(INDIRECT(ADDRESS(($AN12-1)*36+($AO12-1)*12+6,COLUMN())):INDIRECT(ADDRESS(($AN12-1)*36+($AO12-1)*12+$AP12+4,COLUMN())),INDIRECT(ADDRESS(($AN12-1)*3+$AO12+5,$AP12+7)))>=1,0,INDIRECT(ADDRESS(($AN12-1)*3+$AO12+5,$AP12+7))))) -> 0 | AR12: =COUNTIF(INDIRECT("H"&(ROW()+12*(($AN12-1)*3+$AO12)-ROW())/12+5):INDIRECT("S"&(ROW()+12*(($AN12-1)*3+$AO12)-ROW())/12+5),AQ12) -> 0 | AS12: =IF($AP12=1,IF(INDIRECT(ADDRESS(($AN12-1)*3+$AO12+5,$AP12+20))="",0,INDIRECT(ADDRESS(($AN12-1)*3+$AO12+5,$AP12+20))),IF(INDIRECT(ADDRESS(($AN12-1)*3+$AO12+5,$AP12+20))="",0,IF(COUNTIF(INDIRECT(ADDRESS(($AN12-1)*36+($AO12-1)*12+6,COLUMN())):INDIRECT(ADDRESS(($AN12-1)*36+($AO12-1)*12+$AP12+4,COLUMN())),INDIRECT(ADDRESS(($AN12-1)*3+$AO12+5,$AP12+20)))>=1,0,INDIRECT(ADDRESS(($AN12-1)*3+$AO12+5,$AP12+20))))) -> 0 | AT12: =COUNTIF(INDIRECT("U"&(ROW()+12*(($AN12-1)*3+$AO12)-ROW())/12+5):INDIRECT("AF"&(ROW()+12*(($AN12-1)*3+$AO12)-ROW())/12+5),AS12) -> 0 | AU12: =IF(AND(AQ12+AS12>0,AR12+AT12>0),COUNTIF(AU$6:AU11,">0")+1,0) -> 0 | BE12: 1 | BG12: =SUM(H12:H13) -> 0 | BH12: =SUM(I12:I13) -> 0 | BI12: =SUM(J12:J13) -> 0 | BJ12: =SUM(K12:K13) -> 0 | BK12: =SUM(L12:L13) -> 0 | BL12: =SUM(M12:M13) -> 0 | BM12: =SUM(N12:N13) -> 0 | BN12: =SUM(O12:O13) -> 0 | ... BR12: =SUM(S12:S13) -> 0 | BT12: =SUM(U12:U13) -> 0 | BU12: =SUM(V12:V13) -> 0 | BV12: =SUM(W12:W13) -> 0 | BW12: =SUM(X12:X13) -> 0 | BX12: =SUM(Y12:Y13) -> 0 | BY12: =SUM(Z12:Z13) -> 0 | BZ12: =SUM(AA12:AA13) -> 0 | CA12: =SUM(AB12:AB13) -> 0 | ... CE12: =SUM(AF12:AF13) -> 0 | CH12: min対象 | CI12: =IF(OR($D12="副園長",$D12="教頭",$D12="主任保育士",$D12="主幹教諭",$D12="主幹保育教諭"),0,BG12) -> 0 | CJ12: =IF(OR($D12="副園長",$D12="教頭",$D12="主任保育士",$D12="主幹教諭",$D12="主幹保育教諭"),0,BH12) -> 0 | CK12: =IF(OR($D12="副園長",$D12="教頭",$D12="主任保育士",$D12="主幹教諭",$D12="主幹保育教諭"),0,BI12) -> 0 | CL12: =IF(OR($D12="副園長",$D12="教頭",$D12="主任保育士",$D12="主幹教諭",$D12="主幹保育教諭"),0,BJ12) -> 0 | CM12: =IF(OR($D12="副園長",$D12="教頭",$D12="主任保育士",$D12="主幹教諭",$D12="主幹保育教諭"),0,BK12) -> 0 | CN12: =IF(OR($D12="副園長",$D12="教頭",$D12="主任保育士",$D12="主幹教諭",$D12="主幹保育教諭"),0,BL12) -> 0 | CO12: =IF(OR($D12="副園長",$D12="教頭",$D12="主任保育士",$D12="主幹教諭",$D12="主幹保育教諭"),0,BM12) -> 0 | CP12: =IF(OR($D12="副園長",$D12="教頭",$D12="主任保育士",$D12="主幹教諭",$D12="主幹保育教諭"),0,BN12) -> 0 | ... CT12: =IF(OR($D12="副園長",$D12="教頭",$D12="主任保育士",$D12="主幹教諭",$D12="主幹保育教諭"),0,BR12) -> 0
G13: 手当 | I13: =IF(H13="","",H13) | J13: =IF(I13="","",I13) | K13: =IF(J13="","",J13) | L13: =IF(K13="","",K13) | M13: =IF(L13="","",L13) | N13: =IF(M13="","",M13) | O13: =IF(N13="","",N13) | P13: =IF(O13="","",O13) | ... S13: =IF(R13="","",R13) | T13: =SUM(H13:S13) -> 0 | V13: =IF(U13="","",U13) | W13: =IF(V13="","",V13) | X13: =IF(W13="","",W13) | Y13: =IF(X13="","",X13) | Z13: =IF(Y13="","",Y13) | AA13: =IF(Z13="","",Z13) | AB13: =IF(AA13="","",AA13) | AC13: =IF(AB13="","",AB13) | ... AF13: =IF(AE13="","",AE13) | AG13: =SUM(U13:AF13) -> 0 | AI13: 教頭 | AJ13: 保育教諭 | AN13: 1 | AO13: 1 | AP13: 8 | AQ13: =IF($AP13=1,IF(INDIRECT(ADDRESS(($AN13-1)*3+$AO13+5,$AP13+7))="",0,INDIRECT(ADDRESS(($AN13-1)*3+$AO13+5,$AP13+7))),IF(INDIRECT(ADDRESS(($AN13-1)*3+$AO13+5,$AP13+7))="",0,IF(COUNTIF(INDIRECT(ADDRESS(($AN13-1)*36+($AO13-1)*12+6,COLUMN())):INDIRECT(ADDRESS(($AN13-1)*36+($AO13-1)*12+$AP13+4,COLUMN())),INDIRECT(ADDRESS(($AN13-1)*3+$AO13+5,$AP13+7)))>=1,0,INDIRECT(ADDRESS(($AN13-1)*3+$AO13+5,$AP13+7))))) -> 0 | AR13: =COUNTIF(INDIRECT("H"&(ROW()+12*(($AN13-1)*3+$AO13)-ROW())/12+5):INDIRECT("S"&(ROW()+12*(($AN13-1)*3+$AO13)-ROW())/12+5),AQ13) -> 0 | AS13: =IF($AP13=1,IF(INDIRECT(ADDRESS(($AN13-1)*3+$AO13+5,$AP13+20))="",0,INDIRECT(ADDRESS(($AN13-1)*3+$AO13+5,$AP13+20))),IF(INDIRECT(ADDRESS(($AN13-1)*3+$AO13+5,$AP13+20))="",0,IF(COUNTIF(INDIRECT(ADDRESS(($AN13-1)*36+($AO13-1)*12+6,COLUMN())):INDIRECT(ADDRESS(($AN13-1)*36+($AO13-1)*12+$AP13+4,COLUMN())),INDIRECT(ADDRESS(($AN13-1)*3+$AO13+5,$AP13+20)))>=1,0,INDIRECT(ADDRESS(($AN13-1)*3+$AO13+5,$AP13+20))))) -> 0 | AT13: =COUNTIF(INDIRECT("U"&(ROW()+12*(($AN13-1)*3+$AO13)-ROW())/12+5):INDIRECT("AF"&(ROW()+12*(($AN13-1)*3+$AO13)-ROW())/12+5),AS13) -> 0 | AU13: =IF(AND(AQ13+AS13>0,AR13+AT13>0),COUNTIF(AU$6:AU12,">0")+1,0) -> 0 | BE13: 2 | BF13: ＞＠40000 | BG13: =IF(BG12+BT12>$AJ$27,1,0) -> 0 | BH13: =IF(BH12+BU12>$AJ$27,1,0) -> 0 | BI13: =IF(BI12+BV12>$AJ$27,1,0) -> 0 | BJ13: =IF(BJ12+BW12>$AJ$27,1,0) -> 0 | BK13: =IF(BK12+BX12>$AJ$27,1,0) -> 0 | BL13: =IF(BL12+BY12>$AJ$27,1,0) -> 0 | BM13: =IF(BM12+BZ12>$AJ$27,1,0) -> 0 | BN13: =IF(BN12+CA12>$AJ$27,1,0) -> 0 | ... BR13: =IF(BR12+CE12>$AJ$27,1,0) -> 0
G14: R8法定福利費残 | T14: =SUM(H14:S14) -> 0 | AG14: =SUM(U14:AF14) -> 0 | AI14: 主任保育士 | AJ14: 教諭 | AN14: 1 | AO14: 1 | AP14: 9 | AQ14: =IF($AP14=1,IF(INDIRECT(ADDRESS(($AN14-1)*3+$AO14+5,$AP14+7))="",0,INDIRECT(ADDRESS(($AN14-1)*3+$AO14+5,$AP14+7))),IF(INDIRECT(ADDRESS(($AN14-1)*3+$AO14+5,$AP14+7))="",0,IF(COUNTIF(INDIRECT(ADDRESS(($AN14-1)*36+($AO14-1)*12+6,COLUMN())):INDIRECT(ADDRESS(($AN14-1)*36+($AO14-1)*12+$AP14+4,COLUMN())),INDIRECT(ADDRESS(($AN14-1)*3+$AO14+5,$AP14+7)))>=1,0,INDIRECT(ADDRESS(($AN14-1)*3+$AO14+5,$AP14+7))))) -> 0 | AR14: =COUNTIF(INDIRECT("H"&(ROW()+12*(($AN14-1)*3+$AO14)-ROW())/12+5):INDIRECT("S"&(ROW()+12*(($AN14-1)*3+$AO14)-ROW())/12+5),AQ14) -> 0 | AS14: =IF($AP14=1,IF(INDIRECT(ADDRESS(($AN14-1)*3+$AO14+5,$AP14+20))="",0,INDIRECT(ADDRESS(($AN14-1)*3+$AO14+5,$AP14+20))),IF(INDIRECT(ADDRESS(($AN14-1)*3+$AO14+5,$AP14+20))="",0,IF(COUNTIF(INDIRECT(ADDRESS(($AN14-1)*36+($AO14-1)*12+6,COLUMN())):INDIRECT(ADDRESS(($AN14-1)*36+($AO14-1)*12+$AP14+4,COLUMN())),INDIRECT(ADDRESS(($AN14-1)*3+$AO14+5,$AP14+20)))>=1,0,INDIRECT(ADDRESS(($AN14-1)*3+$AO14+5,$AP14+20))))) -> 0 | AT14: =COUNTIF(INDIRECT("U"&(ROW()+12*(($AN14-1)*3+$AO14)-ROW())/12+5):INDIRECT("AF"&(ROW()+12*(($AN14-1)*3+$AO14)-ROW())/12+5),AS14) -> 0 | AU14: =IF(AND(AQ14+AS14>0,AR14+AT14>0),COUNTIF(AU$6:AU13,">0")+1,0) -> 0 | BE14: 3
A15: 4 | G15: 基本給 | I15: =IF(H15="","",H15) | J15: =IF(I15="","",I15) | K15: =IF(J15="","",J15) | L15: =IF(K15="","",K15) | M15: =IF(L15="","",L15) | N15: =IF(M15="","",M15) | O15: =IF(N15="","",N15) | P15: =IF(O15="","",O15) | ... S15: =IF(R15="","",R15) | T15: =SUM(H15:S15) -> 0 | V15: =IF(U15="","",U15) | W15: =IF(V15="","",V15) | X15: =IF(W15="","",W15) | Y15: =IF(X15="","",X15) | Z15: =IF(Y15="","",Y15) | AA15: =IF(Z15="","",Z15) | AB15: =IF(AA15="","",AA15) | AC15: =IF(AB15="","",AB15) | ... AF15: =IF(AE15="","",AE15) | AG15: =SUM(U15:AF15) -> 0 | AI15: 主幹教諭 | AJ15: 保育士 | AN15: 1 | AO15: 1 | AP15: 10 | AQ15: =IF($AP15=1,IF(INDIRECT(ADDRESS(($AN15-1)*3+$AO15+5,$AP15+7))="",0,INDIRECT(ADDRESS(($AN15-1)*3+$AO15+5,$AP15+7))),IF(INDIRECT(ADDRESS(($AN15-1)*3+$AO15+5,$AP15+7))="",0,IF(COUNTIF(INDIRECT(ADDRESS(($AN15-1)*36+($AO15-1)*12+6,COLUMN())):INDIRECT(ADDRESS(($AN15-1)*36+($AO15-1)*12+$AP15+4,COLUMN())),INDIRECT(ADDRESS(($AN15-1)*3+$AO15+5,$AP15+7)))>=1,0,INDIRECT(ADDRESS(($AN15-1)*3+$AO15+5,$AP15+7))))) -> 0 | AR15: =COUNTIF(INDIRECT("H"&(ROW()+12*(($AN15-1)*3+$AO15)-ROW())/12+5):INDIRECT("S"&(ROW()+12*(($AN15-1)*3+$AO15)-ROW())/12+5),AQ15) -> 0 | AS15: =IF($AP15=1,IF(INDIRECT(ADDRESS(($AN15-1)*3+$AO15+5,$AP15+20))="",0,INDIRECT(ADDRESS(($AN15-1)*3+$AO15+5,$AP15+20))),IF(INDIRECT(ADDRESS(($AN15-1)*3+$AO15+5,$AP15+20))="",0,IF(COUNTIF(INDIRECT(ADDRESS(($AN15-1)*36+($AO15-1)*12+6,COLUMN())):INDIRECT(ADDRESS(($AN15-1)*36+($AO15-1)*12+$AP15+4,COLUMN())),INDIRECT(ADDRESS(($AN15-1)*3+$AO15+5,$AP15+20)))>=1,0,INDIRECT(ADDRESS(($AN15-1)*3+$AO15+5,$AP15+20))))) -> 0 | AT15: =COUNTIF(INDIRECT("U"&(ROW()+12*(($AN15-1)*3+$AO15)-ROW())/12+5):INDIRECT("AF"&(ROW()+12*(($AN15-1)*3+$AO15)-ROW())/12+5),AS15) -> 0 | AU15: =IF(AND(AQ15+AS15>0,AR15+AT15>0),COUNTIF(AU$6:AU14,">0")+1,0) -> 0 | BE15: 1 | BG15: =SUM(H15:H16) -> 0 | BH15: =SUM(I15:I16) -> 0 | BI15: =SUM(J15:J16) -> 0 | BJ15: =SUM(K15:K16) -> 0 | BK15: =SUM(L15:L16) -> 0 | BL15: =SUM(M15:M16) -> 0 | BM15: =SUM(N15:N16) -> 0 | BN15: =SUM(O15:O16) -> 0 | ... BR15: =SUM(S15:S16) -> 0 | BT15: =SUM(U15:U16) -> 0 | BU15: =SUM(V15:V16) -> 0 | BV15: =SUM(W15:W16) -> 0 | BW15: =SUM(X15:X16) -> 0 | BX15: =SUM(Y15:Y16) -> 0 | BY15: =SUM(Z15:Z16) -> 0 | BZ15: =SUM(AA15:AA16) -> 0 | CA15: =SUM(AB15:AB16) -> 0 | ... CE15: =SUM(AF15:AF16) -> 0 | CH15: min対象 | CI15: =IF(OR($D15="副園長",$D15="教頭",$D15="主任保育士",$D15="主幹教諭",$D15="主幹保育教諭"),0,BG15) -> 0 | CJ15: =IF(OR($D15="副園長",$D15="教頭",$D15="主任保育士",$D15="主幹教諭",$D15="主幹保育教諭"),0,BH15) -> 0 | CK15: =IF(OR($D15="副園長",$D15="教頭",$D15="主任保育士",$D15="主幹教諭",$D15="主幹保育教諭"),0,BI15) -> 0 | CL15: =IF(OR($D15="副園長",$D15="教頭",$D15="主任保育士",$D15="主幹教諭",$D15="主幹保育教諭"),0,BJ15) -> 0 | CM15: =IF(OR($D15="副園長",$D15="教頭",$D15="主任保育士",$D15="主幹教諭",$D15="主幹保育教諭"),0,BK15) -> 0 | CN15: =IF(OR($D15="副園長",$D15="教頭",$D15="主任保育士",$D15="主幹教諭",$D15="主幹保育教諭"),0,BL15) -> 0 | CO15: =IF(OR($D15="副園長",$D15="教頭",$D15="主任保育士",$D15="主幹教諭",$D15="主幹保育教諭"),0,BM15) -> 0 | CP15: =IF(OR($D15="副園長",$D15="教頭",$D15="主任保育士",$D15="主幹教諭",$D15="主幹保育教諭"),0,BN15) -> 0 | ... CT15: =IF(OR($D15="副園長",$D15="教頭",$D15="主任保育士",$D15="主幹教諭",$D15="主幹保育教諭"),0,BR15) -> 0
G16: 手当 | I16: =IF(H16="","",H16) | J16: =IF(I16="","",I16) | K16: =IF(J16="","",J16) | L16: =IF(K16="","",K16) | M16: =IF(L16="","",L16) | N16: =IF(M16="","",M16) | O16: =IF(N16="","",N16) | P16: =IF(O16="","",O16) | ... S16: =IF(R16="","",R16) | T16: =SUM(H16:S16) -> 0 | V16: =IF(U16="","",U16) | W16: =IF(V16="","",V16) | X16: =IF(W16="","",W16) | Y16: =IF(X16="","",X16) | Z16: =IF(Y16="","",Y16) | AA16: =IF(Z16="","",Z16) | AB16: =IF(AA16="","",AA16) | AC16: =IF(AB16="","",AB16) | ... AF16: =IF(AE16="","",AE16) | AG16: =SUM(U16:AF16) -> 0 | AI16: 主幹保育教諭 | AJ16: 保育従事者（無資格） | AN16: 1 | AO16: 1 | AP16: 11 | AQ16: =IF($AP16=1,IF(INDIRECT(ADDRESS(($AN16-1)*3+$AO16+5,$AP16+7))="",0,INDIRECT(ADDRESS(($AN16-1)*3+$AO16+5,$AP16+7))),IF(INDIRECT(ADDRESS(($AN16-1)*3+$AO16+5,$AP16+7))="",0,IF(COUNTIF(INDIRECT(ADDRESS(($AN16-1)*36+($AO16-1)*12+6,COLUMN())):INDIRECT(ADDRESS(($AN16-1)*36+($AO16-1)*12+$AP16+4,COLUMN())),INDIRECT(ADDRESS(($AN16-1)*3+$AO16+5,$AP16+7)))>=1,0,INDIRECT(ADDRESS(($AN16-1)*3+$AO16+5,$AP16+7))))) -> 0 | AR16: =COUNTIF(INDIRECT("H"&(ROW()+12*(($AN16-1)*3+$AO16)-ROW())/12+5):INDIRECT("S"&(ROW()+12*(($AN16-1)*3+$AO16)-ROW())/12+5),AQ16) -> 0 | AS16: =IF($AP16=1,IF(INDIRECT(ADDRESS(($AN16-1)*3+$AO16+5,$AP16+20))="",0,INDIRECT(ADDRESS(($AN16-1)*3+$AO16+5,$AP16+20))),IF(INDIRECT(ADDRESS(($AN16-1)*3+$AO16+5,$AP16+20))="",0,IF(COUNTIF(INDIRECT(ADDRESS(($AN16-1)*36+($AO16-1)*12+6,COLUMN())):INDIRECT(ADDRESS(($AN16-1)*36+($AO16-1)*12+$AP16+4,COLUMN())),INDIRECT(ADDRESS(($AN16-1)*3+$AO16+5,$AP16+20)))>=1,0,INDIRECT(ADDRESS(($AN16-1)*3+$AO16+5,$AP16+20))))) -> 0 | AT16: =COUNTIF(INDIRECT("U"&(ROW()+12*(($AN16-1)*3+$AO16)-ROW())/12+5):INDIRECT("AF"&(ROW()+12*(($AN16-1)*3+$AO16)-ROW())/12+5),AS16) -> 0 | AU16: =IF(AND(AQ16+AS16>0,AR16+AT16>0),COUNTIF(AU$6:AU15,">0")+1,0) -> 0 | BE16: 2 | BF16: ＞＠40000 | BG16: =IF(BG15+BT15>$AJ$27,1,0) -> 0 | BH16: =IF(BH15+BU15>$AJ$27,1,0) -> 0 | BI16: =IF(BI15+BV15>$AJ$27,1,0) -> 0 | BJ16: =IF(BJ15+BW15>$AJ$27,1,0) -> 0 | BK16: =IF(BK15+BX15>$AJ$27,1,0) -> 0 | BL16: =IF(BL15+BY15>$AJ$27,1,0) -> 0 | BM16: =IF(BM15+BZ15>$AJ$27,1,0) -> 0 | BN16: =IF(BN15+CA15>$AJ$27,1,0) -> 0 | ... BR16: =IF(BR15+CE15>$AJ$27,1,0) -> 0
G17: R8法定福利費残 | T17: =SUM(H17:S17) -> 0 | AG17: =SUM(U17:AF17) -> 0 | AI17: 中核リーダー | AJ17: 栄養士 | AN17: 1 | AO17: 1 | AP17: 12 | AQ17: =IF($AP17=1,IF(INDIRECT(ADDRESS(($AN17-1)*3+$AO17+5,$AP17+7))="",0,INDIRECT(ADDRESS(($AN17-1)*3+$AO17+5,$AP17+7))),IF(INDIRECT(ADDRESS(($AN17-1)*3+$AO17+5,$AP17+7))="",0,IF(COUNTIF(INDIRECT(ADDRESS(($AN17-1)*36+($AO17-1)*12+6,COLUMN())):INDIRECT(ADDRESS(($AN17-1)*36+($AO17-1)*12+$AP17+4,COLUMN())),INDIRECT(ADDRESS(($AN17-1)*3+$AO17+5,$AP17+7)))>=1,0,INDIRECT(ADDRESS(($AN17-1)*3+$AO17+5,$AP17+7))))) -> 0 | AR17: =COUNTIF(INDIRECT("H"&(ROW()+12*(($AN17-1)*3+$AO17)-ROW())/12+5):INDIRECT("S"&(ROW()+12*(($AN17-1)*3+$AO17)-ROW())/12+5),AQ17) -> 0 | AS17: =IF($AP17=1,IF(INDIRECT(ADDRESS(($AN17-1)*3+$AO17+5,$AP17+20))="",0,INDIRECT(ADDRESS(($AN17-1)*3+$AO17+5,$AP17+20))),IF(INDIRECT(ADDRESS(($AN17-1)*3+$AO17+5,$AP17+20))="",0,IF(COUNTIF(INDIRECT(ADDRESS(($AN17-1)*36+($AO17-1)*12+6,COLUMN())):INDIRECT(ADDRESS(($AN17-1)*36+($AO17-1)*12+$AP17+4,COLUMN())),INDIRECT(ADDRESS(($AN17-1)*3+$AO17+5,$AP17+20)))>=1,0,INDIRECT(ADDRESS(($AN17-1)*3+$AO17+5,$AP17+20))))) -> 0 | AT17: =COUNTIF(INDIRECT("U"&(ROW()+12*(($AN17-1)*3+$AO17)-ROW())/12+5):INDIRECT("AF"&(ROW()+12*(($AN17-1)*3+$AO17)-ROW())/12+5),AS17) -> 0 | AU17: =IF(AND(AQ17+AS17>0,AR17+AT17>0),COUNTIF(AU$6:AU16,">0")+1,0) -> 0 | BE17: 3
A18: 5 | G18: 基本給 | I18: =IF(H18="","",H18) | J18: =IF(I18="","",I18) | K18: =IF(J18="","",J18) | L18: =IF(K18="","",K18) | M18: =IF(L18="","",L18) | N18: =IF(M18="","",M18) | O18: =IF(N18="","",N18) | P18: =IF(O18="","",O18) | ... S18: =IF(R18="","",R18) | T18: =SUM(H18:S18) -> 0 | V18: =IF(U18="","",U18) | W18: =IF(V18="","",V18) | X18: =IF(W18="","",W18) | Y18: =IF(X18="","",X18) | Z18: =IF(Y18="","",Y18) | AA18: =IF(Z18="","",Z18) | AB18: =IF(AA18="","",AA18) | AC18: =IF(AB18="","",AB18) | ... AF18: =IF(AE18="","",AE18) | AG18: =SUM(U18:AF18) -> 0 | AI18: 専門リーダー | AJ18: 調理員 | AN18: 1 | AO18: 2 | AP18: 1 | AQ18: =IF($AP18=1,IF(INDIRECT(ADDRESS(($AN18-1)*3+$AO18+5,$AP18+7))="",0,INDIRECT(ADDRESS(($AN18-1)*3+$AO18+5,$AP18+7))),IF(INDIRECT(ADDRESS(($AN18-1)*3+$AO18+5,$AP18+7))="",0,IF(COUNTIF(INDIRECT(ADDRESS(($AN18-1)*36+($AO18-1)*12+6,COLUMN())):INDIRECT(ADDRESS(($AN18-1)*36+($AO18-1)*12+$AP18+4,COLUMN())),INDIRECT(ADDRESS(($AN18-1)*3+$AO18+5,$AP18+7)))>=1,0,INDIRECT(ADDRESS(($AN18-1)*3+$AO18+5,$AP18+7))))) -> 0 | AR18: =COUNTIF(INDIRECT("H"&(ROW()+12*(($AN18-1)*3+$AO18)-ROW())/12+5):INDIRECT("S"&(ROW()+12*(($AN18-1)*3+$AO18)-ROW())/12+5),AQ18) -> 0 | AS18: =IF($AP18=1,IF(INDIRECT(ADDRESS(($AN18-1)*3+$AO18+5,$AP18+20))="",0,INDIRECT(ADDRESS(($AN18-1)*3+$AO18+5,$AP18+20))),IF(INDIRECT(ADDRESS(($AN18-1)*3+$AO18+5,$AP18+20))="",0,IF(COUNTIF(INDIRECT(ADDRESS(($AN18-1)*36+($AO18-1)*12+6,COLUMN())):INDIRECT(ADDRESS(($AN18-1)*36+($AO18-1)*12+$AP18+4,COLUMN())),INDIRECT(ADDRESS(($AN18-1)*3+$AO18+5,$AP18+20)))>=1,0,INDIRECT(ADDRESS(($AN18-1)*3+$AO18+5,$AP18+20))))) -> 0 | AT18: =COUNTIF(INDIRECT("U"&(ROW()+12*(($AN18-1)*3+$AO18)-ROW())/12+5):INDIRECT("AF"&(ROW()+12*(($AN18-1)*3+$AO18)-ROW())/12+5),AS18) -> 0 | AU18: =IF(AND(AQ18+AS18>0,AR18+AT18>0),COUNTIF(AU$6:AU17,">0")+1,0) -> 0 | BE18: 1 | BG18: =SUM(H18:H19) -> 0 | BH18: =SUM(I18:I19) -> 0 | BI18: =SUM(J18:J19) -> 0 | BJ18: =SUM(K18:K19) -> 0 | BK18: =SUM(L18:L19) -> 0 | BL18: =SUM(M18:M19) -> 0 | BM18: =SUM(N18:N19) -> 0 | BN18: =SUM(O18:O19) -> 0 | ... BR18: =SUM(S18:S19) -> 0 | BT18: =SUM(U18:U19) -> 0 | BU18: =SUM(V18:V19) -> 0 | BV18: =SUM(W18:W19) -> 0 | BW18: =SUM(X18:X19) -> 0 | BX18: =SUM(Y18:Y19) -> 0 | BY18: =SUM(Z18:Z19) -> 0 | BZ18: =SUM(AA18:AA19) -> 0 | CA18: =SUM(AB18:AB19) -> 0 | ... CE18: =SUM(AF18:AF19) -> 0 | CH18: min対象 | CI18: =IF(OR($D18="副園長",$D18="教頭",$D18="主任保育士",$D18="主幹教諭",$D18="主幹保育教諭"),0,BG18) -> 0 | CJ18: =IF(OR($D18="副園長",$D18="教頭",$D18="主任保育士",$D18="主幹教諭",$D18="主幹保育教諭"),0,BH18) -> 0 | CK18: =IF(OR($D18="副園長",$D18="教頭",$D18="主任保育士",$D18="主幹教諭",$D18="主幹保育教諭"),0,BI18) -> 0 | CL18: =IF(OR($D18="副園長",$D18="教頭",$D18="主任保育士",$D18="主幹教諭",$D18="主幹保育教諭"),0,BJ18) -> 0 | CM18: =IF(OR($D18="副園長",$D18="教頭",$D18="主任保育士",$D18="主幹教諭",$D18="主幹保育教諭"),0,BK18) -> 0 | CN18: =IF(OR($D18="副園長",$D18="教頭",$D18="主任保育士",$D18="主幹教諭",$D18="主幹保育教諭"),0,BL18) -> 0 | CO18: =IF(OR($D18="副園長",$D18="教頭",$D18="主任保育士",$D18="主幹教諭",$D18="主幹保育教諭"),0,BM18) -> 0 | CP18: =IF(OR($D18="副園長",$D18="教頭",$D18="主任保育士",$D18="主幹教諭",$D18="主幹保育教諭"),0,BN18) -> 0 | ... CT18: =IF(OR($D18="副園長",$D18="教頭",$D18="主任保育士",$D18="主幹教諭",$D18="主幹保育教諭"),0,BR18) -> 0
G19: 手当 | I19: =IF(H19="","",H19) | J19: =IF(I19="","",I19) | K19: =IF(J19="","",J19) | L19: =IF(K19="","",K19) | M19: =IF(L19="","",L19) | N19: =IF(M19="","",M19) | O19: =IF(N19="","",N19) | P19: =IF(O19="","",O19) | ... S19: =IF(R19="","",R19) | T19: =SUM(H19:S19) -> 0 | V19: =IF(U19="","",U19) | W19: =IF(V19="","",V19) | X19: =IF(W19="","",W19) | Y19: =IF(X19="","",X19) | Z19: =IF(Y19="","",Y19) | AA19: =IF(Z19="","",Z19) | AB19: =IF(AA19="","",AA19) | AC19: =IF(AB19="","",AB19) | ... AF19: =IF(AE19="","",AE19) | AG19: =SUM(U19:AF19) -> 0 | AI19: 若手リーダー | AJ19: 保健師・助産師・看護師・准看護師 | AN19: 1 | AO19: 2 | AP19: 2 | AQ19: =IF($AP19=1,IF(INDIRECT(ADDRESS(($AN19-1)*3+$AO19+5,$AP19+7))="",0,INDIRECT(ADDRESS(($AN19-1)*3+$AO19+5,$AP19+7))),IF(INDIRECT(ADDRESS(($AN19-1)*3+$AO19+5,$AP19+7))="",0,IF(COUNTIF(INDIRECT(ADDRESS(($AN19-1)*36+($AO19-1)*12+6,COLUMN())):INDIRECT(ADDRESS(($AN19-1)*36+($AO19-1)*12+$AP19+4,COLUMN())),INDIRECT(ADDRESS(($AN19-1)*3+$AO19+5,$AP19+7)))>=1,0,INDIRECT(ADDRESS(($AN19-1)*3+$AO19+5,$AP19+7))))) -> 0 | AR19: =COUNTIF(INDIRECT("H"&(ROW()+12*(($AN19-1)*3+$AO19)-ROW())/12+5):INDIRECT("S"&(ROW()+12*(($AN19-1)*3+$AO19)-ROW())/12+5),AQ19) -> 0 | AS19: =IF($AP19=1,IF(INDIRECT(ADDRESS(($AN19-1)*3+$AO19+5,$AP19+20))="",0,INDIRECT(ADDRESS(($AN19-1)*3+$AO19+5,$AP19+20))),IF(INDIRECT(ADDRESS(($AN19-1)*3+$AO19+5,$AP19+20))="",0,IF(COUNTIF(INDIRECT(ADDRESS(($AN19-1)*36+($AO19-1)*12+6,COLUMN())):INDIRECT(ADDRESS(($AN19-1)*36+($AO19-1)*12+$AP19+4,COLUMN())),INDIRECT(ADDRESS(($AN19-1)*3+$AO19+5,$AP19+20)))>=1,0,INDIRECT(ADDRESS(($AN19-1)*3+$AO19+5,$AP19+20))))) -> 0 | AT19: =COUNTIF(INDIRECT("U"&(ROW()+12*(($AN19-1)*3+$AO19)-ROW())/12+5):INDIRECT("AF"&(ROW()+12*(($AN19-1)*3+$AO19)-ROW())/12+5),AS19) -> 0 | AU19: =IF(AND(AQ19+AS19>0,AR19+AT19>0),COUNTIF(AU$6:AU18,">0")+1,0) -> 0 | BE19: 2 | BF19: ＞＠40000 | BG19: =IF(BG18+BT18>$AJ$27,1,0) -> 0 | BH19: =IF(BH18+BU18>$AJ$27,1,0) -> 0 | BI19: =IF(BI18+BV18>$AJ$27,1,0) -> 0 | BJ19: =IF(BJ18+BW18>$AJ$27,1,0) -> 0 | BK19: =IF(BK18+BX18>$AJ$27,1,0) -> 0 | BL19: =IF(BL18+BY18>$AJ$27,1,0) -> 0 | BM19: =IF(BM18+BZ18>$AJ$27,1,0) -> 0 | BN19: =IF(BN18+CA18>$AJ$27,1,0) -> 0 | ... BR19: =IF(BR18+CE18>$AJ$27,1,0) -> 0
G20: R8法定福利費残 | T20: =SUM(H20:S20) -> 0 | AG20: =SUM(U20:AF20) -> 0 | AJ20: 事務職員 | AN20: 1 | AO20: 2 | AP20: 3 | AQ20: =IF($AP20=1,IF(INDIRECT(ADDRESS(($AN20-1)*3+$AO20+5,$AP20+7))="",0,INDIRECT(ADDRESS(($AN20-1)*3+$AO20+5,$AP20+7))),IF(INDIRECT(ADDRESS(($AN20-1)*3+$AO20+5,$AP20+7))="",0,IF(COUNTIF(INDIRECT(ADDRESS(($AN20-1)*36+($AO20-1)*12+6,COLUMN())):INDIRECT(ADDRESS(($AN20-1)*36+($AO20-1)*12+$AP20+4,COLUMN())),INDIRECT(ADDRESS(($AN20-1)*3+$AO20+5,$AP20+7)))>=1,0,INDIRECT(ADDRESS(($AN20-1)*3+$AO20+5,$AP20+7))))) -> 0 | AR20: =COUNTIF(INDIRECT("H"&(ROW()+12*(($AN20-1)*3+$AO20)-ROW())/12+5):INDIRECT("S"&(ROW()+12*(($AN20-1)*3+$AO20)-ROW())/12+5),AQ20) -> 0 | AS20: =IF($AP20=1,IF(INDIRECT(ADDRESS(($AN20-1)*3+$AO20+5,$AP20+20))="",0,INDIRECT(ADDRESS(($AN20-1)*3+$AO20+5,$AP20+20))),IF(INDIRECT(ADDRESS(($AN20-1)*3+$AO20+5,$AP20+20))="",0,IF(COUNTIF(INDIRECT(ADDRESS(($AN20-1)*36+($AO20-1)*12+6,COLUMN())):INDIRECT(ADDRESS(($AN20-1)*36+($AO20-1)*12+$AP20+4,COLUMN())),INDIRECT(ADDRESS(($AN20-1)*3+$AO20+5,$AP20+20)))>=1,0,INDIRECT(ADDRESS(($AN20-1)*3+$AO20+5,$AP20+20))))) -> 0 | AT20: =COUNTIF(INDIRECT("U"&(ROW()+12*(($AN20-1)*3+$AO20)-ROW())/12+5):INDIRECT("AF"&(ROW()+12*(($AN20-1)*3+$AO20)-ROW())/12+5),AS20) -> 0 | AU20: =IF(AND(AQ20+AS20>0,AR20+AT20>0),COUNTIF(AU$6:AU19,">0")+1,0) -> 0 | BE20: 3
A21: 6 | G21: 基本給 | I21: =IF(H21="","",H21) | J21: =IF(I21="","",I21) | K21: =IF(J21="","",J21) | L21: =IF(K21="","",K21) | M21: =IF(L21="","",L21) | N21: =IF(M21="","",M21) | O21: =IF(N21="","",N21) | P21: =IF(O21="","",O21) | ... S21: =IF(R21="","",R21) | T21: =SUM(H21:S21) -> 0 | V21: =IF(U21="","",U21) | W21: =IF(V21="","",V21) | X21: =IF(W21="","",W21) | Y21: =IF(X21="","",X21) | Z21: =IF(Y21="","",Y21) | AA21: =IF(Z21="","",Z21) | AB21: =IF(AA21="","",AA21) | AC21: =IF(AB21="","",AB21) | ... AF21: =IF(AE21="","",AE21) | AG21: =SUM(U21:AF21) -> 0 | AJ21: 家庭的保育者 | AN21: 1 | AO21: 2 | AP21: 4 | AQ21: =IF($AP21=1,IF(INDIRECT(ADDRESS(($AN21-1)*3+$AO21+5,$AP21+7))="",0,INDIRECT(ADDRESS(($AN21-1)*3+$AO21+5,$AP21+7))),IF(INDIRECT(ADDRESS(($AN21-1)*3+$AO21+5,$AP21+7))="",0,IF(COUNTIF(INDIRECT(ADDRESS(($AN21-1)*36+($AO21-1)*12+6,COLUMN())):INDIRECT(ADDRESS(($AN21-1)*36+($AO21-1)*12+$AP21+4,COLUMN())),INDIRECT(ADDRESS(($AN21-1)*3+$AO21+5,$AP21+7)))>=1,0,INDIRECT(ADDRESS(($AN21-1)*3+$AO21+5,$AP21+7))))) -> 0 | AR21: =COUNTIF(INDIRECT("H"&(ROW()+12*(($AN21-1)*3+$AO21)-ROW())/12+5):INDIRECT("S"&(ROW()+12*(($AN21-1)*3+$AO21)-ROW())/12+5),AQ21) -> 0 | AS21: =IF($AP21=1,IF(INDIRECT(ADDRESS(($AN21-1)*3+$AO21+5,$AP21+20))="",0,INDIRECT(ADDRESS(($AN21-1)*3+$AO21+5,$AP21+20))),IF(INDIRECT(ADDRESS(($AN21-1)*3+$AO21+5,$AP21+20))="",0,IF(COUNTIF(INDIRECT(ADDRESS(($AN21-1)*36+($AO21-1)*12+6,COLUMN())):INDIRECT(ADDRESS(($AN21-1)*36+($AO21-1)*12+$AP21+4,COLUMN())),INDIRECT(ADDRESS(($AN21-1)*3+$AO21+5,$AP21+20)))>=1,0,INDIRECT(ADDRESS(($AN21-1)*3+$AO21+5,$AP21+20))))) -> 0 | AT21: =COUNTIF(INDIRECT("U"&(ROW()+12*(($AN21-1)*3+$AO21)-ROW())/12+5):INDIRECT("AF"&(ROW()+12*(($AN21-1)*3+$AO21)-ROW())/12+5),AS21) -> 0 | AU21: =IF(AND(AQ21+AS21>0,AR21+AT21>0),COUNTIF(AU$6:AU20,">0")+1,0) -> 0 | BE21: 1 | BG21: =SUM(H21:H22) -> 0 | BH21: =SUM(I21:I22) -> 0 | BI21: =SUM(J21:J22) -> 0 | BJ21: =SUM(K21:K22) -> 0 | BK21: =SUM(L21:L22) -> 0 | BL21: =SUM(M21:M22) -> 0 | BM21: =SUM(N21:N22) -> 0 | BN21: =SUM(O21:O22) -> 0 | ... BR21: =SUM(S21:S22) -> 0 | BT21: =SUM(U21:U22) -> 0 | BU21: =SUM(V21:V22) -> 0 | BV21: =SUM(W21:W22) -> 0 | BW21: =SUM(X21:X22) -> 0 | BX21: =SUM(Y21:Y22) -> 0 | BY21: =SUM(Z21:Z22) -> 0 | BZ21: =SUM(AA21:AA22) -> 0 | CA21: =SUM(AB21:AB22) -> 0 | ... CE21: =SUM(AF21:AF22) -> 0 | CH21: min対象 | CI21: =IF(OR($D21="副園長",$D21="教頭",$D21="主任保育士",$D21="主幹教諭",$D21="主幹保育教諭"),0,BG21) -> 0 | CJ21: =IF(OR($D21="副園長",$D21="教頭",$D21="主任保育士",$D21="主幹教諭",$D21="主幹保育教諭"),0,BH21) -> 0 | CK21: =IF(OR($D21="副園長",$D21="教頭",$D21="主任保育士",$D21="主幹教諭",$D21="主幹保育教諭"),0,BI21) -> 0 | CL21: =IF(OR($D21="副園長",$D21="教頭",$D21="主任保育士",$D21="主幹教諭",$D21="主幹保育教諭"),0,BJ21) -> 0 | CM21: =IF(OR($D21="副園長",$D21="教頭",$D21="主任保育士",$D21="主幹教諭",$D21="主幹保育教諭"),0,BK21) -> 0 | CN21: =IF(OR($D21="副園長",$D21="教頭",$D21="主任保育士",$D21="主幹教諭",$D21="主幹保育教諭"),0,BL21) -> 0 | CO21: =IF(OR($D21="副園長",$D21="教頭",$D21="主任保育士",$D21="主幹教諭",$D21="主幹保育教諭"),0,BM21) -> 0 | CP21: =IF(OR($D21="副園長",$D21="教頭",$D21="主任保育士",$D21="主幹教諭",$D21="主幹保育教諭"),0,BN21) -> 0 | ... CT21: =IF(OR($D21="副園長",$D21="教頭",$D21="主任保育士",$D21="主幹教諭",$D21="主幹保育教諭"),0,BR21) -> 0
G22: 手当 | I22: =IF(H22="","",H22) | J22: =IF(I22="","",I22) | K22: =IF(J22="","",J22) | L22: =IF(K22="","",K22) | M22: =IF(L22="","",L22) | N22: =IF(M22="","",M22) | O22: =IF(N22="","",N22) | P22: =IF(O22="","",O22) | ... S22: =IF(R22="","",R22) | T22: =SUM(H22:S22) -> 0 | V22: =IF(U22="","",U22) | W22: =IF(V22="","",V22) | X22: =IF(W22="","",W22) | Y22: =IF(X22="","",X22) | Z22: =IF(Y22="","",Y22) | AA22: =IF(Z22="","",Z22) | AB22: =IF(AA22="","",AA22) | AC22: =IF(AB22="","",AB22) | ... AF22: =IF(AE22="","",AE22) | AG22: =SUM(U22:AF22) -> 0 | AJ22: 家庭的保育補助者 | AN22: 1 | AO22: 2 | AP22: 5 | AQ22: =IF($AP22=1,IF(INDIRECT(ADDRESS(($AN22-1)*3+$AO22+5,$AP22+7))="",0,INDIRECT(ADDRESS(($AN22-1)*3+$AO22+5,$AP22+7))),IF(INDIRECT(ADDRESS(($AN22-1)*3+$AO22+5,$AP22+7))="",0,IF(COUNTIF(INDIRECT(ADDRESS(($AN22-1)*36+($AO22-1)*12+6,COLUMN())):INDIRECT(ADDRESS(($AN22-1)*36+($AO22-1)*12+$AP22+4,COLUMN())),INDIRECT(ADDRESS(($AN22-1)*3+$AO22+5,$AP22+7)))>=1,0,INDIRECT(ADDRESS(($AN22-1)*3+$AO22+5,$AP22+7))))) -> 0 | AR22: =COUNTIF(INDIRECT("H"&(ROW()+12*(($AN22-1)*3+$AO22)-ROW())/12+5):INDIRECT("S"&(ROW()+12*(($AN22-1)*3+$AO22)-ROW())/12+5),AQ22) -> 0 | AS22: =IF($AP22=1,IF(INDIRECT(ADDRESS(($AN22-1)*3+$AO22+5,$AP22+20))="",0,INDIRECT(ADDRESS(($AN22-1)*3+$AO22+5,$AP22+20))),IF(INDIRECT(ADDRESS(($AN22-1)*3+$AO22+5,$AP22+20))="",0,IF(COUNTIF(INDIRECT(ADDRESS(($AN22-1)*36+($AO22-1)*12+6,COLUMN())):INDIRECT(ADDRESS(($AN22-1)*36+($AO22-1)*12+$AP22+4,COLUMN())),INDIRECT(ADDRESS(($AN22-1)*3+$AO22+5,$AP22+20)))>=1,0,INDIRECT(ADDRESS(($AN22-1)*3+$AO22+5,$AP22+20))))) -> 0 | AT22: =COUNTIF(INDIRECT("U"&(ROW()+12*(($AN22-1)*3+$AO22)-ROW())/12+5):INDIRECT("AF"&(ROW()+12*(($AN22-1)*3+$AO22)-ROW())/12+5),AS22) -> 0 | AU22: =IF(AND(AQ22+AS22>0,AR22+AT22>0),COUNTIF(AU$6:AU21,">0")+1,0) -> 0 | BE22: 2 | BF22: ＞＠40000 | BG22: =IF(BG21+BT21>$AJ$27,1,0) -> 0 | BH22: =IF(BH21+BU21>$AJ$27,1,0) -> 0 | BI22: =IF(BI21+BV21>$AJ$27,1,0) -> 0 | BJ22: =IF(BJ21+BW21>$AJ$27,1,0) -> 0 | BK22: =IF(BK21+BX21>$AJ$27,1,0) -> 0 | BL22: =IF(BL21+BY21>$AJ$27,1,0) -> 0 | BM22: =IF(BM21+BZ21>$AJ$27,1,0) -> 0 | BN22: =IF(BN21+CA21>$AJ$27,1,0) -> 0 | ... BR22: =IF(BR21+CE21>$AJ$27,1,0) -> 0
G23: R8法定福利費残 | T23: =SUM(H23:S23) -> 0 | AG23: =SUM(U23:AF23) -> 0 | AJ23: 子育て支援員 | AN23: 1 | AO23: 2 | AP23: 6 | AQ23: =IF($AP23=1,IF(INDIRECT(ADDRESS(($AN23-1)*3+$AO23+5,$AP23+7))="",0,INDIRECT(ADDRESS(($AN23-1)*3+$AO23+5,$AP23+7))),IF(INDIRECT(ADDRESS(($AN23-1)*3+$AO23+5,$AP23+7))="",0,IF(COUNTIF(INDIRECT(ADDRESS(($AN23-1)*36+($AO23-1)*12+6,COLUMN())):INDIRECT(ADDRESS(($AN23-1)*36+($AO23-1)*12+$AP23+4,COLUMN())),INDIRECT(ADDRESS(($AN23-1)*3+$AO23+5,$AP23+7)))>=1,0,INDIRECT(ADDRESS(($AN23-1)*3+$AO23+5,$AP23+7))))) -> 0 | AR23: =COUNTIF(INDIRECT("H"&(ROW()+12*(($AN23-1)*3+$AO23)-ROW())/12+5):INDIRECT("S"&(ROW()+12*(($AN23-1)*3+$AO23)-ROW())/12+5),AQ23) -> 0 | AS23: =IF($AP23=1,IF(INDIRECT(ADDRESS(($AN23-1)*3+$AO23+5,$AP23+20))="",0,INDIRECT(ADDRESS(($AN23-1)*3+$AO23+5,$AP23+20))),IF(INDIRECT(ADDRESS(($AN23-1)*3+$AO23+5,$AP23+20))="",0,IF(COUNTIF(INDIRECT(ADDRESS(($AN23-1)*36+($AO23-1)*12+6,COLUMN())):INDIRECT(ADDRESS(($AN23-1)*36+($AO23-1)*12+$AP23+4,COLUMN())),INDIRECT(ADDRESS(($AN23-1)*3+$AO23+5,$AP23+20)))>=1,0,INDIRECT(ADDRESS(($AN23-1)*3+$AO23+5,$AP23+20))))) -> 0 | AT23: =COUNTIF(INDIRECT("U"&(ROW()+12*(($AN23-1)*3+$AO23)-ROW())/12+5):INDIRECT("AF"&(ROW()+12*(($AN23-1)*3+$AO23)-ROW())/12+5),AS23) -> 0 | AU23: =IF(AND(AQ23+AS23>0,AR23+AT23>0),COUNTIF(AU$6:AU22,">0")+1,0) -> 0 | BE23: 3
A24: 7 | G24: 基本給 | I24: =IF(H24="","",H24) | J24: =IF(I24="","",I24) | K24: =IF(J24="","",J24) | L24: =IF(K24="","",K24) | M24: =IF(L24="","",L24) | N24: =IF(M24="","",M24) | O24: =IF(N24="","",N24) | P24: =IF(O24="","",O24) | ... S24: =IF(R24="","",R24) | T24: =SUM(H24:S24) -> 0 | V24: =IF(U24="","",U24) | W24: =IF(V24="","",V24) | X24: =IF(W24="","",W24) | Y24: =IF(X24="","",X24) | Z24: =IF(Y24="","",Y24) | AA24: =IF(Z24="","",Z24) | AB24: =IF(AA24="","",AA24) | AC24: =IF(AB24="","",AB24) | ... AF24: =IF(AE24="","",AE24) | AG24: =SUM(U24:AF24) -> 0 | AJ24: その他の職員 | AN24: 1 | AO24: 2 | AP24: 7 | AQ24: =IF($AP24=1,IF(INDIRECT(ADDRESS(($AN24-1)*3+$AO24+5,$AP24+7))="",0,INDIRECT(ADDRESS(($AN24-1)*3+$AO24+5,$AP24+7))),IF(INDIRECT(ADDRESS(($AN24-1)*3+$AO24+5,$AP24+7))="",0,IF(COUNTIF(INDIRECT(ADDRESS(($AN24-1)*36+($AO24-1)*12+6,COLUMN())):INDIRECT(ADDRESS(($AN24-1)*36+($AO24-1)*12+$AP24+4,COLUMN())),INDIRECT(ADDRESS(($AN24-1)*3+$AO24+5,$AP24+7)))>=1,0,INDIRECT(ADDRESS(($AN24-1)*3+$AO24+5,$AP24+7))))) -> 0 | AR24: =COUNTIF(INDIRECT("H"&(ROW()+12*(($AN24-1)*3+$AO24)-ROW())/12+5):INDIRECT("S"&(ROW()+12*(($AN24-1)*3+$AO24)-ROW())/12+5),AQ24) -> 0 | AS24: =IF($AP24=1,IF(INDIRECT(ADDRESS(($AN24-1)*3+$AO24+5,$AP24+20))="",0,INDIRECT(ADDRESS(($AN24-1)*3+$AO24+5,$AP24+20))),IF(INDIRECT(ADDRESS(($AN24-1)*3+$AO24+5,$AP24+20))="",0,IF(COUNTIF(INDIRECT(ADDRESS(($AN24-1)*36+($AO24-1)*12+6,COLUMN())):INDIRECT(ADDRESS(($AN24-1)*36+($AO24-1)*12+$AP24+4,COLUMN())),INDIRECT(ADDRESS(($AN24-1)*3+$AO24+5,$AP24+20)))>=1,0,INDIRECT(ADDRESS(($AN24-1)*3+$AO24+5,$AP24+20))))) -> 0 | AT24: =COUNTIF(INDIRECT("U"&(ROW()+12*(($AN24-1)*3+$AO24)-ROW())/12+5):INDIRECT("AF"&(ROW()+12*(($AN24-1)*3+$AO24)-ROW())/12+5),AS24) -> 0 | AU24: =IF(AND(AQ24+AS24>0,AR24+AT24>0),COUNTIF(AU$6:AU23,">0")+1,0) -> 0 | BE24: 1 | BG24: =SUM(H24:H25) -> 0 | BH24: =SUM(I24:I25) -> 0 | BI24: =SUM(J24:J25) -> 0 | BJ24: =SUM(K24:K25) -> 0 | BK24: =SUM(L24:L25) -> 0 | BL24: =SUM(M24:M25) -> 0 | BM24: =SUM(N24:N25) -> 0 | BN24: =SUM(O24:O25) -> 0 | ... BR24: =SUM(S24:S25) -> 0 | BT24: =SUM(U24:U25) -> 0 | BU24: =SUM(V24:V25) -> 0 | BV24: =SUM(W24:W25) -> 0 | BW24: =SUM(X24:X25) -> 0 | BX24: =SUM(Y24:Y25) -> 0 | BY24: =SUM(Z24:Z25) -> 0 | BZ24: =SUM(AA24:AA25) -> 0 | CA24: =SUM(AB24:AB25) -> 0 | ... CE24: =SUM(AF24:AF25) -> 0 | CH24: min対象 | CI24: =IF(OR($D24="副園長",$D24="教頭",$D24="主任保育士",$D24="主幹教諭",$D24="主幹保育教諭"),0,BG24) -> 0 | CJ24: =IF(OR($D24="副園長",$D24="教頭",$D24="主任保育士",$D24="主幹教諭",$D24="主幹保育教諭"),0,BH24) -> 0 | CK24: =IF(OR($D24="副園長",$D24="教頭",$D24="主任保育士",$D24="主幹教諭",$D24="主幹保育教諭"),0,BI24) -> 0 | CL24: =IF(OR($D24="副園長",$D24="教頭",$D24="主任保育士",$D24="主幹教諭",$D24="主幹保育教諭"),0,BJ24) -> 0 | CM24: =IF(OR($D24="副園長",$D24="教頭",$D24="主任保育士",$D24="主幹教諭",$D24="主幹保育教諭"),0,BK24) -> 0 | CN24: =IF(OR($D24="副園長",$D24="教頭",$D24="主任保育士",$D24="主幹教諭",$D24="主幹保育教諭"),0,BL24) -> 0 | CO24: =IF(OR($D24="副園長",$D24="教頭",$D24="主任保育士",$D24="主幹教諭",$D24="主幹保育教諭"),0,BM24) -> 0 | CP24: =IF(OR($D24="副園長",$D24="教頭",$D24="主任保育士",$D24="主幹教諭",$D24="主幹保育教諭"),0,BN24) -> 0 | ... CT24: =IF(OR($D24="副園長",$D24="教頭",$D24="主任保育士",$D24="主幹教諭",$D24="主幹保育教諭"),0,BR24) -> 0
G25: 手当 | I25: =IF(H25="","",H25) | J25: =IF(I25="","",I25) | K25: =IF(J25="","",J25) | L25: =IF(K25="","",K25) | M25: =IF(L25="","",L25) | N25: =IF(M25="","",M25) | O25: =IF(N25="","",N25) | P25: =IF(O25="","",O25) | ... S25: =IF(R25="","",R25) | T25: =SUM(H25:S25) -> 0 | V25: =IF(U25="","",U25) | W25: =IF(V25="","",V25) | X25: =IF(W25="","",W25) | Y25: =IF(X25="","",X25) | Z25: =IF(Y25="","",Y25) | AA25: =IF(Z25="","",Z25) | AB25: =IF(AA25="","",AA25) | AC25: =IF(AB25="","",AB25) | ... AF25: =IF(AE25="","",AE25) | AG25: =SUM(U25:AF25) -> 0 | AN25: 1 | AO25: 2 | AP25: 8 | AQ25: =IF($AP25=1,IF(INDIRECT(ADDRESS(($AN25-1)*3+$AO25+5,$AP25+7))="",0,INDIRECT(ADDRESS(($AN25-1)*3+$AO25+5,$AP25+7))),IF(INDIRECT(ADDRESS(($AN25-1)*3+$AO25+5,$AP25+7))="",0,IF(COUNTIF(INDIRECT(ADDRESS(($AN25-1)*36+($AO25-1)*12+6,COLUMN())):INDIRECT(ADDRESS(($AN25-1)*36+($AO25-1)*12+$AP25+4,COLUMN())),INDIRECT(ADDRESS(($AN25-1)*3+$AO25+5,$AP25+7)))>=1,0,INDIRECT(ADDRESS(($AN25-1)*3+$AO25+5,$AP25+7))))) -> 0 | AR25: =COUNTIF(INDIRECT("H"&(ROW()+12*(($AN25-1)*3+$AO25)-ROW())/12+5):INDIRECT("S"&(ROW()+12*(($AN25-1)*3+$AO25)-ROW())/12+5),AQ25) -> 0 | AS25: =IF($AP25=1,IF(INDIRECT(ADDRESS(($AN25-1)*3+$AO25+5,$AP25+20))="",0,INDIRECT(ADDRESS(($AN25-1)*3+$AO25+5,$AP25+20))),IF(INDIRECT(ADDRESS(($AN25-1)*3+$AO25+5,$AP25+20))="",0,IF(COUNTIF(INDIRECT(ADDRESS(($AN25-1)*36+($AO25-1)*12+6,COLUMN())):INDIRECT(ADDRESS(($AN25-1)*36+($AO25-1)*12+$AP25+4,COLUMN())),INDIRECT(ADDRESS(($AN25-1)*3+$AO25+5,$AP25+20)))>=1,0,INDIRECT(ADDRESS(($AN25-1)*3+$AO25+5,$AP25+20))))) -> 0 | AT25: =COUNTIF(INDIRECT("U"&(ROW()+12*(($AN25-1)*3+$AO25)-ROW())/12+5):INDIRECT("AF"&(ROW()+12*(($AN25-1)*3+$AO25)-ROW())/12+5),AS25) -> 0 | AU25: =IF(AND(AQ25+AS25>0,AR25+AT25>0),COUNTIF(AU$6:AU24,">0")+1,0) -> 0 | BE25: 2 | BF25: ＞＠40000 | BG25: =IF(BG24+BT24>$AJ$27,1,0) -> 0 | BH25: =IF(BH24+BU24>$AJ$27,1,0) -> 0 | BI25: =IF(BI24+BV24>$AJ$27,1,0) -> 0 | BJ25: =IF(BJ24+BW24>$AJ$27,1,0) -> 0 | BK25: =IF(BK24+BX24>$AJ$27,1,0) -> 0 | BL25: =IF(BL24+BY24>$AJ$27,1,0) -> 0 | BM25: =IF(BM24+BZ24>$AJ$27,1,0) -> 0 | BN25: =IF(BN24+CA24>$AJ$27,1,0) -> 0 | ... BR25: =IF(BR24+CE24>$AJ$27,1,0) -> 0
G26: R8法定福利費残 | T26: =SUM(H26:S26) -> 0 | AG26: =SUM(U26:AF26) -> 0 | AN26: 1 | AO26: 2 | AP26: 9 | AQ26: =IF($AP26=1,IF(INDIRECT(ADDRESS(($AN26-1)*3+$AO26+5,$AP26+7))="",0,INDIRECT(ADDRESS(($AN26-1)*3+$AO26+5,$AP26+7))),IF(INDIRECT(ADDRESS(($AN26-1)*3+$AO26+5,$AP26+7))="",0,IF(COUNTIF(INDIRECT(ADDRESS(($AN26-1)*36+($AO26-1)*12+6,COLUMN())):INDIRECT(ADDRESS(($AN26-1)*36+($AO26-1)*12+$AP26+4,COLUMN())),INDIRECT(ADDRESS(($AN26-1)*3+$AO26+5,$AP26+7)))>=1,0,INDIRECT(ADDRESS(($AN26-1)*3+$AO26+5,$AP26+7))))) -> 0 | AR26: =COUNTIF(INDIRECT("H"&(ROW()+12*(($AN26-1)*3+$AO26)-ROW())/12+5):INDIRECT("S"&(ROW()+12*(($AN26-1)*3+$AO26)-ROW())/12+5),AQ26) -> 0 | AS26: =IF($AP26=1,IF(INDIRECT(ADDRESS(($AN26-1)*3+$AO26+5,$AP26+20))="",0,INDIRECT(ADDRESS(($AN26-1)*3+$AO26+5,$AP26+20))),IF(INDIRECT(ADDRESS(($AN26-1)*3+$AO26+5,$AP26+20))="",0,IF(COUNTIF(INDIRECT(ADDRESS(($AN26-1)*36+($AO26-1)*12+6,COLUMN())):INDIRECT(ADDRESS(($AN26-1)*36+($AO26-1)*12+$AP26+4,COLUMN())),INDIRECT(ADDRESS(($AN26-1)*3+$AO26+5,$AP26+20)))>=1,0,INDIRECT(ADDRESS(($AN26-1)*3+$AO26+5,$AP26+20))))) -> 0 | AT26: =COUNTIF(INDIRECT("U"&(ROW()+12*(($AN26-1)*3+$AO26)-ROW())/12+5):INDIRECT("AF"&(ROW()+12*(($AN26-1)*3+$AO26)-ROW())/12+5),AS26) -> 0 | AU26: =IF(AND(AQ26+AS26>0,AR26+AT26>0),COUNTIF(AU$6:AU25,">0")+1,0) -> 0 | BE26: 3
A27: 8 | G27: 基本給 | I27: =IF(H27="","",H27) | J27: =IF(I27="","",I27) | K27: =IF(J27="","",J27) | L27: =IF(K27="","",K27) | M27: =IF(L27="","",L27) | N27: =IF(M27="","",M27) | O27: =IF(N27="","",N27) | P27: =IF(O27="","",O27) | ... S27: =IF(R27="","",R27) | T27: =SUM(H27:S27) -> 0 | V27: =IF(U27="","",U27) | W27: =IF(V27="","",V27) | X27: =IF(W27="","",W27) | Y27: =IF(X27="","",X27) | Z27: =IF(Y27="","",Y27) | AA27: =IF(Z27="","",Z27) | AB27: =IF(AA27="","",AA27) | AC27: =IF(AB27="","",AB27) | ... AF27: =IF(AE27="","",AE27) | AG27: =SUM(U27:AF27) -> 0 | AI27: 中核リーダー等 | AJ27: 40000 | AN27: 1 | AO27: 2 | AP27: 10 | AQ27: =IF($AP27=1,IF(INDIRECT(ADDRESS(($AN27-1)*3+$AO27+5,$AP27+7))="",0,INDIRECT(ADDRESS(($AN27-1)*3+$AO27+5,$AP27+7))),IF(INDIRECT(ADDRESS(($AN27-1)*3+$AO27+5,$AP27+7))="",0,IF(COUNTIF(INDIRECT(ADDRESS(($AN27-1)*36+($AO27-1)*12+6,COLUMN())):INDIRECT(ADDRESS(($AN27-1)*36+($AO27-1)*12+$AP27+4,COLUMN())),INDIRECT(ADDRESS(($AN27-1)*3+$AO27+5,$AP27+7)))>=1,0,INDIRECT(ADDRESS(($AN27-1)*3+$AO27+5,$AP27+7))))) -> 0 | AR27: =COUNTIF(INDIRECT("H"&(ROW()+12*(($AN27-1)*3+$AO27)-ROW())/12+5):INDIRECT("S"&(ROW()+12*(($AN27-1)*3+$AO27)-ROW())/12+5),AQ27) -> 0 | AS27: =IF($AP27=1,IF(INDIRECT(ADDRESS(($AN27-1)*3+$AO27+5,$AP27+20))="",0,INDIRECT(ADDRESS(($AN27-1)*3+$AO27+5,$AP27+20))),IF(INDIRECT(ADDRESS(($AN27-1)*3+$AO27+5,$AP27+20))="",0,IF(COUNTIF(INDIRECT(ADDRESS(($AN27-1)*36+($AO27-1)*12+6,COLUMN())):INDIRECT(ADDRESS(($AN27-1)*36+($AO27-1)*12+$AP27+4,COLUMN())),INDIRECT(ADDRESS(($AN27-1)*3+$AO27+5,$AP27+20)))>=1,0,INDIRECT(ADDRESS(($AN27-1)*3+$AO27+5,$AP27+20))))) -> 0 | AT27: =COUNTIF(INDIRECT("U"&(ROW()+12*(($AN27-1)*3+$AO27)-ROW())/12+5):INDIRECT("AF"&(ROW()+12*(($AN27-1)*3+$AO27)-ROW())/12+5),AS27) -> 0 | AU27: =IF(AND(AQ27+AS27>0,AR27+AT27>0),COUNTIF(AU$6:AU26,">0")+1,0) -> 0 | BE27: 1 | BG27: =SUM(H27:H28) -> 0 | BH27: =SUM(I27:I28) -> 0 | BI27: =SUM(J27:J28) -> 0 | BJ27: =SUM(K27:K28) -> 0 | BK27: =SUM(L27:L28) -> 0 | BL27: =SUM(M27:M28) -> 0 | BM27: =SUM(N27:N28) -> 0 | BN27: =SUM(O27:O28) -> 0 | ... BR27: =SUM(S27:S28) -> 0 | BT27: =SUM(U27:U28) -> 0 | BU27: =SUM(V27:V28) -> 0 | BV27: =SUM(W27:W28) -> 0 | BW27: =SUM(X27:X28) -> 0 | BX27: =SUM(Y27:Y28) -> 0 | BY27: =SUM(Z27:Z28) -> 0 | BZ27: =SUM(AA27:AA28) -> 0 | CA27: =SUM(AB27:AB28) -> 0 | ... CE27: =SUM(AF27:AF28) -> 0 | CH27: min対象 | CI27: =IF(OR($D27="副園長",$D27="教頭",$D27="主任保育士",$D27="主幹教諭",$D27="主幹保育教諭"),0,BG27) -> 0 | CJ27: =IF(OR($D27="副園長",$D27="教頭",$D27="主任保育士",$D27="主幹教諭",$D27="主幹保育教諭"),0,BH27) -> 0 | CK27: =IF(OR($D27="副園長",$D27="教頭",$D27="主任保育士",$D27="主幹教諭",$D27="主幹保育教諭"),0,BI27) -> 0 | CL27: =IF(OR($D27="副園長",$D27="教頭",$D27="主任保育士",$D27="主幹教諭",$D27="主幹保育教諭"),0,BJ27) -> 0 | CM27: =IF(OR($D27="副園長",$D27="教頭",$D27="主任保育士",$D27="主幹教諭",$D27="主幹保育教諭"),0,BK27) -> 0 | CN27: =IF(OR($D27="副園長",$D27="教頭",$D27="主任保育士",$D27="主幹教諭",$D27="主幹保育教諭"),0,BL27) -> 0 | CO27: =IF(OR($D27="副園長",$D27="教頭",$D27="主任保育士",$D27="主幹教諭",$D27="主幹保育教諭"),0,BM27) -> 0 | CP27: =IF(OR($D27="副園長",$D27="教頭",$D27="主任保育士",$D27="主幹教諭",$D27="主幹保育教諭"),0,BN27) -> 0 | ... CT27: =IF(OR($D27="副園長",$D27="教頭",$D27="主任保育士",$D27="主幹教諭",$D27="主幹保育教諭"),0,BR27) -> 0
G28: 手当 | I28: =IF(H28="","",H28) | J28: =IF(I28="","",I28) | K28: =IF(J28="","",J28) | L28: =IF(K28="","",K28) | M28: =IF(L28="","",L28) | N28: =IF(M28="","",M28) | O28: =IF(N28="","",N28) | P28: =IF(O28="","",O28) | ... S28: =IF(R28="","",R28) | T28: =SUM(H28:S28) -> 0 | V28: =IF(U28="","",U28) | W28: =IF(V28="","",V28) | X28: =IF(W28="","",W28) | Y28: =IF(X28="","",X28) | Z28: =IF(Y28="","",Y28) | AA28: =IF(Z28="","",Z28) | AB28: =IF(AA28="","",AA28) | AC28: =IF(AB28="","",AB28) | ... AF28: =IF(AE28="","",AE28) | AG28: =SUM(U28:AF28) -> 0 | AI28: 若手リーダー等 | AJ28: 5000 | AN28: 1 | AO28: 2 | AP28: 11 | AQ28: =IF($AP28=1,IF(INDIRECT(ADDRESS(($AN28-1)*3+$AO28+5,$AP28+7))="",0,INDIRECT(ADDRESS(($AN28-1)*3+$AO28+5,$AP28+7))),IF(INDIRECT(ADDRESS(($AN28-1)*3+$AO28+5,$AP28+7))="",0,IF(COUNTIF(INDIRECT(ADDRESS(($AN28-1)*36+($AO28-1)*12+6,COLUMN())):INDIRECT(ADDRESS(($AN28-1)*36+($AO28-1)*12+$AP28+4,COLUMN())),INDIRECT(ADDRESS(($AN28-1)*3+$AO28+5,$AP28+7)))>=1,0,INDIRECT(ADDRESS(($AN28-1)*3+$AO28+5,$AP28+7))))) -> 0 | AR28: =COUNTIF(INDIRECT("H"&(ROW()+12*(($AN28-1)*3+$AO28)-ROW())/12+5):INDIRECT("S"&(ROW()+12*(($AN28-1)*3+$AO28)-ROW())/12+5),AQ28) -> 0 | AS28: =IF($AP28=1,IF(INDIRECT(ADDRESS(($AN28-1)*3+$AO28+5,$AP28+20))="",0,INDIRECT(ADDRESS(($AN28-1)*3+$AO28+5,$AP28+20))),IF(INDIRECT(ADDRESS(($AN28-1)*3+$AO28+5,$AP28+20))="",0,IF(COUNTIF(INDIRECT(ADDRESS(($AN28-1)*36+($AO28-1)*12+6,COLUMN())):INDIRECT(ADDRESS(($AN28-1)*36+($AO28-1)*12+$AP28+4,COLUMN())),INDIRECT(ADDRESS(($AN28-1)*3+$AO28+5,$AP28+20)))>=1,0,INDIRECT(ADDRESS(($AN28-1)*3+$AO28+5,$AP28+20))))) -> 0 | AT28: =COUNTIF(INDIRECT("U"&(ROW()+12*(($AN28-1)*3+$AO28)-ROW())/12+5):INDIRECT("AF"&(ROW()+12*(($AN28-1)*3+$AO28)-ROW())/12+5),AS28) -> 0 | AU28: =IF(AND(AQ28+AS28>0,AR28+AT28>0),COUNTIF(AU$6:AU27,">0")+1,0) -> 0 | BE28: 2 | BF28: ＞＠40000 | BG28: =IF(BG27+BT27>$AJ$27,1,0) -> 0 | BH28: =IF(BH27+BU27>$AJ$27,1,0) -> 0 | BI28: =IF(BI27+BV27>$AJ$27,1,0) -> 0 | BJ28: =IF(BJ27+BW27>$AJ$27,1,0) -> 0 | BK28: =IF(BK27+BX27>$AJ$27,1,0) -> 0 | BL28: =IF(BL27+BY27>$AJ$27,1,0) -> 0 | BM28: =IF(BM27+BZ27>$AJ$27,1,0) -> 0 | BN28: =IF(BN27+CA27>$AJ$27,1,0) -> 0 | ... BR28: =IF(BR27+CE27>$AJ$27,1,0) -> 0
G29: R8法定福利費残 | T29: =SUM(H29:S29) -> 0 | AG29: =SUM(U29:AF29) -> 0 | AI29: 職員処遇 | AJ29: 40000 | AN29: 1 | AO29: 2 | AP29: 12 | AQ29: =IF($AP29=1,IF(INDIRECT(ADDRESS(($AN29-1)*3+$AO29+5,$AP29+7))="",0,INDIRECT(ADDRESS(($AN29-1)*3+$AO29+5,$AP29+7))),IF(INDIRECT(ADDRESS(($AN29-1)*3+$AO29+5,$AP29+7))="",0,IF(COUNTIF(INDIRECT(ADDRESS(($AN29-1)*36+($AO29-1)*12+6,COLUMN())):INDIRECT(ADDRESS(($AN29-1)*36+($AO29-1)*12+$AP29+4,COLUMN())),INDIRECT(ADDRESS(($AN29-1)*3+$AO29+5,$AP29+7)))>=1,0,INDIRECT(ADDRESS(($AN29-1)*3+$AO29+5,$AP29+7))))) -> 0 | AR29: =COUNTIF(INDIRECT("H"&(ROW()+12*(($AN29-1)*3+$AO29)-ROW())/12+5):INDIRECT("S"&(ROW()+12*(($AN29-1)*3+$AO29)-ROW())/12+5),AQ29) -> 0 | AS29: =IF($AP29=1,IF(INDIRECT(ADDRESS(($AN29-1)*3+$AO29+5,$AP29+20))="",0,INDIRECT(ADDRESS(($AN29-1)*3+$AO29+5,$AP29+20))),IF(INDIRECT(ADDRESS(($AN29-1)*3+$AO29+5,$AP29+20))="",0,IF(COUNTIF(INDIRECT(ADDRESS(($AN29-1)*36+($AO29-1)*12+6,COLUMN())):INDIRECT(ADDRESS(($AN29-1)*36+($AO29-1)*12+$AP29+4,COLUMN())),INDIRECT(ADDRESS(($AN29-1)*3+$AO29+5,$AP29+20)))>=1,0,INDIRECT(ADDRESS(($AN29-1)*3+$AO29+5,$AP29+20))))) -> 0 | AT29: =COUNTIF(INDIRECT("U"&(ROW()+12*(($AN29-1)*3+$AO29)-ROW())/12+5):INDIRECT("AF"&(ROW()+12*(($AN29-1)*3+$AO29)-ROW())/12+5),AS29) -> 0 | AU29: =IF(AND(AQ29+AS29>0,AR29+AT29>0),COUNTIF(AU$6:AU28,">0")+1,0) -> 0 | BE29: 3
