Workbook
Name _Qr228: #REF!
Name _Qr228: #REF!
Name _Qr228: #REF!
Name その他: #REF!
Name っっｗ: #REF!,#REF!,#REF!,#REF!
Name っっｗ: #REF!,#REF!,#REF!,#REF!
Name っっｗ: #REF!,#REF!,#REF!,#REF!
Name っっｗ: #REF!,#REF!,#REF!,#REF!
Name 引上率: [1]単価引上率!$B$2
Name 教育単価表: '[2]こども園 本単価表（教育）'!$A$6:$BP$40
Name 教育単価表: '[3]こども園 本単価表（教育）'!$A$6:$BP$40
Name 教育単価表: '[4]こども園 本単価表（教育）'!$A$6:$BP$40
Name 教育定員: '[2]積算表（教育）'!$AO$2:$AP$18
Name 教育定員: '[3]積算表（教育）'!$AO$2:$AP$18
Name 教育定員: '[4]積算表（教育）'!$AO$2:$AP$18
Name 教育定員Ⅱ: '[2]積算表（教育）'!#REF!
Name 教育定員Ⅱ: '[3]積算表（教育）'!#REF!
Name 教育定員Ⅱ: '[4]積算表（教育）'!#REF!
Name 第7号様式: #REF!
Name 第7号様式: #REF!
Name 第7号様式: #REF!
Name 単価表: [5]保育単価表!$A$6:$BI$74
Name 単価表: #REF!
Name 定員: [5]処遇Ⅰ!$AO$2:$AP$18
Name 定員: #REF!
Name 定員Ⅱ: [5]処遇Ⅰ!#REF!
Name 定員Ⅱ: #REF!
Name 適リスト: #REF!
Name 入力欄②１: #REF!,#REF!,#REF!,#REF!,#REF!,#REF!,#REF!,#REF!,#REF!,#REF!,#REF!,#REF!,#REF!,#REF!,#REF!,#REF!,#REF!,#REF!,#REF!,#REF!,#REF!,#REF!
Name 入力欄②１: #REF!,#REF!,#REF!,#REF!,#REF!,#REF!,#REF!,#REF!,#REF!,#REF!,#REF!,#REF!,#REF!,#REF!,#REF!,#REF!,#REF!,#REF!,#REF!,#REF!,#REF!,#REF!
Name 入力欄②１: #REF!,#REF!,#REF!,#REF!,#REF!,#REF!,#REF!,#REF!,#REF!,#REF!,#REF!,#REF!,#REF!,#REF!,#REF!,#REF!,#REF!,#REF!,#REF!,#REF!,#REF!,#REF!
Name 入力欄③０２: '[7]様式③ 歳入'!$AG$3,'[7]様式③ 歳入'!$AK$3,'[7]様式③ 歳入'!$B$6:$AL$64,'[7]様式③ 歳入'!$G$65:$Z$65
Name 入力欄③２: '[8]様式③ 歳入'!$AG$3,'[8]様式③ 歳入'!$AK$3,'[8]様式③ 歳入'!$B$6:$AL$64,'[8]様式③ 歳入'!$G$65:$Z$65
Name 入力欄③Ｂ: '[6]様式③ 歳入'!$AG$3,'[6]様式③ 歳入'!$AK$3,'[6]様式③ 歳入'!$B$6:$AL$64,'[6]様式③ 歳入'!$G$65:$Z$65
Name 否リスト: #REF!
Name 平均勤続年数: [5]加算区分!$B$3:$F$14
Name 平均勤続年数: #REF!
Name 保育単価表: '[2]保育単価表（保育）'!$A$6:$BO$78
Name 保育単価表: '[3]保育単価表（保育）'!$A$6:$BO$78
Name 保育単価表: '[4]保育単価表（保育）'!$A$6:$BO$78
Name 保育定員: '[2]積算表（保育）'!$AO$2:$AP$19
Name 保育定員: '[3]積算表（保育）'!$AO$2:$AP$19
Name 保育定員: '[4]積算表（保育）'!$AO$2:$AP$19
Name 保育定員Ⅱ: '[2]積算表（保育）'!#REF!
Name 保育定員Ⅱ: '[3]積算表（保育）'!#REF!
Name 保育定員Ⅱ: '[4]積算表（保育）'!#REF!

Sheet ①入力シート
A1: 令和８年度 処遇改善等加算区分３及び職員処遇改善費 申請書 入力シート
B3: 必ず、説明テキストを確認しながら、作成してください。 ●処遇改善等加算区分１・２・３及び職員処遇改善費 ～制度編～ （令和８年４月版） ●処遇改善等加算区分３及び職員処遇改善費 申請事務手続き編 （令和８年10月版） ★近年、テキスト通りに作成しなかったことによる書類の訂正、 テキスト内に回答が書いてあるお問い合わせが非常に増え ています。ご協力をお願いいたします。
B4: 【施設情報について】
C5: 市町村 | D5: 横浜市 | E5: =VLOOKUP(D7,施設情報!A2:I157,4,FALSE) -> #N/A | G5: ※施設番号入力後自動反映
C6: 施設・事業所種別 | D6: 幼稚園 | G6: =IF(AND(LEN(D7)=13,ISNUMBER(--D7),ISNA(D8)),"施設種別と様式が一致しません。入力した施設番号または施設種別を確認してください。","")
C7: 施設・事業所番号 | G7: ←最初に入力
C8: 施設・事業所名称 | D8: =VLOOKUP(D7,施設情報!A2:I157,6,FALSE) -> #N/A | G8: ※施設番号入力後自動反映
C9: 代表者職・氏名
C10: 担当者名※ | G10: ※令和８年度処遇改善等加算区分３及び職員処遇改善費申請書について、修正内容や確認事項がある際に使用します。 かならず、連絡がつながる担当者様のお名前、電話番号を入力してください。
C11: 担当者電話番号※
G12: ※上記担当者がどうしても対応できない曜日・時間帯等がありましたら、左の枠内に入力してください。
B13: 【処遇改善等加算区分３及び職員処遇改善費】
C14: 区分３の加算額の算定に係る研修修了者が1人以上いる
C16: 処遇改善等加算区分３ 加算の適用※ | M16: 該当
C17: ※加算額の算定に係る研修修了者が1人以上いることが加算適用の要件です。 ※処遇改善等加算区分３を適用する場合は、②入力シート２、③入力シート３の入力、 研修受講履歴一覧の提出が必要です。 | M17: 非該当
C18: 職員処遇改善費 加算の適用※
C19: ※処遇改善等加算区分３－①（副主任保育士等に係る加算）を適用する場合のみ、職員処遇改善費の適用が可能です。
B20: 【処遇改善等加算Ⅲ及び向上支援費加算Ⅲ】
C21: 処遇改善等加算Ⅲ 加算の適用
C22: 向上支援費加算Ⅲ 加算の適用※ | F22: -
C23: ※処遇改善等加算Ⅲを適用する場合のみ、向上支援費加算Ⅲの適用が可能です。 ※「向上支援費加算Ⅲ」は、保育所、認定こども園（２・３号）、小規模保育事業Ａ型・ Ｂ型、 事業所内保育事業が対象です。
B24: 【処遇改善等加算区分３が非該当の場合は以下は入力不要】
B26: 【施設の情報について】 ※処遇改善等加算区分３及び職員処遇改善費が非該当の場合は入力不要
C27: 利用定員 | I27: 人
C29: 年齢別児童数※ | E29: ４歳以上児 | I29: 人
E30: ３歳児 (満３歳児を除く) | I30: 人
E31: 満３歳児 | I31: 人
C32: ※年齢別児童数には、既存園は４月時点の利用子ども数又は「④平均年齢別児童数計算表」により計算した当年度の平均こども数、新規園は４月時点の利用子ども数を入力すること。
C34: 各種加算 の 適用状況 ※令和８年４月 時点の状況 | D34: ４歳以上児配置改善加算
D35: ３歳児配置改善加算
D36: 満３歳児対応加配加算
D37: 講師配置加算
D38: チーム保育加配加算 ※加配有無と加配人数を選択
D39: 通園送迎加算
D40: 給食実施加算 ※「自園調理」か「外部搬入」を選択
D41: 主幹教諭等専任加算
D42: 事務職員配置加算
D43: 指導充実加配加算
D44: 事務負担対応加配加算
D45: 栄養管理加算 ※配置のみ「あり」を選択（兼務、嘱託は「なし」を選択）
D46: 副園長・教頭配置加算
D47: 年齢別配置基準を下回る場合 ※下回る人数を入力してください
F49: =IF(D49="適","修了人数Aに副主任保育士等及び園長等の研修修了見込者も含められます",IF(D49="否","修了人数には研修修了見込者は含められません",""))
C50: 基準人数A | D50: ='⑤積算表（区分３）'!AA43 -> 1 | F50: 修了人数A
C51: 基準人数Ｂ | D51: ='⑤積算表（区分３）'!AA46 -> 1 | F51: 修了人数Ｂ
C53: 【職員処遇改善費が非該当の場合は以下は入力不要】
C54: 職員処遇改善費の対象となる職員数※１ （令和８年度処遇改善等加算区分１・２に係る 平均経験年数について（通知）から転記） | I54: 人
C55: 職員処遇改善費の加算対象職員数の最大人数（参考） | F55: ='⑤積算表（区分３）'!$X$60 -> 0 | I55: 人
C56: 職員処遇改善費の加算対象職員数「人数Ｃ」※２ | I56: 人
C57: ※１処遇改善等加算区分１・２の加算率等認定申請書（処遇改善等加算）（第１号様式の１）で記載された経験年数７年０か月以上の職員のうち、「保育士」「保育教諭」「教諭」「保健師・助産師・看護師・准看護師」に限ります。
C58: ※２産育休や病休を取得しているため賃金改善できない場合、算定から除くことができます。
C59: 研修要件を満たせない職員は原則人数Ｃの算定から除きます。

Sheet ②入力シート２
A1: 【処遇改善等加算区分３が非該当の場合は、入力不要です】 | H1: ①入力シートの「修了人数A」と当シートの加算対象者Aの人数、①入力シートの「人数C」と当シートの加算対象者Cの人数が一致するとそれぞれ〇が表示されます | AD1: =IF(①入力シート!D8="","","（"&①入力シート!D8&"） ") -> #N/A
H2: A | I2: ='⑤積算表（区分３）'!AA44 -> 0 | J2: 人 | K2: B | L2: ='⑤積算表（区分３）'!AA47 -> 0 | M2: 人 | N2: C | O2: ='⑤積算表（区分３）'!X61 -> 0 | P2: 人 | R2: ４月の改善額 | T2: 処遇改善等加算区分３ | V2: =AO3 -> 0 | X2: 職員処遇改善費 | Z2: =AP3 -> 0 | AF2: =IF(①入力シート!D7="","","（"&①入力シート!D7&"） ") | AN2: 改善すべき額 | AO2: =I2*AS2+L2*AS3 -> 0 | AP2: =O2*AS4 -> 0 | AR2: 中核リーダー等 | AS2: 40000
H3: 記載人数A | I3: =IF(COUNTIF($C$8:$D$305, "加算対象者A（修了者）") =I2, "○", "×") -> ○ | N3: 記載人数C | O3: =IF(COUNTIF($C$8:$D$305, "加算対象者C（修了者）")=O2, "○", "×") -> ○ | AN3: 4月の合計 | AO3: =SUMIF($BE6:$BE305,1,BG6:BG305)+SUMIF(③入力シート３!$BE6:$BE305,1,③入力シート３!BG6:BG305) -> 0 | AP3: =SUMIF($BE6:$BE305,1,BT6:BT305) -> 0 | AR3: 若手リーダー等 | AS3: 5000
A4: 副主任保育士等に係る賃金改善について | H4: 処遇改善等加算区分３（人数A） | U4: 職員処遇改善費（人数C） | AR4: 職員処遇 | AS4: 40000
B5: 氏名 | C5: 職名 | D5: 相当する職名 | E5: 職種 | F5: 経験年数 | G5: 改善した給与項目 | H5: 4月 | I5: 5月 | J5: 6月 | K5: 7月 | L5: 8月 | M5: 9月 | N5: 10月 | O5: 11月 | P5: 12月 | Q5: 1月 | R5: 2月 | S5: 3月 | T5: 合計 | U5: 4月 | V5: 5月 | W5: 6月 | X5: 7月 | Y5: 8月 | Z5: 9月 | AA5: 10月 | AB5: 11月 | AC5: 12月 | AD5: 1月 | AE5: 2月 | AF5: 3月 | AG5: 合計 | AN5: 職員 | AO5: 基本給等 | AP5: 月（年度当初から何か月目） | AQ5: 金額 | AR5: 月数 | AS5: 金額 | AT5: 月数 | AU5: 印刷行 | CH5: min | CI5: =IF(MIN(CI6:CI303)=0, SMALL(CI6:CI303,COUNTIF(CI6:CI303,0)+COUNTIF(CI6:CI303,1)+1), MIN(CI6:CI303)) -> #NUM! | CJ5: =IF(MIN(CJ6:CJ303)=0, SMALL(CJ6:CJ303,COUNTIF(CJ6:CJ303,0)+COUNTIF(CJ6:CJ303,1)+1), MIN(CJ6:CJ303)) -> #NUM! | CK5: =IF(MIN(CK6:CK303)=0, SMALL(CK6:CK303,COUNTIF(CK6:CK303,0)+COUNTIF(CK6:CK303,1)+1), MIN(CK6:CK303)) -> #NUM! | CL5: =IF(MIN(CL6:CL303)=0, SMALL(CL6:CL303,COUNTIF(CL6:CL303,0)+COUNTIF(CL6:CL303,1)+1), MIN(CL6:CL303)) -> #NUM! | CM5: =IF(MIN(CM6:CM303)=0, SMALL(CM6:CM303,COUNTIF(CM6:CM303,0)+COUNTIF(CM6:CM303,1)+1), MIN(CM6:CM303)) -> #NUM! | CN5: =IF(MIN(CN6:CN303)=0, SMALL(CN6:CN303,COUNTIF(CN6:CN303,0)+COUNTIF(CN6:CN303,1)+1), MIN(CN6:CN303)) -> #NUM! | CO5: =IF(MIN(CO6:CO303)=0, SMALL(CO6:CO303,COUNTIF(CO6:CO303,0)+COUNTIF(CO6:CO303,1)+1), MIN(CO6:CO303)) -> #NUM! | CP5: =IF(MIN(CP6:CP303)=0, SMALL(CP6:CP303,COUNTIF(CP6:CP303,0)+COUNTIF(CP6:CP303,1)+1), MIN(CP6:CP303)) -> #NUM! | ... CT5: =IF(MIN(CT6:CT303)=0, SMALL(CT6:CT303,COUNTIF(CT6:CT303,0)+COUNTIF(CT6:CT303,1)+1), MIN(CT6:CT303)) -> #NUM!
A6: 1 | G6: 基本給 | I6: =IF(H6="","",H6) | J6: =IF(I6="","",I6) | K6: =IF(J6="","",J6) | L6: =IF(K6="","",K6) | M6: =IF(L6="","",L6) | N6: =IF(M6="","",M6) | O6: =IF(N6="","",N6) | P6: =IF(O6="","",O6) | ... S6: =IF(R6="","",R6) | T6: =SUM(H6:S6) -> 0 | V6: =IF(U6="","",U6) | W6: =IF(V6="","",V6) | X6: =IF(W6="","",W6) | Y6: =IF(X6="","",X6) | Z6: =IF(Y6="","",Y6) | AA6: =IF(Z6="","",Z6) | AB6: =IF(AA6="","",AA6) | AC6: =IF(AB6="","",AB6) | ... AF6: =IF(AE6="","",AE6) | AG6: =SUM(U6:AF6) -> 0 | AI6: =MAX(BG6:BR6) -> 0 | AN6: 1 | AO6: 1 | AP6: 1 | AQ6: =IF($AP6=1,IF(INDIRECT(ADDRESS(($AN6-1)*3+$AO6+5,$AP6+7))="",0,INDIRECT(ADDRESS(($AN6-1)*3+$AO6+5,$AP6+7))),IF(INDIRECT(ADDRESS(($AN6-1)*3+$AO6+5,$AP6+7))="",0,IF(COUNTIF(INDIRECT(ADDRESS(($AN6-1)*36+($AO6-1)*12+6,COLUMN())):INDIRECT(ADDRESS(($AN6-1)*36+($AO6-1)*12+$AP6+4,COLUMN())),INDIRECT(ADDRESS(($AN6-1)*3+$AO6+5,$AP6+7)))>=1,0,INDIRECT(ADDRESS(($AN6-1)*3+$AO6+5,$AP6+7))))) -> 0 | AR6: =COUNTIF(INDIRECT("H"&(ROW()+12*(($AN6-1)*3+$AO6)-ROW())/12+5):INDIRECT("S"&(ROW()+12*(($AN6-1)*3+$AO6)-ROW())/12+5),AQ6) -> 0 | AS6: =IF($AP6=1,IF(INDIRECT(ADDRESS(($AN6-1)*3+$AO6+5,$AP6+20))="",0,INDIRECT(ADDRESS(($AN6-1)*3+$AO6+5,$AP6+20))),IF(INDIRECT(ADDRESS(($AN6-1)*3+$AO6+5,$AP6+20))="",0,IF(COUNTIF(INDIRECT(ADDRESS(($AN6-1)*36+($AO6-1)*12+6,COLUMN())):INDIRECT(ADDRESS(($AN6-1)*36+($AO6-1)*12+$AP6+4,COLUMN())),INDIRECT(ADDRESS(($AN6-1)*3+$AO6+5,$AP6+20)))>=1,0,INDIRECT(ADDRESS(($AN6-1)*3+$AO6+5,$AP6+20))))) -> 0 | AT6: =COUNTIF(INDIRECT("U"&(ROW()+12*(($AN6-1)*3+$AO6)-ROW())/12+5):INDIRECT("AF"&(ROW()+12*(($AN6-1)*3+$AO6)-ROW())/12+5),AS6) -> 0 | AU6: =IF(AND(AQ6+AS6>0,AR6+AT6>0),1,0) -> 0 | BE6: 1 | BG6: =SUM(H6:H7) -> 0 | BH6: =SUM(I6:I7) -> 0 | BI6: =SUM(J6:J7) -> 0 | BJ6: =SUM(K6:K7) -> 0 | BK6: =SUM(L6:L7) -> 0 | BL6: =SUM(M6:M7) -> 0 | BM6: =SUM(N6:N7) -> 0 | BN6: =SUM(O6:O7) -> 0 | ... BR6: =SUM(S6:S7) -> 0 | BT6: =SUM(U6:U7) -> 0 | BU6: =SUM(V6:V7) -> 0 | BV6: =SUM(W6:W7) -> 0 | BW6: =SUM(X6:X7) -> 0 | BX6: =SUM(Y6:Y7) -> 0 | BY6: =SUM(Z6:Z7) -> 0 | BZ6: =SUM(AA6:AA7) -> 0 | CA6: =SUM(AB6:AB7) -> 0 | ... CE6: =SUM(AF6:AF7) -> 0 | CH6: min対象 | CI6: =IF(OR($D6="副園長",$D6="教頭",$D6="主任保育士",$D6="主幹教諭",$D6="主幹保育教諭"),0,BG6) -> 0 | CJ6: =IF(OR($D6="副園長",$D6="教頭",$D6="主任保育士",$D6="主幹教諭",$D6="主幹保育教諭"),0,BH6) -> 0 | CK6: =IF(OR($D6="副園長",$D6="教頭",$D6="主任保育士",$D6="主幹教諭",$D6="主幹保育教諭"),0,BI6) -> 0 | CL6: =IF(OR($D6="副園長",$D6="教頭",$D6="主任保育士",$D6="主幹教諭",$D6="主幹保育教諭"),0,BJ6) -> 0 | CM6: =IF(OR($D6="副園長",$D6="教頭",$D6="主任保育士",$D6="主幹教諭",$D6="主幹保育教諭"),0,BK6) -> 0 | CN6: =IF(OR($D6="副園長",$D6="教頭",$D6="主任保育士",$D6="主幹教諭",$D6="主幹保育教諭"),0,BL6) -> 0 | CO6: =IF(OR($D6="副園長",$D6="教頭",$D6="主任保育士",$D6="主幹教諭",$D6="主幹保育教諭"),0,BM6) -> 0 | CP6: =IF(OR($D6="副園長",$D6="教頭",$D6="主任保育士",$D6="主幹教諭",$D6="主幹保育教諭"),0,BN6) -> 0 | ... CT6: =IF(OR($D6="副園長",$D6="教頭",$D6="主任保育士",$D6="主幹教諭",$D6="主幹保育教諭"),0,BR6) -> 0
G7: 手当 | I7: =IF(H7="","",H7) | J7: =IF(I7="","",I7) | K7: =IF(J7="","",J7) | L7: =IF(K7="","",K7) | M7: =IF(L7="","",L7) | N7: =IF(M7="","",M7) | O7: =IF(N7="","",N7) | P7: =IF(O7="","",O7) | ... S7: =IF(R7="","",R7) | T7: =SUM(H7:S7) -> 0 | V7: =IF(U7="","",U7) | W7: =IF(V7="","",V7) | X7: =IF(W7="","",W7) | Y7: =IF(X7="","",X7) | Z7: =IF(Y7="","",Y7) | AA7: =IF(Z7="","",Z7) | AB7: =IF(AA7="","",AA7) | AC7: =IF(AB7="","",AB7) | ... AF7: =IF(AE7="","",AE7) | AG7: =SUM(U7:AF7) -> 0 | AI7: =MIN(BG6:BR6) -> 0 | AN7: 1 | AO7: 1 | AP7: 2 | AQ7: =IF($AP7=1,IF(INDIRECT(ADDRESS(($AN7-1)*3+$AO7+5,$AP7+7))="",0,INDIRECT(ADDRESS(($AN7-1)*3+$AO7+5,$AP7+7))),IF(INDIRECT(ADDRESS(($AN7-1)*3+$AO7+5,$AP7+7))="",0,IF(COUNTIF(INDIRECT(ADDRESS(($AN7-1)*36+($AO7-1)*12+6,COLUMN())):INDIRECT(ADDRESS(($AN7-1)*36+($AO7-1)*12+$AP7+4,COLUMN())),INDIRECT(ADDRESS(($AN7-1)*3+$AO7+5,$AP7+7)))>=1,0,INDIRECT(ADDRESS(($AN7-1)*3+$AO7+5,$AP7+7))))) -> 0 | AR7: =COUNTIF(INDIRECT("H"&(ROW()+12*(($AN7-1)*3+$AO7)-ROW())/12+5):INDIRECT("S"&(ROW()+12*(($AN7-1)*3+$AO7)-ROW())/12+5),AQ7) -> 0 | AS7: =IF($AP7=1,IF(INDIRECT(ADDRESS(($AN7-1)*3+$AO7+5,$AP7+20))="",0,INDIRECT(ADDRESS(($AN7-1)*3+$AO7+5,$AP7+20))),IF(INDIRECT(ADDRESS(($AN7-1)*3+$AO7+5,$AP7+20))="",0,IF(COUNTIF(INDIRECT(ADDRESS(($AN7-1)*36+($AO7-1)*12+6,COLUMN())):INDIRECT(ADDRESS(($AN7-1)*36+($AO7-1)*12+$AP7+4,COLUMN())),INDIRECT(ADDRESS(($AN7-1)*3+$AO7+5,$AP7+20)))>=1,0,INDIRECT(ADDRESS(($AN7-1)*3+$AO7+5,$AP7+20))))) -> 0 | AT7: =COUNTIF(INDIRECT("U"&(ROW()+12*(($AN7-1)*3+$AO7)-ROW())/12+5):INDIRECT("AF"&(ROW()+12*(($AN7-1)*3+$AO7)-ROW())/12+5),AS7) -> 0 | AU7: =IF(AND(AQ7+AS7>0,AR7+AT7>0),COUNTIF(AU$6:AU6,">0")+1,0) -> 0 | BE7: 2 | BF7: ＞＠40000 | BG7: =IF(BG6+BT6>$AJ$27,1,0) -> 0 | BH7: =IF(BH6+BU6>$AJ$27,1,0) -> 0 | BI7: =IF(BI6+BV6>$AJ$27,1,0) -> 0 | BJ7: =IF(BJ6+BW6>$AJ$27,1,0) -> 0 | BK7: =IF(BK6+BX6>$AJ$27,1,0) -> 0 | BL7: =IF(BL6+BY6>$AJ$27,1,0) -> 0 | BM7: =IF(BM6+BZ6>$AJ$27,1,0) -> 0 | BN7: =IF(BN6+CA6>$AJ$27,1,0) -> 0 | ... BR7: =IF(BR6+CE6>$AJ$27,1,0) -> 0
G8: R8法定福利費残 | T8: =SUM(H8:S8) -> 0 | AG8: =SUM(U8:AF8) -> 0 | AN8: 1 | AO8: 1 | AP8: 3 | AQ8: =IF($AP8=1,IF(INDIRECT(ADDRESS(($AN8-1)*3+$AO8+5,$AP8+7))="",0,INDIRECT(ADDRESS(($AN8-1)*3+$AO8+5,$AP8+7))),IF(INDIRECT(ADDRESS(($AN8-1)*3+$AO8+5,$AP8+7))="",0,IF(COUNTIF(INDIRECT(ADDRESS(($AN8-1)*36+($AO8-1)*12+6,COLUMN())):INDIRECT(ADDRESS(($AN8-1)*36+($AO8-1)*12+$AP8+4,COLUMN())),INDIRECT(ADDRESS(($AN8-1)*3+$AO8+5,$AP8+7)))>=1,0,INDIRECT(ADDRESS(($AN8-1)*3+$AO8+5,$AP8+7))))) -> 0 | AR8: =COUNTIF(INDIRECT("H"&(ROW()+12*(($AN8-1)*3+$AO8)-ROW())/12+5):INDIRECT("S"&(ROW()+12*(($AN8-1)*3+$AO8)-ROW())/12+5),AQ8) -> 0 | AS8: =IF($AP8=1,IF(INDIRECT(ADDRESS(($AN8-1)*3+$AO8+5,$AP8+20))="",0,INDIRECT(ADDRESS(($AN8-1)*3+$AO8+5,$AP8+20))),IF(INDIRECT(ADDRESS(($AN8-1)*3+$AO8+5,$AP8+20))="",0,IF(COUNTIF(INDIRECT(ADDRESS(($AN8-1)*36+($AO8-1)*12+6,COLUMN())):INDIRECT(ADDRESS(($AN8-1)*36+($AO8-1)*12+$AP8+4,COLUMN())),INDIRECT(ADDRESS(($AN8-1)*3+$AO8+5,$AP8+20)))>=1,0,INDIRECT(ADDRESS(($AN8-1)*3+$AO8+5,$AP8+20))))) -> 0 | AT8: =COUNTIF(INDIRECT("U"&(ROW()+12*(($AN8-1)*3+$AO8)-ROW())/12+5):INDIRECT("AF"&(ROW()+12*(($AN8-1)*3+$AO8)-ROW())/12+5),AS8) -> 0 | AU8: =IF(AND(AQ8+AS8>0,AR8+AT8>0),COUNTIF(AU$6:AU7,">0")+1,0) -> 0 | BE8: 3
A9: 2 | G9: 基本給 | I9: =IF(H9="","",H9) | J9: =IF(I9="","",I9) | K9: =IF(J9="","",J9) | L9: =IF(K9="","",K9) | M9: =IF(L9="","",L9) | N9: =IF(M9="","",M9) | O9: =IF(N9="","",N9) | P9: =IF(O9="","",O9) | ... S9: =IF(R9="","",R9) | T9: =SUM(H9:S9) -> 0 | V9: =IF(U9="","",U9) | W9: =IF(V9="","",V9) | X9: =IF(W9="","",W9) | Y9: =IF(X9="","",X9) | Z9: =IF(Y9="","",Y9) | AA9: =IF(Z9="","",Z9) | AB9: =IF(AA9="","",AA9) | AC9: =IF(AB9="","",AB9) | ... AF9: =IF(AE9="","",AE9) | AG9: =SUM(U9:AF9) -> 0 | AN9: 1 | AO9: 1 | AP9: 4 | AQ9: =IF($AP9=1,IF(INDIRECT(ADDRESS(($AN9-1)*3+$AO9+5,$AP9+7))="",0,INDIRECT(ADDRESS(($AN9-1)*3+$AO9+5,$AP9+7))),IF(INDIRECT(ADDRESS(($AN9-1)*3+$AO9+5,$AP9+7))="",0,IF(COUNTIF(INDIRECT(ADDRESS(($AN9-1)*36+($AO9-1)*12+6,COLUMN())):INDIRECT(ADDRESS(($AN9-1)*36+($AO9-1)*12+$AP9+4,COLUMN())),INDIRECT(ADDRESS(($AN9-1)*3+$AO9+5,$AP9+7)))>=1,0,INDIRECT(ADDRESS(($AN9-1)*3+$AO9+5,$AP9+7))))) -> 0 | AR9: =COUNTIF(INDIRECT("H"&(ROW()+12*(($AN9-1)*3+$AO9)-ROW())/12+5):INDIRECT("S"&(ROW()+12*(($AN9-1)*3+$AO9)-ROW())/12+5),AQ9) -> 0 | AS9: =IF($AP9=1,IF(INDIRECT(ADDRESS(($AN9-1)*3+$AO9+5,$AP9+20))="",0,INDIRECT(ADDRESS(($AN9-1)*3+$AO9+5,$AP9+20))),IF(INDIRECT(ADDRESS(($AN9-1)*3+$AO9+5,$AP9+20))="",0,IF(COUNTIF(INDIRECT(ADDRESS(($AN9-1)*36+($AO9-1)*12+6,COLUMN())):INDIRECT(ADDRESS(($AN9-1)*36+($AO9-1)*12+$AP9+4,COLUMN())),INDIRECT(ADDRESS(($AN9-1)*3+$AO9+5,$AP9+20)))>=1,0,INDIRECT(ADDRESS(($AN9-1)*3+$AO9+5,$AP9+20))))) -> 0 | AT9: =COUNTIF(INDIRECT("U"&(ROW()+12*(($AN9-1)*3+$AO9)-ROW())/12+5):INDIRECT("AF"&(ROW()+12*(($AN9-1)*3+$AO9)-ROW())/12+5),AS9) -> 0 | AU9: =IF(AND(AQ9+AS9>0,AR9+AT9>0),COUNTIF(AU$6:AU8,">0")+1,0) -> 0 | BE9: 1 | BG9: =SUM(H9:H10) -> 0 | BH9: =SUM(I9:I10) -> 0 | BI9: =SUM(J9:J10) -> 0 | BJ9: =SUM(K9:K10) -> 0 | BK9: =SUM(L9:L10) -> 0 | BL9: =SUM(M9:M10) -> 0 | BM9: =SUM(N9:N10) -> 0 | BN9: =SUM(O9:O10) -> 0 | ... BR9: =SUM(S9:S10) -> 0 | BT9: =SUM(U9:U10) -> 0 | BU9: =SUM(V9:V10) -> 0 | BV9: =SUM(W9:W10) -> 0 | BW9: =SUM(X9:X10) -> 0 | BX9: =SUM(Y9:Y10) -> 0 | BY9: =SUM(Z9:Z10) -> 0 | BZ9: =SUM(AA9:AA10) -> 0 | CA9: =SUM(AB9:AB10) -> 0 | ... CE9: =SUM(AF9:AF10) -> 0 | CH9: min対象 | CI9: =IF(OR($D9="副園長",$D9="教頭",$D9="主任保育士",$D9="主幹教諭",$D9="主幹保育教諭"),0,BG9) -> 0 | CJ9: =IF(OR($D9="副園長",$D9="教頭",$D9="主任保育士",$D9="主幹教諭",$D9="主幹保育教諭"),0,BH9) -> 0 | CK9: =IF(OR($D9="副園長",$D9="教頭",$D9="主任保育士",$D9="主幹教諭",$D9="主幹保育教諭"),0,BI9) -> 0 | CL9: =IF(OR($D9="副園長",$D9="教頭",$D9="主任保育士",$D9="主幹教諭",$D9="主幹保育教諭"),0,BJ9) -> 0 | CM9: =IF(OR($D9="副園長",$D9="教頭",$D9="主任保育士",$D9="主幹教諭",$D9="主幹保育教諭"),0,BK9) -> 0 | CN9: =IF(OR($D9="副園長",$D9="教頭",$D9="主任保育士",$D9="主幹教諭",$D9="主幹保育教諭"),0,BL9) -> 0 | CO9: =IF(OR($D9="副園長",$D9="教頭",$D9="主任保育士",$D9="主幹教諭",$D9="主幹保育教諭"),0,BM9) -> 0 | CP9: =IF(OR($D9="副園長",$D9="教頭",$D9="主任保育士",$D9="主幹教諭",$D9="主幹保育教諭"),0,BN9) -> 0 | ... CT9: =IF(OR($D9="副園長",$D9="教頭",$D9="主任保育士",$D9="主幹教諭",$D9="主幹保育教諭"),0,BR9) -> 0
G10: 手当 | I10: =IF(H10="","",H10) | J10: =IF(I10="","",I10) | K10: =IF(J10="","",J10) | L10: =IF(K10="","",K10) | M10: =IF(L10="","",L10) | N10: =IF(M10="","",M10) | O10: =IF(N10="","",N10) | P10: =IF(O10="","",O10) | ... S10: =IF(R10="","",R10) | T10: =SUM(H10:S10) -> 0 | V10: =IF(U10="","",U10) | W10: =IF(V10="","",V10) | X10: =IF(W10="","",W10) | Y10: =IF(X10="","",X10) | Z10: =IF(Y10="","",Y10) | AA10: =IF(Z10="","",Z10) | AB10: =IF(AA10="","",AA10) | AC10: =IF(AB10="","",AB10) | ... AF10: =IF(AE10="","",AE10) | AG10: =SUM(U10:AF10) -> 0 | AI10: 相当する職名 | AJ10: 職種 | AN10: 1 | AO10: 1 | AP10: 5 | AQ10: =IF($AP10=1,IF(INDIRECT(ADDRESS(($AN10-1)*3+$AO10+5,$AP10+7))="",0,INDIRECT(ADDRESS(($AN10-1)*3+$AO10+5,$AP10+7))),IF(INDIRECT(ADDRESS(($AN10-1)*3+$AO10+5,$AP10+7))="",0,IF(COUNTIF(INDIRECT(ADDRESS(($AN10-1)*36+($AO10-1)*12+6,COLUMN())):INDIRECT(ADDRESS(($AN10-1)*36+($AO10-1)*12+$AP10+4,COLUMN())),INDIRECT(ADDRESS(($AN10-1)*3+$AO10+5,$AP10+7)))>=1,0,INDIRECT(ADDRESS(($AN10-1)*3+$AO10+5,$AP10+7))))) -> 0 | AR10: =COUNTIF(INDIRECT("H"&(ROW()+12*(($AN10-1)*3+$AO10)-ROW())/12+5):INDIRECT("S"&(ROW()+12*(($AN10-1)*3+$AO10)-ROW())/12+5),AQ10) -> 0 | AS10: =IF($AP10=1,IF(INDIRECT(ADDRESS(($AN10-1)*3+$AO10+5,$AP10+20))="",0,INDIRECT(ADDRESS(($AN10-1)*3+$AO10+5,$AP10+20))),IF(INDIRECT(ADDRESS(($AN10-1)*3+$AO10+5,$AP10+20))="",0,IF(COUNTIF(INDIRECT(ADDRESS(($AN10-1)*36+($AO10-1)*12+6,COLUMN())):INDIRECT(ADDRESS(($AN10-1)*36+($AO10-1)*12+$AP10+4,COLUMN())),INDIRECT(ADDRESS(($AN10-1)*3+$AO10+5,$AP10+20)))>=1,0,INDIRECT(ADDRESS(($AN10-1)*3+$AO10+5,$AP10+20))))) -> 0 | AT10: =COUNTIF(INDIRECT("U"&(ROW()+12*(($AN10-1)*3+$AO10)-ROW())/12+5):INDIRECT("AF"&(ROW()+12*(($AN10-1)*3+$AO10)-ROW())/12+5),AS10) -> 0 | AU10: =IF(AND(AQ10+AS10>0,AR10+AT10>0),COUNTIF(AU$6:AU9,">0")+1,0) -> 0 | BE10: 2 | BF10: ＞＠40000 | BG10: =IF(BG9+BT9>$AJ$27,1,0) -> 0 | BH10: =IF(BH9+BU9>$AJ$27,1,0) -> 0 | BI10: =IF(BI9+BV9>$AJ$27,1,0) -> 0 | BJ10: =IF(BJ9+BW9>$AJ$27,1,0) -> 0 | BK10: =IF(BK9+BX9>$AJ$27,1,0) -> 0 | BL10: =IF(BL9+BY9>$AJ$27,1,0) -> 0 | BM10: =IF(BM9+BZ9>$AJ$27,1,0) -> 0 | BN10: =IF(BN9+CA9>$AJ$27,1,0) -> 0 | ... BR10: =IF(BR9+CE9>$AJ$27,1,0) -> 0
G11: R8法定福利費残 | T11: =SUM(H11:S11) -> 0 | AG11: =SUM(U11:AF11) -> 0 | AI11: 園長 | AJ11: 園長 | AN11: 1 | AO11: 1 | AP11: 6 | AQ11: =IF($AP11=1,IF(INDIRECT(ADDRESS(($AN11-1)*3+$AO11+5,$AP11+7))="",0,INDIRECT(ADDRESS(($AN11-1)*3+$AO11+5,$AP11+7))),IF(INDIRECT(ADDRESS(($AN11-1)*3+$AO11+5,$AP11+7))="",0,IF(COUNTIF(INDIRECT(ADDRESS(($AN11-1)*36+($AO11-1)*12+6,COLUMN())):INDIRECT(ADDRESS(($AN11-1)*36+($AO11-1)*12+$AP11+4,COLUMN())),INDIRECT(ADDRESS(($AN11-1)*3+$AO11+5,$AP11+7)))>=1,0,INDIRECT(ADDRESS(($AN11-1)*3+$AO11+5,$AP11+7))))) -> 0 | AR11: =COUNTIF(INDIRECT("H"&(ROW()+12*(($AN11-1)*3+$AO11)-ROW())/12+5):INDIRECT("S"&(ROW()+12*(($AN11-1)*3+$AO11)-ROW())/12+5),AQ11) -> 0 | AS11: =IF($AP11=1,IF(INDIRECT(ADDRESS(($AN11-1)*3+$AO11+5,$AP11+20))="",0,INDIRECT(ADDRESS(($AN11-1)*3+$AO11+5,$AP11+20))),IF(INDIRECT(ADDRESS(($AN11-1)*3+$AO11+5,$AP11+20))="",0,IF(COUNTIF(INDIRECT(ADDRESS(($AN11-1)*36+($AO11-1)*12+6,COLUMN())):INDIRECT(ADDRESS(($AN11-1)*36+($AO11-1)*12+$AP11+4,COLUMN())),INDIRECT(ADDRESS(($AN11-1)*3+$AO11+5,$AP11+20)))>=1,0,INDIRECT(ADDRESS(($AN11-1)*3+$AO11+5,$AP11+20))))) -> 0 | AT11: =COUNTIF(INDIRECT("U"&(ROW()+12*(($AN11-1)*3+$AO11)-ROW())/12+5):INDIRECT("AF"&(ROW()+12*(($AN11-1)*3+$AO11)-ROW())/12+5),AS11) -> 0 | AU11: =IF(AND(AQ11+AS11>0,AR11+AT11>0),COUNTIF(AU$6:AU10,">0")+1,0) -> 0 | BE11: 3
A12: 3 | G12: 基本給 | I12: =IF(H12="","",H12) | J12: =IF(I12="","",I12) | K12: =IF(J12="","",J12) | L12: =IF(K12="","",K12) | M12: =IF(L12="","",L12) | N12: =IF(M12="","",M12) | O12: =IF(N12="","",N12) | P12: =IF(O12="","",O12) | ... S12: =IF(R12="","",R12) | T12: =SUM(H12:S12) -> 0 | V12: =IF(U12="","",U12) | W12: =IF(V12="","",V12) | X12: =IF(W12="","",W12) | Y12: =IF(X12="","",X12) | Z12: =IF(Y12="","",Y12) | AA12: =IF(Z12="","",Z12) | AB12: =IF(AA12="","",AA12) | AC12: =IF(AB12="","",AB12) | ... AF12: =IF(AE12="","",AE12) | AG12: =SUM(U12:AF12) -> 0 | AI12: 副園長 | AJ12: 副園長・教頭 | AN12: 1 | AO12: 1 | AP12: 7 | AQ12: =IF($AP12=1,IF(INDIRECT(ADDRESS(($AN12-1)*3+$AO12+5,$AP12+7))="",0,INDIRECT(ADDRESS(($AN12-1)*3+$AO12+5,$AP12+7))),IF(INDIRECT(ADDRESS(($AN12-1)*3+$AO12+5,$AP12+7))="",0,IF(COUNTIF(INDIRECT(ADDRESS(($AN12-1)*36+($AO12-1)*12+6,COLUMN())):INDIRECT(ADDRESS(($AN12-1)*36+($AO12-1)*12+$AP12+4,COLUMN())),INDIRECT(ADDRESS(($AN12-1)*3+$AO12+5,$AP12+7)))>=1,0,INDIRECT(ADDRESS(($AN12-1)*3+$AO12+5,$AP12+7))))) -> 0 | AR12: =COUNTIF(INDIRECT("H"&(ROW()+12*(($AN12-1)*3+$AO12)-ROW())/12+5):INDIRECT("S"&(ROW()+12*(($AN12-1)*3+$AO12)-ROW())/12+5),AQ12) -> 0 | AS12: =IF($AP12=1,IF(INDIRECT(ADDRESS(($AN12-1)*3+$AO12+5,$AP12+20))="",0,INDIRECT(ADDRESS(($AN12-1)*3+$AO12+5,$AP12+20))),IF(INDIRECT(ADDRESS(($AN12-1)*3+$AO12+5,$AP12+20))="",0,IF(COUNTIF(INDIRECT(ADDRESS(($AN12-1)*36+($AO12-1)*12+6,COLUMN())):INDIRECT(ADDRESS(($AN12-1)*36+($AO12-1)*12+$AP12+4,COLUMN())),INDIRECT(ADDRESS(($AN12-1)*3+$AO12+5,$AP12+20)))>=1,0,INDIRECT(ADDRESS(($AN12-1)*3+$AO12+5,$AP12+20))))) -> 0 | AT12: =COUNTIF(INDIRECT("U"&(ROW()+12*(($AN12-1)*3+$AO12)-ROW())/12+5):INDIRECT("AF"&(ROW()+12*(($AN12-1)*3+$AO12)-ROW())/12+5),AS12) -> 0 | AU12: =IF(AND(AQ12+AS12>0,AR12+AT12>0),COUNTIF(AU$6:AU11,">0")+1,0) -> 0 | BE12: 1 | BG12: =SUM(H12:H13) -> 0 | BH12: =SUM(I12:I13) -> 0 | BI12: =SUM(J12:J13) -> 0 | BJ12: =SUM(K12:K13) -> 0 | BK12: =SUM(L12:L13) -> 0 | BL12: =SUM(M12:M13) -> 0 | BM12: =SUM(N12:N13) -> 0 | BN12: =SUM(O12:O13) -> 0 | ... BR12: =SUM(S12:S13) -> 0 | BT12: =SUM(U12:U13) -> 0 | BU12: =SUM(V12:V13) -> 0 | BV12: =SUM(W12:W13) -> 0 | BW12: =SUM(X12:X13) -> 0 | BX12: =SUM(Y12:Y13) -> 0 | BY12: =SUM(Z12:Z13) -> 0 | BZ12: =SUM(AA12:AA13) -> 0 | CA12: =SUM(AB12:AB13) -> 0 | ... CE12: =SUM(AF12:AF13) -> 0 | CH12: min対象 | CI12: =IF(OR($D12="副園長",$D12="教頭",$D12="主任保育士",$D12="主幹教諭",$D12="主幹保育教諭"),0,BG12) -> 0 | CJ12: =IF(OR($D12="副園長",$D12="教頭",$D12="主任保育士",$D12="主幹教諭",$D12="主幹保育教諭"),0,BH12) -> 0 | CK12: =IF(OR($D12="副園長",$D12="教頭",$D12="主任保育士",$D12="主幹教諭",$D12="主幹保育教諭"),0,BI12) -> 0 | CL12: =IF(OR($D12="副園長",$D12="教頭",$D12="主任保育士",$D12="主幹教諭",$D12="主幹保育教諭"),0,BJ12) -> 0 | CM12: =IF(OR($D12="副園長",$D12="教頭",$D12="主任保育士",$D12="主幹教諭",$D12="主幹保育教諭"),0,BK12) -> 0 | CN12: =IF(OR($D12="副園長",$D12="教頭",$D12="主任保育士",$D12="主幹教諭",$D12="主幹保育教諭"),0,BL12) -> 0 | CO12: =IF(OR($D12="副園長",$D12="教頭",$D12="主任保育士",$D12="主幹教諭",$D12="主幹保育教諭"),0,BM12) -> 0 | CP12: =IF(OR($D12="副園長",$D12="教頭",$D12="主任保育士",$D12="主幹教諭",$D12="主幹保育教諭"),0,BN12) -> 0 | ... CT12: =IF(OR($D12="副園長",$D12="教頭",$D12="主任保育士",$D12="主幹教諭",$D12="主幹保育教諭"),0,BR12) -> 0
G13: 手当 | I13: =IF(H13="","",H13) | J13: =IF(I13="","",I13) | K13: =IF(J13="","",J13) | L13: =IF(K13="","",K13) | M13: =IF(L13="","",L13) | N13: =IF(M13="","",M13) | O13: =IF(N13="","",N13) | P13: =IF(O13="","",O13) | ... S13: =IF(R13="","",R13) | T13: =SUM(H13:S13) -> 0 | V13: =IF(U13="","",U13) | W13: =IF(V13="","",V13) | X13: =IF(W13="","",W13) | Y13: =IF(X13="","",X13) | Z13: =IF(Y13="","",Y13) | AA13: =IF(Z13="","",Z13) | AB13: =IF(AA13="","",AA13) | AC13: =IF(AB13="","",AB13) | ... AF13: =IF(AE13="","",AE13) | AG13: =SUM(U13:AF13) -> 0 | AI13: 教頭 | AJ13: 保育教諭 | AN13: 1 | AO13: 1 | AP13: 8 | AQ13: =IF($AP13=1,IF(INDIRECT(ADDRESS(($AN13-1)*3+$AO13+5,$AP13+7))="",0,INDIRECT(ADDRESS(($AN13-1)*3+$AO13+5,$AP13+7))),IF(INDIRECT(ADDRESS(($AN13-1)*3+$AO13+5,$AP13+7))="",0,IF(COUNTIF(INDIRECT(ADDRESS(($AN13-1)*36+($AO13-1)*12+6,COLUMN())):INDIRECT(ADDRESS(($AN13-1)*36+($AO13-1)*12+$AP13+4,COLUMN())),INDIRECT(ADDRESS(($AN13-1)*3+$AO13+5,$AP13+7)))>=1,0,INDIRECT(ADDRESS(($AN13-1)*3+$AO13+5,$AP13+7))))) -> 0 | AR13: =COUNTIF(INDIRECT("H"&(ROW()+12*(($AN13-1)*3+$AO13)-ROW())/12+5):INDIRECT("S"&(ROW()+12*(($AN13-1)*3+$AO13)-ROW())/12+5),AQ13) -> 0 | AS13: =IF($AP13=1,IF(INDIRECT(ADDRESS(($AN13-1)*3+$AO13+5,$AP13+20))="",0,INDIRECT(ADDRESS(($AN13-1)*3+$AO13+5,$AP13+20))),IF(INDIRECT(ADDRESS(($AN13-1)*3+$AO13+5,$AP13+20))="",0,IF(COUNTIF(INDIRECT(ADDRESS(($AN13-1)*36+($AO13-1)*12+6,COLUMN())):INDIRECT(ADDRESS(($AN13-1)*36+($AO13-1)*12+$AP13+4,COLUMN())),INDIRECT(ADDRESS(($AN13-1)*3+$AO13+5,$AP13+20)))>=1,0,INDIRECT(ADDRESS(($AN13-1)*3+$AO13+5,$AP13+20))))) -> 0 | AT13: =COUNTIF(INDIRECT("U"&(ROW()+12*(($AN13-1)*3+$AO13)-ROW())/12+5):INDIRECT("AF"&(ROW()+12*(($AN13-1)*3+$AO13)-ROW())/12+5),AS13) -> 0 | AU13: =IF(AND(AQ13+AS13>0,AR13+AT13>0),COUNTIF(AU$6:AU12,">0")+1,0) -> 0 | BE13: 2 | BF13: ＞＠40000 | BG13: =IF(BG12+BT12>$AJ$27,1,0) -> 0 | BH13: =IF(BH12+BU12>$AJ$27,1,0) -> 0 | BI13: =IF(BI12+BV12>$AJ$27,1,0) -> 0 | BJ13: =IF(BJ12+BW12>$AJ$27,1,0) -> 0 | BK13: =IF(BK12+BX12>$AJ$27,1,0) -> 0 | BL13: =IF(BL12+BY12>$AJ$27,1,0) -> 0 | BM13: =IF(BM12+BZ12>$AJ$27,1,0) -> 0 | BN13: =IF(BN12+CA12>$AJ$27,1,0) -> 0 | ... BR13: =IF(BR12+CE12>$AJ$27,1,0) -> 0
G14: R8法定福利費残 | T14: =SUM(H14:S14) -> 0 | AG14: =SUM(U14:AF14) -> 0 | AI14: 主任保育士 | AJ14: 教諭 | AN14: 1 | AO14: 1 | AP14: 9 | AQ14: =IF($AP14=1,IF(INDIRECT(ADDRESS(($AN14-1)*3+$AO14+5,$AP14+7))="",0,INDIRECT(ADDRESS(($AN14-1)*3+$AO14+5,$AP14+7))),IF(INDIRECT(ADDRESS(($AN14-1)*3+$AO14+5,$AP14+7))="",0,IF(COUNTIF(INDIRECT(ADDRESS(($AN14-1)*36+($AO14-1)*12+6,COLUMN())):INDIRECT(ADDRESS(($AN14-1)*36+($AO14-1)*12+$AP14+4,COLUMN())),INDIRECT(ADDRESS(($AN14-1)*3+$AO14+5,$AP14+7)))>=1,0,INDIRECT(ADDRESS(($AN14-1)*3+$AO14+5,$AP14+7))))) -> 0 | AR14: =COUNTIF(INDIRECT("H"&(ROW()+12*(($AN14-1)*3+$AO14)-ROW())/12+5):INDIRECT("S"&(ROW()+12*(($AN14-1)*3+$AO14)-ROW())/12+5),AQ14) -> 0 | AS14: =IF($AP14=1,IF(INDIRECT(ADDRESS(($AN14-1)*3+$AO14+5,$AP14+20))="",0,INDIRECT(ADDRESS(($AN14-1)*3+$AO14+5,$AP14+20))),IF(INDIRECT(ADDRESS(($AN14-1)*3+$AO14+5,$AP14+20))="",0,IF(COUNTIF(INDIRECT(ADDRESS(($AN14-1)*36+($AO14-1)*12+6,COLUMN())):INDIRECT(ADDRESS(($AN14-1)*36+($AO14-1)*12+$AP14+4,COLUMN())),INDIRECT(ADDRESS(($AN14-1)*3+$AO14+5,$AP14+20)))>=1,0,INDIRECT(ADDRESS(($AN14-1)*3+$AO14+5,$AP14+20))))) -> 0 | AT14: =COUNTIF(INDIRECT("U"&(ROW()+12*(($AN14-1)*3+$AO14)-ROW())/12+5):INDIRECT("AF"&(ROW()+12*(($AN14-1)*3+$AO14)-ROW())/12+5),AS14) -> 0 | AU14: =IF(AND(AQ14+AS14>0,AR14+AT14>0),COUNTIF(AU$6:AU13,">0")+1,0) -> 0 | BE14: 3
A15: 4 | G15: 基本給 | I15: =IF(H15="","",H15) | J15: =IF(I15="","",I15) | K15: =IF(J15="","",J15) | L15: =IF(K15="","",K15) | M15: =IF(L15="","",L15) | N15: =IF(M15="","",M15) | O15: =IF(N15="","",N15) | P15: =IF(O15="","",O15) | ... S15: =IF(R15="","",R15) | T15: =SUM(H15:S15) -> 0 | V15: =IF(U15="","",U15) | W15: =IF(V15="","",V15) | X15: =IF(W15="","",W15) | Y15: =IF(X15="","",X15) | Z15: =IF(Y15="","",Y15) | AA15: =IF(Z15="","",Z15) | AB15: =IF(AA15="","",AA15) | AC15: =IF(AB15="","",AB15) | ... AF15: =IF(AE15="","",AE15) | AG15: =SUM(U15:AF15) -> 0 | AI15: 主幹教諭 | AJ15: 保育士 | AN15: 1 | AO15: 1 | AP15: 10 | AQ15: =IF($AP15=1,IF(INDIRECT(ADDRESS(($AN15-1)*3+$AO15+5,$AP15+7))="",0,INDIRECT(ADDRESS(($AN15-1)*3+$AO15+5,$AP15+7))),IF(INDIRECT(ADDRESS(($AN15-1)*3+$AO15+5,$AP15+7))="",0,IF(COUNTIF(INDIRECT(ADDRESS(($AN15-1)*36+($AO15-1)*12+6,COLUMN())):INDIRECT(ADDRESS(($AN15-1)*36+($AO15-1)*12+$AP15+4,COLUMN())),INDIRECT(ADDRESS(($AN15-1)*3+$AO15+5,$AP15+7)))>=1,0,INDIRECT(ADDRESS(($AN15-1)*3+$AO15+5,$AP15+7))))) -> 0 | AR15: =COUNTIF(INDIRECT("H"&(ROW()+12*(($AN15-1)*3+$AO15)-ROW())/12+5):INDIRECT("S"&(ROW()+12*(($AN15-1)*3+$AO15)-ROW())/12+5),AQ15) -> 0 | AS15: =IF($AP15=1,IF(INDIRECT(ADDRESS(($AN15-1)*3+$AO15+5,$AP15+20))="",0,INDIRECT(ADDRESS(($AN15-1)*3+$AO15+5,$AP15+20))),IF(INDIRECT(ADDRESS(($AN15-1)*3+$AO15+5,$AP15+20))="",0,IF(COUNTIF(INDIRECT(ADDRESS(($AN15-1)*36+($AO15-1)*12+6,COLUMN())):INDIRECT(ADDRESS(($AN15-1)*36+($AO15-1)*12+$AP15+4,COLUMN())),INDIRECT(ADDRESS(($AN15-1)*3+$AO15+5,$AP15+20)))>=1,0,INDIRECT(ADDRESS(($AN15-1)*3+$AO15+5,$AP15+20))))) -> 0 | AT15: =COUNTIF(INDIRECT("U"&(ROW()+12*(($AN15-1)*3+$AO15)-ROW())/12+5):INDIRECT("AF"&(ROW()+12*(($AN15-1)*3+$AO15)-ROW())/12+5),AS15) -> 0 | AU15: =IF(AND(AQ15+AS15>0,AR15+AT15>0),COUNTIF(AU$6:AU14,">0")+1,0) -> 0 | BE15: 1 | BG15: =SUM(H15:H16) -> 0 | BH15: =SUM(I15:I16) -> 0 | BI15: =SUM(J15:J16) -> 0 | BJ15: =SUM(K15:K16) -> 0 | BK15: =SUM(L15:L16) -> 0 | BL15: =SUM(M15:M16) -> 0 | BM15: =SUM(N15:N16) -> 0 | BN15: =SUM(O15:O16) -> 0 | ... BR15: =SUM(S15:S16) -> 0 | BT15: =SUM(U15:U16) -> 0 | BU15: =SUM(V15:V16) -> 0 | BV15: =SUM(W15:W16) -> 0 | BW15: =SUM(X15:X16) -> 0 | BX15: =SUM(Y15:Y16) -> 0 | BY15: =SUM(Z15:Z16) -> 0 | BZ15: =SUM(AA15:AA16) -> 0 | CA15: =SUM(AB15:AB16) -> 0 | ... CE15: =SUM(AF15:AF16) -> 0 | CH15: min対象 | CI15: =IF(OR($D15="副園長",$D15="教頭",$D15="主任保育士",$D15="主幹教諭",$D15="主幹保育教諭"),0,BG15) -> 0 | CJ15: =IF(OR($D15="副園長",$D15="教頭",$D15="主任保育士",$D15="主幹教諭",$D15="主幹保育教諭"),0,BH15) -> 0 | CK15: =IF(OR($D15="副園長",$D15="教頭",$D15="主任保育士",$D15="主幹教諭",$D15="主幹保育教諭"),0,BI15) -> 0 | CL15: =IF(OR($D15="副園長",$D15="教頭",$D15="主任保育士",$D15="主幹教諭",$D15="主幹保育教諭"),0,BJ15) -> 0 | CM15: =IF(OR($D15="副園長",$D15="教頭",$D15="主任保育士",$D15="主幹教諭",$D15="主幹保育教諭"),0,BK15) -> 0 | CN15: =IF(OR($D15="副園長",$D15="教頭",$D15="主任保育士",$D15="主幹教諭",$D15="主幹保育教諭"),0,BL15) -> 0 | CO15: =IF(OR($D15="副園長",$D15="教頭",$D15="主任保育士",$D15="主幹教諭",$D15="主幹保育教諭"),0,BM15) -> 0 | CP15: =IF(OR($D15="副園長",$D15="教頭",$D15="主任保育士",$D15="主幹教諭",$D15="主幹保育教諭"),0,BN15) -> 0 | ... CT15: =IF(OR($D15="副園長",$D15="教頭",$D15="主任保育士",$D15="主幹教諭",$D15="主幹保育教諭"),0,BR15) -> 0
G16: 手当 | I16: =IF(H16="","",H16) | J16: =IF(I16="","",I16) | K16: =IF(J16="","",J16) | L16: =IF(K16="","",K16) | M16: =IF(L16="","",L16) | N16: =IF(M16="","",M16) | O16: =IF(N16="","",N16) | P16: =IF(O16="","",O16) | ... S16: =IF(R16="","",R16) | T16: =SUM(H16:S16) -> 0 | V16: =IF(U16="","",U16) | W16: =IF(V16="","",V16) | X16: =IF(W16="","",W16) | Y16: =IF(X16="","",X16) | Z16: =IF(Y16="","",Y16) | AA16: =IF(Z16="","",Z16) | AB16: =IF(AA16="","",AA16) | AC16: =IF(AB16="","",AB16) | ... AF16: =IF(AE16="","",AE16) | AG16: =SUM(U16:AF16) -> 0 | AI16: 主幹保育教諭 | AJ16: 保育従事者（無資格） | AN16: 1 | AO16: 1 | AP16: 11 | AQ16: =IF($AP16=1,IF(INDIRECT(ADDRESS(($AN16-1)*3+$AO16+5,$AP16+7))="",0,INDIRECT(ADDRESS(($AN16-1)*3+$AO16+5,$AP16+7))),IF(INDIRECT(ADDRESS(($AN16-1)*3+$AO16+5,$AP16+7))="",0,IF(COUNTIF(INDIRECT(ADDRESS(($AN16-1)*36+($AO16-1)*12+6,COLUMN())):INDIRECT(ADDRESS(($AN16-1)*36+($AO16-1)*12+$AP16+4,COLUMN())),INDIRECT(ADDRESS(($AN16-1)*3+$AO16+5,$AP16+7)))>=1,0,INDIRECT(ADDRESS(($AN16-1)*3+$AO16+5,$AP16+7))))) -> 0 | AR16: =COUNTIF(INDIRECT("H"&(ROW()+12*(($AN16-1)*3+$AO16)-ROW())/12+5):INDIRECT("S"&(ROW()+12*(($AN16-1)*3+$AO16)-ROW())/12+5),AQ16) -> 0 | AS16: =IF($AP16=1,IF(INDIRECT(ADDRESS(($AN16-1)*3+$AO16+5,$AP16+20))="",0,INDIRECT(ADDRESS(($AN16-1)*3+$AO16+5,$AP16+20))),IF(INDIRECT(ADDRESS(($AN16-1)*3+$AO16+5,$AP16+20))="",0,IF(COUNTIF(INDIRECT(ADDRESS(($AN16-1)*36+($AO16-1)*12+6,COLUMN())):INDIRECT(ADDRESS(($AN16-1)*36+($AO16-1)*12+$AP16+4,COLUMN())),INDIRECT(ADDRESS(($AN16-1)*3+$AO16+5,$AP16+20)))>=1,0,INDIRECT(ADDRESS(($AN16-1)*3+$AO16+5,$AP16+20))))) -> 0 | AT16: =COUNTIF(INDIRECT("U"&(ROW()+12*(($AN16-1)*3+$AO16)-ROW())/12+5):INDIRECT("AF"&(ROW()+12*(($AN16-1)*3+$AO16)-ROW())/12+5),AS16) -> 0 | AU16: =IF(AND(AQ16+AS16>0,AR16+AT16>0),COUNTIF(AU$6:AU15,">0")+1,0) -> 0 | BE16: 2 | BF16: ＞＠40000 | BG16: =IF(BG15+BT15>$AJ$27,1,0) -> 0 | BH16: =IF(BH15+BU15>$AJ$27,1,0) -> 0 | BI16: =IF(BI15+BV15>$AJ$27,1,0) -> 0 | BJ16: =IF(BJ15+BW15>$AJ$27,1,0) -> 0 | BK16: =IF(BK15+BX15>$AJ$27,1,0) -> 0 | BL16: =IF(BL15+BY15>$AJ$27,1,0) -> 0 | BM16: =IF(BM15+BZ15>$AJ$27,1,0) -> 0 | BN16: =IF(BN15+CA15>$AJ$27,1,0) -> 0 | ... BR16: =IF(BR15+CE15>$AJ$27,1,0) -> 0
G17: R8法定福利費残 | T17: =SUM(H17:S17) -> 0 | AG17: =SUM(U17:AF17) -> 0 | AI17: 中核リーダー | AJ17: 栄養士 | AN17: 1 | AO17: 1 | AP17: 12 | AQ17: =IF($AP17=1,IF(INDIRECT(ADDRESS(($AN17-1)*3+$AO17+5,$AP17+7))="",0,INDIRECT(ADDRESS(($AN17-1)*3+$AO17+5,$AP17+7))),IF(INDIRECT(ADDRESS(($AN17-1)*3+$AO17+5,$AP17+7))="",0,IF(COUNTIF(INDIRECT(ADDRESS(($AN17-1)*36+($AO17-1)*12+6,COLUMN())):INDIRECT(ADDRESS(($AN17-1)*36+($AO17-1)*12+$AP17+4,COLUMN())),INDIRECT(ADDRESS(($AN17-1)*3+$AO17+5,$AP17+7)))>=1,0,INDIRECT(ADDRESS(($AN17-1)*3+$AO17+5,$AP17+7))))) -> 0 | AR17: =COUNTIF(INDIRECT("H"&(ROW()+12*(($AN17-1)*3+$AO17)-ROW())/12+5):INDIRECT("S"&(ROW()+12*(($AN17-1)*3+$AO17)-ROW())/12+5),AQ17) -> 0 | AS17: =IF($AP17=1,IF(INDIRECT(ADDRESS(($AN17-1)*3+$AO17+5,$AP17+20))="",0,INDIRECT(ADDRESS(($AN17-1)*3+$AO17+5,$AP17+20))),IF(INDIRECT(ADDRESS(($AN17-1)*3+$AO17+5,$AP17+20))="",0,IF(COUNTIF(INDIRECT(ADDRESS(($AN17-1)*36+($AO17-1)*12+6,COLUMN())):INDIRECT(ADDRESS(($AN17-1)*36+($AO17-1)*12+$AP17+4,COLUMN())),INDIRECT(ADDRESS(($AN17-1)*3+$AO17+5,$AP17+20)))>=1,0,INDIRECT(ADDRESS(($AN17-1)*3+$AO17+5,$AP17+20))))) -> 0 | AT17: =COUNTIF(INDIRECT("U"&(ROW()+12*(($AN17-1)*3+$AO17)-ROW())/12+5):INDIRECT("AF"&(ROW()+12*(($AN17-1)*3+$AO17)-ROW())/12+5),AS17) -> 0 | AU17: =IF(AND(AQ17+AS17>0,AR17+AT17>0),COUNTIF(AU$6:AU16,">0")+1,0) -> 0 | BE17: 3
A18: 5 | G18: 基本給 | I18: =IF(H18="","",H18) | J18: =IF(I18="","",I18) | K18: =IF(J18="","",J18) | L18: =IF(K18="","",K18) | M18: =IF(L18="","",L18) | N18: =IF(M18="","",M18) | O18: =IF(N18="","",N18) | P18: =IF(O18="","",O18) | ... S18: =IF(R18="","",R18) | T18: =SUM(H18:S18) -> 0 | V18: =IF(U18="","",U18) | W18: =IF(V18="","",V18) | X18: =IF(W18="","",W18) | Y18: =IF(X18="","",X18) | Z18: =IF(Y18="","",Y18) | AA18: =IF(Z18="","",Z18) | AB18: =IF(AA18="","",AA18) | AC18: =IF(AB18="","",AB18) | ... AF18: =IF(AE18="","",AE18) | AG18: =SUM(U18:AF18) -> 0 | AI18: 専門リーダー | AJ18: 調理員 | AN18: 1 | AO18: 2 | AP18: 1 | AQ18: =IF($AP18=1,IF(INDIRECT(ADDRESS(($AN18-1)*3+$AO18+5,$AP18+7))="",0,INDIRECT(ADDRESS(($AN18-1)*3+$AO18+5,$AP18+7))),IF(INDIRECT(ADDRESS(($AN18-1)*3+$AO18+5,$AP18+7))="",0,IF(COUNTIF(INDIRECT(ADDRESS(($AN18-1)*36+($AO18-1)*12+6,COLUMN())):INDIRECT(ADDRESS(($AN18-1)*36+($AO18-1)*12+$AP18+4,COLUMN())),INDIRECT(ADDRESS(($AN18-1)*3+$AO18+5,$AP18+7)))>=1,0,INDIRECT(ADDRESS(($AN18-1)*3+$AO18+5,$AP18+7))))) -> 0 | AR18: =COUNTIF(INDIRECT("H"&(ROW()+12*(($AN18-1)*3+$AO18)-ROW())/12+5):INDIRECT("S"&(ROW()+12*(($AN18-1)*3+$AO18)-ROW())/12+5),AQ18) -> 0 | AS18: =IF($AP18=1,IF(INDIRECT(ADDRESS(($AN18-1)*3+$AO18+5,$AP18+20))="",0,INDIRECT(ADDRESS(($AN18-1)*3+$AO18+5,$AP18+20))),IF(INDIRECT(ADDRESS(($AN18-1)*3+$AO18+5,$AP18+20))="",0,IF(COUNTIF(INDIRECT(ADDRESS(($AN18-1)*36+($AO18-1)*12+6,COLUMN())):INDIRECT(ADDRESS(($AN18-1)*36+($AO18-1)*12+$AP18+4,COLUMN())),INDIRECT(ADDRESS(($AN18-1)*3+$AO18+5,$AP18+20)))>=1,0,INDIRECT(ADDRESS(($AN18-1)*3+$AO18+5,$AP18+20))))) -> 0 | AT18: =COUNTIF(INDIRECT("U"&(ROW()+12*(($AN18-1)*3+$AO18)-ROW())/12+5):INDIRECT("AF"&(ROW()+12*(($AN18-1)*3+$AO18)-ROW())/12+5),AS18) -> 0 | AU18: =IF(AND(AQ18+AS18>0,AR18+AT18>0),COUNTIF(AU$6:AU17,">0")+1,0) -> 0 | BE18: 1 | BG18: =SUM(H18:H19) -> 0 | BH18: =SUM(I18:I19) -> 0 | BI18: =SUM(J18:J19) -> 0 | BJ18: =SUM(K18:K19) -> 0 | BK18: =SUM(L18:L19) -> 0 | BL18: =SUM(M18:M19) -> 0 | BM18: =SUM(N18:N19) -> 0 | BN18: =SUM(O18:O19) -> 0 | ... BR18: =SUM(S18:S19) -> 0 | BT18: =SUM(U18:U19) -> 0 | BU18: =SUM(V18:V19) -> 0 | BV18: =SUM(W18:W19) -> 0 | BW18: =SUM(X18:X19) -> 0 | BX18: =SUM(Y18:Y19) -> 0 | BY18: =SUM(Z18:Z19) -> 0 | BZ18: =SUM(AA18:AA19) -> 0 | CA18: =SUM(AB18:AB19) -> 0 | ... CE18: =SUM(AF18:AF19) -> 0 | CH18: min対象 | CI18: =IF(OR($D18="副園長",$D18="教頭",$D18="主任保育士",$D18="主幹教諭",$D18="主幹保育教諭"),0,BG18) -> 0 | CJ18: =IF(OR($D18="副園長",$D18="教頭",$D18="主任保育士",$D18="主幹教諭",$D18="主幹保育教諭"),0,BH18) -> 0 | CK18: =IF(OR($D18="副園長",$D18="教頭",$D18="主任保育士",$D18="主幹教諭",$D18="主幹保育教諭"),0,BI18) -> 0 | CL18: =IF(OR($D18="副園長",$D18="教頭",$D18="主任保育士",$D18="主幹教諭",$D18="主幹保育教諭"),0,BJ18) -> 0 | CM18: =IF(OR($D18="副園長",$D18="教頭",$D18="主任保育士",$D18="主幹教諭",$D18="主幹保育教諭"),0,BK18) -> 0 | CN18: =IF(OR($D18="副園長",$D18="教頭",$D18="主任保育士",$D18="主幹教諭",$D18="主幹保育教諭"),0,BL18) -> 0 | CO18: =IF(OR($D18="副園長",$D18="教頭",$D18="主任保育士",$D18="主幹教諭",$D18="主幹保育教諭"),0,BM18) -> 0 | CP18: =IF(OR($D18="副園長",$D18="教頭",$D18="主任保育士",$D18="主幹教諭",$D18="主幹保育教諭"),0,BN18) -> 0 | ... CT18: =IF(OR($D18="副園長",$D18="教頭",$D18="主任保育士",$D18="主幹教諭",$D18="主幹保育教諭"),0,BR18) -> 0
G19: 手当 | I19: =IF(H19="","",H19) | J19: =IF(I19="","",I19) | K19: =IF(J19="","",J19) | L19: =IF(K19="","",K19) | M19: =IF(L19="","",L19) | N19: =IF(M19="","",M19) | O19: =IF(N19="","",N19) | P19: =IF(O19="","",O19) | ... S19: =IF(R19="","",R19) | T19: =SUM(H19:S19) -> 0 | V19: =IF(U19="","",U19) | W19: =IF(V19="","",V19) | X19: =IF(W19="","",W19) | Y19: =IF(X19="","",X19) | Z19: =IF(Y19="","",Y19) | AA19: =IF(Z19="","",Z19) | AB19: =IF(AA19="","",AA19) | AC19: =IF(AB19="","",AB19) | ... AF19: =IF(AE19="","",AE19) | AG19: =SUM(U19:AF19) -> 0 | AI19: 若手リーダー | AJ19: 保健師・助産師・看護師・准看護師 | AN19: 1 | AO19: 2 | AP19: 2 | AQ19: =IF($AP19=1,IF(INDIRECT(ADDRESS(($AN19-1)*3+$AO19+5,$AP19+7))="",0,INDIRECT(ADDRESS(($AN19-1)*3+$AO19+5,$AP19+7))),IF(INDIRECT(ADDRESS(($AN19-1)*3+$AO19+5,$AP19+7))="",0,IF(COUNTIF(INDIRECT(ADDRESS(($AN19-1)*36+($AO19-1)*12+6,COLUMN())):INDIRECT(ADDRESS(($AN19-1)*36+($AO19-1)*12+$AP19+4,COLUMN())),INDIRECT(ADDRESS(($AN19-1)*3+$AO19+5,$AP19+7)))>=1,0,INDIRECT(ADDRESS(($AN19-1)*3+$AO19+5,$AP19+7))))) -> 0 | AR19: =COUNTIF(INDIRECT("H"&(ROW()+12*(($AN19-1)*3+$AO19)-ROW())/12+5):INDIRECT("S"&(ROW()+12*(($AN19-1)*3+$AO19)-ROW())/12+5),AQ19) -> 0 | AS19: =IF($AP19=1,IF(INDIRECT(ADDRESS(($AN19-1)*3+$AO19+5,$AP19+20))="",0,INDIRECT(ADDRESS(($AN19-1)*3+$AO19+5,$AP19+20))),IF(INDIRECT(ADDRESS(($AN19-1)*3+$AO19+5,$AP19+20))="",0,IF(COUNTIF(INDIRECT(ADDRESS(($AN19-1)*36+($AO19-1)*12+6,COLUMN())):INDIRECT(ADDRESS(($AN19-1)*36+($AO19-1)*12+$AP19+4,COLUMN())),INDIRECT(ADDRESS(($AN19-1)*3+$AO19+5,$AP19+20)))>=1,0,INDIRECT(ADDRESS(($AN19-1)*3+$AO19+5,$AP19+20))))) -> 0 | AT19: =COUNTIF(INDIRECT("U"&(ROW()+12*(($AN19-1)*3+$AO19)-ROW())/12+5):INDIRECT("AF"&(ROW()+12*(($AN19-1)*3+$AO19)-ROW())/12+5),AS19) -> 0 | AU19: =IF(AND(AQ19+AS19>0,AR19+AT19>0),COUNTIF(AU$6:AU18,">0")+1,0) -> 0 | BE19: 2 | BF19: ＞＠40000 | BG19: =IF(BG18+BT18>$AJ$27,1,0) -> 0 | BH19: =IF(BH18+BU18>$AJ$27,1,0) -> 0 | BI19: =IF(BI18+BV18>$AJ$27,1,0) -> 0 | BJ19: =IF(BJ18+BW18>$AJ$27,1,0) -> 0 | BK19: =IF(BK18+BX18>$AJ$27,1,0) -> 0 | BL19: =IF(BL18+BY18>$AJ$27,1,0) -> 0 | BM19: =IF(BM18+BZ18>$AJ$27,1,0) -> 0 | BN19: =IF(BN18+CA18>$AJ$27,1,0) -> 0 | ... BR19: =IF(BR18+CE18>$AJ$27,1,0) -> 0
G20: R8法定福利費残 | T20: =SUM(H20:S20) -> 0 | AG20: =SUM(U20:AF20) -> 0 | AJ20: 事務職員 | AN20: 1 | AO20: 2 | AP20: 3 | AQ20: =IF($AP20=1,IF(INDIRECT(ADDRESS(($AN20-1)*3+$AO20+5,$AP20+7))="",0,INDIRECT(ADDRESS(($AN20-1)*3+$AO20+5,$AP20+7))),IF(INDIRECT(ADDRESS(($AN20-1)*3+$AO20+5,$AP20+7))="",0,IF(COUNTIF(INDIRECT(ADDRESS(($AN20-1)*36+($AO20-1)*12+6,COLUMN())):INDIRECT(ADDRESS(($AN20-1)*36+($AO20-1)*12+$AP20+4,COLUMN())),INDIRECT(ADDRESS(($AN20-1)*3+$AO20+5,$AP20+7)))>=1,0,INDIRECT(ADDRESS(($AN20-1)*3+$AO20+5,$AP20+7))))) -> 0 | AR20: =COUNTIF(INDIRECT("H"&(ROW()+12*(($AN20-1)*3+$AO20)-ROW())/12+5):INDIRECT("S"&(ROW()+12*(($AN20-1)*3+$AO20)-ROW())/12+5),AQ20) -> 0 | AS20: =IF($AP20=1,IF(INDIRECT(ADDRESS(($AN20-1)*3+$AO20+5,$AP20+20))="",0,INDIRECT(ADDRESS(($AN20-1)*3+$AO20+5,$AP20+20))),IF(INDIRECT(ADDRESS(($AN20-1)*3+$AO20+5,$AP20+20))="",0,IF(COUNTIF(INDIRECT(ADDRESS(($AN20-1)*36+($AO20-1)*12+6,COLUMN())):INDIRECT(ADDRESS(($AN20-1)*36+($AO20-1)*12+$AP20+4,COLUMN())),INDIRECT(ADDRESS(($AN20-1)*3+$AO20+5,$AP20+20)))>=1,0,INDIRECT(ADDRESS(($AN20-1)*3+$AO20+5,$AP20+20))))) -> 0 | AT20: =COUNTIF(INDIRECT("U"&(ROW()+12*(($AN20-1)*3+$AO20)-ROW())/12+5):INDIRECT("AF"&(ROW()+12*(($AN20-1)*3+$AO20)-ROW())/12+5),AS20) -> 0 | AU20: =IF(AND(AQ20+AS20>0,AR20+AT20>0),COUNTIF(AU$6:AU19,">0")+1,0) -> 0 | BE20: 3
A21: 6 | G21: 基本給 | I21: =IF(H21="","",H21) | J21: =IF(I21="","",I21) | K21: =IF(J21="","",J21) | L21: =IF(K21="","",K21) | M21: =IF(L21="","",L21) | N21: =IF(M21="","",M21) | O21: =IF(N21="","",N21) | P21: =IF(O21="","",O21) | ... S21: =IF(R21="","",R21) | T21: =SUM(H21:S21) -> 0 | V21: =IF(U21="","",U21) | W21: =IF(V21="","",V21) | X21: =IF(W21="","",W21) | Y21: =IF(X21="","",X21) | Z21: =IF(Y21="","",Y21) | AA21: =IF(Z21="","",Z21) | AB21: =IF(AA21="","",AA21) | AC21: =IF(AB21="","",AB21) | ... AF21: =IF(AE21="","",AE21) | AG21: =SUM(U21:AF21) -> 0 | AJ21: 家庭的保育者 | AN21: 1 | AO21: 2 | AP21: 4 | AQ21: =IF($AP21=1,IF(INDIRECT(ADDRESS(($AN21-1)*3+$AO21+5,$AP21+7))="",0,INDIRECT(ADDRESS(($AN21-1)*3+$AO21+5,$AP21+7))),IF(INDIRECT(ADDRESS(($AN21-1)*3+$AO21+5,$AP21+7))="",0,IF(COUNTIF(INDIRECT(ADDRESS(($AN21-1)*36+($AO21-1)*12+6,COLUMN())):INDIRECT(ADDRESS(($AN21-1)*36+($AO21-1)*12+$AP21+4,COLUMN())),INDIRECT(ADDRESS(($AN21-1)*3+$AO21+5,$AP21+7)))>=1,0,INDIRECT(ADDRESS(($AN21-1)*3+$AO21+5,$AP21+7))))) -> 0 | AR21: =COUNTIF(INDIRECT("H"&(ROW()+12*(($AN21-1)*3+$AO21)-ROW())/12+5):INDIRECT("S"&(ROW()+12*(($AN21-1)*3+$AO21)-ROW())/12+5),AQ21) -> 0 | AS21: =IF($AP21=1,IF(INDIRECT(ADDRESS(($AN21-1)*3+$AO21+5,$AP21+20))="",0,INDIRECT(ADDRESS(($AN21-1)*3+$AO21+5,$AP21+20))),IF(INDIRECT(ADDRESS(($AN21-1)*3+$AO21+5,$AP21+20))="",0,IF(COUNTIF(INDIRECT(ADDRESS(($AN21-1)*36+($AO21-1)*12+6,COLUMN())):INDIRECT(ADDRESS(($AN21-1)*36+($AO21-1)*12+$AP21+4,COLUMN())),INDIRECT(ADDRESS(($AN21-1)*3+$AO21+5,$AP21+20)))>=1,0,INDIRECT(ADDRESS(($AN21-1)*3+$AO21+5,$AP21+20))))) -> 0 | AT21: =COUNTIF(INDIRECT("U"&(ROW()+12*(($AN21-1)*3+$AO21)-ROW())/12+5):INDIRECT("AF"&(ROW()+12*(($AN21-1)*3+$AO21)-ROW())/12+5),AS21) -> 0 | AU21: =IF(AND(AQ21+AS21>0,AR21+AT21>0),COUNTIF(AU$6:AU20,">0")+1,0) -> 0 | BE21: 1 | BG21: =SUM(H21:H22) -> 0 | BH21: =SUM(I21:I22) -> 0 | BI21: =SUM(J21:J22) -> 0 | BJ21: =SUM(K21:K22) -> 0 | BK21: =SUM(L21:L22) -> 0 | BL21: =SUM(M21:M22) -> 0 | BM21: =SUM(N21:N22) -> 0 | BN21: =SUM(O21:O22) -> 0 | ... BR21: =SUM(S21:S22) -> 0 | BT21: =SUM(U21:U22) -> 0 | BU21: =SUM(V21:V22) -> 0 | BV21: =SUM(W21:W22) -> 0 | BW21: =SUM(X21:X22) -> 0 | BX21: =SUM(Y21:Y22) -> 0 | BY21: =SUM(Z21:Z22) -> 0 | BZ21: =SUM(AA21:AA22) -> 0 | CA21: =SUM(AB21:AB22) -> 0 | ... CE21: =SUM(AF21:AF22) -> 0 | CH21: min対象 | CI21: =IF(OR($D21="副園長",$D21="教頭",$D21="主任保育士",$D21="主幹教諭",$D21="主幹保育教諭"),0,BG21) -> 0 | CJ21: =IF(OR($D21="副園長",$D21="教頭",$D21="主任保育士",$D21="主幹教諭",$D21="主幹保育教諭"),0,BH21) -> 0 | CK21: =IF(OR($D21="副園長",$D21="教頭",$D21="主任保育士",$D21="主幹教諭",$D21="主幹保育教諭"),0,BI21) -> 0 | CL21: =IF(OR($D21="副園長",$D21="教頭",$D21="主任保育士",$D21="主幹教諭",$D21="主幹保育教諭"),0,BJ21) -> 0 | CM21: =IF(OR($D21="副園長",$D21="教頭",$D21="主任保育士",$D21="主幹教諭",$D21="主幹保育教諭"),0,BK21) -> 0 | CN21: =IF(OR($D21="副園長",$D21="教頭",$D21="主任保育士",$D21="主幹教諭",$D21="主幹保育教諭"),0,BL21) -> 0 | CO21: =IF(OR($D21="副園長",$D21="教頭",$D21="主任保育士",$D21="主幹教諭",$D21="主幹保育教諭"),0,BM21) -> 0 | CP21: =IF(OR($D21="副園長",$D21="教頭",$D21="主任保育士",$D21="主幹教諭",$D21="主幹保育教諭"),0,BN21) -> 0 | ... CT21: =IF(OR($D21="副園長",$D21="教頭",$D21="主任保育士",$D21="主幹教諭",$D21="主幹保育教諭"),0,BR21) -> 0
G22: 手当 | I22: =IF(H22="","",H22) | J22: =IF(I22="","",I22) | K22: =IF(J22="","",J22) | L22: =IF(K22="","",K22) | M22: =IF(L22="","",L22) | N22: =IF(M22="","",M22) | O22: =IF(N22="","",N22) | P22: =IF(O22="","",O22) | ... S22: =IF(R22="","",R22) | T22: =SUM(H22:S22) -> 0 | V22: =IF(U22="","",U22) | W22: =IF(V22="","",V22) | X22: =IF(W22="","",W22) | Y22: =IF(X22="","",X22) | Z22: =IF(Y22="","",Y22) | AA22: =IF(Z22="","",Z22) | AB22: =IF(AA22="","",AA22) | AC22: =IF(AB22="","",AB22) | ... AF22: =IF(AE22="","",AE22) | AG22: =SUM(U22:AF22) -> 0 | AJ22: 家庭的保育補助者 | AN22: 1 | AO22: 2 | AP22: 5 | AQ22: =IF($AP22=1,IF(INDIRECT(ADDRESS(($AN22-1)*3+$AO22+5,$AP22+7))="",0,INDIRECT(ADDRESS(($AN22-1)*3+$AO22+5,$AP22+7))),IF(INDIRECT(ADDRESS(($AN22-1)*3+$AO22+5,$AP22+7))="",0,IF(COUNTIF(INDIRECT(ADDRESS(($AN22-1)*36+($AO22-1)*12+6,COLUMN())):INDIRECT(ADDRESS(($AN22-1)*36+($AO22-1)*12+$AP22+4,COLUMN())),INDIRECT(ADDRESS(($AN22-1)*3+$AO22+5,$AP22+7)))>=1,0,INDIRECT(ADDRESS(($AN22-1)*3+$AO22+5,$AP22+7))))) -> 0 | AR22: =COUNTIF(INDIRECT("H"&(ROW()+12*(($AN22-1)*3+$AO22)-ROW())/12+5):INDIRECT("S"&(ROW()+12*(($AN22-1)*3+$AO22)-ROW())/12+5),AQ22) -> 0 | AS22: =IF($AP22=1,IF(INDIRECT(ADDRESS(($AN22-1)*3+$AO22+5,$AP22+20))="",0,INDIRECT(ADDRESS(($AN22-1)*3+$AO22+5,$AP22+20))),IF(INDIRECT(ADDRESS(($AN22-1)*3+$AO22+5,$AP22+20))="",0,IF(COUNTIF(INDIRECT(ADDRESS(($AN22-1)*36+($AO22-1)*12+6,COLUMN())):INDIRECT(ADDRESS(($AN22-1)*36+($AO22-1)*12+$AP22+4,COLUMN())),INDIRECT(ADDRESS(($AN22-1)*3+$AO22+5,$AP22+20)))>=1,0,INDIRECT(ADDRESS(($AN22-1)*3+$AO22+5,$AP22+20))))) -> 0 | AT22: =COUNTIF(INDIRECT("U"&(ROW()+12*(($AN22-1)*3+$AO22)-ROW())/12+5):INDIRECT("AF"&(ROW()+12*(($AN22-1)*3+$AO22)-ROW())/12+5),AS22) -> 0 | AU22: =IF(AND(AQ22+AS22>0,AR22+AT22>0),COUNTIF(AU$6:AU21,">0")+1,0) -> 0 | BE22: 2 | BF22: ＞＠40000 | BG22: =IF(BG21+BT21>$AJ$27,1,0) -> 0 | BH22: =IF(BH21+BU21>$AJ$27,1,0) -> 0 | BI22: =IF(BI21+BV21>$AJ$27,1,0) -> 0 | BJ22: =IF(BJ21+BW21>$AJ$27,1,0) -> 0 | BK22: =IF(BK21+BX21>$AJ$27,1,0) -> 0 | BL22: =IF(BL21+BY21>$AJ$27,1,0) -> 0 | BM22: =IF(BM21+BZ21>$AJ$27,1,0) -> 0 | BN22: =IF(BN21+CA21>$AJ$27,1,0) -> 0 | ... BR22: =IF(BR21+CE21>$AJ$27,1,0) -> 0
G23: R8法定福利費残 | T23: =SUM(H23:S23) -> 0 | AG23: =SUM(U23:AF23) -> 0 | AJ23: 子育て支援員 | AN23: 1 | AO23: 2 | AP23: 6 | AQ23: =IF($AP23=1,IF(INDIRECT(ADDRESS(($AN23-1)*3+$AO23+5,$AP23+7))="",0,INDIRECT(ADDRESS(($AN23-1)*3+$AO23+5,$AP23+7))),IF(INDIRECT(ADDRESS(($AN23-1)*3+$AO23+5,$AP23+7))="",0,IF(COUNTIF(INDIRECT(ADDRESS(($AN23-1)*36+($AO23-1)*12+6,COLUMN())):INDIRECT(ADDRESS(($AN23-1)*36+($AO23-1)*12+$AP23+4,COLUMN())),INDIRECT(ADDRESS(($AN23-1)*3+$AO23+5,$AP23+7)))>=1,0,INDIRECT(ADDRESS(($AN23-1)*3+$AO23+5,$AP23+7))))) -> 0 | AR23: =COUNTIF(INDIRECT("H"&(ROW()+12*(($AN23-1)*3+$AO23)-ROW())/12+5):INDIRECT("S"&(ROW()+12*(($AN23-1)*3+$AO23)-ROW())/12+5),AQ23) -> 0 | AS23: =IF($AP23=1,IF(INDIRECT(ADDRESS(($AN23-1)*3+$AO23+5,$AP23+20))="",0,INDIRECT(ADDRESS(($AN23-1)*3+$AO23+5,$AP23+20))),IF(INDIRECT(ADDRESS(($AN23-1)*3+$AO23+5,$AP23+20))="",0,IF(COUNTIF(INDIRECT(ADDRESS(($AN23-1)*36+($AO23-1)*12+6,COLUMN())):INDIRECT(ADDRESS(($AN23-1)*36+($AO23-1)*12+$AP23+4,COLUMN())),INDIRECT(ADDRESS(($AN23-1)*3+$AO23+5,$AP23+20)))>=1,0,INDIRECT(ADDRESS(($AN23-1)*3+$AO23+5,$AP23+20))))) -> 0 | AT23: =COUNTIF(INDIRECT("U"&(ROW()+12*(($AN23-1)*3+$AO23)-ROW())/12+5):INDIRECT("AF"&(ROW()+12*(($AN23-1)*3+$AO23)-ROW())/12+5),AS23) -> 0 | AU23: =IF(AND(AQ23+AS23>0,AR23+AT23>0),COUNTIF(AU$6:AU22,">0")+1,0) -> 0 | BE23: 3
A24: 7 | G24: 基本給 | I24: =IF(H24="","",H24) | J24: =IF(I24="","",I24) | K24: =IF(J24="","",J24) | L24: =IF(K24="","",K24) | M24: =IF(L24="","",L24) | N24: =IF(M24="","",M24) | O24: =IF(N24="","",N24) | P24: =IF(O24="","",O24) | ... S24: =IF(R24="","",R24) | T24: =SUM(H24:S24) -> 0 | V24: =IF(U24="","",U24) | W24: =IF(V24="","",V24) | X24: =IF(W24="","",W24) | Y24: =IF(X24="","",X24) | Z24: =IF(Y24="","",Y24) | AA24: =IF(Z24="","",Z24) | AB24: =IF(AA24="","",AA24) | AC24: =IF(AB24="","",AB24) | ... AF24: =IF(AE24="","",AE24) | AG24: =SUM(U24:AF24) -> 0 | AJ24: その他の職員 | AN24: 1 | AO24: 2 | AP24: 7 | AQ24: =IF($AP24=1,IF(INDIRECT(ADDRESS(($AN24-1)*3+$AO24+5,$AP24+7))="",0,INDIRECT(ADDRESS(($AN24-1)*3+$AO24+5,$AP24+7))),IF(INDIRECT(ADDRESS(($AN24-1)*3+$AO24+5,$AP24+7))="",0,IF(COUNTIF(INDIRECT(ADDRESS(($AN24-1)*36+($AO24-1)*12+6,COLUMN())):INDIRECT(ADDRESS(($AN24-1)*36+($AO24-1)*12+$AP24+4,COLUMN())),INDIRECT(ADDRESS(($AN24-1)*3+$AO24+5,$AP24+7)))>=1,0,INDIRECT(ADDRESS(($AN24-1)*3+$AO24+5,$AP24+7))))) -> 0 | AR24: =COUNTIF(INDIRECT("H"&(ROW()+12*(($AN24-1)*3+$AO24)-ROW())/12+5):INDIRECT("S"&(ROW()+12*(($AN24-1)*3+$AO24)-ROW())/12+5),AQ24) -> 0 | AS24: =IF($AP24=1,IF(INDIRECT(ADDRESS(($AN24-1)*3+$AO24+5,$AP24+20))="",0,INDIRECT(ADDRESS(($AN24-1)*3+$AO24+5,$AP24+20))),IF(INDIRECT(ADDRESS(($AN24-1)*3+$AO24+5,$AP24+20))="",0,IF(COUNTIF(INDIRECT(ADDRESS(($AN24-1)*36+($AO24-1)*12+6,COLUMN())):INDIRECT(ADDRESS(($AN24-1)*36+($AO24-1)*12+$AP24+4,COLUMN())),INDIRECT(ADDRESS(($AN24-1)*3+$AO24+5,$AP24+20)))>=1,0,INDIRECT(ADDRESS(($AN24-1)*3+$AO24+5,$AP24+20))))) -> 0 | AT24: =COUNTIF(INDIRECT("U"&(ROW()+12*(($AN24-1)*3+$AO24)-ROW())/12+5):INDIRECT("AF"&(ROW()+12*(($AN24-1)*3+$AO24)-ROW())/12+5),AS24) -> 0 | AU24: =IF(AND(AQ24+AS24>0,AR24+AT24>0),COUNTIF(AU$6:AU23,">0")+1,0) -> 0 | BE24: 1 | BG24: =SUM(H24:H25) -> 0 | BH24: =SUM(I24:I25) -> 0 | BI24: =SUM(J24:J25) -> 0 | BJ24: =SUM(K24:K25) -> 0 | BK24: =SUM(L24:L25) -> 0 | BL24: =SUM(M24:M25) -> 0 | BM24: =SUM(N24:N25) -> 0 | BN24: =SUM(O24:O25) -> 0 | ... BR24: =SUM(S24:S25) -> 0 | BT24: =SUM(U24:U25) -> 0 | BU24: =SUM(V24:V25) -> 0 | BV24: =SUM(W24:W25) -> 0 | BW24: =SUM(X24:X25) -> 0 | BX24: =SUM(Y24:Y25) -> 0 | BY24: =SUM(Z24:Z25) -> 0 | BZ24: =SUM(AA24:AA25) -> 0 | CA24: =SUM(AB24:AB25) -> 0 | ... CE24: =SUM(AF24:AF25) -> 0 | CH24: min対象 | CI24: =IF(OR($D24="副園長",$D24="教頭",$D24="主任保育士",$D24="主幹教諭",$D24="主幹保育教諭"),0,BG24) -> 0 | CJ24: =IF(OR($D24="副園長",$D24="教頭",$D24="主任保育士",$D24="主幹教諭",$D24="主幹保育教諭"),0,BH24) -> 0 | CK24: =IF(OR($D24="副園長",$D24="教頭",$D24="主任保育士",$D24="主幹教諭",$D24="主幹保育教諭"),0,BI24) -> 0 | CL24: =IF(OR($D24="副園長",$D24="教頭",$D24="主任保育士",$D24="主幹教諭",$D24="主幹保育教諭"),0,BJ24) -> 0 | CM24: =IF(OR($D24="副園長",$D24="教頭",$D24="主任保育士",$D24="主幹教諭",$D24="主幹保育教諭"),0,BK24) -> 0 | CN24: =IF(OR($D24="副園長",$D24="教頭",$D24="主任保育士",$D24="主幹教諭",$D24="主幹保育教諭"),0,BL24) -> 0 | CO24: =IF(OR($D24="副園長",$D24="教頭",$D24="主任保育士",$D24="主幹教諭",$D24="主幹保育教諭"),0,BM24) -> 0 | CP24: =IF(OR($D24="副園長",$D24="教頭",$D24="主任保育士",$D24="主幹教諭",$D24="主幹保育教諭"),0,BN24) -> 0 | ... CT24: =IF(OR($D24="副園長",$D24="教頭",$D24="主任保育士",$D24="主幹教諭",$D24="主幹保育教諭"),0,BR24) -> 0
G25: 手当 | I25: =IF(H25="","",H25) | J25: =IF(I25="","",I25) | K25: =IF(J25="","",J25) | L25: =IF(K25="","",K25) | M25: =IF(L25="","",L25) | N25: =IF(M25="","",M25) | O25: =IF(N25="","",N25) | P25: =IF(O25="","",O25) | ... S25: =IF(R25="","",R25) | T25: =SUM(H25:S25) -> 0 | V25: =IF(U25="","",U25) | W25: =IF(V25="","",V25) | X25: =IF(W25="","",W25) | Y25: =IF(X25="","",X25) | Z25: =IF(Y25="","",Y25) | AA25: =IF(Z25="","",Z25) | AB25: =IF(AA25="","",AA25) | AC25: =IF(AB25="","",AB25) | ... AF25: =IF(AE25="","",AE25) | AG25: =SUM(U25:AF25) -> 0 | AN25: 1 | AO25: 2 | AP25: 8 | AQ25: =IF($AP25=1,IF(INDIRECT(ADDRESS(($AN25-1)*3+$AO25+5,$AP25+7))="",0,INDIRECT(ADDRESS(($AN25-1)*3+$AO25+5,$AP25+7))),IF(INDIRECT(ADDRESS(($AN25-1)*3+$AO25+5,$AP25+7))="",0,IF(COUNTIF(INDIRECT(ADDRESS(($AN25-1)*36+($AO25-1)*12+6,COLUMN())):INDIRECT(ADDRESS(($AN25-1)*36+($AO25-1)*12+$AP25+4,COLUMN())),INDIRECT(ADDRESS(($AN25-1)*3+$AO25+5,$AP25+7)))>=1,0,INDIRECT(ADDRESS(($AN25-1)*3+$AO25+5,$AP25+7))))) -> 0 | AR25: =COUNTIF(INDIRECT("H"&(ROW()+12*(($AN25-1)*3+$AO25)-ROW())/12+5):INDIRECT("S"&(ROW()+12*(($AN25-1)*3+$AO25)-ROW())/12+5),AQ25) -> 0 | AS25: =IF($AP25=1,IF(INDIRECT(ADDRESS(($AN25-1)*3+$AO25+5,$AP25+20))="",0,INDIRECT(ADDRESS(($AN25-1)*3+$AO25+5,$AP25+20))),IF(INDIRECT(ADDRESS(($AN25-1)*3+$AO25+5,$AP25+20))="",0,IF(COUNTIF(INDIRECT(ADDRESS(($AN25-1)*36+($AO25-1)*12+6,COLUMN())):INDIRECT(ADDRESS(($AN25-1)*36+($AO25-1)*12+$AP25+4,COLUMN())),INDIRECT(ADDRESS(($AN25-1)*3+$AO25+5,$AP25+20)))>=1,0,INDIRECT(ADDRESS(($AN25-1)*3+$AO25+5,$AP25+20))))) -> 0 | AT25: =COUNTIF(INDIRECT("U"&(ROW()+12*(($AN25-1)*3+$AO25)-ROW())/12+5):INDIRECT("AF"&(ROW()+12*(($AN25-1)*3+$AO25)-ROW())/12+5),AS25) -> 0 | AU25: =IF(AND(AQ25+AS25>0,AR25+AT25>0),COUNTIF(AU$6:AU24,">0")+1,0) -> 0 | BE25: 2 | BF25: ＞＠40000 | BG25: =IF(BG24+BT24>$AJ$27,1,0) -> 0 | BH25: =IF(BH24+BU24>$AJ$27,1,0) -> 0 | BI25: =IF(BI24+BV24>$AJ$27,1,0) -> 0 | BJ25: =IF(BJ24+BW24>$AJ$27,1,0) -> 0 | BK25: =IF(BK24+BX24>$AJ$27,1,0) -> 0 | BL25: =IF(BL24+BY24>$AJ$27,1,0) -> 0 | BM25: =IF(BM24+BZ24>$AJ$27,1,0) -> 0 | BN25: =IF(BN24+CA24>$AJ$27,1,0) -> 0 | ... BR25: =IF(BR24+CE24>$AJ$27,1,0) -> 0
G26: R8法定福利費残 | T26: =SUM(H26:S26) -> 0 | AG26: =SUM(U26:AF26) -> 0 | AN26: 1 | AO26: 2 | AP26: 9 | AQ26: =IF($AP26=1,IF(INDIRECT(ADDRESS(($AN26-1)*3+$AO26+5,$AP26+7))="",0,INDIRECT(ADDRESS(($AN26-1)*3+$AO26+5,$AP26+7))),IF(INDIRECT(ADDRESS(($AN26-1)*3+$AO26+5,$AP26+7))="",0,IF(COUNTIF(INDIRECT(ADDRESS(($AN26-1)*36+($AO26-1)*12+6,COLUMN())):INDIRECT(ADDRESS(($AN26-1)*36+($AO26-1)*12+$AP26+4,COLUMN())),INDIRECT(ADDRESS(($AN26-1)*3+$AO26+5,$AP26+7)))>=1,0,INDIRECT(ADDRESS(($AN26-1)*3+$AO26+5,$AP26+7))))) -> 0 | AR26: =COUNTIF(INDIRECT("H"&(ROW()+12*(($AN26-1)*3+$AO26)-ROW())/12+5):INDIRECT("S"&(ROW()+12*(($AN26-1)*3+$AO26)-ROW())/12+5),AQ26) -> 0 | AS26: =IF($AP26=1,IF(INDIRECT(ADDRESS(($AN26-1)*3+$AO26+5,$AP26+20))="",0,INDIRECT(ADDRESS(($AN26-1)*3+$AO26+5,$AP26+20))),IF(INDIRECT(ADDRESS(($AN26-1)*3+$AO26+5,$AP26+20))="",0,IF(COUNTIF(INDIRECT(ADDRESS(($AN26-1)*36+($AO26-1)*12+6,COLUMN())):INDIRECT(ADDRESS(($AN26-1)*36+($AO26-1)*12+$AP26+4,COLUMN())),INDIRECT(ADDRESS(($AN26-1)*3+$AO26+5,$AP26+20)))>=1,0,INDIRECT(ADDRESS(($AN26-1)*3+$AO26+5,$AP26+20))))) -> 0 | AT26: =COUNTIF(INDIRECT("U"&(ROW()+12*(($AN26-1)*3+$AO26)-ROW())/12+5):INDIRECT("AF"&(ROW()+12*(($AN26-1)*3+$AO26)-ROW())/12+5),AS26) -> 0 | AU26: =IF(AND(AQ26+AS26>0,AR26+AT26>0),COUNTIF(AU$6:AU25,">0")+1,0) -> 0 | BE26: 3
A27: 8 | G27: 基本給 | I27: =IF(H27="","",H27) | J27: =IF(I27="","",I27) | K27: =IF(J27="","",J27) | L27: =IF(K27="","",K27) | M27: =IF(L27="","",L27) | N27: =IF(M27="","",M27) | O27: =IF(N27="","",N27) | P27: =IF(O27="","",O27) | ... S27: =IF(R27="","",R27) | T27: =SUM(H27:S27) -> 0 | V27: =IF(U27="","",U27) | W27: =IF(V27="","",V27) | X27: =IF(W27="","",W27) | Y27: =IF(X27="","",X27) | Z27: =IF(Y27="","",Y27) | AA27: =IF(Z27="","",Z27) | AB27: =IF(AA27="","",AA27) | AC27: =IF(AB27="","",AB27) | ... AF27: =IF(AE27="","",AE27) | AG27: =SUM(U27:AF27) -> 0 | AI27: 中核リーダー等 | AJ27: 40000 | AN27: 1 | AO27: 2 | AP27: 10 | AQ27: =IF($AP27=1,IF(INDIRECT(ADDRESS(($AN27-1)*3+$AO27+5,$AP27+7))="",0,INDIRECT(ADDRESS(($AN27-1)*3+$AO27+5,$AP27+7))),IF(INDIRECT(ADDRESS(($AN27-1)*3+$AO27+5,$AP27+7))="",0,IF(COUNTIF(INDIRECT(ADDRESS(($AN27-1)*36+($AO27-1)*12+6,COLUMN())):INDIRECT(ADDRESS(($AN27-1)*36+($AO27-1)*12+$AP27+4,COLUMN())),INDIRECT(ADDRESS(($AN27-1)*3+$AO27+5,$AP27+7)))>=1,0,INDIRECT(ADDRESS(($AN27-1)*3+$AO27+5,$AP27+7))))) -> 0 | AR27: =COUNTIF(INDIRECT("H"&(ROW()+12*(($AN27-1)*3+$AO27)-ROW())/12+5):INDIRECT("S"&(ROW()+12*(($AN27-1)*3+$AO27)-ROW())/12+5),AQ27) -> 0 | AS27: =IF($AP27=1,IF(INDIRECT(ADDRESS(($AN27-1)*3+$AO27+5,$AP27+20))="",0,INDIRECT(ADDRESS(($AN27-1)*3+$AO27+5,$AP27+20))),IF(INDIRECT(ADDRESS(($AN27-1)*3+$AO27+5,$AP27+20))="",0,IF(COUNTIF(INDIRECT(ADDRESS(($AN27-1)*36+($AO27-1)*12+6,COLUMN())):INDIRECT(ADDRESS(($AN27-1)*36+($AO27-1)*12+$AP27+4,COLUMN())),INDIRECT(ADDRESS(($AN27-1)*3+$AO27+5,$AP27+20)))>=1,0,INDIRECT(ADDRESS(($AN27-1)*3+$AO27+5,$AP27+20))))) -> 0 | AT27: =COUNTIF(INDIRECT("U"&(ROW()+12*(($AN27-1)*3+$AO27)-ROW())/12+5):INDIRECT("AF"&(ROW()+12*(($AN27-1)*3+$AO27)-ROW())/12+5),AS27) -> 0 | AU27: =IF(AND(AQ27+AS27>0,AR27+AT27>0),COUNTIF(AU$6:AU26,">0")+1,0) -> 0 | BE27: 1 | BG27: =SUM(H27:H28) -> 0 | BH27: =SUM(I27:I28) -> 0 | BI27: =SUM(J27:J28) -> 0 | BJ27: =SUM(K27:K28) -> 0 | BK27: =SUM(L27:L28) -> 0 | BL27: =SUM(M27:M28) -> 0 | BM27: =SUM(N27:N28) -> 0 | BN27: =SUM(O27:O28) -> 0 | ... BR27: =SUM(S27:S28) -> 0 | BT27: =SUM(U27:U28) -> 0 | BU27: =SUM(V27:V28) -> 0 | BV27: =SUM(W27:W28) -> 0 | BW27: =SUM(X27:X28) -> 0 | BX27: =SUM(Y27:Y28) -> 0 | BY27: =SUM(Z27:Z28) -> 0 | BZ27: =SUM(AA27:AA28) -> 0 | CA27: =SUM(AB27:AB28) -> 0 | ... CE27: =SUM(AF27:AF28) -> 0 | CH27: min対象 | CI27: =IF(OR($D27="副園長",$D27="教頭",$D27="主任保育士",$D27="主幹教諭",$D27="主幹保育教諭"),0,BG27) -> 0 | CJ27: =IF(OR($D27="副園長",$D27="教頭",$D27="主任保育士",$D27="主幹教諭",$D27="主幹保育教諭"),0,BH27) -> 0 | CK27: =IF(OR($D27="副園長",$D27="教頭",$D27="主任保育士",$D27="主幹教諭",$D27="主幹保育教諭"),0,BI27) -> 0 | CL27: =IF(OR($D27="副園長",$D27="教頭",$D27="主任保育士",$D27="主幹教諭",$D27="主幹保育教諭"),0,BJ27) -> 0 | CM27: =IF(OR($D27="副園長",$D27="教頭",$D27="主任保育士",$D27="主幹教諭",$D27="主幹保育教諭"),0,BK27) -> 0 | CN27: =IF(OR($D27="副園長",$D27="教頭",$D27="主任保育士",$D27="主幹教諭",$D27="主幹保育教諭"),0,BL27) -> 0 | CO27: =IF(OR($D27="副園長",$D27="教頭",$D27="主任保育士",$D27="主幹教諭",$D27="主幹保育教諭"),0,BM27) -> 0 | CP27: =IF(OR($D27="副園長",$D27="教頭",$D27="主任保育士",$D27="主幹教諭",$D27="主幹保育教諭"),0,BN27) -> 0 | ... CT27: =IF(OR($D27="副園長",$D27="教頭",$D27="主任保育士",$D27="主幹教諭",$D27="主幹保育教諭"),0,BR27) -> 0
G28: 手当 | I28: =IF(H28="","",H28) | J28: =IF(I28="","",I28) | K28: =IF(J28="","",J28) | L28: =IF(K28="","",K28) | M28: =IF(L28="","",L28) | N28: =IF(M28="","",M28) | O28: =IF(N28="","",N28) | P28: =IF(O28="","",O28) | ... S28: =IF(R28="","",R28) | T28: =SUM(H28:S28) -> 0 | V28: =IF(U28="","",U28) | W28: =IF(V28="","",V28) | X28: =IF(W28="","",W28) | Y28: =IF(X28="","",X28) | Z28: =IF(Y28="","",Y28) | AA28: =IF(Z28="","",Z28) | AB28: =IF(AA28="","",AA28) | AC28: =IF(AB28="","",AB28) | ... AF28: =IF(AE28="","",AE28) | AG28: =SUM(U28:AF28) -> 0 | AI28: 若手リーダー等 | AJ28: 5000 | AN28: 1 | AO28: 2 | AP28: 11 | AQ28: =IF($AP28=1,IF(INDIRECT(ADDRESS(($AN28-1)*3+$AO28+5,$AP28+7))="",0,INDIRECT(ADDRESS(($AN28-1)*3+$AO28+5,$AP28+7))),IF(INDIRECT(ADDRESS(($AN28-1)*3+$AO28+5,$AP28+7))="",0,IF(COUNTIF(INDIRECT(ADDRESS(($AN28-1)*36+($AO28-1)*12+6,COLUMN())):INDIRECT(ADDRESS(($AN28-1)*36+($AO28-1)*12+$AP28+4,COLUMN())),INDIRECT(ADDRESS(($AN28-1)*3+$AO28+5,$AP28+7)))>=1,0,INDIRECT(ADDRESS(($AN28-1)*3+$AO28+5,$AP28+7))))) -> 0 | AR28: =COUNTIF(INDIRECT("H"&(ROW()+12*(($AN28-1)*3+$AO28)-ROW())/12+5):INDIRECT("S"&(ROW()+12*(($AN28-1)*3+$AO28)-ROW())/12+5),AQ28) -> 0 | AS28: =IF($AP28=1,IF(INDIRECT(ADDRESS(($AN28-1)*3+$AO28+5,$AP28+20))="",0,INDIRECT(ADDRESS(($AN28-1)*3+$AO28+5,$AP28+20))),IF(INDIRECT(ADDRESS(($AN28-1)*3+$AO28+5,$AP28+20))="",0,IF(COUNTIF(INDIRECT(ADDRESS(($AN28-1)*36+($AO28-1)*12+6,COLUMN())):INDIRECT(ADDRESS(($AN28-1)*36+($AO28-1)*12+$AP28+4,COLUMN())),INDIRECT(ADDRESS(($AN28-1)*3+$AO28+5,$AP28+20)))>=1,0,INDIRECT(ADDRESS(($AN28-1)*3+$AO28+5,$AP28+20))))) -> 0 | AT28: =COUNTIF(INDIRECT("U"&(ROW()+12*(($AN28-1)*3+$AO28)-ROW())/12+5):INDIRECT("AF"&(ROW()+12*(($AN28-1)*3+$AO28)-ROW())/12+5),AS28) -> 0 | AU28: =IF(AND(AQ28+AS28>0,AR28+AT28>0),COUNTIF(AU$6:AU27,">0")+1,0) -> 0 | BE28: 2 | BF28: ＞＠40000 | BG28: =IF(BG27+BT27>$AJ$27,1,0) -> 0 | BH28: =IF(BH27+BU27>$AJ$27,1,0) -> 0 | BI28: =IF(BI27+BV27>$AJ$27,1,0) -> 0 | BJ28: =IF(BJ27+BW27>$AJ$27,1,0) -> 0 | BK28: =IF(BK27+BX27>$AJ$27,1,0) -> 0 | BL28: =IF(BL27+BY27>$AJ$27,1,0) -> 0 | BM28: =IF(BM27+BZ27>$AJ$27,1,0) -> 0 | BN28: =IF(BN27+CA27>$AJ$27,1,0) -> 0 | ... BR28: =IF(BR27+CE27>$AJ$27,1,0) -> 0
G29: R8法定福利費残 | T29: =SUM(H29:S29) -> 0 | AG29: =SUM(U29:AF29) -> 0 | AI29: 職員処遇 | AJ29: 40000 | AN29: 1 | AO29: 2 | AP29: 12 | AQ29: =IF($AP29=1,IF(INDIRECT(ADDRESS(($AN29-1)*3+$AO29+5,$AP29+7))="",0,INDIRECT(ADDRESS(($AN29-1)*3+$AO29+5,$AP29+7))),IF(INDIRECT(ADDRESS(($AN29-1)*3+$AO29+5,$AP29+7))="",0,IF(COUNTIF(INDIRECT(ADDRESS(($AN29-1)*36+($AO29-1)*12+6,COLUMN())):INDIRECT(ADDRESS(($AN29-1)*36+($AO29-1)*12+$AP29+4,COLUMN())),INDIRECT(ADDRESS(($AN29-1)*3+$AO29+5,$AP29+7)))>=1,0,INDIRECT(ADDRESS(($AN29-1)*3+$AO29+5,$AP29+7))))) -> 0 | AR29: =COUNTIF(INDIRECT("H"&(ROW()+12*(($AN29-1)*3+$AO29)-ROW())/12+5):INDIRECT("S"&(ROW()+12*(($AN29-1)*3+$AO29)-ROW())/12+5),AQ29) -> 0 | AS29: =IF($AP29=1,IF(INDIRECT(ADDRESS(($AN29-1)*3+$AO29+5,$AP29+20))="",0,INDIRECT(ADDRESS(($AN29-1)*3+$AO29+5,$AP29+20))),IF(INDIRECT(ADDRESS(($AN29-1)*3+$AO29+5,$AP29+20))="",0,IF(COUNTIF(INDIRECT(ADDRESS(($AN29-1)*36+($AO29-1)*12+6,COLUMN())):INDIRECT(ADDRESS(($AN29-1)*36+($AO29-1)*12+$AP29+4,COLUMN())),INDIRECT(ADDRESS(($AN29-1)*3+$AO29+5,$AP29+20)))>=1,0,INDIRECT(ADDRESS(($AN29-1)*3+$AO29+5,$AP29+20))))) -> 0 | AT29: =COUNTIF(INDIRECT("U"&(ROW()+12*(($AN29-1)*3+$AO29)-ROW())/12+5):INDIRECT("AF"&(ROW()+12*(($AN29-1)*3+$AO29)-ROW())/12+5),AS29) -> 0 | AU29: =IF(AND(AQ29+AS29>0,AR29+AT29>0),COUNTIF(AU$6:AU28,">0")+1,0) -> 0 | BE29: 3
A30: 9 | G30: 基本給 | I30: =IF(H30="","",H30) | J30: =IF(I30="","",I30) | K30: =IF(J30="","",J30) | L30: =IF(K30="","",K30) | M30: =IF(L30="","",L30) | N30: =IF(M30="","",M30) | O30: =IF(N30="","",N30) | P30: =IF(O30="","",O30) | ... S30: =IF(R30="","",R30) | T30: =SUM(H30:S30) -> 0 | V30: =IF(U30="","",U30) | W30: =IF(V30="","",V30) | X30: =IF(W30="","",W30) | Y30: =IF(X30="","",X30) | Z30: =IF(Y30="","",Y30) | AA30: =IF(Z30="","",Z30) | AB30: =IF(AA30="","",AA30) | AC30: =IF(AB30="","",AB30) | ... AF30: =IF(AE30="","",AE30) | AG30: =SUM(U30:AF30) -> 0 | AN30: 1 | AO30: 3 | AP30: 1 | AQ30: =IF($AP30=1,IF(INDIRECT(ADDRESS(($AN30-1)*3+$AO30+5,$AP30+7))="",0,INDIRECT(ADDRESS(($AN30-1)*3+$AO30+5,$AP30+7))),IF(INDIRECT(ADDRESS(($AN30-1)*3+$AO30+5,$AP30+7))="",0,IF(COUNTIF(INDIRECT(ADDRESS(($AN30-1)*36+($AO30-1)*12+6,COLUMN())):INDIRECT(ADDRESS(($AN30-1)*36+($AO30-1)*12+$AP30+4,COLUMN())),INDIRECT(ADDRESS(($AN30-1)*3+$AO30+5,$AP30+7)))>=1,0,INDIRECT(ADDRESS(($AN30-1)*3+$AO30+5,$AP30+7))))) -> 0 | AR30: =COUNTIF(INDIRECT("H"&(ROW()+12*(($AN30-1)*3+$AO30)-ROW())/12+5):INDIRECT("S"&(ROW()+12*(($AN30-1)*3+$AO30)-ROW())/12+5),AQ30) -> 0 | AS30: =IF($AP30=1,IF(INDIRECT(ADDRESS(($AN30-1)*3+$AO30+5,$AP30+20))="",0,INDIRECT(ADDRESS(($AN30-1)*3+$AO30+5,$AP30+20))),IF(INDIRECT(ADDRESS(($AN30-1)*3+$AO30+5,$AP30+20))="",0,IF(COUNTIF(INDIRECT(ADDRESS(($AN30-1)*36+($AO30-1)*12+6,COLUMN())):INDIRECT(ADDRESS(($AN30-1)*36+($AO30-1)*12+$AP30+4,COLUMN())),INDIRECT(ADDRESS(($AN30-1)*3+$AO30+5,$AP30+20)))>=1,0,INDIRECT(ADDRESS(($AN30-1)*3+$AO30+5,$AP30+20))))) -> 0 | AT30: =COUNTIF(INDIRECT("U"&(ROW()+12*(($AN30-1)*3+$AO30)-ROW())/12+5):INDIRECT("AF"&(ROW()+12*(($AN30-1)*3+$AO30)-ROW())/12+5),AS30) -> 0 | AU30: =IF(AND(AQ30+AS30>0,AR30+AT30>0),COUNTIF(AU$6:AU29,">0")+1,0) -> 0 | BE30: 1 | BG30: =SUM(H30:H31) -> 0 | BH30: =SUM(I30:I31) -> 0 | BI30: =SUM(J30:J31) -> 0 | BJ30: =SUM(K30:K31) -> 0 | BK30: =SUM(L30:L31) -> 0 | BL30: =SUM(M30:M31) -> 0 | BM30: =SUM(N30:N31) -> 0 | BN30: =SUM(O30:O31) -> 0 | ... BR30: =SUM(S30:S31) -> 0 | BT30: =SUM(U30:U31) -> 0 | BU30: =SUM(V30:V31) -> 0 | BV30: =SUM(W30:W31) -> 0 | BW30: =SUM(X30:X31) -> 0 | BX30: =SUM(Y30:Y31) -> 0 | BY30: =SUM(Z30:Z31) -> 0 | BZ30: =SUM(AA30:AA31) -> 0 | CA30: =SUM(AB30:AB31) -> 0 | ... CE30: =SUM(AF30:AF31) -> 0 | CH30: min対象 | CI30: =IF(OR($D30="副園長",$D30="教頭",$D30="主任保育士",$D30="主幹教諭",$D30="主幹保育教諭"),0,BG30) -> 0 | CJ30: =IF(OR($D30="副園長",$D30="教頭",$D30="主任保育士",$D30="主幹教諭",$D30="主幹保育教諭"),0,BH30) -> 0 | CK30: =IF(OR($D30="副園長",$D30="教頭",$D30="主任保育士",$D30="主幹教諭",$D30="主幹保育教諭"),0,BI30) -> 0 | CL30: =IF(OR($D30="副園長",$D30="教頭",$D30="主任保育士",$D30="主幹教諭",$D30="主幹保育教諭"),0,BJ30) -> 0 | CM30: =IF(OR($D30="副園長",$D30="教頭",$D30="主任保育士",$D30="主幹教諭",$D30="主幹保育教諭"),0,BK30) -> 0 | CN30: =IF(OR($D30="副園長",$D30="教頭",$D30="主任保育士",$D30="主幹教諭",$D30="主幹保育教諭"),0,BL30) -> 0 | CO30: =IF(OR($D30="副園長",$D30="教頭",$D30="主任保育士",$D30="主幹教諭",$D30="主幹保育教諭"),0,BM30) -> 0 | CP30: =IF(OR($D30="副園長",$D30="教頭",$D30="主任保育士",$D30="主幹教諭",$D30="主幹保育教諭"),0,BN30) -> 0 | ... CT30: =IF(OR($D30="副園長",$D30="教頭",$D30="主任保育士",$D30="主幹教諭",$D30="主幹保育教諭"),0,BR30) -> 0
G31: 手当 | I31: =IF(H31="","",H31) | J31: =IF(I31="","",I31) | K31: =IF(J31="","",J31) | L31: =IF(K31="","",K31) | M31: =IF(L31="","",L31) | N31: =IF(M31="","",M31) | O31: =IF(N31="","",N31) | P31: =IF(O31="","",O31) | ... S31: =IF(R31="","",R31) | T31: =SUM(H31:S31) -> 0 | V31: =IF(U31="","",U31) | W31: =IF(V31="","",V31) | X31: =IF(W31="","",W31) | Y31: =IF(X31="","",X31) | Z31: =IF(Y31="","",Y31) | AA31: =IF(Z31="","",Z31) | AB31: =IF(AA31="","",AA31) | AC31: =IF(AB31="","",AB31) | ... AF31: =IF(AE31="","",AE31) | AG31: =SUM(U31:AF31) -> 0 | AN31: 1 | AO31: 3 | AP31: 2 | AQ31: =IF($AP31=1,IF(INDIRECT(ADDRESS(($AN31-1)*3+$AO31+5,$AP31+7))="",0,INDIRECT(ADDRESS(($AN31-1)*3+$AO31+5,$AP31+7))),IF(INDIRECT(ADDRESS(($AN31-1)*3+$AO31+5,$AP31+7))="",0,IF(COUNTIF(INDIRECT(ADDRESS(($AN31-1)*36+($AO31-1)*12+6,COLUMN())):INDIRECT(ADDRESS(($AN31-1)*36+($AO31-1)*12+$AP31+4,COLUMN())),INDIRECT(ADDRESS(($AN31-1)*3+$AO31+5,$AP31+7)))>=1,0,INDIRECT(ADDRESS(($AN31-1)*3+$AO31+5,$AP31+7))))) -> 0 | AR31: =COUNTIF(INDIRECT("H"&(ROW()+12*(($AN31-1)*3+$AO31)-ROW())/12+5):INDIRECT("S"&(ROW()+12*(($AN31-1)*3+$AO31)-ROW())/12+5),AQ31) -> 0 | AS31: =IF($AP31=1,IF(INDIRECT(ADDRESS(($AN31-1)*3+$AO31+5,$AP31+20))="",0,INDIRECT(ADDRESS(($AN31-1)*3+$AO31+5,$AP31+20))),IF(INDIRECT(ADDRESS(($AN31-1)*3+$AO31+5,$AP31+20))="",0,IF(COUNTIF(INDIRECT(ADDRESS(($AN31-1)*36+($AO31-1)*12+6,COLUMN())):INDIRECT(ADDRESS(($AN31-1)*36+($AO31-1)*12+$AP31+4,COLUMN())),INDIRECT(ADDRESS(($AN31-1)*3+$AO31+5,$AP31+20)))>=1,0,INDIRECT(ADDRESS(($AN31-1)*3+$AO31+5,$AP31+20))))) -> 0 | AT31: =COUNTIF(INDIRECT("U"&(ROW()+12*(($AN31-1)*3+$AO31)-ROW())/12+5):INDIRECT("AF"&(ROW()+12*(($AN31-1)*3+$AO31)-ROW())/12+5),AS31) -> 0 | AU31: =IF(AND(AQ31+AS31>0,AR31+AT31>0),COUNTIF(AU$6:AU30,">0")+1,0) -> 0 | BE31: 2 | BF31: ＞＠40000 | BG31: =IF(BG30+BT30>$AJ$27,1,0) -> 0 | BH31: =IF(BH30+BU30>$AJ$27,1,0) -> 0 | BI31: =IF(BI30+BV30>$AJ$27,1,0) -> 0 | BJ31: =IF(BJ30+BW30>$AJ$27,1,0) -> 0 | BK31: =IF(BK30+BX30>$AJ$27,1,0) -> 0 | BL31: =IF(BL30+BY30>$AJ$27,1,0) -> 0 | BM31: =IF(BM30+BZ30>$AJ$27,1,0) -> 0 | BN31: =IF(BN30+CA30>$AJ$27,1,0) -> 0 | ... BR31: =IF(BR30+CE30>$AJ$27,1,0) -> 0
G32: R8法定福利費残 | T32: =SUM(H32:S32) -> 0 | AG32: =SUM(U32:AF32) -> 0 | AN32: 1 | AO32: 3 | AP32: 3 | AQ32: =IF($AP32=1,IF(INDIRECT(ADDRESS(($AN32-1)*3+$AO32+5,$AP32+7))="",0,INDIRECT(ADDRESS(($AN32-1)*3+$AO32+5,$AP32+7))),IF(INDIRECT(ADDRESS(($AN32-1)*3+$AO32+5,$AP32+7))="",0,IF(COUNTIF(INDIRECT(ADDRESS(($AN32-1)*36+($AO32-1)*12+6,COLUMN())):INDIRECT(ADDRESS(($AN32-1)*36+($AO32-1)*12+$AP32+4,COLUMN())),INDIRECT(ADDRESS(($AN32-1)*3+$AO32+5,$AP32+7)))>=1,0,INDIRECT(ADDRESS(($AN32-1)*3+$AO32+5,$AP32+7))))) -> 0 | AR32: =COUNTIF(INDIRECT("H"&(ROW()+12*(($AN32-1)*3+$AO32)-ROW())/12+5):INDIRECT("S"&(ROW()+12*(($AN32-1)*3+$AO32)-ROW())/12+5),AQ32) -> 0 | AS32: =IF($AP32=1,IF(INDIRECT(ADDRESS(($AN32-1)*3+$AO32+5,$AP32+20))="",0,INDIRECT(ADDRESS(($AN32-1)*3+$AO32+5,$AP32+20))),IF(INDIRECT(ADDRESS(($AN32-1)*3+$AO32+5,$AP32+20))="",0,IF(COUNTIF(INDIRECT(ADDRESS(($AN32-1)*36+($AO32-1)*12+6,COLUMN())):INDIRECT(ADDRESS(($AN32-1)*36+($AO32-1)*12+$AP32+4,COLUMN())),INDIRECT(ADDRESS(($AN32-1)*3+$AO32+5,$AP32+20)))>=1,0,INDIRECT(ADDRESS(($AN32-1)*3+$AO32+5,$AP32+20))))) -> 0 | AT32: =COUNTIF(INDIRECT("U"&(ROW()+12*(($AN32-1)*3+$AO32)-ROW())/12+5):INDIRECT("AF"&(ROW()+12*(($AN32-1)*3+$AO32)-ROW())/12+5),AS32) -> 0 | AU32: =IF(AND(AQ32+AS32>0,AR32+AT32>0),COUNTIF(AU$6:AU31,">0")+1,0) -> 0 | BE32: 3
A33: 10 | G33: 基本給 | I33: =IF(H33="","",H33) | J33: =IF(I33="","",I33) | K33: =IF(J33="","",J33) | L33: =IF(K33="","",K33) | M33: =IF(L33="","",L33) | N33: =IF(M33="","",M33) | O33: =IF(N33="","",N33) | P33: =IF(O33="","",O33) | ... S33: =IF(R33="","",R33) | T33: =SUM(H33:S33) -> 0 | V33: =IF(U33="","",U33) | W33: =IF(V33="","",V33) | X33: =IF(W33="","",W33) | Y33: =IF(X33="","",X33) | Z33: =IF(Y33="","",Y33) | AA33: =IF(Z33="","",Z33) | AB33: =IF(AA33="","",AA33) | AC33: =IF(AB33="","",AB33) | ... AF33: =IF(AE33="","",AE33) | AG33: =SUM(U33:AF33) -> 0 | AN33: 1 | AO33: 3 | AP33: 4 | AQ33: =IF($AP33=1,IF(INDIRECT(ADDRESS(($AN33-1)*3+$AO33+5,$AP33+7))="",0,INDIRECT(ADDRESS(($AN33-1)*3+$AO33+5,$AP33+7))),IF(INDIRECT(ADDRESS(($AN33-1)*3+$AO33+5,$AP33+7))="",0,IF(COUNTIF(INDIRECT(ADDRESS(($AN33-1)*36+($AO33-1)*12+6,COLUMN())):INDIRECT(ADDRESS(($AN33-1)*36+($AO33-1)*12+$AP33+4,COLUMN())),INDIRECT(ADDRESS(($AN33-1)*3+$AO33+5,$AP33+7)))>=1,0,INDIRECT(ADDRESS(($AN33-1)*3+$AO33+5,$AP33+7))))) -> 0 | AR33: =COUNTIF(INDIRECT("H"&(ROW()+12*(($AN33-1)*3+$AO33)-ROW())/12+5):INDIRECT("S"&(ROW()+12*(($AN33-1)*3+$AO33)-ROW())/12+5),AQ33) -> 0 | AS33: =IF($AP33=1,IF(INDIRECT(ADDRESS(($AN33-1)*3+$AO33+5,$AP33+20))="",0,INDIRECT(ADDRESS(($AN33-1)*3+$AO33+5,$AP33+20))),IF(INDIRECT(ADDRESS(($AN33-1)*3+$AO33+5,$AP33+20))="",0,IF(COUNTIF(INDIRECT(ADDRESS(($AN33-1)*36+($AO33-1)*12+6,COLUMN())):INDIRECT(ADDRESS(($AN33-1)*36+($AO33-1)*12+$AP33+4,COLUMN())),INDIRECT(ADDRESS(($AN33-1)*3+$AO33+5,$AP33+20)))>=1,0,INDIRECT(ADDRESS(($AN33-1)*3+$AO33+5,$AP33+20))))) -> 0 | AT33: =COUNTIF(INDIRECT("U"&(ROW()+12*(($AN33-1)*3+$AO33)-ROW())/12+5):INDIRECT("AF"&(ROW()+12*(($AN33-1)*3+$AO33)-ROW())/12+5),AS33) -> 0 | AU33: =IF(AND(AQ33+AS33>0,AR33+AT33>0),COUNTIF(AU$6:AU32,">0")+1,0) -> 0 | BE33: 1 | BG33: =SUM(H33:H34) -> 0 | BH33: =SUM(I33:I34) -> 0 | BI33: =SUM(J33:J34) -> 0 | BJ33: =SUM(K33:K34) -> 0 | BK33: =SUM(L33:L34) -> 0 | BL33: =SUM(M33:M34) -> 0 | BM33: =SUM(N33:N34) -> 0 | BN33: =SUM(O33:O34) -> 0 | ... BR33: =SUM(S33:S34) -> 0 | BT33: =SUM(U33:U34) -> 0 | BU33: =SUM(V33:V34) -> 0 | BV33: =SUM(W33:W34) -> 0 | BW33: =SUM(X33:X34) -> 0 | BX33: =SUM(Y33:Y34) -> 0 | BY33: =SUM(Z33:Z34) -> 0 | BZ33: =SUM(AA33:AA34) -> 0 | CA33: =SUM(AB33:AB34) -> 0 | ... CE33: =SUM(AF33:AF34) -> 0 | CH33: min対象 | CI33: =IF(OR($D33="副園長",$D33="教頭",$D33="主任保育士",$D33="主幹教諭",$D33="主幹保育教諭"),0,BG33) -> 0 | CJ33: =IF(OR($D33="副園長",$D33="教頭",$D33="主任保育士",$D33="主幹教諭",$D33="主幹保育教諭"),0,BH33) -> 0 | CK33: =IF(OR($D33="副園長",$D33="教頭",$D33="主任保育士",$D33="主幹教諭",$D33="主幹保育教諭"),0,BI33) -> 0 | CL33: =IF(OR($D33="副園長",$D33="教頭",$D33="主任保育士",$D33="主幹教諭",$D33="主幹保育教諭"),0,BJ33) -> 0 | CM33: =IF(OR($D33="副園長",$D33="教頭",$D33="主任保育士",$D33="主幹教諭",$D33="主幹保育教諭"),0,BK33) -> 0 | CN33: =IF(OR($D33="副園長",$D33="教頭",$D33="主任保育士",$D33="主幹教諭",$D33="主幹保育教諭"),0,BL33) -> 0 | CO33: =IF(OR($D33="副園長",$D33="教頭",$D33="主任保育士",$D33="主幹教諭",$D33="主幹保育教諭"),0,BM33) -> 0 | CP33: =IF(OR($D33="副園長",$D33="教頭",$D33="主任保育士",$D33="主幹教諭",$D33="主幹保育教諭"),0,BN33) -> 0 | ... CT33: =IF(OR($D33="副園長",$D33="教頭",$D33="主任保育士",$D33="主幹教諭",$D33="主幹保育教諭"),0,BR33) -> 0
G34: 手当 | I34: =IF(H34="","",H34) | J34: =IF(I34="","",I34) | K34: =IF(J34="","",J34) | L34: =IF(K34="","",K34) | M34: =IF(L34="","",L34) | N34: =IF(M34="","",M34) | O34: =IF(N34="","",N34) | P34: =IF(O34="","",O34) | ... S34: =IF(R34="","",R34) | T34: =SUM(H34:S34) -> 0 | V34: =IF(U34="","",U34) | W34: =IF(V34="","",V34) | X34: =IF(W34="","",W34) | Y34: =IF(X34="","",X34) | Z34: =IF(Y34="","",Y34) | AA34: =IF(Z34="","",Z34) | AB34: =IF(AA34="","",AA34) | AC34: =IF(AB34="","",AB34) | ... AF34: =IF(AE34="","",AE34) | AG34: =SUM(U34:AF34) -> 0 | AN34: 1 | AO34: 3 | AP34: 5 | AQ34: =IF($AP34=1,IF(INDIRECT(ADDRESS(($AN34-1)*3+$AO34+5,$AP34+7))="",0,INDIRECT(ADDRESS(($AN34-1)*3+$AO34+5,$AP34+7))),IF(INDIRECT(ADDRESS(($AN34-1)*3+$AO34+5,$AP34+7))="",0,IF(COUNTIF(INDIRECT(ADDRESS(($AN34-1)*36+($AO34-1)*12+6,COLUMN())):INDIRECT(ADDRESS(($AN34-1)*36+($AO34-1)*12+$AP34+4,COLUMN())),INDIRECT(ADDRESS(($AN34-1)*3+$AO34+5,$AP34+7)))>=1,0,INDIRECT(ADDRESS(($AN34-1)*3+$AO34+5,$AP34+7))))) -> 0 | AR34: =COUNTIF(INDIRECT("H"&(ROW()+12*(($AN34-1)*3+$AO34)-ROW())/12+5):INDIRECT("S"&(ROW()+12*(($AN34-1)*3+$AO34)-ROW())/12+5),AQ34) -> 0 | AS34: =IF($AP34=1,IF(INDIRECT(ADDRESS(($AN34-1)*3+$AO34+5,$AP34+20))="",0,INDIRECT(ADDRESS(($AN34-1)*3+$AO34+5,$AP34+20))),IF(INDIRECT(ADDRESS(($AN34-1)*3+$AO34+5,$AP34+20))="",0,IF(COUNTIF(INDIRECT(ADDRESS(($AN34-1)*36+($AO34-1)*12+6,COLUMN())):INDIRECT(ADDRESS(($AN34-1)*36+($AO34-1)*12+$AP34+4,COLUMN())),INDIRECT(ADDRESS(($AN34-1)*3+$AO34+5,$AP34+20)))>=1,0,INDIRECT(ADDRESS(($AN34-1)*3+$AO34+5,$AP34+20))))) -> 0 | AT34: =COUNTIF(INDIRECT("U"&(ROW()+12*(($AN34-1)*3+$AO34)-ROW())/12+5):INDIRECT("AF"&(ROW()+12*(($AN34-1)*3+$AO34)-ROW())/12+5),AS34) -> 0 | AU34: =IF(AND(AQ34+AS34>0,AR34+AT34>0),COUNTIF(AU$6:AU33,">0")+1,0) -> 0 | BE34: 2 | BF34: ＞＠40000 | BG34: =IF(BG33+BT33>$AJ$27,1,0) -> 0 | BH34: =IF(BH33+BU33>$AJ$27,1,0) -> 0 | BI34: =IF(BI33+BV33>$AJ$27,1,0) -> 0 | BJ34: =IF(BJ33+BW33>$AJ$27,1,0) -> 0 | BK34: =IF(BK33+BX33>$AJ$27,1,0) -> 0 | BL34: =IF(BL33+BY33>$AJ$27,1,0) -> 0 | BM34: =IF(BM33+BZ33>$AJ$27,1,0) -> 0 | BN34: =IF(BN33+CA33>$AJ$27,1,0) -> 0 | ... BR34: =IF(BR33+CE33>$AJ$27,1,0) -> 0
G35: R8法定福利費残 | T35: =SUM(H35:S35) -> 0 | AG35: =SUM(U35:AF35) -> 0 | AI35: 加算対象者A（修了者） | AN35: 1 | AO35: 3 | AP35: 6 | AQ35: =IF($AP35=1,IF(INDIRECT(ADDRESS(($AN35-1)*3+$AO35+5,$AP35+7))="",0,INDIRECT(ADDRESS(($AN35-1)*3+$AO35+5,$AP35+7))),IF(INDIRECT(ADDRESS(($AN35-1)*3+$AO35+5,$AP35+7))="",0,IF(COUNTIF(INDIRECT(ADDRESS(($AN35-1)*36+($AO35-1)*12+6,COLUMN())):INDIRECT(ADDRESS(($AN35-1)*36+($AO35-1)*12+$AP35+4,COLUMN())),INDIRECT(ADDRESS(($AN35-1)*3+$AO35+5,$AP35+7)))>=1,0,INDIRECT(ADDRESS(($AN35-1)*3+$AO35+5,$AP35+7))))) -> 0 | AR35: =COUNTIF(INDIRECT("H"&(ROW()+12*(($AN35-1)*3+$AO35)-ROW())/12+5):INDIRECT("S"&(ROW()+12*(($AN35-1)*3+$AO35)-ROW())/12+5),AQ35) -> 0 | AS35: =IF($AP35=1,IF(INDIRECT(ADDRESS(($AN35-1)*3+$AO35+5,$AP35+20))="",0,INDIRECT(ADDRESS(($AN35-1)*3+$AO35+5,$AP35+20))),IF(INDIRECT(ADDRESS(($AN35-1)*3+$AO35+5,$AP35+20))="",0,IF(COUNTIF(INDIRECT(ADDRESS(($AN35-1)*36+($AO35-1)*12+6,COLUMN())):INDIRECT(ADDRESS(($AN35-1)*36+($AO35-1)*12+$AP35+4,COLUMN())),INDIRECT(ADDRESS(($AN35-1)*3+$AO35+5,$AP35+20)))>=1,0,INDIRECT(ADDRESS(($AN35-1)*3+$AO35+5,$AP35+20))))) -> 0 | AT35: =COUNTIF(INDIRECT("U"&(ROW()+12*(($AN35-1)*3+$AO35)-ROW())/12+5):INDIRECT("AF"&(ROW()+12*(($AN35-1)*3+$AO35)-ROW())/12+5),AS35) -> 0 | AU35: =IF(AND(AQ35+AS35>0,AR35+AT35>0),COUNTIF(AU$6:AU34,">0")+1,0) -> 0 | BE35: 3
A36: 11 | G36: 基本給 | I36: =IF(H36="","",H36) | J36: =IF(I36="","",I36) | K36: =IF(J36="","",J36) | L36: =IF(K36="","",K36) | M36: =IF(L36="","",L36) | N36: =IF(M36="","",M36) | O36: =IF(N36="","",N36) | P36: =IF(O36="","",O36) | ... S36: =IF(R36="","",R36) | T36: =SUM(H36:S36) -> 0 | V36: =IF(U36="","",U36) | W36: =IF(V36="","",V36) | X36: =IF(W36="","",W36) | Y36: =IF(X36="","",X36) | Z36: =IF(Y36="","",Y36) | AA36: =IF(Z36="","",Z36) | AB36: =IF(AA36="","",AA36) | AC36: =IF(AB36="","",AB36) | ... AF36: =IF(AE36="","",AE36) | AG36: =SUM(U36:AF36) -> 0 | AI36: 加算対象者C（修了者） | AN36: 1 | AO36: 3 | AP36: 7 | AQ36: =IF($AP36=1,IF(INDIRECT(ADDRESS(($AN36-1)*3+$AO36+5,$AP36+7))="",0,INDIRECT(ADDRESS(($AN36-1)*3+$AO36+5,$AP36+7))),IF(INDIRECT(ADDRESS(($AN36-1)*3+$AO36+5,$AP36+7))="",0,IF(COUNTIF(INDIRECT(ADDRESS(($AN36-1)*36+($AO36-1)*12+6,COLUMN())):INDIRECT(ADDRESS(($AN36-1)*36+($AO36-1)*12+$AP36+4,COLUMN())),INDIRECT(ADDRESS(($AN36-1)*3+$AO36+5,$AP36+7)))>=1,0,INDIRECT(ADDRESS(($AN36-1)*3+$AO36+5,$AP36+7))))) -> 0 | AR36: =COUNTIF(INDIRECT("H"&(ROW()+12*(($AN36-1)*3+$AO36)-ROW())/12+5):INDIRECT("S"&(ROW()+12*(($AN36-1)*3+$AO36)-ROW())/12+5),AQ36) -> 0 | AS36: =IF($AP36=1,IF(INDIRECT(ADDRESS(($AN36-1)*3+$AO36+5,$AP36+20))="",0,INDIRECT(ADDRESS(($AN36-1)*3+$AO36+5,$AP36+20))),IF(INDIRECT(ADDRESS(($AN36-1)*3+$AO36+5,$AP36+20))="",0,IF(COUNTIF(INDIRECT(ADDRESS(($AN36-1)*36+($AO36-1)*12+6,COLUMN())):INDIRECT(ADDRESS(($AN36-1)*36+($AO36-1)*12+$AP36+4,COLUMN())),INDIRECT(ADDRESS(($AN36-1)*3+$AO36+5,$AP36+20)))>=1,0,INDIRECT(ADDRESS(($AN36-1)*3+$AO36+5,$AP36+20))))) -> 0 | AT36: =COUNTIF(INDIRECT("U"&(ROW()+12*(($AN36-1)*3+$AO36)-ROW())/12+5):INDIRECT("AF"&(ROW()+12*(($AN36-1)*3+$AO36)-ROW())/12+5),AS36) -> 0 | AU36: =IF(AND(AQ36+AS36>0,AR36+AT36>0),COUNTIF(AU$6:AU35,">0")+1,0) -> 0 | BE36: 1 | BG36: =SUM(H36:H37) -> 0 | BH36: =SUM(I36:I37) -> 0 | BI36: =SUM(J36:J37) -> 0 | BJ36: =SUM(K36:K37) -> 0 | BK36: =SUM(L36:L37) -> 0 | BL36: =SUM(M36:M37) -> 0 | BM36: =SUM(N36:N37) -> 0 | BN36: =SUM(O36:O37) -> 0 | ... BR36: =SUM(S36:S37) -> 0 | BT36: =SUM(U36:U37) -> 0 | BU36: =SUM(V36:V37) -> 0 | BV36: =SUM(W36:W37) -> 0 | BW36: =SUM(X36:X37) -> 0 | BX36: =SUM(Y36:Y37) -> 0 | BY36: =SUM(Z36:Z37) -> 0 | BZ36: =SUM(AA36:AA37) -> 0 | CA36: =SUM(AB36:AB37) -> 0 | ... CE36: =SUM(AF36:AF37) -> 0 | CH36: min対象 | CI36: =IF(OR($D36="副園長",$D36="教頭",$D36="主任保育士",$D36="主幹教諭",$D36="主幹保育教諭"),0,BG36) -> 0 | CJ36: =IF(OR($D36="副園長",$D36="教頭",$D36="主任保育士",$D36="主幹教諭",$D36="主幹保育教諭"),0,BH36) -> 0 | CK36: =IF(OR($D36="副園長",$D36="教頭",$D36="主任保育士",$D36="主幹教諭",$D36="主幹保育教諭"),0,BI36) -> 0 | CL36: =IF(OR($D36="副園長",$D36="教頭",$D36="主任保育士",$D36="主幹教諭",$D36="主幹保育教諭"),0,BJ36) -> 0 | CM36: =IF(OR($D36="副園長",$D36="教頭",$D36="主任保育士",$D36="主幹教諭",$D36="主幹保育教諭"),0,BK36) -> 0 | CN36: =IF(OR($D36="副園長",$D36="教頭",$D36="主任保育士",$D36="主幹教諭",$D36="主幹保育教諭"),0,BL36) -> 0 | CO36: =IF(OR($D36="副園長",$D36="教頭",$D36="主任保育士",$D36="主幹教諭",$D36="主幹保育教諭"),0,BM36) -> 0 | CP36: =IF(OR($D36="副園長",$D36="教頭",$D36="主任保育士",$D36="主幹教諭",$D36="主幹保育教諭"),0,BN36) -> 0 | ... CT36: =IF(OR($D36="副園長",$D36="教頭",$D36="主任保育士",$D36="主幹教諭",$D36="主幹保育教諭"),0,BR36) -> 0
G37: 手当 | I37: =IF(H37="","",H37) | J37: =IF(I37="","",I37) | K37: =IF(J37="","",J37) | L37: =IF(K37="","",K37) | M37: =IF(L37="","",L37) | N37: =IF(M37="","",M37) | O37: =IF(N37="","",N37) | P37: =IF(O37="","",O37) | ... S37: =IF(R37="","",R37) | T37: =SUM(H37:S37) -> 0 | V37: =IF(U37="","",U37) | W37: =IF(V37="","",V37) | X37: =IF(W37="","",W37) | Y37: =IF(X37="","",X37) | Z37: =IF(Y37="","",Y37) | AA37: =IF(Z37="","",Z37) | AB37: =IF(AA37="","",AA37) | AC37: =IF(AB37="","",AB37) | ... AF37: =IF(AE37="","",AE37) | AG37: =SUM(U37:AF37) -> 0 | AI37: 賃金改善対象者（修了者） | AN37: 1 | AO37: 3 | AP37: 8 | AQ37: =IF($AP37=1,IF(INDIRECT(ADDRESS(($AN37-1)*3+$AO37+5,$AP37+7))="",0,INDIRECT(ADDRESS(($AN37-1)*3+$AO37+5,$AP37+7))),IF(INDIRECT(ADDRESS(($AN37-1)*3+$AO37+5,$AP37+7))="",0,IF(COUNTIF(INDIRECT(ADDRESS(($AN37-1)*36+($AO37-1)*12+6,COLUMN())):INDIRECT(ADDRESS(($AN37-1)*36+($AO37-1)*12+$AP37+4,COLUMN())),INDIRECT(ADDRESS(($AN37-1)*3+$AO37+5,$AP37+7)))>=1,0,INDIRECT(ADDRESS(($AN37-1)*3+$AO37+5,$AP37+7))))) -> 0 | AR37: =COUNTIF(INDIRECT("H"&(ROW()+12*(($AN37-1)*3+$AO37)-ROW())/12+5):INDIRECT("S"&(ROW()+12*(($AN37-1)*3+$AO37)-ROW())/12+5),AQ37) -> 0 | AS37: =IF($AP37=1,IF(INDIRECT(ADDRESS(($AN37-1)*3+$AO37+5,$AP37+20))="",0,INDIRECT(ADDRESS(($AN37-1)*3+$AO37+5,$AP37+20))),IF(INDIRECT(ADDRESS(($AN37-1)*3+$AO37+5,$AP37+20))="",0,IF(COUNTIF(INDIRECT(ADDRESS(($AN37-1)*36+($AO37-1)*12+6,COLUMN())):INDIRECT(ADDRESS(($AN37-1)*36+($AO37-1)*12+$AP37+4,COLUMN())),INDIRECT(ADDRESS(($AN37-1)*3+$AO37+5,$AP37+20)))>=1,0,INDIRECT(ADDRESS(($AN37-1)*3+$AO37+5,$AP37+20))))) -> 0 | AT37: =COUNTIF(INDIRECT("U"&(ROW()+12*(($AN37-1)*3+$AO37)-ROW())/12+5):INDIRECT("AF"&(ROW()+12*(($AN37-1)*3+$AO37)-ROW())/12+5),AS37) -> 0 | AU37: =IF(AND(AQ37+AS37>0,AR37+AT37>0),COUNTIF(AU$6:AU36,">0")+1,0) -> 0 | BE37: 2 | BF37: ＞＠40000 | BG37: =IF(BG36+BT36>$AJ$27,1,0) -> 0 | BH37: =IF(BH36+BU36>$AJ$27,1,0) -> 0 | BI37: =IF(BI36+BV36>$AJ$27,1,0) -> 0 | BJ37: =IF(BJ36+BW36>$AJ$27,1,0) -> 0 | BK37: =IF(BK36+BX36>$AJ$27,1,0) -> 0 | BL37: =IF(BL36+BY36>$AJ$27,1,0) -> 0 | BM37: =IF(BM36+BZ36>$AJ$27,1,0) -> 0 | BN37: =IF(BN36+CA36>$AJ$27,1,0) -> 0 | ... BR37: =IF(BR36+CE36>$AJ$27,1,0) -> 0
G38: R8法定福利費残 | T38: =SUM(H38:S38) -> 0 | AG38: =SUM(U38:AF38) -> 0 | AI38: 賃金改善対象者（見込者） | AN38: 1 | AO38: 3 | AP38: 9 | AQ38: =IF($AP38=1,IF(INDIRECT(ADDRESS(($AN38-1)*3+$AO38+5,$AP38+7))="",0,INDIRECT(ADDRESS(($AN38-1)*3+$AO38+5,$AP38+7))),IF(INDIRECT(ADDRESS(($AN38-1)*3+$AO38+5,$AP38+7))="",0,IF(COUNTIF(INDIRECT(ADDRESS(($AN38-1)*36+($AO38-1)*12+6,COLUMN())):INDIRECT(ADDRESS(($AN38-1)*36+($AO38-1)*12+$AP38+4,COLUMN())),INDIRECT(ADDRESS(($AN38-1)*3+$AO38+5,$AP38+7)))>=1,0,INDIRECT(ADDRESS(($AN38-1)*3+$AO38+5,$AP38+7))))) -> 0 | AR38: =COUNTIF(INDIRECT("H"&(ROW()+12*(($AN38-1)*3+$AO38)-ROW())/12+5):INDIRECT("S"&(ROW()+12*(($AN38-1)*3+$AO38)-ROW())/12+5),AQ38) -> 0 | AS38: =IF($AP38=1,IF(INDIRECT(ADDRESS(($AN38-1)*3+$AO38+5,$AP38+20))="",0,INDIRECT(ADDRESS(($AN38-1)*3+$AO38+5,$AP38+20))),IF(INDIRECT(ADDRESS(($AN38-1)*3+$AO38+5,$AP38+20))="",0,IF(COUNTIF(INDIRECT(ADDRESS(($AN38-1)*36+($AO38-1)*12+6,COLUMN())):INDIRECT(ADDRESS(($AN38-1)*36+($AO38-1)*12+$AP38+4,COLUMN())),INDIRECT(ADDRESS(($AN38-1)*3+$AO38+5,$AP38+20)))>=1,0,INDIRECT(ADDRESS(($AN38-1)*3+$AO38+5,$AP38+20))))) -> 0 | AT38: =COUNTIF(INDIRECT("U"&(ROW()+12*(($AN38-1)*3+$AO38)-ROW())/12+5):INDIRECT("AF"&(ROW()+12*(($AN38-1)*3+$AO38)-ROW())/12+5),AS38) -> 0 | AU38: =IF(AND(AQ38+AS38>0,AR38+AT38>0),COUNTIF(AU$6:AU37,">0")+1,0) -> 0 | BE38: 3
A39: 12 | G39: 基本給 | I39: =IF(H39="","",H39) | J39: =IF(I39="","",I39) | K39: =IF(J39="","",J39) | L39: =IF(K39="","",K39) | M39: =IF(L39="","",L39) | N39: =IF(M39="","",M39) | O39: =IF(N39="","",N39) | P39: =IF(O39="","",O39) | ... S39: =IF(R39="","",R39) | T39: =SUM(H39:S39) -> 0 | V39: =IF(U39="","",U39) | W39: =IF(V39="","",V39) | X39: =IF(W39="","",W39) | Y39: =IF(X39="","",X39) | Z39: =IF(Y39="","",Y39) | AA39: =IF(Z39="","",Z39) | AB39: =IF(AA39="","",AA39) | AC39: =IF(AB39="","",AB39) | ... AF39: =IF(AE39="","",AE39) | AG39: =SUM(U39:AF39) -> 0 | AN39: 1 | AO39: 3 | AP39: 10 | AQ39: =IF($AP39=1,IF(INDIRECT(ADDRESS(($AN39-1)*3+$AO39+5,$AP39+7))="",0,INDIRECT(ADDRESS(($AN39-1)*3+$AO39+5,$AP39+7))),IF(INDIRECT(ADDRESS(($AN39-1)*3+$AO39+5,$AP39+7))="",0,IF(COUNTIF(INDIRECT(ADDRESS(($AN39-1)*36+($AO39-1)*12+6,COLUMN())):INDIRECT(ADDRESS(($AN39-1)*36+($AO39-1)*12+$AP39+4,COLUMN())),INDIRECT(ADDRESS(($AN39-1)*3+$AO39+5,$AP39+7)))>=1,0,INDIRECT(ADDRESS(($AN39-1)*3+$AO39+5,$AP39+7))))) -> 0 | AR39: =COUNTIF(INDIRECT("H"&(ROW()+12*(($AN39-1)*3+$AO39)-ROW())/12+5):INDIRECT("S"&(ROW()+12*(($AN39-1)*3+$AO39)-ROW())/12+5),AQ39) -> 0 | AS39: =IF($AP39=1,IF(INDIRECT(ADDRESS(($AN39-1)*3+$AO39+5,$AP39+20))="",0,INDIRECT(ADDRESS(($AN39-1)*3+$AO39+5,$AP39+20))),IF(INDIRECT(ADDRESS(($AN39-1)*3+$AO39+5,$AP39+20))="",0,IF(COUNTIF(INDIRECT(ADDRESS(($AN39-1)*36+($AO39-1)*12+6,COLUMN())):INDIRECT(ADDRESS(($AN39-1)*36+($AO39-1)*12+$AP39+4,COLUMN())),INDIRECT(ADDRESS(($AN39-1)*3+$AO39+5,$AP39+20)))>=1,0,INDIRECT(ADDRESS(($AN39-1)*3+$AO39+5,$AP39+20))))) -> 0 | AT39: =COUNTIF(INDIRECT("U"&(ROW()+12*(($AN39-1)*3+$AO39)-ROW())/12+5):INDIRECT("AF"&(ROW()+12*(($AN39-1)*3+$AO39)-ROW())/12+5),AS39) -> 0 | AU39: =IF(AND(AQ39+AS39>0,AR39+AT39>0),COUNTIF(AU$6:AU38,">0")+1,0) -> 0 | BE39: 1 | BG39: =SUM(H39:H40) -> 0 | BH39: =SUM(I39:I40) -> 0 | BI39: =SUM(J39:J40) -> 0 | BJ39: =SUM(K39:K40) -> 0 | BK39: =SUM(L39:L40) -> 0 | BL39: =SUM(M39:M40) -> 0 | BM39: =SUM(N39:N40) -> 0 | BN39: =SUM(O39:O40) -> 0 | ... BR39: =SUM(S39:S40) -> 0 | BT39: =SUM(U39:U40) -> 0 | BU39: =SUM(V39:V40) -> 0 | BV39: =SUM(W39:W40) -> 0 | BW39: =SUM(X39:X40) -> 0 | BX39: =SUM(Y39:Y40) -> 0 | BY39: =SUM(Z39:Z40) -> 0 | BZ39: =SUM(AA39:AA40) -> 0 | CA39: =SUM(AB39:AB40) -> 0 | ... CE39: =SUM(AF39:AF40) -> 0 | CH39: min対象 | CI39: =IF(OR($D39="副園長",$D39="教頭",$D39="主任保育士",$D39="主幹教諭",$D39="主幹保育教諭"),0,BG39) -> 0 | CJ39: =IF(OR($D39="副園長",$D39="教頭",$D39="主任保育士",$D39="主幹教諭",$D39="主幹保育教諭"),0,BH39) -> 0 | CK39: =IF(OR($D39="副園長",$D39="教頭",$D39="主任保育士",$D39="主幹教諭",$D39="主幹保育教諭"),0,BI39) -> 0 | CL39: =IF(OR($D39="副園長",$D39="教頭",$D39="主任保育士",$D39="主幹教諭",$D39="主幹保育教諭"),0,BJ39) -> 0 | CM39: =IF(OR($D39="副園長",$D39="教頭",$D39="主任保育士",$D39="主幹教諭",$D39="主幹保育教諭"),0,BK39) -> 0 | CN39: =IF(OR($D39="副園長",$D39="教頭",$D39="主任保育士",$D39="主幹教諭",$D39="主幹保育教諭"),0,BL39) -> 0 | CO39: =IF(OR($D39="副園長",$D39="教頭",$D39="主任保育士",$D39="主幹教諭",$D39="主幹保育教諭"),0,BM39) -> 0 | CP39: =IF(OR($D39="副園長",$D39="教頭",$D39="主任保育士",$D39="主幹教諭",$D39="主幹保育教諭"),0,BN39) -> 0 | ... CT39: =IF(OR($D39="副園長",$D39="教頭",$D39="主任保育士",$D39="主幹教諭",$D39="主幹保育教諭"),0,BR39) -> 0
G40: 手当 | I40: =IF(H40="","",H40) | J40: =IF(I40="","",I40) | K40: =IF(J40="","",J40) | L40: =IF(K40="","",K40) | M40: =IF(L40="","",L40) | N40: =IF(M40="","",M40) | O40: =IF(N40="","",N40) | P40: =IF(O40="","",O40) | ... S40: =IF(R40="","",R40) | T40: =SUM(H40:S40) -> 0 | V40: =IF(U40="","",U40) | W40: =IF(V40="","",V40) | X40: =IF(W40="","",W40) | Y40: =IF(X40="","",X40) | Z40: =IF(Y40="","",Y40) | AA40: =IF(Z40="","",Z40) | AB40: =IF(AA40="","",AA40) | AC40: =IF(AB40="","",AB40) | ... AF40: =IF(AE40="","",AE40) | AG40: =SUM(U40:AF40) -> 0 | AN40: 1 | AO40: 3 | AP40: 11 | AQ40: =IF($AP40=1,IF(INDIRECT(ADDRESS(($AN40-1)*3+$AO40+5,$AP40+7))="",0,INDIRECT(ADDRESS(($AN40-1)*3+$AO40+5,$AP40+7))),IF(INDIRECT(ADDRESS(($AN40-1)*3+$AO40+5,$AP40+7))="",0,IF(COUNTIF(INDIRECT(ADDRESS(($AN40-1)*36+($AO40-1)*12+6,COLUMN())):INDIRECT(ADDRESS(($AN40-1)*36+($AO40-1)*12+$AP40+4,COLUMN())),INDIRECT(ADDRESS(($AN40-1)*3+$AO40+5,$AP40+7)))>=1,0,INDIRECT(ADDRESS(($AN40-1)*3+$AO40+5,$AP40+7))))) -> 0 | AR40: =COUNTIF(INDIRECT("H"&(ROW()+12*(($AN40-1)*3+$AO40)-ROW())/12+5):INDIRECT("S"&(ROW()+12*(($AN40-1)*3+$AO40)-ROW())/12+5),AQ40) -> 0 | AS40: =IF($AP40=1,IF(INDIRECT(ADDRESS(($AN40-1)*3+$AO40+5,$AP40+20))="",0,INDIRECT(ADDRESS(($AN40-1)*3+$AO40+5,$AP40+20))),IF(INDIRECT(ADDRESS(($AN40-1)*3+$AO40+5,$AP40+20))="",0,IF(COUNTIF(INDIRECT(ADDRESS(($AN40-1)*36+($AO40-1)*12+6,COLUMN())):INDIRECT(ADDRESS(($AN40-1)*36+($AO40-1)*12+$AP40+4,COLUMN())),INDIRECT(ADDRESS(($AN40-1)*3+$AO40+5,$AP40+20)))>=1,0,INDIRECT(ADDRESS(($AN40-1)*3+$AO40+5,$AP40+20))))) -> 0 | AT40: =COUNTIF(INDIRECT("U"&(ROW()+12*(($AN40-1)*3+$AO40)-ROW())/12+5):INDIRECT("AF"&(ROW()+12*(($AN40-1)*3+$AO40)-ROW())/12+5),AS40) -> 0 | AU40: =IF(AND(AQ40+AS40>0,AR40+AT40>0),COUNTIF(AU$6:AU39,">0")+1,0) -> 0 | BE40: 2 | BF40: ＞＠40000 | BG40: =IF(BG39+BT39>$AJ$27,1,0) -> 0 | BH40: =IF(BH39+BU39>$AJ$27,1,0) -> 0 | BI40: =IF(BI39+BV39>$AJ$27,1,0) -> 0 | BJ40: =IF(BJ39+BW39>$AJ$27,1,0) -> 0 | BK40: =IF(BK39+BX39>$AJ$27,1,0) -> 0 | BL40: =IF(BL39+BY39>$AJ$27,1,0) -> 0 | BM40: =IF(BM39+BZ39>$AJ$27,1,0) -> 0 | BN40: =IF(BN39+CA39>$AJ$27,1,0) -> 0 | ... BR40: =IF(BR39+CE39>$AJ$27,1,0) -> 0
G41: R8法定福利費残 | T41: =SUM(H41:S41) -> 0 | AG41: =SUM(U41:AF41) -> 0 | AN41: 1 | AO41: 3 | AP41: 12 | AQ41: =IF($AP41=1,IF(INDIRECT(ADDRESS(($AN41-1)*3+$AO41+5,$AP41+7))="",0,INDIRECT(ADDRESS(($AN41-1)*3+$AO41+5,$AP41+7))),IF(INDIRECT(ADDRESS(($AN41-1)*3+$AO41+5,$AP41+7))="",0,IF(COUNTIF(INDIRECT(ADDRESS(($AN41-1)*36+($AO41-1)*12+6,COLUMN())):INDIRECT(ADDRESS(($AN41-1)*36+($AO41-1)*12+$AP41+4,COLUMN())),INDIRECT(ADDRESS(($AN41-1)*3+$AO41+5,$AP41+7)))>=1,0,INDIRECT(ADDRESS(($AN41-1)*3+$AO41+5,$AP41+7))))) -> 0 | AR41: =COUNTIF(INDIRECT("H"&(ROW()+12*(($AN41-1)*3+$AO41)-ROW())/12+5):INDIRECT("S"&(ROW()+12*(($AN41-1)*3+$AO41)-ROW())/12+5),AQ41) -> 0 | AS41: =IF($AP41=1,IF(INDIRECT(ADDRESS(($AN41-1)*3+$AO41+5,$AP41+20))="",0,INDIRECT(ADDRESS(($AN41-1)*3+$AO41+5,$AP41+20))),IF(INDIRECT(ADDRESS(($AN41-1)*3+$AO41+5,$AP41+20))="",0,IF(COUNTIF(INDIRECT(ADDRESS(($AN41-1)*36+($AO41-1)*12+6,COLUMN())):INDIRECT(ADDRESS(($AN41-1)*36+($AO41-1)*12+$AP41+4,COLUMN())),INDIRECT(ADDRESS(($AN41-1)*3+$AO41+5,$AP41+20)))>=1,0,INDIRECT(ADDRESS(($AN41-1)*3+$AO41+5,$AP41+20))))) -> 0 | AT41: =COUNTIF(INDIRECT("U"&(ROW()+12*(($AN41-1)*3+$AO41)-ROW())/12+5):INDIRECT("AF"&(ROW()+12*(($AN41-1)*3+$AO41)-ROW())/12+5),AS41) -> 0 | AU41: =IF(AND(AQ41+AS41>0,AR41+AT41>0),COUNTIF(AU$6:AU40,">0")+1,0) -> 0 | BE41: 3
A42: 13 | G42: 基本給 | I42: =IF(H42="","",H42) | J42: =IF(I42="","",I42) | K42: =IF(J42="","",J42) | L42: =IF(K42="","",K42) | M42: =IF(L42="","",L42) | N42: =IF(M42="","",M42) | O42: =IF(N42="","",N42) | P42: =IF(O42="","",O42) | ... S42: =IF(R42="","",R42) | T42: =SUM(H42:S42) -> 0 | V42: =IF(U42="","",U42) | W42: =IF(V42="","",V42) | X42: =IF(W42="","",W42) | Y42: =IF(X42="","",X42) | Z42: =IF(Y42="","",Y42) | AA42: =IF(Z42="","",Z42) | AB42: =IF(AA42="","",AA42) | AC42: =IF(AB42="","",AB42) | ... AF42: =IF(AE42="","",AE42) | AG42: =SUM(U42:AF42) -> 0 | AN42: 2 | AO42: 1 | AP42: 1 | AQ42: =IF($AP42=1,IF(INDIRECT(ADDRESS(($AN42-1)*3+$AO42+5,$AP42+7))="",0,INDIRECT(ADDRESS(($AN42-1)*3+$AO42+5,$AP42+7))),IF(INDIRECT(ADDRESS(($AN42-1)*3+$AO42+5,$AP42+7))="",0,IF(COUNTIF(INDIRECT(ADDRESS(($AN42-1)*36+($AO42-1)*12+6,COLUMN())):INDIRECT(ADDRESS(($AN42-1)*36+($AO42-1)*12+$AP42+4,COLUMN())),INDIRECT(ADDRESS(($AN42-1)*3+$AO42+5,$AP42+7)))>=1,0,INDIRECT(ADDRESS(($AN42-1)*3+$AO42+5,$AP42+7))))) -> 0 | AR42: =COUNTIF(INDIRECT("H"&(ROW()+12*(($AN42-1)*3+$AO42)-ROW())/12+5):INDIRECT("S"&(ROW()+12*(($AN42-1)*3+$AO42)-ROW())/12+5),AQ42) -> 0 | AS42: =IF($AP42=1,IF(INDIRECT(ADDRESS(($AN42-1)*3+$AO42+5,$AP42+20))="",0,INDIRECT(ADDRESS(($AN42-1)*3+$AO42+5,$AP42+20))),IF(INDIRECT(ADDRESS(($AN42-1)*3+$AO42+5,$AP42+20))="",0,IF(COUNTIF(INDIRECT(ADDRESS(($AN42-1)*36+($AO42-1)*12+6,COLUMN())):INDIRECT(ADDRESS(($AN42-1)*36+($AO42-1)*12+$AP42+4,COLUMN())),INDIRECT(ADDRESS(($AN42-1)*3+$AO42+5,$AP42+20)))>=1,0,INDIRECT(ADDRESS(($AN42-1)*3+$AO42+5,$AP42+20))))) -> 0 | AT42: =COUNTIF(INDIRECT("U"&(ROW()+12*(($AN42-1)*3+$AO42)-ROW())/12+5):INDIRECT("AF"&(ROW()+12*(($AN42-1)*3+$AO42)-ROW())/12+5),AS42) -> 0 | AU42: =IF(AND(AQ42+AS42>0,AR42+AT42>0),COUNTIF(AU$6:AU41,">0")+1,0) -> 0 | BE42: 1 | BG42: =SUM(H42:H43) -> 0 | BH42: =SUM(I42:I43) -> 0 | BI42: =SUM(J42:J43) -> 0 | BJ42: =SUM(K42:K43) -> 0 | BK42: =SUM(L42:L43) -> 0 | BL42: =SUM(M42:M43) -> 0 | BM42: =SUM(N42:N43) -> 0 | BN42: =SUM(O42:O43) -> 0 | ... BR42: =SUM(S42:S43) -> 0 | BT42: =SUM(U42:U43) -> 0 | BU42: =SUM(V42:V43) -> 0 | BV42: =SUM(W42:W43) -> 0 | BW42: =SUM(X42:X43) -> 0 | BX42: =SUM(Y42:Y43) -> 0 | BY42: =SUM(Z42:Z43) -> 0 | BZ42: =SUM(AA42:AA43) -> 0 | CA42: =SUM(AB42:AB43) -> 0 | ... CE42: =SUM(AF42:AF43) -> 0 | CH42: min対象 | CI42: =IF(OR($D42="副園長",$D42="教頭",$D42="主任保育士",$D42="主幹教諭",$D42="主幹保育教諭"),0,BG42) -> 0 | CJ42: =IF(OR($D42="副園長",$D42="教頭",$D42="主任保育士",$D42="主幹教諭",$D42="主幹保育教諭"),0,BH42) -> 0 | CK42: =IF(OR($D42="副園長",$D42="教頭",$D42="主任保育士",$D42="主幹教諭",$D42="主幹保育教諭"),0,BI42) -> 0 | CL42: =IF(OR($D42="副園長",$D42="教頭",$D42="主任保育士",$D42="主幹教諭",$D42="主幹保育教諭"),0,BJ42) -> 0 | CM42: =IF(OR($D42="副園長",$D42="教頭",$D42="主任保育士",$D42="主幹教諭",$D42="主幹保育教諭"),0,BK42) -> 0 | CN42: =IF(OR($D42="副園長",$D42="教頭",$D42="主任保育士",$D42="主幹教諭",$D42="主幹保育教諭"),0,BL42) -> 0 | CO42: =IF(OR($D42="副園長",$D42="教頭",$D42="主任保育士",$D42="主幹教諭",$D42="主幹保育教諭"),0,BM42) -> 0 | CP42: =IF(OR($D42="副園長",$D42="教頭",$D42="主任保育士",$D42="主幹教諭",$D42="主幹保育教諭"),0,BN42) -> 0 | ... CT42: =IF(OR($D42="副園長",$D42="教頭",$D42="主任保育士",$D42="主幹教諭",$D42="主幹保育教諭"),0,BR42) -> 0
G43: 手当 | I43: =IF(H43="","",H43) | J43: =IF(I43="","",I43) | K43: =IF(J43="","",J43) | L43: =IF(K43="","",K43) | M43: =IF(L43="","",L43) | N43: =IF(M43="","",M43) | O43: =IF(N43="","",N43) | P43: =IF(O43="","",O43) | ... S43: =IF(R43="","",R43) | T43: =SUM(H43:S43) -> 0 | V43: =IF(U43="","",U43) | W43: =IF(V43="","",V43) | X43: =IF(W43="","",W43) | Y43: =IF(X43="","",X43) | Z43: =IF(Y43="","",Y43) | AA43: =IF(Z43="","",Z43) | AB43: =IF(AA43="","",AA43) | AC43: =IF(AB43="","",AB43) | ... AF43: =IF(AE43="","",AE43) | AG43: =SUM(U43:AF43) -> 0 | AN43: 2 | AO43: 1 | AP43: 2 | AQ43: =IF($AP43=1,IF(INDIRECT(ADDRESS(($AN43-1)*3+$AO43+5,$AP43+7))="",0,INDIRECT(ADDRESS(($AN43-1)*3+$AO43+5,$AP43+7))),IF(INDIRECT(ADDRESS(($AN43-1)*3+$AO43+5,$AP43+7))="",0,IF(COUNTIF(INDIRECT(ADDRESS(($AN43-1)*36+($AO43-1)*12+6,COLUMN())):INDIRECT(ADDRESS(($AN43-1)*36+($AO43-1)*12+$AP43+4,COLUMN())),INDIRECT(ADDRESS(($AN43-1)*3+$AO43+5,$AP43+7)))>=1,0,INDIRECT(ADDRESS(($AN43-1)*3+$AO43+5,$AP43+7))))) -> 0 | AR43: =COUNTIF(INDIRECT("H"&(ROW()+12*(($AN43-1)*3+$AO43)-ROW())/12+5):INDIRECT("S"&(ROW()+12*(($AN43-1)*3+$AO43)-ROW())/12+5),AQ43) -> 0 | AS43: =IF($AP43=1,IF(INDIRECT(ADDRESS(($AN43-1)*3+$AO43+5,$AP43+20))="",0,INDIRECT(ADDRESS(($AN43-1)*3+$AO43+5,$AP43+20))),IF(INDIRECT(ADDRESS(($AN43-1)*3+$AO43+5,$AP43+20))="",0,IF(COUNTIF(INDIRECT(ADDRESS(($AN43-1)*36+($AO43-1)*12+6,COLUMN())):INDIRECT(ADDRESS(($AN43-1)*36+($AO43-1)*12+$AP43+4,COLUMN())),INDIRECT(ADDRESS(($AN43-1)*3+$AO43+5,$AP43+20)))>=1,0,INDIRECT(ADDRESS(($AN43-1)*3+$AO43+5,$AP43+20))))) -> 0 | AT43: =COUNTIF(INDIRECT("U"&(ROW()+12*(($AN43-1)*3+$AO43)-ROW())/12+5):INDIRECT("AF"&(ROW()+12*(($AN43-1)*3+$AO43)-ROW())/12+5),AS43) -> 0 | AU43: =IF(AND(AQ43+AS43>0,AR43+AT43>0),COUNTIF(AU$6:AU42,">0")+1,0) -> 0 | BE43: 2 | BF43: ＞＠40000 | BG43: =IF(BG42+BT42>$AJ$27,1,0) -> 0 | BH43: =IF(BH42+BU42>$AJ$27,1,0) -> 0 | BI43: =IF(BI42+BV42>$AJ$27,1,0) -> 0 | BJ43: =IF(BJ42+BW42>$AJ$27,1,0) -> 0 | BK43: =IF(BK42+BX42>$AJ$27,1,0) -> 0 | BL43: =IF(BL42+BY42>$AJ$27,1,0) -> 0 | BM43: =IF(BM42+BZ42>$AJ$27,1,0) -> 0 | BN43: =IF(BN42+CA42>$AJ$27,1,0) -> 0 | ... BR43: =IF(BR42+CE42>$AJ$27,1,0) -> 0
G44: R8法定福利費残 | T44: =SUM(H44:S44) -> 0 | AG44: =SUM(U44:AF44) -> 0 | AN44: 2 | AO44: 1 | AP44: 3 | AQ44: =IF($AP44=1,IF(INDIRECT(ADDRESS(($AN44-1)*3+$AO44+5,$AP44+7))="",0,INDIRECT(ADDRESS(($AN44-1)*3+$AO44+5,$AP44+7))),IF(INDIRECT(ADDRESS(($AN44-1)*3+$AO44+5,$AP44+7))="",0,IF(COUNTIF(INDIRECT(ADDRESS(($AN44-1)*36+($AO44-1)*12+6,COLUMN())):INDIRECT(ADDRESS(($AN44-1)*36+($AO44-1)*12+$AP44+4,COLUMN())),INDIRECT(ADDRESS(($AN44-1)*3+$AO44+5,$AP44+7)))>=1,0,INDIRECT(ADDRESS(($AN44-1)*3+$AO44+5,$AP44+7))))) -> 0 | AR44: =COUNTIF(INDIRECT("H"&(ROW()+12*(($AN44-1)*3+$AO44)-ROW())/12+5):INDIRECT("S"&(ROW()+12*(($AN44-1)*3+$AO44)-ROW())/12+5),AQ44) -> 0 | AS44: =IF($AP44=1,IF(INDIRECT(ADDRESS(($AN44-1)*3+$AO44+5,$AP44+20))="",0,INDIRECT(ADDRESS(($AN44-1)*3+$AO44+5,$AP44+20))),IF(INDIRECT(ADDRESS(($AN44-1)*3+$AO44+5,$AP44+20))="",0,IF(COUNTIF(INDIRECT(ADDRESS(($AN44-1)*36+($AO44-1)*12+6,COLUMN())):INDIRECT(ADDRESS(($AN44-1)*36+($AO44-1)*12+$AP44+4,COLUMN())),INDIRECT(ADDRESS(($AN44-1)*3+$AO44+5,$AP44+20)))>=1,0,INDIRECT(ADDRESS(($AN44-1)*3+$AO44+5,$AP44+20))))) -> 0 | AT44: =COUNTIF(INDIRECT("U"&(ROW()+12*(($AN44-1)*3+$AO44)-ROW())/12+5):INDIRECT("AF"&(ROW()+12*(($AN44-1)*3+$AO44)-ROW())/12+5),AS44) -> 0 | AU44: =IF(AND(AQ44+AS44>0,AR44+AT44>0),COUNTIF(AU$6:AU43,">0")+1,0) -> 0 | BE44: 3
A45: 14 | G45: 基本給 | I45: =IF(H45="","",H45) | J45: =IF(I45="","",I45) | K45: =IF(J45="","",J45) | L45: =IF(K45="","",K45) | M45: =IF(L45="","",L45) | N45: =IF(M45="","",M45) | O45: =IF(N45="","",N45) | P45: =IF(O45="","",O45) | ... S45: =IF(R45="","",R45) | T45: =SUM(H45:S45) -> 0 | V45: =IF(U45="","",U45) | W45: =IF(V45="","",V45) | X45: =IF(W45="","",W45) | Y45: =IF(X45="","",X45) | Z45: =IF(Y45="","",Y45) | AA45: =IF(Z45="","",Z45) | AB45: =IF(AA45="","",AA45) | AC45: =IF(AB45="","",AB45) | ... AF45: =IF(AE45="","",AE45) | AG45: =SUM(U45:AF45) -> 0 | AN45: 2 | AO45: 1 | AP45: 4 | AQ45: =IF($AP45=1,IF(INDIRECT(ADDRESS(($AN45-1)*3+$AO45+5,$AP45+7))="",0,INDIRECT(ADDRESS(($AN45-1)*3+$AO45+5,$AP45+7))),IF(INDIRECT(ADDRESS(($AN45-1)*3+$AO45+5,$AP45+7))="",0,IF(COUNTIF(INDIRECT(ADDRESS(($AN45-1)*36+($AO45-1)*12+6,COLUMN())):INDIRECT(ADDRESS(($AN45-1)*36+($AO45-1)*12+$AP45+4,COLUMN())),INDIRECT(ADDRESS(($AN45-1)*3+$AO45+5,$AP45+7)))>=1,0,INDIRECT(ADDRESS(($AN45-1)*3+$AO45+5,$AP45+7))))) -> 0 | AR45: =COUNTIF(INDIRECT("H"&(ROW()+12*(($AN45-1)*3+$AO45)-ROW())/12+5):INDIRECT("S"&(ROW()+12*(($AN45-1)*3+$AO45)-ROW())/12+5),AQ45) -> 0 | AS45: =IF($AP45=1,IF(INDIRECT(ADDRESS(($AN45-1)*3+$AO45+5,$AP45+20))="",0,INDIRECT(ADDRESS(($AN45-1)*3+$AO45+5,$AP45+20))),IF(INDIRECT(ADDRESS(($AN45-1)*3+$AO45+5,$AP45+20))="",0,IF(COUNTIF(INDIRECT(ADDRESS(($AN45-1)*36+($AO45-1)*12+6,COLUMN())):INDIRECT(ADDRESS(($AN45-1)*36+($AO45-1)*12+$AP45+4,COLUMN())),INDIRECT(ADDRESS(($AN45-1)*3+$AO45+5,$AP45+20)))>=1,0,INDIRECT(ADDRESS(($AN45-1)*3+$AO45+5,$AP45+20))))) -> 0 | AT45: =COUNTIF(INDIRECT("U"&(ROW()+12*(($AN45-1)*3+$AO45)-ROW())/12+5):INDIRECT("AF"&(ROW()+12*(($AN45-1)*3+$AO45)-ROW())/12+5),AS45) -> 0 | AU45: =IF(AND(AQ45+AS45>0,AR45+AT45>0),COUNTIF(AU$6:AU44,">0")+1,0) -> 0 | BE45: 1 | BG45: =SUM(H45:H46) -> 0 | BH45: =SUM(I45:I46) -> 0 | BI45: =SUM(J45:J46) -> 0 | BJ45: =SUM(K45:K46) -> 0 | BK45: =SUM(L45:L46) -> 0 | BL45: =SUM(M45:M46) -> 0 | BM45: =SUM(N45:N46) -> 0 | BN45: =SUM(O45:O46) -> 0 | ... BR45: =SUM(S45:S46) -> 0 | BT45: =SUM(U45:U46) -> 0 | BU45: =SUM(V45:V46) -> 0 | BV45: =SUM(W45:W46) -> 0 | BW45: =SUM(X45:X46) -> 0 | BX45: =SUM(Y45:Y46) -> 0 | BY45: =SUM(Z45:Z46) -> 0 | BZ45: =SUM(AA45:AA46) -> 0 | CA45: =SUM(AB45:AB46) -> 0 | ... CE45: =SUM(AF45:AF46) -> 0 | CH45: min対象 | CI45: =IF(OR($D45="副園長",$D45="教頭",$D45="主任保育士",$D45="主幹教諭",$D45="主幹保育教諭"),0,BG45) -> 0 | CJ45: =IF(OR($D45="副園長",$D45="教頭",$D45="主任保育士",$D45="主幹教諭",$D45="主幹保育教諭"),0,BH45) -> 0 | CK45: =IF(OR($D45="副園長",$D45="教頭",$D45="主任保育士",$D45="主幹教諭",$D45="主幹保育教諭"),0,BI45) -> 0 | CL45: =IF(OR($D45="副園長",$D45="教頭",$D45="主任保育士",$D45="主幹教諭",$D45="主幹保育教諭"),0,BJ45) -> 0 | CM45: =IF(OR($D45="副園長",$D45="教頭",$D45="主任保育士",$D45="主幹教諭",$D45="主幹保育教諭"),0,BK45) -> 0 | CN45: =IF(OR($D45="副園長",$D45="教頭",$D45="主任保育士",$D45="主幹教諭",$D45="主幹保育教諭"),0,BL45) -> 0 | CO45: =IF(OR($D45="副園長",$D45="教頭",$D45="主任保育士",$D45="主幹教諭",$D45="主幹保育教諭"),0,BM45) -> 0 | CP45: =IF(OR($D45="副園長",$D45="教頭",$D45="主任保育士",$D45="主幹教諭",$D45="主幹保育教諭"),0,BN45) -> 0 | ... CT45: =IF(OR($D45="副園長",$D45="教頭",$D45="主任保育士",$D45="主幹教諭",$D45="主幹保育教諭"),0,BR45) -> 0
G46: 手当 | I46: =IF(H46="","",H46) | J46: =IF(I46="","",I46) | K46: =IF(J46="","",J46) | L46: =IF(K46="","",K46) | M46: =IF(L46="","",L46) | N46: =IF(M46="","",M46) | O46: =IF(N46="","",N46) | P46: =IF(O46="","",O46) | ... S46: =IF(R46="","",R46) | T46: =SUM(H46:S46) -> 0 | V46: =IF(U46="","",U46) | W46: =IF(V46="","",V46) | X46: =IF(W46="","",W46) | Y46: =IF(X46="","",X46) | Z46: =IF(Y46="","",Y46) | AA46: =IF(Z46="","",Z46) | AB46: =IF(AA46="","",AA46) | AC46: =IF(AB46="","",AB46) | ... AF46: =IF(AE46="","",AE46) | AG46: =SUM(U46:AF46) -> 0 | AN46: 2 | AO46: 1 | AP46: 5 | AQ46: =IF($AP46=1,IF(INDIRECT(ADDRESS(($AN46-1)*3+$AO46+5,$AP46+7))="",0,INDIRECT(ADDRESS(($AN46-1)*3+$AO46+5,$AP46+7))),IF(INDIRECT(ADDRESS(($AN46-1)*3+$AO46+5,$AP46+7))="",0,IF(COUNTIF(INDIRECT(ADDRESS(($AN46-1)*36+($AO46-1)*12+6,COLUMN())):INDIRECT(ADDRESS(($AN46-1)*36+($AO46-1)*12+$AP46+4,COLUMN())),INDIRECT(ADDRESS(($AN46-1)*3+$AO46+5,$AP46+7)))>=1,0,INDIRECT(ADDRESS(($AN46-1)*3+$AO46+5,$AP46+7))))) -> 0 | AR46: =COUNTIF(INDIRECT("H"&(ROW()+12*(($AN46-1)*3+$AO46)-ROW())/12+5):INDIRECT("S"&(ROW()+12*(($AN46-1)*3+$AO46)-ROW())/12+5),AQ46) -> 0 | AS46: =IF($AP46=1,IF(INDIRECT(ADDRESS(($AN46-1)*3+$AO46+5,$AP46+20))="",0,INDIRECT(ADDRESS(($AN46-1)*3+$AO46+5,$AP46+20))),IF(INDIRECT(ADDRESS(($AN46-1)*3+$AO46+5,$AP46+20))="",0,IF(COUNTIF(INDIRECT(ADDRESS(($AN46-1)*36+($AO46-1)*12+6,COLUMN())):INDIRECT(ADDRESS(($AN46-1)*36+($AO46-1)*12+$AP46+4,COLUMN())),INDIRECT(ADDRESS(($AN46-1)*3+$AO46+5,$AP46+20)))>=1,0,INDIRECT(ADDRESS(($AN46-1)*3+$AO46+5,$AP46+20))))) -> 0 | AT46: =COUNTIF(INDIRECT("U"&(ROW()+12*(($AN46-1)*3+$AO46)-ROW())/12+5):INDIRECT("AF"&(ROW()+12*(($AN46-1)*3+$AO46)-ROW())/12+5),AS46) -> 0 | AU46: =IF(AND(AQ46+AS46>0,AR46+AT46>0),COUNTIF(AU$6:AU45,">0")+1,0) -> 0 | BE46: 2 | BF46: ＞＠40000 | BG46: =IF(BG45+BT45>$AJ$27,1,0) -> 0 | BH46: =IF(BH45+BU45>$AJ$27,1,0) -> 0 | BI46: =IF(BI45+BV45>$AJ$27,1,0) -> 0 | BJ46: =IF(BJ45+BW45>$AJ$27,1,0) -> 0 | BK46: =IF(BK45+BX45>$AJ$27,1,0) -> 0 | BL46: =IF(BL45+BY45>$AJ$27,1,0) -> 0 | BM46: =IF(BM45+BZ45>$AJ$27,1,0) -> 0 | BN46: =IF(BN45+CA45>$AJ$27,1,0) -> 0 | ... BR46: =IF(BR45+CE45>$AJ$27,1,0) -> 0
G47: R8法定福利費残 | T47: =SUM(H47:S47) -> 0 | AG47: =SUM(U47:AF47) -> 0 | AN47: 2 | AO47: 1 | AP47: 6 | AQ47: =IF($AP47=1,IF(INDIRECT(ADDRESS(($AN47-1)*3+$AO47+5,$AP47+7))="",0,INDIRECT(ADDRESS(($AN47-1)*3+$AO47+5,$AP47+7))),IF(INDIRECT(ADDRESS(($AN47-1)*3+$AO47+5,$AP47+7))="",0,IF(COUNTIF(INDIRECT(ADDRESS(($AN47-1)*36+($AO47-1)*12+6,COLUMN())):INDIRECT(ADDRESS(($AN47-1)*36+($AO47-1)*12+$AP47+4,COLUMN())),INDIRECT(ADDRESS(($AN47-1)*3+$AO47+5,$AP47+7)))>=1,0,INDIRECT(ADDRESS(($AN47-1)*3+$AO47+5,$AP47+7))))) -> 0 | AR47: =COUNTIF(INDIRECT("H"&(ROW()+12*(($AN47-1)*3+$AO47)-ROW())/12+5):INDIRECT("S"&(ROW()+12*(($AN47-1)*3+$AO47)-ROW())/12+5),AQ47) -> 0 | AS47: =IF($AP47=1,IF(INDIRECT(ADDRESS(($AN47-1)*3+$AO47+5,$AP47+20))="",0,INDIRECT(ADDRESS(($AN47-1)*3+$AO47+5,$AP47+20))),IF(INDIRECT(ADDRESS(($AN47-1)*3+$AO47+5,$AP47+20))="",0,IF(COUNTIF(INDIRECT(ADDRESS(($AN47-1)*36+($AO47-1)*12+6,COLUMN())):INDIRECT(ADDRESS(($AN47-1)*36+($AO47-1)*12+$AP47+4,COLUMN())),INDIRECT(ADDRESS(($AN47-1)*3+$AO47+5,$AP47+20)))>=1,0,INDIRECT(ADDRESS(($AN47-1)*3+$AO47+5,$AP47+20))))) -> 0 | AT47: =COUNTIF(INDIRECT("U"&(ROW()+12*(($AN47-1)*3+$AO47)-ROW())/12+5):INDIRECT("AF"&(ROW()+12*(($AN47-1)*3+$AO47)-ROW())/12+5),AS47) -> 0 | AU47: =IF(AND(AQ47+AS47>0,AR47+AT47>0),COUNTIF(AU$6:AU46,">0")+1,0) -> 0 | BE47: 3
A48: 15 | G48: 基本給 | I48: =IF(H48="","",H48) | J48: =IF(I48="","",I48) | K48: =IF(J48="","",J48) | L48: =IF(K48="","",K48) | M48: =IF(L48="","",L48) | N48: =IF(M48="","",M48) | O48: =IF(N48="","",N48) | P48: =IF(O48="","",O48) | ... S48: =IF(R48="","",R48) | T48: =SUM(H48:S48) -> 0 | V48: =IF(U48="","",U48) | W48: =IF(V48="","",V48) | X48: =IF(W48="","",W48) | Y48: =IF(X48="","",X48) | Z48: =IF(Y48="","",Y48) | AA48: =IF(Z48="","",Z48) | AB48: =IF(AA48="","",AA48) | AC48: =IF(AB48="","",AB48) | ... AF48: =IF(AE48="","",AE48) | AG48: =SUM(U48:AF48) -> 0 | AN48: 2 | AO48: 1 | AP48: 7 | AQ48: =IF($AP48=1,IF(INDIRECT(ADDRESS(($AN48-1)*3+$AO48+5,$AP48+7))="",0,INDIRECT(ADDRESS(($AN48-1)*3+$AO48+5,$AP48+7))),IF(INDIRECT(ADDRESS(($AN48-1)*3+$AO48+5,$AP48+7))="",0,IF(COUNTIF(INDIRECT(ADDRESS(($AN48-1)*36+($AO48-1)*12+6,COLUMN())):INDIRECT(ADDRESS(($AN48-1)*36+($AO48-1)*12+$AP48+4,COLUMN())),INDIRECT(ADDRESS(($AN48-1)*3+$AO48+5,$AP48+7)))>=1,0,INDIRECT(ADDRESS(($AN48-1)*3+$AO48+5,$AP48+7))))) -> 0 | AR48: =COUNTIF(INDIRECT("H"&(ROW()+12*(($AN48-1)*3+$AO48)-ROW())/12+5):INDIRECT("S"&(ROW()+12*(($AN48-1)*3+$AO48)-ROW())/12+5),AQ48) -> 0 | AS48: =IF($AP48=1,IF(INDIRECT(ADDRESS(($AN48-1)*3+$AO48+5,$AP48+20))="",0,INDIRECT(ADDRESS(($AN48-1)*3+$AO48+5,$AP48+20))),IF(INDIRECT(ADDRESS(($AN48-1)*3+$AO48+5,$AP48+20))="",0,IF(COUNTIF(INDIRECT(ADDRESS(($AN48-1)*36+($AO48-1)*12+6,COLUMN())):INDIRECT(ADDRESS(($AN48-1)*36+($AO48-1)*12+$AP48+4,COLUMN())),INDIRECT(ADDRESS(($AN48-1)*3+$AO48+5,$AP48+20)))>=1,0,INDIRECT(ADDRESS(($AN48-1)*3+$AO48+5,$AP48+20))))) -> 0 | AT48: =COUNTIF(INDIRECT("U"&(ROW()+12*(($AN48-1)*3+$AO48)-ROW())/12+5):INDIRECT("AF"&(ROW()+12*(($AN48-1)*3+$AO48)-ROW())/12+5),AS48) -> 0 | AU48: =IF(AND(AQ48+AS48>0,AR48+AT48>0),COUNTIF(AU$6:AU47,">0")+1,0) -> 0 | BE48: 1 | BG48: =SUM(H48:H49) -> 0 | BH48: =SUM(I48:I49) -> 0 | BI48: =SUM(J48:J49) -> 0 | BJ48: =SUM(K48:K49) -> 0 | BK48: =SUM(L48:L49) -> 0 | BL48: =SUM(M48:M49) -> 0 | BM48: =SUM(N48:N49) -> 0 | BN48: =SUM(O48:O49) -> 0 | ... BR48: =SUM(S48:S49) -> 0 | BT48: =SUM(U48:U49) -> 0 | BU48: =SUM(V48:V49) -> 0 | BV48: =SUM(W48:W49) -> 0 | BW48: =SUM(X48:X49) -> 0 | BX48: =SUM(Y48:Y49) -> 0 | BY48: =SUM(Z48:Z49) -> 0 | BZ48: =SUM(AA48:AA49) -> 0 | CA48: =SUM(AB48:AB49) -> 0 | ... CE48: =SUM(AF48:AF49) -> 0 | CH48: min対象 | CI48: =IF(OR($D48="副園長",$D48="教頭",$D48="主任保育士",$D48="主幹教諭",$D48="主幹保育教諭"),0,BG48) -> 0 | CJ48: =IF(OR($D48="副園長",$D48="教頭",$D48="主任保育士",$D48="主幹教諭",$D48="主幹保育教諭"),0,BH48) -> 0 | CK48: =IF(OR($D48="副園長",$D48="教頭",$D48="主任保育士",$D48="主幹教諭",$D48="主幹保育教諭"),0,BI48) -> 0 | CL48: =IF(OR($D48="副園長",$D48="教頭",$D48="主任保育士",$D48="主幹教諭",$D48="主幹保育教諭"),0,BJ48) -> 0 | CM48: =IF(OR($D48="副園長",$D48="教頭",$D48="主任保育士",$D48="主幹教諭",$D48="主幹保育教諭"),0,BK48) -> 0 | CN48: =IF(OR($D48="副園長",$D48="教頭",$D48="主任保育士",$D48="主幹教諭",$D48="主幹保育教諭"),0,BL48) -> 0 | CO48: =IF(OR($D48="副園長",$D48="教頭",$D48="主任保育士",$D48="主幹教諭",$D48="主幹保育教諭"),0,BM48) -> 0 | CP48: =IF(OR($D48="副園長",$D48="教頭",$D48="主任保育士",$D48="主幹教諭",$D48="主幹保育教諭"),0,BN48) -> 0 | ... CT48: =IF(OR($D48="副園長",$D48="教頭",$D48="主任保育士",$D48="主幹教諭",$D48="主幹保育教諭"),0,BR48) -> 0
G49: 手当 | I49: =IF(H49="","",H49) | J49: =IF(I49="","",I49) | K49: =IF(J49="","",J49) | L49: =IF(K49="","",K49) | M49: =IF(L49="","",L49) | N49: =IF(M49="","",M49) | O49: =IF(N49="","",N49) | P49: =IF(O49="","",O49) | ... S49: =IF(R49="","",R49) | T49: =SUM(H49:S49) -> 0 | V49: =IF(U49="","",U49) | W49: =IF(V49="","",V49) | X49: =IF(W49="","",W49) | Y49: =IF(X49="","",X49) | Z49: =IF(Y49="","",Y49) | AA49: =IF(Z49="","",Z49) | AB49: =IF(AA49="","",AA49) | AC49: =IF(AB49="","",AB49) | ... AF49: =IF(AE49="","",AE49) | AG49: =SUM(U49:AF49) -> 0 | AN49: 2 | AO49: 1 | AP49: 8 | AQ49: =IF($AP49=1,IF(INDIRECT(ADDRESS(($AN49-1)*3+$AO49+5,$AP49+7))="",0,INDIRECT(ADDRESS(($AN49-1)*3+$AO49+5,$AP49+7))),IF(INDIRECT(ADDRESS(($AN49-1)*3+$AO49+5,$AP49+7))="",0,IF(COUNTIF(INDIRECT(ADDRESS(($AN49-1)*36+($AO49-1)*12+6,COLUMN())):INDIRECT(ADDRESS(($AN49-1)*36+($AO49-1)*12+$AP49+4,COLUMN())),INDIRECT(ADDRESS(($AN49-1)*3+$AO49+5,$AP49+7)))>=1,0,INDIRECT(ADDRESS(($AN49-1)*3+$AO49+5,$AP49+7))))) -> 0 | AR49: =COUNTIF(INDIRECT("H"&(ROW()+12*(($AN49-1)*3+$AO49)-ROW())/12+5):INDIRECT("S"&(ROW()+12*(($AN49-1)*3+$AO49)-ROW())/12+5),AQ49) -> 0 | AS49: =IF($AP49=1,IF(INDIRECT(ADDRESS(($AN49-1)*3+$AO49+5,$AP49+20))="",0,INDIRECT(ADDRESS(($AN49-1)*3+$AO49+5,$AP49+20))),IF(INDIRECT(ADDRESS(($AN49-1)*3+$AO49+5,$AP49+20))="",0,IF(COUNTIF(INDIRECT(ADDRESS(($AN49-1)*36+($AO49-1)*12+6,COLUMN())):INDIRECT(ADDRESS(($AN49-1)*36+($AO49-1)*12+$AP49+4,COLUMN())),INDIRECT(ADDRESS(($AN49-1)*3+$AO49+5,$AP49+20)))>=1,0,INDIRECT(ADDRESS(($AN49-1)*3+$AO49+5,$AP49+20))))) -> 0 | AT49: =COUNTIF(INDIRECT("U"&(ROW()+12*(($AN49-1)*3+$AO49)-ROW())/12+5):INDIRECT("AF"&(ROW()+12*(($AN49-1)*3+$AO49)-ROW())/12+5),AS49) -> 0 | AU49: =IF(AND(AQ49+AS49>0,AR49+AT49>0),COUNTIF(AU$6:AU48,">0")+1,0) -> 0 | BE49: 2 | BF49: ＞＠40000 | BG49: =IF(BG48+BT48>$AJ$27,1,0) -> 0 | BH49: =IF(BH48+BU48>$AJ$27,1,0) -> 0 | BI49: =IF(BI48+BV48>$AJ$27,1,0) -> 0 | BJ49: =IF(BJ48+BW48>$AJ$27,1,0) -> 0 | BK49: =IF(BK48+BX48>$AJ$27,1,0) -> 0 | BL49: =IF(BL48+BY48>$AJ$27,1,0) -> 0 | BM49: =IF(BM48+BZ48>$AJ$27,1,0) -> 0 | BN49: =IF(BN48+CA48>$AJ$27,1,0) -> 0 | ... BR49: =IF(BR48+CE48>$AJ$27,1,0) -> 0
G50: R8法定福利費残 | T50: =SUM(H50:S50) -> 0 | AG50: =SUM(U50:AF50) -> 0 | AN50: 2 | AO50: 1 | AP50: 9 | AQ50: =IF($AP50=1,IF(INDIRECT(ADDRESS(($AN50-1)*3+$AO50+5,$AP50+7))="",0,INDIRECT(ADDRESS(($AN50-1)*3+$AO50+5,$AP50+7))),IF(INDIRECT(ADDRESS(($AN50-1)*3+$AO50+5,$AP50+7))="",0,IF(COUNTIF(INDIRECT(ADDRESS(($AN50-1)*36+($AO50-1)*12+6,COLUMN())):INDIRECT(ADDRESS(($AN50-1)*36+($AO50-1)*12+$AP50+4,COLUMN())),INDIRECT(ADDRESS(($AN50-1)*3+$AO50+5,$AP50+7)))>=1,0,INDIRECT(ADDRESS(($AN50-1)*3+$AO50+5,$AP50+7))))) -> 0 | AR50: =COUNTIF(INDIRECT("H"&(ROW()+12*(($AN50-1)*3+$AO50)-ROW())/12+5):INDIRECT("S"&(ROW()+12*(($AN50-1)*3+$AO50)-ROW())/12+5),AQ50) -> 0 | AS50: =IF($AP50=1,IF(INDIRECT(ADDRESS(($AN50-1)*3+$AO50+5,$AP50+20))="",0,INDIRECT(ADDRESS(($AN50-1)*3+$AO50+5,$AP50+20))),IF(INDIRECT(ADDRESS(($AN50-1)*3+$AO50+5,$AP50+20))="",0,IF(COUNTIF(INDIRECT(ADDRESS(($AN50-1)*36+($AO50-1)*12+6,COLUMN())):INDIRECT(ADDRESS(($AN50-1)*36+($AO50-1)*12+$AP50+4,COLUMN())),INDIRECT(ADDRESS(($AN50-1)*3+$AO50+5,$AP50+20)))>=1,0,INDIRECT(ADDRESS(($AN50-1)*3+$AO50+5,$AP50+20))))) -> 0 | AT50: =COUNTIF(INDIRECT("U"&(ROW()+12*(($AN50-1)*3+$AO50)-ROW())/12+5):INDIRECT("AF"&(ROW()+12*(($AN50-1)*3+$AO50)-ROW())/12+5),AS50) -> 0 | AU50: =IF(AND(AQ50+AS50>0,AR50+AT50>0),COUNTIF(AU$6:AU49,">0")+1,0) -> 0 | BE50: 3
A51: 16 | G51: 基本給 | I51: =IF(H51="","",H51) | J51: =IF(I51="","",I51) | K51: =IF(J51="","",J51) | L51: =IF(K51="","",K51) | M51: =IF(L51="","",L51) | N51: =IF(M51="","",M51) | O51: =IF(N51="","",N51) | P51: =IF(O51="","",O51) | ... S51: =IF(R51="","",R51) | T51: =SUM(H51:S51) -> 0 | V51: =IF(U51="","",U51) | W51: =IF(V51="","",V51) | X51: =IF(W51="","",W51) | Y51: =IF(X51="","",X51) | Z51: =IF(Y51="","",Y51) | AA51: =IF(Z51="","",Z51) | AB51: =IF(AA51="","",AA51) | AC51: =IF(AB51="","",AB51) | ... AF51: =IF(AE51="","",AE51) | AG51: =SUM(U51:AF51) -> 0 | AN51: 2 | AO51: 1 | AP51: 10 | AQ51: =IF($AP51=1,IF(INDIRECT(ADDRESS(($AN51-1)*3+$AO51+5,$AP51+7))="",0,INDIRECT(ADDRESS(($AN51-1)*3+$AO51+5,$AP51+7))),IF(INDIRECT(ADDRESS(($AN51-1)*3+$AO51+5,$AP51+7))="",0,IF(COUNTIF(INDIRECT(ADDRESS(($AN51-1)*36+($AO51-1)*12+6,COLUMN())):INDIRECT(ADDRESS(($AN51-1)*36+($AO51-1)*12+$AP51+4,COLUMN())),INDIRECT(ADDRESS(($AN51-1)*3+$AO51+5,$AP51+7)))>=1,0,INDIRECT(ADDRESS(($AN51-1)*3+$AO51+5,$AP51+7))))) -> 0 | AR51: =COUNTIF(INDIRECT("H"&(ROW()+12*(($AN51-1)*3+$AO51)-ROW())/12+5):INDIRECT("S"&(ROW()+12*(($AN51-1)*3+$AO51)-ROW())/12+5),AQ51) -> 0 | AS51: =IF($AP51=1,IF(INDIRECT(ADDRESS(($AN51-1)*3+$AO51+5,$AP51+20))="",0,INDIRECT(ADDRESS(($AN51-1)*3+$AO51+5,$AP51+20))),IF(INDIRECT(ADDRESS(($AN51-1)*3+$AO51+5,$AP51+20))="",0,IF(COUNTIF(INDIRECT(ADDRESS(($AN51-1)*36+($AO51-1)*12+6,COLUMN())):INDIRECT(ADDRESS(($AN51-1)*36+($AO51-1)*12+$AP51+4,COLUMN())),INDIRECT(ADDRESS(($AN51-1)*3+$AO51+5,$AP51+20)))>=1,0,INDIRECT(ADDRESS(($AN51-1)*3+$AO51+5,$AP51+20))))) -> 0 | AT51: =COUNTIF(INDIRECT("U"&(ROW()+12*(($AN51-1)*3+$AO51)-ROW())/12+5):INDIRECT("AF"&(ROW()+12*(($AN51-1)*3+$AO51)-ROW())/12+5),AS51) -> 0 | AU51: =IF(AND(AQ51+AS51>0,AR51+AT51>0),COUNTIF(AU$6:AU50,">0")+1,0) -> 0 | BE51: 1 | BG51: =SUM(H51:H52) -> 0 | BH51: =SUM(I51:I52) -> 0 | BI51: =SUM(J51:J52) -> 0 | BJ51: =SUM(K51:K52) -> 0 | BK51: =SUM(L51:L52) -> 0 | BL51: =SUM(M51:M52) -> 0 | BM51: =SUM(N51:N52) -> 0 | BN51: =SUM(O51:O52) -> 0 | ... BR51: =SUM(S51:S52) -> 0 | BT51: =SUM(U51:U52) -> 0 | BU51: =SUM(V51:V52) -> 0 | BV51: =SUM(W51:W52) -> 0 | BW51: =SUM(X51:X52) -> 0 | BX51: =SUM(Y51:Y52) -> 0 | BY51: =SUM(Z51:Z52) -> 0 | BZ51: =SUM(AA51:AA52) -> 0 | CA51: =SUM(AB51:AB52) -> 0 | ... CE51: =SUM(AF51:AF52) -> 0 | CH51: min対象 | CI51: =IF(OR($D51="副園長",$D51="教頭",$D51="主任保育士",$D51="主幹教諭",$D51="主幹保育教諭"),0,BG51) -> 0 | CJ51: =IF(OR($D51="副園長",$D51="教頭",$D51="主任保育士",$D51="主幹教諭",$D51="主幹保育教諭"),0,BH51) -> 0 | CK51: =IF(OR($D51="副園長",$D51="教頭",$D51="主任保育士",$D51="主幹教諭",$D51="主幹保育教諭"),0,BI51) -> 0 | CL51: =IF(OR($D51="副園長",$D51="教頭",$D51="主任保育士",$D51="主幹教諭",$D51="主幹保育教諭"),0,BJ51) -> 0 | CM51: =IF(OR($D51="副園長",$D51="教頭",$D51="主任保育士",$D51="主幹教諭",$D51="主幹保育教諭"),0,BK51) -> 0 | CN51: =IF(OR($D51="副園長",$D51="教頭",$D51="主任保育士",$D51="主幹教諭",$D51="主幹保育教諭"),0,BL51) -> 0 | CO51: =IF(OR($D51="副園長",$D51="教頭",$D51="主任保育士",$D51="主幹教諭",$D51="主幹保育教諭"),0,BM51) -> 0 | CP51: =IF(OR($D51="副園長",$D51="教頭",$D51="主任保育士",$D51="主幹教諭",$D51="主幹保育教諭"),0,BN51) -> 0 | ... CT51: =IF(OR($D51="副園長",$D51="教頭",$D51="主任保育士",$D51="主幹教諭",$D51="主幹保育教諭"),0,BR51) -> 0
G52: 手当 | I52: =IF(H52="","",H52) | J52: =IF(I52="","",I52) | K52: =IF(J52="","",J52) | L52: =IF(K52="","",K52) | M52: =IF(L52="","",L52) | N52: =IF(M52="","",M52) | O52: =IF(N52="","",N52) | P52: =IF(O52="","",O52) | ... S52: =IF(R52="","",R52) | T52: =SUM(H52:S52) -> 0 | V52: =IF(U52="","",U52) | W52: =IF(V52="","",V52) | X52: =IF(W52="","",W52) | Y52: =IF(X52="","",X52) | Z52: =IF(Y52="","",Y52) | AA52: =IF(Z52="","",Z52) | AB52: =IF(AA52="","",AA52) | AC52: =IF(AB52="","",AB52) | ... AF52: =IF(AE52="","",AE52) | AG52: =SUM(U52:AF52) -> 0 | AN52: 2 | AO52: 1 | AP52: 11 | AQ52: =IF($AP52=1,IF(INDIRECT(ADDRESS(($AN52-1)*3+$AO52+5,$AP52+7))="",0,INDIRECT(ADDRESS(($AN52-1)*3+$AO52+5,$AP52+7))),IF(INDIRECT(ADDRESS(($AN52-1)*3+$AO52+5,$AP52+7))="",0,IF(COUNTIF(INDIRECT(ADDRESS(($AN52-1)*36+($AO52-1)*12+6,COLUMN())):INDIRECT(ADDRESS(($AN52-1)*36+($AO52-1)*12+$AP52+4,COLUMN())),INDIRECT(ADDRESS(($AN52-1)*3+$AO52+5,$AP52+7)))>=1,0,INDIRECT(ADDRESS(($AN52-1)*3+$AO52+5,$AP52+7))))) -> 0 | AR52: =COUNTIF(INDIRECT("H"&(ROW()+12*(($AN52-1)*3+$AO52)-ROW())/12+5):INDIRECT("S"&(ROW()+12*(($AN52-1)*3+$AO52)-ROW())/12+5),AQ52) -> 0 | AS52: =IF($AP52=1,IF(INDIRECT(ADDRESS(($AN52-1)*3+$AO52+5,$AP52+20))="",0,INDIRECT(ADDRESS(($AN52-1)*3+$AO52+5,$AP52+20))),IF(INDIRECT(ADDRESS(($AN52-1)*3+$AO52+5,$AP52+20))="",0,IF(COUNTIF(INDIRECT(ADDRESS(($AN52-1)*36+($AO52-1)*12+6,COLUMN())):INDIRECT(ADDRESS(($AN52-1)*36+($AO52-1)*12+$AP52+4,COLUMN())),INDIRECT(ADDRESS(($AN52-1)*3+$AO52+5,$AP52+20)))>=1,0,INDIRECT(ADDRESS(($AN52-1)*3+$AO52+5,$AP52+20))))) -> 0 | AT52: =COUNTIF(INDIRECT("U"&(ROW()+12*(($AN52-1)*3+$AO52)-ROW())/12+5):INDIRECT("AF"&(ROW()+12*(($AN52-1)*3+$AO52)-ROW())/12+5),AS52) -> 0 | AU52: =IF(AND(AQ52+AS52>0,AR52+AT52>0),COUNTIF(AU$6:AU51,">0")+1,0) -> 0 | BE52: 2 | BF52: ＞＠40000 | BG52: =IF(BG51+BT51>$AJ$27,1,0) -> 0 | BH52: =IF(BH51+BU51>$AJ$27,1,0) -> 0 | BI52: =IF(BI51+BV51>$AJ$27,1,0) -> 0 | BJ52: =IF(BJ51+BW51>$AJ$27,1,0) -> 0 | BK52: =IF(BK51+BX51>$AJ$27,1,0) -> 0 | BL52: =IF(BL51+BY51>$AJ$27,1,0) -> 0 | BM52: =IF(BM51+BZ51>$AJ$27,1,0) -> 0 | BN52: =IF(BN51+CA51>$AJ$27,1,0) -> 0 | ... BR52: =IF(BR51+CE51>$AJ$27,1,0) -> 0
G53: R8法定福利費残 | T53: =SUM(H53:S53) -> 0 | AG53: =SUM(U53:AF53) -> 0 | AN53: 2 | AO53: 1 | AP53: 12 | AQ53: =IF($AP53=1,IF(INDIRECT(ADDRESS(($AN53-1)*3+$AO53+5,$AP53+7))="",0,INDIRECT(ADDRESS(($AN53-1)*3+$AO53+5,$AP53+7))),IF(INDIRECT(ADDRESS(($AN53-1)*3+$AO53+5,$AP53+7))="",0,IF(COUNTIF(INDIRECT(ADDRESS(($AN53-1)*36+($AO53-1)*12+6,COLUMN())):INDIRECT(ADDRESS(($AN53-1)*36+($AO53-1)*12+$AP53+4,COLUMN())),INDIRECT(ADDRESS(($AN53-1)*3+$AO53+5,$AP53+7)))>=1,0,INDIRECT(ADDRESS(($AN53-1)*3+$AO53+5,$AP53+7))))) -> 0 | AR53: =COUNTIF(INDIRECT("H"&(ROW()+12*(($AN53-1)*3+$AO53)-ROW())/12+5):INDIRECT("S"&(ROW()+12*(($AN53-1)*3+$AO53)-ROW())/12+5),AQ53) -> 0 | AS53: =IF($AP53=1,IF(INDIRECT(ADDRESS(($AN53-1)*3+$AO53+5,$AP53+20))="",0,INDIRECT(ADDRESS(($AN53-1)*3+$AO53+5,$AP53+20))),IF(INDIRECT(ADDRESS(($AN53-1)*3+$AO53+5,$AP53+20))="",0,IF(COUNTIF(INDIRECT(ADDRESS(($AN53-1)*36+($AO53-1)*12+6,COLUMN())):INDIRECT(ADDRESS(($AN53-1)*36+($AO53-1)*12+$AP53+4,COLUMN())),INDIRECT(ADDRESS(($AN53-1)*3+$AO53+5,$AP53+20)))>=1,0,INDIRECT(ADDRESS(($AN53-1)*3+$AO53+5,$AP53+20))))) -> 0 | AT53: =COUNTIF(INDIRECT("U"&(ROW()+12*(($AN53-1)*3+$AO53)-ROW())/12+5):INDIRECT("AF"&(ROW()+12*(($AN53-1)*3+$AO53)-ROW())/12+5),AS53) -> 0 | AU53: =IF(AND(AQ53+AS53>0,AR53+AT53>0),COUNTIF(AU$6:AU52,">0")+1,0) -> 0 | BE53: 3
A54: 17 | G54: 基本給 | I54: =IF(H54="","",H54) | J54: =IF(I54="","",I54) | K54: =IF(J54="","",J54) | L54: =IF(K54="","",K54) | M54: =IF(L54="","",L54) | N54: =IF(M54="","",M54) | O54: =IF(N54="","",N54) | P54: =IF(O54="","",O54) | ... S54: =IF(R54="","",R54) | T54: =SUM(H54:S54) -> 0 | V54: =IF(U54="","",U54) | W54: =IF(V54="","",V54) | X54: =IF(W54="","",W54) | Y54: =IF(X54="","",X54) | Z54: =IF(Y54="","",Y54) | AA54: =IF(Z54="","",Z54) | AB54: =IF(AA54="","",AA54) | AC54: =IF(AB54="","",AB54) | ... AF54: =IF(AE54="","",AE54) | AG54: =SUM(U54:AF54) -> 0 | AN54: 2 | AO54: 2 | AP54: 1 | AQ54: =IF($AP54=1,IF(INDIRECT(ADDRESS(($AN54-1)*3+$AO54+5,$AP54+7))="",0,INDIRECT(ADDRESS(($AN54-1)*3+$AO54+5,$AP54+7))),IF(INDIRECT(ADDRESS(($AN54-1)*3+$AO54+5,$AP54+7))="",0,IF(COUNTIF(INDIRECT(ADDRESS(($AN54-1)*36+($AO54-1)*12+6,COLUMN())):INDIRECT(ADDRESS(($AN54-1)*36+($AO54-1)*12+$AP54+4,COLUMN())),INDIRECT(ADDRESS(($AN54-1)*3+$AO54+5,$AP54+7)))>=1,0,INDIRECT(ADDRESS(($AN54-1)*3+$AO54+5,$AP54+7))))) -> 0 | AR54: =COUNTIF(INDIRECT("H"&(ROW()+12*(($AN54-1)*3+$AO54)-ROW())/12+5):INDIRECT("S"&(ROW()+12*(($AN54-1)*3+$AO54)-ROW())/12+5),AQ54) -> 0 | AS54: =IF($AP54=1,IF(INDIRECT(ADDRESS(($AN54-1)*3+$AO54+5,$AP54+20))="",0,INDIRECT(ADDRESS(($AN54-1)*3+$AO54+5,$AP54+20))),IF(INDIRECT(ADDRESS(($AN54-1)*3+$AO54+5,$AP54+20))="",0,IF(COUNTIF(INDIRECT(ADDRESS(($AN54-1)*36+($AO54-1)*12+6,COLUMN())):INDIRECT(ADDRESS(($AN54-1)*36+($AO54-1)*12+$AP54+4,COLUMN())),INDIRECT(ADDRESS(($AN54-1)*3+$AO54+5,$AP54+20)))>=1,0,INDIRECT(ADDRESS(($AN54-1)*3+$AO54+5,$AP54+20))))) -> 0 | AT54: =COUNTIF(INDIRECT("U"&(ROW()+12*(($AN54-1)*3+$AO54)-ROW())/12+5):INDIRECT("AF"&(ROW()+12*(($AN54-1)*3+$AO54)-ROW())/12+5),AS54) -> 0 | AU54: =IF(AND(AQ54+AS54>0,AR54+AT54>0),COUNTIF(AU$6:AU53,">0")+1,0) -> 0 | BE54: 1 | BG54: =SUM(H54:H55) -> 0 | BH54: =SUM(I54:I55) -> 0 | BI54: =SUM(J54:J55) -> 0 | BJ54: =SUM(K54:K55) -> 0 | BK54: =SUM(L54:L55) -> 0 | BL54: =SUM(M54:M55) -> 0 | BM54: =SUM(N54:N55) -> 0 | BN54: =SUM(O54:O55) -> 0 | ... BR54: =SUM(S54:S55) -> 0 | BT54: =SUM(U54:U55) -> 0 | BU54: =SUM(V54:V55) -> 0 | BV54: =SUM(W54:W55) -> 0 | BW54: =SUM(X54:X55) -> 0 | BX54: =SUM(Y54:Y55) -> 0 | BY54: =SUM(Z54:Z55) -> 0 | BZ54: =SUM(AA54:AA55) -> 0 | CA54: =SUM(AB54:AB55) -> 0 | ... CE54: =SUM(AF54:AF55) -> 0 | CH54: min対象 | CI54: =IF(OR($D54="副園長",$D54="教頭",$D54="主任保育士",$D54="主幹教諭",$D54="主幹保育教諭"),0,BG54) -> 0 | CJ54: =IF(OR($D54="副園長",$D54="教頭",$D54="主任保育士",$D54="主幹教諭",$D54="主幹保育教諭"),0,BH54) -> 0 | CK54: =IF(OR($D54="副園長",$D54="教頭",$D54="主任保育士",$D54="主幹教諭",$D54="主幹保育教諭"),0,BI54) -> 0 | CL54: =IF(OR($D54="副園長",$D54="教頭",$D54="主任保育士",$D54="主幹教諭",$D54="主幹保育教諭"),0,BJ54) -> 0 | CM54: =IF(OR($D54="副園長",$D54="教頭",$D54="主任保育士",$D54="主幹教諭",$D54="主幹保育教諭"),0,BK54) -> 0 | CN54: =IF(OR($D54="副園長",$D54="教頭",$D54="主任保育士",$D54="主幹教諭",$D54="主幹保育教諭"),0,BL54) -> 0 | CO54: =IF(OR($D54="副園長",$D54="教頭",$D54="主任保育士",$D54="主幹教諭",$D54="主幹保育教諭"),0,BM54) -> 0 | CP54: =IF(OR($D54="副園長",$D54="教頭",$D54="主任保育士",$D54="主幹教諭",$D54="主幹保育教諭"),0,BN54) -> 0 | ... CT54: =IF(OR($D54="副園長",$D54="教頭",$D54="主任保育士",$D54="主幹教諭",$D54="主幹保育教諭"),0,BR54) -> 0
G55: 手当 | I55: =IF(H55="","",H55) | J55: =IF(I55="","",I55) | K55: =IF(J55="","",J55) | L55: =IF(K55="","",K55) | M55: =IF(L55="","",L55) | N55: =IF(M55="","",M55) | O55: =IF(N55="","",N55) | P55: =IF(O55="","",O55) | ... S55: =IF(R55="","",R55) | T55: =SUM(H55:S55) -> 0 | V55: =IF(U55="","",U55) | W55: =IF(V55="","",V55) | X55: =IF(W55="","",W55) | Y55: =IF(X55="","",X55) | Z55: =IF(Y55="","",Y55) | AA55: =IF(Z55="","",Z55) | AB55: =IF(AA55="","",AA55) | AC55: =IF(AB55="","",AB55) | ... AF55: =IF(AE55="","",AE55) | AG55: =SUM(U55:AF55) -> 0 | AN55: 2 | AO55: 2 | AP55: 2 | AQ55: =IF($AP55=1,IF(INDIRECT(ADDRESS(($AN55-1)*3+$AO55+5,$AP55+7))="",0,INDIRECT(ADDRESS(($AN55-1)*3+$AO55+5,$AP55+7))),IF(INDIRECT(ADDRESS(($AN55-1)*3+$AO55+5,$AP55+7))="",0,IF(COUNTIF(INDIRECT(ADDRESS(($AN55-1)*36+($AO55-1)*12+6,COLUMN())):INDIRECT(ADDRESS(($AN55-1)*36+($AO55-1)*12+$AP55+4,COLUMN())),INDIRECT(ADDRESS(($AN55-1)*3+$AO55+5,$AP55+7)))>=1,0,INDIRECT(ADDRESS(($AN55-1)*3+$AO55+5,$AP55+7))))) -> 0 | AR55: =COUNTIF(INDIRECT("H"&(ROW()+12*(($AN55-1)*3+$AO55)-ROW())/12+5):INDIRECT("S"&(ROW()+12*(($AN55-1)*3+$AO55)-ROW())/12+5),AQ55) -> 0 | AS55: =IF($AP55=1,IF(INDIRECT(ADDRESS(($AN55-1)*3+$AO55+5,$AP55+20))="",0,INDIRECT(ADDRESS(($AN55-1)*3+$AO55+5,$AP55+20))),IF(INDIRECT(ADDRESS(($AN55-1)*3+$AO55+5,$AP55+20))="",0,IF(COUNTIF(INDIRECT(ADDRESS(($AN55-1)*36+($AO55-1)*12+6,COLUMN())):INDIRECT(ADDRESS(($AN55-1)*36+($AO55-1)*12+$AP55+4,COLUMN())),INDIRECT(ADDRESS(($AN55-1)*3+$AO55+5,$AP55+20)))>=1,0,INDIRECT(ADDRESS(($AN55-1)*3+$AO55+5,$AP55+20))))) -> 0 | AT55: =COUNTIF(INDIRECT("U"&(ROW()+12*(($AN55-1)*3+$AO55)-ROW())/12+5):INDIRECT("AF"&(ROW()+12*(($AN55-1)*3+$AO55)-ROW())/12+5),AS55) -> 0 | AU55: =IF(AND(AQ55+AS55>0,AR55+AT55>0),COUNTIF(AU$6:AU54,">0")+1,0) -> 0 | BE55: 2 | BF55: ＞＠40000 | BG55: =IF(BG54+BT54>$AJ$27,1,0) -> 0 | BH55: =IF(BH54+BU54>$AJ$27,1,0) -> 0 | BI55: =IF(BI54+BV54>$AJ$27,1,0) -> 0 | BJ55: =IF(BJ54+BW54>$AJ$27,1,0) -> 0 | BK55: =IF(BK54+BX54>$AJ$27,1,0) -> 0 | BL55: =IF(BL54+BY54>$AJ$27,1,0) -> 0 | BM55: =IF(BM54+BZ54>$AJ$27,1,0) -> 0 | BN55: =IF(BN54+CA54>$AJ$27,1,0) -> 0 | ... BR55: =IF(BR54+CE54>$AJ$27,1,0) -> 0
G56: R8法定福利費残 | T56: =SUM(H56:S56) -> 0 | AG56: =SUM(U56:AF56) -> 0 | AN56: 2 | AO56: 2 | AP56: 3 | AQ56: =IF($AP56=1,IF(INDIRECT(ADDRESS(($AN56-1)*3+$AO56+5,$AP56+7))="",0,INDIRECT(ADDRESS(($AN56-1)*3+$AO56+5,$AP56+7))),IF(INDIRECT(ADDRESS(($AN56-1)*3+$AO56+5,$AP56+7))="",0,IF(COUNTIF(INDIRECT(ADDRESS(($AN56-1)*36+($AO56-1)*12+6,COLUMN())):INDIRECT(ADDRESS(($AN56-1)*36+($AO56-1)*12+$AP56+4,COLUMN())),INDIRECT(ADDRESS(($AN56-1)*3+$AO56+5,$AP56+7)))>=1,0,INDIRECT(ADDRESS(($AN56-1)*3+$AO56+5,$AP56+7))))) -> 0 | AR56: =COUNTIF(INDIRECT("H"&(ROW()+12*(($AN56-1)*3+$AO56)-ROW())/12+5):INDIRECT("S"&(ROW()+12*(($AN56-1)*3+$AO56)-ROW())/12+5),AQ56) -> 0 | AS56: =IF($AP56=1,IF(INDIRECT(ADDRESS(($AN56-1)*3+$AO56+5,$AP56+20))="",0,INDIRECT(ADDRESS(($AN56-1)*3+$AO56+5,$AP56+20))),IF(INDIRECT(ADDRESS(($AN56-1)*3+$AO56+5,$AP56+20))="",0,IF(COUNTIF(INDIRECT(ADDRESS(($AN56-1)*36+($AO56-1)*12+6,COLUMN())):INDIRECT(ADDRESS(($AN56-1)*36+($AO56-1)*12+$AP56+4,COLUMN())),INDIRECT(ADDRESS(($AN56-1)*3+$AO56+5,$AP56+20)))>=1,0,INDIRECT(ADDRESS(($AN56-1)*3+$AO56+5,$AP56+20))))) -> 0 | AT56: =COUNTIF(INDIRECT("U"&(ROW()+12*(($AN56-1)*3+$AO56)-ROW())/12+5):INDIRECT("AF"&(ROW()+12*(($AN56-1)*3+$AO56)-ROW())/12+5),AS56) -> 0 | AU56: =IF(AND(AQ56+AS56>0,AR56+AT56>0),COUNTIF(AU$6:AU55,">0")+1,0) -> 0 | BE56: 3
A57: 18 | G57: 基本給 | I57: =IF(H57="","",H57) | J57: =IF(I57="","",I57) | K57: =IF(J57="","",J57) | L57: =IF(K57="","",K57) | M57: =IF(L57="","",L57) | N57: =IF(M57="","",M57) | O57: =IF(N57="","",N57) | P57: =IF(O57="","",O57) | ... S57: =IF(R57="","",R57) | T57: =SUM(H57:S57) -> 0 | V57: =IF(U57="","",U57) | W57: =IF(V57="","",V57) | X57: =IF(W57="","",W57) | Y57: =IF(X57="","",X57) | Z57: =IF(Y57="","",Y57) | AA57: =IF(Z57="","",Z57) | AB57: =IF(AA57="","",AA57) | AC57: =IF(AB57="","",AB57) | ... AF57: =IF(AE57="","",AE57) | AG57: =SUM(U57:AF57) -> 0 | AN57: 2 | AO57: 2 | AP57: 4 | AQ57: =IF($AP57=1,IF(INDIRECT(ADDRESS(($AN57-1)*3+$AO57+5,$AP57+7))="",0,INDIRECT(ADDRESS(($AN57-1)*3+$AO57+5,$AP57+7))),IF(INDIRECT(ADDRESS(($AN57-1)*3+$AO57+5,$AP57+7))="",0,IF(COUNTIF(INDIRECT(ADDRESS(($AN57-1)*36+($AO57-1)*12+6,COLUMN())):INDIRECT(ADDRESS(($AN57-1)*36+($AO57-1)*12+$AP57+4,COLUMN())),INDIRECT(ADDRESS(($AN57-1)*3+$AO57+5,$AP57+7)))>=1,0,INDIRECT(ADDRESS(($AN57-1)*3+$AO57+5,$AP57+7))))) -> 0 | AR57: =COUNTIF(INDIRECT("H"&(ROW()+12*(($AN57-1)*3+$AO57)-ROW())/12+5):INDIRECT("S"&(ROW()+12*(($AN57-1)*3+$AO57)-ROW())/12+5),AQ57) -> 0 | AS57: =IF($AP57=1,IF(INDIRECT(ADDRESS(($AN57-1)*3+$AO57+5,$AP57+20))="",0,INDIRECT(ADDRESS(($AN57-1)*3+$AO57+5,$AP57+20))),IF(INDIRECT(ADDRESS(($AN57-1)*3+$AO57+5,$AP57+20))="",0,IF(COUNTIF(INDIRECT(ADDRESS(($AN57-1)*36+($AO57-1)*12+6,COLUMN())):INDIRECT(ADDRESS(($AN57-1)*36+($AO57-1)*12+$AP57+4,COLUMN())),INDIRECT(ADDRESS(($AN57-1)*3+$AO57+5,$AP57+20)))>=1,0,INDIRECT(ADDRESS(($AN57-1)*3+$AO57+5,$AP57+20))))) -> 0 | AT57: =COUNTIF(INDIRECT("U"&(ROW()+12*(($AN57-1)*3+$AO57)-ROW())/12+5):INDIRECT("AF"&(ROW()+12*(($AN57-1)*3+$AO57)-ROW())/12+5),AS57) -> 0 | AU57: =IF(AND(AQ57+AS57>0,AR57+AT57>0),COUNTIF(AU$6:AU56,">0")+1,0) -> 0 | BE57: 1 | BG57: =SUM(H57:H58) -> 0 | BH57: =SUM(I57:I58) -> 0 | BI57: =SUM(J57:J58) -> 0 | BJ57: =SUM(K57:K58) -> 0 | BK57: =SUM(L57:L58) -> 0 | BL57: =SUM(M57:M58) -> 0 | BM57: =SUM(N57:N58) -> 0 | BN57: =SUM(O57:O58) -> 0 | ... BR57: =SUM(S57:S58) -> 0 | BT57: =SUM(U57:U58) -> 0 | BU57: =SUM(V57:V58) -> 0 | BV57: =SUM(W57:W58) -> 0 | BW57: =SUM(X57:X58) -> 0 | BX57: =SUM(Y57:Y58) -> 0 | BY57: =SUM(Z57:Z58) -> 0 | BZ57: =SUM(AA57:AA58) -> 0 | CA57: =SUM(AB57:AB58) -> 0 | ... CE57: =SUM(AF57:AF58) -> 0 | CH57: min対象 | CI57: =IF(OR($D57="副園長",$D57="教頭",$D57="主任保育士",$D57="主幹教諭",$D57="主幹保育教諭"),0,BG57) -> 0 | CJ57: =IF(OR($D57="副園長",$D57="教頭",$D57="主任保育士",$D57="主幹教諭",$D57="主幹保育教諭"),0,BH57) -> 0 | CK57: =IF(OR($D57="副園長",$D57="教頭",$D57="主任保育士",$D57="主幹教諭",$D57="主幹保育教諭"),0,BI57) -> 0 | CL57: =IF(OR($D57="副園長",$D57="教頭",$D57="主任保育士",$D57="主幹教諭",$D57="主幹保育教諭"),0,BJ57) -> 0 | CM57: =IF(OR($D57="副園長",$D57="教頭",$D57="主任保育士",$D57="主幹教諭",$D57="主幹保育教諭"),0,BK57) -> 0 | CN57: =IF(OR($D57="副園長",$D57="教頭",$D57="主任保育士",$D57="主幹教諭",$D57="主幹保育教諭"),0,BL57) -> 0 | CO57: =IF(OR($D57="副園長",$D57="教頭",$D57="主任保育士",$D57="主幹教諭",$D57="主幹保育教諭"),0,BM57) -> 0 | CP57: =IF(OR($D57="副園長",$D57="教頭",$D57="主任保育士",$D57="主幹教諭",$D57="主幹保育教諭"),0,BN57) -> 0 | ... CT57: =IF(OR($D57="副園長",$D57="教頭",$D57="主任保育士",$D57="主幹教諭",$D57="主幹保育教諭"),0,BR57) -> 0
G58: 手当 | I58: =IF(H58="","",H58) | J58: =IF(I58="","",I58) | K58: =IF(J58="","",J58) | L58: =IF(K58="","",K58) | M58: =IF(L58="","",L58) | N58: =IF(M58="","",M58) | O58: =IF(N58="","",N58) | P58: =IF(O58="","",O58) | ... S58: =IF(R58="","",R58) | T58: =SUM(H58:S58) -> 0 | V58: =IF(U58="","",U58) | W58: =IF(V58="","",V58) | X58: =IF(W58="","",W58) | Y58: =IF(X58="","",X58) | Z58: =IF(Y58="","",Y58) | AA58: =IF(Z58="","",Z58) | AB58: =IF(AA58="","",AA58) | AC58: =IF(AB58="","",AB58) | ... AF58: =IF(AE58="","",AE58) | AG58: =SUM(U58:AF58) -> 0 | AN58: 2 | AO58: 2 | AP58: 5 | AQ58: =IF($AP58=1,IF(INDIRECT(ADDRESS(($AN58-1)*3+$AO58+5,$AP58+7))="",0,INDIRECT(ADDRESS(($AN58-1)*3+$AO58+5,$AP58+7))),IF(INDIRECT(ADDRESS(($AN58-1)*3+$AO58+5,$AP58+7))="",0,IF(COUNTIF(INDIRECT(ADDRESS(($AN58-1)*36+($AO58-1)*12+6,COLUMN())):INDIRECT(ADDRESS(($AN58-1)*36+($AO58-1)*12+$AP58+4,COLUMN())),INDIRECT(ADDRESS(($AN58-1)*3+$AO58+5,$AP58+7)))>=1,0,INDIRECT(ADDRESS(($AN58-1)*3+$AO58+5,$AP58+7))))) -> 0 | AR58: =COUNTIF(INDIRECT("H"&(ROW()+12*(($AN58-1)*3+$AO58)-ROW())/12+5):INDIRECT("S"&(ROW()+12*(($AN58-1)*3+$AO58)-ROW())/12+5),AQ58) -> 0 | AS58: =IF($AP58=1,IF(INDIRECT(ADDRESS(($AN58-1)*3+$AO58+5,$AP58+20))="",0,INDIRECT(ADDRESS(($AN58-1)*3+$AO58+5,$AP58+20))),IF(INDIRECT(ADDRESS(($AN58-1)*3+$AO58+5,$AP58+20))="",0,IF(COUNTIF(INDIRECT(ADDRESS(($AN58-1)*36+($AO58-1)*12+6,COLUMN())):INDIRECT(ADDRESS(($AN58-1)*36+($AO58-1)*12+$AP58+4,COLUMN())),INDIRECT(ADDRESS(($AN58-1)*3+$AO58+5,$AP58+20)))>=1,0,INDIRECT(ADDRESS(($AN58-1)*3+$AO58+5,$AP58+20))))) -> 0 | AT58: =COUNTIF(INDIRECT("U"&(ROW()+12*(($AN58-1)*3+$AO58)-ROW())/12+5):INDIRECT("AF"&(ROW()+12*(($AN58-1)*3+$AO58)-ROW())/12+5),AS58) -> 0 | AU58: =IF(AND(AQ58+AS58>0,AR58+AT58>0),COUNTIF(AU$6:AU57,">0")+1,0) -> 0 | BE58: 2 | BF58: ＞＠40000 | BG58: =IF(BG57+BT57>$AJ$27,1,0) -> 0 | BH58: =IF(BH57+BU57>$AJ$27,1,0) -> 0 | BI58: =IF(BI57+BV57>$AJ$27,1,0) -> 0 | BJ58: =IF(BJ57+BW57>$AJ$27,1,0) -> 0 | BK58: =IF(BK57+BX57>$AJ$27,1,0) -> 0 | BL58: =IF(BL57+BY57>$AJ$27,1,0) -> 0 | BM58: =IF(BM57+BZ57>$AJ$27,1,0) -> 0 | BN58: =IF(BN57+CA57>$AJ$27,1,0) -> 0 | ... BR58: =IF(BR57+CE57>$AJ$27,1,0) -> 0
G59: R8法定福利費残 | T59: =SUM(H59:S59) -> 0 | AG59: =SUM(U59:AF59) -> 0 | AN59: 2 | AO59: 2 | AP59: 6 | AQ59: =IF($AP59=1,IF(INDIRECT(ADDRESS(($AN59-1)*3+$AO59+5,$AP59+7))="",0,INDIRECT(ADDRESS(($AN59-1)*3+$AO59+5,$AP59+7))),IF(INDIRECT(ADDRESS(($AN59-1)*3+$AO59+5,$AP59+7))="",0,IF(COUNTIF(INDIRECT(ADDRESS(($AN59-1)*36+($AO59-1)*12+6,COLUMN())):INDIRECT(ADDRESS(($AN59-1)*36+($AO59-1)*12+$AP59+4,COLUMN())),INDIRECT(ADDRESS(($AN59-1)*3+$AO59+5,$AP59+7)))>=1,0,INDIRECT(ADDRESS(($AN59-1)*3+$AO59+5,$AP59+7))))) -> 0 | AR59: =COUNTIF(INDIRECT("H"&(ROW()+12*(($AN59-1)*3+$AO59)-ROW())/12+5):INDIRECT("S"&(ROW()+12*(($AN59-1)*3+$AO59)-ROW())/12+5),AQ59) -> 0 | AS59: =IF($AP59=1,IF(INDIRECT(ADDRESS(($AN59-1)*3+$AO59+5,$AP59+20))="",0,INDIRECT(ADDRESS(($AN59-1)*3+$AO59+5,$AP59+20))),IF(INDIRECT(ADDRESS(($AN59-1)*3+$AO59+5,$AP59+20))="",0,IF(COUNTIF(INDIRECT(ADDRESS(($AN59-1)*36+($AO59-1)*12+6,COLUMN())):INDIRECT(ADDRESS(($AN59-1)*36+($AO59-1)*12+$AP59+4,COLUMN())),INDIRECT(ADDRESS(($AN59-1)*3+$AO59+5,$AP59+20)))>=1,0,INDIRECT(ADDRESS(($AN59-1)*3+$AO59+5,$AP59+20))))) -> 0 | AT59: =COUNTIF(INDIRECT("U"&(ROW()+12*(($AN59-1)*3+$AO59)-ROW())/12+5):INDIRECT("AF"&(ROW()+12*(($AN59-1)*3+$AO59)-ROW())/12+5),AS59) -> 0 | AU59: =IF(AND(AQ59+AS59>0,AR59+AT59>0),COUNTIF(AU$6:AU58,">0")+1,0) -> 0 | BE59: 3
A60: 19 | G60: 基本給 | I60: =IF(H60="","",H60) | J60: =IF(I60="","",I60) | K60: =IF(J60="","",J60) | L60: =IF(K60="","",K60) | M60: =IF(L60="","",L60) | N60: =IF(M60="","",M60) | O60: =IF(N60="","",N60) | P60: =IF(O60="","",O60) | ... S60: =IF(R60="","",R60) | T60: =SUM(H60:S60) -> 0 | V60: =IF(U60="","",U60) | W60: =IF(V60="","",V60) | X60: =IF(W60="","",W60) | Y60: =IF(X60="","",X60) | Z60: =IF(Y60="","",Y60) | AA60: =IF(Z60="","",Z60) | AB60: =IF(AA60="","",AA60) | AC60: =IF(AB60="","",AB60) | ... AF60: =IF(AE60="","",AE60) | AG60: =SUM(U60:AF60) -> 0 | AN60: 2 | AO60: 2 | AP60: 7 | AQ60: =IF($AP60=1,IF(INDIRECT(ADDRESS(($AN60-1)*3+$AO60+5,$AP60+7))="",0,INDIRECT(ADDRESS(($AN60-1)*3+$AO60+5,$AP60+7))),IF(INDIRECT(ADDRESS(($AN60-1)*3+$AO60+5,$AP60+7))="",0,IF(COUNTIF(INDIRECT(ADDRESS(($AN60-1)*36+($AO60-1)*12+6,COLUMN())):INDIRECT(ADDRESS(($AN60-1)*36+($AO60-1)*12+$AP60+4,COLUMN())),INDIRECT(ADDRESS(($AN60-1)*3+$AO60+5,$AP60+7)))>=1,0,INDIRECT(ADDRESS(($AN60-1)*3+$AO60+5,$AP60+7))))) -> 0 | AR60: =COUNTIF(INDIRECT("H"&(ROW()+12*(($AN60-1)*3+$AO60)-ROW())/12+5):INDIRECT("S"&(ROW()+12*(($AN60-1)*3+$AO60)-ROW())/12+5),AQ60) -> 0 | AS60: =IF($AP60=1,IF(INDIRECT(ADDRESS(($AN60-1)*3+$AO60+5,$AP60+20))="",0,INDIRECT(ADDRESS(($AN60-1)*3+$AO60+5,$AP60+20))),IF(INDIRECT(ADDRESS(($AN60-1)*3+$AO60+5,$AP60+20))="",0,IF(COUNTIF(INDIRECT(ADDRESS(($AN60-1)*36+($AO60-1)*12+6,COLUMN())):INDIRECT(ADDRESS(($AN60-1)*36+($AO60-1)*12+$AP60+4,COLUMN())),INDIRECT(ADDRESS(($AN60-1)*3+$AO60+5,$AP60+20)))>=1,0,INDIRECT(ADDRESS(($AN60-1)*3+$AO60+5,$AP60+20))))) -> 0 | AT60: =COUNTIF(INDIRECT("U"&(ROW()+12*(($AN60-1)*3+$AO60)-ROW())/12+5):INDIRECT("AF"&(ROW()+12*(($AN60-1)*3+$AO60)-ROW())/12+5),AS60) -> 0 | AU60: =IF(AND(AQ60+AS60>0,AR60+AT60>0),COUNTIF(AU$6:AU59,">0")+1,0) -> 0 | BE60: 1 | BG60: =SUM(H60:H61) -> 0 | BH60: =SUM(I60:I61) -> 0 | BI60: =SUM(J60:J61) -> 0 | BJ60: =SUM(K60:K61) -> 0 | BK60: =SUM(L60:L61) -> 0 | BL60: =SUM(M60:M61) -> 0 | BM60: =SUM(N60:N61) -> 0 | BN60: =SUM(O60:O61) -> 0 | ... BR60: =SUM(S60:S61) -> 0 | BT60: =SUM(U60:U61) -> 0 | BU60: =SUM(V60:V61) -> 0 | BV60: =SUM(W60:W61) -> 0 | BW60: =SUM(X60:X61) -> 0 | BX60: =SUM(Y60:Y61) -> 0 | BY60: =SUM(Z60:Z61) -> 0 | BZ60: =SUM(AA60:AA61) -> 0 | CA60: =SUM(AB60:AB61) -> 0 | ... CE60: =SUM(AF60:AF61) -> 0 | CH60: min対象 | CI60: =IF(OR($D60="副園長",$D60="教頭",$D60="主任保育士",$D60="主幹教諭",$D60="主幹保育教諭"),0,BG60) -> 0 | CJ60: =IF(OR($D60="副園長",$D60="教頭",$D60="主任保育士",$D60="主幹教諭",$D60="主幹保育教諭"),0,BH60) -> 0 | CK60: =IF(OR($D60="副園長",$D60="教頭",$D60="主任保育士",$D60="主幹教諭",$D60="主幹保育教諭"),0,BI60) -> 0 | CL60: =IF(OR($D60="副園長",$D60="教頭",$D60="主任保育士",$D60="主幹教諭",$D60="主幹保育教諭"),0,BJ60) -> 0 | CM60: =IF(OR($D60="副園長",$D60="教頭",$D60="主任保育士",$D60="主幹教諭",$D60="主幹保育教諭"),0,BK60) -> 0 | CN60: =IF(OR($D60="副園長",$D60="教頭",$D60="主任保育士",$D60="主幹教諭",$D60="主幹保育教諭"),0,BL60) -> 0 | CO60: =IF(OR($D60="副園長",$D60="教頭",$D60="主任保育士",$D60="主幹教諭",$D60="主幹保育教諭"),0,BM60) -> 0 | CP60: =IF(OR($D60="副園長",$D60="教頭",$D60="主任保育士",$D60="主幹教諭",$D60="主幹保育教諭"),0,BN60) -> 0 | ... CT60: =IF(OR($D60="副園長",$D60="教頭",$D60="主任保育士",$D60="主幹教諭",$D60="主幹保育教諭"),0,BR60) -> 0
G61: 手当 | I61: =IF(H61="","",H61) | J61: =IF(I61="","",I61) | K61: =IF(J61="","",J61) | L61: =IF(K61="","",K61) | M61: =IF(L61="","",L61) | N61: =IF(M61="","",M61) | O61: =IF(N61="","",N61) | P61: =IF(O61="","",O61) | ... S61: =IF(R61="","",R61) | T61: =SUM(H61:S61) -> 0 | V61: =IF(U61="","",U61) | W61: =IF(V61="","",V61) | X61: =IF(W61="","",W61) | Y61: =IF(X61="","",X61) | Z61: =IF(Y61="","",Y61) | AA61: =IF(Z61="","",Z61) | AB61: =IF(AA61="","",AA61) | AC61: =IF(AB61="","",AB61) | ... AF61: =IF(AE61="","",AE61) | AG61: =SUM(U61:AF61) -> 0 | AN61: 2 | AO61: 2 | AP61: 8 | AQ61: =IF($AP61=1,IF(INDIRECT(ADDRESS(($AN61-1)*3+$AO61+5,$AP61+7))="",0,INDIRECT(ADDRESS(($AN61-1)*3+$AO61+5,$AP61+7))),IF(INDIRECT(ADDRESS(($AN61-1)*3+$AO61+5,$AP61+7))="",0,IF(COUNTIF(INDIRECT(ADDRESS(($AN61-1)*36+($AO61-1)*12+6,COLUMN())):INDIRECT(ADDRESS(($AN61-1)*36+($AO61-1)*12+$AP61+4,COLUMN())),INDIRECT(ADDRESS(($AN61-1)*3+$AO61+5,$AP61+7)))>=1,0,INDIRECT(ADDRESS(($AN61-1)*3+$AO61+5,$AP61+7))))) -> 0 | AR61: =COUNTIF(INDIRECT("H"&(ROW()+12*(($AN61-1)*3+$AO61)-ROW())/12+5):INDIRECT("S"&(ROW()+12*(($AN61-1)*3+$AO61)-ROW())/12+5),AQ61) -> 0 | AS61: =IF($AP61=1,IF(INDIRECT(ADDRESS(($AN61-1)*3+$AO61+5,$AP61+20))="",0,INDIRECT(ADDRESS(($AN61-1)*3+$AO61+5,$AP61+20))),IF(INDIRECT(ADDRESS(($AN61-1)*3+$AO61+5,$AP61+20))="",0,IF(COUNTIF(INDIRECT(ADDRESS(($AN61-1)*36+($AO61-1)*12+6,COLUMN())):INDIRECT(ADDRESS(($AN61-1)*36+($AO61-1)*12+$AP61+4,COLUMN())),INDIRECT(ADDRESS(($AN61-1)*3+$AO61+5,$AP61+20)))>=1,0,INDIRECT(ADDRESS(($AN61-1)*3+$AO61+5,$AP61+20))))) -> 0 | AT61: =COUNTIF(INDIRECT("U"&(ROW()+12*(($AN61-1)*3+$AO61)-ROW())/12+5):INDIRECT("AF"&(ROW()+12*(($AN61-1)*3+$AO61)-ROW())/12+5),AS61) -> 0 | AU61: =IF(AND(AQ61+AS61>0,AR61+AT61>0),COUNTIF(AU$6:AU60,">0")+1,0) -> 0 | BE61: 2 | BF61: ＞＠40000 | BG61: =IF(BG60+BT60>$AJ$27,1,0) -> 0 | BH61: =IF(BH60+BU60>$AJ$27,1,0) -> 0 | BI61: =IF(BI60+BV60>$AJ$27,1,0) -> 0 | BJ61: =IF(BJ60+BW60>$AJ$27,1,0) -> 0 | BK61: =IF(BK60+BX60>$AJ$27,1,0) -> 0 | BL61: =IF(BL60+BY60>$AJ$27,1,0) -> 0 | BM61: =IF(BM60+BZ60>$AJ$27,1,0) -> 0 | BN61: =IF(BN60+CA60>$AJ$27,1,0) -> 0 | ... BR61: =IF(BR60+CE60>$AJ$27,1,0) -> 0
G62: R8法定福利費残 | T62: =SUM(H62:S62) -> 0 | AG62: =SUM(U62:AF62) -> 0 | AN62: 2 | AO62: 2 | AP62: 9 | AQ62: =IF($AP62=1,IF(INDIRECT(ADDRESS(($AN62-1)*3+$AO62+5,$AP62+7))="",0,INDIRECT(ADDRESS(($AN62-1)*3+$AO62+5,$AP62+7))),IF(INDIRECT(ADDRESS(($AN62-1)*3+$AO62+5,$AP62+7))="",0,IF(COUNTIF(INDIRECT(ADDRESS(($AN62-1)*36+($AO62-1)*12+6,COLUMN())):INDIRECT(ADDRESS(($AN62-1)*36+($AO62-1)*12+$AP62+4,COLUMN())),INDIRECT(ADDRESS(($AN62-1)*3+$AO62+5,$AP62+7)))>=1,0,INDIRECT(ADDRESS(($AN62-1)*3+$AO62+5,$AP62+7))))) -> 0 | AR62: =COUNTIF(INDIRECT("H"&(ROW()+12*(($AN62-1)*3+$AO62)-ROW())/12+5):INDIRECT("S"&(ROW()+12*(($AN62-1)*3+$AO62)-ROW())/12+5),AQ62) -> 0 | AS62: =IF($AP62=1,IF(INDIRECT(ADDRESS(($AN62-1)*3+$AO62+5,$AP62+20))="",0,INDIRECT(ADDRESS(($AN62-1)*3+$AO62+5,$AP62+20))),IF(INDIRECT(ADDRESS(($AN62-1)*3+$AO62+5,$AP62+20))="",0,IF(COUNTIF(INDIRECT(ADDRESS(($AN62-1)*36+($AO62-1)*12+6,COLUMN())):INDIRECT(ADDRESS(($AN62-1)*36+($AO62-1)*12+$AP62+4,COLUMN())),INDIRECT(ADDRESS(($AN62-1)*3+$AO62+5,$AP62+20)))>=1,0,INDIRECT(ADDRESS(($AN62-1)*3+$AO62+5,$AP62+20))))) -> 0 | AT62: =COUNTIF(INDIRECT("U"&(ROW()+12*(($AN62-1)*3+$AO62)-ROW())/12+5):INDIRECT("AF"&(ROW()+12*(($AN62-1)*3+$AO62)-ROW())/12+5),AS62) -> 0 | AU62: =IF(AND(AQ62+AS62>0,AR62+AT62>0),COUNTIF(AU$6:AU61,">0")+1,0) -> 0 | BE62: 3
A63: 20 | G63: 基本給 | I63: =IF(H63="","",H63) | J63: =IF(I63="","",I63) | K63: =IF(J63="","",J63) | L63: =IF(K63="","",K63) | M63: =IF(L63="","",L63) | N63: =IF(M63="","",M63) | O63: =IF(N63="","",N63) | P63: =IF(O63="","",O63) | ... S63: =IF(R63="","",R63) | T63: =SUM(H63:S63) -> 0 | V63: =IF(U63="","",U63) | W63: =IF(V63="","",V63) | X63: =IF(W63="","",W63) | Y63: =IF(X63="","",X63) | Z63: =IF(Y63="","",Y63) | AA63: =IF(Z63="","",Z63) | AB63: =IF(AA63="","",AA63) | AC63: =IF(AB63="","",AB63) | ... AF63: =IF(AE63="","",AE63) | AG63: =SUM(U63:AF63) -> 0 | AN63: 2 | AO63: 2 | AP63: 10 | AQ63: =IF($AP63=1,IF(INDIRECT(ADDRESS(($AN63-1)*3+$AO63+5,$AP63+7))="",0,INDIRECT(ADDRESS(($AN63-1)*3+$AO63+5,$AP63+7))),IF(INDIRECT(ADDRESS(($AN63-1)*3+$AO63+5,$AP63+7))="",0,IF(COUNTIF(INDIRECT(ADDRESS(($AN63-1)*36+($AO63-1)*12+6,COLUMN())):INDIRECT(ADDRESS(($AN63-1)*36+($AO63-1)*12+$AP63+4,COLUMN())),INDIRECT(ADDRESS(($AN63-1)*3+$AO63+5,$AP63+7)))>=1,0,INDIRECT(ADDRESS(($AN63-1)*3+$AO63+5,$AP63+7))))) -> 0 | AR63: =COUNTIF(INDIRECT("H"&(ROW()+12*(($AN63-1)*3+$AO63)-ROW())/12+5):INDIRECT("S"&(ROW()+12*(($AN63-1)*3+$AO63)-ROW())/12+5),AQ63) -> 0 | AS63: =IF($AP63=1,IF(INDIRECT(ADDRESS(($AN63-1)*3+$AO63+5,$AP63+20))="",0,INDIRECT(ADDRESS(($AN63-1)*3+$AO63+5,$AP63+20))),IF(INDIRECT(ADDRESS(($AN63-1)*3+$AO63+5,$AP63+20))="",0,IF(COUNTIF(INDIRECT(ADDRESS(($AN63-1)*36+($AO63-1)*12+6,COLUMN())):INDIRECT(ADDRESS(($AN63-1)*36+($AO63-1)*12+$AP63+4,COLUMN())),INDIRECT(ADDRESS(($AN63-1)*3+$AO63+5,$AP63+20)))>=1,0,INDIRECT(ADDRESS(($AN63-1)*3+$AO63+5,$AP63+20))))) -> 0 | AT63: =COUNTIF(INDIRECT("U"&(ROW()+12*(($AN63-1)*3+$AO63)-ROW())/12+5):INDIRECT("AF"&(ROW()+12*(($AN63-1)*3+$AO63)-ROW())/12+5),AS63) -> 0 | AU63: =IF(AND(AQ63+AS63>0,AR63+AT63>0),COUNTIF(AU$6:AU62,">0")+1,0) -> 0 | BE63: 1 | BG63: =SUM(H63:H64) -> 0 | BH63: =SUM(I63:I64) -> 0 | BI63: =SUM(J63:J64) -> 0 | BJ63: =SUM(K63:K64) -> 0 | BK63: =SUM(L63:L64) -> 0 | BL63: =SUM(M63:M64) -> 0 | BM63: =SUM(N63:N64) -> 0 | BN63: =SUM(O63:O64) -> 0 | ... BR63: =SUM(S63:S64) -> 0 | BT63: =SUM(U63:U64) -> 0 | BU63: =SUM(V63:V64) -> 0 | BV63: =SUM(W63:W64) -> 0 | BW63: =SUM(X63:X64) -> 0 | BX63: =SUM(Y63:Y64) -> 0 | BY63: =SUM(Z63:Z64) -> 0 | BZ63: =SUM(AA63:AA64) -> 0 | CA63: =SUM(AB63:AB64) -> 0 | ... CE63: =SUM(AF63:AF64) -> 0 | CH63: min対象 | CI63: =IF(OR($D63="副園長",$D63="教頭",$D63="主任保育士",$D63="主幹教諭",$D63="主幹保育教諭"),0,BG63) -> 0 | CJ63: =IF(OR($D63="副園長",$D63="教頭",$D63="主任保育士",$D63="主幹教諭",$D63="主幹保育教諭"),0,BH63) -> 0 | CK63: =IF(OR($D63="副園長",$D63="教頭",$D63="主任保育士",$D63="主幹教諭",$D63="主幹保育教諭"),0,BI63) -> 0 | CL63: =IF(OR($D63="副園長",$D63="教頭",$D63="主任保育士",$D63="主幹教諭",$D63="主幹保育教諭"),0,BJ63) -> 0 | CM63: =IF(OR($D63="副園長",$D63="教頭",$D63="主任保育士",$D63="主幹教諭",$D63="主幹保育教諭"),0,BK63) -> 0 | CN63: =IF(OR($D63="副園長",$D63="教頭",$D63="主任保育士",$D63="主幹教諭",$D63="主幹保育教諭"),0,BL63) -> 0 | CO63: =IF(OR($D63="副園長",$D63="教頭",$D63="主任保育士",$D63="主幹教諭",$D63="主幹保育教諭"),0,BM63) -> 0 | CP63: =IF(OR($D63="副園長",$D63="教頭",$D63="主任保育士",$D63="主幹教諭",$D63="主幹保育教諭"),0,BN63) -> 0 | ... CT63: =IF(OR($D63="副園長",$D63="教頭",$D63="主任保育士",$D63="主幹教諭",$D63="主幹保育教諭"),0,BR63) -> 0
G64: 手当 | I64: =IF(H64="","",H64) | J64: =IF(I64="","",I64) | K64: =IF(J64="","",J64) | L64: =IF(K64="","",K64) | M64: =IF(L64="","",L64) | N64: =IF(M64="","",M64) | O64: =IF(N64="","",N64) | P64: =IF(O64="","",O64) | ... S64: =IF(R64="","",R64) | T64: =SUM(H64:S64) -> 0 | V64: =IF(U64="","",U64) | W64: =IF(V64="","",V64) | X64: =IF(W64="","",W64) | Y64: =IF(X64="","",X64) | Z64: =IF(Y64="","",Y64) | AA64: =IF(Z64="","",Z64) | AB64: =IF(AA64="","",AA64) | AC64: =IF(AB64="","",AB64) | ... AF64: =IF(AE64="","",AE64) | AG64: =SUM(U64:AF64) -> 0 | AN64: 2 | AO64: 2 | AP64: 11 | AQ64: =IF($AP64=1,IF(INDIRECT(ADDRESS(($AN64-1)*3+$AO64+5,$AP64+7))="",0,INDIRECT(ADDRESS(($AN64-1)*3+$AO64+5,$AP64+7))),IF(INDIRECT(ADDRESS(($AN64-1)*3+$AO64+5,$AP64+7))="",0,IF(COUNTIF(INDIRECT(ADDRESS(($AN64-1)*36+($AO64-1)*12+6,COLUMN())):INDIRECT(ADDRESS(($AN64-1)*36+($AO64-1)*12+$AP64+4,COLUMN())),INDIRECT(ADDRESS(($AN64-1)*3+$AO64+5,$AP64+7)))>=1,0,INDIRECT(ADDRESS(($AN64-1)*3+$AO64+5,$AP64+7))))) -> 0 | AR64: =COUNTIF(INDIRECT("H"&(ROW()+12*(($AN64-1)*3+$AO64)-ROW())/12+5):INDIRECT("S"&(ROW()+12*(($AN64-1)*3+$AO64)-ROW())/12+5),AQ64) -> 0 | AS64: =IF($AP64=1,IF(INDIRECT(ADDRESS(($AN64-1)*3+$AO64+5,$AP64+20))="",0,INDIRECT(ADDRESS(($AN64-1)*3+$AO64+5,$AP64+20))),IF(INDIRECT(ADDRESS(($AN64-1)*3+$AO64+5,$AP64+20))="",0,IF(COUNTIF(INDIRECT(ADDRESS(($AN64-1)*36+($AO64-1)*12+6,COLUMN())):INDIRECT(ADDRESS(($AN64-1)*36+($AO64-1)*12+$AP64+4,COLUMN())),INDIRECT(ADDRESS(($AN64-1)*3+$AO64+5,$AP64+20)))>=1,0,INDIRECT(ADDRESS(($AN64-1)*3+$AO64+5,$AP64+20))))) -> 0 | AT64: =COUNTIF(INDIRECT("U"&(ROW()+12*(($AN64-1)*3+$AO64)-ROW())/12+5):INDIRECT("AF"&(ROW()+12*(($AN64-1)*3+$AO64)-ROW())/12+5),AS64) -> 0 | AU64: =IF(AND(AQ64+AS64>0,AR64+AT64>0),COUNTIF(AU$6:AU63,">0")+1,0) -> 0 | BE64: 2 | BF64: ＞＠40000 | BG64: =IF(BG63+BT63>$AJ$27,1,0) -> 0 | BH64: =IF(BH63+BU63>$AJ$27,1,0) -> 0 | BI64: =IF(BI63+BV63>$AJ$27,1,0) -> 0 | BJ64: =IF(BJ63+BW63>$AJ$27,1,0) -> 0 | BK64: =IF(BK63+BX63>$AJ$27,1,0) -> 0 | BL64: =IF(BL63+BY63>$AJ$27,1,0) -> 0 | BM64: =IF(BM63+BZ63>$AJ$27,1,0) -> 0 | BN64: =IF(BN63+CA63>$AJ$27,1,0) -> 0 | ... BR64: =IF(BR63+CE63>$AJ$27,1,0) -> 0
G65: R8法定福利費残 | T65: =SUM(H65:S65) -> 0 | AG65: =SUM(U65:AF65) -> 0 | AN65: 2 | AO65: 2 | AP65: 12 | AQ65: =IF($AP65=1,IF(INDIRECT(ADDRESS(($AN65-1)*3+$AO65+5,$AP65+7))="",0,INDIRECT(ADDRESS(($AN65-1)*3+$AO65+5,$AP65+7))),IF(INDIRECT(ADDRESS(($AN65-1)*3+$AO65+5,$AP65+7))="",0,IF(COUNTIF(INDIRECT(ADDRESS(($AN65-1)*36+($AO65-1)*12+6,COLUMN())):INDIRECT(ADDRESS(($AN65-1)*36+($AO65-1)*12+$AP65+4,COLUMN())),INDIRECT(ADDRESS(($AN65-1)*3+$AO65+5,$AP65+7)))>=1,0,INDIRECT(ADDRESS(($AN65-1)*3+$AO65+5,$AP65+7))))) -> 0 | AR65: =COUNTIF(INDIRECT("H"&(ROW()+12*(($AN65-1)*3+$AO65)-ROW())/12+5):INDIRECT("S"&(ROW()+12*(($AN65-1)*3+$AO65)-ROW())/12+5),AQ65) -> 0 | AS65: =IF($AP65=1,IF(INDIRECT(ADDRESS(($AN65-1)*3+$AO65+5,$AP65+20))="",0,INDIRECT(ADDRESS(($AN65-1)*3+$AO65+5,$AP65+20))),IF(INDIRECT(ADDRESS(($AN65-1)*3+$AO65+5,$AP65+20))="",0,IF(COUNTIF(INDIRECT(ADDRESS(($AN65-1)*36+($AO65-1)*12+6,COLUMN())):INDIRECT(ADDRESS(($AN65-1)*36+($AO65-1)*12+$AP65+4,COLUMN())),INDIRECT(ADDRESS(($AN65-1)*3+$AO65+5,$AP65+20)))>=1,0,INDIRECT(ADDRESS(($AN65-1)*3+$AO65+5,$AP65+20))))) -> 0 | AT65: =COUNTIF(INDIRECT("U"&(ROW()+12*(($AN65-1)*3+$AO65)-ROW())/12+5):INDIRECT("AF"&(ROW()+12*(($AN65-1)*3+$AO65)-ROW())/12+5),AS65) -> 0 | AU65: =IF(AND(AQ65+AS65>0,AR65+AT65>0),COUNTIF(AU$6:AU64,">0")+1,0) -> 0 | BE65: 3
A66: 21 | G66: 基本給 | I66: =IF(H66="","",H66) | J66: =IF(I66="","",I66) | K66: =IF(J66="","",J66) | L66: =IF(K66="","",K66) | M66: =IF(L66="","",L66) | N66: =IF(M66="","",M66) | O66: =IF(N66="","",N66) | P66: =IF(O66="","",O66) | ... S66: =IF(R66="","",R66) | T66: =SUM(H66:S66) -> 0 | V66: =IF(U66="","",U66) | W66: =IF(V66="","",V66) | X66: =IF(W66="","",W66) | Y66: =IF(X66="","",X66) | Z66: =IF(Y66="","",Y66) | AA66: =IF(Z66="","",Z66) | AB66: =IF(AA66="","",AA66) | AC66: =IF(AB66="","",AB66) | ... AF66: =IF(AE66="","",AE66) | AG66: =SUM(U66:AF66) -> 0 | AN66: 2 | AO66: 3 | AP66: 1 | AQ66: =IF($AP66=1,IF(INDIRECT(ADDRESS(($AN66-1)*3+$AO66+5,$AP66+7))="",0,INDIRECT(ADDRESS(($AN66-1)*3+$AO66+5,$AP66+7))),IF(INDIRECT(ADDRESS(($AN66-1)*3+$AO66+5,$AP66+7))="",0,IF(COUNTIF(INDIRECT(ADDRESS(($AN66-1)*36+($AO66-1)*12+6,COLUMN())):INDIRECT(ADDRESS(($AN66-1)*36+($AO66-1)*12+$AP66+4,COLUMN())),INDIRECT(ADDRESS(($AN66-1)*3+$AO66+5,$AP66+7)))>=1,0,INDIRECT(ADDRESS(($AN66-1)*3+$AO66+5,$AP66+7))))) -> 0 | AR66: =COUNTIF(INDIRECT("H"&(ROW()+12*(($AN66-1)*3+$AO66)-ROW())/12+5):INDIRECT("S"&(ROW()+12*(($AN66-1)*3+$AO66)-ROW())/12+5),AQ66) -> 0 | AS66: =IF($AP66=1,IF(INDIRECT(ADDRESS(($AN66-1)*3+$AO66+5,$AP66+20))="",0,INDIRECT(ADDRESS(($AN66-1)*3+$AO66+5,$AP66+20))),IF(INDIRECT(ADDRESS(($AN66-1)*3+$AO66+5,$AP66+20))="",0,IF(COUNTIF(INDIRECT(ADDRESS(($AN66-1)*36+($AO66-1)*12+6,COLUMN())):INDIRECT(ADDRESS(($AN66-1)*36+($AO66-1)*12+$AP66+4,COLUMN())),INDIRECT(ADDRESS(($AN66-1)*3+$AO66+5,$AP66+20)))>=1,0,INDIRECT(ADDRESS(($AN66-1)*3+$AO66+5,$AP66+20))))) -> 0 | AT66: =COUNTIF(INDIRECT("U"&(ROW()+12*(($AN66-1)*3+$AO66)-ROW())/12+5):INDIRECT("AF"&(ROW()+12*(($AN66-1)*3+$AO66)-ROW())/12+5),AS66) -> 0 | AU66: =IF(AND(AQ66+AS66>0,AR66+AT66>0),COUNTIF(AU$6:AU65,">0")+1,0) -> 0 | BE66: 1 | BG66: =SUM(H66:H67) -> 0 | BH66: =SUM(I66:I67) -> 0 | BI66: =SUM(J66:J67) -> 0 | BJ66: =SUM(K66:K67) -> 0 | BK66: =SUM(L66:L67) -> 0 | BL66: =SUM(M66:M67) -> 0 | BM66: =SUM(N66:N67) -> 0 | BN66: =SUM(O66:O67) -> 0 | ... BR66: =SUM(S66:S67) -> 0 | BT66: =SUM(U66:U67) -> 0 | BU66: =SUM(V66:V67) -> 0 | BV66: =SUM(W66:W67) -> 0 | BW66: =SUM(X66:X67) -> 0 | BX66: =SUM(Y66:Y67) -> 0 | BY66: =SUM(Z66:Z67) -> 0 | BZ66: =SUM(AA66:AA67) -> 0 | CA66: =SUM(AB66:AB67) -> 0 | ... CE66: =SUM(AF66:AF67) -> 0 | CH66: min対象 | CI66: =IF(OR($D66="副園長",$D66="教頭",$D66="主任保育士",$D66="主幹教諭",$D66="主幹保育教諭"),0,BG66) -> 0 | CJ66: =IF(OR($D66="副園長",$D66="教頭",$D66="主任保育士",$D66="主幹教諭",$D66="主幹保育教諭"),0,BH66) -> 0 | CK66: =IF(OR($D66="副園長",$D66="教頭",$D66="主任保育士",$D66="主幹教諭",$D66="主幹保育教諭"),0,BI66) -> 0 | CL66: =IF(OR($D66="副園長",$D66="教頭",$D66="主任保育士",$D66="主幹教諭",$D66="主幹保育教諭"),0,BJ66) -> 0 | CM66: =IF(OR($D66="副園長",$D66="教頭",$D66="主任保育士",$D66="主幹教諭",$D66="主幹保育教諭"),0,BK66) -> 0 | CN66: =IF(OR($D66="副園長",$D66="教頭",$D66="主任保育士",$D66="主幹教諭",$D66="主幹保育教諭"),0,BL66) -> 0 | CO66: =IF(OR($D66="副園長",$D66="教頭",$D66="主任保育士",$D66="主幹教諭",$D66="主幹保育教諭"),0,BM66) -> 0 | CP66: =IF(OR($D66="副園長",$D66="教頭",$D66="主任保育士",$D66="主幹教諭",$D66="主幹保育教諭"),0,BN66) -> 0 | ... CT66: =IF(OR($D66="副園長",$D66="教頭",$D66="主任保育士",$D66="主幹教諭",$D66="主幹保育教諭"),0,BR66) -> 0
G67: 手当 | I67: =IF(H67="","",H67) | J67: =IF(I67="","",I67) | K67: =IF(J67="","",J67) | L67: =IF(K67="","",K67) | M67: =IF(L67="","",L67) | N67: =IF(M67="","",M67) | O67: =IF(N67="","",N67) | P67: =IF(O67="","",O67) | ... S67: =IF(R67="","",R67) | T67: =SUM(H67:S67) -> 0 | V67: =IF(U67="","",U67) | W67: =IF(V67="","",V67) | X67: =IF(W67="","",W67) | Y67: =IF(X67="","",X67) | Z67: =IF(Y67="","",Y67) | AA67: =IF(Z67="","",Z67) | AB67: =IF(AA67="","",AA67) | AC67: =IF(AB67="","",AB67) | ... AF67: =IF(AE67="","",AE67) | AG67: =SUM(U67:AF67) -> 0 | AN67: 2 | AO67: 3 | AP67: 2 | AQ67: =IF($AP67=1,IF(INDIRECT(ADDRESS(($AN67-1)*3+$AO67+5,$AP67+7))="",0,INDIRECT(ADDRESS(($AN67-1)*3+$AO67+5,$AP67+7))),IF(INDIRECT(ADDRESS(($AN67-1)*3+$AO67+5,$AP67+7))="",0,IF(COUNTIF(INDIRECT(ADDRESS(($AN67-1)*36+($AO67-1)*12+6,COLUMN())):INDIRECT(ADDRESS(($AN67-1)*36+($AO67-1)*12+$AP67+4,COLUMN())),INDIRECT(ADDRESS(($AN67-1)*3+$AO67+5,$AP67+7)))>=1,0,INDIRECT(ADDRESS(($AN67-1)*3+$AO67+5,$AP67+7))))) -> 0 | AR67: =COUNTIF(INDIRECT("H"&(ROW()+12*(($AN67-1)*3+$AO67)-ROW())/12+5):INDIRECT("S"&(ROW()+12*(($AN67-1)*3+$AO67)-ROW())/12+5),AQ67) -> 0 | AS67: =IF($AP67=1,IF(INDIRECT(ADDRESS(($AN67-1)*3+$AO67+5,$AP67+20))="",0,INDIRECT(ADDRESS(($AN67-1)*3+$AO67+5,$AP67+20))),IF(INDIRECT(ADDRESS(($AN67-1)*3+$AO67+5,$AP67+20))="",0,IF(COUNTIF(INDIRECT(ADDRESS(($AN67-1)*36+($AO67-1)*12+6,COLUMN())):INDIRECT(ADDRESS(($AN67-1)*36+($AO67-1)*12+$AP67+4,COLUMN())),INDIRECT(ADDRESS(($AN67-1)*3+$AO67+5,$AP67+20)))>=1,0,INDIRECT(ADDRESS(($AN67-1)*3+$AO67+5,$AP67+20))))) -> 0 | AT67: =COUNTIF(INDIRECT("U"&(ROW()+12*(($AN67-1)*3+$AO67)-ROW())/12+5):INDIRECT("AF"&(ROW()+12*(($AN67-1)*3+$AO67)-ROW())/12+5),AS67) -> 0 | AU67: =IF(AND(AQ67+AS67>0,AR67+AT67>0),COUNTIF(AU$6:AU66,">0")+1,0) -> 0 | BE67: 2 | BF67: ＞＠40000 | BG67: =IF(BG66+BT66>$AJ$27,1,0) -> 0 | BH67: =IF(BH66+BU66>$AJ$27,1,0) -> 0 | BI67: =IF(BI66+BV66>$AJ$27,1,0) -> 0 | BJ67: =IF(BJ66+BW66>$AJ$27,1,0) -> 0 | BK67: =IF(BK66+BX66>$AJ$27,1,0) -> 0 | BL67: =IF(BL66+BY66>$AJ$27,1,0) -> 0 | BM67: =IF(BM66+BZ66>$AJ$27,1,0) -> 0 | BN67: =IF(BN66+CA66>$AJ$27,1,0) -> 0 | ... BR67: =IF(BR66+CE66>$AJ$27,1,0) -> 0
G68: R8法定福利費残 | T68: =SUM(H68:S68) -> 0 | AG68: =SUM(U68:AF68) -> 0 | AN68: 2 | AO68: 3 | AP68: 3 | AQ68: =IF($AP68=1,IF(INDIRECT(ADDRESS(($AN68-1)*3+$AO68+5,$AP68+7))="",0,INDIRECT(ADDRESS(($AN68-1)*3+$AO68+5,$AP68+7))),IF(INDIRECT(ADDRESS(($AN68-1)*3+$AO68+5,$AP68+7))="",0,IF(COUNTIF(INDIRECT(ADDRESS(($AN68-1)*36+($AO68-1)*12+6,COLUMN())):INDIRECT(ADDRESS(($AN68-1)*36+($AO68-1)*12+$AP68+4,COLUMN())),INDIRECT(ADDRESS(($AN68-1)*3+$AO68+5,$AP68+7)))>=1,0,INDIRECT(ADDRESS(($AN68-1)*3+$AO68+5,$AP68+7))))) -> 0 | AR68: =COUNTIF(INDIRECT("H"&(ROW()+12*(($AN68-1)*3+$AO68)-ROW())/12+5):INDIRECT("S"&(ROW()+12*(($AN68-1)*3+$AO68)-ROW())/12+5),AQ68) -> 0 | AS68: =IF($AP68=1,IF(INDIRECT(ADDRESS(($AN68-1)*3+$AO68+5,$AP68+20))="",0,INDIRECT(ADDRESS(($AN68-1)*3+$AO68+5,$AP68+20))),IF(INDIRECT(ADDRESS(($AN68-1)*3+$AO68+5,$AP68+20))="",0,IF(COUNTIF(INDIRECT(ADDRESS(($AN68-1)*36+($AO68-1)*12+6,COLUMN())):INDIRECT(ADDRESS(($AN68-1)*36+($AO68-1)*12+$AP68+4,COLUMN())),INDIRECT(ADDRESS(($AN68-1)*3+$AO68+5,$AP68+20)))>=1,0,INDIRECT(ADDRESS(($AN68-1)*3+$AO68+5,$AP68+20))))) -> 0 | AT68: =COUNTIF(INDIRECT("U"&(ROW()+12*(($AN68-1)*3+$AO68)-ROW())/12+5):INDIRECT("AF"&(ROW()+12*(($AN68-1)*3+$AO68)-ROW())/12+5),AS68) -> 0 | AU68: =IF(AND(AQ68+AS68>0,AR68+AT68>0),COUNTIF(AU$6:AU67,">0")+1,0) -> 0 | BE68: 3
A69: 22 | G69: 基本給 | I69: =IF(H69="","",H69) | J69: =IF(I69="","",I69) | K69: =IF(J69="","",J69) | L69: =IF(K69="","",K69) | M69: =IF(L69="","",L69) | N69: =IF(M69="","",M69) | O69: =IF(N69="","",N69) | P69: =IF(O69="","",O69) | ... S69: =IF(R69="","",R69) | T69: =SUM(H69:S69) -> 0 | V69: =IF(U69="","",U69) | W69: =IF(V69="","",V69) | X69: =IF(W69="","",W69) | Y69: =IF(X69="","",X69) | Z69: =IF(Y69="","",Y69) | AA69: =IF(Z69="","",Z69) | AB69: =IF(AA69="","",AA69) | AC69: =IF(AB69="","",AB69) | ... AF69: =IF(AE69="","",AE69) | AG69: =SUM(U69:AF69) -> 0 | AN69: 2 | AO69: 3 | AP69: 4 | AQ69: =IF($AP69=1,IF(INDIRECT(ADDRESS(($AN69-1)*3+$AO69+5,$AP69+7))="",0,INDIRECT(ADDRESS(($AN69-1)*3+$AO69+5,$AP69+7))),IF(INDIRECT(ADDRESS(($AN69-1)*3+$AO69+5,$AP69+7))="",0,IF(COUNTIF(INDIRECT(ADDRESS(($AN69-1)*36+($AO69-1)*12+6,COLUMN())):INDIRECT(ADDRESS(($AN69-1)*36+($AO69-1)*12+$AP69+4,COLUMN())),INDIRECT(ADDRESS(($AN69-1)*3+$AO69+5,$AP69+7)))>=1,0,INDIRECT(ADDRESS(($AN69-1)*3+$AO69+5,$AP69+7))))) -> 0 | AR69: =COUNTIF(INDIRECT("H"&(ROW()+12*(($AN69-1)*3+$AO69)-ROW())/12+5):INDIRECT("S"&(ROW()+12*(($AN69-1)*3+$AO69)-ROW())/12+5),AQ69) -> 0 | AS69: =IF($AP69=1,IF(INDIRECT(ADDRESS(($AN69-1)*3+$AO69+5,$AP69+20))="",0,INDIRECT(ADDRESS(($AN69-1)*3+$AO69+5,$AP69+20))),IF(INDIRECT(ADDRESS(($AN69-1)*3+$AO69+5,$AP69+20))="",0,IF(COUNTIF(INDIRECT(ADDRESS(($AN69-1)*36+($AO69-1)*12+6,COLUMN())):INDIRECT(ADDRESS(($AN69-1)*36+($AO69-1)*12+$AP69+4,COLUMN())),INDIRECT(ADDRESS(($AN69-1)*3+$AO69+5,$AP69+20)))>=1,0,INDIRECT(ADDRESS(($AN69-1)*3+$AO69+5,$AP69+20))))) -> 0 | AT69: =COUNTIF(INDIRECT("U"&(ROW()+12*(($AN69-1)*3+$AO69)-ROW())/12+5):INDIRECT("AF"&(ROW()+12*(($AN69-1)*3+$AO69)-ROW())/12+5),AS69) -> 0 | AU69: =IF(AND(AQ69+AS69>0,AR69+AT69>0),COUNTIF(AU$6:AU68,">0")+1,0) -> 0 | BE69: 1 | BG69: =SUM(H69:H70) -> 0 | BH69: =SUM(I69:I70) -> 0 | BI69: =SUM(J69:J70) -> 0 | BJ69: =SUM(K69:K70) -> 0 | BK69: =SUM(L69:L70) -> 0 | BL69: =SUM(M69:M70) -> 0 | BM69: =SUM(N69:N70) -> 0 | BN69: =SUM(O69:O70) -> 0 | ... BR69: =SUM(S69:S70) -> 0 | BT69: =SUM(U69:U70) -> 0 | BU69: =SUM(V69:V70) -> 0 | BV69: =SUM(W69:W70) -> 0 | BW69: =SUM(X69:X70) -> 0 | BX69: =SUM(Y69:Y70) -> 0 | BY69: =SUM(Z69:Z70) -> 0 | BZ69: =SUM(AA69:AA70) -> 0 | CA69: =SUM(AB69:AB70) -> 0 | ... CE69: =SUM(AF69:AF70) -> 0 | CH69: min対象 | CI69: =IF(OR($D69="副園長",$D69="教頭",$D69="主任保育士",$D69="主幹教諭",$D69="主幹保育教諭"),0,BG69) -> 0 | CJ69: =IF(OR($D69="副園長",$D69="教頭",$D69="主任保育士",$D69="主幹教諭",$D69="主幹保育教諭"),0,BH69) -> 0 | CK69: =IF(OR($D69="副園長",$D69="教頭",$D69="主任保育士",$D69="主幹教諭",$D69="主幹保育教諭"),0,BI69) -> 0 | CL69: =IF(OR($D69="副園長",$D69="教頭",$D69="主任保育士",$D69="主幹教諭",$D69="主幹保育教諭"),0,BJ69) -> 0 | CM69: =IF(OR($D69="副園長",$D69="教頭",$D69="主任保育士",$D69="主幹教諭",$D69="主幹保育教諭"),0,BK69) -> 0 | CN69: =IF(OR($D69="副園長",$D69="教頭",$D69="主任保育士",$D69="主幹教諭",$D69="主幹保育教諭"),0,BL69) -> 0 | CO69: =IF(OR($D69="副園長",$D69="教頭",$D69="主任保育士",$D69="主幹教諭",$D69="主幹保育教諭"),0,BM69) -> 0 | CP69: =IF(OR($D69="副園長",$D69="教頭",$D69="主任保育士",$D69="主幹教諭",$D69="主幹保育教諭"),0,BN69) -> 0 | ... CT69: =IF(OR($D69="副園長",$D69="教頭",$D69="主任保育士",$D69="主幹教諭",$D69="主幹保育教諭"),0,BR69) -> 0
G70: 手当 | I70: =IF(H70="","",H70) | J70: =IF(I70="","",I70) | K70: =IF(J70="","",J70) | L70: =IF(K70="","",K70) | M70: =IF(L70="","",L70) | N70: =IF(M70="","",M70) | O70: =IF(N70="","",N70) | P70: =IF(O70="","",O70) | ... S70: =IF(R70="","",R70) | T70: =SUM(H70:S70) -> 0 | V70: =IF(U70="","",U70) | W70: =IF(V70="","",V70) | X70: =IF(W70="","",W70) | Y70: =IF(X70="","",X70) | Z70: =IF(Y70="","",Y70) | AA70: =IF(Z70="","",Z70) | AB70: =IF(AA70="","",AA70) | AC70: =IF(AB70="","",AB70) | ... AF70: =IF(AE70="","",AE70) | AG70: =SUM(U70:AF70) -> 0 | AN70: 2 | AO70: 3 | AP70: 5 | AQ70: =IF($AP70=1,IF(INDIRECT(ADDRESS(($AN70-1)*3+$AO70+5,$AP70+7))="",0,INDIRECT(ADDRESS(($AN70-1)*3+$AO70+5,$AP70+7))),IF(INDIRECT(ADDRESS(($AN70-1)*3+$AO70+5,$AP70+7))="",0,IF(COUNTIF(INDIRECT(ADDRESS(($AN70-1)*36+($AO70-1)*12+6,COLUMN())):INDIRECT(ADDRESS(($AN70-1)*36+($AO70-1)*12+$AP70+4,COLUMN())),INDIRECT(ADDRESS(($AN70-1)*3+$AO70+5,$AP70+7)))>=1,0,INDIRECT(ADDRESS(($AN70-1)*3+$AO70+5,$AP70+7))))) -> 0 | AR70: =COUNTIF(INDIRECT("H"&(ROW()+12*(($AN70-1)*3+$AO70)-ROW())/12+5):INDIRECT("S"&(ROW()+12*(($AN70-1)*3+$AO70)-ROW())/12+5),AQ70) -> 0 | AS70: =IF($AP70=1,IF(INDIRECT(ADDRESS(($AN70-1)*3+$AO70+5,$AP70+20))="",0,INDIRECT(ADDRESS(($AN70-1)*3+$AO70+5,$AP70+20))),IF(INDIRECT(ADDRESS(($AN70-1)*3+$AO70+5,$AP70+20))="",0,IF(COUNTIF(INDIRECT(ADDRESS(($AN70-1)*36+($AO70-1)*12+6,COLUMN())):INDIRECT(ADDRESS(($AN70-1)*36+($AO70-1)*12+$AP70+4,COLUMN())),INDIRECT(ADDRESS(($AN70-1)*3+$AO70+5,$AP70+20)))>=1,0,INDIRECT(ADDRESS(($AN70-1)*3+$AO70+5,$AP70+20))))) -> 0 | AT70: =COUNTIF(INDIRECT("U"&(ROW()+12*(($AN70-1)*3+$AO70)-ROW())/12+5):INDIRECT("AF"&(ROW()+12*(($AN70-1)*3+$AO70)-ROW())/12+5),AS70) -> 0 | AU70: =IF(AND(AQ70+AS70>0,AR70+AT70>0),COUNTIF(AU$6:AU69,">0")+1,0) -> 0 | BE70: 2 | BF70: ＞＠40000 | BG70: =IF(BG69+BT69>$AJ$27,1,0) -> 0 | BH70: =IF(BH69+BU69>$AJ$27,1,0) -> 0 | BI70: =IF(BI69+BV69>$AJ$27,1,0) -> 0 | BJ70: =IF(BJ69+BW69>$AJ$27,1,0) -> 0 | BK70: =IF(BK69+BX69>$AJ$27,1,0) -> 0 | BL70: =IF(BL69+BY69>$AJ$27,1,0) -> 0 | BM70: =IF(BM69+BZ69>$AJ$27,1,0) -> 0 | BN70: =IF(BN69+CA69>$AJ$27,1,0) -> 0 | ... BR70: =IF(BR69+CE69>$AJ$27,1,0) -> 0
G71: R8法定福利費残 | T71: =SUM(H71:S71) -> 0 | AG71: =SUM(U71:AF71) -> 0 | AN71: 2 | AO71: 3 | AP71: 6 | AQ71: =IF($AP71=1,IF(INDIRECT(ADDRESS(($AN71-1)*3+$AO71+5,$AP71+7))="",0,INDIRECT(ADDRESS(($AN71-1)*3+$AO71+5,$AP71+7))),IF(INDIRECT(ADDRESS(($AN71-1)*3+$AO71+5,$AP71+7))="",0,IF(COUNTIF(INDIRECT(ADDRESS(($AN71-1)*36+($AO71-1)*12+6,COLUMN())):INDIRECT(ADDRESS(($AN71-1)*36+($AO71-1)*12+$AP71+4,COLUMN())),INDIRECT(ADDRESS(($AN71-1)*3+$AO71+5,$AP71+7)))>=1,0,INDIRECT(ADDRESS(($AN71-1)*3+$AO71+5,$AP71+7))))) -> 0 | AR71: =COUNTIF(INDIRECT("H"&(ROW()+12*(($AN71-1)*3+$AO71)-ROW())/12+5):INDIRECT("S"&(ROW()+12*(($AN71-1)*3+$AO71)-ROW())/12+5),AQ71) -> 0 | AS71: =IF($AP71=1,IF(INDIRECT(ADDRESS(($AN71-1)*3+$AO71+5,$AP71+20))="",0,INDIRECT(ADDRESS(($AN71-1)*3+$AO71+5,$AP71+20))),IF(INDIRECT(ADDRESS(($AN71-1)*3+$AO71+5,$AP71+20))="",0,IF(COUNTIF(INDIRECT(ADDRESS(($AN71-1)*36+($AO71-1)*12+6,COLUMN())):INDIRECT(ADDRESS(($AN71-1)*36+($AO71-1)*12+$AP71+4,COLUMN())),INDIRECT(ADDRESS(($AN71-1)*3+$AO71+5,$AP71+20)))>=1,0,INDIRECT(ADDRESS(($AN71-1)*3+$AO71+5,$AP71+20))))) -> 0 | AT71: =COUNTIF(INDIRECT("U"&(ROW()+12*(($AN71-1)*3+$AO71)-ROW())/12+5):INDIRECT("AF"&(ROW()+12*(($AN71-1)*3+$AO71)-ROW())/12+5),AS71) -> 0 | AU71: =IF(AND(AQ71+AS71>0,AR71+AT71>0),COUNTIF(AU$6:AU70,">0")+1,0) -> 0 | BE71: 3
A72: 23 | G72: 基本給 | I72: =IF(H72="","",H72) | J72: =IF(I72="","",I72) | K72: =IF(J72="","",J72) | L72: =IF(K72="","",K72) | M72: =IF(L72="","",L72) | N72: =IF(M72="","",M72) | O72: =IF(N72="","",N72) | P72: =IF(O72="","",O72) | ... S72: =IF(R72="","",R72) | T72: =SUM(H72:S72) -> 0 | V72: =IF(U72="","",U72) | W72: =IF(V72="","",V72) | X72: =IF(W72="","",W72) | Y72: =IF(X72="","",X72) | Z72: =IF(Y72="","",Y72) | AA72: =IF(Z72="","",Z72) | AB72: =IF(AA72="","",AA72) | AC72: =IF(AB72="","",AB72) | ... AF72: =IF(AE72="","",AE72) | AG72: =SUM(U72:AF72) -> 0 | AN72: 2 | AO72: 3 | AP72: 7 | AQ72: =IF($AP72=1,IF(INDIRECT(ADDRESS(($AN72-1)*3+$AO72+5,$AP72+7))="",0,INDIRECT(ADDRESS(($AN72-1)*3+$AO72+5,$AP72+7))),IF(INDIRECT(ADDRESS(($AN72-1)*3+$AO72+5,$AP72+7))="",0,IF(COUNTIF(INDIRECT(ADDRESS(($AN72-1)*36+($AO72-1)*12+6,COLUMN())):INDIRECT(ADDRESS(($AN72-1)*36+($AO72-1)*12+$AP72+4,COLUMN())),INDIRECT(ADDRESS(($AN72-1)*3+$AO72+5,$AP72+7)))>=1,0,INDIRECT(ADDRESS(($AN72-1)*3+$AO72+5,$AP72+7))))) -> 0 | AR72: =COUNTIF(INDIRECT("H"&(ROW()+12*(($AN72-1)*3+$AO72)-ROW())/12+5):INDIRECT("S"&(ROW()+12*(($AN72-1)*3+$AO72)-ROW())/12+5),AQ72) -> 0 | AS72: =IF($AP72=1,IF(INDIRECT(ADDRESS(($AN72-1)*3+$AO72+5,$AP72+20))="",0,INDIRECT(ADDRESS(($AN72-1)*3+$AO72+5,$AP72+20))),IF(INDIRECT(ADDRESS(($AN72-1)*3+$AO72+5,$AP72+20))="",0,IF(COUNTIF(INDIRECT(ADDRESS(($AN72-1)*36+($AO72-1)*12+6,COLUMN())):INDIRECT(ADDRESS(($AN72-1)*36+($AO72-1)*12+$AP72+4,COLUMN())),INDIRECT(ADDRESS(($AN72-1)*3+$AO72+5,$AP72+20)))>=1,0,INDIRECT(ADDRESS(($AN72-1)*3+$AO72+5,$AP72+20))))) -> 0 | AT72: =COUNTIF(INDIRECT("U"&(ROW()+12*(($AN72-1)*3+$AO72)-ROW())/12+5):INDIRECT("AF"&(ROW()+12*(($AN72-1)*3+$AO72)-ROW())/12+5),AS72) -> 0 | AU72: =IF(AND(AQ72+AS72>0,AR72+AT72>0),COUNTIF(AU$6:AU71,">0")+1,0) -> 0 | BE72: 1 | BG72: =SUM(H72:H73) -> 0 | BH72: =SUM(I72:I73) -> 0 | BI72: =SUM(J72:J73) -> 0 | BJ72: =SUM(K72:K73) -> 0 | BK72: =SUM(L72:L73) -> 0 | BL72: =SUM(M72:M73) -> 0 | BM72: =SUM(N72:N73) -> 0 | BN72: =SUM(O72:O73) -> 0 | ... BR72: =SUM(S72:S73) -> 0 | BT72: =SUM(U72:U73) -> 0 | BU72: =SUM(V72:V73) -> 0 | BV72: =SUM(W72:W73) -> 0 | BW72: =SUM(X72:X73) -> 0 | BX72: =SUM(Y72:Y73) -> 0 | BY72: =SUM(Z72:Z73) -> 0 | BZ72: =SUM(AA72:AA73) -> 0 | CA72: =SUM(AB72:AB73) -> 0 | ... CE72: =SUM(AF72:AF73) -> 0 | CH72: min対象 | CI72: =IF(OR($D72="副園長",$D72="教頭",$D72="主任保育士",$D72="主幹教諭",$D72="主幹保育教諭"),0,BG72) -> 0 | CJ72: =IF(OR($D72="副園長",$D72="教頭",$D72="主任保育士",$D72="主幹教諭",$D72="主幹保育教諭"),0,BH72) -> 0 | CK72: =IF(OR($D72="副園長",$D72="教頭",$D72="主任保育士",$D72="主幹教諭",$D72="主幹保育教諭"),0,BI72) -> 0 | CL72: =IF(OR($D72="副園長",$D72="教頭",$D72="主任保育士",$D72="主幹教諭",$D72="主幹保育教諭"),0,BJ72) -> 0 | CM72: =IF(OR($D72="副園長",$D72="教頭",$D72="主任保育士",$D72="主幹教諭",$D72="主幹保育教諭"),0,BK72) -> 0 | CN72: =IF(OR($D72="副園長",$D72="教頭",$D72="主任保育士",$D72="主幹教諭",$D72="主幹保育教諭"),0,BL72) -> 0 | CO72: =IF(OR($D72="副園長",$D72="教頭",$D72="主任保育士",$D72="主幹教諭",$D72="主幹保育教諭"),0,BM72) -> 0 | CP72: =IF(OR($D72="副園長",$D72="教頭",$D72="主任保育士",$D72="主幹教諭",$D72="主幹保育教諭"),0,BN72) -> 0 | ... CT72: =IF(OR($D72="副園長",$D72="教頭",$D72="主任保育士",$D72="主幹教諭",$D72="主幹保育教諭"),0,BR72) -> 0
G73: 手当 | I73: =IF(H73="","",H73) | J73: =IF(I73="","",I73) | K73: =IF(J73="","",J73) | L73: =IF(K73="","",K73) | M73: =IF(L73="","",L73) | N73: =IF(M73="","",M73) | O73: =IF(N73="","",N73) | P73: =IF(O73="","",O73) | ... S73: =IF(R73="","",R73) | T73: =SUM(H73:S73) -> 0 | V73: =IF(U73="","",U73) | W73: =IF(V73="","",V73) | X73: =IF(W73="","",W73) | Y73: =IF(X73="","",X73) | Z73: =IF(Y73="","",Y73) | AA73: =IF(Z73="","",Z73) | AB73: =IF(AA73="","",AA73) | AC73: =IF(AB73="","",AB73) | ... AF73: =IF(AE73="","",AE73) | AG73: =SUM(U73:AF73) -> 0 | AN73: 2 | AO73: 3 | AP73: 8 | AQ73: =IF($AP73=1,IF(INDIRECT(ADDRESS(($AN73-1)*3+$AO73+5,$AP73+7))="",0,INDIRECT(ADDRESS(($AN73-1)*3+$AO73+5,$AP73+7))),IF(INDIRECT(ADDRESS(($AN73-1)*3+$AO73+5,$AP73+7))="",0,IF(COUNTIF(INDIRECT(ADDRESS(($AN73-1)*36+($AO73-1)*12+6,COLUMN())):INDIRECT(ADDRESS(($AN73-1)*36+($AO73-1)*12+$AP73+4,COLUMN())),INDIRECT(ADDRESS(($AN73-1)*3+$AO73+5,$AP73+7)))>=1,0,INDIRECT(ADDRESS(($AN73-1)*3+$AO73+5,$AP73+7))))) -> 0 | AR73: =COUNTIF(INDIRECT("H"&(ROW()+12*(($AN73-1)*3+$AO73)-ROW())/12+5):INDIRECT("S"&(ROW()+12*(($AN73-1)*3+$AO73)-ROW())/12+5),AQ73) -> 0 | AS73: =IF($AP73=1,IF(INDIRECT(ADDRESS(($AN73-1)*3+$AO73+5,$AP73+20))="",0,INDIRECT(ADDRESS(($AN73-1)*3+$AO73+5,$AP73+20))),IF(INDIRECT(ADDRESS(($AN73-1)*3+$AO73+5,$AP73+20))="",0,IF(COUNTIF(INDIRECT(ADDRESS(($AN73-1)*36+($AO73-1)*12+6,COLUMN())):INDIRECT(ADDRESS(($AN73-1)*36+($AO73-1)*12+$AP73+4,COLUMN())),INDIRECT(ADDRESS(($AN73-1)*3+$AO73+5,$AP73+20)))>=1,0,INDIRECT(ADDRESS(($AN73-1)*3+$AO73+5,$AP73+20))))) -> 0 | AT73: =COUNTIF(INDIRECT("U"&(ROW()+12*(($AN73-1)*3+$AO73)-ROW())/12+5):INDIRECT("AF"&(ROW()+12*(($AN73-1)*3+$AO73)-ROW())/12+5),AS73) -> 0 | AU73: =IF(AND(AQ73+AS73>0,AR73+AT73>0),COUNTIF(AU$6:AU72,">0")+1,0) -> 0 | BE73: 2 | BF73: ＞＠40000 | BG73: =IF(BG72+BT72>$AJ$27,1,0) -> 0 | BH73: =IF(BH72+BU72>$AJ$27,1,0) -> 0 | BI73: =IF(BI72+BV72>$AJ$27,1,0) -> 0 | BJ73: =IF(BJ72+BW72>$AJ$27,1,0) -> 0 | BK73: =IF(BK72+BX72>$AJ$27,1,0) -> 0 | BL73: =IF(BL72+BY72>$AJ$27,1,0) -> 0 | BM73: =IF(BM72+BZ72>$AJ$27,1,0) -> 0 | BN73: =IF(BN72+CA72>$AJ$27,1,0) -> 0 | ... BR73: =IF(BR72+CE72>$AJ$27,1,0) -> 0
G74: R8法定福利費残 | T74: =SUM(H74:S74) -> 0 | AG74: =SUM(U74:AF74) -> 0 | AN74: 2 | AO74: 3 | AP74: 9 | AQ74: =IF($AP74=1,IF(INDIRECT(ADDRESS(($AN74-1)*3+$AO74+5,$AP74+7))="",0,INDIRECT(ADDRESS(($AN74-1)*3+$AO74+5,$AP74+7))),IF(INDIRECT(ADDRESS(($AN74-1)*3+$AO74+5,$AP74+7))="",0,IF(COUNTIF(INDIRECT(ADDRESS(($AN74-1)*36+($AO74-1)*12+6,COLUMN())):INDIRECT(ADDRESS(($AN74-1)*36+($AO74-1)*12+$AP74+4,COLUMN())),INDIRECT(ADDRESS(($AN74-1)*3+$AO74+5,$AP74+7)))>=1,0,INDIRECT(ADDRESS(($AN74-1)*3+$AO74+5,$AP74+7))))) -> 0 | AR74: =COUNTIF(INDIRECT("H"&(ROW()+12*(($AN74-1)*3+$AO74)-ROW())/12+5):INDIRECT("S"&(ROW()+12*(($AN74-1)*3+$AO74)-ROW())/12+5),AQ74) -> 0 | AS74: =IF($AP74=1,IF(INDIRECT(ADDRESS(($AN74-1)*3+$AO74+5,$AP74+20))="",0,INDIRECT(ADDRESS(($AN74-1)*3+$AO74+5,$AP74+20))),IF(INDIRECT(ADDRESS(($AN74-1)*3+$AO74+5,$AP74+20))="",0,IF(COUNTIF(INDIRECT(ADDRESS(($AN74-1)*36+($AO74-1)*12+6,COLUMN())):INDIRECT(ADDRESS(($AN74-1)*36+($AO74-1)*12+$AP74+4,COLUMN())),INDIRECT(ADDRESS(($AN74-1)*3+$AO74+5,$AP74+20)))>=1,0,INDIRECT(ADDRESS(($AN74-1)*3+$AO74+5,$AP74+20))))) -> 0 | AT74: =COUNTIF(INDIRECT("U"&(ROW()+12*(($AN74-1)*3+$AO74)-ROW())/12+5):INDIRECT("AF"&(ROW()+12*(($AN74-1)*3+$AO74)-ROW())/12+5),AS74) -> 0 | AU74: =IF(AND(AQ74+AS74>0,AR74+AT74>0),COUNTIF(AU$6:AU73,">0")+1,0) -> 0 | BE74: 3
A75: 24 | G75: 基本給 | I75: =IF(H75="","",H75) | J75: =IF(I75="","",I75) | K75: =IF(J75="","",J75) | L75: =IF(K75="","",K75) | M75: =IF(L75="","",L75) | N75: =IF(M75="","",M75) | O75: =IF(N75="","",N75) | P75: =IF(O75="","",O75) | ... S75: =IF(R75="","",R75) | T75: =SUM(H75:S75) -> 0 | V75: =IF(U75="","",U75) | W75: =IF(V75="","",V75) | X75: =IF(W75="","",W75) | Y75: =IF(X75="","",X75) | Z75: =IF(Y75="","",Y75) | AA75: =IF(Z75="","",Z75) | AB75: =IF(AA75="","",AA75) | AC75: =IF(AB75="","",AB75) | ... AF75: =IF(AE75="","",AE75) | AG75: =SUM(U75:AF75) -> 0 | AN75: 2 | AO75: 3 | AP75: 10 | AQ75: =IF($AP75=1,IF(INDIRECT(ADDRESS(($AN75-1)*3+$AO75+5,$AP75+7))="",0,INDIRECT(ADDRESS(($AN75-1)*3+$AO75+5,$AP75+7))),IF(INDIRECT(ADDRESS(($AN75-1)*3+$AO75+5,$AP75+7))="",0,IF(COUNTIF(INDIRECT(ADDRESS(($AN75-1)*36+($AO75-1)*12+6,COLUMN())):INDIRECT(ADDRESS(($AN75-1)*36+($AO75-1)*12+$AP75+4,COLUMN())),INDIRECT(ADDRESS(($AN75-1)*3+$AO75+5,$AP75+7)))>=1,0,INDIRECT(ADDRESS(($AN75-1)*3+$AO75+5,$AP75+7))))) -> 0 | AR75: =COUNTIF(INDIRECT("H"&(ROW()+12*(($AN75-1)*3+$AO75)-ROW())/12+5):INDIRECT("S"&(ROW()+12*(($AN75-1)*3+$AO75)-ROW())/12+5),AQ75) -> 0 | AS75: =IF($AP75=1,IF(INDIRECT(ADDRESS(($AN75-1)*3+$AO75+5,$AP75+20))="",0,INDIRECT(ADDRESS(($AN75-1)*3+$AO75+5,$AP75+20))),IF(INDIRECT(ADDRESS(($AN75-1)*3+$AO75+5,$AP75+20))="",0,IF(COUNTIF(INDIRECT(ADDRESS(($AN75-1)*36+($AO75-1)*12+6,COLUMN())):INDIRECT(ADDRESS(($AN75-1)*36+($AO75-1)*12+$AP75+4,COLUMN())),INDIRECT(ADDRESS(($AN75-1)*3+$AO75+5,$AP75+20)))>=1,0,INDIRECT(ADDRESS(($AN75-1)*3+$AO75+5,$AP75+20))))) -> 0 | AT75: =COUNTIF(INDIRECT("U"&(ROW()+12*(($AN75-1)*3+$AO75)-ROW())/12+5):INDIRECT("AF"&(ROW()+12*(($AN75-1)*3+$AO75)-ROW())/12+5),AS75) -> 0 | AU75: =IF(AND(AQ75+AS75>0,AR75+AT75>0),COUNTIF(AU$6:AU74,">0")+1,0) -> 0 | BE75: 1 | BG75: =SUM(H75:H76) -> 0 | BH75: =SUM(I75:I76) -> 0 | BI75: =SUM(J75:J76) -> 0 | BJ75: =SUM(K75:K76) -> 0 | BK75: =SUM(L75:L76) -> 0 | BL75: =SUM(M75:M76) -> 0 | BM75: =SUM(N75:N76) -> 0 | BN75: =SUM(O75:O76) -> 0 | ... BR75: =SUM(S75:S76) -> 0 | BT75: =SUM(U75:U76) -> 0 | BU75: =SUM(V75:V76) -> 0 | BV75: =SUM(W75:W76) -> 0 | BW75: =SUM(X75:X76) -> 0 | BX75: =SUM(Y75:Y76) -> 0 | BY75: =SUM(Z75:Z76) -> 0 | BZ75: =SUM(AA75:AA76) -> 0 | CA75: =SUM(AB75:AB76) -> 0 | ... CE75: =SUM(AF75:AF76) -> 0 | CH75: min対象 | CI75: =IF(OR($D75="副園長",$D75="教頭",$D75="主任保育士",$D75="主幹教諭",$D75="主幹保育教諭"),0,BG75) -> 0 | CJ75: =IF(OR($D75="副園長",$D75="教頭",$D75="主任保育士",$D75="主幹教諭",$D75="主幹保育教諭"),0,BH75) -> 0 | CK75: =IF(OR($D75="副園長",$D75="教頭",$D75="主任保育士",$D75="主幹教諭",$D75="主幹保育教諭"),0,BI75) -> 0 | CL75: =IF(OR($D75="副園長",$D75="教頭",$D75="主任保育士",$D75="主幹教諭",$D75="主幹保育教諭"),0,BJ75) -> 0 | CM75: =IF(OR($D75="副園長",$D75="教頭",$D75="主任保育士",$D75="主幹教諭",$D75="主幹保育教諭"),0,BK75) -> 0 | CN75: =IF(OR($D75="副園長",$D75="教頭",$D75="主任保育士",$D75="主幹教諭",$D75="主幹保育教諭"),0,BL75) -> 0 | CO75: =IF(OR($D75="副園長",$D75="教頭",$D75="主任保育士",$D75="主幹教諭",$D75="主幹保育教諭"),0,BM75) -> 0 | CP75: =IF(OR($D75="副園長",$D75="教頭",$D75="主任保育士",$D75="主幹教諭",$D75="主幹保育教諭"),0,BN75) -> 0 | ... CT75: =IF(OR($D75="副園長",$D75="教頭",$D75="主任保育士",$D75="主幹教諭",$D75="主幹保育教諭"),0,BR75) -> 0
G76: 手当 | I76: =IF(H76="","",H76) | J76: =IF(I76="","",I76) | K76: =IF(J76="","",J76) | L76: =IF(K76="","",K76) | M76: =IF(L76="","",L76) | N76: =IF(M76="","",M76) | O76: =IF(N76="","",N76) | P76: =IF(O76="","",O76) | ... S76: =IF(R76="","",R76) | T76: =SUM(H76:S76) -> 0 | V76: =IF(U76="","",U76) | W76: =IF(V76="","",V76) | X76: =IF(W76="","",W76) | Y76: =IF(X76="","",X76) | Z76: =IF(Y76="","",Y76) | AA76: =IF(Z76="","",Z76) | AB76: =IF(AA76="","",AA76) | AC76: =IF(AB76="","",AB76) | ... AF76: =IF(AE76="","",AE76) | AG76: =SUM(U76:AF76) -> 0 | AN76: 2 | AO76: 3 | AP76: 11 | AQ76: =IF($AP76=1,IF(INDIRECT(ADDRESS(($AN76-1)*3+$AO76+5,$AP76+7))="",0,INDIRECT(ADDRESS(($AN76-1)*3+$AO76+5,$AP76+7))),IF(INDIRECT(ADDRESS(($AN76-1)*3+$AO76+5,$AP76+7))="",0,IF(COUNTIF(INDIRECT(ADDRESS(($AN76-1)*36+($AO76-1)*12+6,COLUMN())):INDIRECT(ADDRESS(($AN76-1)*36+($AO76-1)*12+$AP76+4,COLUMN())),INDIRECT(ADDRESS(($AN76-1)*3+$AO76+5,$AP76+7)))>=1,0,INDIRECT(ADDRESS(($AN76-1)*3+$AO76+5,$AP76+7))))) -> 0 | AR76: =COUNTIF(INDIRECT("H"&(ROW()+12*(($AN76-1)*3+$AO76)-ROW())/12+5):INDIRECT("S"&(ROW()+12*(($AN76-1)*3+$AO76)-ROW())/12+5),AQ76) -> 0 | AS76: =IF($AP76=1,IF(INDIRECT(ADDRESS(($AN76-1)*3+$AO76+5,$AP76+20))="",0,INDIRECT(ADDRESS(($AN76-1)*3+$AO76+5,$AP76+20))),IF(INDIRECT(ADDRESS(($AN76-1)*3+$AO76+5,$AP76+20))="",0,IF(COUNTIF(INDIRECT(ADDRESS(($AN76-1)*36+($AO76-1)*12+6,COLUMN())):INDIRECT(ADDRESS(($AN76-1)*36+($AO76-1)*12+$AP76+4,COLUMN())),INDIRECT(ADDRESS(($AN76-1)*3+$AO76+5,$AP76+20)))>=1,0,INDIRECT(ADDRESS(($AN76-1)*3+$AO76+5,$AP76+20))))) -> 0 | AT76: =COUNTIF(INDIRECT("U"&(ROW()+12*(($AN76-1)*3+$AO76)-ROW())/12+5):INDIRECT("AF"&(ROW()+12*(($AN76-1)*3+$AO76)-ROW())/12+5),AS76) -> 0 | AU76: =IF(AND(AQ76+AS76>0,AR76+AT76>0),COUNTIF(AU$6:AU75,">0")+1,0) -> 0 | BE76: 2 | BF76: ＞＠40000 | BG76: =IF(BG75+BT75>$AJ$27,1,0) -> 0 | BH76: =IF(BH75+BU75>$AJ$27,1,0) -> 0 | BI76: =IF(BI75+BV75>$AJ$27,1,0) -> 0 | BJ76: =IF(BJ75+BW75>$AJ$27,1,0) -> 0 | BK76: =IF(BK75+BX75>$AJ$27,1,0) -> 0 | BL76: =IF(BL75+BY75>$AJ$27,1,0) -> 0 | BM76: =IF(BM75+BZ75>$AJ$27,1,0) -> 0 | BN76: =IF(BN75+CA75>$AJ$27,1,0) -> 0 | ... BR76: =IF(BR75+CE75>$AJ$27,1,0) -> 0
G77: R8法定福利費残 | T77: =SUM(H77:S77) -> 0 | AG77: =SUM(U77:AF77) -> 0 | AN77: 2 | AO77: 3 | AP77: 12 | AQ77: =IF($AP77=1,IF(INDIRECT(ADDRESS(($AN77-1)*3+$AO77+5,$AP77+7))="",0,INDIRECT(ADDRESS(($AN77-1)*3+$AO77+5,$AP77+7))),IF(INDIRECT(ADDRESS(($AN77-1)*3+$AO77+5,$AP77+7))="",0,IF(COUNTIF(INDIRECT(ADDRESS(($AN77-1)*36+($AO77-1)*12+6,COLUMN())):INDIRECT(ADDRESS(($AN77-1)*36+($AO77-1)*12+$AP77+4,COLUMN())),INDIRECT(ADDRESS(($AN77-1)*3+$AO77+5,$AP77+7)))>=1,0,INDIRECT(ADDRESS(($AN77-1)*3+$AO77+5,$AP77+7))))) -> 0 | AR77: =COUNTIF(INDIRECT("H"&(ROW()+12*(($AN77-1)*3+$AO77)-ROW())/12+5):INDIRECT("S"&(ROW()+12*(($AN77-1)*3+$AO77)-ROW())/12+5),AQ77) -> 0 | AS77: =IF($AP77=1,IF(INDIRECT(ADDRESS(($AN77-1)*3+$AO77+5,$AP77+20))="",0,INDIRECT(ADDRESS(($AN77-1)*3+$AO77+5,$AP77+20))),IF(INDIRECT(ADDRESS(($AN77-1)*3+$AO77+5,$AP77+20))="",0,IF(COUNTIF(INDIRECT(ADDRESS(($AN77-1)*36+($AO77-1)*12+6,COLUMN())):INDIRECT(ADDRESS(($AN77-1)*36+($AO77-1)*12+$AP77+4,COLUMN())),INDIRECT(ADDRESS(($AN77-1)*3+$AO77+5,$AP77+20)))>=1,0,INDIRECT(ADDRESS(($AN77-1)*3+$AO77+5,$AP77+20))))) -> 0 | AT77: =COUNTIF(INDIRECT("U"&(ROW()+12*(($AN77-1)*3+$AO77)-ROW())/12+5):INDIRECT("AF"&(ROW()+12*(($AN77-1)*3+$AO77)-ROW())/12+5),AS77) -> 0 | AU77: =IF(AND(AQ77+AS77>0,AR77+AT77>0),COUNTIF(AU$6:AU76,">0")+1,0) -> 0 | BE77: 3
A78: 25 | G78: 基本給 | I78: =IF(H78="","",H78) | J78: =IF(I78="","",I78) | K78: =IF(J78="","",J78) | L78: =IF(K78="","",K78) | M78: =IF(L78="","",L78) | N78: =IF(M78="","",M78) | O78: =IF(N78="","",N78) | P78: =IF(O78="","",O78) | ... S78: =IF(R78="","",R78) | T78: =SUM(H78:S78) -> 0 | V78: =IF(U78="","",U78) | W78: =IF(V78="","",V78) | X78: =IF(W78="","",W78) | Y78: =IF(X78="","",X78) | Z78: =IF(Y78="","",Y78) | AA78: =IF(Z78="","",Z78) | AB78: =IF(AA78="","",AA78) | AC78: =IF(AB78="","",AB78) | ... AF78: =IF(AE78="","",AE78) | AG78: =SUM(U78:AF78) -> 0 | AN78: 3 | AO78: 1 | AP78: 1 | AQ78: =IF($AP78=1,IF(INDIRECT(ADDRESS(($AN78-1)*3+$AO78+5,$AP78+7))="",0,INDIRECT(ADDRESS(($AN78-1)*3+$AO78+5,$AP78+7))),IF(INDIRECT(ADDRESS(($AN78-1)*3+$AO78+5,$AP78+7))="",0,IF(COUNTIF(INDIRECT(ADDRESS(($AN78-1)*36+($AO78-1)*12+6,COLUMN())):INDIRECT(ADDRESS(($AN78-1)*36+($AO78-1)*12+$AP78+4,COLUMN())),INDIRECT(ADDRESS(($AN78-1)*3+$AO78+5,$AP78+7)))>=1,0,INDIRECT(ADDRESS(($AN78-1)*3+$AO78+5,$AP78+7))))) -> 0 | AR78: =COUNTIF(INDIRECT("H"&(ROW()+12*(($AN78-1)*3+$AO78)-ROW())/12+5):INDIRECT("S"&(ROW()+12*(($AN78-1)*3+$AO78)-ROW())/12+5),AQ78) -> 0 | AS78: =IF($AP78=1,IF(INDIRECT(ADDRESS(($AN78-1)*3+$AO78+5,$AP78+20))="",0,INDIRECT(ADDRESS(($AN78-1)*3+$AO78+5,$AP78+20))),IF(INDIRECT(ADDRESS(($AN78-1)*3+$AO78+5,$AP78+20))="",0,IF(COUNTIF(INDIRECT(ADDRESS(($AN78-1)*36+($AO78-1)*12+6,COLUMN())):INDIRECT(ADDRESS(($AN78-1)*36+($AO78-1)*12+$AP78+4,COLUMN())),INDIRECT(ADDRESS(($AN78-1)*3+$AO78+5,$AP78+20)))>=1,0,INDIRECT(ADDRESS(($AN78-1)*3+$AO78+5,$AP78+20))))) -> 0 | AT78: =COUNTIF(INDIRECT("U"&(ROW()+12*(($AN78-1)*3+$AO78)-ROW())/12+5):INDIRECT("AF"&(ROW()+12*(($AN78-1)*3+$AO78)-ROW())/12+5),AS78) -> 0 | AU78: =IF(AND(AQ78+AS78>0,AR78+AT78>0),COUNTIF(AU$6:AU77,">0")+1,0) -> 0 | BE78: 1 | BG78: =SUM(H78:H79) -> 0 | BH78: =SUM(I78:I79) -> 0 | BI78: =SUM(J78:J79) -> 0 | BJ78: =SUM(K78:K79) -> 0 | BK78: =SUM(L78:L79) -> 0 | BL78: =SUM(M78:M79) -> 0 | BM78: =SUM(N78:N79) -> 0 | BN78: =SUM(O78:O79) -> 0 | ... BR78: =SUM(S78:S79) -> 0 | BT78: =SUM(U78:U79) -> 0 | BU78: =SUM(V78:V79) -> 0 | BV78: =SUM(W78:W79) -> 0 | BW78: =SUM(X78:X79) -> 0 | BX78: =SUM(Y78:Y79) -> 0 | BY78: =SUM(Z78:Z79) -> 0 | BZ78: =SUM(AA78:AA79) -> 0 | CA78: =SUM(AB78:AB79) -> 0 | ... CE78: =SUM(AF78:AF79) -> 0 | CH78: min対象 | CI78: =IF(OR($D78="副園長",$D78="教頭",$D78="主任保育士",$D78="主幹教諭",$D78="主幹保育教諭"),0,BG78) -> 0 | CJ78: =IF(OR($D78="副園長",$D78="教頭",$D78="主任保育士",$D78="主幹教諭",$D78="主幹保育教諭"),0,BH78) -> 0 | CK78: =IF(OR($D78="副園長",$D78="教頭",$D78="主任保育士",$D78="主幹教諭",$D78="主幹保育教諭"),0,BI78) -> 0 | CL78: =IF(OR($D78="副園長",$D78="教頭",$D78="主任保育士",$D78="主幹教諭",$D78="主幹保育教諭"),0,BJ78) -> 0 | CM78: =IF(OR($D78="副園長",$D78="教頭",$D78="主任保育士",$D78="主幹教諭",$D78="主幹保育教諭"),0,BK78) -> 0 | CN78: =IF(OR($D78="副園長",$D78="教頭",$D78="主任保育士",$D78="主幹教諭",$D78="主幹保育教諭"),0,BL78) -> 0 | CO78: =IF(OR($D78="副園長",$D78="教頭",$D78="主任保育士",$D78="主幹教諭",$D78="主幹保育教諭"),0,BM78) -> 0 | CP78: =IF(OR($D78="副園長",$D78="教頭",$D78="主任保育士",$D78="主幹教諭",$D78="主幹保育教諭"),0,BN78) -> 0 | ... CT78: =IF(OR($D78="副園長",$D78="教頭",$D78="主任保育士",$D78="主幹教諭",$D78="主幹保育教諭"),0,BR78) -> 0
G79: 手当 | I79: =IF(H79="","",H79) | J79: =IF(I79="","",I79) | K79: =IF(J79="","",J79) | L79: =IF(K79="","",K79) | M79: =IF(L79="","",L79) | N79: =IF(M79="","",M79) | O79: =IF(N79="","",N79) | P79: =IF(O79="","",O79) | ... S79: =IF(R79="","",R79) | T79: =SUM(H79:S79) -> 0 | V79: =IF(U79="","",U79) | W79: =IF(V79="","",V79) | X79: =IF(W79="","",W79) | Y79: =IF(X79="","",X79) | Z79: =IF(Y79="","",Y79) | AA79: =IF(Z79="","",Z79) | AB79: =IF(AA79="","",AA79) | AC79: =IF(AB79="","",AB79) | ... AF79: =IF(AE79="","",AE79) | AG79: =SUM(U79:AF79) -> 0 | AN79: 3 | AO79: 1 | AP79: 2 | AQ79: =IF($AP79=1,IF(INDIRECT(ADDRESS(($AN79-1)*3+$AO79+5,$AP79+7))="",0,INDIRECT(ADDRESS(($AN79-1)*3+$AO79+5,$AP79+7))),IF(INDIRECT(ADDRESS(($AN79-1)*3+$AO79+5,$AP79+7))="",0,IF(COUNTIF(INDIRECT(ADDRESS(($AN79-1)*36+($AO79-1)*12+6,COLUMN())):INDIRECT(ADDRESS(($AN79-1)*36+($AO79-1)*12+$AP79+4,COLUMN())),INDIRECT(ADDRESS(($AN79-1)*3+$AO79+5,$AP79+7)))>=1,0,INDIRECT(ADDRESS(($AN79-1)*3+$AO79+5,$AP79+7))))) -> 0 | AR79: =COUNTIF(INDIRECT("H"&(ROW()+12*(($AN79-1)*3+$AO79)-ROW())/12+5):INDIRECT("S"&(ROW()+12*(($AN79-1)*3+$AO79)-ROW())/12+5),AQ79) -> 0 | AS79: =IF($AP79=1,IF(INDIRECT(ADDRESS(($AN79-1)*3+$AO79+5,$AP79+20))="",0,INDIRECT(ADDRESS(($AN79-1)*3+$AO79+5,$AP79+20))),IF(INDIRECT(ADDRESS(($AN79-1)*3+$AO79+5,$AP79+20))="",0,IF(COUNTIF(INDIRECT(ADDRESS(($AN79-1)*36+($AO79-1)*12+6,COLUMN())):INDIRECT(ADDRESS(($AN79-1)*36+($AO79-1)*12+$AP79+4,COLUMN())),INDIRECT(ADDRESS(($AN79-1)*3+$AO79+5,$AP79+20)))>=1,0,INDIRECT(ADDRESS(($AN79-1)*3+$AO79+5,$AP79+20))))) -> 0 | AT79: =COUNTIF(INDIRECT("U"&(ROW()+12*(($AN79-1)*3+$AO79)-ROW())/12+5):INDIRECT("AF"&(ROW()+12*(($AN79-1)*3+$AO79)-ROW())/12+5),AS79) -> 0 | AU79: =IF(AND(AQ79+AS79>0,AR79+AT79>0),COUNTIF(AU$6:AU78,">0")+1,0) -> 0 | BE79: 2 | BF79: ＞＠40000 | BG79: =IF(BG78+BT78>$AJ$27,1,0) -> 0 | BH79: =IF(BH78+BU78>$AJ$27,1,0) -> 0 | BI79: =IF(BI78+BV78>$AJ$27,1,0) -> 0 | BJ79: =IF(BJ78+BW78>$AJ$27,1,0) -> 0 | BK79: =IF(BK78+BX78>$AJ$27,1,0) -> 0 | BL79: =IF(BL78+BY78>$AJ$27,1,0) -> 0 | BM79: =IF(BM78+BZ78>$AJ$27,1,0) -> 0 | BN79: =IF(BN78+CA78>$AJ$27,1,0) -> 0 | ... BR79: =IF(BR78+CE78>$AJ$27,1,0) -> 0
G80: R8法定福利費残 | T80: =SUM(H80:S80) -> 0 | AG80: =SUM(U80:AF80) -> 0 | AN80: 3 | AO80: 1 | AP80: 3 | AQ80: =IF($AP80=1,IF(INDIRECT(ADDRESS(($AN80-1)*3+$AO80+5,$AP80+7))="",0,INDIRECT(ADDRESS(($AN80-1)*3+$AO80+5,$AP80+7))),IF(INDIRECT(ADDRESS(($AN80-1)*3+$AO80+5,$AP80+7))="",0,IF(COUNTIF(INDIRECT(ADDRESS(($AN80-1)*36+($AO80-1)*12+6,COLUMN())):INDIRECT(ADDRESS(($AN80-1)*36+($AO80-1)*12+$AP80+4,COLUMN())),INDIRECT(ADDRESS(($AN80-1)*3+$AO80+5,$AP80+7)))>=1,0,INDIRECT(ADDRESS(($AN80-1)*3+$AO80+5,$AP80+7))))) -> 0 | AR80: =COUNTIF(INDIRECT("H"&(ROW()+12*(($AN80-1)*3+$AO80)-ROW())/12+5):INDIRECT("S"&(ROW()+12*(($AN80-1)*3+$AO80)-ROW())/12+5),AQ80) -> 0 | AS80: =IF($AP80=1,IF(INDIRECT(ADDRESS(($AN80-1)*3+$AO80+5,$AP80+20))="",0,INDIRECT(ADDRESS(($AN80-1)*3+$AO80+5,$AP80+20))),IF(INDIRECT(ADDRESS(($AN80-1)*3+$AO80+5,$AP80+20))="",0,IF(COUNTIF(INDIRECT(ADDRESS(($AN80-1)*36+($AO80-1)*12+6,COLUMN())):INDIRECT(ADDRESS(($AN80-1)*36+($AO80-1)*12+$AP80+4,COLUMN())),INDIRECT(ADDRESS(($AN80-1)*3+$AO80+5,$AP80+20)))>=1,0,INDIRECT(ADDRESS(($AN80-1)*3+$AO80+5,$AP80+20))))) -> 0 | AT80: =COUNTIF(INDIRECT("U"&(ROW()+12*(($AN80-1)*3+$AO80)-ROW())/12+5):INDIRECT("AF"&(ROW()+12*(($AN80-1)*3+$AO80)-ROW())/12+5),AS80) -> 0 | AU80: =IF(AND(AQ80+AS80>0,AR80+AT80>0),COUNTIF(AU$6:AU79,">0")+1,0) -> 0 | BE80: 3
A81: 26 | G81: 基本給 | I81: =IF(H81="","",H81) | J81: =IF(I81="","",I81) | K81: =IF(J81="","",J81) | L81: =IF(K81="","",K81) | M81: =IF(L81="","",L81) | N81: =IF(M81="","",M81) | O81: =IF(N81="","",N81) | P81: =IF(O81="","",O81) | ... S81: =IF(R81="","",R81) | T81: =SUM(H81:S81) -> 0 | V81: =IF(U81="","",U81) | W81: =IF(V81="","",V81) | X81: =IF(W81="","",W81) | Y81: =IF(X81="","",X81) | Z81: =IF(Y81="","",Y81) | AA81: =IF(Z81="","",Z81) | AB81: =IF(AA81="","",AA81) | AC81: =IF(AB81="","",AB81) | ... AF81: =IF(AE81="","",AE81) | AG81: =SUM(U81:AF81) -> 0 | AN81: 3 | AO81: 1 | AP81: 4 | AQ81: =IF($AP81=1,IF(INDIRECT(ADDRESS(($AN81-1)*3+$AO81+5,$AP81+7))="",0,INDIRECT(ADDRESS(($AN81-1)*3+$AO81+5,$AP81+7))),IF(INDIRECT(ADDRESS(($AN81-1)*3+$AO81+5,$AP81+7))="",0,IF(COUNTIF(INDIRECT(ADDRESS(($AN81-1)*36+($AO81-1)*12+6,COLUMN())):INDIRECT(ADDRESS(($AN81-1)*36+($AO81-1)*12+$AP81+4,COLUMN())),INDIRECT(ADDRESS(($AN81-1)*3+$AO81+5,$AP81+7)))>=1,0,INDIRECT(ADDRESS(($AN81-1)*3+$AO81+5,$AP81+7))))) -> 0 | AR81: =COUNTIF(INDIRECT("H"&(ROW()+12*(($AN81-1)*3+$AO81)-ROW())/12+5):INDIRECT("S"&(ROW()+12*(($AN81-1)*3+$AO81)-ROW())/12+5),AQ81) -> 0 | AS81: =IF($AP81=1,IF(INDIRECT(ADDRESS(($AN81-1)*3+$AO81+5,$AP81+20))="",0,INDIRECT(ADDRESS(($AN81-1)*3+$AO81+5,$AP81+20))),IF(INDIRECT(ADDRESS(($AN81-1)*3+$AO81+5,$AP81+20))="",0,IF(COUNTIF(INDIRECT(ADDRESS(($AN81-1)*36+($AO81-1)*12+6,COLUMN())):INDIRECT(ADDRESS(($AN81-1)*36+($AO81-1)*12+$AP81+4,COLUMN())),INDIRECT(ADDRESS(($AN81-1)*3+$AO81+5,$AP81+20)))>=1,0,INDIRECT(ADDRESS(($AN81-1)*3+$AO81+5,$AP81+20))))) -> 0 | AT81: =COUNTIF(INDIRECT("U"&(ROW()+12*(($AN81-1)*3+$AO81)-ROW())/12+5):INDIRECT("AF"&(ROW()+12*(($AN81-1)*3+$AO81)-ROW())/12+5),AS81) -> 0 | AU81: =IF(AND(AQ81+AS81>0,AR81+AT81>0),COUNTIF(AU$6:AU80,">0")+1,0) -> 0 | BE81: 1 | BG81: =SUM(H81:H82) -> 0 | BH81: =SUM(I81:I82) -> 0 | BI81: =SUM(J81:J82) -> 0 | BJ81: =SUM(K81:K82) -> 0 | BK81: =SUM(L81:L82) -> 0 | BL81: =SUM(M81:M82) -> 0 | BM81: =SUM(N81:N82) -> 0 | BN81: =SUM(O81:O82) -> 0 | ... BR81: =SUM(S81:S82) -> 0 | BT81: =SUM(U81:U82) -> 0 | BU81: =SUM(V81:V82) -> 0 | BV81: =SUM(W81:W82) -> 0 | BW81: =SUM(X81:X82) -> 0 | BX81: =SUM(Y81:Y82) -> 0 | BY81: =SUM(Z81:Z82) -> 0 | BZ81: =SUM(AA81:AA82) -> 0 | CA81: =SUM(AB81:AB82) -> 0 | ... CE81: =SUM(AF81:AF82) -> 0 | CH81: min対象 | CI81: =IF(OR($D81="副園長",$D81="教頭",$D81="主任保育士",$D81="主幹教諭",$D81="主幹保育教諭"),0,BG81) -> 0 | CJ81: =IF(OR($D81="副園長",$D81="教頭",$D81="主任保育士",$D81="主幹教諭",$D81="主幹保育教諭"),0,BH81) -> 0 | CK81: =IF(OR($D81="副園長",$D81="教頭",$D81="主任保育士",$D81="主幹教諭",$D81="主幹保育教諭"),0,BI81) -> 0 | CL81: =IF(OR($D81="副園長",$D81="教頭",$D81="主任保育士",$D81="主幹教諭",$D81="主幹保育教諭"),0,BJ81) -> 0 | CM81: =IF(OR($D81="副園長",$D81="教頭",$D81="主任保育士",$D81="主幹教諭",$D81="主幹保育教諭"),0,BK81) -> 0 | CN81: =IF(OR($D81="副園長",$D81="教頭",$D81="主任保育士",$D81="主幹教諭",$D81="主幹保育教諭"),0,BL81) -> 0 | CO81: =IF(OR($D81="副園長",$D81="教頭",$D81="主任保育士",$D81="主幹教諭",$D81="主幹保育教諭"),0,BM81) -> 0 | CP81: =IF(OR($D81="副園長",$D81="教頭",$D81="主任保育士",$D81="主幹教諭",$D81="主幹保育教諭"),0,BN81) -> 0 | ... CT81: =IF(OR($D81="副園長",$D81="教頭",$D81="主任保育士",$D81="主幹教諭",$D81="主幹保育教諭"),0,BR81) -> 0
G82: 手当 | I82: =IF(H82="","",H82) | J82: =IF(I82="","",I82) | K82: =IF(J82="","",J82) | L82: =IF(K82="","",K82) | M82: =IF(L82="","",L82) | N82: =IF(M82="","",M82) | O82: =IF(N82="","",N82) | P82: =IF(O82="","",O82) | ... S82: =IF(R82="","",R82) | T82: =SUM(H82:S82) -> 0 | V82: =IF(U82="","",U82) | W82: =IF(V82="","",V82) | X82: =IF(W82="","",W82) | Y82: =IF(X82="","",X82) | Z82: =IF(Y82="","",Y82) | AA82: =IF(Z82="","",Z82) | AB82: =IF(AA82="","",AA82) | AC82: =IF(AB82="","",AB82) | ... AF82: =IF(AE82="","",AE82) | AG82: =SUM(U82:AF82) -> 0 | AN82: 3 | AO82: 1 | AP82: 5 | AQ82: =IF($AP82=1,IF(INDIRECT(ADDRESS(($AN82-1)*3+$AO82+5,$AP82+7))="",0,INDIRECT(ADDRESS(($AN82-1)*3+$AO82+5,$AP82+7))),IF(INDIRECT(ADDRESS(($AN82-1)*3+$AO82+5,$AP82+7))="",0,IF(COUNTIF(INDIRECT(ADDRESS(($AN82-1)*36+($AO82-1)*12+6,COLUMN())):INDIRECT(ADDRESS(($AN82-1)*36+($AO82-1)*12+$AP82+4,COLUMN())),INDIRECT(ADDRESS(($AN82-1)*3+$AO82+5,$AP82+7)))>=1,0,INDIRECT(ADDRESS(($AN82-1)*3+$AO82+5,$AP82+7))))) -> 0 | AR82: =COUNTIF(INDIRECT("H"&(ROW()+12*(($AN82-1)*3+$AO82)-ROW())/12+5):INDIRECT("S"&(ROW()+12*(($AN82-1)*3+$AO82)-ROW())/12+5),AQ82) -> 0 | AS82: =IF($AP82=1,IF(INDIRECT(ADDRESS(($AN82-1)*3+$AO82+5,$AP82+20))="",0,INDIRECT(ADDRESS(($AN82-1)*3+$AO82+5,$AP82+20))),IF(INDIRECT(ADDRESS(($AN82-1)*3+$AO82+5,$AP82+20))="",0,IF(COUNTIF(INDIRECT(ADDRESS(($AN82-1)*36+($AO82-1)*12+6,COLUMN())):INDIRECT(ADDRESS(($AN82-1)*36+($AO82-1)*12+$AP82+4,COLUMN())),INDIRECT(ADDRESS(($AN82-1)*3+$AO82+5,$AP82+20)))>=1,0,INDIRECT(ADDRESS(($AN82-1)*3+$AO82+5,$AP82+20))))) -> 0 | AT82: =COUNTIF(INDIRECT("U"&(ROW()+12*(($AN82-1)*3+$AO82)-ROW())/12+5):INDIRECT("AF"&(ROW()+12*(($AN82-1)*3+$AO82)-ROW())/12+5),AS82) -> 0 | AU82: =IF(AND(AQ82+AS82>0,AR82+AT82>0),COUNTIF(AU$6:AU81,">0")+1,0) -> 0 | BE82: 2 | BF82: ＞＠40000 | BG82: =IF(BG81+BT81>$AJ$27,1,0) -> 0 | BH82: =IF(BH81+BU81>$AJ$27,1,0) -> 0 | BI82: =IF(BI81+BV81>$AJ$27,1,0) -> 0 | BJ82: =IF(BJ81+BW81>$AJ$27,1,0) -> 0 | BK82: =IF(BK81+BX81>$AJ$27,1,0) -> 0 | BL82: =IF(BL81+BY81>$AJ$27,1,0) -> 0 | BM82: =IF(BM81+BZ81>$AJ$27,1,0) -> 0 | BN82: =IF(BN81+CA81>$AJ$27,1,0) -> 0 | ... BR82: =IF(BR81+CE81>$AJ$27,1,0) -> 0
G83: R8法定福利費残 | T83: =SUM(H83:S83) -> 0 | AG83: =SUM(U83:AF83) -> 0 | AN83: 3 | AO83: 1 | AP83: 6 | AQ83: =IF($AP83=1,IF(INDIRECT(ADDRESS(($AN83-1)*3+$AO83+5,$AP83+7))="",0,INDIRECT(ADDRESS(($AN83-1)*3+$AO83+5,$AP83+7))),IF(INDIRECT(ADDRESS(($AN83-1)*3+$AO83+5,$AP83+7))="",0,IF(COUNTIF(INDIRECT(ADDRESS(($AN83-1)*36+($AO83-1)*12+6,COLUMN())):INDIRECT(ADDRESS(($AN83-1)*36+($AO83-1)*12+$AP83+4,COLUMN())),INDIRECT(ADDRESS(($AN83-1)*3+$AO83+5,$AP83+7)))>=1,0,INDIRECT(ADDRESS(($AN83-1)*3+$AO83+5,$AP83+7))))) -> 0 | AR83: =COUNTIF(INDIRECT("H"&(ROW()+12*(($AN83-1)*3+$AO83)-ROW())/12+5):INDIRECT("S"&(ROW()+12*(($AN83-1)*3+$AO83)-ROW())/12+5),AQ83) -> 0 | AS83: =IF($AP83=1,IF(INDIRECT(ADDRESS(($AN83-1)*3+$AO83+5,$AP83+20))="",0,INDIRECT(ADDRESS(($AN83-1)*3+$AO83+5,$AP83+20))),IF(INDIRECT(ADDRESS(($AN83-1)*3+$AO83+5,$AP83+20))="",0,IF(COUNTIF(INDIRECT(ADDRESS(($AN83-1)*36+($AO83-1)*12+6,COLUMN())):INDIRECT(ADDRESS(($AN83-1)*36+($AO83-1)*12+$AP83+4,COLUMN())),INDIRECT(ADDRESS(($AN83-1)*3+$AO83+5,$AP83+20)))>=1,0,INDIRECT(ADDRESS(($AN83-1)*3+$AO83+5,$AP83+20))))) -> 0 | AT83: =COUNTIF(INDIRECT("U"&(ROW()+12*(($AN83-1)*3+$AO83)-ROW())/12+5):INDIRECT("AF"&(ROW()+12*(($AN83-1)*3+$AO83)-ROW())/12+5),AS83) -> 0 | AU83: =IF(AND(AQ83+AS83>0,AR83+AT83>0),COUNTIF(AU$6:AU82,">0")+1,0) -> 0 | BE83: 3
A84: 27 | G84: 基本給 | I84: =IF(H84="","",H84) | J84: =IF(I84="","",I84) | K84: =IF(J84="","",J84) | L84: =IF(K84="","",K84) | M84: =IF(L84="","",L84) | N84: =IF(M84="","",M84) | O84: =IF(N84="","",N84) | P84: =IF(O84="","",O84) | ... S84: =IF(R84="","",R84) | T84: =SUM(H84:S84) -> 0 | V84: =IF(U84="","",U84) | W84: =IF(V84="","",V84) | X84: =IF(W84="","",W84) | Y84: =IF(X84="","",X84) | Z84: =IF(Y84="","",Y84) | AA84: =IF(Z84="","",Z84) | AB84: =IF(AA84="","",AA84) | AC84: =IF(AB84="","",AB84) | ... AF84: =IF(AE84="","",AE84) | AG84: =SUM(U84:AF84) -> 0 | AN84: 3 | AO84: 1 | AP84: 7 | AQ84: =IF($AP84=1,IF(INDIRECT(ADDRESS(($AN84-1)*3+$AO84+5,$AP84+7))="",0,INDIRECT(ADDRESS(($AN84-1)*3+$AO84+5,$AP84+7))),IF(INDIRECT(ADDRESS(($AN84-1)*3+$AO84+5,$AP84+7))="",0,IF(COUNTIF(INDIRECT(ADDRESS(($AN84-1)*36+($AO84-1)*12+6,COLUMN())):INDIRECT(ADDRESS(($AN84-1)*36+($AO84-1)*12+$AP84+4,COLUMN())),INDIRECT(ADDRESS(($AN84-1)*3+$AO84+5,$AP84+7)))>=1,0,INDIRECT(ADDRESS(($AN84-1)*3+$AO84+5,$AP84+7))))) -> 0 | AR84: =COUNTIF(INDIRECT("H"&(ROW()+12*(($AN84-1)*3+$AO84)-ROW())/12+5):INDIRECT("S"&(ROW()+12*(($AN84-1)*3+$AO84)-ROW())/12+5),AQ84) -> 0 | AS84: =IF($AP84=1,IF(INDIRECT(ADDRESS(($AN84-1)*3+$AO84+5,$AP84+20))="",0,INDIRECT(ADDRESS(($AN84-1)*3+$AO84+5,$AP84+20))),IF(INDIRECT(ADDRESS(($AN84-1)*3+$AO84+5,$AP84+20))="",0,IF(COUNTIF(INDIRECT(ADDRESS(($AN84-1)*36+($AO84-1)*12+6,COLUMN())):INDIRECT(ADDRESS(($AN84-1)*36+($AO84-1)*12+$AP84+4,COLUMN())),INDIRECT(ADDRESS(($AN84-1)*3+$AO84+5,$AP84+20)))>=1,0,INDIRECT(ADDRESS(($AN84-1)*3+$AO84+5,$AP84+20))))) -> 0 | AT84: =COUNTIF(INDIRECT("U"&(ROW()+12*(($AN84-1)*3+$AO84)-ROW())/12+5):INDIRECT("AF"&(ROW()+12*(($AN84-1)*3+$AO84)-ROW())/12+5),AS84) -> 0 | AU84: =IF(AND(AQ84+AS84>0,AR84+AT84>0),COUNTIF(AU$6:AU83,">0")+1,0) -> 0 | BE84: 1 | BG84: =SUM(H84:H85) -> 0 | BH84: =SUM(I84:I85) -> 0 | BI84: =SUM(J84:J85) -> 0 | BJ84: =SUM(K84:K85) -> 0 | BK84: =SUM(L84:L85) -> 0 | BL84: =SUM(M84:M85) -> 0 | BM84: =SUM(N84:N85) -> 0 | BN84: =SUM(O84:O85) -> 0 | ... BR84: =SUM(S84:S85) -> 0 | BT84: =SUM(U84:U85) -> 0 | BU84: =SUM(V84:V85) -> 0 | BV84: =SUM(W84:W85) -> 0 | BW84: =SUM(X84:X85) -> 0 | BX84: =SUM(Y84:Y85) -> 0 | BY84: =SUM(Z84:Z85) -> 0 | BZ84: =SUM(AA84:AA85) -> 0 | CA84: =SUM(AB84:AB85) -> 0 | ... CE84: =SUM(AF84:AF85) -> 0 | CH84: min対象 | CI84: =IF(OR($D84="副園長",$D84="教頭",$D84="主任保育士",$D84="主幹教諭",$D84="主幹保育教諭"),0,BG84) -> 0 | CJ84: =IF(OR($D84="副園長",$D84="教頭",$D84="主任保育士",$D84="主幹教諭",$D84="主幹保育教諭"),0,BH84) -> 0 | CK84: =IF(OR($D84="副園長",$D84="教頭",$D84="主任保育士",$D84="主幹教諭",$D84="主幹保育教諭"),0,BI84) -> 0 | CL84: =IF(OR($D84="副園長",$D84="教頭",$D84="主任保育士",$D84="主幹教諭",$D84="主幹保育教諭"),0,BJ84) -> 0 | CM84: =IF(OR($D84="副園長",$D84="教頭",$D84="主任保育士",$D84="主幹教諭",$D84="主幹保育教諭"),0,BK84) -> 0 | CN84: =IF(OR($D84="副園長",$D84="教頭",$D84="主任保育士",$D84="主幹教諭",$D84="主幹保育教諭"),0,BL84) -> 0 | CO84: =IF(OR($D84="副園長",$D84="教頭",$D84="主任保育士",$D84="主幹教諭",$D84="主幹保育教諭"),0,BM84) -> 0 | CP84: =IF(OR($D84="副園長",$D84="教頭",$D84="主任保育士",$D84="主幹教諭",$D84="主幹保育教諭"),0,BN84) -> 0 | ... CT84: =IF(OR($D84="副園長",$D84="教頭",$D84="主任保育士",$D84="主幹教諭",$D84="主幹保育教諭"),0,BR84) -> 0
G85: 手当 | I85: =IF(H85="","",H85) | J85: =IF(I85="","",I85) | K85: =IF(J85="","",J85) | L85: =IF(K85="","",K85) | M85: =IF(L85="","",L85) | N85: =IF(M85="","",M85) | O85: =IF(N85="","",N85) | P85: =IF(O85="","",O85) | ... S85: =IF(R85="","",R85) | T85: =SUM(H85:S85) -> 0 | V85: =IF(U85="","",U85) | W85: =IF(V85="","",V85) | X85: =IF(W85="","",W85) | Y85: =IF(X85="","",X85) | Z85: =IF(Y85="","",Y85) | AA85: =IF(Z85="","",Z85) | AB85: =IF(AA85="","",AA85) | AC85: =IF(AB85="","",AB85) | ... AF85: =IF(AE85="","",AE85) | AG85: =SUM(U85:AF85) -> 0 | AN85: 3 | AO85: 1 | AP85: 8 | AQ85: =IF($AP85=1,IF(INDIRECT(ADDRESS(($AN85-1)*3+$AO85+5,$AP85+7))="",0,INDIRECT(ADDRESS(($AN85-1)*3+$AO85+5,$AP85+7))),IF(INDIRECT(ADDRESS(($AN85-1)*3+$AO85+5,$AP85+7))="",0,IF(COUNTIF(INDIRECT(ADDRESS(($AN85-1)*36+($AO85-1)*12+6,COLUMN())):INDIRECT(ADDRESS(($AN85-1)*36+($AO85-1)*12+$AP85+4,COLUMN())),INDIRECT(ADDRESS(($AN85-1)*3+$AO85+5,$AP85+7)))>=1,0,INDIRECT(ADDRESS(($AN85-1)*3+$AO85+5,$AP85+7))))) -> 0 | AR85: =COUNTIF(INDIRECT("H"&(ROW()+12*(($AN85-1)*3+$AO85)-ROW())/12+5):INDIRECT("S"&(ROW()+12*(($AN85-1)*3+$AO85)-ROW())/12+5),AQ85) -> 0 | AS85: =IF($AP85=1,IF(INDIRECT(ADDRESS(($AN85-1)*3+$AO85+5,$AP85+20))="",0,INDIRECT(ADDRESS(($AN85-1)*3+$AO85+5,$AP85+20))),IF(INDIRECT(ADDRESS(($AN85-1)*3+$AO85+5,$AP85+20))="",0,IF(COUNTIF(INDIRECT(ADDRESS(($AN85-1)*36+($AO85-1)*12+6,COLUMN())):INDIRECT(ADDRESS(($AN85-1)*36+($AO85-1)*12+$AP85+4,COLUMN())),INDIRECT(ADDRESS(($AN85-1)*3+$AO85+5,$AP85+20)))>=1,0,INDIRECT(ADDRESS(($AN85-1)*3+$AO85+5,$AP85+20))))) -> 0 | AT85: =COUNTIF(INDIRECT("U"&(ROW()+12*(($AN85-1)*3+$AO85)-ROW())/12+5):INDIRECT("AF"&(ROW()+12*(($AN85-1)*3+$AO85)-ROW())/12+5),AS85) -> 0 | AU85: =IF(AND(AQ85+AS85>0,AR85+AT85>0),COUNTIF(AU$6:AU84,">0")+1,0) -> 0 | BE85: 2 | BF85: ＞＠40000 | BG85: =IF(BG84+BT84>$AJ$27,1,0) -> 0 | BH85: =IF(BH84+BU84>$AJ$27,1,0) -> 0 | BI85: =IF(BI84+BV84>$AJ$27,1,0) -> 0 | BJ85: =IF(BJ84+BW84>$AJ$27,1,0) -> 0 | BK85: =IF(BK84+BX84>$AJ$27,1,0) -> 0 | BL85: =IF(BL84+BY84>$AJ$27,1,0) -> 0 | BM85: =IF(BM84+BZ84>$AJ$27,1,0) -> 0 | BN85: =IF(BN84+CA84>$AJ$27,1,0) -> 0 | ... BR85: =IF(BR84+CE84>$AJ$27,1,0) -> 0
G86: R8法定福利費残 | T86: =SUM(H86:S86) -> 0 | AG86: =SUM(U86:AF86) -> 0 | AN86: 3 | AO86: 1 | AP86: 9 | AQ86: =IF($AP86=1,IF(INDIRECT(ADDRESS(($AN86-1)*3+$AO86+5,$AP86+7))="",0,INDIRECT(ADDRESS(($AN86-1)*3+$AO86+5,$AP86+7))),IF(INDIRECT(ADDRESS(($AN86-1)*3+$AO86+5,$AP86+7))="",0,IF(COUNTIF(INDIRECT(ADDRESS(($AN86-1)*36+($AO86-1)*12+6,COLUMN())):INDIRECT(ADDRESS(($AN86-1)*36+($AO86-1)*12+$AP86+4,COLUMN())),INDIRECT(ADDRESS(($AN86-1)*3+$AO86+5,$AP86+7)))>=1,0,INDIRECT(ADDRESS(($AN86-1)*3+$AO86+5,$AP86+7))))) -> 0 | AR86: =COUNTIF(INDIRECT("H"&(ROW()+12*(($AN86-1)*3+$AO86)-ROW())/12+5):INDIRECT("S"&(ROW()+12*(($AN86-1)*3+$AO86)-ROW())/12+5),AQ86) -> 0 | AS86: =IF($AP86=1,IF(INDIRECT(ADDRESS(($AN86-1)*3+$AO86+5,$AP86+20))="",0,INDIRECT(ADDRESS(($AN86-1)*3+$AO86+5,$AP86+20))),IF(INDIRECT(ADDRESS(($AN86-1)*3+$AO86+5,$AP86+20))="",0,IF(COUNTIF(INDIRECT(ADDRESS(($AN86-1)*36+($AO86-1)*12+6,COLUMN())):INDIRECT(ADDRESS(($AN86-1)*36+($AO86-1)*12+$AP86+4,COLUMN())),INDIRECT(ADDRESS(($AN86-1)*3+$AO86+5,$AP86+20)))>=1,0,INDIRECT(ADDRESS(($AN86-1)*3+$AO86+5,$AP86+20))))) -> 0 | AT86: =COUNTIF(INDIRECT("U"&(ROW()+12*(($AN86-1)*3+$AO86)-ROW())/12+5):INDIRECT("AF"&(ROW()+12*(($AN86-1)*3+$AO86)-ROW())/12+5),AS86) -> 0 | AU86: =IF(AND(AQ86+AS86>0,AR86+AT86>0),COUNTIF(AU$6:AU85,">0")+1,0) -> 0 | BE86: 3
A87: 28 | G87: 基本給 | I87: =IF(H87="","",H87) | J87: =IF(I87="","",I87) | K87: =IF(J87="","",J87) | L87: =IF(K87="","",K87) | M87: =IF(L87="","",L87) | N87: =IF(M87="","",M87) | O87: =IF(N87="","",N87) | P87: =IF(O87="","",O87) | ... S87: =IF(R87="","",R87) | T87: =SUM(H87:S87) -> 0 | V87: =IF(U87="","",U87) | W87: =IF(V87="","",V87) | X87: =IF(W87="","",W87) | Y87: =IF(X87="","",X87) | Z87: =IF(Y87="","",Y87) | AA87: =IF(Z87="","",Z87) | AB87: =IF(AA87="","",AA87) | AC87: =IF(AB87="","",AB87) | ... AF87: =IF(AE87="","",AE87) | AG87: =SUM(U87:AF87) -> 0 | AN87: 3 | AO87: 1 | AP87: 10 | AQ87: =IF($AP87=1,IF(INDIRECT(ADDRESS(($AN87-1)*3+$AO87+5,$AP87+7))="",0,INDIRECT(ADDRESS(($AN87-1)*3+$AO87+5,$AP87+7))),IF(INDIRECT(ADDRESS(($AN87-1)*3+$AO87+5,$AP87+7))="",0,IF(COUNTIF(INDIRECT(ADDRESS(($AN87-1)*36+($AO87-1)*12+6,COLUMN())):INDIRECT(ADDRESS(($AN87-1)*36+($AO87-1)*12+$AP87+4,COLUMN())),INDIRECT(ADDRESS(($AN87-1)*3+$AO87+5,$AP87+7)))>=1,0,INDIRECT(ADDRESS(($AN87-1)*3+$AO87+5,$AP87+7))))) -> 0 | AR87: =COUNTIF(INDIRECT("H"&(ROW()+12*(($AN87-1)*3+$AO87)-ROW())/12+5):INDIRECT("S"&(ROW()+12*(($AN87-1)*3+$AO87)-ROW())/12+5),AQ87) -> 0 | AS87: =IF($AP87=1,IF(INDIRECT(ADDRESS(($AN87-1)*3+$AO87+5,$AP87+20))="",0,INDIRECT(ADDRESS(($AN87-1)*3+$AO87+5,$AP87+20))),IF(INDIRECT(ADDRESS(($AN87-1)*3+$AO87+5,$AP87+20))="",0,IF(COUNTIF(INDIRECT(ADDRESS(($AN87-1)*36+($AO87-1)*12+6,COLUMN())):INDIRECT(ADDRESS(($AN87-1)*36+($AO87-1)*12+$AP87+4,COLUMN())),INDIRECT(ADDRESS(($AN87-1)*3+$AO87+5,$AP87+20)))>=1,0,INDIRECT(ADDRESS(($AN87-1)*3+$AO87+5,$AP87+20))))) -> 0 | AT87: =COUNTIF(INDIRECT("U"&(ROW()+12*(($AN87-1)*3+$AO87)-ROW())/12+5):INDIRECT("AF"&(ROW()+12*(($AN87-1)*3+$AO87)-ROW())/12+5),AS87) -> 0 | AU87: =IF(AND(AQ87+AS87>0,AR87+AT87>0),COUNTIF(AU$6:AU86,">0")+1,0) -> 0 | BE87: 1 | BG87: =SUM(H87:H88) -> 0 | BH87: =SUM(I87:I88) -> 0 | BI87: =SUM(J87:J88) -> 0 | BJ87: =SUM(K87:K88) -> 0 | BK87: =SUM(L87:L88) -> 0 | BL87: =SUM(M87:M88) -> 0 | BM87: =SUM(N87:N88) -> 0 | BN87: =SUM(O87:O88) -> 0 | ... BR87: =SUM(S87:S88) -> 0 | BT87: =SUM(U87:U88) -> 0 | BU87: =SUM(V87:V88) -> 0 | BV87: =SUM(W87:W88) -> 0 | BW87: =SUM(X87:X88) -> 0 | BX87: =SUM(Y87:Y88) -> 0 | BY87: =SUM(Z87:Z88) -> 0 | BZ87: =SUM(AA87:AA88) -> 0 | CA87: =SUM(AB87:AB88) -> 0 | ... CE87: =SUM(AF87:AF88) -> 0 | CH87: min対象 | CI87: =IF(OR($D87="副園長",$D87="教頭",$D87="主任保育士",$D87="主幹教諭",$D87="主幹保育教諭"),0,BG87) -> 0 | CJ87: =IF(OR($D87="副園長",$D87="教頭",$D87="主任保育士",$D87="主幹教諭",$D87="主幹保育教諭"),0,BH87) -> 0 | CK87: =IF(OR($D87="副園長",$D87="教頭",$D87="主任保育士",$D87="主幹教諭",$D87="主幹保育教諭"),0,BI87) -> 0 | CL87: =IF(OR($D87="副園長",$D87="教頭",$D87="主任保育士",$D87="主幹教諭",$D87="主幹保育教諭"),0,BJ87) -> 0 | CM87: =IF(OR($D87="副園長",$D87="教頭",$D87="主任保育士",$D87="主幹教諭",$D87="主幹保育教諭"),0,BK87) -> 0 | CN87: =IF(OR($D87="副園長",$D87="教頭",$D87="主任保育士",$D87="主幹教諭",$D87="主幹保育教諭"),0,BL87) -> 0 | CO87: =IF(OR($D87="副園長",$D87="教頭",$D87="主任保育士",$D87="主幹教諭",$D87="主幹保育教諭"),0,BM87) -> 0 | CP87: =IF(OR($D87="副園長",$D87="教頭",$D87="主任保育士",$D87="主幹教諭",$D87="主幹保育教諭"),0,BN87) -> 0 | ... CT87: =IF(OR($D87="副園長",$D87="教頭",$D87="主任保育士",$D87="主幹教諭",$D87="主幹保育教諭"),0,BR87) -> 0
G88: 手当 | I88: =IF(H88="","",H88) | J88: =IF(I88="","",I88) | K88: =IF(J88="","",J88) | L88: =IF(K88="","",K88) | M88: =IF(L88="","",L88) | N88: =IF(M88="","",M88) | O88: =IF(N88="","",N88) | P88: =IF(O88="","",O88) | ... S88: =IF(R88="","",R88) | T88: =SUM(H88:S88) -> 0 | V88: =IF(U88="","",U88) | W88: =IF(V88="","",V88) | X88: =IF(W88="","",W88) | Y88: =IF(X88="","",X88) | Z88: =IF(Y88="","",Y88) | AA88: =IF(Z88="","",Z88) | AB88: =IF(AA88="","",AA88) | AC88: =IF(AB88="","",AB88) | ... AF88: =IF(AE88="","",AE88) | AG88: =SUM(U88:AF88) -> 0 | AN88: 3 | AO88: 1 | AP88: 11 | AQ88: =IF($AP88=1,IF(INDIRECT(ADDRESS(($AN88-1)*3+$AO88+5,$AP88+7))="",0,INDIRECT(ADDRESS(($AN88-1)*3+$AO88+5,$AP88+7))),IF(INDIRECT(ADDRESS(($AN88-1)*3+$AO88+5,$AP88+7))="",0,IF(COUNTIF(INDIRECT(ADDRESS(($AN88-1)*36+($AO88-1)*12+6,COLUMN())):INDIRECT(ADDRESS(($AN88-1)*36+($AO88-1)*12+$AP88+4,COLUMN())),INDIRECT(ADDRESS(($AN88-1)*3+$AO88+5,$AP88+7)))>=1,0,INDIRECT(ADDRESS(($AN88-1)*3+$AO88+5,$AP88+7))))) -> 0 | AR88: =COUNTIF(INDIRECT("H"&(ROW()+12*(($AN88-1)*3+$AO88)-ROW())/12+5):INDIRECT("S"&(ROW()+12*(($AN88-1)*3+$AO88)-ROW())/12+5),AQ88) -> 0 | AS88: =IF($AP88=1,IF(INDIRECT(ADDRESS(($AN88-1)*3+$AO88+5,$AP88+20))="",0,INDIRECT(ADDRESS(($AN88-1)*3+$AO88+5,$AP88+20))),IF(INDIRECT(ADDRESS(($AN88-1)*3+$AO88+5,$AP88+20))="",0,IF(COUNTIF(INDIRECT(ADDRESS(($AN88-1)*36+($AO88-1)*12+6,COLUMN())):INDIRECT(ADDRESS(($AN88-1)*36+($AO88-1)*12+$AP88+4,COLUMN())),INDIRECT(ADDRESS(($AN88-1)*3+$AO88+5,$AP88+20)))>=1,0,INDIRECT(ADDRESS(($AN88-1)*3+$AO88+5,$AP88+20))))) -> 0 | AT88: =COUNTIF(INDIRECT("U"&(ROW()+12*(($AN88-1)*3+$AO88)-ROW())/12+5):INDIRECT("AF"&(ROW()+12*(($AN88-1)*3+$AO88)-ROW())/12+5),AS88) -> 0 | AU88: =IF(AND(AQ88+AS88>0,AR88+AT88>0),COUNTIF(AU$6:AU87,">0")+1,0) -> 0 | BE88: 2 | BF88: ＞＠40000 | BG88: =IF(BG87+BT87>$AJ$27,1,0) -> 0 | BH88: =IF(BH87+BU87>$AJ$27,1,0) -> 0 | BI88: =IF(BI87+BV87>$AJ$27,1,0) -> 0 | BJ88: =IF(BJ87+BW87>$AJ$27,1,0) -> 0 | BK88: =IF(BK87+BX87>$AJ$27,1,0) -> 0 | BL88: =IF(BL87+BY87>$AJ$27,1,0) -> 0 | BM88: =IF(BM87+BZ87>$AJ$27,1,0) -> 0 | BN88: =IF(BN87+CA87>$AJ$27,1,0) -> 0 | ... BR88: =IF(BR87+CE87>$AJ$27,1,0) -> 0
G89: R8法定福利費残 | T89: =SUM(H89:S89) -> 0 | AG89: =SUM(U89:AF89) -> 0 | AN89: 3 | AO89: 1 | AP89: 12 | AQ89: =IF($AP89=1,IF(INDIRECT(ADDRESS(($AN89-1)*3+$AO89+5,$AP89+7))="",0,INDIRECT(ADDRESS(($AN89-1)*3+$AO89+5,$AP89+7))),IF(INDIRECT(ADDRESS(($AN89-1)*3+$AO89+5,$AP89+7))="",0,IF(COUNTIF(INDIRECT(ADDRESS(($AN89-1)*36+($AO89-1)*12+6,COLUMN())):INDIRECT(ADDRESS(($AN89-1)*36+($AO89-1)*12+$AP89+4,COLUMN())),INDIRECT(ADDRESS(($AN89-1)*3+$AO89+5,$AP89+7)))>=1,0,INDIRECT(ADDRESS(($AN89-1)*3+$AO89+5,$AP89+7))))) -> 0 | AR89: =COUNTIF(INDIRECT("H"&(ROW()+12*(($AN89-1)*3+$AO89)-ROW())/12+5):INDIRECT("S"&(ROW()+12*(($AN89-1)*3+$AO89)-ROW())/12+5),AQ89) -> 0 | AS89: =IF($AP89=1,IF(INDIRECT(ADDRESS(($AN89-1)*3+$AO89+5,$AP89+20))="",0,INDIRECT(ADDRESS(($AN89-1)*3+$AO89+5,$AP89+20))),IF(INDIRECT(ADDRESS(($AN89-1)*3+$AO89+5,$AP89+20))="",0,IF(COUNTIF(INDIRECT(ADDRESS(($AN89-1)*36+($AO89-1)*12+6,COLUMN())):INDIRECT(ADDRESS(($AN89-1)*36+($AO89-1)*12+$AP89+4,COLUMN())),INDIRECT(ADDRESS(($AN89-1)*3+$AO89+5,$AP89+20)))>=1,0,INDIRECT(ADDRESS(($AN89-1)*3+$AO89+5,$AP89+20))))) -> 0 | AT89: =COUNTIF(INDIRECT("U"&(ROW()+12*(($AN89-1)*3+$AO89)-ROW())/12+5):INDIRECT("AF"&(ROW()+12*(($AN89-1)*3+$AO89)-ROW())/12+5),AS89) -> 0 | AU89: =IF(AND(AQ89+AS89>0,AR89+AT89>0),COUNTIF(AU$6:AU88,">0")+1,0) -> 0 | BE89: 3
A90: 29 | G90: 基本給 | I90: =IF(H90="","",H90) | J90: =IF(I90="","",I90) | K90: =IF(J90="","",J90) | L90: =IF(K90="","",K90) | M90: =IF(L90="","",L90) | N90: =IF(M90="","",M90) | O90: =IF(N90="","",N90) | P90: =IF(O90="","",O90) | ... S90: =IF(R90="","",R90) | T90: =SUM(H90:S90) -> 0 | V90: =IF(U90="","",U90) | W90: =IF(V90="","",V90) | X90: =IF(W90="","",W90) | Y90: =IF(X90="","",X90) | Z90: =IF(Y90="","",Y90) | AA90: =IF(Z90="","",Z90) | AB90: =IF(AA90="","",AA90) | AC90: =IF(AB90="","",AB90) | ... AF90: =IF(AE90="","",AE90) | AG90: =SUM(U90:AF90) -> 0 | AN90: 3 | AO90: 2 | AP90: 1 | AQ90: =IF($AP90=1,IF(INDIRECT(ADDRESS(($AN90-1)*3+$AO90+5,$AP90+7))="",0,INDIRECT(ADDRESS(($AN90-1)*3+$AO90+5,$AP90+7))),IF(INDIRECT(ADDRESS(($AN90-1)*3+$AO90+5,$AP90+7))="",0,IF(COUNTIF(INDIRECT(ADDRESS(($AN90-1)*36+($AO90-1)*12+6,COLUMN())):INDIRECT(ADDRESS(($AN90-1)*36+($AO90-1)*12+$AP90+4,COLUMN())),INDIRECT(ADDRESS(($AN90-1)*3+$AO90+5,$AP90+7)))>=1,0,INDIRECT(ADDRESS(($AN90-1)*3+$AO90+5,$AP90+7))))) -> 0 | AR90: =COUNTIF(INDIRECT("H"&(ROW()+12*(($AN90-1)*3+$AO90)-ROW())/12+5):INDIRECT("S"&(ROW()+12*(($AN90-1)*3+$AO90)-ROW())/12+5),AQ90) -> 0 | AS90: =IF($AP90=1,IF(INDIRECT(ADDRESS(($AN90-1)*3+$AO90+5,$AP90+20))="",0,INDIRECT(ADDRESS(($AN90-1)*3+$AO90+5,$AP90+20))),IF(INDIRECT(ADDRESS(($AN90-1)*3+$AO90+5,$AP90+20))="",0,IF(COUNTIF(INDIRECT(ADDRESS(($AN90-1)*36+($AO90-1)*12+6,COLUMN())):INDIRECT(ADDRESS(($AN90-1)*36+($AO90-1)*12+$AP90+4,COLUMN())),INDIRECT(ADDRESS(($AN90-1)*3+$AO90+5,$AP90+20)))>=1,0,INDIRECT(ADDRESS(($AN90-1)*3+$AO90+5,$AP90+20))))) -> 0 | AT90: =COUNTIF(INDIRECT("U"&(ROW()+12*(($AN90-1)*3+$AO90)-ROW())/12+5):INDIRECT("AF"&(ROW()+12*(($AN90-1)*3+$AO90)-ROW())/12+5),AS90) -> 0 | AU90: =IF(AND(AQ90+AS90>0,AR90+AT90>0),COUNTIF(AU$6:AU89,">0")+1,0) -> 0 | BE90: 1 | BG90: =SUM(H90:H91) -> 0 | BH90: =SUM(I90:I91) -> 0 | BI90: =SUM(J90:J91) -> 0 | BJ90: =SUM(K90:K91) -> 0 | BK90: =SUM(L90:L91) -> 0 | BL90: =SUM(M90:M91) -> 0 | BM90: =SUM(N90:N91) -> 0 | BN90: =SUM(O90:O91) -> 0 | ... BR90: =SUM(S90:S91) -> 0 | BT90: =SUM(U90:U91) -> 0 | BU90: =SUM(V90:V91) -> 0 | BV90: =SUM(W90:W91) -> 0 | BW90: =SUM(X90:X91) -> 0 | BX90: =SUM(Y90:Y91) -> 0 | BY90: =SUM(Z90:Z91) -> 0 | BZ90: =SUM(AA90:AA91) -> 0 | CA90: =SUM(AB90:AB91) -> 0 | ... CE90: =SUM(AF90:AF91) -> 0 | CH90: min対象 | CI90: =IF(OR($D90="副園長",$D90="教頭",$D90="主任保育士",$D90="主幹教諭",$D90="主幹保育教諭"),0,BG90) -> 0 | CJ90: =IF(OR($D90="副園長",$D90="教頭",$D90="主任保育士",$D90="主幹教諭",$D90="主幹保育教諭"),0,BH90) -> 0 | CK90: =IF(OR($D90="副園長",$D90="教頭",$D90="主任保育士",$D90="主幹教諭",$D90="主幹保育教諭"),0,BI90) -> 0 | CL90: =IF(OR($D90="副園長",$D90="教頭",$D90="主任保育士",$D90="主幹教諭",$D90="主幹保育教諭"),0,BJ90) -> 0 | CM90: =IF(OR($D90="副園長",$D90="教頭",$D90="主任保育士",$D90="主幹教諭",$D90="主幹保育教諭"),0,BK90) -> 0 | CN90: =IF(OR($D90="副園長",$D90="教頭",$D90="主任保育士",$D90="主幹教諭",$D90="主幹保育教諭"),0,BL90) -> 0 | CO90: =IF(OR($D90="副園長",$D90="教頭",$D90="主任保育士",$D90="主幹教諭",$D90="主幹保育教諭"),0,BM90) -> 0 | CP90: =IF(OR($D90="副園長",$D90="教頭",$D90="主任保育士",$D90="主幹教諭",$D90="主幹保育教諭"),0,BN90) -> 0 | ... CT90: =IF(OR($D90="副園長",$D90="教頭",$D90="主任保育士",$D90="主幹教諭",$D90="主幹保育教諭"),0,BR90) -> 0
G91: 手当 | I91: =IF(H91="","",H91) | J91: =IF(I91="","",I91) | K91: =IF(J91="","",J91) | L91: =IF(K91="","",K91) | M91: =IF(L91="","",L91) | N91: =IF(M91="","",M91) | O91: =IF(N91="","",N91) | P91: =IF(O91="","",O91) | ... S91: =IF(R91="","",R91) | T91: =SUM(H91:S91) -> 0 | V91: =IF(U91="","",U91) | W91: =IF(V91="","",V91) | X91: =IF(W91="","",W91) | Y91: =IF(X91="","",X91) | Z91: =IF(Y91="","",Y91) | AA91: =IF(Z91="","",Z91) | AB91: =IF(AA91="","",AA91) | AC91: =IF(AB91="","",AB91) | ... AF91: =IF(AE91="","",AE91) | AG91: =SUM(U91:AF91) -> 0 | AN91: 3 | AO91: 2 | AP91: 2 | AQ91: =IF($AP91=1,IF(INDIRECT(ADDRESS(($AN91-1)*3+$AO91+5,$AP91+7))="",0,INDIRECT(ADDRESS(($AN91-1)*3+$AO91+5,$AP91+7))),IF(INDIRECT(ADDRESS(($AN91-1)*3+$AO91+5,$AP91+7))="",0,IF(COUNTIF(INDIRECT(ADDRESS(($AN91-1)*36+($AO91-1)*12+6,COLUMN())):INDIRECT(ADDRESS(($AN91-1)*36+($AO91-1)*12+$AP91+4,COLUMN())),INDIRECT(ADDRESS(($AN91-1)*3+$AO91+5,$AP91+7)))>=1,0,INDIRECT(ADDRESS(($AN91-1)*3+$AO91+5,$AP91+7))))) -> 0 | AR91: =COUNTIF(INDIRECT("H"&(ROW()+12*(($AN91-1)*3+$AO91)-ROW())/12+5):INDIRECT("S"&(ROW()+12*(($AN91-1)*3+$AO91)-ROW())/12+5),AQ91) -> 0 | AS91: =IF($AP91=1,IF(INDIRECT(ADDRESS(($AN91-1)*3+$AO91+5,$AP91+20))="",0,INDIRECT(ADDRESS(($AN91-1)*3+$AO91+5,$AP91+20))),IF(INDIRECT(ADDRESS(($AN91-1)*3+$AO91+5,$AP91+20))="",0,IF(COUNTIF(INDIRECT(ADDRESS(($AN91-1)*36+($AO91-1)*12+6,COLUMN())):INDIRECT(ADDRESS(($AN91-1)*36+($AO91-1)*12+$AP91+4,COLUMN())),INDIRECT(ADDRESS(($AN91-1)*3+$AO91+5,$AP91+20)))>=1,0,INDIRECT(ADDRESS(($AN91-1)*3+$AO91+5,$AP91+20))))) -> 0 | AT91: =COUNTIF(INDIRECT("U"&(ROW()+12*(($AN91-1)*3+$AO91)-ROW())/12+5):INDIRECT("AF"&(ROW()+12*(($AN91-1)*3+$AO91)-ROW())/12+5),AS91) -> 0 | AU91: =IF(AND(AQ91+AS91>0,AR91+AT91>0),COUNTIF(AU$6:AU90,">0")+1,0) -> 0 | BE91: 2 | BF91: ＞＠40000 | BG91: =IF(BG90+BT90>$AJ$27,1,0) -> 0 | BH91: =IF(BH90+BU90>$AJ$27,1,0) -> 0 | BI91: =IF(BI90+BV90>$AJ$27,1,0) -> 0 | BJ91: =IF(BJ90+BW90>$AJ$27,1,0) -> 0 | BK91: =IF(BK90+BX90>$AJ$27,1,0) -> 0 | BL91: =IF(BL90+BY90>$AJ$27,1,0) -> 0 | BM91: =IF(BM90+BZ90>$AJ$27,1,0) -> 0 | BN91: =IF(BN90+CA90>$AJ$27,1,0) -> 0 | ... BR91: =IF(BR90+CE90>$AJ$27,1,0) -> 0
G92: R8法定福利費残 | T92: =SUM(H92:S92) -> 0 | AG92: =SUM(U92:AF92) -> 0 | AN92: 3 | AO92: 2 | AP92: 3 | AQ92: =IF($AP92=1,IF(INDIRECT(ADDRESS(($AN92-1)*3+$AO92+5,$AP92+7))="",0,INDIRECT(ADDRESS(($AN92-1)*3+$AO92+5,$AP92+7))),IF(INDIRECT(ADDRESS(($AN92-1)*3+$AO92+5,$AP92+7))="",0,IF(COUNTIF(INDIRECT(ADDRESS(($AN92-1)*36+($AO92-1)*12+6,COLUMN())):INDIRECT(ADDRESS(($AN92-1)*36+($AO92-1)*12+$AP92+4,COLUMN())),INDIRECT(ADDRESS(($AN92-1)*3+$AO92+5,$AP92+7)))>=1,0,INDIRECT(ADDRESS(($AN92-1)*3+$AO92+5,$AP92+7))))) -> 0 | AR92: =COUNTIF(INDIRECT("H"&(ROW()+12*(($AN92-1)*3+$AO92)-ROW())/12+5):INDIRECT("S"&(ROW()+12*(($AN92-1)*3+$AO92)-ROW())/12+5),AQ92) -> 0 | AS92: =IF($AP92=1,IF(INDIRECT(ADDRESS(($AN92-1)*3+$AO92+5,$AP92+20))="",0,INDIRECT(ADDRESS(($AN92-1)*3+$AO92+5,$AP92+20))),IF(INDIRECT(ADDRESS(($AN92-1)*3+$AO92+5,$AP92+20))="",0,IF(COUNTIF(INDIRECT(ADDRESS(($AN92-1)*36+($AO92-1)*12+6,COLUMN())):INDIRECT(ADDRESS(($AN92-1)*36+($AO92-1)*12+$AP92+4,COLUMN())),INDIRECT(ADDRESS(($AN92-1)*3+$AO92+5,$AP92+20)))>=1,0,INDIRECT(ADDRESS(($AN92-1)*3+$AO92+5,$AP92+20))))) -> 0 | AT92: =COUNTIF(INDIRECT("U"&(ROW()+12*(($AN92-1)*3+$AO92)-ROW())/12+5):INDIRECT("AF"&(ROW()+12*(($AN92-1)*3+$AO92)-ROW())/12+5),AS92) -> 0 | AU92: =IF(AND(AQ92+AS92>0,AR92+AT92>0),COUNTIF(AU$6:AU91,">0")+1,0) -> 0 | BE92: 3
A93: 30 | G93: 基本給 | I93: =IF(H93="","",H93) | J93: =IF(I93="","",I93) | K93: =IF(J93="","",J93) | L93: =IF(K93="","",K93) | M93: =IF(L93="","",L93) | N93: =IF(M93="","",M93) | O93: =IF(N93="","",N93) | P93: =IF(O93="","",O93) | ... S93: =IF(R93="","",R93) | T93: =SUM(H93:S93) -> 0 | V93: =IF(U93="","",U93) | W93: =IF(V93="","",V93) | X93: =IF(W93="","",W93) | Y93: =IF(X93="","",X93) | Z93: =IF(Y93="","",Y93) | AA93: =IF(Z93="","",Z93) | AB93: =IF(AA93="","",AA93) | AC93: =IF(AB93="","",AB93) | ... AF93: =IF(AE93="","",AE93) | AG93: =SUM(U93:AF93) -> 0 | AN93: 3 | AO93: 2 | AP93: 4 | AQ93: =IF($AP93=1,IF(INDIRECT(ADDRESS(($AN93-1)*3+$AO93+5,$AP93+7))="",0,INDIRECT(ADDRESS(($AN93-1)*3+$AO93+5,$AP93+7))),IF(INDIRECT(ADDRESS(($AN93-1)*3+$AO93+5,$AP93+7))="",0,IF(COUNTIF(INDIRECT(ADDRESS(($AN93-1)*36+($AO93-1)*12+6,COLUMN())):INDIRECT(ADDRESS(($AN93-1)*36+($AO93-1)*12+$AP93+4,COLUMN())),INDIRECT(ADDRESS(($AN93-1)*3+$AO93+5,$AP93+7)))>=1,0,INDIRECT(ADDRESS(($AN93-1)*3+$AO93+5,$AP93+7))))) -> 0 | AR93: =COUNTIF(INDIRECT("H"&(ROW()+12*(($AN93-1)*3+$AO93)-ROW())/12+5):INDIRECT("S"&(ROW()+12*(($AN93-1)*3+$AO93)-ROW())/12+5),AQ93) -> 0 | AS93: =IF($AP93=1,IF(INDIRECT(ADDRESS(($AN93-1)*3+$AO93+5,$AP93+20))="",0,INDIRECT(ADDRESS(($AN93-1)*3+$AO93+5,$AP93+20))),IF(INDIRECT(ADDRESS(($AN93-1)*3+$AO93+5,$AP93+20))="",0,IF(COUNTIF(INDIRECT(ADDRESS(($AN93-1)*36+($AO93-1)*12+6,COLUMN())):INDIRECT(ADDRESS(($AN93-1)*36+($AO93-1)*12+$AP93+4,COLUMN())),INDIRECT(ADDRESS(($AN93-1)*3+$AO93+5,$AP93+20)))>=1,0,INDIRECT(ADDRESS(($AN93-1)*3+$AO93+5,$AP93+20))))) -> 0 | AT93: =COUNTIF(INDIRECT("U"&(ROW()+12*(($AN93-1)*3+$AO93)-ROW())/12+5):INDIRECT("AF"&(ROW()+12*(($AN93-1)*3+$AO93)-ROW())/12+5),AS93) -> 0 | AU93: =IF(AND(AQ93+AS93>0,AR93+AT93>0),COUNTIF(AU$6:AU92,">0")+1,0) -> 0 | BE93: 1 | BG93: =SUM(H93:H94) -> 0 | BH93: =SUM(I93:I94) -> 0 | BI93: =SUM(J93:J94) -> 0 | BJ93: =SUM(K93:K94) -> 0 | BK93: =SUM(L93:L94) -> 0 | BL93: =SUM(M93:M94) -> 0 | BM93: =SUM(N93:N94) -> 0 | BN93: =SUM(O93:O94) -> 0 | ... BR93: =SUM(S93:S94) -> 0 | BT93: =SUM(U93:U94) -> 0 | BU93: =SUM(V93:V94) -> 0 | BV93: =SUM(W93:W94) -> 0 | BW93: =SUM(X93:X94) -> 0 | BX93: =SUM(Y93:Y94) -> 0 | BY93: =SUM(Z93:Z94) -> 0 | BZ93: =SUM(AA93:AA94) -> 0 | CA93: =SUM(AB93:AB94) -> 0 | ... CE93: =SUM(AF93:AF94) -> 0 | CH93: min対象 | CI93: =IF(OR($D93="副園長",$D93="教頭",$D93="主任保育士",$D93="主幹教諭",$D93="主幹保育教諭"),0,BG93) -> 0 | CJ93: =IF(OR($D93="副園長",$D93="教頭",$D93="主任保育士",$D93="主幹教諭",$D93="主幹保育教諭"),0,BH93) -> 0 | CK93: =IF(OR($D93="副園長",$D93="教頭",$D93="主任保育士",$D93="主幹教諭",$D93="主幹保育教諭"),0,BI93) -> 0 | CL93: =IF(OR($D93="副園長",$D93="教頭",$D93="主任保育士",$D93="主幹教諭",$D93="主幹保育教諭"),0,BJ93) -> 0 | CM93: =IF(OR($D93="副園長",$D93="教頭",$D93="主任保育士",$D93="主幹教諭",$D93="主幹保育教諭"),0,BK93) -> 0 | CN93: =IF(OR($D93="副園長",$D93="教頭",$D93="主任保育士",$D93="主幹教諭",$D93="主幹保育教諭"),0,BL93) -> 0 | CO93: =IF(OR($D93="副園長",$D93="教頭",$D93="主任保育士",$D93="主幹教諭",$D93="主幹保育教諭"),0,BM93) -> 0 | CP93: =IF(OR($D93="副園長",$D93="教頭",$D93="主任保育士",$D93="主幹教諭",$D93="主幹保育教諭"),0,BN93) -> 0 | ... CT93: =IF(OR($D93="副園長",$D93="教頭",$D93="主任保育士",$D93="主幹教諭",$D93="主幹保育教諭"),0,BR93) -> 0
