Workbook
Name _1_200804月報_市町村配布用_: 区別被保険者数推移!$A$2:$B$21
Name _2_200804月報_市町村配布用_: #REF!
Name _2_200804月報_市町村配布用_: #REF!
Name _3_200903月報: 区別・負担区分別被保険者数!$A$3:$L$22
Name _4_200903月報: 区別被保険者数!$A$3:$D$21
Name _5_200903月報: 区別・年齢階層別被保険者数!$A$3:$J$21

Sheet 区別被保険者数
A1: 後期高齢者医療 区別被保険者数内訳
D2: （単位：人）
A3: 区名 | B3: 75歳以上 | C3: 65～74歳で障害認定を 受けた被保険者 | D3: 合計
A4: 鶴見区 | B4: =D4-C4 -> 33549 | C4: =SUM(区別・年齢階層別被保険者数!B4:C4) -> 80 | D4: 33629
A5: 神奈川区 | B5: =D5-C5 -> 29515 | C5: =SUM(区別・年齢階層別被保険者数!B5:C5) -> 110 | D5: 29625
A6: 西区 | B6: =D6-C6 -> 11059 | C6: =SUM(区別・年齢階層別被保険者数!B6:C6) -> 52 | D6: 11111
A7: 中区 | B7: =D7-C7 -> 17468 | C7: =SUM(区別・年齢階層別被保険者数!B7:C7) -> 45 | D7: 17513
A8: 南区 | B8: =D8-C8 -> 28853 | C8: =SUM(区別・年齢階層別被保険者数!B8:C8) -> 98 | D8: 28951
A9: 保土ケ谷区 | B9: =D9-C9 -> 30923 | C9: =SUM(区別・年齢階層別被保険者数!B9:C9) -> 104 | D9: 31027
A10: 磯子区 | B10: =D10-C10 -> 26658 | C10: =SUM(区別・年齢階層別被保険者数!B10:C10) -> 67 | D10: 26725
A11: 金沢区 | B11: =D11-C11 -> 34971 | C11: =SUM(区別・年齢階層別被保険者数!B11:C11) -> 125 | D11: 35096
A12: 港北区 | B12: =D12-C12 -> 39823 | C12: =SUM(区別・年齢階層別被保険者数!B12:C12) -> 154 | D12: 39977
A13: 戸塚区 | B13: =D13-C13 -> 42807 | C13: =SUM(区別・年齢階層別被保険者数!B13:C13) -> 150 | D13: 42957
A14: 港南区 | B14: =D14-C14 -> 37016 | C14: =SUM(区別・年齢階層別被保険者数!B14:C14) -> 107 | D14: 37123
A15: 旭区 | B15: =D15-C15 -> 42523 | C15: =SUM(区別・年齢階層別被保険者数!B15:C15) -> 141 | D15: 42664
... A21: 都筑区 | B21: =D21-C21 -> 22463 | C21: =SUM(区別・年齢階層別被保険者数!B21:C21) -> 46 | D21: 22509
A22: 横浜市計 | B22: =SUM(B4:B21) -> 532680 | C22: =SUM(C4:C21) -> 1595 | D22: =SUM(D4:D21) -> 534275
D23: 令和７年３月末

Sheet 区別被保険者数推移
A1: 後期高齢者医療 区別被保険者数推移
M2: （単位：人）
A3: 区名 | B3: ４月 | C3: ５月 | D3: ６月 | E3: ７月 | F3: ８月 | G3: ９月 | H3: 10月 | I3: 11月 | J3: 12月 | K3: １月 | L3: ２月 | M3: ３月
A4: 鶴見区 | B4: 32737 | C4: 32817 | D4: 32891 | E4: 32977 | F4: 33023 | G4: 33157 | H4: 33265 | I4: 33352 | J4: 33419 | K4: 33510 | L4: 33562 | M4: 33629
A5: 神奈川区 | B5: 28842 | C5: 28919 | D5: 28996 | E5: 29065 | F5: 29097 | G5: 29196 | H5: 29264 | I5: 29357 | J5: 29434 | K5: 29513 | L5: 29588 | M5: 29625
A6: 西区 | B6: 10805 | C6: 10841 | D6: 10856 | E6: 10896 | F6: 10917 | G6: 10949 | H6: 10978 | I6: 10990 | J6: 11031 | K6: 11058 | L6: 11094 | M6: 11111
A7: 中区 | B7: 16974 | C7: 16974 | D7: 17018 | E7: 17086 | F7: 17159 | G7: 17238 | H7: 17291 | I7: 17357 | J7: 17400 | K7: 17463 | L7: 17486 | M7: 17513
A8: 南区 | B8: 28270 | C8: 28397 | D8: 28509 | E8: 28576 | F8: 28626 | G8: 28724 | H8: 28795 | I8: 28831 | J8: 28871 | K8: 28884 | L8: 28922 | M8: 28951
A9: 保土ケ谷区 | B9: 30236 | C9: 30293 | D9: 30383 | E9: 30443 | F9: 30537 | G9: 30690 | H9: 30742 | I9: 30809 | J9: 30838 | K9: 30868 | L9: 30967 | M9: 31027
A10: 磯子区 | B10: 26090 | C10: 26142 | D10: 26196 | E10: 26281 | F10: 26349 | G10: 26420 | H10: 26492 | I10: 26529 | J10: 26615 | K10: 26666 | L10: 26696 | M10: 26725
A11: 金沢区 | B11: 33960 | C11: 34078 | D11: 34193 | E11: 34278 | F11: 34398 | G11: 34557 | H11: 34667 | I11: 34712 | J11: 34833 | K11: 34942 | L11: 35023 | M11: 35096
A12: 港北区 | B12: 38853 | C12: 38944 | D12: 39047 | E12: 39141 | F12: 39270 | G12: 39379 | H12: 39486 | I12: 39593 | J12: 39671 | K12: 39754 | L12: 39887 | M12: 39977
A13: 戸塚区 | B13: 41705 | C13: 41817 | D13: 41943 | E13: 42055 | F13: 42204 | G13: 42366 | H13: 42521 | I13: 42634 | J13: 42673 | K13: 42734 | L13: 42838 | M13: 42957
A14: 港南区 | B14: 36301 | C14: 36336 | D14: 36435 | E14: 36531 | F14: 36625 | G14: 36751 | H14: 36830 | I14: 36883 | J14: 36942 | K14: 37047 | L14: 37094 | M14: 37123
A15: 旭区 | B15: 41888 | C15: 41947 | D15: 42024 | E15: 42111 | F15: 42169 | G15: 42272 | H15: 42363 | I15: 42424 | J15: 42470 | K15: 42498 | L15: 42595 | M15: 42664
... A21: 都筑区 | B21: 21665 | C21: 21732 | D21: 21802 | E21: 21897 | F21: 21986 | G21: 22075 | H21: 22144 | I21: 22210 | J21: 22258 | K21: 22322 | L21: 22411 | M21: 22509
A22: 横浜市計 | B22: =SUM(B4:B21) -> 520026 | C22: =SUM(C4:C21) -> 521232 | D22: =SUM(D4:D21) -> 522639 | E22: =SUM(E4:E21) -> 523996 | F22: =SUM(F4:F21) -> 525395 | G22: =SUM(G4:G21) -> 527294 | H22: =SUM(H4:H21) -> 528781 | I22: =SUM(I4:I21) -> 529926 | ... M22: =SUM(M4:M21) -> 534275
M23: 令和７年３月末

Sheet 区別・年齢階層別被保険者数
A1: 後期高齢者医療 区別・年齢階層別被保険者数
J2: （単位：人）
A3: 区名 | B3: 65歳～69歳 | C3: 70歳～74歳 | D3: 75歳～79歳 | E3: 80歳～84歳 | F3: 85歳～89歳 | G3: 90歳～94歳 | H3: 95歳～99歳 | I3: 100歳以上 | J3: 合計
A4: 鶴見区 | B4: 35 | C4: 45 | D4: 13682 | E4: 9858 | F4: 5957 | G4: 3104 | H4: 823 | I4: 125 | J4: =SUM(B4:I4) -> 33629
A5: 神奈川区 | B5: 41 | C5: 69 | D5: 11620 | E5: 8445 | F5: 5492 | G5: 2949 | H5: 885 | I5: 124 | J5: =SUM(B5:I5) -> 29625
A6: 西区 | B6: 20 | C6: 32 | D6: 4384 | E6: 3019 | F6: 2069 | G6: 1187 | H6: 350 | I6: 50 | J6: =SUM(B6:I6) -> 11111
A7: 中区 | B7: 20 | C7: 25 | D7: 7099 | E7: 4834 | F7: 3069 | G7: 1832 | H7: 546 | I7: 88 | J7: =SUM(B7:I7) -> 17513
A8: 南区 | B8: 33 | C8: 65 | D8: 11140 | E8: 8376 | F8: 5533 | G8: 2857 | H8: 834 | I8: 113 | J8: =SUM(B8:I8) -> 28951
A9: 保土ケ谷区 | B9: 38 | C9: 66 | D9: 11532 | E9: 9105 | F9: 6162 | G9: 3158 | H9: 867 | I9: 99 | J9: =SUM(B9:I9) -> 31027
A10: 磯子区 | B10: 31 | C10: 36 | D10: 10234 | E10: 7941 | F10: 5046 | G10: 2633 | H10: 716 | I10: 88 | J10: =SUM(B10:I10) -> 26725
A11: 金沢区 | B11: 46 | C11: 79 | D11: 13818 | E11: 10373 | F11: 6503 | G11: 3174 | H11: 955 | I11: 148 | J11: =SUM(B11:I11) -> 35096
A12: 港北区 | B12: 42 | C12: 112 | D12: 15405 | E12: 11633 | F12: 7517 | G12: 3921 | H12: 1163 | I12: 184 | J12: =SUM(B12:I12) -> 39977
A13: 戸塚区 | B13: 50 | C13: 100 | D13: 16243 | E13: 12902 | F13: 8645 | G13: 3855 | H13: 1013 | I13: 149 | J13: =SUM(B13:I13) -> 42957
A14: 港南区 | B14: 33 | C14: 74 | D14: 13763 | E14: 11286 | F14: 7514 | G14: 3478 | H14: 842 | I14: 133 | J14: =SUM(B14:I14) -> 37123
A15: 旭区 | B15: 54 | C15: 87 | D15: 15371 | E15: 12919 | F15: 8703 | G15: 4231 | H15: 1137 | I15: 162 | J15: =SUM(B15:I15) -> 42664
... A21: 都筑区 | B21: 17 | C21: 29 | D21: 8743 | E21: 6807 | F21: 4272 | G21: 2033 | H21: 542 | I21: 66 | J21: =SUM(B21:I21) -> 22509
A22: 横浜市計 | B22: =SUM(B4:B21) -> 574 | C22: =SUM(C4:C21) -> 1021 | D22: =SUM(D4:D21) -> 204221 | E22: =SUM(E4:E21) -> 159001 | F22: =SUM(F4:F21) -> 102730 | G22: =SUM(G4:G21) -> 50795 | H22: =SUM(H4:H21) -> 13944 | I22: =SUM(I4:I21) -> 1989 | J22: =SUM(J4:J21) -> 534275
J23: 令和７年３月末

Sheet 区別・負担区分別被保険者数
A1: 後期高齢者医療 区別・負担区分別被保険者数
P2: （単位：人）
A3: 区名 | B3: 現役並み所得者Ⅲ | D3: 現役並み所得者Ⅱ | F3: 現役並み所得者Ⅰ | H3: 一般Ⅱ | J3: 一般Ⅰ | L3: 低所得者Ⅱ | N3: 低所得者Ⅰ | P3: 合計
B4: 人数 | C4: 割合 | D4: 人数 | E4: 割合 | F4: 人数 | G4: 割合 | H4: 人数 | I4: 割合 | J4: 人数 | K4: 割合 | L4: 人数 | M4: 割合 | N4: 人数 | O4: 割合 | P4: 人数
A5: 鶴見区 | B5: 818 | C5: =B5/P5 -> 0.024324244 | D5: 662 | E5: =D5/P5 -> 0.019685391 | F5: 2448 | G5: =F5/P5 -> 0.072794314 | H5: 8176 | I5: =H5/P5 -> 0.24312349 | J5: 8912 | K5: =J5/P5 -> 0.26500937 | L5: =P5-N5-J5-H5-F5-D5-B5 -> 7603 | M5: =L5/P5 -> 0.22608463 | N5: 5010 | O5: =N5/P5 -> 0.14897856 | P5: =区別被保険者数!D4 -> 33629
A6: 神奈川区 | B6: 779 | C6: =B6/P6 -> 0.026295359 | D6: 601 | E6: =D6/P6 -> 0.02028692 | F6: 2392 | G6: =F6/P6 -> 0.080742616 | H6: 7475 | I6: =H6/P6 -> 0.25232068 | J6: 7274 | K6: =J6/P6 -> 0.24553586 | L6: =P6-N6-J6-H6-F6-D6-B6 -> 6507 | M6: =L6/P6 -> 0.21964557 | N6: 4597 | O6: =N6/P6 -> 0.155173 | P6: =区別被保険者数!D5 -> 29625
A7: 西区 | B7: 338 | C7: =B7/P7 -> 0.030420304 | D7: 260 | E7: =D7/P7 -> 0.023400234 | F7: 1021 | G7: =F7/P7 -> 0.091890919 | H7: 2630 | I7: =H7/P7 -> 0.23670237 | J7: 2525 | K7: =J7/P7 -> 0.22725227 | L7: =P7-N7-J7-H7-F7-D7-B7 -> 2471 | M7: =L7/P7 -> 0.22239222 | N7: 1866 | O7: =N7/P7 -> 0.16794168 | P7: =区別被保険者数!D6 -> 11111
A8: 中区 | B8: 724 | C8: =B8/P8 -> 0.041340718 | D8: 478 | E8: =D8/P8 -> 0.02729401 | F8: 1583 | G8: =F8/P8 -> 0.090389996 | H8: 4217 | I8: =H8/P8 -> 0.24079255 | J8: 3916 | K8: =J8/P8 -> 0.22360532 | L8: =P8-N8-J8-H8-F8-D8-B8 -> 3578 | M8: =L8/P8 -> 0.20430537 | N8: 3017 | O8: =N8/P8 -> 0.17227203 | P8: =区別被保険者数!D7 -> 17513
A9: 南区 | B9: 464 | C9: =B9/P9 -> 0.01602708 | D9: 366 | E9: =D9/P9 -> 0.01264205 | F9: 1991 | G9: =F9/P9 -> 0.068771372 | H9: 7363 | I9: =H9/P9 -> 0.25432628 | J9: 7145 | K9: =J9/P9 -> 0.24679631 | L9: =P9-N9-J9-H9-F9-D9-B9 -> 6855 | M9: =L9/P9 -> 0.23677939 | N9: 4767 | O9: =N9/P9 -> 0.16465752 | P9: =区別被保険者数!D8 -> 28951
A10: 保土ケ谷区 | B10: 525 | C10: =B10/P10 -> 0.016920746 | D10: 469 | E10: =D10/P10 -> 0.015115867 | F10: 2436 | G10: =F10/P10 -> 0.078512264 | H10: 7992 | I10: =H10/P10 -> 0.25758211 | J10: 7630 | K10: =J10/P10 -> 0.24591485 | L10: =P10-N10-J10-H10-F10-D10-B10 -> 6947 | M10: =L10/P10 -> 0.22390176 | N10: 5028 | O10: =N10/P10 -> 0.16205241 | P10: =区別被保険者数!D9 -> 31027
A11: 磯子区 | B11: 437 | C11: =B11/P11 -> 0.016351731 | D11: 427 | E11: =D11/P11 -> 0.015977549 | F11: 1993 | G11: =F11/P11 -> 0.074574369 | H11: 7256 | I11: =H11/P11 -> 0.27150608 | J11: 6682 | K11: =J11/P11 -> 0.25002806 | L11: =P11-N11-J11-H11-F11-D11-B11 -> 5731 | M11: =L11/P11 -> 0.21444341 | N11: 4199 | O11: =N11/P11 -> 0.1571188 | P11: =区別被保険者数!D10 -> 26725
A12: 金沢区 | B12: 697 | C12: =B12/P12 -> 0.019859813 | D12: 610 | E12: =D12/P12 -> 0.017380898 | F12: 3126 | G12: =F12/P12 -> 0.089069979 | H12: 10950 | I12: =H12/P12 -> 0.31200137 | J12: 8296 | K12: =J12/P12 -> 0.23638021 | L12: =P12-N12-J12-H12-F12-D12-B12 -> 6529 | M12: =L12/P12 -> 0.1860326 | N12: 4888 | O12: =N12/P12 -> 0.13927513 | P12: =区別被保険者数!D11 -> 35096
A13: 港北区 | B13: 1557 | C13: =B13/P13 -> 0.038947395 | D13: 1071 | E13: =D13/P13 -> 0.026790404 | F13: 4070 | G13: =F13/P13 -> 0.10180854 | H13: 10501 | I13: =H13/P13 -> 0.26267604 | J13: 9369 | K13: =J13/P13 -> 0.23435976 | L13: =P13-N13-J13-H13-F13-D13-B13 -> 7575 | M13: =L13/P13 -> 0.18948395 | N13: 5834 | O13: =N13/P13 -> 0.14593391 | P13: =区別被保険者数!D12 -> 39977
A14: 戸塚区 | B14: 829 | C14: =B14/P14 -> 0.019298368 | D14: 734 | E14: =D14/P14 -> 0.017086854 | F14: 3587 | G14: =F14/P14 -> 0.083502107 | H14: 12862 | I14: =H14/P14 -> 0.29941569 | J14: 10265 | K14: =J14/P14 -> 0.23895989 | L14: =P14-N14-J14-H14-F14-D14-B14 -> 8284 | M14: =L14/P14 -> 0.19284401 | N14: 6396 | O14: =N14/P14 -> 0.14889308 | P14: =区別被保険者数!D13 -> 42957
A15: 港南区 | B15: 717 | C15: =B15/P15 -> 0.019314172 | D15: 634 | E15: =D15/P15 -> 0.017078361 | F15: 3115 | G15: =F15/P15 -> 0.083910244 | H15: 10754 | I15: =H15/P15 -> 0.28968564 | J15: 8655 | K15: =J15/P15 -> 0.23314387 | L15: =P15-N15-J15-H15-F15-D15-B15 -> 7497 | M15: =L15/P15 -> 0.20195027 | N15: 5751 | O15: =N15/P15 -> 0.15491744 | P15: =区別被保険者数!D14 -> 37123
A16: 旭区 | B16: 638 | C16: =B16/P16 -> 0.01495406 | D16: 572 | E16: =D16/P16 -> 0.013407088 | F16: 3142 | G16: =F16/P16 -> 0.073645228 | H16: 12474 | I16: =H16/P16 -> 0.29237765 | J16: 10438 | K16: =J16/P16 -> 0.24465592 | L16: =P16-N16-J16-H16-F16-D16-B16 -> 8778 | M16: =L16/P16 -> 0.20574723 | N16: 6622 | O16: =N16/P16 -> 0.15521283 | P16: =区別被保険者数!D15 -> 42664
... A22: 都筑区 | B22: 1029 | C22: =B22/P22 -> 0.045715047 | D22: 704 | E22: =D22/P22 -> 0.031276378 | F22: 2391 | G22: =F22/P22 -> 0.10622418 | H22: 5945 | I22: =H22/P22 -> 0.26411658 | J22: 4888 | K22: =J22/P22 -> 0.21715758 | L22: =P22-N22-J22-H22-F22-D22-B22 -> 4306 | M22: =L22/P22 -> 0.19130126 | N22: 3246 | O22: =N22/P22 -> 0.14420898 | P22: =区別被保険者数!D21 -> 22509
A23: 横浜市計 | B23: =SUM(B5:B22) -> 13002 | C23: =B23/P23 -> 0.024335782 | D23: =SUM(D5:D22) -> 10432 | E23: =D23/P23 -> 0.019525525 | F23: =SUM(F5:F22) -> 46709 | G23: =F23/P23 -> 0.087425015 | H23: =SUM(H5:H22) -> 148061 | I23: =H23/P23 -> 0.27712508 | J23: =SUM(J5:J22) -> 126685 | K23: =J23/P23 -> 0.23711572 | L23: =SUM(L5:L22) -> 108300 | M23: =L23/P23 -> 0.2027046 | N23: =SUM(N5:N22) -> 81086 | O23: =N23/P23 -> 0.15176828 | P23: =SUM(B23,D23,F23,H23,L23,N23,J23) -> 534275
P24: 令和７年３月末
