Workbook
Name __DirName: '[1]CHK-E'!$C$2
Name __Part1: '[1]CHK-E'!$B$11:$V$35
Name __Part2: '[1]CHK-E'!$Z$11:$AU$35
Name __Part3: [2]MG_ELECT!$AJ$12:$AO$36
Name __Part4: [2]MG_ELECT!$AR$12:$AV$36
Name _ActiveItem: '[1]CHK-E'!$A$6
Name _Area1: '[1]CHK-E'!$A$10:$V$36
Name _Area2: '[1]CHK-E'!$Y$10:$AU$36
Name _Area3: '[1]CHK-E'!$AY$10:$BG$29
Name _Area4: '[1]CHK-E'!$BO$10:$BW$29
Name _Area5: [3]MG_COLD!$T$11:$Y$24
Name _Area6: [3]MG_COLD!$AA$11:$AF$36
Name _Area7: [3]MG_COLD!$AH$11:$AM$36
Name _Area8: [3]MG_COLD!$AO$11:$AT$36
Name _Comment: '[1]CHK-E'!$A$8
Name _DataType: '[1]CHK-E'!$A$2
Name _DataVersion: '[1]CHK-E'!$A$4
Name _FWInformation: '[1]CHK-E'!$C$4
Name _Point1: '[1]CHK-E'!$B$11
Name _Point2: '[1]CHK-E'!$Z$11
Name _Point3: '[1]CHK-E'!$A$60
Name _Point4: [3]MG_COLD!$AP$13
Name \a: #REF!
Name \b: #REF!
Name \c: #REF!
Name Mark: [3]MG_COLD!$A$1:$A$8
Name nzan: #REF!
Name nzanj: #REF!
Name tito: #REF!
Name ああああああああ: #REF!
Name ｴﾈｼｽねた: #REF!
Name データ: '[4]データ(記入例）'!$A$11:$Y$20
Name 見積伺: #REF!
Name 工程表: #REF!
Name 広島ｶﾞｽ殿: #REF!
Name 山積実績: #REF!
Name 山積予定: #REF!
Name 実行伺: #REF!
Name 詳細見積: #REF!
Name 東電ねた: #REF!
Name 発電家１２: #REF!
Name 発電家種類１０: #REF!
Name 表紙: #REF!

Sheet 2025.8
A2: 45870 | B2: 資源循環局旭工場
A3: 時間毎の電力量 | AH3: 単位：kＷｈ
B4: =A2 -> 45870 | C4: =B4+1 -> 45871 | D4: =C4+1 -> 45872 | E4: =D4+1 -> 45873 | F4: =E4+1 -> 45874 | G4: =F4+1 -> 45875 | H4: =G4+1 -> 45876 | I4: =H4+1 -> 45877 | J4: =I4+1 -> 45878 | ... AF4: =AE4+1 -> 45900 | AG4: 合 計
B5: =WEEKDAY(B4) -> 6 | C5: =WEEKDAY(C4) -> 7 | D5: =WEEKDAY(D4) -> 1 | E5: =WEEKDAY(E4) -> 2 | F5: =WEEKDAY(F4) -> 3 | G5: =WEEKDAY(G4) -> 4 | H5: =WEEKDAY(H4) -> 5 | I5: =WEEKDAY(I4) -> 6 | ... AF5: =WEEKDAY(AF4) -> 1
B6: =IF(OR(B5=1,COUNTIF(休日!$B:$B,B4)>0),"休日","平日") -> 平日 | C6: =IF(OR(C5=1,COUNTIF(休日!$B:$B,C4)>0),"休日","平日") -> 平日 | D6: =IF(OR(D5=1,COUNTIF(休日!$B:$B,D4)>0),"休日","平日") -> 休日 | E6: =IF(OR(E5=1,COUNTIF(休日!$B:$B,E4)>0),"休日","平日") -> 平日 | F6: =IF(OR(F5=1,COUNTIF(休日!$B:$B,F4)>0),"休日","平日") -> 平日 | G6: =IF(OR(G5=1,COUNTIF(休日!$B:$B,G4)>0),"休日","平日") -> 平日 | H6: =IF(OR(H5=1,COUNTIF(休日!$B:$B,H4)>0),"休日","平日") -> 平日 | I6: =IF(OR(I5=1,COUNTIF(休日!$B:$B,I4)>0),"休日","平日") -> 平日 | ... AF6: =IF(OR(AF5=1,COUNTIF(休日!$B:$B,AF4)>0),"休日","平日") -> 休日
A7: 0:00-0:30 | B7: 1435 | C7: 1309 | D7: 1337 | E7: 1239 | F7: 1477 | G7: 1337 | H7: 1141 | I7: 1337 | J7: 1211 | K7: 1323 | L7: 1351 | M7: 1295 | N7: 1281 | O7: 1645 | P7: 1323 | Q7: 1155 | R7: 1309 | S7: 1113 | T7: 1393 | U7: 1253 | V7: 1351 | W7: 1043 | X7: 1309 | Y7: 1281 | Z7: 1421 | AA7: 1351 | AB7: 1001 | AC7: 1309 | AD7: 1309 | AE7: 1239 | AF7: 1393 | AG7: =SUM(B7:AF7) -> 40271
A8: 0:30-1:00 | B8: 1435 | C8: 1239 | D8: 1281 | E8: 1407 | F8: 1393 | G8: 1491 | H8: 1197 | I8: 1603 | J8: 1183 | K8: 1309 | L8: 1155 | M8: 1463 | N8: 1253 | O8: 1141 | P8: 1533 | Q8: 1169 | R8: 1323 | S8: 1435 | T8: 1295 | U8: 1295 | V8: 1337 | W8: 1169 | X8: 1337 | Y8: 1183 | Z8: 1239 | AA8: 1253 | AB8: 1197 | AC8: 1155 | AD8: 1295 | AE8: 1309 | AF8: 1379 | AG8: =SUM(B8:AF8) -> 40453
A9: 1:00-1:30 | B9: 1337 | C9: 1365 | D9: 1211 | E9: 1211 | F9: 1281 | G9: 1393 | H9: 1365 | I9: 1323 | J9: 1295 | K9: 1519 | L9: 1351 | M9: 1267 | N9: 1365 | O9: 1169 | P9: 1057 | Q9: 1337 | R9: 1155 | S9: 1155 | T9: 1197 | U9: 1379 | V9: 1393 | W9: 1393 | X9: 1449 | Y9: 1309 | Z9: 1295 | AA9: 1323 | AB9: 1323 | AC9: 1463 | AD9: 1323 | AE9: 1379 | AF9: 1421 | AG9: =SUM(B9:AF9) -> 40803
A10: 1:30-2:00 | B10: 1323 | C10: 1407 | D10: 1337 | E10: 1379 | F10: 1253 | G10: 1379 | H10: 1533 | I10: 1449 | J10: 1505 | K10: 1449 | L10: 1519 | M10: 1365 | N10: 1379 | O10: 1491 | P10: 1435 | Q10: 1239 | R10: 1295 | S10: 1449 | T10: 1323 | U10: 1365 | V10: 1197 | W10: 1379 | X10: 1379 | Y10: 1155 | Z10: 1533 | AA10: 1197 | AB10: 1127 | AC10: 1295 | AD10: 1337 | AE10: 1407 | AF10: 1365 | AG10: =SUM(B10:AF10) -> 42245
A11: 2:00-2:30 | B11: 1211 | C11: 1407 | D11: 1323 | E11: 1449 | F11: 1463 | G11: 1407 | H11: 1407 | I11: 1239 | J11: 1323 | K11: 1351 | L11: 1379 | M11: 1421 | N11: 1351 | O11: 1225 | P11: 1379 | Q11: 1239 | R11: 1337 | S11: 1225 | T11: 1239 | U11: 1351 | V11: 1351 | W11: 1407 | X11: 1379 | Y11: 1239 | Z11: 1337 | AA11: 1379 | AB11: 1337 | AC11: 1351 | AD11: 1435 | AE11: 1407 | AF11: 1253 | AG11: =SUM(B11:AF11) -> 41601
A12: 2:30-3:00 | B12: 1365 | C12: 1435 | D12: 1407 | E12: 1127 | F12: 1323 | G12: 1435 | H12: 1393 | I12: 1323 | J12: 1407 | K12: 1393 | L12: 1421 | M12: 1309 | N12: 1463 | O12: 1309 | P12: 1463 | Q12: 1211 | R12: 1505 | S12: 1533 | T12: 1281 | U12: 1351 | V12: 1309 | W12: 1379 | X12: 1491 | Y12: 1435 | Z12: 1449 | AA12: 1421 | AB12: 1323 | AC12: 1211 | AD12: 1295 | AE12: 1295 | AF12: 1379 | AG12: =SUM(B12:AF12) -> 42441
A13: 3:00-3:30 | B13: 1365 | C13: 1197 | D13: 1365 | E13: 1365 | F13: 1365 | G13: 1323 | H13: 1421 | I13: 1267 | J13: 1351 | K13: 1449 | L13: 1309 | M13: 1393 | N13: 1211 | O13: 1379 | P13: 1603 | Q13: 1449 | R13: 1295 | S13: 1225 | T13: 1309 | U13: 1393 | V13: 1337 | W13: 1379 | X13: 1281 | Y13: 1267 | Z13: 1253 | AA13: 1421 | AB13: 1309 | AC13: 1267 | AD13: 1323 | AE13: 1309 | AF13: 1351 | AG13: =SUM(B13:AF13) -> 41531
A14: 3:30-4:00 | B14: 1267 | C14: 1547 | D14: 1421 | E14: 1197 | F14: 1337 | G14: 1281 | H14: 1281 | I14: 1379 | J14: 1295 | K14: 1435 | L14: 1477 | M14: 1379 | N14: 1379 | O14: 1225 | P14: 1267 | Q14: 1365 | R14: 1477 | S14: 1407 | T14: 1253 | U14: 1351 | V14: 1323 | W14: 1379 | X14: 1407 | Y14: 1421 | Z14: 1267 | AA14: 1295 | AB14: 1393 | AC14: 1225 | AD14: 1351 | AE14: 1169 | AF14: 1561 | AG14: =SUM(B14:AF14) -> 41811
A15: 4:00-4:30 | B15: 1183 | C15: 1211 | D15: 1281 | E15: 1085 | F15: 1295 | G15: 1337 | H15: 1267 | I15: 1295 | J15: 1309 | K15: 1337 | L15: 1281 | M15: 1169 | N15: 1281 | O15: 1575 | P15: 1379 | Q15: 1253 | R15: 1239 | S15: 1281 | T15: 1211 | U15: 1309 | V15: 1323 | W15: 1253 | X15: 1211 | Y15: 1043 | Z15: 1141 | AA15: 1281 | AB15: 1309 | AC15: 1183 | AD15: 1253 | AE15: 1197 | AF15: 1281 | AG15: =SUM(B15:AF15) -> 39053
A16: 4:30-5:00 | B16: 1225 | C16: 1225 | D16: 1183 | E16: 1533 | F16: 1239 | G16: 1323 | H16: 1211 | I16: 1183 | J16: 1393 | K16: 1057 | L16: 1309 | M16: 1309 | N16: 1295 | O16: 1337 | P16: 1435 | Q16: 1239 | R16: 1253 | S16: 1295 | T16: 1001 | U16: 1225 | V16: 1337 | W16: 1183 | X16: 1099 | Y16: 1379 | Z16: 1169 | AA16: 1281 | AB16: 1197 | AC16: 1169 | AD16: 1057 | AE16: 1225 | AF16: 1225 | AG16: =SUM(B16:AF16) -> 38591
A17: 5:00-5:30 | B17: 1239 | C17: 1197 | D17: 1169 | E17: 1183 | F17: 1295 | G17: 1393 | H17: 1197 | I17: 1183 | J17: 1197 | K17: 1099 | L17: 1071 | M17: 1309 | N17: 1281 | O17: 1169 | P17: 1155 | Q17: 1253 | R17: 1071 | S17: 1197 | T17: 1337 | U17: 1323 | V17: 1225 | W17: 1253 | X17: 1449 | Y17: 1281 | Z17: 1351 | AA17: 1323 | AB17: 1239 | AC17: 1225 | AD17: 1211 | AE17: 1225 | AF17: 1183 | AG17: =SUM(B17:AF17) -> 38283
A18: 5:30-6:00 | B18: 1449 | C18: 1365 | D18: 1197 | E18: 1295 | F18: 1211 | G18: 1421 | H18: 1365 | I18: 1491 | J18: 1393 | K18: 1225 | L18: 1309 | M18: 1421 | N18: 1323 | O18: 1239 | P18: 1323 | Q18: 1281 | R18: 1491 | S18: 1421 | T18: 1211 | U18: 1099 | V18: 1281 | W18: 1183 | X18: 1085 | Y18: 1351 | Z18: 1309 | AA18: 1267 | AB18: 1211 | AC18: 1253 | AD18: 1477 | AE18: 1239 | AF18: 1183 | AG18: =SUM(B18:AF18) -> 40369
... A54: 23:30-24:00 | B54: 1379 | C54: 1323 | D54: 1281 | E54: 1351 | F54: 1365 | G54: 1379 | H54: 1365 | I54: 1463 | J54: 1337 | K54: 1379 | L54: 1239 | M54: 1197 | N54: 1617 | O54: 1225 | P54: 1351 | Q54: 1225 | R54: 1379 | S54: 1309 | T54: 1225 | U54: 1323 | V54: 1295 | W54: 1379 | X54: 1281 | Y54: 1295 | Z54: 1281 | AA54: 1253 | AB54: 1435 | AC54: 1449 | AD54: 1435 | AE54: 1379 | AF54: 1505 | AG54: =SUM(B54:AF54) -> 41699
A55: 平日昼間 | B55: =IF(B6="平日",SUM(B23:B50),0) -> 29284 | C55: =IF(C6="平日",SUM(C23:C50),0) -> 32592 | D55: =IF(D6="平日",SUM(D23:D50),0) -> 0 | E55: =IF(E6="平日",SUM(E23:E50),0) -> 29228 | F55: =IF(F6="平日",SUM(F23:F50),0) -> 28388 | G55: =IF(G6="平日",SUM(G23:G50),0) -> 30012 | H55: =IF(H6="平日",SUM(H23:H50),0) -> 31356 | I55: =IF(I6="平日",SUM(I23:I50),0) -> 29900 | ... AF55: =IF(AF6="平日",SUM(AF23:AF50),0) -> 0 | AG55: =ROUND(SUM(B55:AF55),0) -> 749228
A56: 夜間休日 | B56: =B57-B55 -> 25726 | C56: =C57-C55 -> 26334 | D56: =D57-D55 -> 60004 | E56: =E57-E55 -> 24970 | F56: =F57-F55 -> 26384 | G56: =G57-G55 -> 26832 | H56: =H57-H55 -> 26356 | I56: =I57-I55 -> 26734 | ... AF56: =AF57-AF55 -> 59962 | AG56: =ROUND(SUM(B56:AF56),0) -> 1007068
A57: 計 | B57: =SUM(B7:B54) -> 55010 | C57: =SUM(C7:C54) -> 58926 | D57: =SUM(D7:D54) -> 60004 | E57: =SUM(E7:E54) -> 54198 | F57: =SUM(F7:F54) -> 54772 | G57: =SUM(G7:G54) -> 56844 | H57: =SUM(H7:H54) -> 57712 | I57: =SUM(I7:I54) -> 56634 | ... AF57: =SUM(AF7:AF54) -> 59962 | AG57: =SUM(AG55:AG56) -> 1756296

Sheet 2025.9
A2: 45901 | B2: 資源循環局旭工場
A3: 時間毎の電力量 | AH3: 単位：kＷｈ
B4: =A2 -> 45901 | C4: =B4+1 -> 45902 | D4: =C4+1 -> 45903 | E4: =D4+1 -> 45904 | F4: =E4+1 -> 45905 | G4: =F4+1 -> 45906 | H4: =G4+1 -> 45907 | I4: =H4+1 -> 45908 | J4: =I4+1 -> 45909 | ... AF4: =AE4+1 -> 45931 | AG4: 合 計
B5: =WEEKDAY(B4) -> 2 | C5: =WEEKDAY(C4) -> 3 | D5: =WEEKDAY(D4) -> 4 | E5: =WEEKDAY(E4) -> 5 | F5: =WEEKDAY(F4) -> 6 | G5: =WEEKDAY(G4) -> 7 | H5: =WEEKDAY(H4) -> 1 | I5: =WEEKDAY(I4) -> 2 | ... AF5: =WEEKDAY(AF4) -> 4
B6: =IF(OR(B5=1,COUNTIF(休日!$B:$B,B4)>0),"休日","平日") -> 平日 | C6: =IF(OR(C5=1,COUNTIF(休日!$B:$B,C4)>0),"休日","平日") -> 平日 | D6: =IF(OR(D5=1,COUNTIF(休日!$B:$B,D4)>0),"休日","平日") -> 平日 | E6: =IF(OR(E5=1,COUNTIF(休日!$B:$B,E4)>0),"休日","平日") -> 平日 | F6: =IF(OR(F5=1,COUNTIF(休日!$B:$B,F4)>0),"休日","平日") -> 平日 | G6: =IF(OR(G5=1,COUNTIF(休日!$B:$B,G4)>0),"休日","平日") -> 平日 | H6: =IF(OR(H5=1,COUNTIF(休日!$B:$B,H4)>0),"休日","平日") -> 休日 | I6: =IF(OR(I5=1,COUNTIF(休日!$B:$B,I4)>0),"休日","平日") -> 平日 | ... AF6: =IF(OR(AF5=1,COUNTIF(休日!$B:$B,AF4)>0),"休日","平日") -> 平日
A7: 0:00-0:30 | B7: 1197 | C7: 1183 | D7: 1351 | E7: 1211 | F7: 1351 | G7: 1085 | H7: 1253 | I7: 1183 | J7: 1197 | K7: 1281 | L7: 1113 | M7: 1253 | N7: 1211 | O7: 1701 | P7: 1393 | Q7: 1323 | R7: 1379 | S7: 1631 | T7: 1029 | U7: 1435 | V7: 1435 | W7: 1575 | X7: 1365 | Y7: 1407 | Z7: 1365 | AA7: 1239 | AB7: 1309 | AC7: 1225 | AD7: 1211 | AE7: 1281 | AG7: =SUM(B7:AF7) -> 39172
A8: 0:30-1:00 | B8: 1239 | C8: 1225 | D8: 1295 | E8: 1351 | F8: 1351 | G8: 1491 | H8: 889 | I8: 1211 | J8: 1057 | K8: 1183 | L8: 1169 | M8: 1155 | N8: 1267 | O8: 1813 | P8: 1239 | Q8: 1281 | R8: 1407 | S8: 1421 | T8: 1169 | U8: 1253 | V8: 1393 | W8: 1351 | X8: 1309 | Y8: 1211 | Z8: 1729 | AA8: 1295 | AB8: 1337 | AC8: 1533 | AD8: 1295 | AE8: 1309 | AG8: =SUM(B8:AF8) -> 39228
A9: 1:00-1:30 | B9: 1323 | C9: 1337 | D9: 1393 | E9: 1267 | F9: 1337 | G9: 1323 | H9: 1645 | I9: 1365 | J9: 1225 | K9: 1351 | L9: 1267 | M9: 1323 | N9: 1379 | O9: 1519 | P9: 1197 | Q9: 1351 | R9: 1337 | S9: 1715 | T9: 1309 | U9: 1435 | V9: 1393 | W9: 1407 | X9: 1351 | Y9: 1253 | Z9: 1491 | AA9: 1379 | AB9: 1267 | AC9: 1435 | AD9: 1253 | AE9: 1281 | AG9: =SUM(B9:AF9) -> 40908
A10: 1:30-2:00 | B10: 1281 | C10: 1337 | D10: 1267 | E10: 1421 | F10: 1365 | G10: 1323 | H10: 1421 | I10: 1309 | J10: 1323 | K10: 1379 | L10: 1281 | M10: 1323 | N10: 1239 | O10: 1827 | P10: 1309 | Q10: 1323 | R10: 1351 | S10: 1547 | T10: 1379 | U10: 1379 | V10: 1421 | W10: 1295 | X10: 1239 | Y10: 1309 | Z10: 1589 | AA10: 1295 | AB10: 1463 | AC10: 1393 | AD10: 1309 | AE10: 1463 | AG10: =SUM(B10:AF10) -> 41160
A11: 2:00-2:30 | B11: 1225 | C11: 1421 | D11: 1477 | E11: 1435 | F11: 1365 | G11: 1211 | H11: 1995 | I11: 1239 | J11: 1239 | K11: 1365 | L11: 1323 | M11: 1547 | N11: 1393 | O11: 1771 | P11: 1351 | Q11: 1379 | R11: 1295 | S11: 1491 | T11: 1113 | U11: 1309 | V11: 1505 | W11: 1589 | X11: 1295 | Y11: 1211 | Z11: 2023 | AA11: 1449 | AB11: 1435 | AC11: 1295 | AD11: 1309 | AE11: 1435 | AG11: =SUM(B11:AF11) -> 42490
A12: 2:30-3:00 | B12: 1253 | C12: 1337 | D12: 1379 | E12: 1379 | F12: 1435 | G12: 1575 | H12: 1393 | I12: 1057 | J12: 1491 | K12: 1295 | L12: 1267 | M12: 1407 | N12: 1407 | O12: 1379 | P12: 1379 | Q12: 1225 | R12: 1365 | S12: 1323 | T12: 1085 | U12: 1211 | V12: 1421 | W12: 1365 | X12: 1435 | Y12: 1351 | Z12: 1617 | AA12: 1351 | AB12: 1337 | AC12: 1309 | AD12: 1365 | AE12: 1295 | AG12: =SUM(B12:AF12) -> 40488
A13: 3:00-3:30 | B13: 1295 | C13: 1239 | D13: 1337 | E13: 1267 | F13: 1295 | G13: 931 | H13: 1407 | I13: 1421 | J13: 1435 | K13: 1505 | L13: 1337 | M13: 1267 | N13: 1141 | O13: 1519 | P13: 1309 | Q13: 1491 | R13: 1505 | S13: 1491 | T13: 1253 | U13: 1309 | V13: 1603 | W13: 1295 | X13: 1295 | Y13: 1309 | Z13: 1617 | AA13: 1421 | AB13: 1379 | AC13: 1505 | AD13: 1351 | AE13: 1253 | AG13: =SUM(B13:AF13) -> 40782
A14: 3:30-4:00 | B14: 1309 | C14: 1351 | D14: 1393 | E14: 1239 | F14: 1393 | G14: 1085 | H14: 1099 | I14: 1407 | J14: 1407 | K14: 1365 | L14: 1393 | M14: 1309 | N14: 1225 | O14: 1351 | P14: 1267 | Q14: 1407 | R14: 1337 | S14: 1141 | T14: 1211 | U14: 1211 | V14: 1589 | W14: 1197 | X14: 1393 | Y14: 1337 | Z14: 1211 | AA14: 1169 | AB14: 1351 | AC14: 1337 | AD14: 1267 | AE14: 1407 | AG14: =SUM(B14:AF14) -> 39158
A15: 4:00-4:30 | B15: 1141 | C15: 1211 | D15: 1141 | E15: 1183 | F15: 1169 | G15: 1379 | H15: 1379 | I15: 1155 | J15: 1295 | K15: 1337 | L15: 1169 | M15: 1239 | N15: 1225 | O15: 1253 | P15: 1085 | Q15: 1351 | R15: 1365 | S15: 1337 | T15: 1309 | U15: 1225 | V15: 1673 | W15: 1351 | X15: 1211 | Y15: 1197 | Z15: 1225 | AA15: 1309 | AB15: 1155 | AC15: 1141 | AD15: 1141 | AE15: 1211 | AG15: =SUM(B15:AF15) -> 37562
A16: 4:30-5:00 | B16: 1225 | C16: 1183 | D16: 1141 | E16: 1169 | F16: 1281 | G16: 1281 | H16: 1281 | I16: 1225 | J16: 1197 | K16: 1267 | L16: 1099 | M16: 1169 | N16: 987 | O16: 1183 | P16: 959 | Q16: 1239 | R16: 1365 | S16: 1463 | T16: 1393 | U16: 1113 | V16: 1421 | W16: 1113 | X16: 1407 | Y16: 1127 | Z16: 1225 | AA16: 1323 | AB16: 1183 | AC16: 1099 | AD16: 1337 | AE16: 1099 | AG16: =SUM(B16:AF16) -> 36554
A17: 5:00-5:30 | B17: 1127 | C17: 1281 | D17: 1197 | E17: 1001 | F17: 1183 | G17: 1449 | H17: 1393 | I17: 1589 | J17: 1253 | K17: 1281 | L17: 1071 | M17: 1099 | N17: 1323 | O17: 1393 | P17: 1253 | Q17: 987 | R17: 1169 | S17: 1295 | T17: 1211 | U17: 1127 | V17: 1337 | W17: 1323 | X17: 1113 | Y17: 1043 | Z17: 1043 | AA17: 1169 | AB17: 1099 | AC17: 1183 | AD17: 1141 | AE17: 1239 | AG17: =SUM(B17:AF17) -> 36372
A18: 5:30-6:00 | B18: 1435 | C18: 1281 | D18: 1281 | E18: 1505 | F18: 1337 | G18: 1491 | H18: 1477 | I18: 1057 | J18: 1309 | K18: 1463 | L18: 1351 | M18: 1351 | N18: 1309 | O18: 1449 | P18: 1407 | Q18: 1253 | R18: 1533 | S18: 1253 | T18: 1309 | U18: 1197 | V18: 1309 | W18: 1253 | X18: 1351 | Y18: 1351 | Z18: 1281 | AA18: 1533 | AB18: 1295 | AC18: 1211 | AD18: 1253 | AE18: 1519 | AG18: =SUM(B18:AF18) -> 40404
... A54: 23:30-24:00 | B54: 1337 | C54: 1197 | D54: 1463 | E54: 1239 | F54: 1477 | G54: 1253 | H54: 1561 | I54: 1253 | J54: 1337 | K54: 1253 | L54: 1225 | M54: 1337 | N54: 1337 | O54: 1323 | P54: 1351 | Q54: 1015 | R54: 1407 | S54: 1155 | T54: 1113 | U54: 1197 | V54: 1351 | W54: 1281 | X54: 1253 | Y54: 1113 | Z54: 1393 | AA54: 1491 | AB54: 1365 | AC54: 1435 | AD54: 1309 | AE54: 1407 | AG54: =SUM(B54:AF54) -> 39228
A55: 平日昼間 | B55: =IF(B6="平日",SUM(B23:B50),0) -> 29662 | C55: =IF(C6="平日",SUM(C23:C50),0) -> 29172 | D55: =IF(D6="平日",SUM(D23:D50),0) -> 29970 | E55: =IF(E6="平日",SUM(E23:E50),0) -> 31860 | F55: =IF(F6="平日",SUM(F23:F50),0) -> 31076 | G55: =IF(G6="平日",SUM(G23:G50),0) -> 31738 | H55: =IF(H6="平日",SUM(H23:H50),0) -> 0 | I55: =IF(I6="平日",SUM(I23:I50),0) -> 30488 | ... AF55: =IF(AF6="平日",SUM(AF23:AF50),0) -> 0 | AG55: =ROUND(SUM(B55:AF55),0) -> 735382
A56: 夜間休日 | B56: =B57-B55 -> 25166 | C56: =C57-C55 -> 25572 | D56: =D57-D55 -> 25614 | E56: =E57-E55 -> 25600 | F56: =F57-F55 -> 26692 | G56: =G57-G55 -> 25914 | H56: =H57-H55 -> 62930 | I56: =I57-I55 -> 24088 | ... AF56: =AF57-AF55 -> 0 | AG56: =ROUND(SUM(B56:AF56),0) -> 985606
A57: 計 | B57: =SUM(B7:B54) -> 54828 | C57: =SUM(C7:C54) -> 54744 | D57: =SUM(D7:D54) -> 55584 | E57: =SUM(E7:E54) -> 57460 | F57: =SUM(F7:F54) -> 57768 | G57: =SUM(G7:G54) -> 57652 | H57: =SUM(H7:H54) -> 62930 | I57: =SUM(I7:I54) -> 54576 | ... AF57: =SUM(AF7:AF54) -> 0 | AG57: =SUM(AG55:AG56) -> 1720988

Sheet 2025.10
A2: 45931 | B2: 資源循環局旭工場
A3: 時間毎の電力量 | AH3: 単位：kＷｈ
B4: =A2 -> 45931 | C4: =B4+1 -> 45932 | D4: =C4+1 -> 45933 | E4: =D4+1 -> 45934 | F4: =E4+1 -> 45935 | G4: =F4+1 -> 45936 | H4: =G4+1 -> 45937 | I4: =H4+1 -> 45938 | J4: =I4+1 -> 45939 | ... AF4: =AE4+1 -> 45961 | AG4: 合 計
B5: =WEEKDAY(B4) -> 4 | C5: =WEEKDAY(C4) -> 5 | D5: =WEEKDAY(D4) -> 6 | E5: =WEEKDAY(E4) -> 7 | F5: =WEEKDAY(F4) -> 1 | G5: =WEEKDAY(G4) -> 2 | H5: =WEEKDAY(H4) -> 3 | I5: =WEEKDAY(I4) -> 4 | ... AF5: =WEEKDAY(AF4) -> 6
B6: =IF(OR(B5=1,COUNTIF(休日!$B:$B,B4)>0),"休日","平日") -> 平日 | C6: =IF(OR(C5=1,COUNTIF(休日!$B:$B,C4)>0),"休日","平日") -> 平日 | D6: =IF(OR(D5=1,COUNTIF(休日!$B:$B,D4)>0),"休日","平日") -> 平日 | E6: =IF(OR(E5=1,COUNTIF(休日!$B:$B,E4)>0),"休日","平日") -> 平日 | F6: =IF(OR(F5=1,COUNTIF(休日!$B:$B,F4)>0),"休日","平日") -> 休日 | G6: =IF(OR(G5=1,COUNTIF(休日!$B:$B,G4)>0),"休日","平日") -> 平日 | H6: =IF(OR(H5=1,COUNTIF(休日!$B:$B,H4)>0),"休日","平日") -> 平日 | I6: =IF(OR(I5=1,COUNTIF(休日!$B:$B,I4)>0),"休日","平日") -> 平日 | ... AF6: =IF(OR(AF5=1,COUNTIF(休日!$B:$B,AF4)>0),"休日","平日") -> 平日
A7: 0:00-0:30 | B7: 1596 | C7: 0 | D7: 0 | E7: 0 | F7: 0 | G7: 0 | H7: 0 | I7: 0 | J7: 1939 | K7: 1575 | L7: 1281 | M7: 2009 | N7: 1295 | O7: 1323 | P7: 1421 | Q7: 1351 | R7: 1407 | S7: 1421 | T7: 1491 | U7: 1351 | V7: 1379 | W7: 1281 | X7: 1449 | Y7: 1547 | Z7: 1323 | AA7: 1351 | AB7: 1463 | AC7: 1477 | AD7: 1323 | AE7: 1323 | AF7: 1533 | AG7: =SUM(B7:AF7) -> 34909
A8: 0:30-1:00 | B8: 1596 | C8: 0 | D8: 0 | E8: 0 | F8: 0 | G8: 0 | H8: 0 | I8: 0 | J8: 1617 | K8: 1575 | L8: 1253 | M8: 1323 | N8: 1421 | O8: 1449 | P8: 1435 | Q8: 1281 | R8: 1239 | S8: 1309 | T8: 1379 | U8: 1463 | V8: 1435 | W8: 1211 | X8: 1281 | Y8: 1309 | Z8: 1491 | AA8: 1449 | AB8: 1477 | AC8: 1589 | AD8: 1323 | AE8: 1239 | AF8: 1547 | AG8: =SUM(B8:AF8) -> 33691
A9: 1:00-1:30 | B9: 1582 | C9: 0 | D9: 0 | E9: 0 | F9: 0 | G9: 0 | H9: 0 | I9: 0 | J9: 1869 | K9: 1421 | L9: 1421 | M9: 1589 | N9: 1407 | O9: 1351 | P9: 1505 | Q9: 1323 | R9: 1463 | S9: 1351 | T9: 1295 | U9: 1253 | V9: 1337 | W9: 1337 | X9: 1351 | Y9: 1435 | Z9: 1365 | AA9: 1365 | AB9: 1379 | AC9: 1491 | AD9: 1505 | AE9: 1337 | AF9: 1589 | AG9: =SUM(B9:AF9) -> 34321
A10: 1:30-2:00 | B10: 1512 | C10: 0 | D10: 0 | E10: 0 | F10: 0 | G10: 0 | H10: 0 | I10: 0 | J10: 1827 | K10: 1589 | L10: 1309 | M10: 1701 | N10: 1309 | O10: 1365 | P10: 1463 | Q10: 1477 | R10: 1449 | S10: 1393 | T10: 1449 | U10: 1365 | V10: 1351 | W10: 1351 | X10: 1449 | Y10: 1393 | Z10: 1435 | AA10: 1393 | AB10: 1659 | AC10: 1477 | AD10: 1393 | AE10: 1463 | AF10: 1477 | AG10: =SUM(B10:AF10) -> 35049
A11: 2:00-2:30 | B11: 1638 | C11: 0 | D11: 0 | E11: 0 | F11: 0 | G11: 0 | H11: 0 | I11: 0 | J11: 1855 | K11: 1561 | L11: 1351 | M11: 1631 | N11: 1323 | O11: 1477 | P11: 1323 | Q11: 1267 | R11: 1561 | S11: 1547 | T11: 1379 | U11: 1393 | V11: 1351 | W11: 1393 | X11: 1449 | Y11: 1449 | Z11: 1407 | AA11: 1491 | AB11: 1533 | AC11: 1477 | AD11: 1533 | AE11: 1407 | AF11: 1575 | AG11: =SUM(B11:AF11) -> 35371
A12: 2:30-3:00 | B12: 1470 | C12: 0 | D12: 0 | E12: 0 | F12: 0 | G12: 0 | H12: 0 | I12: 0 | J12: 2051 | K12: 1435 | L12: 1351 | M12: 1785 | N12: 1337 | O12: 1435 | P12: 1281 | Q12: 1617 | R12: 1491 | S12: 1365 | T12: 1519 | U12: 1309 | V12: 1575 | W12: 1253 | X12: 1477 | Y12: 1477 | Z12: 1519 | AA12: 1379 | AB12: 1393 | AC12: 1505 | AD12: 1463 | AE12: 1421 | AF12: 1533 | AG12: =SUM(B12:AF12) -> 35441
A13: 3:00-3:30 | B13: 1750 | C13: 0 | D13: 0 | E13: 0 | F13: 0 | G13: 0 | H13: 0 | I13: 0 | J13: 2163 | K13: 1547 | L13: 1295 | M13: 1575 | N13: 1435 | O13: 1421 | P13: 1435 | Q13: 1421 | R13: 1645 | S13: 1351 | T13: 1673 | U13: 1533 | V13: 1337 | W13: 1365 | X13: 1183 | Y13: 1435 | Z13: 1617 | AA13: 1617 | AB13: 1575 | AC13: 1519 | AD13: 1435 | AE13: 1393 | AF13: 1407 | AG13: =SUM(B13:AF13) -> 36127
A14: 3:30-4:00 | B14: 1652 | C14: 0 | D14: 0 | E14: 0 | F14: 0 | G14: 0 | H14: 0 | I14: 0 | J14: 2079 | K14: 1463 | L14: 1295 | M14: 1547 | N14: 1281 | O14: 1491 | P14: 1323 | Q14: 1631 | R14: 1435 | S14: 1393 | T14: 1463 | U14: 1659 | V14: 1435 | W14: 1295 | X14: 1407 | Y14: 1365 | Z14: 1631 | AA14: 1421 | AB14: 1631 | AC14: 1463 | AD14: 1561 | AE14: 1421 | AF14: 1533 | AG14: =SUM(B14:AF14) -> 35875
A15: 4:00-4:30 | B15: 1526 | C15: 0 | D15: 0 | E15: 0 | F15: 0 | G15: 0 | H15: 0 | I15: 0 | J15: 1883 | K15: 1463 | L15: 1197 | M15: 1281 | N15: 1365 | O15: 1393 | P15: 1141 | Q15: 1449 | R15: 1351 | S15: 1309 | T15: 1421 | U15: 1393 | V15: 1365 | W15: 1253 | X15: 1015 | Y15: 1267 | Z15: 1379 | AA15: 1281 | AB15: 1505 | AC15: 1351 | AD15: 1267 | AE15: 1309 | AF15: 1239 | AG15: =SUM(B15:AF15) -> 32403
A16: 4:30-5:00 | B16: 1372 | C16: 0 | D16: 0 | E16: 0 | F16: 0 | G16: 0 | H16: 0 | I16: 0 | J16: 1631 | K16: 1463 | L16: 1211 | M16: 1365 | N16: 1253 | O16: 1197 | P16: 1113 | Q16: 1309 | R16: 1253 | S16: 1211 | T16: 1113 | U16: 1127 | V16: 1253 | W16: 1169 | X16: 1183 | Y16: 1169 | Z16: 1281 | AA16: 1309 | AB16: 1253 | AC16: 1365 | AD16: 1169 | AE16: 1155 | AF16: 1379 | AG16: =SUM(B16:AF16) -> 30303
A17: 5:00-5:30 | B17: 1344 | C17: 0 | D17: 0 | E17: 0 | F17: 0 | G17: 0 | H17: 0 | I17: 0 | J17: 1813 | K17: 1365 | L17: 1421 | M17: 1323 | N17: 1197 | O17: 1309 | P17: 1267 | Q17: 1323 | R17: 1253 | S17: 1435 | T17: 1253 | U17: 1407 | V17: 1365 | W17: 1211 | X17: 1239 | Y17: 1547 | Z17: 1407 | AA17: 1295 | AB17: 1491 | AC17: 1463 | AD17: 1379 | AE17: 1309 | AF17: 1351 | AG17: =SUM(B17:AF17) -> 32767
A18: 5:30-6:00 | B18: 966 | C18: 0 | D18: 0 | E18: 0 | F18: 0 | G18: 0 | H18: 0 | I18: 0 | J18: 1981 | K18: 1435 | L18: 1337 | M18: 1295 | N18: 1477 | O18: 1407 | P18: 1267 | Q18: 1505 | R18: 1533 | S18: 1421 | T18: 1393 | U18: 1295 | V18: 1491 | W18: 1337 | X18: 1337 | Y18: 1337 | Z18: 1295 | AA18: 1491 | AB18: 1477 | AC18: 1407 | AD18: 1421 | AE18: 1337 | AF18: 1463 | AG18: =SUM(B18:AF18) -> 33705
... A54: 23:30-24:00 | B54: 0 | C54: 0 | D54: 0 | E54: 0 | F54: 0 | G54: 0 | H54: 0 | I54: 1904 | J54: 1631 | K54: 1295 | L54: 1449 | M54: 1645 | N54: 1281 | O54: 1323 | P54: 1239 | Q54: 1421 | R54: 1295 | S54: 1407 | T54: 1449 | U54: 1351 | V54: 1337 | W54: 1477 | X54: 1323 | Y54: 1449 | Z54: 1407 | AA54: 1435 | AB54: 1449 | AC54: 1281 | AD54: 1295 | AE54: 1659 | AF54: 1365 | AG54: =SUM(B54:AF54) -> 34167
A55: 平日昼間 | B55: =IF(B6="平日",SUM(B23:B50),0) -> 19432 | C55: =IF(C6="平日",SUM(C23:C50),0) -> 0 | D55: =IF(D6="平日",SUM(D23:D50),0) -> 0 | E55: =IF(E6="平日",SUM(E23:E50),0) -> 0 | F55: =IF(F6="平日",SUM(F23:F50),0) -> 0 | G55: =IF(G6="平日",SUM(G23:G50),0) -> 0 | H55: =IF(H6="平日",SUM(H23:H50),0) -> 0 | I55: =IF(I6="平日",SUM(I23:I50),0) -> 23478 | ... AF55: =IF(AF6="平日",SUM(AF23:AF50),0) -> 35952 | AG55: =ROUND(SUM(B55:AF55),0) -> 726096
A56: 夜間休日 | B56: =B57-B55 -> 23926 | C56: =C57-C55 -> 0 | D56: =D57-D55 -> 0 | E56: =E57-E55 -> 0 | F56: =F57-F55 -> 0 | G56: =G57-G55 -> 0 | H56: =H57-H55 -> 0 | I56: =I57-I55 -> 7784 | ... AF56: =AF57-AF55 -> 29330 | AG56: =ROUND(SUM(B56:AF56),0) -> 830144
A57: 計 | B57: =SUM(B7:B54) -> 43358 | C57: =SUM(C7:C54) -> 0 | D57: =SUM(D7:D54) -> 0 | E57: =SUM(E7:E54) -> 0 | F57: =SUM(F7:F54) -> 0 | G57: =SUM(G7:G54) -> 0 | H57: =SUM(H7:H54) -> 0 | I57: =SUM(I7:I54) -> 31262 | ... AF57: =SUM(AF7:AF54) -> 65282 | AG57: =SUM(AG55:AG56) -> 1556240

Sheet 2025.11
A2: 45962 | B2: 資源循環局旭工場
A3: 時間毎の電力量 | AH3: 単位：kＷｈ
B4: =A2 -> 45962 | C4: =B4+1 -> 45963 | D4: =C4+1 -> 45964 | E4: =D4+1 -> 45965 | F4: =E4+1 -> 45966 | G4: =F4+1 -> 45967 | H4: =G4+1 -> 45968 | I4: =H4+1 -> 45969 | J4: =I4+1 -> 45970 | ... AF4: =AE4+1 -> 45992 | AG4: 合 計
B5: =WEEKDAY(B4) -> 7 | C5: =WEEKDAY(C4) -> 1 | D5: =WEEKDAY(D4) -> 2 | E5: =WEEKDAY(E4) -> 3 | F5: =WEEKDAY(F4) -> 4 | G5: =WEEKDAY(G4) -> 5 | H5: =WEEKDAY(H4) -> 6 | I5: =WEEKDAY(I4) -> 7 | ... AF5: =WEEKDAY(AF4) -> 2
B6: =IF(OR(B5=1,COUNTIF(休日!$B:$B,B4)>0),"休日","平日") -> 平日 | C6: =IF(OR(C5=1,COUNTIF(休日!$B:$B,C4)>0),"休日","平日") -> 休日 | D6: =IF(OR(D5=1,COUNTIF(休日!$B:$B,D4)>0),"休日","平日") -> 休日 | E6: =IF(OR(E5=1,COUNTIF(休日!$B:$B,E4)>0),"休日","平日") -> 平日 | F6: =IF(OR(F5=1,COUNTIF(休日!$B:$B,F4)>0),"休日","平日") -> 平日 | G6: =IF(OR(G5=1,COUNTIF(休日!$B:$B,G4)>0),"休日","平日") -> 平日 | H6: =IF(OR(H5=1,COUNTIF(休日!$B:$B,H4)>0),"休日","平日") -> 平日 | I6: =IF(OR(I5=1,COUNTIF(休日!$B:$B,I4)>0),"休日","平日") -> 平日 | ... AF6: =IF(OR(AF5=1,COUNTIF(休日!$B:$B,AF4)>0),"休日","平日") -> 平日
A7: 0:00-0:30 | B7: 1379 | C7: 1603 | D7: 1435 | E7: 1519 | F7: 1631 | G7: 1379 | H7: 1631 | I7: 1407 | J7: 1533 | K7: 1533 | L7: 1533 | M7: 1533 | N7: 1393 | O7: 1463 | P7: 1421 | Q7: 1407 | R7: 1421 | S7: 1575 | T7: 1337 | U7: 1519 | V7: 1617 | W7: 1603 | X7: 1295 | Y7: 1477 | Z7: 1477 | AA7: 1757 | AB7: 1715 | AC7: 1561 | AD7: 1491 | AE7: 1435 | AG7: =SUM(B7:AF7) -> 45080
A8: 0:30-1:00 | B8: 1519 | C8: 1715 | D8: 1575 | E8: 1393 | F8: 1673 | G8: 1491 | H8: 1519 | I8: 1421 | J8: 1813 | K8: 1673 | L8: 1379 | M8: 1533 | N8: 1197 | O8: 1393 | P8: 1365 | Q8: 1533 | R8: 1477 | S8: 1421 | T8: 1463 | U8: 1463 | V8: 1253 | W8: 1533 | X8: 1407 | Y8: 1561 | Z8: 1309 | AA8: 1715 | AB8: 1589 | AC8: 1491 | AD8: 1365 | AE8: 1491 | AG8: =SUM(B8:AF8) -> 44730
A9: 1:00-1:30 | B9: 1547 | C9: 1407 | D9: 1295 | E9: 1393 | F9: 1365 | G9: 1365 | H9: 1603 | I9: 1463 | J9: 1813 | K9: 1477 | L9: 1505 | M9: 1295 | N9: 1393 | O9: 1477 | P9: 1407 | Q9: 1421 | R9: 1407 | S9: 1533 | T9: 1533 | U9: 1351 | V9: 1603 | W9: 1603 | X9: 1463 | Y9: 1435 | Z9: 1519 | AA9: 1827 | AB9: 1659 | AC9: 1505 | AD9: 1631 | AE9: 1379 | AG9: =SUM(B9:AF9) -> 44674
A10: 1:30-2:00 | B10: 1421 | C10: 1589 | D10: 1505 | E10: 1323 | F10: 1575 | G10: 1561 | H10: 1659 | I10: 1449 | J10: 1701 | K10: 1631 | L10: 1421 | M10: 1617 | N10: 1477 | O10: 1491 | P10: 1407 | Q10: 1407 | R10: 1407 | S10: 1421 | T10: 1533 | U10: 1519 | V10: 1533 | W10: 1589 | X10: 1505 | Y10: 1365 | Z10: 1435 | AA10: 1603 | AB10: 1729 | AC10: 1519 | AD10: 1421 | AE10: 1449 | AG10: =SUM(B10:AF10) -> 45262
A11: 2:00-2:30 | B11: 1589 | C11: 1491 | D11: 1435 | E11: 1505 | F11: 1393 | G11: 1533 | H11: 1435 | I11: 1435 | J11: 1995 | K11: 1491 | L11: 1617 | M11: 1561 | N11: 1477 | O11: 1393 | P11: 1449 | Q11: 1533 | R11: 1407 | S11: 1435 | T11: 1337 | U11: 1659 | V11: 1449 | W11: 1533 | X11: 1463 | Y11: 1477 | Z11: 1645 | AA11: 1659 | AB11: 1645 | AC11: 1519 | AD11: 1533 | AE11: 1449 | AG11: =SUM(B11:AF11) -> 45542
A12: 2:30-3:00 | B12: 1603 | C12: 1673 | D12: 1421 | E12: 1477 | F12: 1589 | G12: 1547 | H12: 1519 | I12: 1463 | J12: 1463 | K12: 1365 | L12: 1547 | M12: 1477 | N12: 1533 | O12: 1589 | P12: 1421 | Q12: 1589 | R12: 1491 | S12: 1505 | T12: 1449 | U12: 1519 | V12: 1393 | W12: 1645 | X12: 1519 | Y12: 1505 | Z12: 1617 | AA12: 1631 | AB12: 1757 | AC12: 1547 | AD12: 1617 | AE12: 1477 | AG12: =SUM(B12:AF12) -> 45948
A13: 3:00-3:30 | B13: 1519 | C13: 1631 | D13: 1491 | E13: 1449 | F13: 1533 | G13: 1407 | H13: 1393 | I13: 1421 | J13: 1617 | K13: 1281 | L13: 1575 | M13: 1435 | N13: 1477 | O13: 1491 | P13: 1505 | Q13: 1631 | R13: 1519 | S13: 1533 | T13: 1393 | U13: 1505 | V13: 1463 | W13: 1729 | X13: 1561 | Y13: 1309 | Z13: 1589 | AA13: 1659 | AB13: 1743 | AC13: 1547 | AD13: 1449 | AE13: 1477 | AG13: =SUM(B13:AF13) -> 45332
A14: 3:30-4:00 | B14: 1421 | C14: 1589 | D14: 1603 | E14: 1477 | F14: 1463 | G14: 1561 | H14: 1561 | I14: 1267 | J14: 1771 | K14: 1337 | L14: 1547 | M14: 1365 | N14: 1701 | O14: 1477 | P14: 1589 | Q14: 1589 | R14: 1449 | S14: 1505 | T14: 1533 | U14: 1449 | V14: 1421 | W14: 1645 | X14: 1491 | Y14: 1351 | Z14: 1547 | AA14: 1631 | AB14: 1589 | AC14: 1575 | AD14: 1435 | AE14: 1463 | AG14: =SUM(B14:AF14) -> 45402
A15: 4:00-4:30 | B15: 1435 | C15: 1211 | D15: 1379 | E15: 1379 | F15: 1379 | G15: 1505 | H15: 1407 | I15: 1393 | J15: 1113 | K15: 1155 | L15: 1183 | M15: 1183 | N15: 1309 | O15: 1449 | P15: 1435 | Q15: 1547 | R15: 1421 | S15: 1281 | T15: 1379 | U15: 1323 | V15: 1183 | W15: 1351 | X15: 1449 | Y15: 1337 | Z15: 1393 | AA15: 1561 | AB15: 1449 | AC15: 1463 | AD15: 1323 | AE15: 1449 | AG15: =SUM(B15:AF15) -> 40824
A16: 4:30-5:00 | B16: 1463 | C16: 959 | D16: 1449 | E16: 1379 | F16: 1337 | G16: 1267 | H16: 1183 | I16: 1267 | J16: 1533 | K16: 1127 | L16: 1281 | M16: 1099 | N16: 1323 | O16: 1239 | P16: 1295 | Q16: 1519 | R16: 1253 | S16: 1281 | T16: 1267 | U16: 1365 | V16: 1323 | W16: 1393 | X16: 1365 | Y16: 1505 | Z16: 1421 | AA16: 1449 | AB16: 1505 | AC16: 1463 | AD16: 1351 | AE16: 1323 | AG16: =SUM(B16:AF16) -> 39984
A17: 5:00-5:30 | B17: 1519 | C17: 1113 | D17: 1407 | E17: 1435 | F17: 1309 | G17: 1477 | H17: 1519 | I17: 1323 | J17: 1547 | K17: 1379 | L17: 1365 | M17: 1281 | N17: 1477 | O17: 1351 | P17: 1309 | Q17: 1575 | R17: 1337 | S17: 1141 | T17: 1351 | U17: 1477 | V17: 1393 | W17: 1295 | X17: 1253 | Y17: 1463 | Z17: 1337 | AA17: 1337 | AB17: 1575 | AC17: 1463 | AD17: 1533 | AE17: 1295 | AG17: =SUM(B17:AF17) -> 41636
A18: 5:30-6:00 | B18: 1645 | C18: 1379 | D18: 1351 | E18: 1309 | F18: 1463 | G18: 1519 | H18: 1393 | I18: 1407 | J18: 1519 | K18: 1281 | L18: 1463 | M18: 1463 | N18: 1547 | O18: 1477 | P18: 1449 | Q18: 1785 | R18: 1575 | S18: 1463 | T18: 1379 | U18: 1449 | V18: 1477 | W18: 1477 | X18: 1491 | Y18: 1393 | Z18: 1505 | AA18: 1463 | AB18: 1589 | AC18: 1505 | AD18: 1477 | AE18: 1463 | AG18: =SUM(B18:AF18) -> 44156
... A54: 23:30-24:00 | B54: 1645 | C54: 1421 | D54: 1519 | E54: 1519 | F54: 1421 | G54: 1617 | H54: 1463 | I54: 1603 | J54: 1533 | K54: 1449 | L54: 1407 | M54: 1393 | N54: 1393 | O54: 1393 | P54: 1491 | Q54: 1435 | R54: 1491 | S54: 1463 | T54: 1561 | U54: 1463 | V54: 1561 | W54: 1281 | X54: 1463 | Y54: 1533 | Z54: 1715 | AA54: 1547 | AB54: 1449 | AC54: 1491 | AD54: 1505 | AE54: 1379 | AG54: =SUM(B54:AF54) -> 44604
A55: 平日昼間 | B55: =IF(B6="平日",SUM(B23:B50),0) -> 38864 | C55: =IF(C6="平日",SUM(C23:C50),0) -> 0 | D55: =IF(D6="平日",SUM(D23:D50),0) -> 0 | E55: =IF(E6="平日",SUM(E23:E50),0) -> 37002 | F55: =IF(F6="平日",SUM(F23:F50),0) -> 39242 | G55: =IF(G6="平日",SUM(G23:G50),0) -> 36876 | H55: =IF(H6="平日",SUM(H23:H50),0) -> 36890 | I55: =IF(I6="平日",SUM(I23:I50),0) -> 35392 | ... AF55: =IF(AF6="平日",SUM(AF23:AF50),0) -> 0 | AG55: =ROUND(SUM(B55:AF55),0) -> 847658
A56: 夜間休日 | B56: =B57-B55 -> 30352 | C56: =C57-C55 -> 68278 | D56: =D57-D55 -> 65352 | E56: =E57-E55 -> 28770 | F56: =F57-F55 -> 29470 | G56: =G57-G55 -> 29624 | H56: =H57-H55 -> 29638 | I56: =I57-I55 -> 28210 | ... AF56: =AF57-AF55 -> 0 | AG56: =ROUND(SUM(B56:AF56),0) -> 1148378
A57: 計 | B57: =SUM(B7:B54) -> 69216 | C57: =SUM(C7:C54) -> 68278 | D57: =SUM(D7:D54) -> 65352 | E57: =SUM(E7:E54) -> 65772 | F57: =SUM(F7:F54) -> 68712 | G57: =SUM(G7:G54) -> 66500 | H57: =SUM(H7:H54) -> 66528 | I57: =SUM(I7:I54) -> 63602 | ... AF57: =SUM(AF7:AF54) -> 0 | AG57: =SUM(AG55:AG56) -> 1996036

Sheet 2025.12
A2: 45992 | B2: 資源循環局旭工場
A3: 時間毎の電力量 | AH3: 単位：kＷｈ
B4: =A2 -> 45992 | C4: =B4+1 -> 45993 | D4: =C4+1 -> 45994 | E4: =D4+1 -> 45995 | F4: =E4+1 -> 45996 | G4: =F4+1 -> 45997 | H4: =G4+1 -> 45998 | I4: =H4+1 -> 45999 | J4: =I4+1 -> 46000 | ... AF4: =AE4+1 -> 46022 | AG4: 合 計
B5: =WEEKDAY(B4) -> 2 | C5: =WEEKDAY(C4) -> 3 | D5: =WEEKDAY(D4) -> 4 | E5: =WEEKDAY(E4) -> 5 | F5: =WEEKDAY(F4) -> 6 | G5: =WEEKDAY(G4) -> 7 | H5: =WEEKDAY(H4) -> 1 | I5: =WEEKDAY(I4) -> 2 | ... AF5: =WEEKDAY(AF4) -> 4
B6: =IF(OR(B5=1,COUNTIF(休日!$B:$B,B4)>0),"休日","平日") -> 平日 | C6: =IF(OR(C5=1,COUNTIF(休日!$B:$B,C4)>0),"休日","平日") -> 平日 | D6: =IF(OR(D5=1,COUNTIF(休日!$B:$B,D4)>0),"休日","平日") -> 平日 | E6: =IF(OR(E5=1,COUNTIF(休日!$B:$B,E4)>0),"休日","平日") -> 平日 | F6: =IF(OR(F5=1,COUNTIF(休日!$B:$B,F4)>0),"休日","平日") -> 平日 | G6: =IF(OR(G5=1,COUNTIF(休日!$B:$B,G4)>0),"休日","平日") -> 平日 | H6: =IF(OR(H5=1,COUNTIF(休日!$B:$B,H4)>0),"休日","平日") -> 休日 | I6: =IF(OR(I5=1,COUNTIF(休日!$B:$B,I4)>0),"休日","平日") -> 平日 | ... AF6: =IF(OR(AF5=1,COUNTIF(休日!$B:$B,AF4)>0),"休日","平日") -> 休日
A7: 0:00-0:30 | B7: 1477 | C7: 1575 | D7: 1617 | E7: 1729 | F7: 1771 | G7: 1477 | H7: 1561 | I7: 1463 | J7: 1449 | K7: 1449 | L7: 1407 | M7: 1393 | N7: 1505 | O7: 1407 | P7: 1491 | Q7: 1631 | R7: 1645 | S7: 1533 | T7: 1463 | U7: 1561 | V7: 1449 | W7: 1463 | X7: 1379 | Y7: 1617 | Z7: 1491 | AA7: 1673 | AB7: 1477 | AC7: 1519 | AD7: 1519 | AE7: 1701 | AF7: 1617 | AG7: =SUM(B7:AF7) -> 47509
A8: 0:30-1:00 | B8: 1323 | C8: 1379 | D8: 1547 | E8: 1715 | F8: 1533 | G8: 1505 | H8: 1519 | I8: 1463 | J8: 1407 | K8: 1281 | L8: 1407 | M8: 1393 | N8: 1323 | O8: 1351 | P8: 1477 | Q8: 1449 | R8: 1463 | S8: 1407 | T8: 1547 | U8: 1505 | V8: 1687 | W8: 1491 | X8: 1365 | Y8: 1519 | Z8: 1603 | AA8: 1617 | AB8: 1449 | AC8: 1407 | AD8: 1631 | AE8: 1589 | AF8: 1463 | AG8: =SUM(B8:AF8) -> 45815
A9: 1:00-1:30 | B9: 1435 | C9: 1407 | D9: 1463 | E9: 1743 | F9: 1645 | G9: 1337 | H9: 1575 | I9: 1547 | J9: 1463 | K9: 1337 | L9: 1337 | M9: 1645 | N9: 1421 | O9: 1365 | P9: 1533 | Q9: 1575 | R9: 1393 | S9: 1379 | T9: 1659 | U9: 1589 | V9: 1547 | W9: 1365 | X9: 1379 | Y9: 1561 | Z9: 1575 | AA9: 1127 | AB9: 1351 | AC9: 1547 | AD9: 1533 | AE9: 1631 | AF9: 1491 | AG9: =SUM(B9:AF9) -> 45955
A10: 1:30-2:00 | B10: 1547 | C10: 1505 | D10: 1379 | E10: 1757 | F10: 1701 | G10: 1463 | H10: 1435 | I10: 1463 | J10: 1477 | K10: 1393 | L10: 1365 | M10: 1673 | N10: 1477 | O10: 1463 | P10: 1603 | Q10: 1351 | R10: 1561 | S10: 1407 | T10: 1379 | U10: 1673 | V10: 1519 | W10: 1351 | X10: 1477 | Y10: 1575 | Z10: 1589 | AA10: 1701 | AB10: 1449 | AC10: 1323 | AD10: 1617 | AE10: 1617 | AF10: 1477 | AG10: =SUM(B10:AF10) -> 46767
A11: 2:00-2:30 | B11: 1547 | C11: 1477 | D11: 1561 | E11: 1645 | F11: 1533 | G11: 1393 | H11: 1477 | I11: 1687 | J11: 1505 | K11: 1421 | L11: 1421 | M11: 1603 | N11: 1505 | O11: 1463 | P11: 1491 | Q11: 1393 | R11: 1603 | S11: 1505 | T11: 1575 | U11: 1617 | V11: 1449 | W11: 1491 | X11: 1449 | Y11: 1547 | Z11: 1617 | AA11: 1645 | AB11: 1449 | AC11: 1617 | AD11: 1589 | AE11: 1771 | AF11: 1505 | AG11: =SUM(B11:AF11) -> 47551
A12: 2:30-3:00 | B12: 1491 | C12: 1379 | D12: 1533 | E12: 1701 | F12: 1631 | G12: 1463 | H12: 1379 | I12: 1659 | J12: 1365 | K12: 1477 | L12: 1267 | M12: 1491 | N12: 1645 | O12: 1533 | P12: 1477 | Q12: 1491 | R12: 1533 | S12: 1393 | T12: 1589 | U12: 1589 | V12: 1477 | W12: 1365 | X12: 1365 | Y12: 1603 | Z12: 1799 | AA12: 1617 | AB12: 1477 | AC12: 1309 | AD12: 1659 | AE12: 1715 | AF12: 1547 | AG12: =SUM(B12:AF12) -> 47019
A13: 3:00-3:30 | B13: 1505 | C13: 1561 | D13: 1379 | E13: 1701 | F13: 1589 | G13: 987 | H13: 1533 | I13: 1603 | J13: 1351 | K13: 1533 | L13: 1687 | M13: 1631 | N13: 1435 | O13: 1477 | P13: 1477 | Q13: 1477 | R13: 1435 | S13: 1449 | T13: 1379 | U13: 1547 | V13: 1631 | W13: 1309 | X13: 1393 | Y13: 1659 | Z13: 1547 | AA13: 1785 | AB13: 1477 | AC13: 1561 | AD13: 1659 | AE13: 1799 | AF13: 1547 | AG13: =SUM(B13:AF13) -> 47103
A14: 3:30-4:00 | B14: 1379 | C14: 1421 | D14: 1351 | E14: 1715 | F14: 1575 | G14: 1365 | H14: 1463 | I14: 1519 | J14: 1449 | K14: 1393 | L14: 1519 | M14: 1617 | N14: 1603 | O14: 1603 | P14: 1463 | Q14: 1463 | R14: 1505 | S14: 1575 | T14: 1617 | U14: 1505 | V14: 1449 | W14: 1309 | X14: 1407 | Y14: 1575 | Z14: 1687 | AA14: 1631 | AB14: 1435 | AC14: 1393 | AD14: 1715 | AE14: 1785 | AF14: 1477 | AG14: =SUM(B14:AF14) -> 46963
A15: 4:00-4:30 | B15: 1295 | C15: 1323 | D15: 1253 | E15: 1477 | F15: 1519 | G15: 1449 | H15: 1575 | I15: 1351 | J15: 1435 | K15: 1155 | L15: 1449 | M15: 1463 | N15: 1435 | O15: 1547 | P15: 1323 | Q15: 1309 | R15: 1519 | S15: 1183 | T15: 1449 | U15: 1379 | V15: 1421 | W15: 1309 | X15: 1435 | Y15: 1407 | Z15: 1505 | AA15: 1393 | AB15: 1281 | AC15: 1309 | AD15: 1463 | AE15: 1603 | AF15: 1421 | AG15: =SUM(B15:AF15) -> 43435
A16: 4:30-5:00 | B16: 1295 | C16: 1239 | D16: 1211 | E16: 1547 | F16: 1351 | G16: 1435 | H16: 1267 | I16: 1351 | J16: 1211 | K16: 1281 | L16: 1477 | M16: 1449 | N16: 1267 | O16: 1071 | P16: 1449 | Q16: 1057 | R16: 1505 | S16: 1309 | T16: 1463 | U16: 1435 | V16: 1477 | W16: 1155 | X16: 1253 | Y16: 1407 | Z16: 1477 | AA16: 1421 | AB16: 1323 | AC16: 1295 | AD16: 1463 | AE16: 1491 | AF16: 1323 | AG16: =SUM(B16:AF16) -> 41755
A17: 5:00-5:30 | B17: 1365 | C17: 1379 | D17: 1505 | E17: 1533 | F17: 1337 | G17: 1197 | H17: 1421 | I17: 1407 | J17: 1267 | K17: 1435 | L17: 1463 | M17: 1477 | N17: 1421 | O17: 1099 | P17: 1407 | Q17: 1505 | R17: 1309 | S17: 1337 | T17: 1309 | U17: 1421 | V17: 1477 | W17: 1477 | X17: 1421 | Y17: 1519 | Z17: 1379 | AA17: 1463 | AB17: 1407 | AC17: 1309 | AD17: 1505 | AE17: 1491 | AF17: 1365 | AG17: =SUM(B17:AF17) -> 43407
A18: 5:30-6:00 | B18: 1449 | C18: 1519 | D18: 1379 | E18: 1631 | F18: 1477 | G18: 1211 | H18: 1449 | I18: 1393 | J18: 1449 | K18: 1351 | L18: 1211 | M18: 1575 | N18: 1505 | O18: 1323 | P18: 1421 | Q18: 1393 | R18: 1701 | S18: 1365 | T18: 1491 | U18: 1575 | V18: 1897 | W18: 1505 | X18: 1337 | Y18: 1631 | Z18: 1631 | AA18: 1631 | AB18: 1393 | AC18: 1421 | AD18: 1547 | AE18: 1757 | AF18: 1491 | AG18: =SUM(B18:AF18) -> 46109
... A54: 23:30-24:00 | B54: 1491 | C54: 1575 | D54: 1729 | E54: 1631 | F54: 1435 | G54: 1519 | H54: 1491 | I54: 1715 | J54: 1533 | K54: 1463 | L54: 1617 | M54: 1687 | N54: 1505 | O54: 1561 | P54: 1589 | Q54: 1561 | R54: 1533 | S54: 1477 | T54: 1589 | U54: 1239 | V54: 1365 | W54: 1379 | X54: 1561 | Y54: 1575 | Z54: 1659 | AA54: 1491 | AB54: 1533 | AC54: 1673 | AD54: 1617 | AE54: 1505 | AF54: 1631 | AG54: =SUM(B54:AF54) -> 47929
A55: 平日昼間 | B55: =IF(B6="平日",SUM(B23:B50),0) -> 36666 | C55: =IF(C6="平日",SUM(C23:C50),0) -> 38710 | D55: =IF(D6="平日",SUM(D23:D50),0) -> 40894 | E55: =IF(E6="平日",SUM(E23:E50),0) -> 39788 | F55: =IF(F6="平日",SUM(F23:F50),0) -> 35938 | G55: =IF(G6="平日",SUM(G23:G50),0) -> 34398 | H55: =IF(H6="平日",SUM(H23:H50),0) -> 0 | I55: =IF(I6="平日",SUM(I23:I50),0) -> 36176 | ... AF55: =IF(AF6="平日",SUM(AF23:AF50),0) -> 0 | AG55: =ROUND(SUM(B55:AF55),0) -> 945700
A56: 夜間休日 | B56: =B57-B55 -> 28714 | C56: =C57-C55 -> 28966 | D56: =D57-D55 -> 29876 | E56: =E57-E55 -> 32928 | F56: =F57-F55 -> 30296 | G56: =G57-G55 -> 26964 | H56: =H57-H55 -> 68250 | I56: =I57-I55 -> 30100 | ... AF56: =AF57-AF55 -> 74732 | AG56: =ROUND(SUM(B56:AF56),0) -> 1160936
A57: 計 | B57: =SUM(B7:B54) -> 65380 | C57: =SUM(C7:C54) -> 67676 | D57: =SUM(D7:D54) -> 70770 | E57: =SUM(E7:E54) -> 72716 | F57: =SUM(F7:F54) -> 66234 | G57: =SUM(G7:G54) -> 61362 | H57: =SUM(H7:H54) -> 68250 | I57: =SUM(I7:I54) -> 66276 | ... AF57: =SUM(AF7:AF54) -> 74732 | AG57: =SUM(AG55:AG56) -> 2106636

Sheet 2026.1
A2: 46023 | B2: 資源循環局旭工場
A3: 時間毎の電力量 | AH3: 単位：kＷｈ
B4: =A2 -> 46023 | C4: =B4+1 -> 46024 | D4: =C4+1 -> 46025 | E4: =D4+1 -> 46026 | F4: =E4+1 -> 46027 | G4: =F4+1 -> 46028 | H4: =G4+1 -> 46029 | I4: =H4+1 -> 46030 | J4: =I4+1 -> 46031 | ... AF4: =AE4+1 -> 46053 | AG4: 合 計
B5: =WEEKDAY(B4) -> 5 | C5: =WEEKDAY(C4) -> 6 | D5: =WEEKDAY(D4) -> 7 | E5: =WEEKDAY(E4) -> 1 | F5: =WEEKDAY(F4) -> 2 | G5: =WEEKDAY(G4) -> 3 | H5: =WEEKDAY(H4) -> 4 | I5: =WEEKDAY(I4) -> 5 | ... AF5: =WEEKDAY(AF4) -> 7
B6: =IF(OR(B5=1,COUNTIF(休日!$B:$B,B4)>0),"休日","平日") -> 休日 | C6: =IF(OR(C5=1,COUNTIF(休日!$B:$B,C4)>0),"休日","平日") -> 休日 | D6: =IF(OR(D5=1,COUNTIF(休日!$B:$B,D4)>0),"休日","平日") -> 休日 | E6: =IF(OR(E5=1,COUNTIF(休日!$B:$B,E4)>0),"休日","平日") -> 休日 | F6: =IF(OR(F5=1,COUNTIF(休日!$B:$B,F4)>0),"休日","平日") -> 平日 | G6: =IF(OR(G5=1,COUNTIF(休日!$B:$B,G4)>0),"休日","平日") -> 平日 | H6: =IF(OR(H5=1,COUNTIF(休日!$B:$B,H4)>0),"休日","平日") -> 平日 | I6: =IF(OR(I5=1,COUNTIF(休日!$B:$B,I4)>0),"休日","平日") -> 平日 | ... AF6: =IF(OR(AF5=1,COUNTIF(休日!$B:$B,AF4)>0),"休日","平日") -> 平日
A7: 0:00-0:30 | B7: 1603 | C7: 1477 | D7: 1435 | E7: 1323 | F7: 1365 | G7: 1547 | H7: 1589 | I7: 2205 | J7: 1407 | K7: 1736 | L7: 1589 | M7: 1407 | N7: 1491 | O7: 1631 | P7: 1477 | Q7: 1645 | R7: 1547 | S7: 1393 | T7: 1393 | U7: 1645 | V7: 1659 | W7: 1561 | X7: 1589 | Y7: 1603 | Z7: 1813 | AA7: 1729 | AB7: 1827 | AC7: 1799 | AD7: 1799 | AE7: 1827 | AF7: 1617 | AG7: =SUM(B7:AF7) -> 49728
A8: 0:30-1:00 | B8: 1659 | C8: 1477 | D8: 1827 | E8: 1421 | F8: 1477 | G8: 1617 | H8: 1477 | I8: 2065 | J8: 1407 | K8: 1722 | L8: 1519 | M8: 1365 | N8: 1617 | O8: 1547 | P8: 1421 | Q8: 1435 | R8: 1337 | S8: 1351 | T8: 1379 | U8: 1575 | V8: 1645 | W8: 1435 | X8: 1617 | Y8: 1603 | Z8: 1715 | AA8: 1771 | AB8: 1659 | AC8: 1771 | AD8: 1701 | AE8: 1841 | AF8: 1645 | AG8: =SUM(B8:AF8) -> 49098
A9: 1:00-1:30 | B9: 1547 | C9: 1491 | D9: 1855 | E9: 1309 | F9: 1519 | G9: 1547 | H9: 1547 | I9: 2051 | J9: 1421 | K9: 1764 | L9: 1505 | M9: 1561 | N9: 1449 | O9: 1631 | P9: 1603 | Q9: 1757 | R9: 1533 | S9: 1449 | T9: 1351 | U9: 1631 | V9: 1505 | W9: 1589 | X9: 1603 | Y9: 1659 | Z9: 1771 | AA9: 1715 | AB9: 1687 | AC9: 1841 | AD9: 1701 | AE9: 1827 | AF9: 1673 | AG9: =SUM(B9:AF9) -> 50092
A10: 1:30-2:00 | B10: 1393 | C10: 1463 | D10: 1785 | E10: 1407 | F10: 1701 | G10: 1603 | H10: 1463 | I10: 1575 | J10: 1561 | K10: 1694 | L10: 1645 | M10: 1337 | N10: 1547 | O10: 1547 | P10: 1491 | Q10: 1519 | R10: 1533 | S10: 1435 | T10: 1505 | U10: 1799 | V10: 1631 | W10: 1491 | X10: 1575 | Y10: 1743 | Z10: 1645 | AA10: 1743 | AB10: 1799 | AC10: 1841 | AD10: 1883 | AE10: 1589 | AF10: 1743 | AG10: =SUM(B10:AF10) -> 49686
A11: 2:00-2:30 | B11: 1617 | C11: 1575 | D11: 1771 | E11: 1435 | F11: 1575 | G11: 1547 | H11: 1533 | I11: 1435 | J11: 1393 | K11: 1750 | L11: 1491 | M11: 1505 | N11: 1617 | O11: 1575 | P11: 1435 | Q11: 1715 | R11: 1463 | S11: 1449 | T11: 1281 | U11: 1589 | V11: 1715 | W11: 1505 | X11: 1589 | Y11: 1701 | Z11: 1645 | AA11: 1715 | AB11: 1841 | AC11: 1813 | AD11: 1715 | AE11: 1925 | AF11: 1659 | AG11: =SUM(B11:AF11) -> 49574
A12: 2:30-3:00 | B12: 1687 | C12: 1505 | D12: 1631 | E12: 1547 | F12: 1533 | G12: 1589 | H12: 1533 | I12: 1281 | J12: 1463 | K12: 1694 | L12: 1519 | M12: 1463 | N12: 1505 | O12: 1687 | P12: 1435 | Q12: 1757 | R12: 1505 | S12: 1407 | T12: 1393 | U12: 1687 | V12: 1659 | W12: 1645 | X12: 1617 | Y12: 1715 | Z12: 1785 | AA12: 1771 | AB12: 1799 | AC12: 1799 | AD12: 1785 | AE12: 1869 | AF12: 1715 | AG12: =SUM(B12:AF12) -> 49980
A13: 3:00-3:30 | B13: 1701 | C13: 1435 | D13: 1617 | E13: 1547 | F13: 1561 | G13: 1645 | H13: 1407 | I13: 1533 | J13: 1351 | K13: 1792 | L13: 1365 | M13: 1407 | N13: 1575 | O13: 1575 | P13: 1505 | Q13: 1645 | R13: 1561 | S13: 1505 | T13: 1365 | U13: 1603 | V13: 1533 | W13: 1617 | X13: 1519 | Y13: 1799 | Z13: 1743 | AA13: 1631 | AB13: 1589 | AC13: 1911 | AD13: 1771 | AE13: 1925 | AF13: 1687 | AG13: =SUM(B13:AF13) -> 49420
A14: 3:30-4:00 | B14: 1687 | C14: 1519 | D14: 1673 | E14: 1407 | F14: 1645 | G14: 1589 | H14: 1589 | I14: 1435 | J14: 1393 | K14: 1820 | L14: 1505 | M14: 1491 | N14: 1533 | O14: 1631 | P14: 1449 | Q14: 1659 | R14: 1533 | S14: 1407 | T14: 1393 | U14: 1547 | V14: 1603 | W14: 1589 | X14: 1575 | Y14: 1645 | Z14: 1729 | AA14: 1645 | AB14: 1645 | AC14: 1841 | AD14: 1785 | AE14: 1869 | AF14: 1743 | AG14: =SUM(B14:AF14) -> 49574
A15: 4:00-4:30 | B15: 1519 | C15: 1379 | D15: 1757 | E15: 1281 | F15: 1379 | G15: 1477 | H15: 1337 | I15: 1393 | J15: 1365 | K15: 1694 | L15: 1379 | M15: 1309 | N15: 1379 | O15: 1575 | P15: 1365 | Q15: 1533 | R15: 1449 | S15: 1365 | T15: 1379 | U15: 1505 | V15: 1519 | W15: 1407 | X15: 1393 | Y15: 1603 | Z15: 1379 | AA15: 1575 | AB15: 1701 | AC15: 1575 | AD15: 1603 | AE15: 1771 | AF15: 1561 | AG15: =SUM(B15:AF15) -> 45906
A16: 4:30-5:00 | B16: 1449 | C16: 1449 | D16: 1449 | E16: 1491 | F16: 1295 | G16: 1421 | H16: 1407 | I16: 1393 | J16: 1365 | K16: 1554 | L16: 1267 | M16: 1365 | N16: 1435 | O16: 1491 | P16: 1239 | Q16: 1505 | R16: 1435 | S16: 1113 | T16: 1211 | U16: 1435 | V16: 1505 | W16: 1491 | X16: 1295 | Y16: 1575 | Z16: 1435 | AA16: 1463 | AB16: 1575 | AC16: 1631 | AD16: 1435 | AE16: 1715 | AF16: 1533 | AG16: =SUM(B16:AF16) -> 44422
A17: 5:00-5:30 | B17: 1519 | C17: 1379 | D17: 1575 | E17: 1477 | F17: 1603 | G17: 1449 | H17: 1449 | I17: 1365 | J17: 1337 | K17: 1764 | L17: 1295 | M17: 1365 | N17: 1463 | O17: 1491 | P17: 1295 | Q17: 1687 | R17: 1365 | S17: 1365 | T17: 1365 | U17: 1477 | V17: 1687 | W17: 1603 | X17: 1449 | Y17: 1421 | Z17: 1547 | AA17: 1421 | AB17: 1617 | AC17: 1855 | AD17: 1589 | AE17: 1925 | AF17: 1575 | AG17: =SUM(B17:AF17) -> 46774
A18: 5:30-6:00 | B18: 1603 | C18: 1407 | D18: 1533 | E18: 1365 | F18: 1547 | G18: 1463 | H18: 1351 | I18: 1197 | J18: 1435 | K18: 1610 | L18: 1477 | M18: 1421 | N18: 1631 | O18: 1589 | P18: 1337 | Q18: 1715 | R18: 1393 | S18: 1463 | T18: 1351 | U18: 1617 | V18: 1603 | W18: 1575 | X18: 1491 | Y18: 1701 | Z18: 1323 | AA18: 1631 | AB18: 1785 | AC18: 1631 | AD18: 1673 | AE18: 1785 | AF18: 1687 | AG18: =SUM(B18:AF18) -> 47390
... A54: 23:30-24:00 | B54: 1435 | C54: 1393 | D54: 1435 | E54: 1449 | F54: 1617 | G54: 1561 | H54: 2387 | I54: 1435 | J54: 1561 | K54: 1848 | L54: 1407 | M54: 1645 | N54: 1673 | O54: 1449 | P54: 1575 | Q54: 1491 | R54: 1435 | S54: 1505 | T54: 1659 | U54: 1603 | V54: 1715 | W54: 1533 | X54: 1701 | Y54: 1841 | Z54: 1743 | AA54: 1673 | AB54: 1771 | AC54: 1729 | AD54: 1659 | AE54: 1617 | AF54: 1687 | AG54: =SUM(B54:AF54) -> 50232
A55: 平日昼間 | B55: =IF(B6="平日",SUM(B23:B50),0) -> 0 | C55: =IF(C6="平日",SUM(C23:C50),0) -> 0 | D55: =IF(D6="平日",SUM(D23:D50),0) -> 0 | E55: =IF(E6="平日",SUM(E23:E50),0) -> 0 | F55: =IF(F6="平日",SUM(F23:F50),0) -> 39550 | G55: =IF(G6="平日",SUM(G23:G50),0) -> 38962 | H55: =IF(H6="平日",SUM(H23:H50),0) -> 61768 | I55: =IF(I6="平日",SUM(I23:I50),0) -> 34300 | ... AF55: =IF(AF6="平日",SUM(AF23:AF50),0) -> 43498 | AG55: =ROUND(SUM(B55:AF55),0) -> 933310
A56: 夜間休日 | B56: =B57-B55 -> 70182 | C56: =C57-C55 -> 68880 | D56: =D57-D55 -> 74746 | E56: =E57-E55 -> 66738 | F56: =F57-F55 -> 30534 | G56: =G57-G55 -> 30268 | H56: =H57-H55 -> 33040 | I56: =I57-I55 -> 29344 | ... AF56: =AF57-AF55 -> 33124 | AG56: =ROUND(SUM(B56:AF56),0) -> 1286838
A57: 計 | B57: =SUM(B7:B54) -> 70182 | C57: =SUM(C7:C54) -> 68880 | D57: =SUM(D7:D54) -> 74746 | E57: =SUM(E7:E54) -> 66738 | F57: =SUM(F7:F54) -> 70084 | G57: =SUM(G7:G54) -> 69230 | H57: =SUM(H7:H54) -> 94808 | I57: =SUM(I7:I54) -> 63644 | ... AF57: =SUM(AF7:AF54) -> 76622 | AG57: =SUM(AG55:AG56) -> 2220148

Sheet 2026.2
A2: 46054 | B2: 資源循環局旭工場
A3: 時間毎の電力量 | AH3: 単位：kＷｈ
B4: =A2 -> 46054 | C4: =B4+1 -> 46055 | D4: =C4+1 -> 46056 | E4: =D4+1 -> 46057 | F4: =E4+1 -> 46058 | G4: =F4+1 -> 46059 | H4: =G4+1 -> 46060 | I4: =H4+1 -> 46061 | J4: =I4+1 -> 46062 | ... AF4: =AE4+1 -> 46084 | AG4: 合 計
B5: =WEEKDAY(B4) -> 1 | C5: =WEEKDAY(C4) -> 2 | D5: =WEEKDAY(D4) -> 3 | E5: =WEEKDAY(E4) -> 4 | F5: =WEEKDAY(F4) -> 5 | G5: =WEEKDAY(G4) -> 6 | H5: =WEEKDAY(H4) -> 7 | I5: =WEEKDAY(I4) -> 1 | ... AF5: =WEEKDAY(AF4) -> 3
B6: =IF(OR(B5=1,COUNTIF(休日!$B:$B,B4)>0),"休日","平日") -> 休日 | C6: =IF(OR(C5=1,COUNTIF(休日!$B:$B,C4)>0),"休日","平日") -> 平日 | D6: =IF(OR(D5=1,COUNTIF(休日!$B:$B,D4)>0),"休日","平日") -> 平日 | E6: =IF(OR(E5=1,COUNTIF(休日!$B:$B,E4)>0),"休日","平日") -> 平日 | F6: =IF(OR(F5=1,COUNTIF(休日!$B:$B,F4)>0),"休日","平日") -> 平日 | G6: =IF(OR(G5=1,COUNTIF(休日!$B:$B,G4)>0),"休日","平日") -> 平日 | H6: =IF(OR(H5=1,COUNTIF(休日!$B:$B,H4)>0),"休日","平日") -> 平日 | I6: =IF(OR(I5=1,COUNTIF(休日!$B:$B,I4)>0),"休日","平日") -> 休日 | ... AF6: =IF(OR(AF5=1,COUNTIF(休日!$B:$B,AF4)>0),"休日","平日") -> 平日
A7: 0:00-0:30 | B7: 1771 | C7: 1799 | D7: 1687 | E7: 1715 | F7: 1855 | G7: 1785 | H7: 1855 | I7: 1771 | J7: 1715 | K7: 1813 | L7: 1771 | M7: 1785 | N7: 1785 | O7: 1701 | P7: 1701 | Q7: 1785 | R7: 1743 | S7: 1897 | T7: 1813 | U7: 1827 | V7: 1631 | W7: 1785 | X7: 1855 | Y7: 1771 | Z7: 1659 | AA7: 1869 | AB7: 1771 | AC7: 1743 | AG7: =SUM(B7:AF7) -> 49658
A8: 0:30-1:00 | B8: 1841 | C8: 1785 | D8: 1743 | E8: 1743 | F8: 1547 | G8: 1729 | H8: 1771 | I8: 1799 | J8: 1715 | K8: 1617 | L8: 1869 | M8: 1757 | N8: 1743 | O8: 1785 | P8: 1673 | Q8: 2009 | R8: 1701 | S8: 1673 | T8: 1715 | U8: 1715 | V8: 1659 | W8: 1687 | X8: 1785 | Y8: 1869 | Z8: 1715 | AA8: 1813 | AB8: 1687 | AC8: 1729 | AG8: =SUM(B8:AF8) -> 48874
A9: 1:00-1:30 | B9: 1785 | C9: 1729 | D9: 1645 | E9: 1813 | F9: 1771 | G9: 1393 | H9: 1855 | I9: 1785 | J9: 1729 | K9: 1575 | L9: 1659 | M9: 1603 | N9: 1589 | O9: 1883 | P9: 1757 | Q9: 1981 | R9: 1785 | S9: 1799 | T9: 1911 | U9: 1757 | V9: 1729 | W9: 1757 | X9: 1673 | Y9: 1757 | Z9: 1771 | AA9: 1785 | AB9: 1715 | AC9: 1757 | AG9: =SUM(B9:AF9) -> 48748
A10: 1:30-2:00 | B10: 1911 | C10: 1827 | D10: 1729 | E10: 1673 | F10: 1799 | G10: 1729 | H10: 1757 | I10: 1771 | J10: 1631 | K10: 1687 | L10: 1701 | M10: 1911 | N10: 1785 | O10: 1729 | P10: 1729 | Q10: 1645 | R10: 1771 | S10: 1799 | T10: 1743 | U10: 1757 | V10: 1715 | W10: 1645 | X10: 1799 | Y10: 1841 | Z10: 1673 | AA10: 1785 | AB10: 1757 | AC10: 1813 | AG10: =SUM(B10:AF10) -> 49112
A11: 2:00-2:30 | B11: 1743 | C11: 1743 | D11: 1645 | E11: 1771 | F11: 1799 | G11: 1827 | H11: 1715 | I11: 1897 | J11: 1771 | K11: 1757 | L11: 1757 | M11: 1827 | N11: 1841 | O11: 1645 | P11: 1757 | Q11: 1785 | R11: 1659 | S11: 1715 | T11: 1841 | U11: 1771 | V11: 1715 | W11: 1729 | X11: 1841 | Y11: 1897 | Z11: 1799 | AA11: 1589 | AB11: 1799 | AC11: 1827 | AG11: =SUM(B11:AF11) -> 49462
A12: 2:30-3:00 | B12: 1771 | C12: 1687 | D12: 1715 | E12: 1715 | F12: 1757 | G12: 1855 | H12: 1743 | I12: 1939 | J12: 1729 | K12: 1701 | L12: 1813 | M12: 1701 | N12: 1701 | O12: 1841 | P12: 1771 | Q12: 1729 | R12: 1701 | S12: 1659 | T12: 1799 | U12: 1841 | V12: 1883 | W12: 1729 | X12: 1757 | Y12: 1841 | Z12: 1771 | AA12: 1589 | AB12: 1715 | AC12: 1883 | AG12: =SUM(B12:AF12) -> 49336
A13: 3:00-3:30 | B13: 1785 | C13: 1757 | D13: 1701 | E13: 1729 | F13: 1813 | G13: 1925 | H13: 1701 | I13: 1827 | J13: 1701 | K13: 1743 | L13: 1855 | M13: 1771 | N13: 1757 | O13: 1547 | P13: 1855 | Q13: 1645 | R13: 1743 | S13: 1729 | T13: 1701 | U13: 1827 | V13: 1771 | W13: 1715 | X13: 1785 | Y13: 1827 | Z13: 1729 | AA13: 1673 | AB13: 1799 | AC13: 1771 | AG13: =SUM(B13:AF13) -> 49182
A14: 3:30-4:00 | B14: 1701 | C14: 1715 | D14: 1673 | E14: 1729 | F14: 1715 | G14: 1827 | H14: 1799 | I14: 1785 | J14: 1715 | K14: 1547 | L14: 1785 | M14: 1953 | N14: 1659 | O14: 1729 | P14: 1855 | Q14: 1687 | R14: 1617 | S14: 1603 | T14: 1785 | U14: 1701 | V14: 1813 | W14: 1757 | X14: 1743 | Y14: 1757 | Z14: 1785 | AA14: 1533 | AB14: 1841 | AC14: 1743 | AG14: =SUM(B14:AF14) -> 48552
A15: 4:00-4:30 | B15: 1603 | C15: 1645 | D15: 1687 | E15: 1631 | F15: 1589 | G15: 1673 | H15: 1715 | I15: 1659 | J15: 1631 | K15: 1603 | L15: 1659 | M15: 1645 | N15: 1631 | O15: 1603 | P15: 1617 | Q15: 1449 | R15: 1561 | S15: 1561 | T15: 1659 | U15: 1533 | V15: 1701 | W15: 1505 | X15: 1659 | Y15: 1631 | Z15: 1659 | AA15: 1505 | AB15: 1743 | AC15: 1477 | AG15: =SUM(B15:AF15) -> 45234
A16: 4:30-5:00 | B16: 1519 | C16: 1631 | D16: 1561 | E16: 1589 | F16: 1491 | G16: 1505 | H16: 1617 | I16: 1673 | J16: 1589 | K16: 1547 | L16: 1617 | M16: 1743 | N16: 1575 | O16: 1589 | P16: 1449 | Q16: 1603 | R16: 1561 | S16: 1407 | T16: 1589 | U16: 1463 | V16: 1603 | W16: 1477 | X16: 1617 | Y16: 1645 | Z16: 1659 | AA16: 1589 | AB16: 1715 | AC16: 1701 | AG16: =SUM(B16:AF16) -> 44324
A17: 5:00-5:30 | B17: 1701 | C17: 1645 | D17: 1575 | E17: 1715 | F17: 1673 | G17: 1771 | H17: 1743 | I17: 1715 | J17: 1659 | K17: 1631 | L17: 1547 | M17: 1575 | N17: 1617 | O17: 1491 | P17: 1743 | Q17: 1715 | R17: 1799 | S17: 1435 | T17: 1617 | U17: 1785 | V17: 1645 | W17: 1841 | X17: 1645 | Y17: 1813 | Z17: 1841 | AA17: 1729 | AB17: 1743 | AC17: 1715 | AG17: =SUM(B17:AF17) -> 47124
A18: 5:30-6:00 | B18: 1743 | C18: 1827 | D18: 1715 | E18: 1757 | F18: 1813 | G18: 1743 | H18: 1575 | I18: 1771 | J18: 1687 | K18: 1631 | L18: 1687 | M18: 1729 | N18: 1743 | O18: 1575 | P18: 1575 | Q18: 1799 | R18: 1715 | S18: 1547 | T18: 1687 | U18: 1841 | V18: 1715 | W18: 2107 | X18: 1757 | Y18: 1729 | Z18: 1771 | AA18: 1505 | AB18: 1743 | AC18: 1897 | AG18: =SUM(B18:AF18) -> 48384
... A54: 23:30-24:00 | B54: 1687 | C54: 1785 | D54: 1715 | E54: 1799 | F54: 1841 | G54: 1757 | H54: 1715 | I54: 1673 | J54: 1659 | K54: 1827 | L54: 1771 | M54: 1883 | N54: 1785 | O54: 1953 | P54: 1715 | Q54: 1771 | R54: 1869 | S54: 1785 | T54: 1799 | U54: 1855 | V54: 1785 | W54: 1645 | X54: 1715 | Y54: 1771 | Z54: 1799 | AA54: 1883 | AB54: 1771 | AC54: 1841 | AG54: =SUM(B54:AF54) -> 49854
A55: 平日昼間 | B55: =IF(B6="平日",SUM(B23:B50),0) -> 0 | C55: =IF(C6="平日",SUM(C23:C50),0) -> 43260 | D55: =IF(D6="平日",SUM(D23:D50),0) -> 42294 | E55: =IF(E6="平日",SUM(E23:E50),0) -> 43470 | F55: =IF(F6="平日",SUM(F23:F50),0) -> 43764 | G55: =IF(G6="平日",SUM(G23:G50),0) -> 44352 | H55: =IF(H6="平日",SUM(H23:H50),0) -> 43848 | I55: =IF(I6="平日",SUM(I23:I50),0) -> 0 | ... AF55: =IF(AF6="平日",SUM(AF23:AF50),0) -> 0 | AG55: =ROUND(SUM(B55:AF55),0) -> 968142
A56: 夜間休日 | B56: =B57-B55 -> 81732 | C56: =C57-C55 -> 34398 | D56: =D57-D55 -> 33418 | E56: =E57-E55 -> 34048 | F56: =F57-F55 -> 33866 | G56: =G57-G55 -> 34608 | H56: =H57-H55 -> 34636 | I56: =I57-I55 -> 81872 | ... AF56: =AF57-AF55 -> 0 | AG56: =ROUND(SUM(B56:AF56),0) -> 1242038
A57: 計 | B57: =SUM(B7:B54) -> 81732 | C57: =SUM(C7:C54) -> 77658 | D57: =SUM(D7:D54) -> 75712 | E57: =SUM(E7:E54) -> 77518 | F57: =SUM(F7:F54) -> 77630 | G57: =SUM(G7:G54) -> 78960 | H57: =SUM(H7:H54) -> 78484 | I57: =SUM(I7:I54) -> 81872 | ... AF57: =SUM(AF7:AF54) -> 0 | AG57: =SUM(AG55:AG56) -> 2210180

Sheet 2026.3
A2: 46082 | B2: 資源循環局旭工場
A3: 時間毎の電力量 | AH3: 単位：kＷｈ
B4: =A2 -> 46082 | C4: =B4+1 -> 46083 | D4: =C4+1 -> 46084 | E4: =D4+1 -> 46085 | F4: =E4+1 -> 46086 | G4: =F4+1 -> 46087 | H4: =G4+1 -> 46088 | I4: =H4+1 -> 46089 | J4: =I4+1 -> 46090 | ... AF4: =AE4+1 -> 46112 | AG4: 合 計
B5: =WEEKDAY(B4) -> 1 | C5: =WEEKDAY(C4) -> 2 | D5: =WEEKDAY(D4) -> 3 | E5: =WEEKDAY(E4) -> 4 | F5: =WEEKDAY(F4) -> 5 | G5: =WEEKDAY(G4) -> 6 | H5: =WEEKDAY(H4) -> 7 | I5: =WEEKDAY(I4) -> 1 | ... AF5: =WEEKDAY(AF4) -> 3
B6: =IF(OR(B5=1,COUNTIF(休日!$B:$B,B4)>0),"休日","平日") -> 休日 | C6: =IF(OR(C5=1,COUNTIF(休日!$B:$B,C4)>0),"休日","平日") -> 平日 | D6: =IF(OR(D5=1,COUNTIF(休日!$B:$B,D4)>0),"休日","平日") -> 平日 | E6: =IF(OR(E5=1,COUNTIF(休日!$B:$B,E4)>0),"休日","平日") -> 平日 | F6: =IF(OR(F5=1,COUNTIF(休日!$B:$B,F4)>0),"休日","平日") -> 平日 | G6: =IF(OR(G5=1,COUNTIF(休日!$B:$B,G4)>0),"休日","平日") -> 平日 | H6: =IF(OR(H5=1,COUNTIF(休日!$B:$B,H4)>0),"休日","平日") -> 平日 | I6: =IF(OR(I5=1,COUNTIF(休日!$B:$B,I4)>0),"休日","平日") -> 休日 | ... AF6: =IF(OR(AF5=1,COUNTIF(休日!$B:$B,AF4)>0),"休日","平日") -> 平日
A7: 0:00-0:30 | B7: 1897 | C7: 1771 | D7: 1841 | E7: 1673 | F7: 1673 | G7: 1617 | H7: 1603 | I7: 1687 | J7: 1204 | K7: 280 | L7: 1309 | M7: 1771 | N7: 1519 | O7: 1673 | P7: 1561 | Q7: 1617 | R7: 1673 | S7: 1631 | T7: 1617 | U7: 1561 | V7: 1589 | W7: 1491 | X7: 1673 | Y7: 1743 | Z7: 1617 | AA7: 1631 | AB7: 2093 | AC7: 1883 | AD7: 1953 | AE7: 1589 | AF7: 1547 | AG7: =SUM(B7:AF7) -> 49987
A8: 0:30-1:00 | B8: 1757 | C8: 1715 | D8: 1659 | E8: 1757 | F8: 1617 | G8: 1715 | H8: 1631 | I8: 1603 | J8: 1260 | K8: 252 | L8: 1575 | M8: 1729 | N8: 1449 | O8: 1589 | P8: 1519 | Q8: 1603 | R8: 1603 | S8: 1953 | T8: 1771 | U8: 1463 | V8: 1673 | W8: 1477 | X8: 1715 | Y8: 1743 | Z8: 1743 | AA8: 1827 | AB8: 1925 | AC8: 1841 | AD8: 1883 | AE8: 1603 | AF8: 1673 | AG8: =SUM(B8:AF8) -> 50323
A9: 1:00-1:30 | B9: 1743 | C9: 1519 | D9: 1631 | E9: 1631 | F9: 1785 | G9: 1799 | H9: 1771 | I9: 1785 | J9: 980 | K9: 308 | L9: 1575 | M9: 1813 | N9: 1673 | O9: 1323 | P9: 1771 | Q9: 1659 | R9: 1869 | S9: 1645 | T9: 1659 | U9: 1785 | V9: 1771 | W9: 1561 | X9: 1645 | Y9: 1771 | Z9: 1771 | AA9: 1603 | AB9: 1897 | AC9: 1743 | AD9: 2149 | AE9: 1729 | AF9: 1813 | AG9: =SUM(B9:AF9) -> 51177
A10: 1:30-2:00 | B10: 1785 | C10: 1841 | D10: 1701 | E10: 1757 | F10: 1841 | G10: 1743 | H10: 1813 | I10: 1645 | J10: 812 | K10: 364 | L10: 1589 | M10: 1659 | N10: 1631 | O10: 1547 | P10: 1659 | Q10: 1673 | R10: 1841 | S10: 1757 | T10: 1617 | U10: 1729 | V10: 1743 | W10: 1589 | X10: 1659 | Y10: 1701 | Z10: 1799 | AA10: 1645 | AB10: 1799 | AC10: 1785 | AD10: 1939 | AE10: 1547 | AF10: 1925 | AG10: =SUM(B10:AF10) -> 51135
A11: 2:00-2:30 | B11: 1743 | C11: 1771 | D11: 1799 | E11: 1785 | F11: 1673 | G11: 1645 | H11: 1799 | I11: 1617 | J11: 770 | K11: 406 | L11: 1589 | M11: 1813 | N11: 1617 | O11: 1673 | P11: 1701 | Q11: 1785 | R11: 1701 | S11: 1631 | T11: 1785 | U11: 1603 | V11: 1645 | W11: 1743 | X11: 1743 | Y11: 1561 | Z11: 1589 | AA11: 1701 | AB11: 1939 | AC11: 1757 | AD11: 1911 | AE11: 1673 | AF11: 1855 | AG11: =SUM(B11:AF11) -> 51023
A12: 2:30-3:00 | B12: 1911 | C12: 1617 | D12: 1869 | E12: 1785 | F12: 1701 | G12: 1771 | H12: 1757 | I12: 1645 | J12: 826 | K12: 336 | L12: 1575 | M12: 1617 | N12: 1575 | O12: 1785 | P12: 1631 | Q12: 1687 | R12: 1659 | S12: 1687 | T12: 1757 | U12: 1477 | V12: 1519 | W12: 1827 | X12: 1743 | Y12: 1645 | Z12: 1729 | AA12: 1589 | AB12: 1799 | AC12: 1687 | AD12: 1701 | AE12: 1673 | AF12: 1799 | AG12: =SUM(B12:AF12) -> 50379
A13: 3:00-3:30 | B13: 1785 | C13: 1757 | D13: 1743 | E13: 1813 | F13: 1729 | G13: 1729 | H13: 1729 | I13: 1645 | J13: 560 | K13: 336 | L13: 1505 | M13: 1771 | N13: 1337 | O13: 1519 | P13: 1561 | Q13: 1813 | R13: 1575 | S13: 1701 | T13: 1589 | U13: 1533 | V13: 1505 | W13: 1575 | X13: 1729 | Y13: 1519 | Z13: 1687 | AA13: 1463 | AB13: 1771 | AC13: 1771 | AD13: 1743 | AE13: 1407 | AF13: 1799 | AG13: =SUM(B13:AF13) -> 48699
A14: 3:30-4:00 | B14: 1645 | C14: 1547 | D14: 1785 | E14: 1799 | F14: 1631 | G14: 1757 | H14: 1715 | I14: 1645 | J14: 490 | K14: 434 | L14: 1449 | M14: 1631 | N14: 1701 | O14: 1869 | P14: 1729 | Q14: 1841 | R14: 1603 | S14: 1547 | T14: 1813 | U14: 1575 | V14: 1589 | W14: 1463 | X14: 1575 | Y14: 1589 | Z14: 1603 | AA14: 1449 | AB14: 1869 | AC14: 1869 | AD14: 1771 | AE14: 1743 | AF14: 1799 | AG14: =SUM(B14:AF14) -> 49525
A15: 4:00-4:30 | B15: 1687 | C15: 1575 | D15: 1701 | E15: 1715 | F15: 1659 | G15: 1631 | H15: 1743 | I15: 1603 | J15: 378 | K15: 336 | L15: 1505 | M15: 1561 | N15: 1365 | O15: 1631 | P15: 1547 | Q15: 1519 | R15: 1575 | S15: 1575 | T15: 1477 | U15: 1561 | V15: 1589 | W15: 1435 | X15: 1645 | Y15: 1533 | Z15: 1617 | AA15: 1309 | AB15: 1715 | AC15: 1715 | AD15: 1743 | AE15: 1547 | AF15: 1645 | AG15: =SUM(B15:AF15) -> 46837
A16: 4:30-5:00 | B16: 1603 | C16: 1659 | D16: 1687 | E16: 1603 | F16: 1715 | G16: 1547 | H16: 1631 | I16: 1519 | J16: 406 | K16: 364 | L16: 1379 | M16: 1477 | N16: 1393 | O16: 1561 | P16: 1435 | Q16: 1561 | R16: 1491 | S16: 1519 | T16: 1561 | U16: 1491 | V16: 1281 | W16: 1155 | X16: 1603 | Y16: 1435 | Z16: 1631 | AA16: 1309 | AB16: 1715 | AC16: 1519 | AD16: 1505 | AE16: 1505 | AF16: 1701 | AG16: =SUM(B16:AF16) -> 44961
A17: 5:00-5:30 | B17: 1715 | C17: 1505 | D17: 1785 | E17: 1659 | F17: 1659 | G17: 1757 | H17: 1589 | I17: 1659 | J17: 266 | K17: 378 | L17: 1477 | M17: 1617 | N17: 1547 | O17: 1589 | P17: 1491 | Q17: 1701 | R17: 1603 | S17: 1533 | T17: 1659 | U17: 1589 | V17: 1743 | W17: 1281 | X17: 1519 | Y17: 1533 | Z17: 1743 | AA17: 1687 | AB17: 1687 | AC17: 1547 | AD17: 1715 | AE17: 1561 | AF17: 1617 | AG17: =SUM(B17:AF17) -> 47411
A18: 5:30-6:00 | B18: 1883 | C18: 1645 | D18: 1701 | E18: 1659 | F18: 1785 | G18: 1673 | H18: 1659 | I18: 1617 | J18: 448 | K18: 308 | L18: 1477 | M18: 1757 | N18: 1589 | O18: 1645 | P18: 1687 | Q18: 1589 | R18: 1645 | S18: 1687 | T18: 1883 | U18: 1561 | V18: 1659 | W18: 1421 | X18: 1603 | Y18: 1533 | Z18: 1589 | AA18: 1491 | AB18: 1631 | AC18: 1729 | AD18: 2079 | AE18: 1617 | AF18: 1673 | AG18: =SUM(B18:AF18) -> 48923
... A54: 23:30-24:00 | B54: 1729 | C54: 1729 | D54: 1715 | E54: 1813 | F54: 1715 | G54: 1659 | H54: 1673 | I54: 1295 | J54: 322 | K54: 1806 | L54: 1743 | M54: 1309 | N54: 1379 | O54: 1673 | P54: 1645 | Q54: 1631 | R54: 1771 | S54: 1715 | T54: 1505 | U54: 1617 | V54: 1561 | W54: 1785 | X54: 1631 | Y54: 1673 | Z54: 1631 | AA54: 1771 | AB54: 1729 | AC54: 1925 | AD54: 1659 | AE54: 1883 | AF54: 1729 | AG54: =SUM(B54:AF54) -> 50421
A55: 平日昼間 | B55: =IF(B6="平日",SUM(B23:B50),0) -> 0 | C55: =IF(C6="平日",SUM(C23:C50),0) -> 43680 | D55: =IF(D6="平日",SUM(D23:D50),0) -> 43862 | E55: =IF(E6="平日",SUM(E23:E50),0) -> 45444 | F55: =IF(F6="平日",SUM(F23:F50),0) -> 43274 | G55: =IF(G6="平日",SUM(G23:G50),0) -> 42952 | H55: =IF(H6="平日",SUM(H23:H50),0) -> 41678 | I55: =IF(I6="平日",SUM(I23:I50),0) -> 0 | ... AF55: =IF(AF6="平日",SUM(AF23:AF50),0) -> 46312 | AG55: =ROUND(SUM(B55:AF55),0) -> 1012536
A56: 夜間休日 | B56: =B57-B55 -> 83146 | C56: =C57-C55 -> 33348 | D56: =D57-D55 -> 34622 | E56: =E57-E55 -> 34748 | F56: =F57-F55 -> 34132 | G56: =G57-G55 -> 33320 | H56: =H57-H55 -> 33642 | I56: =I57-I55 -> 72800 | ... AF56: =AF57-AF55 -> 35154 | AG56: =ROUND(SUM(B56:AF56),0) -> 1243018
A57: 計 | B57: =SUM(B7:B54) -> 83146 | C57: =SUM(C7:C54) -> 77028 | D57: =SUM(D7:D54) -> 78484 | E57: =SUM(E7:E54) -> 80192 | F57: =SUM(F7:F54) -> 77406 | G57: =SUM(G7:G54) -> 76272 | H57: =SUM(H7:H54) -> 75320 | I57: =SUM(I7:I54) -> 72800 | ... AF57: =SUM(AF7:AF54) -> 81466 | AG57: =SUM(AG55:AG56) -> 2255554

Sheet 2026.4
A2: 46113 | B2: 資源循環局旭工場
A3: 時間毎の電力量 | AH3: 単位：kＷｈ
B4: =A2 -> 46113 | C4: =B4+1 -> 46114 | D4: =C4+1 -> 46115 | E4: =D4+1 -> 46116 | F4: =E4+1 -> 46117 | G4: =F4+1 -> 46118 | H4: =G4+1 -> 46119 | I4: =H4+1 -> 46120 | J4: =I4+1 -> 46121 | ... AF4: =AE4+1 -> 46143 | AG4: 合 計
B5: =WEEKDAY(B4) -> 4 | C5: =WEEKDAY(C4) -> 5 | D5: =WEEKDAY(D4) -> 6 | E5: =WEEKDAY(E4) -> 7 | F5: =WEEKDAY(F4) -> 1 | G5: =WEEKDAY(G4) -> 2 | H5: =WEEKDAY(H4) -> 3 | I5: =WEEKDAY(I4) -> 4 | ... AF5: =WEEKDAY(AF4) -> 6
B6: =IF(OR(B5=1,COUNTIF(休日!$B:$B,B4)>0),"休日","平日") -> 平日 | C6: =IF(OR(C5=1,COUNTIF(休日!$B:$B,C4)>0),"休日","平日") -> 平日 | D6: =IF(OR(D5=1,COUNTIF(休日!$B:$B,D4)>0),"休日","平日") -> 平日 | E6: =IF(OR(E5=1,COUNTIF(休日!$B:$B,E4)>0),"休日","平日") -> 平日 | F6: =IF(OR(F5=1,COUNTIF(休日!$B:$B,F4)>0),"休日","平日") -> 休日 | G6: =IF(OR(G5=1,COUNTIF(休日!$B:$B,G4)>0),"休日","平日") -> 平日 | H6: =IF(OR(H5=1,COUNTIF(休日!$B:$B,H4)>0),"休日","平日") -> 平日 | I6: =IF(OR(I5=1,COUNTIF(休日!$B:$B,I4)>0),"休日","平日") -> 平日 | ... AF6: =IF(OR(AF5=1,COUNTIF(休日!$B:$B,AF4)>0),"休日","平日") -> 休日
A7: 0:00-0:30 | B7: 1898 | C7: 2052 | D7: 1898 | E7: 1758 | F7: 2262 | G7: 1646 | H7: 1828 | I7: 1744 | J7: 1800 | K7: 1520 | L7: 1800 | M7: 1870 | N7: 1632 | O7: 1800 | P7: 1758 | Q7: 1730 | R7: 1660 | S7: 1604 | T7: 1604 | U7: 1744 | V7: 1604 | W7: 1702 | X7: 1828 | Y7: 1562 | Z7: 1814 | AA7: 1758 | AB7: 1632 | AC7: 1590 | AD7: 2164 | AE7: 1884 | AG7: =SUM(B7:AF7) -> 53146
A8: 0:30-1:00 | B8: 1828 | C8: 2024 | D8: 1898 | E8: 1800 | F8: 2122 | G8: 1786 | H8: 1618 | I8: 1716 | J8: 1618 | K8: 1828 | L8: 1716 | M8: 1744 | N8: 1800 | O8: 1744 | P8: 1702 | Q8: 1814 | R8: 1786 | S8: 1590 | T8: 1674 | U8: 1604 | V8: 1534 | W8: 1660 | X8: 1646 | Y8: 1814 | Z8: 1660 | AA8: 1632 | AB8: 1702 | AC8: 1478 | AD8: 1870 | AE8: 2304 | AG8: =SUM(B8:AF8) -> 52712
A9: 1:00-1:30 | B9: 1912 | C9: 2066 | D9: 1814 | E9: 1842 | F9: 1968 | G9: 1772 | H9: 1814 | I9: 1702 | J9: 1688 | K9: 1716 | L9: 1800 | M9: 1828 | N9: 1968 | O9: 1688 | P9: 1576 | Q9: 1856 | R9: 1674 | S9: 1478 | T9: 1590 | U9: 1604 | V9: 1632 | W9: 1758 | X9: 1702 | Y9: 1716 | Z9: 1716 | AA9: 1744 | AB9: 1674 | AC9: 1828 | AD9: 1884 | AE9: 2038 | AG9: =SUM(B9:AF9) -> 53048
A10: 1:30-2:00 | B10: 1940 | C10: 1982 | D10: 1758 | E10: 1786 | F10: 1800 | G10: 1828 | H10: 1772 | I10: 1814 | J10: 1730 | K10: 1828 | L10: 1646 | M10: 1800 | N10: 1744 | O10: 1744 | P10: 1520 | Q10: 1688 | R10: 1702 | S10: 1590 | T10: 1744 | U10: 1772 | V10: 1590 | W10: 1646 | X10: 1744 | Y10: 1674 | Z10: 1576 | AA10: 1646 | AB10: 1842 | AC10: 1744 | AD10: 1800 | AE10: 1786 | AG10: =SUM(B10:AF10) -> 52236
A11: 2:00-2:30 | B11: 1996 | C11: 2122 | D11: 1940 | E11: 1856 | F11: 1730 | G11: 1926 | H11: 1842 | I11: 1856 | J11: 1758 | K11: 1744 | L11: 1772 | M11: 1702 | N11: 1716 | O11: 1800 | P11: 1912 | Q11: 1702 | R11: 1814 | S11: 1716 | T11: 1744 | U11: 1800 | V11: 1702 | W11: 1590 | X11: 1898 | Y11: 1870 | Z11: 1786 | AA11: 1800 | AB11: 1912 | AC11: 1814 | AD11: 1716 | AE11: 1954 | AG11: =SUM(B11:AF11) -> 54490
A12: 2:30-3:00 | B12: 2010 | C12: 1884 | D12: 1828 | E12: 1786 | F12: 1772 | G12: 1940 | H12: 1828 | I12: 1800 | J12: 1604 | K12: 1884 | L12: 1926 | M12: 1688 | N12: 1730 | O12: 1814 | P12: 1786 | Q12: 1688 | R12: 1604 | S12: 1660 | T12: 1702 | U12: 1688 | V12: 1632 | W12: 1758 | X12: 1688 | Y12: 1688 | Z12: 1730 | AA12: 1674 | AB12: 1870 | AC12: 1772 | AD12: 1758 | AE12: 1912 | AG12: =SUM(B12:AF12) -> 53104
A13: 3:00-3:30 | B13: 1940 | C13: 1758 | D13: 1968 | E13: 1926 | F13: 1800 | G13: 1702 | H13: 1884 | I13: 1884 | J13: 1786 | K13: 1842 | L13: 1786 | M13: 1814 | N13: 1814 | O13: 1716 | P13: 1758 | Q13: 1674 | R13: 1646 | S13: 1814 | T13: 1646 | U13: 1688 | V13: 1604 | W13: 1548 | X13: 1730 | Y13: 1898 | Z13: 1772 | AA13: 1814 | AB13: 1730 | AC13: 1632 | AD13: 1632 | AE13: 1912 | AG13: =SUM(B13:AF13) -> 53118
A14: 3:30-4:00 | B14: 1940 | C14: 1744 | D14: 1898 | E14: 1786 | F14: 1814 | G14: 1856 | H14: 1856 | I14: 1842 | J14: 1646 | K14: 1870 | L14: 1968 | M14: 1800 | N14: 1688 | O14: 1730 | P14: 1674 | Q14: 1674 | R14: 1702 | S14: 1632 | T14: 1646 | U14: 1758 | V14: 1702 | W14: 1702 | X14: 1716 | Y14: 1660 | Z14: 1786 | AA14: 1674 | AB14: 1716 | AC14: 1604 | AD14: 1758 | AE14: 1814 | AG14: =SUM(B14:AF14) -> 52656
A15: 4:00-4:30 | B15: 1534 | C15: 1730 | D15: 1730 | E15: 1772 | F15: 1380 | G15: 1800 | H15: 1674 | I15: 1702 | J15: 1562 | K15: 1828 | L15: 1716 | M15: 1590 | N15: 1646 | O15: 1758 | P15: 1548 | Q15: 1618 | R15: 1506 | S15: 1604 | T15: 1604 | U15: 1534 | V15: 1520 | W15: 1548 | X15: 1758 | Y15: 1870 | Z15: 1576 | AA15: 1576 | AB15: 1660 | AC15: 1618 | AD15: 1492 | AE15: 1786 | AG15: =SUM(B15:AF15) -> 49240
A16: 4:30-5:00 | B16: 1632 | C16: 1688 | D16: 1828 | E16: 1828 | F16: 1912 | G16: 1688 | H16: 1674 | I16: 1646 | J16: 1478 | K16: 1590 | L16: 1702 | M16: 1660 | N16: 1632 | O16: 1576 | P16: 1520 | Q16: 1590 | R16: 1562 | S16: 1548 | T16: 1660 | U16: 1506 | V16: 1618 | W16: 1394 | X16: 1856 | Y16: 1366 | Z16: 1674 | AA16: 1576 | AB16: 1422 | AC16: 1534 | AD16: 1506 | AE16: 1842 | AG16: =SUM(B16:AF16) -> 48708
A17: 5:00-5:30 | B17: 1422 | C17: 2122 | D17: 1744 | E17: 1828 | F17: 1674 | G17: 1856 | H17: 1576 | I17: 1674 | J17: 1590 | K17: 1674 | L17: 1744 | M17: 1590 | N17: 1688 | O17: 1590 | P17: 1674 | Q17: 1366 | R17: 1506 | S17: 1534 | T17: 1590 | U17: 1548 | V17: 1604 | W17: 1646 | X17: 1800 | Y17: 1842 | Z17: 1604 | AA17: 1590 | AB17: 1562 | AC17: 1646 | AD17: 1646 | AE17: 1814 | AG17: =SUM(B17:AF17) -> 49744
A18: 5:30-6:00 | B18: 1898 | C18: 1730 | D18: 1884 | E18: 1758 | F18: 1660 | G18: 1702 | H18: 1548 | I18: 1898 | J18: 1884 | K18: 1800 | L18: 1772 | M18: 1842 | N18: 1716 | O18: 1744 | P18: 1702 | Q18: 1800 | R18: 1758 | S18: 1716 | T18: 2052 | U18: 1772 | V18: 1772 | W18: 1590 | X18: 1562 | Y18: 1604 | Z18: 1618 | AA18: 1842 | AB18: 1828 | AC18: 1576 | AD18: 1618 | AE18: 1772 | AG18: =SUM(B18:AF18) -> 52418
... A54: 23:30-24:00 | B54: 1926 | C54: 1828 | D54: 1870 | E54: 1996 | F54: 1632 | G54: 1730 | H54: 1758 | I54: 1716 | J54: 1492 | K54: 2108 | L54: 1870 | M54: 1702 | N54: 1744 | O54: 1646 | P54: 1828 | Q54: 1688 | R54: 1506 | S54: 1674 | T54: 1772 | U54: 1716 | V54: 1660 | W54: 1646 | X54: 1786 | Y54: 1702 | Z54: 1562 | AA54: 1590 | AB54: 1562 | AC54: 2108 | AD54: 1464 | AE54: 1282 | AG54: =SUM(B54:AF54) -> 51564
A55: 平日昼間 | B55: =IF(B6="平日",SUM(B23:B50),0) -> 49512 | C55: =IF(C6="平日",SUM(C23:C50),0) -> 46320 | D55: =IF(D6="平日",SUM(D23:D50),0) -> 43338 | E55: =IF(E6="平日",SUM(E23:E50),0) -> 46872 | F55: =IF(F6="平日",SUM(F23:F50),0) -> 0 | G55: =IF(G6="平日",SUM(G23:G50),0) -> 42708 | H55: =IF(H6="平日",SUM(H23:H50),0) -> 42722 | I55: =IF(I6="平日",SUM(I23:I50),0) -> 41952 | ... AF55: =IF(AF6="平日",SUM(AF23:AF50),0) -> 0 | AG55: =ROUND(SUM(B55:AF55),0) -> 1033234
A56: 夜間休日 | B56: =B57-B55 -> 37384 | C56: =C57-C55 -> 37776 | D56: =D57-D55 -> 36586 | E56: =E57-E55 -> 36308 | F56: =F57-F55 -> 80128 | G56: =G57-G55 -> 34962 | H56: =H57-H55 -> 34682 | I56: =I57-I55 -> 34822 | ... AF56: =AF57-AF55 -> 0 | AG56: =ROUND(SUM(B56:AF56),0) -> 1298996
A57: 計 | B57: =SUM(B7:B54) -> 86896 | C57: =SUM(C7:C54) -> 84096 | D57: =SUM(D7:D54) -> 79924 | E57: =SUM(E7:E54) -> 83180 | F57: =SUM(F7:F54) -> 80128 | G57: =SUM(G7:G54) -> 77670 | H57: =SUM(H7:H54) -> 77404 | I57: =SUM(I7:I54) -> 76774 | ... AF57: =SUM(AF7:AF54) -> 0 | AG57: =SUM(AG55:AG56) -> 2332230

Sheet 2026.5
A2: 46143 | B2: 資源循環局旭工場
A3: 時間毎の電力量 | AH3: 単位：kＷｈ
B4: =A2 -> 46143 | C4: =B4+1 -> 46144 | D4: =C4+1 -> 46145 | E4: =D4+1 -> 46146 | F4: =E4+1 -> 46147 | G4: =F4+1 -> 46148 | H4: =G4+1 -> 46149 | I4: =H4+1 -> 46150 | J4: =I4+1 -> 46151 | ... AF4: =AE4+1 -> 46173 | AG4: 合 計
B5: =WEEKDAY(B4) -> 6 | C5: =WEEKDAY(C4) -> 7 | D5: =WEEKDAY(D4) -> 1 | E5: =WEEKDAY(E4) -> 2 | F5: =WEEKDAY(F4) -> 3 | G5: =WEEKDAY(G4) -> 4 | H5: =WEEKDAY(H4) -> 5 | I5: =WEEKDAY(I4) -> 6 | ... AF5: =WEEKDAY(AF4) -> 1
B6: =IF(OR(B5=1,COUNTIF(休日!$B:$B,B4)>0),"休日","平日") -> 休日 | C6: =IF(OR(C5=1,COUNTIF(休日!$B:$B,C4)>0),"休日","平日") -> 休日 | D6: =IF(OR(D5=1,COUNTIF(休日!$B:$B,D4)>0),"休日","平日") -> 休日 | E6: =IF(OR(E5=1,COUNTIF(休日!$B:$B,E4)>0),"休日","平日") -> 休日 | F6: =IF(OR(F5=1,COUNTIF(休日!$B:$B,F4)>0),"休日","平日") -> 休日 | G6: =IF(OR(G5=1,COUNTIF(休日!$B:$B,G4)>0),"休日","平日") -> 休日 | H6: =IF(OR(H5=1,COUNTIF(休日!$B:$B,H4)>0),"休日","平日") -> 平日 | I6: =IF(OR(I5=1,COUNTIF(休日!$B:$B,I4)>0),"休日","平日") -> 平日 | ... AF6: =IF(OR(AF5=1,COUNTIF(休日!$B:$B,AF4)>0),"休日","平日") -> 休日
A7: 0:00-0:30 | B7: 1338 | C7: 336 | D7: 322 | E7: 280 | F7: 1834 | G7: 1660 | H7: 1702 | I7: 1646 | J7: 1618 | K7: 1870 | L7: 1716 | M7: 1716 | N7: 1604 | O7: 1744 | P7: 1674 | Q7: 1744 | R7: 1464 | S7: 1786 | T7: 2052 | U7: 1730 | V7: 1632 | W7: 2234 | X7: 1380 | Y7: 1604 | Z7: 1324 | AA7: 1492 | AB7: 1618 | AC7: 1492 | AD7: 1380 | AE7: 1450 | AF7: 1716 | AG7: =SUM(B7:AF7) -> 47158
A8: 0:30-1:00 | B8: 638 | C8: 434 | D8: 266 | E8: 154 | F8: 1764 | G8: 1884 | H8: 1660 | I8: 1632 | J8: 1716 | K8: 1618 | L8: 1674 | M8: 1646 | N8: 1772 | O8: 1772 | P8: 1632 | Q8: 1646 | R8: 1506 | S8: 1716 | T8: 1506 | U8: 1702 | V8: 1324 | W8: 2668 | X8: 1156 | Y8: 1590 | Z8: 1562 | AA8: 1576 | AB8: 1492 | AC8: 1520 | AD8: 1632 | AE8: 1758 | AF8: 1842 | AG8: =SUM(B8:AF8) -> 46458
A9: 1:00-1:30 | B9: 316 | C9: 364 | D9: 336 | E9: 182 | F9: 1974 | G9: 1744 | H9: 1730 | I9: 1646 | J9: 1604 | K9: 1744 | L9: 1688 | M9: 1772 | N9: 1842 | O9: 1786 | P9: 1590 | Q9: 1408 | R9: 1716 | S9: 1772 | T9: 1548 | U9: 1576 | V9: 1464 | W9: 2150 | X9: 1674 | Y9: 1730 | Z9: 1324 | AA9: 1478 | AB9: 1548 | AC9: 1562 | AD9: 1702 | AE9: 1814 | AF9: 2150 | AG9: =SUM(B9:AF9) -> 46934
A10: 1:30-2:00 | B10: 162 | C10: 378 | D10: 336 | E10: 252 | F10: 2016 | G10: 1688 | H10: 1576 | I10: 1352 | J10: 1632 | K10: 1842 | L10: 1660 | M10: 1772 | N10: 1744 | O10: 1898 | P10: 1450 | Q10: 1646 | R10: 1562 | S10: 1730 | T10: 1576 | U10: 1702 | V10: 1296 | W10: 1590 | X10: 1618 | Y10: 1492 | Z10: 1730 | AA10: 1478 | AB10: 1394 | AC10: 1520 | AD10: 1450 | AE10: 1590 | AF10: 1800 | AG10: =SUM(B10:AF10) -> 44932
A11: 2:00-2:30 | B11: 260 | C11: 280 | D11: 392 | E11: 350 | F11: 2002 | G11: 1758 | H11: 1688 | I11: 1814 | J11: 1772 | K11: 1730 | L11: 1632 | M11: 1716 | N11: 1898 | O11: 2178 | P11: 1828 | Q11: 1702 | R11: 1604 | S11: 1646 | T11: 1688 | U11: 1800 | V11: 1590 | W11: 1310 | X11: 1702 | Y11: 1534 | Z11: 1870 | AA11: 1562 | AB11: 1478 | AC11: 1576 | AD11: 1352 | AE11: 1716 | AF11: 1744 | AG11: =SUM(B11:AF11) -> 47172
A12: 2:30-3:00 | B12: 106 | C12: 378 | D12: 294 | E12: 322 | F12: 2212 | G12: 1716 | H12: 1800 | I12: 1716 | J12: 2094 | K12: 1758 | L12: 1688 | M12: 1716 | N12: 1800 | O12: 1926 | P12: 1674 | Q12: 1674 | R12: 1632 | S12: 1688 | T12: 1758 | U12: 1730 | V12: 1912 | W12: 932 | X12: 1590 | Y12: 1534 | Z12: 1562 | AA12: 1604 | AB12: 1646 | AC12: 1618 | AD12: 1436 | AE12: 1772 | AF12: 1884 | AG12: =SUM(B12:AF12) -> 47172
A13: 3:00-3:30 | B13: 64 | C13: 322 | D13: 378 | E13: 210 | F13: 2324 | G13: 1744 | H13: 1646 | I13: 1968 | J13: 1898 | K13: 1772 | L13: 1660 | M13: 1646 | N13: 1646 | O13: 1940 | P13: 1604 | Q13: 1758 | R13: 1674 | S13: 1646 | T13: 1702 | U13: 1716 | V13: 1702 | W13: 834 | X13: 1604 | Y13: 1660 | Z13: 1422 | AA13: 1646 | AB13: 1366 | AC13: 1646 | AD13: 834 | AE13: 1702 | AF13: 2052 | AG13: =SUM(B13:AF13) -> 45786
A14: 3:30-4:00 | B14: 36 | C14: 364 | D14: 336 | E14: 140 | F14: 2338 | G14: 1548 | H14: 1562 | I14: 1674 | J14: 1884 | K14: 1800 | L14: 1688 | M14: 1674 | N14: 1772 | O14: 1898 | P14: 1716 | Q14: 1688 | R14: 1604 | S14: 1674 | T14: 1730 | U14: 1562 | V14: 1646 | W14: 834 | X14: 1716 | Y14: 1128 | Z14: 1450 | AA14: 1534 | AB14: 1464 | AC14: 1464 | AD14: 1380 | AE14: 1702 | AF14: 1996 | AG14: =SUM(B14:AF14) -> 45002
A15: 4:00-4:30 | B15: 358 | C15: 98 | D15: 364 | E15: 462 | F15: 1932 | G15: 1548 | H15: 1520 | I15: 1758 | J15: 1618 | K15: 1604 | L15: 1492 | M15: 1534 | N15: 1772 | O15: 1744 | P15: 1338 | Q15: 1730 | R15: 1520 | S15: 1618 | T15: 1548 | U15: 1478 | V15: 1408 | W15: 932 | X15: 1548 | Y15: 1100 | Z15: 1212 | AA15: 1366 | AB15: 1380 | AC15: 1422 | AD15: 1184 | AE15: 1492 | AF15: 1744 | AG15: =SUM(B15:AF15) -> 41824
A16: 4:30-5:00 | B16: 288 | C16: 238 | D16: 238 | E16: 294 | F16: 1820 | G16: 1506 | H16: 1660 | I16: 1604 | J16: 1730 | K16: 1604 | L16: 1492 | M16: 1590 | N16: 1912 | O16: 1996 | P16: 1632 | Q16: 1478 | R16: 1520 | S16: 1576 | T16: 1632 | U16: 1590 | V16: 1464 | W16: 1058 | X16: 1520 | Y16: 1156 | Z16: 1184 | AA16: 1450 | AB16: 1254 | AC16: 1380 | AD16: 1226 | AE16: 1520 | AF16: 1800 | AG16: =SUM(B16:AF16) -> 42412
A17: 5:00-5:30 | B17: 302 | C17: 196 | D17: 266 | E17: 238 | F17: 1694 | G17: 1464 | H17: 1618 | I17: 1646 | J17: 1506 | K17: 1618 | L17: 1730 | M17: 1562 | N17: 2318 | O17: 1758 | P17: 1548 | Q17: 1632 | R17: 1842 | S17: 1492 | T17: 1646 | U17: 1688 | V17: 1380 | W17: 1562 | X17: 1212 | Y17: 862 | Z17: 1310 | AA17: 1478 | AB17: 1422 | AC17: 1394 | AD17: 1338 | AE17: 1548 | AF17: 1912 | AG17: =SUM(B17:AF17) -> 43182
A18: 5:30-6:00 | B18: 36 | C18: 392 | D18: 308 | E18: 378 | F18: 1610 | G18: 1380 | H18: 1674 | I18: 1506 | J18: 1436 | K18: 1562 | L18: 1660 | M18: 1632 | N18: 1954 | O18: 1548 | P18: 1464 | Q18: 1576 | R18: 1912 | S18: 1674 | T18: 1478 | U18: 1632 | V18: 1352 | W18: 1394 | X18: 1674 | Y18: 1380 | Z18: 1422 | AA18: 1590 | AB18: 1450 | AC18: 1310 | AD18: 1394 | AE18: 1702 | AF18: 1674 | AG18: =SUM(B18:AF18) -> 43154
... A54: 23:30-24:00 | B54: 316 | C54: 294 | D54: 350 | E54: 1736 | F54: 1890 | G54: 1996 | H54: 1674 | I54: 1744 | J54: 1814 | K54: 1744 | L54: 1674 | M54: 1660 | N54: 1842 | O54: 1674 | P54: 1716 | Q54: 1506 | R54: 1814 | S54: 2150 | T54: 1660 | U54: 1702 | V54: 2682 | W54: 1716 | X54: 1618 | Y54: 1534 | Z54: 1590 | AA54: 1506 | AB54: 1534 | AC54: 1464 | AD54: 1786 | AE54: 2122 | AF54: 1632 | AG54: =SUM(B54:AF54) -> 50140
A55: 平日昼間 | B55: =IF(B6="平日",SUM(B23:B50),0) -> 0 | C55: =IF(C6="平日",SUM(C23:C50),0) -> 0 | D55: =IF(D6="平日",SUM(D23:D50),0) -> 0 | E55: =IF(E6="平日",SUM(E23:E50),0) -> 0 | F55: =IF(F6="平日",SUM(F23:F50),0) -> 0 | G55: =IF(G6="平日",SUM(G23:G50),0) -> 0 | H55: =IF(H6="平日",SUM(H23:H50),0) -> 44716 | I55: =IF(I6="平日",SUM(I23:I50),0) -> 39852 | ... AF55: =IF(AF6="平日",SUM(AF23:AF50),0) -> 0 | AG55: =ROUND(SUM(B55:AF55),0) -> 873924
A56: 夜間休日 | B56: =B57-B55 -> 8454 | C56: =C57-C55 -> 11214 | D56: =D57-D55 -> 13384 | E56: =E57-E55 -> 47334 | F56: =F57-F55 -> 82950 | G56: =G57-G55 -> 79050 | H56: =H57-H55 -> 32976 | I56: =I57-I55 -> 33366 | ... AF56: =AF57-AF55 -> 79274 | AG56: =ROUND(SUM(B56:AF56),0) -> 1232934
A57: 計 | B57: =SUM(B7:B54) -> 8454 | C57: =SUM(C7:C54) -> 11214 | D57: =SUM(D7:D54) -> 13384 | E57: =SUM(E7:E54) -> 47334 | F57: =SUM(F7:F54) -> 82950 | G57: =SUM(G7:G54) -> 79050 | H57: =SUM(H7:H54) -> 77692 | I57: =SUM(I7:I54) -> 73218 | ... AF57: =SUM(AF7:AF54) -> 79274 | AG57: =SUM(AG55:AG56) -> 2106858

Sheet 2026.6
A2: 46174 | B2: 資源循環局旭工場
A3: 時間毎の電力量 | AH3: 単位：kＷｈ
B4: =A2 -> 46174 | C4: =B4+1 -> 46175 | D4: =C4+1 -> 46176 | E4: =D4+1 -> 46177 | F4: =E4+1 -> 46178 | G4: =F4+1 -> 46179 | H4: =G4+1 -> 46180 | I4: =H4+1 -> 46181 | J4: =I4+1 -> 46182 | ... AF4: =AE4+1 -> 46204 | AG4: 合 計
B5: =WEEKDAY(B4) -> 2 | C5: =WEEKDAY(C4) -> 3 | D5: =WEEKDAY(D4) -> 4 | E5: =WEEKDAY(E4) -> 5 | F5: =WEEKDAY(F4) -> 6 | G5: =WEEKDAY(G4) -> 7 | H5: =WEEKDAY(H4) -> 1 | I5: =WEEKDAY(I4) -> 2 | ... AF5: =WEEKDAY(AF4) -> 4
B6: =IF(OR(B5=1,COUNTIF(休日!$B:$B,B4)>0),"休日","平日") -> 平日 | C6: =IF(OR(C5=1,COUNTIF(休日!$B:$B,C4)>0),"休日","平日") -> 平日 | D6: =IF(OR(D5=1,COUNTIF(休日!$B:$B,D4)>0),"休日","平日") -> 平日 | E6: =IF(OR(E5=1,COUNTIF(休日!$B:$B,E4)>0),"休日","平日") -> 平日 | F6: =IF(OR(F5=1,COUNTIF(休日!$B:$B,F4)>0),"休日","平日") -> 平日 | G6: =IF(OR(G5=1,COUNTIF(休日!$B:$B,G4)>0),"休日","平日") -> 平日 | H6: =IF(OR(H5=1,COUNTIF(休日!$B:$B,H4)>0),"休日","平日") -> 休日 | I6: =IF(OR(I5=1,COUNTIF(休日!$B:$B,I4)>0),"休日","平日") -> 平日 | ... AF6: =IF(OR(AF5=1,COUNTIF(休日!$B:$B,AF4)>0),"休日","平日") -> 平日
A7: 0:00-0:30 | B7: 1492 | C7: 1688 | D7: 1632 | E7: 1814 | F7: 1842 | G7: 1646 | H7: 1660 | I7: 1632 | J7: 1632 | K7: 1688 | L7: 1632 | M7: 1464 | N7: 1562 | O7: 1604 | P7: 1450 | Q7: 1562 | R7: 624 | S7: 154 | T7: 378 | U7: 210 | V7: 1632 | W7: 1282 | X7: 1674 | Y7: 1856 | Z7: 1492 | AA7: 1786 | AB7: 1716 | AC7: 1590 | AD7: 1352 | AE7: 1380 | AG7: =SUM(B7:AF7) -> 43126
A8: 0:30-1:00 | B8: 1744 | C8: 1590 | D8: 1702 | E8: 1576 | F8: 1576 | G8: 1772 | H8: 1632 | I8: 1534 | J8: 1422 | K8: 1730 | L8: 1702 | M8: 1492 | N8: 1394 | O8: 1534 | P8: 1408 | Q8: 1548 | R8: 190 | S8: 224 | T8: 336 | U8: 182 | V8: 1604 | W8: 1492 | X8: 1674 | Y8: 1716 | Z8: 1604 | AA8: 1534 | AB8: 1660 | AC8: 1576 | AD8: 1212 | AE8: 1506 | AG8: =SUM(B8:AF8) -> 41866
A9: 1:00-1:30 | B9: 1660 | C9: 1534 | D9: 1716 | E9: 1856 | F9: 1590 | G9: 1688 | H9: 1702 | I9: 1800 | J9: 1730 | K9: 1646 | L9: 1548 | M9: 1394 | N9: 1660 | O9: 1800 | P9: 1324 | Q9: 1688 | R9: 106 | S9: 182 | T9: 462 | U9: 238 | V9: 1380 | W9: 1324 | X9: 1674 | Y9: 1590 | Z9: 1716 | AA9: 1478 | AB9: 1744 | AC9: 1464 | AD9: 1240 | AE9: 1240 | AG9: =SUM(B9:AF9) -> 42174
A10: 1:30-2:00 | B10: 1730 | C10: 1548 | D10: 1674 | E10: 1828 | F10: 1394 | G10: 1772 | H10: 1660 | I10: 1576 | J10: 1576 | K10: 1674 | L10: 1856 | M10: 1702 | N10: 1604 | O10: 1254 | P10: 1520 | Q10: 1590 | R10: 204 | S10: 28 | T10: 434 | U10: 252 | V10: 1772 | W10: 1660 | X10: 1716 | Y10: 1688 | Z10: 1548 | AA10: 1646 | AB10: 1702 | AC10: 1436 | AD10: 1422 | AE10: 1310 | AG10: =SUM(B10:AF10) -> 42776
A11: 2:00-2:30 | B11: 1870 | C11: 1702 | D11: 1674 | E11: 1744 | F11: 1786 | G11: 1828 | H11: 1604 | I11: 1758 | J11: 1688 | K11: 1590 | L11: 1674 | M11: 1604 | N11: 1464 | O11: 1478 | P11: 1394 | Q11: 1604 | R11: 176 | S11: 168 | T11: 504 | U11: 350 | V11: 1744 | W11: 1394 | X11: 1814 | Y11: 1618 | Z11: 1548 | AA11: 1562 | AB11: 1590 | AC11: 1618 | AD11: 1940 | AE11: 1282 | AG11: =SUM(B11:AF11) -> 43770
A12: 2:30-3:00 | B12: 1618 | C12: 1786 | D12: 1632 | E12: 1702 | F12: 1702 | G12: 1716 | H12: 1660 | I12: 1688 | J12: 1590 | K12: 1548 | L12: 1730 | M12: 1464 | N12: 1702 | O12: 1716 | P12: 1310 | Q12: 1520 | R12: 78 | S12: 210 | T12: 406 | U12: 266 | V12: 1576 | W12: 1450 | X12: 1618 | Y12: 1618 | Z12: 1506 | AA12: 1772 | AB12: 1730 | AC12: 1520 | AD12: 1422 | AE12: 1422 | AG12: =SUM(B12:AF12) -> 42678
A13: 3:00-3:30 | B13: 1828 | C13: 1688 | D13: 1604 | E13: 1954 | F13: 1842 | G13: 1562 | H13: 1618 | I13: 1548 | J13: 1534 | K13: 1688 | L13: 1604 | M13: 1394 | N13: 1660 | O13: 1506 | P13: 1394 | Q13: 1520 | R13: 106 | S13: 434 | T13: 406 | U13: 266 | V13: 1282 | W13: 1506 | X13: 1688 | Y13: 1506 | Z13: 1520 | AA13: 1604 | AB13: 1464 | AC13: 1506 | AD13: 1646 | AE13: 1408 | AG13: =SUM(B13:AF13) -> 42286
A14: 3:30-4:00 | B14: 1702 | C14: 1688 | D14: 1660 | E14: 2066 | F14: 1660 | G14: 1618 | H14: 1660 | I14: 1618 | J14: 1716 | K14: 1730 | L14: 1492 | M14: 1380 | N14: 1534 | O14: 1674 | P14: 1702 | Q14: 1324 | R14: 120 | S14: 476 | T14: 588 | U14: 140 | V14: 1478 | W14: 1632 | X14: 1758 | Y14: 1646 | Z14: 1464 | AA14: 1450 | AB14: 1702 | AC14: 1450 | AD14: 1702 | AE14: 1408 | AG14: =SUM(B14:AF14) -> 43238
A15: 4:00-4:30 | B15: 1646 | C15: 1478 | D15: 1548 | E15: 1408 | F15: 1534 | G15: 1702 | H15: 1702 | I15: 1618 | J15: 1450 | K15: 1744 | L15: 1436 | M15: 1226 | N15: 1478 | O15: 1100 | P15: 1380 | Q15: 1618 | R15: 162 | S15: 406 | T15: 350 | U15: 196 | V15: 1646 | W15: 1310 | X15: 1520 | Y15: 1422 | Z15: 1240 | AA15: 1590 | AB15: 1562 | AC15: 1296 | AD15: 1506 | AE15: 1366 | AG15: =SUM(B15:AF15) -> 39640
A16: 4:30-5:00 | B16: 1534 | C16: 1548 | D16: 1674 | E16: 1268 | F16: 1464 | G16: 1408 | H16: 1436 | I16: 1408 | J16: 1604 | K16: 1506 | L16: 1240 | M16: 1254 | N16: 1436 | O16: 1114 | P16: 1436 | Q16: 1422 | R16: 162 | S16: 448 | T16: 462 | U16: 252 | V16: 1562 | W16: 1212 | X16: 1534 | Y16: 1408 | Z16: 1422 | AA16: 1506 | AB16: 1380 | AC16: 1324 | AD16: 1576 | AE16: 1114 | AG16: =SUM(B16:AF16) -> 38114
A17: 5:00-5:30 | B17: 1604 | C17: 1562 | D17: 1576 | E17: 1492 | F17: 1576 | G17: 1408 | H17: 1548 | I17: 1226 | J17: 1450 | K17: 1520 | L17: 1632 | M17: 1506 | N17: 1450 | O17: 1058 | P17: 1324 | Q17: 1338 | R17: 92 | S17: 252 | T17: 392 | U17: 308 | V17: 1688 | W17: 1100 | X17: 1478 | Y17: 1408 | Z17: 1548 | AA17: 1618 | AB17: 1618 | AC17: 1394 | AD17: 1324 | AE17: 1296 | AG17: =SUM(B17:AF17) -> 38786
A18: 5:30-6:00 | B18: 1520 | C18: 1702 | D18: 1576 | E18: 1618 | F18: 1366 | G18: 1464 | H18: 1828 | I18: 1534 | J18: 1450 | K18: 1450 | L18: 1688 | M18: 1436 | N18: 1422 | O18: 1240 | P18: 1450 | Q18: 1702 | R18: 134 | S18: 406 | T18: 406 | U18: 266 | V18: 1716 | W18: 1618 | X18: 1674 | Y18: 1534 | Z18: 1688 | AA18: 1268 | AB18: 1814 | AC18: 1590 | AD18: 1562 | AE18: 1380 | AG18: =SUM(B18:AF18) -> 41502
... A54: 23:30-24:00 | B54: 1716 | C54: 1702 | D54: 1926 | E54: 1674 | F54: 1660 | G54: 1450 | H54: 1618 | I54: 1688 | J54: 1394 | K54: 1268 | L54: 1576 | M54: 1660 | N54: 1268 | O54: 1506 | P54: 1534 | Q54: 1562 | R54: 50 | S54: 532 | T54: 336 | U54: 1680 | V54: 1604 | W54: 1492 | X54: 1450 | Y54: 1576 | Z54: 1786 | AA54: 1590 | AB54: 1730 | AC54: 1730 | AD54: 1226 | AE54: 1618 | AG54: =SUM(B54:AF54) -> 43602
A55: 平日昼間 | B55: =IF(B6="平日",SUM(B23:B50),0) -> 38186 | C55: =IF(C6="平日",SUM(C23:C50),0) -> 41700 | D55: =IF(D6="平日",SUM(D23:D50),0) -> 44262 | E55: =IF(E6="平日",SUM(E23:E50),0) -> 41238 | F55: =IF(F6="平日",SUM(F23:F50),0) -> 40202 | G55: =IF(G6="平日",SUM(G23:G50),0) -> 44002 | H55: =IF(H6="平日",SUM(H23:H50),0) -> 0 | I55: =IF(I6="平日",SUM(I23:I50),0) -> 36114 | ... AF55: =IF(AF6="平日",SUM(AF23:AF50),0) -> 0 | AG55: =ROUND(SUM(B55:AF55),0) -> 880751
A56: 夜間休日 | B56: =B57-B55 -> 33366 | C56: =C57-C55 -> 32050 | D56: =D57-D55 -> 33184 | E56: =E57-E55 -> 33590 | F56: =F57-F55 -> 31630 | G56: =G57-G55 -> 32682 | H56: =H57-H55 -> 77020 | I56: =I57-I55 -> 31308 | ... AF56: =AF57-AF55 -> 0 | AG56: =ROUND(SUM(B56:AF56),0) -> 995690
A57: 計 | B57: =SUM(B7:B54) -> 71552 | C57: =SUM(C7:C54) -> 73750 | D57: =SUM(D7:D54) -> 77446 | E57: =SUM(E7:E54) -> 74828 | F57: =SUM(F7:F54) -> 71832 | G57: =SUM(G7:G54) -> 76684 | H57: =SUM(H7:H54) -> 77020 | I57: =SUM(I7:I54) -> 67422 | ... AF57: =SUM(AF7:AF54) -> 0 | AG57: =SUM(AG55:AG56) -> 1876441

Sheet 2026.7
A2: 46204 | B2: 資源循環局旭工場
A3: 時間毎の電力量 | AH3: 単位：kＷｈ
B4: =A2 -> 46204 | C4: =B4+1 -> 46205 | D4: =C4+1 -> 46206 | E4: =D4+1 -> 46207 | F4: =E4+1 -> 46208 | G4: =F4+1 -> 46209 | H4: =G4+1 -> 46210 | I4: =H4+1 -> 46211 | J4: =I4+1 -> 46212 | ... AF4: =AE4+1 -> 46234 | AG4: 合 計
B5: =WEEKDAY(B4) -> 4 | C5: =WEEKDAY(C4) -> 5 | D5: =WEEKDAY(D4) -> 6 | E5: =WEEKDAY(E4) -> 7 | F5: =WEEKDAY(F4) -> 1 | G5: =WEEKDAY(G4) -> 2 | H5: =WEEKDAY(H4) -> 3 | I5: =WEEKDAY(I4) -> 4 | ... AF5: =WEEKDAY(AF4) -> 6
B6: =IF(OR(B5=1,COUNTIF(休日!$B:$B,B4)>0),"休日","平日") -> 平日 | C6: =IF(OR(C5=1,COUNTIF(休日!$B:$B,C4)>0),"休日","平日") -> 平日 | D6: =IF(OR(D5=1,COUNTIF(休日!$B:$B,D4)>0),"休日","平日") -> 平日 | E6: =IF(OR(E5=1,COUNTIF(休日!$B:$B,E4)>0),"休日","平日") -> 平日 | F6: =IF(OR(F5=1,COUNTIF(休日!$B:$B,F4)>0),"休日","平日") -> 休日 | G6: =IF(OR(G5=1,COUNTIF(休日!$B:$B,G4)>0),"休日","平日") -> 平日 | H6: =IF(OR(H5=1,COUNTIF(休日!$B:$B,H4)>0),"休日","平日") -> 平日 | I6: =IF(OR(I5=1,COUNTIF(休日!$B:$B,I4)>0),"休日","平日") -> 平日 | ... AF6: =IF(OR(AF5=1,COUNTIF(休日!$B:$B,AF4)>0),"休日","平日") -> 平日
A7: 0:00-0:30 | B7: 1520 | C7: 1702 | D7: 1632 | E7: 1352 | F7: 1506 | G7: 1478 | H7: 1436 | I7: 1744 | J7: 1492 | K7: 1576 | L7: 1478 | M7: 1380 | N7: 1534 | O7: 1730 | P7: 1618 | Q7: 1240 | R7: 1492 | S7: 1478 | T7: 1842 | U7: 1520 | V7: 1520 | W7: 1576 | X7: 1492 | Y7: 1016 | Z7: 1548 | AA7: 1576 | AB7: 1618 | AC7: 1450 | AD7: 1618 | AE7: 1772 | AF7: 1744 | AG7: =SUM(B7:AF7) -> 47680
A8: 0:30-1:00 | B8: 1660 | C8: 1646 | D8: 1576 | E8: 1646 | F8: 1226 | G8: 1618 | H8: 1534 | I8: 1562 | J8: 1646 | K8: 1744 | L8: 1548 | M8: 1520 | N8: 1464 | O8: 1660 | P8: 1618 | Q8: 1450 | R8: 1492 | S8: 1324 | T8: 1688 | U8: 1618 | V8: 1506 | W8: 1520 | X8: 1618 | Y8: 1450 | Z8: 1366 | AA8: 1604 | AB8: 1492 | AC8: 1520 | AD8: 1646 | AE8: 1520 | AF8: 1520 | AG8: =SUM(B8:AF8) -> 48002
A9: 1:00-1:30 | B9: 1800 | C9: 1884 | D9: 1632 | E9: 904 | F9: 1786 | G9: 1380 | H9: 1492 | I9: 1618 | J9: 1674 | K9: 1534 | L9: 1520 | M9: 1520 | N9: 1688 | O9: 1534 | P9: 1506 | Q9: 1240 | R9: 1688 | S9: 1562 | T9: 1618 | U9: 1492 | V9: 1702 | W9: 1534 | X9: 1506 | Y9: 1310 | Z9: 1618 | AA9: 1464 | AB9: 1464 | AC9: 1492 | AD9: 1548 | AE9: 1646 | AF9: 1590 | AG9: =SUM(B9:AF9) -> 47946
A10: 1:30-2:00 | B10: 1772 | C10: 1450 | D10: 1548 | E10: 1380 | F10: 2010 | G10: 1660 | H10: 1534 | I10: 1856 | J10: 1576 | K10: 1240 | L10: 1646 | M10: 1576 | N10: 1520 | O10: 1506 | P10: 1604 | Q10: 1324 | R10: 1618 | S10: 1478 | T10: 1674 | U10: 1646 | V10: 1618 | W10: 1674 | X10: 1660 | Y10: 1520 | Z10: 1660 | AA10: 1646 | AB10: 1590 | AC10: 1338 | AD10: 1520 | AE10: 1408 | AF10: 1576 | AG10: =SUM(B10:AF10) -> 48828
A11: 2:00-2:30 | B11: 1870 | C11: 1744 | D11: 1716 | E11: 1702 | F11: 1996 | G11: 1674 | H11: 1660 | I11: 1324 | J11: 1576 | K11: 1660 | L11: 1478 | M11: 1688 | N11: 1562 | O11: 1492 | P11: 1618 | Q11: 1632 | R11: 1646 | S11: 1716 | T11: 1716 | U11: 1646 | V11: 1674 | W11: 1590 | X11: 1576 | Y11: 1338 | Z11: 1464 | AA11: 1534 | AB11: 1758 | AC11: 1492 | AD11: 1506 | AE11: 1590 | AF11: 1618 | AG11: =SUM(B11:AF11) -> 50256
A12: 2:30-3:00 | B12: 1604 | C12: 1674 | D12: 1380 | E12: 1506 | F12: 1940 | G12: 1576 | H12: 1688 | I12: 1702 | J12: 1590 | K12: 1548 | L12: 1534 | M12: 1646 | N12: 1800 | O12: 1394 | P12: 1716 | Q12: 1548 | R12: 1590 | S12: 1758 | T12: 1702 | U12: 1646 | V12: 1534 | W12: 1548 | X12: 1646 | Y12: 1352 | Z12: 1576 | AA12: 1058 | AB12: 1576 | AC12: 1576 | AD12: 1548 | AE12: 1548 | AF12: 1534 | AG12: =SUM(B12:AF12) -> 49038
A13: 3:00-3:30 | B13: 1618 | C13: 1730 | D13: 1436 | E13: 1632 | F13: 1660 | G13: 1380 | H13: 1618 | I13: 1758 | J13: 1520 | K13: 1492 | L13: 1590 | M13: 1772 | N13: 1562 | O13: 1590 | P13: 1380 | Q13: 1548 | R13: 1590 | S13: 1604 | T13: 1660 | U13: 1590 | V13: 1604 | W13: 1520 | X13: 1590 | Y13: 1408 | Z13: 1520 | AA13: 1380 | AB13: 1478 | AC13: 1618 | AD13: 1562 | AE13: 1366 | AF13: 1646 | AG13: =SUM(B13:AF13) -> 48422
A14: 3:30-4:00 | B14: 1590 | C14: 1352 | D14: 1366 | E14: 1660 | F14: 1856 | G14: 1702 | H14: 1562 | I14: 1464 | J14: 1604 | K14: 1408 | L14: 1576 | M14: 1800 | N14: 1478 | O14: 1492 | P14: 1632 | Q14: 1688 | R14: 1604 | S14: 1604 | T14: 1744 | U14: 1548 | V14: 1590 | W14: 1548 | X14: 1478 | Y14: 1226 | Z14: 1534 | AA14: 1632 | AB14: 1590 | AC14: 1492 | AD14: 1576 | AE14: 1422 | AF14: 1534 | AG14: =SUM(B14:AF14) -> 48352
A15: 4:00-4:30 | B15: 1352 | C15: 1688 | D15: 1282 | E15: 1352 | F15: 1548 | G15: 1576 | H15: 1324 | I15: 1604 | J15: 1450 | K15: 1478 | L15: 1464 | M15: 1688 | N15: 1520 | O15: 1464 | P15: 1492 | Q15: 1338 | R15: 1310 | S15: 1562 | T15: 1590 | U15: 1632 | V15: 1478 | W15: 1492 | X15: 1324 | Y15: 1268 | Z15: 1394 | AA15: 1562 | AB15: 1366 | AC15: 1450 | AD15: 1450 | AE15: 1338 | AF15: 1324 | AG15: =SUM(B15:AF15) -> 45160
A16: 4:30-5:00 | B16: 1576 | C16: 1618 | D16: 1478 | E16: 1506 | F16: 1674 | G16: 1366 | H16: 1310 | I16: 1366 | J16: 1254 | K16: 1506 | L16: 1016 | M16: 1450 | N16: 1520 | O16: 1408 | P16: 1380 | Q16: 1394 | R16: 1674 | S16: 1366 | T16: 1618 | U16: 1268 | V16: 1716 | W16: 1408 | X16: 1478 | Y16: 1156 | Z16: 1408 | AA16: 1576 | AB16: 1478 | AC16: 1352 | AD16: 1394 | AE16: 1478 | AF16: 1436 | AG16: =SUM(B16:AF16) -> 44628
A17: 5:00-5:30 | B17: 1646 | C17: 1450 | D17: 1142 | E17: 1184 | F17: 1380 | G17: 1520 | H17: 1338 | I17: 988 | J17: 1716 | K17: 1394 | L17: 1450 | M17: 1548 | N17: 1240 | O17: 1478 | P17: 1506 | Q17: 1562 | R17: 1296 | S17: 1310 | T17: 1744 | U17: 1352 | V17: 1506 | W17: 1394 | X17: 1492 | Y17: 1324 | Z17: 1226 | AA17: 1366 | AB17: 1394 | AC17: 1422 | AD17: 1576 | AE17: 1394 | AF17: 1282 | AG17: =SUM(B17:AF17) -> 43620
A18: 5:30-6:00 | B18: 1590 | C18: 1576 | D18: 1702 | E18: 1450 | F18: 1450 | G18: 1632 | H18: 1366 | I18: 1352 | J18: 1352 | K18: 1534 | L18: 1604 | M18: 1520 | N18: 1800 | O18: 1464 | P18: 1590 | Q18: 1562 | R18: 1590 | S18: 1674 | T18: 1716 | U18: 1576 | V18: 1464 | W18: 1534 | X18: 1506 | Y18: 1142 | Z18: 1618 | AA18: 1366 | AB18: 1422 | AC18: 1142 | AD18: 1534 | AE18: 1576 | AF18: 1492 | AG18: =SUM(B18:AF18) -> 46896
... A54: 23:30-24:00 | B54: 1716 | C54: 1590 | D54: 1254 | E54: 1730 | F54: 1240 | G54: 1632 | H54: 1604 | I54: 1506 | J54: 1660 | K54: 1660 | L54: 1548 | M54: 1562 | N54: 1660 | O54: 1702 | P54: 1436 | Q54: 1730 | R54: 1590 | S54: 1870 | T54: 1436 | U54: 1716 | V54: 1702 | W54: 1562 | X54: 1240 | Y54: 1576 | Z54: 1576 | AA54: 1618 | AB54: 1590 | AC54: 1702 | AD54: 1772 | AE54: 1324 | AF54: 1464 | AG54: =SUM(B54:AF54) -> 48968
A55: 平日昼間 | B55: =IF(B6="平日",SUM(B23:B50),0) -> 34472 | C55: =IF(C6="平日",SUM(C23:C50),0) -> 35494 | D55: =IF(D6="平日",SUM(D23:D50),0) -> 31644 | E55: =IF(E6="平日",SUM(E23:E50),0) -> 40628 | F55: =IF(F6="平日",SUM(F23:F50),0) -> 0 | G55: =IF(G6="平日",SUM(G23:G50),0) -> 32036 | H55: =IF(H6="平日",SUM(H23:H50),0) -> 31658 | I55: =IF(I6="平日",SUM(I23:I50),0) -> 36628 | ... AF55: =IF(AF6="平日",SUM(AF23:AF50),0) -> 31224 | AG55: =ROUND(SUM(B55:AF55),0) -> 881906
A56: 夜間休日 | B56: =B57-B55 -> 32464 | C56: =C57-C55 -> 31764 | D56: =D57-D55 -> 28530 | E56: =E57-E55 -> 28720 | F56: =F57-F55 -> 75760 | G56: =G57-G55 -> 30168 | H56: =H57-H55 -> 29146 | I56: =I57-I55 -> 29832 | ... AF56: =AF57-AF55 -> 29258 | AG56: =ROUND(SUM(B56:AF56),0) -> 1135886
A57: 計 | B57: =SUM(B7:B54) -> 66936 | C57: =SUM(C7:C54) -> 67258 | D57: =SUM(D7:D54) -> 60174 | E57: =SUM(E7:E54) -> 69348 | F57: =SUM(F7:F54) -> 75760 | G57: =SUM(G7:G54) -> 62204 | H57: =SUM(H7:H54) -> 60804 | I57: =SUM(I7:I54) -> 66460 | ... AF57: =SUM(AF7:AF54) -> 60482 | AG57: =SUM(AG55:AG56) -> 2017792

Sheet 休日
A3: ●祝日
A4: ブランク欄には任意の日付設定可能
B5: 43466 | C5: 元日
B6: 43479 | C6: 成人の日
B7: 43507 | C7: 建国記念の日
B8: 43545 | C8: 春分の日
B9: 43219 | C9: 昭和の日
B10: 43588 | C10: 憲法記念日
B11: 43589 | C11: みどりの日
B12: 43590 | C12: こどもの日
B13: 43591 | C13: 振替休日
B14: 43661 | C14: 海の日
B15: 43688 | C15: 山の日
B16: 43689 | C16: 振替休日
... B223: 46468 | C223: 祝日
