{"text_format":"1","workbook":"xlsx","n_sheets":29,"sheets":["menu","用語集","R2汎用入力","R2汎用コンバータ","R2汎用計算","R2汎用部門分類表","R2汎用結果","R2建設入力","R2建設io","R2建設計算","R2建設フロー","R2建設結果","建設部門の定義","R2建設IOデータ","R2来訪者入力","R2来訪者費目変換","R2来訪者生産者価格","R2来訪者計算","R2来訪者結果","R2業務入力","R2業務ｺﾝﾊﾞｰﾀ","R2業務計算","R2業務結果","R2係数一覧","R2雇用表","R2基本表","R2投入","R2逆行列","消費転換率"],"not_rendered":{"charts":0,"images":0,"macros":0,"external_links":0,"defined_names":232,"comments":0,"pivot_tables":0},"unopened":[],"bounds":{"document_bytes":16777216,"sheet_cells":100000,"rows_first":2000,"rows_last":500,"rows_between":2000,"halvings":0,"cell_chars":16384,"cell_head_chars":4096},"cells_cut":0,"cells_raw":0,"read":"whole","date_system":"1900"}

{"sheet":"menu","index":0,"n_rows":32,"n_cols":7,"rows_kept":32,"cut":false,"hidden":false,"merged":[]}
[]
[]
[]
[null,"４つの分析パターン"]
[]
[]
[]
[null,null,null,null,null,null,"需要の変化を入力して、経済波及を計算します。"]
[null,null,null,null,null,null,"（需要の変化を分析者が設定(推計)することにより、経済波及を求めます。）"]
[]
[]
[]
[]
[null,null,null,null,null,null,"建物の建設、土木工事の詳細な分類をもとに経済波及を計算します。"]
[null,null,null,null,null,null,"（建設活動に関する需要をより詳細に区分して計算することができます。）"]
[]
[]
[]
[null,null,null,null,null,null,"横浜市の来訪者数から、横浜市来訪者の消費活動による経済波及を計算します。"]
[null,null,null,null,null,null,"（デフォルトの消費単価は、神奈川県『令和6年度観光客実態調査』の単価を利用しており"]
[null,null,null,null,null,null,"分析者が自分で設定することもできます。）"]
[]
[]
[]
[]
[null,null,null,null,null,null,"オフィスビル内での本業以外（管理・間接部門等）の業務活動による経済波及を計算します。"]
[null,null,null,null,null,null,"（従業者一人当たりの品目別経費を東京都内の本社部門と同じとするなどの仮定をおいています。）"]
[]
[]
[]
[]
[null,"分析したい項目をクリックしてください。"]

{"sheet":"用語集","index":1,"n_rows":55,"n_cols":3,"rows_kept":55,"cut":false,"hidden":false,"merged":[]}
[]
[]
[null,"発生需要額","市内で発生した新たな需要の総額。"]
[null,null,"　例　・新しくビルが建った"]
[null,null,"　　　・新たなレジャー施設ができたことにより、市内来訪者が増加した"]
[null,null,"　　　・企業が新規立地した"]
[null,null,"　　　・有名人が着ていた洋服と同じモデルの洋服が爆発的に売れた"]
[]
[]
[null,"直接効果","発生需要額のうち、最終的にその財・サービスを生産した（販売ではない）市内産業の生産活動の総額。"]
[]
[]
[null,"１次波及","直接効果の生産に際して、当然、原材料が必要となる。"]
[null,null,"その必要となる原材料の生産活動をここでは１次波及とする。"]
[]
[null,"２次波及","直接効果の生産、１次波及の生産により、労働所得を得る。"]
[null,null,"得た労働所得の一部は消費活動にまわる。"]
[null,null,"追加的に発生した消費活動を満たすため、生産活動が行われる。"]
[null,null,"この生産活動のうち、市内産業が生産する総額を２次波及とする。"]
[]
[]
[null,"消費転換率","家計の所得が増加（減少）したときに、それと連動して増加（減少）する消費の割合。"]
[null,null,"例えば、1万円の所得の増加により消費が8,000円増えると想定する場合、消費転換率は0.8となる。\n"]
[null,"市内調達率","横浜市内で発生した需要額のうち、市内で生産された財・サービスの割合。"]
[]
[null,"生産誘発額","発生した需要を満たすための生産活動と、そのために必要となる原材料の生産活動の全てを合計した生産活動の総額。"]
[]
[null,"粗付加価値誘発額","生産誘発額から全ての原材料費を差し引いた付加価値の総額。"]
[]
[null,"雇用者誘発数","全ての生産活動（＝生産誘発額）において投入されたと想定される雇用者の人数。"]
[null,null,"ただし、この人数は「１年間の平均的な労働量」をベースに算出されている。"]
[null,null,"つまり、雇用者誘発数の人数全員が１年間働いた場合、生産誘発額を満たすことができるということ。"]
[null,null,"例えば４か月程度で新たに発生した需要を満たすためには、理論上は雇用者誘発数の３倍（＝12か月／４か月）の人数が必要になる。"]
[]
[null,"購入者価格","小売店や卸売店などにおける流通経費を込みにした額面上の取引額"]
[]
[null,"生産者価格","購入者価格から商業マージン（卸売店や小売店の利益）、運輸マージン（輸送コスト）を差し引いた金額。"]
[]
[]
[null,null,"例：100万円の自動車をディーラーより購入"]
[]
[null,null,"　　購入者価格の場合、売値と同じなので100万円。"]
[]
[null,null,"　　生産者価格の場合、100万円の内訳をみる必要あり。"]
[null,null,"　　　工場からディーラーまでの輸送コスト５万円"]
[null,null,"　　　ディーラーの儲け10万円"]
[null,null,"　　　工場での生産費用85万円"]
[null,null,"　　　とすると、輸送機械製造業に85万円"]
[null,null,"　　　　　　　　商業に10万円"]
[null,null,"　　　　　　　　運輸業に５万円　が生産者価格"]
[]
[]
[]
[null,null,{"$f":"\"　　　\"&C51","v":"　　　"}]
[null,null,{"$f":"\"　　　\"&C52","v":"　　　"}]

{"sheet":"R2汎用入力","index":2,"n_rows":59,"n_cols":13,"rows_kept":59,"cut":false,"hidden":false,"merged":[]}
["汎用　入力シート"]
[]
["　A、B、C について、黄色のシートに数値を入力してください。"]
["　ただし、Cについては、省略可能です。"]
[]
[]
[null,"消費転換率（0から1の間の値）",{"$f":"+消費転換率!$C$9","v":0.55378261397054429}]
[]
[]
[]
[]
[]
[]
[]
[]
[]
[]
[]
[null,null,null,null,null,null,null,null,null,null,null,"（産業連関表より）"]
[null,null,"生産者価格",null,"購入者価格",null,null,null,null,null,null,"デフォルト","計算時使用"]
["37部門表",null,"(百万円)",null,"(百万円)",null,null,null,null,"市内調達率",null,"市内調達率","市内調達率"]
["01","農林漁業",null,null,null,null,null,null,null,null,null,{"$f":"+'R2係数一覧'!E6","v":1.6826828459129195E-2},{"$f":"IF(J22<>\"\",J22,L22)","v":1.6826828459129195E-2}]
["06","鉱業",null,null,null,null,null,null,null,null,null,{"$f":"+'R2係数一覧'!E7","v":-1.8980808990314291E-3},-1.8980808990314291E-3]
["11","飲食料品",null,null,null,null,null,null,null,null,null,{"$f":"+'R2係数一覧'!E8","v":0.16169726376791749},0.16169726376791749]
["15","繊維製品",null,null,null,null,null,null,null,null,null,{"$f":"+'R2係数一覧'!E9","v":4.1716595647353083E-3},4.1716595647353083E-3]
["16","パルプ・紙・木製品",null,null,null,null,null,null,null,null,null,{"$f":"+'R2係数一覧'!E10","v":4.9662886973984022E-2},4.9662886973984022E-2]
["20","化学製品",null,null,null,null,null,null,null,null,null,{"$f":"+'R2係数一覧'!E11","v":4.8401463531126176E-2},4.8401463531126176E-2]
["21","石油・石炭製品",null,null,null,null,null,null,null,null,null,{"$f":"+'R2係数一覧'!E12","v":0.49403658547869245},0.49403658547869245]
["22","プラスチック・ゴム製品",null,null,null,null,null,null,null,null,null,{"$f":"+'R2係数一覧'!E13","v":2.7775989860030825E-2},2.7775989860030825E-2]
["25","窯業・土石製品",null,null,null,null,null,null,null,null,null,{"$f":"+'R2係数一覧'!E14","v":0.23822718933980147},0.23822718933980147]
["26","鉄鋼",null,null,null,null,null,null,null,null,null,{"$f":"+'R2係数一覧'!E15","v":1.6155807197486549E-3},1.6155807197486549E-3]
["27","非鉄金属",null,null,null,null,null,null,null,null,null,{"$f":"+'R2係数一覧'!E16","v":-2.6575209420905743E-2},-2.6575209420905743E-2]
["28","金属製品",null,null,null,null,null,null,null,null,null,{"$f":"+'R2係数一覧'!E17","v":9.7012903174388154E-2},9.7012903174388154E-2]
["29","はん用機械",null,null,null,null,null,null,null,null,null,{"$f":"+'R2係数一覧'!E18","v":0.12007310596917131},0.12007310596917131]
["30","生産用機械",null,null,null,null,null,null,null,null,null,{"$f":"+'R2係数一覧'!E19","v":7.701652534354031E-2},7.701652534354031E-2]
["31","業務用機械",null,null,null,null,null,null,null,null,null,{"$f":"+'R2係数一覧'!E20","v":5.7480860716423554E-2},5.7480860716423554E-2]
["32","電子部品",null,null,null,null,null,null,null,null,null,{"$f":"+'R2係数一覧'!E21","v":3.3296805686592768E-2},3.3296805686592768E-2]
["33","電気機械",null,null,null,null,null,null,null,null,null,{"$f":"+'R2係数一覧'!E22","v":5.0187929236279238E-2},5.0187929236279238E-2]
["34","情報通信機器",null,null,null,null,null,null,null,null,null,{"$f":"+'R2係数一覧'!E23","v":0.10277339127554996},0.10277339127554996]
["35","輸送機械",null,null,null,null,null,null,null,null,null,{"$f":"+'R2係数一覧'!E24","v":0.13549477241524976},0.13549477241524976]
["39","その他の製造工業製品",null,null,null,null,null,null,null,null,null,{"$f":"+'R2係数一覧'!E25","v":9.5126356170162296E-2},9.5126356170162296E-2]
["41","建設",null,null,null,null,null,null,null,null,null,{"$f":"+'R2係数一覧'!E26","v":1},1]
["46","電気・ガス・熱供給",null,null,null,null,null,null,null,null,null,{"$f":"+'R2係数一覧'!E27","v":0.99985108287568891},0.99985108287568891]
["47","水道",null,null,null,null,null,null,null,null,null,{"$f":"+'R2係数一覧'!E28","v":0.99977252047315746},0.99977252047315746]
["48","廃棄物処理",null,null,null,null,null,null,null,null,null,{"$f":"+'R2係数一覧'!E29","v":0.80153727051537271},0.80153727051537271]
["51","商業",null,null,null,null,null,null,null,null,null,{"$f":"+'R2係数一覧'!E30","v":0.56946022914076244},0.56946022914076244]
["53","金融・保険",null,null,null,null,null,null,null,null,null,{"$f":"+'R2係数一覧'!E31","v":0.46730383427631139},0.46730383427631139]
["55","不動産",null,null,null,null,null,null,null,null,null,{"$f":"+'R2係数一覧'!E32","v":0.99612891062631437},0.99612891062631437]
["57","運輸・郵便",null,null,null,null,null,null,null,null,null,{"$f":"+'R2係数一覧'!E33","v":0.61533754568673715},0.61533754568673715]
["59","情報通信",null,null,null,null,null,null,null,null,null,{"$f":"+'R2係数一覧'!E34","v":0.49897044610000185},0.49897044610000185]
["61","公務",null,null,null,null,null,null,null,null,null,{"$f":"+'R2係数一覧'!E35","v":1},1]
["63","教育・研究",null,null,null,null,null,null,null,null,null,{"$f":"+'R2係数一覧'!E36","v":0.75638086401148674},0.75638086401148674]
["64","医療・福祉",null,null,null,null,null,null,null,null,null,{"$f":"+'R2係数一覧'!E37","v":0.89457147062073727},0.89457147062073727]
["65","他に分類されない会員制団体",null,null,null,null,null,null,null,null,null,{"$f":"+'R2係数一覧'!E38","v":0.7737522147561261},0.7737522147561261]
["66","対事業所サービス",null,null,null,null,null,null,null,null,null,{"$f":"+'R2係数一覧'!E39","v":0.55909040631804485},0.55909040631804485]
["67","対個人サービス",null,null,null,null,null,null,null,null,null,1,1]
["68","事務用品",null,null,null,null,null,null,null,null,null,{"$f":"+'R2係数一覧'!E41","v":1},1]
["69","分類不明",null,null,null,null,null,null,null,null,null,{"$f":"+'R2係数一覧'!E42","v":0.69789680161281531},0.69789680161281531]
["70","内生部門計　　",{"$f":"SUM(C22:C58)","v":0},null,{"$f":"SUM(E22:E58)","v":0}]

{"sheet":"R2汎用コンバータ","index":3,"n_rows":43,"n_cols":14,"rows_kept":43,"cut":false,"hidden":false,"merged":[]}
[]
[null,null,"生産者価格","購入者価格"]
[]
[null,null,"市内で生産\nした金額","市内で販売\nされた金額",null,null,null,null,null,null,null,"購入者価格分"]
["37部門表",null,"(百万円)","(百万円)",null,"卸マージン率","小売マージン率","運賃率","卸マージン額","小売マージン額","運賃","生産者価格","生産者価格＋購入者価格","発生需要額"]
["01","農林漁業",{"$f":"'R2汎用入力'!C22","v":0},{"$f":"'R2汎用入力'!E22","v":0},null,0.12910337890476634,0.10897046183518165,5.1045598561826597E-2,{"$f":"$D6*F6","v":0},{"$f":"$D6*G6","v":0},{"$f":"$D6*H6","v":0},{"$f":"D6-SUM(I6:K6)","v":0},{"$f":"C6+L6","v":0},{"$f":"M6*'R2汎用入力'!M22","v":0}]
["06","鉱業",{"$f":"'R2汎用入力'!C23","v":0},{"$f":"'R2汎用入力'!E23","v":0},null,1.274671712921828E-2,2.3455173370399673E-5,7.5257662349945367E-2,{"$f":"$D7*F7","v":0},{"$f":"$D7*G7","v":0},{"$f":"$D7*H7","v":0},0,{"$f":"C7+L7","v":0},{"$f":"M7*'R2汎用入力'!M23","v":0}]
["11","飲食料品",{"$f":"'R2汎用入力'!C24","v":0},{"$f":"'R2汎用入力'!E24","v":0},null,0.10479316044522215,0.21418021080395802,3.4973973027581796E-2,0,0,0,0,0,{"$f":"M8*'R2汎用入力'!M24","v":0}]
["15","繊維製品",{"$f":"'R2汎用入力'!C25","v":0},{"$f":"'R2汎用入力'!E25","v":0},null,0.14621245622538356,0.28667665492027899,3.1827546858595429E-2,0,0,0,0,0,{"$f":"M9*'R2汎用入力'!M25","v":0}]
["16","パルプ・紙・木製品",{"$f":"'R2汎用入力'!C26","v":0},{"$f":"'R2汎用入力'!E26","v":0},null,0.16201670028836238,6.5757340214443391E-2,6.8733145769724793E-2,0,0,0,0,0,{"$f":"M10*'R2汎用入力'!M26","v":0}]
["20","化学製品",{"$f":"'R2汎用入力'!C27","v":0},{"$f":"'R2汎用入力'!E27","v":0},null,0.14152671926518634,6.8678398431553336E-2,2.9859130577868397E-2,0,0,0,0,0,{"$f":"M11*'R2汎用入力'!M27","v":0}]
["21","石油・石炭製品",{"$f":"'R2汎用入力'!C28","v":0},{"$f":"'R2汎用入力'!E28","v":0},null,4.6827399651493691E-2,0.13567601352832556,2.3246482054168363E-2,0,0,0,0,0,{"$f":"M12*'R2汎用入力'!M28","v":0}]
["22","プラスチック・ゴム製品",{"$f":"'R2汎用入力'!C29","v":0},{"$f":"'R2汎用入力'!E29","v":0},null,0.14027005174368506,4.4807431382970775E-2,3.2260839046717366E-2,0,0,0,0,0,{"$f":"M13*'R2汎用入力'!M29","v":0}]
["25","窯業・土石製品",{"$f":"'R2汎用入力'!C30","v":0},{"$f":"'R2汎用入力'!E30","v":0},null,0.15529929901805326,2.3536795874023457E-2,6.6271205902616259E-2,0,0,0,0,0,{"$f":"M14*'R2汎用入力'!M30","v":0}]
["26","鉄鋼",{"$f":"'R2汎用入力'!C31","v":0},{"$f":"'R2汎用入力'!E31","v":0},null,4.4135841575617105E-2,8.4245345360423488E-7,3.225973311748552E-2,0,0,0,0,0,{"$f":"M15*'R2汎用入力'!M31","v":0}]
["27","非鉄金属",{"$f":"'R2汎用入力'!C32","v":0},{"$f":"'R2汎用入力'!E32","v":0},null,6.559119311612531E-2,1.8116484459995197E-2,3.2850726360672447E-2,0,0,0,0,0,{"$f":"M16*'R2汎用入力'!M32","v":0}]
["28","金属製品",{"$f":"'R2汎用入力'!C33","v":0},{"$f":"'R2汎用入力'!E33","v":0},null,7.7911785333248634E-2,2.2540125565374759E-2,4.5402979811794537E-2,0,0,0,0,0,{"$f":"M17*'R2汎用入力'!M33","v":0}]
["29","はん用機械",{"$f":"'R2汎用入力'!C34","v":0},{"$f":"'R2汎用入力'!E34","v":0},null,0.12284493804145899,7.7413289902440697E-4,1.5240610059349222E-2,0,0,0,0,0,{"$f":"M18*'R2汎用入力'!M34","v":0}]
["30","生産用機械",{"$f":"'R2汎用入力'!C35","v":0},{"$f":"'R2汎用入力'!E35","v":0},null,0.11929472608025894,1.378032889557957E-2,1.3002631979161372E-2,0,0,0,0,0,{"$f":"M19*'R2汎用入力'!M35","v":0}]
["31","業務用機械",{"$f":"'R2汎用入力'!C36","v":0},{"$f":"'R2汎用入力'!E36","v":0},null,0.16461410255738479,4.2319793070454456E-2,1.5496284781023193E-2,0,0,0,0,0,{"$f":"M20*'R2汎用入力'!M36","v":0}]
["32","電子部品",{"$f":"'R2汎用入力'!C37","v":0},{"$f":"'R2汎用入力'!E37","v":0},null,6.5824321210876793E-2,2.1525076545782567E-3,1.0993871975732818E-2,0,0,0,0,0,{"$f":"M21*'R2汎用入力'!M37","v":0}]
["33","電気機械",{"$f":"'R2汎用入力'!C38","v":0},{"$f":"'R2汎用入力'!E38","v":0},null,0.12681411726944142,6.1249207823696743E-2,1.1049325330265494E-2,0,0,0,0,0,{"$f":"M22*'R2汎用入力'!M38","v":0}]
["34","情報通信機器",{"$f":"'R2汎用入力'!C39","v":0},{"$f":"'R2汎用入力'!E39","v":0},null,0.12365196644212284,6.9810778292233075E-2,8.7390249027079186E-3,0,0,0,0,0,{"$f":"M23*'R2汎用入力'!M39","v":0}]
["35","輸送機械",{"$f":"'R2汎用入力'!C40","v":0},{"$f":"'R2汎用入力'!E40","v":0},null,4.1839144704248245E-2,5.3966577978153414E-2,1.8393509592828379E-2,0,0,0,0,0,{"$f":"M24*'R2汎用入力'!M40","v":0}]
["39","その他の製造工業製品",{"$f":"'R2汎用入力'!C41","v":0},{"$f":"'R2汎用入力'!E41","v":0},null,9.6793565127537576E-2,0.21343423386616431,4.8667963807104558E-2,0,0,0,0,0,{"$f":"M25*'R2汎用入力'!M41","v":0}]
["41","建設",{"$f":"'R2汎用入力'!C42","v":0},{"$f":"'R2汎用入力'!E42","v":0},null,0,0,0,0,0,0,0,0,{"$f":"M26*'R2汎用入力'!M42","v":0}]
["46","電気・ガス・熱供給",{"$f":"'R2汎用入力'!C43","v":0},{"$f":"'R2汎用入力'!E43","v":0},null,0,0,0,0,0,0,0,0,{"$f":"M27*'R2汎用入力'!M43","v":0}]
["47","水道",{"$f":"'R2汎用入力'!C44","v":0},{"$f":"'R2汎用入力'!E44","v":0},null,0,0,0,0,0,0,0,0,{"$f":"M28*'R2汎用入力'!M44","v":0}]
["48","廃棄物処理",{"$f":"'R2汎用入力'!C45","v":0},{"$f":"'R2汎用入力'!E45","v":0},null,0,0,0,0,0,0,0,0,{"$f":"M29*'R2汎用入力'!M45","v":0}]
["51","商業",{"$f":"'R2汎用入力'!C46","v":0},{"$f":"'R2汎用入力'!E46","v":0},null,-17.820316557530401,-15.916794013096352,0,null,null,null,{"$f":"D30+I43+J43","v":0},0,{"$f":"C30+D30+SUM(I43:J43)*'R2汎用入力'!M46","v":0}]
["53","金融・保険",{"$f":"'R2汎用入力'!C47","v":0},{"$f":"'R2汎用入力'!E47","v":0},null,0,0,0,0,0,0,{"$f":"D31-SUM(I31:K31)","v":0},0,{"$f":"M31*'R2汎用入力'!M47","v":0}]
["55","不動産",{"$f":"'R2汎用入力'!C48","v":0},{"$f":"'R2汎用入力'!E48","v":0},null,0,0,0,0,0,0,{"$f":"D32-SUM(I32:K32)","v":0},0,{"$f":"M32*'R2汎用入力'!M48","v":0}]
["57","運輸・郵便",{"$f":"'R2汎用入力'!C49","v":0},{"$f":"'R2汎用入力'!E49","v":0},null,0,0,-0.42498377757537048,null,null,null,{"$f":"D33+K43","v":0},0,{"$f":"C33+D33+K43*'R2汎用入力'!M49","v":0}]
["59","情報通信",{"$f":"'R2汎用入力'!C50","v":0},{"$f":"'R2汎用入力'!E50","v":0},null,9.1397797229633131E-3,2.5720491716598473E-2,4.8155258972889942E-3,0,0,0,{"$f":"D34-SUM(I34:K34)","v":0},0,{"$f":"M34*'R2汎用入力'!M50","v":0}]
["61","公務",{"$f":"'R2汎用入力'!C51","v":0},{"$f":"'R2汎用入力'!E51","v":0},null,0,0,0,0,0,0,0,0,{"$f":"M35*'R2汎用入力'!M51","v":0}]
["63","教育・研究",{"$f":"'R2汎用入力'!C52","v":0},{"$f":"'R2汎用入力'!E52","v":0},null,0,0,1.4399715311367549E-5,0,0,0,0,0,{"$f":"M36*'R2汎用入力'!M52","v":0}]
["64","医療・福祉",{"$f":"'R2汎用入力'!C53","v":0},{"$f":"'R2汎用入力'!E53","v":0},null,0,0,0,0,0,0,0,0,{"$f":"M37*'R2汎用入力'!M53","v":0}]
["65","他に分類されない会員制団体",{"$f":"'R2汎用入力'!C54","v":0},{"$f":"'R2汎用入力'!E54","v":0},null,0,0,0,0,0,0,0,0,{"$f":"M38*'R2汎用入力'!M54","v":0}]
["66","対事業所サービス",{"$f":"'R2汎用入力'!C55","v":0},{"$f":"'R2汎用入力'!E55","v":0},null,0,0,0,0,0,0,0,0,{"$f":"M39*'R2汎用入力'!M55","v":0}]
["67","対個人サービス",{"$f":"'R2汎用入力'!C56","v":0},{"$f":"'R2汎用入力'!E56","v":0},null,2.4065710635694622E-5,0,9.92117042821471E-6,0,0,0,0,0,{"$f":"M40*'R2汎用入力'!M56","v":0}]
["68","事務用品",{"$f":"'R2汎用入力'!C57","v":0},{"$f":"'R2汎用入力'!E57","v":0},null,0,0,0,0,0,0,0,0,{"$f":"M41*'R2汎用入力'!M57","v":0}]
["69","分類不明",{"$f":"'R2汎用入力'!C58","v":0},{"$f":"'R2汎用入力'!E58","v":0},null,8.2831531393832529E-3,7.4700803093634745E-3,3.6043000647173973E-2,0,0,0,0,0,{"$f":"M42*'R2汎用入力'!M58","v":0}]
["70","内生部門計　　",{"$f":"SUM(C6:C42)","v":0},{"$f":"SUM(D6:D42)","v":0},null,null,null,null,{"$f":"SUM(I6:I42)","v":0},0,0,0,0,0]

{"sheet":"R2汎用計算","index":4,"n_rows":62,"n_cols":24,"rows_kept":62,"cut":false,"hidden":false,"merged":[]}
[]
[]
[]
[null,null,null,"発生需要額","直接効果",null,null,null,"１次効果",null,null,null,null,null,"直接＋１次",null,null,null,"２次効果"]
["13部門","37部門",null,null,"市内生産額","粗付加価値額","雇用者所得","雇用者誘発数",null,"市内生産額","生産誘発額","粗付加価値額","雇用者所得","雇用者誘発数","生産誘発額","粗付加価値額","雇用者所得","雇用者誘発数","発生需要額","市内生産額","生産誘発額","粗付加価値額","雇用者所得","雇用者誘発数"]
["01","01","農林漁業",{"$f":"'R2汎用コンバータ'!N6","v":0},{"$f":"D6","v":0},{"$f":"E6*'R2係数一覧'!D6","v":0},{"$f":"E6*'R2係数一覧'!C6","v":0},{"$f":"ROUND(E6*'R2雇用表'!O6,0)","v":0},{"$f":"MMULT('R2投入'!C5:AM41,'R2汎用計算'!E6:E42)","v":0},{"$f":"I6*'R2係数一覧'!E6","v":0},{"$f":"MMULT('R2逆行列'!C5:AM41,'R2汎用計算'!J6:J42)","v":0},{"$f":"K6*'R2係数一覧'!D6","v":0},{"$f":"K6*'R2係数一覧'!C6","v":0},{"$f":"K6*'R2雇用表'!O6","v":0},{"$f":"MMULT('R2逆行列'!C5:AM41,E6:E42)","v":0},{"$f":"O6*'R2係数一覧'!D6","v":0},{"$f":"O6*'R2係数一覧'!C6","v":0},{"$f":"O6*'R2雇用表'!O6","v":0},{"$f":"S$43*'R2係数一覧'!H6","v":0},{"$f":"S6*'R2係数一覧'!E6","v":0},{"$f":"MMULT('R2逆行列'!C5:AM41,T6:T42)","v":0},{"$f":"U6*'R2係数一覧'!D6","v":0},{"$f":"U6*'R2係数一覧'!C6","v":0},{"$f":"U6*'R2雇用表'!O6","v":0}]
["02","06","鉱業",{"$f":"'R2汎用コンバータ'!N7","v":0},{"$f":"D7","v":0},{"$f":"E7*'R2係数一覧'!D7","v":0},{"$f":"E7*'R2係数一覧'!C7","v":0},{"$f":"ROUND(E7*'R2雇用表'!O7,0)","v":0},0,{"$f":"I7*'R2係数一覧'!E7","v":0},0,{"$f":"K7*'R2係数一覧'!D7","v":0},{"$f":"K7*'R2係数一覧'!C7","v":0},{"$f":"K7*'R2雇用表'!O7","v":0},0,{"$f":"O7*'R2係数一覧'!D7","v":0},{"$f":"O7*'R2係数一覧'!C7","v":0},{"$f":"O7*'R2雇用表'!O7","v":0},{"$f":"S$43*'R2係数一覧'!H7","v":0},{"$f":"S7*'R2係数一覧'!E7","v":0},0,{"$f":"U7*'R2係数一覧'!D7","v":0},{"$f":"U7*'R2係数一覧'!C7","v":0},{"$f":"U7*'R2雇用表'!O7","v":0}]
["03","11","飲食料品",{"$f":"'R2汎用コンバータ'!N8","v":0},0,{"$f":"E8*'R2係数一覧'!D8","v":0},{"$f":"E8*'R2係数一覧'!C8","v":0},{"$f":"ROUND(E8*'R2雇用表'!O8,0)","v":0},0,{"$f":"I8*'R2係数一覧'!E8","v":0},0,{"$f":"K8*'R2係数一覧'!D8","v":0},{"$f":"K8*'R2係数一覧'!C8","v":0},{"$f":"K8*'R2雇用表'!O8","v":0},0,{"$f":"O8*'R2係数一覧'!D8","v":0},{"$f":"O8*'R2係数一覧'!C8","v":0},{"$f":"O8*'R2雇用表'!O8","v":0},{"$f":"S$43*'R2係数一覧'!H8","v":0},{"$f":"S8*'R2係数一覧'!E8","v":0},0,{"$f":"U8*'R2係数一覧'!D8","v":0},{"$f":"U8*'R2係数一覧'!C8","v":0},{"$f":"U8*'R2雇用表'!O8","v":0}]
["03","15","繊維製品",{"$f":"'R2汎用コンバータ'!N9","v":0},0,{"$f":"E9*'R2係数一覧'!D9","v":0},{"$f":"E9*'R2係数一覧'!C9","v":0},{"$f":"ROUND(E9*'R2雇用表'!O9,0)","v":0},0,{"$f":"I9*'R2係数一覧'!E9","v":0},0,{"$f":"K9*'R2係数一覧'!D9","v":0},{"$f":"K9*'R2係数一覧'!C9","v":0},{"$f":"K9*'R2雇用表'!O9","v":0},0,{"$f":"O9*'R2係数一覧'!D9","v":0},{"$f":"O9*'R2係数一覧'!C9","v":0},{"$f":"O9*'R2雇用表'!O9","v":0},{"$f":"S$43*'R2係数一覧'!H9","v":0},{"$f":"S9*'R2係数一覧'!E9","v":0},0,{"$f":"U9*'R2係数一覧'!D9","v":0},{"$f":"U9*'R2係数一覧'!C9","v":0},{"$f":"U9*'R2雇用表'!O9","v":0}]
["03","16","パルプ・紙・木製品",{"$f":"'R2汎用コンバータ'!N10","v":0},0,{"$f":"E10*'R2係数一覧'!D10","v":0},{"$f":"E10*'R2係数一覧'!C10","v":0},{"$f":"ROUND(E10*'R2雇用表'!O10,0)","v":0},0,{"$f":"I10*'R2係数一覧'!E10","v":0},0,{"$f":"K10*'R2係数一覧'!D10","v":0},{"$f":"K10*'R2係数一覧'!C10","v":0},{"$f":"K10*'R2雇用表'!O10","v":0},0,{"$f":"O10*'R2係数一覧'!D10","v":0},{"$f":"O10*'R2係数一覧'!C10","v":0},{"$f":"O10*'R2雇用表'!O10","v":0},{"$f":"S$43*'R2係数一覧'!H10","v":0},{"$f":"S10*'R2係数一覧'!E10","v":0},0,{"$f":"U10*'R2係数一覧'!D10","v":0},{"$f":"U10*'R2係数一覧'!C10","v":0},{"$f":"U10*'R2雇用表'!O10","v":0}]
["03","20","化学製品",{"$f":"'R2汎用コンバータ'!N11","v":0},0,{"$f":"E11*'R2係数一覧'!D11","v":0},{"$f":"E11*'R2係数一覧'!C11","v":0},{"$f":"ROUND(E11*'R2雇用表'!O11,0)","v":0},0,{"$f":"I11*'R2係数一覧'!E11","v":0},0,{"$f":"K11*'R2係数一覧'!D11","v":0},{"$f":"K11*'R2係数一覧'!C11","v":0},{"$f":"K11*'R2雇用表'!O11","v":0},0,{"$f":"O11*'R2係数一覧'!D11","v":0},{"$f":"O11*'R2係数一覧'!C11","v":0},{"$f":"O11*'R2雇用表'!O11","v":0},{"$f":"S$43*'R2係数一覧'!H11","v":0},{"$f":"S11*'R2係数一覧'!E11","v":0},0,{"$f":"U11*'R2係数一覧'!D11","v":0},{"$f":"U11*'R2係数一覧'!C11","v":0},{"$f":"U11*'R2雇用表'!O11","v":0}]
["03","21","石油・石炭製品",{"$f":"'R2汎用コンバータ'!N12","v":0},0,{"$f":"E12*'R2係数一覧'!D12","v":0},{"$f":"E12*'R2係数一覧'!C12","v":0},{"$f":"ROUND(E12*'R2雇用表'!O12,0)","v":0},0,{"$f":"I12*'R2係数一覧'!E12","v":0},0,{"$f":"K12*'R2係数一覧'!D12","v":0},{"$f":"K12*'R2係数一覧'!C12","v":0},{"$f":"K12*'R2雇用表'!O12","v":0},0,{"$f":"O12*'R2係数一覧'!D12","v":0},{"$f":"O12*'R2係数一覧'!C12","v":0},{"$f":"O12*'R2雇用表'!O12","v":0},{"$f":"S$43*'R2係数一覧'!H12","v":0},{"$f":"S12*'R2係数一覧'!E12","v":0},0,{"$f":"U12*'R2係数一覧'!D12","v":0},{"$f":"U12*'R2係数一覧'!C12","v":0},{"$f":"U12*'R2雇用表'!O12","v":0}]
["03","22","プラスチック・ゴム製品",{"$f":"'R2汎用コンバータ'!N13","v":0},0,{"$f":"E13*'R2係数一覧'!D13","v":0},{"$f":"E13*'R2係数一覧'!C13","v":0},{"$f":"ROUND(E13*'R2雇用表'!O13,0)","v":0},0,{"$f":"I13*'R2係数一覧'!E13","v":0},0,{"$f":"K13*'R2係数一覧'!D13","v":0},{"$f":"K13*'R2係数一覧'!C13","v":0},{"$f":"K13*'R2雇用表'!O13","v":0},0,{"$f":"O13*'R2係数一覧'!D13","v":0},{"$f":"O13*'R2係数一覧'!C13","v":0},{"$f":"O13*'R2雇用表'!O13","v":0},{"$f":"S$43*'R2係数一覧'!H13","v":0},{"$f":"S13*'R2係数一覧'!E13","v":0},0,{"$f":"U13*'R2係数一覧'!D13","v":0},{"$f":"U13*'R2係数一覧'!C13","v":0},{"$f":"U13*'R2雇用表'!O13","v":0}]
["03","25","窯業・土石製品",{"$f":"'R2汎用コンバータ'!N14","v":0},0,{"$f":"E14*'R2係数一覧'!D14","v":0},{"$f":"E14*'R2係数一覧'!C14","v":0},{"$f":"ROUND(E14*'R2雇用表'!O14,0)","v":0},0,{"$f":"I14*'R2係数一覧'!E14","v":0},0,{"$f":"K14*'R2係数一覧'!D14","v":0},{"$f":"K14*'R2係数一覧'!C14","v":0},{"$f":"K14*'R2雇用表'!O14","v":0},0,{"$f":"O14*'R2係数一覧'!D14","v":0},{"$f":"O14*'R2係数一覧'!C14","v":0},{"$f":"O14*'R2雇用表'!O14","v":0},{"$f":"S$43*'R2係数一覧'!H14","v":0},{"$f":"S14*'R2係数一覧'!E14","v":0},0,{"$f":"U14*'R2係数一覧'!D14","v":0},{"$f":"U14*'R2係数一覧'!C14","v":0},{"$f":"U14*'R2雇用表'!O14","v":0}]
["03","26","鉄鋼",{"$f":"'R2汎用コンバータ'!N15","v":0},0,{"$f":"E15*'R2係数一覧'!D15","v":0},{"$f":"E15*'R2係数一覧'!C15","v":0},{"$f":"ROUND(E15*'R2雇用表'!O15,0)","v":0},0,{"$f":"I15*'R2係数一覧'!E15","v":0},0,{"$f":"K15*'R2係数一覧'!D15","v":0},{"$f":"K15*'R2係数一覧'!C15","v":0},{"$f":"K15*'R2雇用表'!O15","v":0},0,{"$f":"O15*'R2係数一覧'!D15","v":0},{"$f":"O15*'R2係数一覧'!C15","v":0},{"$f":"O15*'R2雇用表'!O15","v":0},{"$f":"S$43*'R2係数一覧'!H15","v":0},{"$f":"S15*'R2係数一覧'!E15","v":0},0,{"$f":"U15*'R2係数一覧'!D15","v":0},{"$f":"U15*'R2係数一覧'!C15","v":0},{"$f":"U15*'R2雇用表'!O15","v":0}]
["03","27","非鉄金属",{"$f":"'R2汎用コンバータ'!N16","v":0},0,{"$f":"E16*'R2係数一覧'!D16","v":0},{"$f":"E16*'R2係数一覧'!C16","v":0},{"$f":"ROUND(E16*'R2雇用表'!O16,0)","v":0},0,{"$f":"I16*'R2係数一覧'!E16","v":0},0,{"$f":"K16*'R2係数一覧'!D16","v":0},{"$f":"K16*'R2係数一覧'!C16","v":0},{"$f":"K16*'R2雇用表'!O16","v":0},0,{"$f":"O16*'R2係数一覧'!D16","v":0},{"$f":"O16*'R2係数一覧'!C16","v":0},{"$f":"O16*'R2雇用表'!O16","v":0},{"$f":"S$43*'R2係数一覧'!H16","v":0},{"$f":"S16*'R2係数一覧'!E16","v":0},0,{"$f":"U16*'R2係数一覧'!D16","v":0},{"$f":"U16*'R2係数一覧'!C16","v":0},{"$f":"U16*'R2雇用表'!O16","v":0}]
["03","28","金属製品",{"$f":"'R2汎用コンバータ'!N17","v":0},0,{"$f":"E17*'R2係数一覧'!D17","v":0},{"$f":"E17*'R2係数一覧'!C17","v":0},{"$f":"ROUND(E17*'R2雇用表'!O17,0)","v":0},0,{"$f":"I17*'R2係数一覧'!E17","v":0},0,{"$f":"K17*'R2係数一覧'!D17","v":0},{"$f":"K17*'R2係数一覧'!C17","v":0},{"$f":"K17*'R2雇用表'!O17","v":0},0,{"$f":"O17*'R2係数一覧'!D17","v":0},{"$f":"O17*'R2係数一覧'!C17","v":0},{"$f":"O17*'R2雇用表'!O17","v":0},{"$f":"S$43*'R2係数一覧'!H17","v":0},{"$f":"S17*'R2係数一覧'!E17","v":0},0,{"$f":"U17*'R2係数一覧'!D17","v":0},{"$f":"U17*'R2係数一覧'!C17","v":0},{"$f":"U17*'R2雇用表'!O17","v":0}]
["03","29","はん用機械",{"$f":"'R2汎用コンバータ'!N18","v":0},0,{"$f":"E18*'R2係数一覧'!D18","v":0},{"$f":"E18*'R2係数一覧'!C18","v":0},{"$f":"ROUND(E18*'R2雇用表'!O18,0)","v":0},0,{"$f":"I18*'R2係数一覧'!E18","v":0},0,{"$f":"K18*'R2係数一覧'!D18","v":0},{"$f":"K18*'R2係数一覧'!C18","v":0},{"$f":"K18*'R2雇用表'!O18","v":0},0,{"$f":"O18*'R2係数一覧'!D18","v":0},{"$f":"O18*'R2係数一覧'!C18","v":0},{"$f":"O18*'R2雇用表'!O18","v":0},{"$f":"S$43*'R2係数一覧'!H18","v":0},{"$f":"S18*'R2係数一覧'!E18","v":0},0,{"$f":"U18*'R2係数一覧'!D18","v":0},{"$f":"U18*'R2係数一覧'!C18","v":0},{"$f":"U18*'R2雇用表'!O18","v":0}]
["03","30","生産用機械",{"$f":"'R2汎用コンバータ'!N19","v":0},0,{"$f":"E19*'R2係数一覧'!D19","v":0},{"$f":"E19*'R2係数一覧'!C19","v":0},{"$f":"ROUND(E19*'R2雇用表'!O19,0)","v":0},0,{"$f":"I19*'R2係数一覧'!E19","v":0},0,{"$f":"K19*'R2係数一覧'!D19","v":0},{"$f":"K19*'R2係数一覧'!C19","v":0},{"$f":"K19*'R2雇用表'!O19","v":0},0,{"$f":"O19*'R2係数一覧'!D19","v":0},{"$f":"O19*'R2係数一覧'!C19","v":0},{"$f":"O19*'R2雇用表'!O19","v":0},{"$f":"S$43*'R2係数一覧'!H19","v":0},{"$f":"S19*'R2係数一覧'!E19","v":0},0,{"$f":"U19*'R2係数一覧'!D19","v":0},{"$f":"U19*'R2係数一覧'!C19","v":0},{"$f":"U19*'R2雇用表'!O19","v":0}]
["03","31","業務用機械",{"$f":"'R2汎用コンバータ'!N20","v":0},0,{"$f":"E20*'R2係数一覧'!D20","v":0},{"$f":"E20*'R2係数一覧'!C20","v":0},{"$f":"ROUND(E20*'R2雇用表'!O20,0)","v":0},0,{"$f":"I20*'R2係数一覧'!E20","v":0},0,{"$f":"K20*'R2係数一覧'!D20","v":0},{"$f":"K20*'R2係数一覧'!C20","v":0},{"$f":"K20*'R2雇用表'!O20","v":0},0,{"$f":"O20*'R2係数一覧'!D20","v":0},{"$f":"O20*'R2係数一覧'!C20","v":0},{"$f":"O20*'R2雇用表'!O20","v":0},{"$f":"S$43*'R2係数一覧'!H20","v":0},{"$f":"S20*'R2係数一覧'!E20","v":0},0,{"$f":"U20*'R2係数一覧'!D20","v":0},{"$f":"U20*'R2係数一覧'!C20","v":0},{"$f":"U20*'R2雇用表'!O20","v":0}]
["03","32","電子部品",{"$f":"'R2汎用コンバータ'!N21","v":0},0,{"$f":"E21*'R2係数一覧'!D21","v":0},{"$f":"E21*'R2係数一覧'!C21","v":0},{"$f":"ROUND(E21*'R2雇用表'!O21,0)","v":0},0,{"$f":"I21*'R2係数一覧'!E21","v":0},0,{"$f":"K21*'R2係数一覧'!D21","v":0},{"$f":"K21*'R2係数一覧'!C21","v":0},{"$f":"K21*'R2雇用表'!O21","v":0},0,{"$f":"O21*'R2係数一覧'!D21","v":0},{"$f":"O21*'R2係数一覧'!C21","v":0},{"$f":"O21*'R2雇用表'!O21","v":0},{"$f":"S$43*'R2係数一覧'!H21","v":0},{"$f":"S21*'R2係数一覧'!E21","v":0},0,{"$f":"U21*'R2係数一覧'!D21","v":0},{"$f":"U21*'R2係数一覧'!C21","v":0},{"$f":"U21*'R2雇用表'!O21","v":0}]
["03","33","電気機械",{"$f":"'R2汎用コンバータ'!N22","v":0},0,{"$f":"E22*'R2係数一覧'!D22","v":0},{"$f":"E22*'R2係数一覧'!C22","v":0},{"$f":"ROUND(E22*'R2雇用表'!O22,0)","v":0},0,{"$f":"I22*'R2係数一覧'!E22","v":0},0,{"$f":"K22*'R2係数一覧'!D22","v":0},{"$f":"K22*'R2係数一覧'!C22","v":0},{"$f":"K22*'R2雇用表'!O22","v":0},0,{"$f":"O22*'R2係数一覧'!D22","v":0},{"$f":"O22*'R2係数一覧'!C22","v":0},{"$f":"O22*'R2雇用表'!O22","v":0},{"$f":"S$43*'R2係数一覧'!H22","v":0},{"$f":"S22*'R2係数一覧'!E22","v":0},0,{"$f":"U22*'R2係数一覧'!D22","v":0},{"$f":"U22*'R2係数一覧'!C22","v":0},{"$f":"U22*'R2雇用表'!O22","v":0}]
["03","34","情報通信機器",{"$f":"'R2汎用コンバータ'!N23","v":0},0,{"$f":"E23*'R2係数一覧'!D23","v":0},{"$f":"E23*'R2係数一覧'!C23","v":0},{"$f":"ROUND(E23*'R2雇用表'!O23,0)","v":0},0,{"$f":"I23*'R2係数一覧'!E23","v":0},0,{"$f":"K23*'R2係数一覧'!D23","v":0},{"$f":"K23*'R2係数一覧'!C23","v":0},{"$f":"K23*'R2雇用表'!O23","v":0},0,{"$f":"O23*'R2係数一覧'!D23","v":0},{"$f":"O23*'R2係数一覧'!C23","v":0},{"$f":"O23*'R2雇用表'!O23","v":0},{"$f":"S$43*'R2係数一覧'!H23","v":0},{"$f":"S23*'R2係数一覧'!E23","v":0},0,{"$f":"U23*'R2係数一覧'!D23","v":0},{"$f":"U23*'R2係数一覧'!C23","v":0},{"$f":"U23*'R2雇用表'!O23","v":0}]
["03","35","輸送機械",{"$f":"'R2汎用コンバータ'!N24","v":0},0,{"$f":"E24*'R2係数一覧'!D24","v":0},{"$f":"E24*'R2係数一覧'!C24","v":0},{"$f":"ROUND(E24*'R2雇用表'!O24,0)","v":0},0,{"$f":"I24*'R2係数一覧'!E24","v":0},0,{"$f":"K24*'R2係数一覧'!D24","v":0},{"$f":"K24*'R2係数一覧'!C24","v":0},{"$f":"K24*'R2雇用表'!O24","v":0},0,{"$f":"O24*'R2係数一覧'!D24","v":0},{"$f":"O24*'R2係数一覧'!C24","v":0},{"$f":"O24*'R2雇用表'!O24","v":0},{"$f":"S$43*'R2係数一覧'!H24","v":0},{"$f":"S24*'R2係数一覧'!E24","v":0},0,{"$f":"U24*'R2係数一覧'!D24","v":0},{"$f":"U24*'R2係数一覧'!C24","v":0},{"$f":"U24*'R2雇用表'!O24","v":0}]
["03","39","その他の製造工業製品",{"$f":"'R2汎用コンバータ'!N25","v":0},0,{"$f":"E25*'R2係数一覧'!D25","v":0},{"$f":"E25*'R2係数一覧'!C25","v":0},{"$f":"ROUND(E25*'R2雇用表'!O25,0)","v":0},0,{"$f":"I25*'R2係数一覧'!E25","v":0},0,{"$f":"K25*'R2係数一覧'!D25","v":0},{"$f":"K25*'R2係数一覧'!C25","v":0},{"$f":"K25*'R2雇用表'!O25","v":0},0,{"$f":"O25*'R2係数一覧'!D25","v":0},{"$f":"O25*'R2係数一覧'!C25","v":0},{"$f":"O25*'R2雇用表'!O25","v":0},{"$f":"S$43*'R2係数一覧'!H25","v":0},{"$f":"S25*'R2係数一覧'!E25","v":0},0,{"$f":"U25*'R2係数一覧'!D25","v":0},{"$f":"U25*'R2係数一覧'!C25","v":0},{"$f":"U25*'R2雇用表'!O25","v":0}]
["04","41","建設",{"$f":"'R2汎用コンバータ'!N26","v":0},0,{"$f":"E26*'R2係数一覧'!D26","v":0},{"$f":"E26*'R2係数一覧'!C26","v":0},{"$f":"ROUND(E26*'R2雇用表'!O26,0)","v":0},0,{"$f":"I26*'R2係数一覧'!E26","v":0},0,{"$f":"K26*'R2係数一覧'!D26","v":0},{"$f":"K26*'R2係数一覧'!C26","v":0},{"$f":"K26*'R2雇用表'!O26","v":0},0,{"$f":"O26*'R2係数一覧'!D26","v":0},{"$f":"O26*'R2係数一覧'!C26","v":0},{"$f":"O26*'R2雇用表'!O26","v":0},{"$f":"S$43*'R2係数一覧'!H26","v":0},{"$f":"S26*'R2係数一覧'!E26","v":0},0,{"$f":"U26*'R2係数一覧'!D26","v":0},{"$f":"U26*'R2係数一覧'!C26","v":0},{"$f":"U26*'R2雇用表'!O26","v":0}]
["05","46","電気・ガス・熱供給",{"$f":"'R2汎用コンバータ'!N27","v":0},0,{"$f":"E27*'R2係数一覧'!D27","v":0},{"$f":"E27*'R2係数一覧'!C27","v":0},{"$f":"ROUND(E27*'R2雇用表'!O27,0)","v":0},0,{"$f":"I27*'R2係数一覧'!E27","v":0},0,{"$f":"K27*'R2係数一覧'!D27","v":0},{"$f":"K27*'R2係数一覧'!C27","v":0},{"$f":"K27*'R2雇用表'!O27","v":0},0,{"$f":"O27*'R2係数一覧'!D27","v":0},{"$f":"O27*'R2係数一覧'!C27","v":0},{"$f":"O27*'R2雇用表'!O27","v":0},{"$f":"S$43*'R2係数一覧'!H27","v":0},{"$f":"S27*'R2係数一覧'!E27","v":0},0,{"$f":"U27*'R2係数一覧'!D27","v":0},{"$f":"U27*'R2係数一覧'!C27","v":0},{"$f":"U27*'R2雇用表'!O27","v":0}]
["05","47","水道",{"$f":"'R2汎用コンバータ'!N28","v":0},0,{"$f":"E28*'R2係数一覧'!D28","v":0},{"$f":"E28*'R2係数一覧'!C28","v":0},{"$f":"ROUND(E28*'R2雇用表'!O28,0)","v":0},0,{"$f":"I28*'R2係数一覧'!E28","v":0},0,{"$f":"K28*'R2係数一覧'!D28","v":0},{"$f":"K28*'R2係数一覧'!C28","v":0},{"$f":"K28*'R2雇用表'!O28","v":0},0,{"$f":"O28*'R2係数一覧'!D28","v":0},{"$f":"O28*'R2係数一覧'!C28","v":0},{"$f":"O28*'R2雇用表'!O28","v":0},{"$f":"S$43*'R2係数一覧'!H28","v":0},{"$f":"S28*'R2係数一覧'!E28","v":0},0,{"$f":"U28*'R2係数一覧'!D28","v":0},{"$f":"U28*'R2係数一覧'!C28","v":0},{"$f":"U28*'R2雇用表'!O28","v":0}]
["12","48","廃棄物処理",{"$f":"'R2汎用コンバータ'!N29","v":0},0,{"$f":"E29*'R2係数一覧'!D29","v":0},{"$f":"E29*'R2係数一覧'!C29","v":0},{"$f":"ROUND(E29*'R2雇用表'!O29,0)","v":0},0,{"$f":"I29*'R2係数一覧'!E29","v":0},0,{"$f":"K29*'R2係数一覧'!D29","v":0},{"$f":"K29*'R2係数一覧'!C29","v":0},{"$f":"K29*'R2雇用表'!O29","v":0},0,{"$f":"O29*'R2係数一覧'!D29","v":0},{"$f":"O29*'R2係数一覧'!C29","v":0},{"$f":"O29*'R2雇用表'!O29","v":0},{"$f":"S$43*'R2係数一覧'!H29","v":0},{"$f":"S29*'R2係数一覧'!E29","v":0},0,{"$f":"U29*'R2係数一覧'!D29","v":0},{"$f":"U29*'R2係数一覧'!C29","v":0},{"$f":"U29*'R2雇用表'!O29","v":0}]
["06","51","商業",{"$f":"'R2汎用コンバータ'!N30","v":0},0,{"$f":"E30*'R2係数一覧'!D30","v":0},{"$f":"E30*'R2係数一覧'!C30","v":0},{"$f":"ROUND(E30*'R2雇用表'!O30,0)","v":0},0,{"$f":"I30*'R2係数一覧'!E30","v":0},0,{"$f":"K30*'R2係数一覧'!D30","v":0},{"$f":"K30*'R2係数一覧'!C30","v":0},{"$f":"K30*'R2雇用表'!O30","v":0},0,{"$f":"O30*'R2係数一覧'!D30","v":0},{"$f":"O30*'R2係数一覧'!C30","v":0},{"$f":"O30*'R2雇用表'!O30","v":0},{"$f":"S$43*'R2係数一覧'!H30","v":0},{"$f":"S30*'R2係数一覧'!E30","v":0},0,{"$f":"U30*'R2係数一覧'!D30","v":0},{"$f":"U30*'R2係数一覧'!C30","v":0},{"$f":"U30*'R2雇用表'!O30","v":0}]
["07","53","金融・保険",{"$f":"'R2汎用コンバータ'!N31","v":0},0,{"$f":"E31*'R2係数一覧'!D31","v":0},{"$f":"E31*'R2係数一覧'!C31","v":0},{"$f":"ROUND(E31*'R2雇用表'!O31,0)","v":0},0,{"$f":"I31*'R2係数一覧'!E31","v":0},0,{"$f":"K31*'R2係数一覧'!D31","v":0},{"$f":"K31*'R2係数一覧'!C31","v":0},{"$f":"K31*'R2雇用表'!O31","v":0},0,{"$f":"O31*'R2係数一覧'!D31","v":0},{"$f":"O31*'R2係数一覧'!C31","v":0},{"$f":"O31*'R2雇用表'!O31","v":0},{"$f":"S$43*'R2係数一覧'!H31","v":0},{"$f":"S31*'R2係数一覧'!E31","v":0},0,{"$f":"U31*'R2係数一覧'!D31","v":0},{"$f":"U31*'R2係数一覧'!C31","v":0},{"$f":"U31*'R2雇用表'!O31","v":0}]
["08","55","不動産",{"$f":"'R2汎用コンバータ'!N32","v":0},0,{"$f":"E32*'R2係数一覧'!D32","v":0},{"$f":"E32*'R2係数一覧'!C32","v":0},{"$f":"ROUND(E32*'R2雇用表'!O32,0)","v":0},0,{"$f":"I32*'R2係数一覧'!E32","v":0},0,{"$f":"K32*'R2係数一覧'!D32","v":0},{"$f":"K32*'R2係数一覧'!C32","v":0},{"$f":"K32*'R2雇用表'!O32","v":0},0,{"$f":"O32*'R2係数一覧'!D32","v":0},{"$f":"O32*'R2係数一覧'!C32","v":0},{"$f":"O32*'R2雇用表'!O32","v":0},{"$f":"S$43*'R2係数一覧'!H32","v":0},{"$f":"S32*'R2係数一覧'!E32","v":0},0,{"$f":"U32*'R2係数一覧'!D32","v":0},{"$f":"U32*'R2係数一覧'!C32","v":0},{"$f":"U32*'R2雇用表'!O32","v":0}]
["09","57","運輸・郵便",{"$f":"'R2汎用コンバータ'!N33","v":0},0,{"$f":"E33*'R2係数一覧'!D33","v":0},{"$f":"E33*'R2係数一覧'!C33","v":0},{"$f":"ROUND(E33*'R2雇用表'!O33,0)","v":0},0,{"$f":"I33*'R2係数一覧'!E33","v":0},0,{"$f":"K33*'R2係数一覧'!D33","v":0},{"$f":"K33*'R2係数一覧'!C33","v":0},{"$f":"K33*'R2雇用表'!O33","v":0},0,{"$f":"O33*'R2係数一覧'!D33","v":0},{"$f":"O33*'R2係数一覧'!C33","v":0},{"$f":"O33*'R2雇用表'!O33","v":0},{"$f":"S$43*'R2係数一覧'!H33","v":0},{"$f":"S33*'R2係数一覧'!E33","v":0},0,{"$f":"U33*'R2係数一覧'!D33","v":0},{"$f":"U33*'R2係数一覧'!C33","v":0},{"$f":"U33*'R2雇用表'!O33","v":0}]
["10","59","情報通信",{"$f":"'R2汎用コンバータ'!N34","v":0},0,{"$f":"E34*'R2係数一覧'!D34","v":0},{"$f":"E34*'R2係数一覧'!C34","v":0},{"$f":"ROUND(E34*'R2雇用表'!O34,0)","v":0},0,{"$f":"I34*'R2係数一覧'!E34","v":0},0,{"$f":"K34*'R2係数一覧'!D34","v":0},{"$f":"K34*'R2係数一覧'!C34","v":0},{"$f":"K34*'R2雇用表'!O34","v":0},0,{"$f":"O34*'R2係数一覧'!D34","v":0},{"$f":"O34*'R2係数一覧'!C34","v":0},{"$f":"O34*'R2雇用表'!O34","v":0},{"$f":"S$43*'R2係数一覧'!H34","v":0},{"$f":"S34*'R2係数一覧'!E34","v":0},0,{"$f":"U34*'R2係数一覧'!D34","v":0},{"$f":"U34*'R2係数一覧'!C34","v":0},{"$f":"U34*'R2雇用表'!O34","v":0}]
["11","61","公務",{"$f":"'R2汎用コンバータ'!N35","v":0},0,{"$f":"E35*'R2係数一覧'!D35","v":0},{"$f":"E35*'R2係数一覧'!C35","v":0},{"$f":"ROUND(E35*'R2雇用表'!O35,0)","v":0},0,{"$f":"I35*'R2係数一覧'!E35","v":0},0,{"$f":"K35*'R2係数一覧'!D35","v":0},{"$f":"K35*'R2係数一覧'!C35","v":0},{"$f":"K35*'R2雇用表'!O35","v":0},0,{"$f":"O35*'R2係数一覧'!D35","v":0},{"$f":"O35*'R2係数一覧'!C35","v":0},{"$f":"O35*'R2雇用表'!O35","v":0},{"$f":"S$43*'R2係数一覧'!H35","v":0},{"$f":"S35*'R2係数一覧'!E35","v":0},0,{"$f":"U35*'R2係数一覧'!D35","v":0},{"$f":"U35*'R2係数一覧'!C35","v":0},{"$f":"U35*'R2雇用表'!O35","v":0}]
["12","63","教育・研究",{"$f":"'R2汎用コンバータ'!N36","v":0},0,{"$f":"E36*'R2係数一覧'!D36","v":0},{"$f":"E36*'R2係数一覧'!C36","v":0},{"$f":"ROUND(E36*'R2雇用表'!O36,0)","v":0},0,{"$f":"I36*'R2係数一覧'!E36","v":0},0,{"$f":"K36*'R2係数一覧'!D36","v":0},{"$f":"K36*'R2係数一覧'!C36","v":0},{"$f":"K36*'R2雇用表'!O36","v":0},0,{"$f":"O36*'R2係数一覧'!D36","v":0},{"$f":"O36*'R2係数一覧'!C36","v":0},{"$f":"O36*'R2雇用表'!O36","v":0},{"$f":"S$43*'R2係数一覧'!H36","v":0},{"$f":"S36*'R2係数一覧'!E36","v":0},0,{"$f":"U36*'R2係数一覧'!D36","v":0},{"$f":"U36*'R2係数一覧'!C36","v":0},{"$f":"U36*'R2雇用表'!O36","v":0}]
["12","64","医療・福祉",{"$f":"'R2汎用コンバータ'!N37","v":0},0,{"$f":"E37*'R2係数一覧'!D37","v":0},{"$f":"E37*'R2係数一覧'!C37","v":0},{"$f":"ROUND(E37*'R2雇用表'!O37,0)","v":0},0,{"$f":"I37*'R2係数一覧'!E37","v":0},0,{"$f":"K37*'R2係数一覧'!D37","v":0},{"$f":"K37*'R2係数一覧'!C37","v":0},{"$f":"K37*'R2雇用表'!O37","v":0},0,{"$f":"O37*'R2係数一覧'!D37","v":0},{"$f":"O37*'R2係数一覧'!C37","v":0},{"$f":"O37*'R2雇用表'!O37","v":0},{"$f":"S$43*'R2係数一覧'!H37","v":0},{"$f":"S37*'R2係数一覧'!E37","v":0},0,{"$f":"U37*'R2係数一覧'!D37","v":0},{"$f":"U37*'R2係数一覧'!C37","v":0},{"$f":"U37*'R2雇用表'!O37","v":0}]
["12","65","他に分類されない会員制団体",{"$f":"'R2汎用コンバータ'!N38","v":0},0,{"$f":"E38*'R2係数一覧'!D38","v":0},{"$f":"E38*'R2係数一覧'!C38","v":0},{"$f":"ROUND(E38*'R2雇用表'!O38,0)","v":0},0,{"$f":"I38*'R2係数一覧'!E38","v":0},0,{"$f":"K38*'R2係数一覧'!D38","v":0},{"$f":"K38*'R2係数一覧'!C38","v":0},{"$f":"K38*'R2雇用表'!O38","v":0},0,{"$f":"O38*'R2係数一覧'!D38","v":0},{"$f":"O38*'R2係数一覧'!C38","v":0},{"$f":"O38*'R2雇用表'!O38","v":0},{"$f":"S$43*'R2係数一覧'!H38","v":0},{"$f":"S38*'R2係数一覧'!E38","v":0},0,{"$f":"U38*'R2係数一覧'!D38","v":0},{"$f":"U38*'R2係数一覧'!C38","v":0},{"$f":"U38*'R2雇用表'!O38","v":0}]
["12","66","対事業所サービス",{"$f":"'R2汎用コンバータ'!N39","v":0},0,{"$f":"E39*'R2係数一覧'!D39","v":0},{"$f":"E39*'R2係数一覧'!C39","v":0},{"$f":"ROUND(E39*'R2雇用表'!O39,0)","v":0},0,{"$f":"I39*'R2係数一覧'!E39","v":0},0,{"$f":"K39*'R2係数一覧'!D39","v":0},{"$f":"K39*'R2係数一覧'!C39","v":0},{"$f":"K39*'R2雇用表'!O39","v":0},0,{"$f":"O39*'R2係数一覧'!D39","v":0},{"$f":"O39*'R2係数一覧'!C39","v":0},{"$f":"O39*'R2雇用表'!O39","v":0},{"$f":"S$43*'R2係数一覧'!H39","v":0},{"$f":"S39*'R2係数一覧'!E39","v":0},0,{"$f":"U39*'R2係数一覧'!D39","v":0},{"$f":"U39*'R2係数一覧'!C39","v":0},{"$f":"U39*'R2雇用表'!O39","v":0}]
["12","67","対個人サービス",{"$f":"'R2汎用コンバータ'!N40","v":0},0,{"$f":"E40*'R2係数一覧'!D40","v":0},{"$f":"E40*'R2係数一覧'!C40","v":0},{"$f":"ROUND(E40*'R2雇用表'!O40,0)","v":0},0,{"$f":"I40*'R2係数一覧'!E40","v":0},0,{"$f":"K40*'R2係数一覧'!D40","v":0},{"$f":"K40*'R2係数一覧'!C40","v":0},{"$f":"K40*'R2雇用表'!O40","v":0},0,{"$f":"O40*'R2係数一覧'!D40","v":0},{"$f":"O40*'R2係数一覧'!C40","v":0},{"$f":"O40*'R2雇用表'!O40","v":0},{"$f":"S$43*'R2係数一覧'!H40","v":0},{"$f":"S40*'R2係数一覧'!E40","v":0},0,{"$f":"U40*'R2係数一覧'!D40","v":0},{"$f":"U40*'R2係数一覧'!C40","v":0},{"$f":"U40*'R2雇用表'!O40","v":0}]
["03","68","事務用品",{"$f":"'R2汎用コンバータ'!N41","v":0},0,{"$f":"E41*'R2係数一覧'!D41","v":0},{"$f":"E41*'R2係数一覧'!C41","v":0},{"$f":"ROUND(E41*'R2雇用表'!O41,0)","v":0},0,{"$f":"I41*'R2係数一覧'!E41","v":0},0,{"$f":"K41*'R2係数一覧'!D41","v":0},{"$f":"K41*'R2係数一覧'!C41","v":0},{"$f":"K41*'R2雇用表'!O41","v":0},0,{"$f":"O41*'R2係数一覧'!D41","v":0},{"$f":"O41*'R2係数一覧'!C41","v":0},{"$f":"O41*'R2雇用表'!O41","v":0},{"$f":"S$43*'R2係数一覧'!H41","v":0},{"$f":"S41*'R2係数一覧'!E41","v":0},0,{"$f":"U41*'R2係数一覧'!D41","v":0},{"$f":"U41*'R2係数一覧'!C41","v":0},{"$f":"U41*'R2雇用表'!O41","v":0}]
["13","69","分類不明",{"$f":"'R2汎用コンバータ'!N42","v":0},0,{"$f":"E42*'R2係数一覧'!D42","v":0},{"$f":"E42*'R2係数一覧'!C42","v":0},{"$f":"ROUND(E42*'R2雇用表'!O42,0)","v":0},0,{"$f":"I42*'R2係数一覧'!E42","v":0},0,{"$f":"K42*'R2係数一覧'!D42","v":0},{"$f":"K42*'R2係数一覧'!C42","v":0},{"$f":"K42*'R2雇用表'!O42","v":0},0,{"$f":"O42*'R2係数一覧'!D42","v":0},{"$f":"O42*'R2係数一覧'!C42","v":0},{"$f":"O42*'R2雇用表'!O42","v":0},{"$f":"S$43*'R2係数一覧'!H42","v":0},{"$f":"S42*'R2係数一覧'!E42","v":0},0,{"$f":"U42*'R2係数一覧'!D42","v":0},{"$f":"U42*'R2係数一覧'!C42","v":0},{"$f":"U42*'R2雇用表'!O42","v":0}]
[null,null,null,{"$f":"SUM(D6:D42)","v":0},{"$f":"SUM(E6:E42)","v":0},0,0,0,0,0,0,0,0,0,0,0,0,0,{"$f":"Q43*S45","v":0},{"$f":"SUM(T6:T42)","v":0},{"$f":"SUM(U6:U42)","v":0},{"$f":"SUM(V6:V42)","v":0},{"$f":"SUM(W6:W42)","v":0},{"$f":"SUM(X6:X42)","v":0}]
[]
[null,null,null,null,null,null,null,null,null,null,null,null,null,null,null,null,"消費転換率",null,{"$f":"'R2汎用入力'!C7","v":0.55378261397054429}]
[]
[]
[]
[null,"01","農林漁業",{"$f":"SUMIF($A$6:$A$42,$B49,D$6:D$42)","v":0},{"$f":"SUMIF($A$6:$A$42,$B49,E$6:E$42)","v":0},0,0,0,0,0,0,0,0,0,0,0,0,0,0,0,0,0,0,0]
[null,"02","鉱業",0,{"$f":"SUMIF($A$6:$A$42,$B50,E$6:E$42)","v":0},0,0,0,0,0,0,0,0,0,0,0,0,0,0,0,0,0,0,0]
[null,"03","製造業",0,0,0,0,0,0,0,0,0,0,0,0,0,0,0,0,0,0,0,0,0]
[null,"04","建設",0,0,0,0,0,0,0,0,0,0,0,0,0,0,0,0,0,0,0,0,0]
[null,"05","電気・ガス・水道",0,0,0,0,0,0,0,0,0,0,0,0,0,0,0,0,0,0,0,0,0]
[null,"06","商業",0,0,0,0,0,0,0,0,0,0,0,0,0,0,0,0,0,0,0,0,0]
[null,"07","金融・保険",0,0,0,0,0,0,0,0,0,0,0,0,0,0,0,0,0,0,0,0,0]
[null,"08","不動産",0,0,0,0,0,0,0,0,0,0,0,0,0,0,0,0,0,0,0,0,0]
[null,"09","運輸・郵便",0,0,0,0,0,0,0,0,0,0,0,0,0,0,0,0,0,0,0,0,0]
[null,"10","情報通信",0,0,0,0,0,0,0,0,0,0,0,0,0,0,0,0,0,0,0,0,0]
[null,"11","公務",0,0,0,0,0,0,0,0,0,0,0,0,0,0,0,0,0,0,0,0,0]
[null,"12","サービス",0,0,0,0,0,0,0,0,0,0,0,0,0,0,0,0,0,0,0,0,0]
[null,"13","分類不明",0,0,0,0,0,0,0,0,0,0,0,0,0,0,0,0,0,0,0,0,0]
[null,null,null,{"$f":"SUM(D49:D61)","v":0},{"$f":"SUM(E49:E61)","v":0},0,0,0,0,0,0,0,0,0,0,0,0,0,0,0,0,0,0,0]

{"sheet":"R2汎用部門分類表","index":5,"n_rows":482,"n_cols":7,"rows_kept":482,"cut":false,"hidden":false,"merged":[[319,6,320,6],[438,6,439,6],[447,6,448,6],[452,6,453,6],[4,0,4,4],[6,5,7,5],[6,6,7,6],[7,0,7,1],[7,2,7,3],[5,0,5,4],[4,5,4,6],[5,5,5,6],[6,0,6,3],[6,4,7,4],[186,6,187,6]]}
["　部　門　分　類　表　"]
[]
[]
[]
["需要額として入力する最終製品・サービス",null,null,null,null,"「R2汎用入力」シートに\n需要額を入れる産業名"]
["基本分類　（行445部門×列391部門）",null,null,null,null,"統合大分類　（37部門）"]
["分類コード",null,null,null,"部　門　名","分類\nコード","部　門　名"]
["列部門",null,"行部門"]
["0111","01",null,null,"米","01","農林漁業"]
[null,null,"0111","011","米"]
[null,null,"0111","012","稲わら"]
["0111","02","0111","021","麦類"]
["0112","01","0112","011","いも類"]
["0112","02","0112","021","豆類"]
["0113","01","0113","011","野菜"]
["0114","01","0114","011","果実"]
["0115","01","0115","011","砂糖原料作物"]
["0115","02","0115","021","飲料用作物"]
["0115","09","0115","099","その他の食用耕種作物"]
["0116","01","0116","011","飼料作物"]
["0116","02","0116","021","種苗"]
["0116","03","0116","031","花き・花木類"]
["0116","09",null,null,"その他の非食用耕種作物"]
[null,null,"0116","091","葉たばこ"]
[null,null,"0116","092","生ゴム（輸入）"]
[null,null,"0116","093","綿花（輸入）"]
[null,null,"0116","099","他に分類されない非食用耕種作物"]
["0121","01",null,null,"酪農"]
[null,null,"0121","011","生乳"]
[null,null,"0121","019","その他の酪農生産物"]
["0121","02","0121","021","肉用牛"]
["0121","03","0121","031","豚"]
["0121","04","0121","041","鶏卵"]
["0121","05","0121","051","肉鶏"]
["0121","09","0121","099","その他の畜産"]
["0131","01","0131","011","農業サービス"]
["0151","01","0151","011","育林"]
["0152","01","0152","011","素材"]
["0153","01","0153","011","特用林産物（狩猟業を含む。）"]
["0171","01","0171","011","海面漁業"]
["0171","02","0171","021","海面養殖業"]
[null,null,"0172","001","内水面漁業・養殖業"]
["0172","01",null,null,"内水面漁業"]
["0172","02",null,null,"内水面養殖業"]
["0611","01",null,null,"石炭・原油・天然ガス","06","鉱業"]
[null,null,"0611","011","石炭"]
[null,null,"0611","012","原油"]
[null,null,"0611","013","天然ガス"]
["0621","01","0621","011","砂利・採石"]
["0629","09",null,null,"その他の鉱物"]
[null,null,"0629","091","鉄鉱石"]
[null,null,"0629","092","非鉄金属鉱物"]
[null,null,"0629","093","石灰石"]
[null,null,"0629","094","窯業原料鉱物（石灰石を除く。）"]
[null,null,"0629","099","他に分類されない鉱物"]
["1111","01","1111","011","食肉","11","飲食料品"]
["1111","02","1111","021","酪農品"]
["1111","09","1111","099","その他の畜産食料品"]
["1112","01","1112","011","冷凍魚介類"]
["1112","02","1112","021","塩・干・くん製品"]
["1112","03","1112","031","水産びん・かん詰"]
["1112","04","1112","041","ねり製品"]
["1112","09","1112","099","その他の水産食料品"]
["1113","01","1113","011","精穀"]
["1113","02","1113","021","製粉"]
["1114","01","1114","011","めん類"]
["1114","02","1114","021","パン類"]
["1114","03","1114","031","菓子類"]
["1115","01","1115","011","農産保存食料品"]
["1116","01","1116","011","砂糖"]
["1116","02","1116","021","でん粉"]
["1116","03","1116","031","ぶどう糖・水あめ・異性化糖"]
["1116","04",null,null,"動植物油脂"]
[null,null,"1116","041","植物油脂"]
[null,null,"1116","042","動物油脂"]
[null,null,"1116","043","加工油脂"]
[null,null,"1116","044","植物原油かす"]
["1116","05","1116","051","調味料"]
["1119","01","1119","011","冷凍調理食品"]
["1119","02","1119","021","レトルト食品"]
["1119","03","1119","031","そう菜・すし・弁当"]
["1119","09","1119","099","その他の食料品"]
["1121","01","1121","011","清酒"]
["1121","02","1121","021","ビール類"]
["1121","03","1121","031","ウイスキー類"]
["1121","09","1121","099","その他の酒類"]
["1129","01","1129","011","茶・コーヒー"]
["1129","02","1129","021","清涼飲料"]
["1129","03","1129","031","製氷"]
["1131","01","1131","011","飼料"]
["1131","02","1131","021","有機質肥料（別掲を除く。）"]
["1141","01","1141","011","たばこ"]
["1511","01","1511","011","紡績糸","15","繊維製品"]
["1512","01","1512","011","綿・スフ織物（合繊短繊維織物を含む。）"]
["1512","02","1512","021","絹・人絹織物（合繊長繊維織物を含む。）"]
["1512","09","1512","099","その他の織物"]
["1513","01","1513","011","ニット生地"]
["1514","01","1514","011","染色整理"]
["1519","09","1519","099","その他の繊維工業製品"]
["1521","01","1521","011","織物製衣服"]
["1521","02","1521","021","ニット製衣服"]
["1522","09","1522","099","その他の衣服・身の回り品"]
["1529","01","1529","011","寝具"]
["1529","02","1529","021","じゅうたん・床敷物"]
["1529","09","1529","099","その他の繊維既製品"]
["1611","01","1611","011","製材","16","パルプ・紙・木製品"]
["1611","02","1611","021","合板・集成材"]
["1611","03","1611","031","木材チップ"]
["1619","09","1619","099","その他の木製品"]
["1621","01","1621","011","木製家具"]
["1621","02","1621","021","金属製家具"]
["1621","03","1621","031","木製建具"]
["1621","09","1621","099","その他の家具・装備品"]
["1631","01","1631","011","パルプ"]
[null,null,"1631","021P","古紙"]
["1632","01","1632","011","洋紙・和紙"]
["1632","02","1632","021","板紙"]
["1633","01","1633","011","段ボール"]
["1633","02","1633","021","塗工紙・建設用加工紙"]
["1641","01","1641","011","段ボール箱"]
["1641","09","1641","099","その他の紙製容器"]
["1649","01","1649","011","紙製衛生材料・用品"]
["1649","09","1649","099","その他のパルプ・紙・紙加工品"]
["1911","01","1911","011","印刷・製版・製本","39","その他の製造工業製品\n（１／３）"]
["2011","01","2011","011","化学肥料","20","化学製品"]
["2021","01","2021","011","ソーダ工業製品"]
["2029","01","2029","011","無機顔料"]
["2029","02","2029","021","圧縮ガス・液化ガス"]
["2029","03",null,null,"塩"]
[null,null,"2029","031","原塩"]
[null,null,"2029","032","塩"]
["2029","09","2029","099","その他の無機化学工業製品"]
["2031","01","2031","011","石油化学基礎製品"]
["2031","02","2031","021","石油化学系芳香族製品"]
["2041","01","2041","011","脂肪族中間物"]
["2041","02","2041","021","環式中間物・合成染料・有機顔料"]
["2042","01","2042","011","合成ゴム"]
["2049","01","2049","011","メタン誘導品"]
["2049","02","2049","021","可塑剤"]
["2049","09","2049","099","その他の有機化学工業製品"]
["2051","01","2051","011","熱硬化性樹脂"]
["2051","02","2051","021","熱可塑性樹脂"]
["2051","03","2051","031","高機能性樹脂"]
["2051","09","2051","099","その他の合成樹脂"]
["2061","01","2061","011","化学繊維"]
["2071","01","2071","011","医薬品"]
["2081","01",null,null,"油脂加工製品・界面活性剤"]
[null,null,"2081","011","油脂加工製品"]
[null,null,"2081","012","石けん・合成洗剤"]
[null,null,"2081","013","界面活性剤（石けん・合成洗剤を除く。）"]
["2082","01","2082","011","化粧品・歯磨"]
["2083","01","2083","011","塗料"]
["2083","02","2083","021","印刷インキ"]
["2084","01","2084","011","農薬"]
["2089","01","2089","011","ゼラチン・接着剤"]
["2089","02","2089","021","写真感光材料"]
["2089","09",null,null,"その他の化学最終製品"]
[null,null,"2089","091","触媒"]
[null,null,"2089","099","他に分類されない化学最終製品"]
["2111","01",null,null,"石油製品","21","石油・石炭製品"]
[null,null,"2111","011","ガソリン"]
[null,null,"2111","012","ジェット燃料油"]
[null,null,"2111","013","灯油"]
[null,null,"2111","014","軽油"]
[null,null,"2111","015","Ａ重油"]
[null,null,"2111","016","Ｂ重油・Ｃ重油"]
[null,null,"2111","017","ナフサ"]
[null,null,"2111","018","液化石油ガス"]
[null,null,"2111","019","その他の石油製品"]
["2121","01",null,null,"石炭製品"]
[null,null,"2121","011","コークス"]
[null,null,"2121","019","その他の石炭製品"]
["2121","02","2121","021","舗装材料"]
["2211","01",null,null,"プラスチック製品","22","プラスチック・ゴム製品"]
[null,null,"2211","011","プラスチックフィルム・シート"]
[null,null,"2211","012","プラスチック板・管・棒"]
[null,null,"2211","013","プラスチック発泡製品"]
[null,null,"2211","014","工業用プラスチック製品"]
[null,null,"2211","015","強化プラスチック製品"]
[null,null,"2211","016","プラスチック製容器"]
[null,null,"2211","017","プラスチック製日用雑貨・食卓用品"]
[null,null,"2211","019","その他のプラスチック製品"]
["2221","01","2221","011","タイヤ・チューブ"]
["2229","09",null,null,"その他のゴム製品"]
[null,null,"2229","091","ゴム製・プラスチック製履物"]
[null,null,"2229","099","他に分類されないゴム製品"]
["2311","01","2311","011","革製履物","39","その他の製造工業製品\n（２／３）"]
["2312","01","2312","011","なめし革・革製品・毛皮（革製履物を除く。）"]
["2511","01","2511","011","板ガラス・安全ガラス","25","窯業・土石製品"]
["2511","02","2511","021","ガラス繊維・同製品"]
["2511","09",null,null,"その他のガラス製品"]
[null,null,"2511","091","ガラス製加工素材"]
[null,null,"2511","099","他に分類されないガラス製品"]
["2521","01","2521","011","セメント"]
["2521","02","2521","021","生コンクリート"]
["2521","03","2521","031","セメント製品"]
["2531","01",null,null,"陶磁器"]
[null,null,"2531","011","建設用陶磁器"]
[null,null,"2531","012","工業用陶磁器"]
[null,null,"2531","013","日用陶磁器"]
["2591","01","2591","011","耐火物"]
["2591","09","2591","099","その他の建設用土石製品"]
["2599","01","2599","011","炭素・黒鉛製品"]
["2599","02","2599","021","研磨材"]
["2599","09","2599","099","その他の窯業・土石製品"]
["2611","01","2611","011","銑鉄","26","鉄鋼"]
["2611","02","2611","021","フェロアロイ"]
["2611","03","2611","031","粗鋼（転炉）"]
["2611","04","2611","041","粗鋼（電気炉）"]
[null,null,"2612","011P","鉄屑"]
["2621","01","2621","011","熱間圧延鋼材"]
["2622","01","2622","011","鋼管"]
["2623","01","2623","011","冷間仕上鋼材"]
["2623","02","2623","021","めっき鋼材"]
["2631","01","2631","011","鋳鍛鋼"]
["2631","02","2631","021","鋳鉄管"]
["2631","03","2631","031","鋳鉄品・鍛工品（鉄）"]
["2699","01","2699","011","鉄鋼シャースリット業"]
["2699","09","2699","099","その他の鉄鋼製品"]
["2711","01","2711","011","銅","27","非鉄金属"]
["2711","02","2711","021","鉛・亜鉛（再生を含む。）"]
["2711","03","2711","031","アルミニウム（再生を含む。）"]
["2711","09","2711","099","その他の非鉄金属地金"]
[null,null,"2712","011P","非鉄金属屑"]
["2721","01","2721","011","電線・ケーブル"]
["2721","02","2721","021","光ファイバケーブル"]
["2729","01","2729","011","伸銅品"]
["2729","02","2729","021","アルミ圧延製品"]
["2729","03","2729","031","非鉄金属素形材"]
["2729","04","2729","041","核燃料"]
["2729","09","2729","099","その他の非鉄金属製品"]
["2811","01","2811","011","建設用金属製品","28","金属製品"]
["2812","01","2812","011","建築用金属製品"]
["2891","01","2891","011","ガス・石油機器・暖房・調理装置"]
["2899","01","2899","011","ボルト・ナット・リベット・スプリング"]
["2899","02","2899","021","金属製容器・製缶板金製品"]
["2899","03",null,null,"配管工事附属品・粉末や金製品・道具類"]
[null,null,"2899","031","配管工事附属品"]
[null,null,"2899","032","粉末や金製品"]
[null,null,"2899","033","刃物・道具類"]
["2899","09","2899","099","その他の金属製品"]
["2911","01","2911","011","ボイラ","29","はん用機械"]
["2911","02","2911","021","タービン"]
["2911","03","2911","031","原動機"]
["2912","01","2912","011","ポンプ・圧縮機"]
["2913","01","2913","011","運搬機械"]
["2914","01","2914","011","冷凍機・温湿調整装置"]
["2919","01","2919","011","ベアリング"]
["2919","09","2919","099","その他のはん用機械"]
["3011","01","3011","011","農業用機械","30","生産用機械"]
["3012","01","3012","011","建設・鉱山機械"]
["3013","01","3013","011","繊維機械"]
["3014","01","3014","011","生活関連産業用機械"]
["3015","01","3015","011","化学機械"]
["3015","02","3015","021","鋳造装置・プラスチック加工機械"]
["3016","01","3016","011","金属工作機械"]
["3016","02","3016","021","金属加工機械"]
["3016","03","3016","031","機械工具"]
["3017","01","3017","011","半導体製造装置"]
["3019","01","3019","011","金型"]
["3019","02","3019","021","真空装置・真空機器"]
["3019","03","3019","031","ロボット"]
["3019","09","3019","099","その他の生産用機械"]
["3111","01","3111","011","複写機","31","業務用機械"]
["3111","09","3111","099","その他の事務用機械"]
["3112","01","3112","011","サービス用・娯楽用機器"]
["3113","01","3113","011","計測機器"]
["3114","01","3114","011","医療用機械器具"]
["3115","01","3115","011","光学機械・レンズ"]
["3116","01","3116","011","武器"]
["3211","01","3211","011","半導体素子","32","電子部品"]
["3211","02","3211","021","集積回路"]
["3211","03","3211","031","液晶パネル"]
["3211","04","3211","041","フラットパネル・電子管"]
["3299","01","3299","011","記録メディア"]
["3299","02","3299","021","電子回路"]
["3299","09","3299","099","その他の電子部品"]
["3311","01",null,null,"回転電気機械","33","電気機械"]
[null,null,"3311","011","発電機器"]
[null,null,"3311","012","電動機"]
["3311","02","3311","021","変圧器・変成器"]
["3311","03","3311","031","開閉制御装置・配電盤"]
["3311","04","3311","041","配線器具"]
["3311","05","3311","051","内燃機関電装品"]
["3311","09","3311","099","その他の産業用電気機器"]
["3321","01","3321","011","民生用エアコンディショナ"]
["3321","02","3321","021","民生用電気機器（エアコンを除く。）"]
["3331","01","3331","011","電子応用装置"]
["3332","01","3332","011","電気計測器"]
["3399","01","3399","011","電球類"]
["3399","02","3399","021","電気照明器具"]
["3399","03","3399","031","電池"]
["3399","09","3399","099","その他の電気機械器具"]
["3411","01","3411","011","有線電気通信機器","34","情報通信機器"]
["3411","02","3411","021","携帯電話機"]
["3411","03","3411","031","無線電気通信機器（携帯電話機を除く。）"]
["3411","04","3411","041","ラジオ・テレビ受信機"]
["3411","09","3411","099","その他の電気通信機器"]
["3412","01","3412","011","ビデオ機器・デジタルカメラ"]
["3412","02","3412","021","電気音響機器"]
["3421","01","3421","011","パーソナルコンピュータ"]
["3421","02","3421","021","電子計算機本体（パソコンを除く。）"]
["3421","03","3421","031","電子計算機附属装置"]
["3511","01","3511","011","乗用車（ハイブリッド車）","35","輸送機械"]
["3511","02","3511","021","乗用車（ハイブリッド車を除く。）"]
["3521","01","3521","011","トラック・バス・その他の自動車"]
["3522","01","3522","011","二輪自動車"]
["3531","01","3531","011","自動車用内燃機関"]
["3531","02","3531","021","自動車部品"]
["3541","01","3541","011","鋼船"]
["3541","02","3541","021","その他の船舶"]
["3541","03","3541","031","舶用内燃機関"]
["3541","10","3541","101","船舶修理"]
["3591","01","3591","011","鉄道車両"]
["3591","10","3591","101","鉄道車両修理"]
["3592","01","3592","011","航空機"]
["3592","10","3592","101","航空機修理"]
["3599","01","3599","011","自転車"]
["3599","09","3599","099","その他の輸送機械"]
["3911","01","3911","011","がん具","39","その他の製造工業製品\n（３／３）"]
["3911","02","3911","021","運動用品"]
["3919","01","3919","011","身辺細貨品"]
["3919","02","3919","021","時計"]
["3919","03","3919","031","楽器"]
["3919","04","3919","041","筆記具・文具"]
["3919","05","3919","051","畳・わら加工品"]
["3919","06","3919","061","情報記録物"]
["3919","09","3919","099","その他の製造工業製品"]
["3921","01","3921","011","再生資源回収・加工処理"]
["4111","01","4111","011","住宅建築（木造）","41","建設"]
["4111","02","4111","021","住宅建築（非木造）"]
["4112","01","4112","011","非住宅建築（木造）"]
["4112","02","4112","021","非住宅建築（非木造）"]
["4121","01","4121","011","建設補修"]
["4131","01","4131","011","道路関係公共事業"]
["4131","02","4131","021","河川・下水道・その他の公共事業"]
["4131","03","4131","031","農林関係公共事業"]
["4191","01","4191","011","鉄道軌道建設"]
["4191","02","4191","021","電力施設建設"]
["4191","03","4191","031","電気通信施設建設"]
["4191","09","4191","099","その他の土木建設"]
[null,null,"4611","001","電気","46","電気・ガス・熱供給"]
["4611","01",null,null,"電気（火力（バイオマス・廃棄物を含む。））"]
["4611","02",null,null,"電気（原子力）"]
["4611","03",null,null,"電気（水力、地熱、太陽光、風力等）"]
["4621","01","4621","011","都市ガス"]
["4622","01","4622","011","熱供給業"]
["4711","01","4711","011","上水道・簡易水道","47","水道"]
["4711","02","4711","021","工業用水"]
["4711","03","4711","031","下水道★★"]
["4811","01","4811","011","廃棄物処理（公営）★★","48","廃棄物処理"]
["4811","02","4811","021","廃棄物処理"]
["5111","01","5111","011","卸売","51","商業"]
["5112","01","5112","011","小売"]
["5311","01",null,null,"金融","53","金融・保険"]
[null,null,"5311","011","公的金融（ＦＩＳＩＭ）"]
[null,null,"5311","012","民間金融（ＦＩＳＩＭ）"]
[null,null,"5311","013","公的金融（手数料）"]
[null,null,"5311","014","民間金融（手数料）"]
["5312","01","5312","011","生命保険"]
["5312","02","5312","021","損害保険"]
["5511","01","5511","011","不動産仲介・管理業","55","不動産"]
["5511","02","5511","021","不動産賃貸業"]
["5521","01","5521","011","住宅賃貸料"]
["5531","01","5531","011","住宅賃貸料（帰属家賃）"]
["5711","01","5711","011","鉄道旅客輸送","57","運輸・郵便"]
["5712","01","5712","011","鉄道貨物輸送"]
["5721","01","5721","011","バス"]
["5721","02","5721","021","ハイヤー・タクシー"]
["5722","01","5722","011","道路貨物輸送（自家輸送を除く。）"]
["5731","01P","5731","011P","自家輸送（旅客自動車）"]
["5732","01P","5732","011P","自家輸送（貨物自動車）"]
["5741","01","5741","011","外洋輸送"]
["5742","01",null,null,"沿海・内水面輸送"]
[null,null,"5742","011","沿海・内水面旅客輸送"]
[null,null,"5742","012","沿海・内水面貨物輸送"]
["5743","01","5743","011","港湾運送"]
["5751","01",null,null,"航空輸送"]
[null,null,"5751","011","国際航空輸送"]
[null,null,"5751","012","国内航空旅客輸送"]
[null,null,"5751","013","国内航空貨物輸送"]
[null,null,"5751","014","航空機使用事業"]
["5761","01","5761","011","貨物利用運送"]
["5771","01","5771","011","倉庫"]
["5781","01","5781","011","こん包"]
["5789","01","5789","011","道路輸送施設提供"]
["5789","02","5789","021","水運施設管理（国公営）★★"]
["5789","03","5789","031","水運施設管理"]
["5789","04","5789","041","水運附帯サービス"]
["5789","05","5789","051","航空施設管理（公営）★★"]
["5789","06","5789","061","航空施設管理"]
["5789","07","5789","071","航空附帯サービス"]
["5789","09","5789","099","旅行・その他の運輸附帯サービス"]
["5791","01","5791","011","郵便・信書便"]
["5911","01","5911","011","固定電気通信","59","情報通信"]
["5911","02","5911","021","移動電気通信"]
["5911","03","5911","031","電気通信に附帯するサービス"]
["5921","01","5921","011","公共放送"]
["5921","02","5921","021","民間放送"]
["5921","03","5921","031","有線放送"]
["5931","01",null,null,"情報サービス"]
[null,null,"5931","011","ソフトウェア業"]
[null,null,"5931","012","情報処理・提供サービス"]
["5941","01","5941","011","インターネット附随サービス"]
["5951","01","5951","011","映像・音声・文字情報制作（新聞・出版を除く。）"]
["5951","02","5951","021","新聞"]
["5951","03","5951","031","出版"]
["6111","01","6111","011","公務（中央）★★","61","公務"]
["6112","01","6112","011","公務（地方）★★"]
["6311","01","6311","011","学校教育（国公立）★★","63","教育・研究"]
["6311","02","6311","021","学校教育（私立）★"]
["6311","03","6311","031","学校給食（国公立）★★"]
["6311","04","6311","041","学校給食（私立）★"]
["6312","01","6312","011","社会教育（国公立）★★"]
["6312","02","6312","021","社会教育（非営利）★"]
["6312","03","6312","031","その他の教育訓練機関（国公立）★★"]
["6312","04","6312","041","その他の教育訓練機関"]
["6321","01","6321","011","自然科学研究機関（国公立）★★"]
["6321","02","6321","021","人文・社会科学研究機関（国公立）★★"]
["6321","03","6321","031","自然科学研究機関（非営利）★"]
["6321","04","6321","041","人文・社会科学研究機関（非営利）★"]
["6321","05","6321","051","自然科学研究機関"]
["6321","06","6321","061","人文・社会科学研究機関"]
["6322","01","6322","011","企業内研究開発"]
["6411","01","6411","011","医療（病院）","64","医療・福祉"]
["6411","02","6411","021","医療（一般診療所）"]
["6411","03","6411","031","医療（歯科診療）"]
["6411","04","6411","041","医療（調剤）"]
["6411","05","6411","051","医療（その他の医療サービス）"]
["6421","01","6421","011","保健衛生（国公立）★★"]
["6421","02","6421","021","保健衛生"]
["6431","01","6431","011","社会保険事業★★"]
["6431","02","6431","021","社会福祉（国公立）★★"]
["6431","03","6431","031","社会福祉（非営利）★"]
["6431","04","6431","041","社会福祉"]
["6431","05","6431","051","保育所"]
["6441","01","6441","011","介護（施設サービス）"]
["6441","02","6441","021","介護（施設サービスを除く。）"]
["6599","01","6599","011","会員制企業団体","65","他に分類されない会員制団体"]
["6599","02","6599","021","対家計民間非営利団体（別掲を除く。）★"]
["6611","01",null,null,"物品賃貸業（貸自動車を除く。）","66","対事業所サービス"]
[null,null,"6611","011","産業用機械器具（建設機械器具を除く。）賃貸業"]
[null,null,"6611","012","建設機械器具賃貸業"]
[null,null,"6611","013","電子計算機・同関連機器賃貸業"]
[null,null,"6611","014","事務用機械器具（電算機等を除く。）賃貸業"]
[null,null,"6611","015","スポーツ・娯楽用品・その他の物品賃貸業"]
["6612","01","6612","011","貸自動車業"]
["6621","01",null,null,"広告"]
[null,null,"6621","011","テレビ・ラジオ広告"]
[null,null,"6621","012","新聞・雑誌・その他の広告"]
["6631","10","6631","101","自動車整備"]
["6632","10","6632","101","機械修理"]
["6699","01","6699","011","法務・財務・会計サービス"]
["6699","02","6699","021","土木建築サービス"]
["6699","03","6699","031","労働者派遣サービス"]
["6699","04","6699","041","建物サービス"]
["6699","05","6699","051","警備業"]
["6699","06","6699","061","と畜場(公営)★★"]
["6699","07","6699","071","と畜場"]
["6699","09","6699","099","その他の対事業所サービス"]
["6711","01","6711","011","宿泊業","67","対個人サービス"]
["6721","01","6721","011","飲食店"]
["6721","02","6721","021","持ち帰り・配達飲食サービス"]
["6731","01","6731","011","洗濯業"]
["6731","02","6731","021","理容業"]
["6731","03","6731","031","美容業"]
["6731","04","6731","041","浴場業"]
["6731","09","6731","099","その他の洗濯・理容・美容・浴場業"]
["6741","01","6741","011","映画館"]
["6741","02","6741","021","興行場（映画館を除く。）・興行団"]
["6741","03","6741","031","競輪・競馬等の競走場・競技団"]
["6741","04","6741","041","スポーツ施設提供業・公園・遊園地"]
["6741","05","6741","051","遊戯場・その他の娯楽"]
["6751","01","6751","011","獣医業"]
["6799","01","6799","011","写真業"]
["6799","02","6799","021","冠婚葬祭業"]
["6799","03","6799","031","個人教授業"]
["6799","04","6799","041","各種修理業（別掲を除く。）"]
["6799","09","6799","099","その他の対個人サービス"]
["6811","00P","6811","000P","事務用品","68","事務用品"]
["6911","00","6911","000","分類不明","69","分類不明"]
["7000","00","7000","000","内生部門計","70","内生部門計"]

{"sheet":"R2汎用結果","index":6,"n_rows":21,"n_cols":5,"rows_kept":21,"cut":false,"hidden":false,"merged":[]}
["新規需要発生による市内波及の状況"]
[]
[null,"発生需要額",null,{"$f":"'R2汎用計算'!D43","v":0},"百万円"]
[null,"直接効果","市内生産額",{"$f":"'R2汎用計算'!E43","v":0},"百万円"]
[null,null,"粗付加価値額",{"$f":"'R2汎用計算'!F43","v":0},"百万円"]
[null,null,"雇用者誘発数",{"$f":"'R2汎用計算'!H43","v":0},"人"]
[null,"１次波及","生産誘発額",{"$f":"'R2汎用計算'!K43","v":0},"百万円"]
[null,null,"粗付加価値誘発額",{"$f":"'R2汎用計算'!L43","v":0},"百万円"]
[null,null,"雇用者誘発数",{"$f":"'R2汎用計算'!N43","v":0},"人"]
[null,"直接効果","生産誘発額",{"$f":"'R2汎用計算'!O43","v":0},"百万円"]
[null,"＋１次波及","粗付加価値誘発額",{"$f":"'R2汎用計算'!P43","v":0},"百万円"]
[null,null,"雇用者誘発数",{"$f":"'R2汎用計算'!R43","v":0},"人"]
[null,null,"雇用者所得合計額",{"$f":"'R2汎用計算'!Q43","v":0},"百万円"]
[null,null,"消費転換率",{"$f":"'R2汎用計算'!S45","v":0.55378261397054429}]
[null,null,"消費喚起額",{"$f":"'R2汎用計算'!S43","v":0},"百万円"]
[null,"２次波及","生産誘発額",{"$f":"'R2汎用計算'!U43","v":0},"百万円"]
[null,null,"粗付加価値誘発額",{"$f":"'R2汎用計算'!V43","v":0},"百万円"]
[null,null,"雇用者誘発数",{"$f":"'R2汎用計算'!X43","v":0},"人"]
[null,"直接効果","生産誘発額",{"$f":"D4+D7+D16","v":0},"百万円"]
[null,"＋１次波及","粗付加価値誘発額",{"$f":"D5+D8+D17","v":0},"百万円"]
[null,"＋２次波及","雇用者誘発数",{"$f":"D6+D9+D18","v":0},"人"]

{"sheet":"R2建設入力","index":7,"n_rows":83,"n_cols":3,"rows_kept":83,"cut":false,"hidden":false,"merged":[]}
["建設　入力シート"]
[]
["　A、B について、黄色のシートに数値を入力してください"]
[]
[]
[]
[]
[null,"消費転換率（0から1の間の値）",{"$f":"+消費転換率!$C$9","v":0.55378261397054429}]
[]
[null,null,"発生需要額"]
[null,null,"(百万円)"]
[null,"建設"]
[null,"　├建築"]
[null,"　│　├住宅建築"]
[null,"　│　│　├住宅建築（木造）"]
[null,"　│　│　│　├木造在来住宅"]
[null,"　│　│　│　├木造量産住宅"]
[null,"　│　│　├住宅建築（非木造）"]
[null,"　│　│　│　├ＳＲＣ住宅"]
[null,"　│　│　│　├ＲＣ住宅"]
[null,"　│　│　│　│　├ＲＣ在来住宅"]
[null,"　│　│　│　│　├ＲＣ量産住宅"]
[null,"　│　│　│　├Ｓ住宅"]
[null,"　│　│　│　│　├Ｓ在来住宅"]
[null,"　│　│　│　│　├Ｓ量産住宅"]
[null,"　│　│　│　├ＣＢ住宅"]
[null,"　│　├非住宅建築"]
[null,"　│　│　├非住宅建築（木造）"]
[null,"　│　│　│　├木造工場"]
[null,"　│　│　│　├木造事務所"]
[null,"　│　│　├非住宅建築（非木造）"]
[null,"　│　│　│　├ＳＲＣ工場"]
[null,"　│　│　│　├ＳＲＣ事務所"]
[null,"　│　│　│　├ＲＣ工場"]
[null,"　│　│　│　├ＲＣ学校"]
[null,"　│　│　│　├ＲＣ事務所"]
[null,"　│　│　│　├Ｓ工場"]
[null,"　│　│　│　├Ｓ事務所"]
[null,"　│　│　│　├ＣＢ非住宅"]
[null,"　├建築補修"]
[null,"　├土木"]
[null,"　│　├公共事業"]
[null,"　│　│　├道路関係公共事業"]
[null,"　│　│　│　├道路"]
[null,"　│　│　│　│　├一般道路"]
[null,"　│　│　│　│　│　├道路改良"]
[null,"　│　│　│　│　│　├道路舗装"]
[null,"　│　│　│　│　│　├道路橋梁"]
[null,"　│　│　│　│　│　├道路補修"]
[null,"　│　│　│　│　│　├街路改良"]
[null,"　│　│　│　│　│　├街路舗装"]
[null,"　│　│　│　│　│　├街路橋梁"]
[null,"　│　│　│　│　├有料道路"]
[null,"　│　│　│　│　│　├高速有料道路"]
[null,"　　　　　　　　　　　　　　東日本高速道路㈱、\n　│　│　│　│　│　│　├中日本高速道路㈱、\n　　　　　　　　　　　　　　西日本高速道路㈱"]
[null,"　│　│　│　│　│　│　├首都高速道路㈱"]
[null,"　│　│　│　│　│　│　├阪神高速道路㈱"]
[null,"　│　│　│　│　│　│　├本州四国連絡高速道路㈱"]
[null,"　│　│　│　│　│　├一般有料道路"]
[null,"　　　　　　　　　　　　　　東日本高速道路㈱、\n　│　│　│　│　│　│　├中日本高速道路㈱、\n　　　　　　　　　　　　　　西日本高速道路㈱"]
[null,"　│　│　│　│　│　│　├地方道路公社等"]
[null,"　│　│　│　├区画整理"]
[null,"　│　│　├河川・下水道・その他の公共事業"]
[null,"　│　│　├治水"]
[null,"　│　│　│　├河川改修"]
[null,"　│　│　│　├河川総合"]
[null,"　│　│　│　├海岸"]
[null,"　│　│　│　├砂防"]
[null,"　│　│　├下水道"]
[null,"　│　│　├港湾・漁港"]
[null,"　│　│　├空港"]
[null,"　│　│　├廃棄物処理施設"]
[null,"　│　│　├公園"]
[null,"　│　│　├災害復旧"]
[null,"　│　├農林関係公共事業"]
[null,"　│　├その他の土木建設"]
[null,"　│　│　├鉄道軌道建設"]
[null,"　│　│　├電力施設建設"]
[null,"　│　│　├電気通信施設建設"]
[null,"　│　│　│　├上・工業用水道"]
[null,"　│　│　│　├土地造成"]
[null,"　│　│　│　├その他の土木"]
[null,"計",{"$f":"SUM(C12:C82)","v":0}]

{"sheet":"R2建設io","index":8,"n_rows":56,"n_cols":155,"rows_kept":56,"cut":false,"hidden":false,"merged":[]}
[]
[]
[]
[]
[]
[null,null,null,null,1,2,3,4,5,6,7,8,9,10,11,12,13,14,15,16,17,18,19,20,21,22,23,24,25,26,27,28,"71",29,30,31,32,33,34,35,36,37,38,39,40,41,42,43,44,45,46,47,48,49,50,51,52,53,54,55,56,57,58,59,60,61,62,63,64,65,66,67,68,69,70,null,null,null,null,null,null,null,null,null,1,2,3,4,5,6,7,8,9,10,11,12,13,14,15,16,17,18,19,20,21,22,23,24,25,26,27,28,"71",29,30,31,32,33,34,35,36,37,38,39,40,41,42,43,44,45,46,47,48,49,50,51,52,53,54,55,56,57,58,59,60,61,62,63,64,65,66,67,68,69,70]
["産業別投入額",null,null,null,"建      設","建　　　築","住宅建築","住宅建築\n（木造）","木造在来\n住宅","木造量産\n住宅","住宅建築\n（非木造）","ＳＲＣ住宅","Ｒ Ｃ 住 宅","Ｒ Ｃ 在 来\n住       宅","Ｒ Ｃ 量 産\n住       宅","Ｓ  住  宅","Ｓ在来住宅","Ｓ量産住宅","Ｃ Ｂ 住 宅","非住宅建築","非住宅建築\n（ 木 造 ）","木 造 工 場","木造事務所","非住宅建築\n（非木造）","ＳＲＣ工場","Ｓ  Ｒ  Ｃ\n事  務  所","Ｒ Ｃ 工 場","Ｒ Ｃ 学 校","ＲＣ事務所","Ｓ  工  場","Ｓ 事 務 所","ＣＢ非住宅","建 築 補 修","土    木","公 共 事 業","道 路 関 係\n公 共 事 業","道    路","一 般 道 路","道 路 改 良","道 路 舗 装","道 路 橋 梁","道 路 補 修","街 路 改 良","街 路 舗 装","街 路 橋 梁","有 料 道 路","高 速 有 料\n道         路","東日本高速\n道路 （株）、\n中日本高速\n道路 （株）、\n西日本高速\n道路 （株）","首 都 高 速\n道 路 （株）","阪 神 高 速\n道 路 （株）","本 州 四 国 \n連 絡 高 速\n道 路 （株）","一 般 有 料\n道         路","東日本高速\n道路 （株）、\n中日本高速\n道路 （株）、\n西日本高速\n道路 （株）","地 方 公 社 等","区 画 整 理","河川・下水\n道・その他\nの公共事業","治     水","河 川 改 修","河 川 総 合 開 発","海     岸","砂     防","下 水 道","港湾・漁港","空     港","廃棄物処理\n施設","公     園","災 害 復 旧","農 林 関 係\n公 共 事 業","そ の 他 の\n土 木 建 設","鉄 道 軌 道\n建         設","電 力 施 設\n建         設","電 気 通 信\n施 設 建 設","上・工業用\n水       道","土 地 造 成","そ の 他 の\n土        木",null,null,null,null,null,null,null,null,null,"建      設","建　　　築","住宅建築","住宅建築\n（木造）","木造在来\n住宅","木造量産\n住宅","住宅建築\n（非木造）","ＳＲＣ住宅","Ｒ Ｃ 住 宅","Ｒ Ｃ 在 来\n住       宅","Ｒ Ｃ 量 産\n住       宅","Ｓ  住  宅","Ｓ在来住宅","Ｓ量産住宅","Ｃ Ｂ 住 宅","非住宅建築","非住宅建築\n（ 木 造 ）","木 造 工 場","木造事務所","非住宅建築\n（非木造）","ＳＲＣ工場","Ｓ  Ｒ  Ｃ\n事  務  所","Ｒ Ｃ 工 場","Ｒ Ｃ 学 校","ＲＣ事務所","Ｓ  工  場","Ｓ 事 務 所","ＣＢ非住宅","建 築 補 修","土    木","公 共 事 業","道 路 関 係\n公 共 事 業","道    路","一 般 道 路","道 路 改 良","道 路 舗 装","道 路 橋 梁","道 路 補 修","街 路 改 良","街 路 舗 装","街 路 橋 梁","有 料 道 路","高 速 有 料\n道         路","東日本高速\n道路 （株）、\n中日本高速\n道路 （株）、\n西日本高速\n道路 （株）","首 都 高 速\n道 路 （株）","阪 神 高 速\n道 路 （株）","本 州 四 国 \n連 絡 高 速\n道 路 （株）","一 般 有 料\n道         路","東日本高速\n道路 （株）、\n中日本高速\n道路 （株）、\n西日本高速\n道路 （株）","地 方 公 社 等","区 画 整 理","河川・下水\n道・その他\nの公共事業","治     水","河 川 改 修","河 川 総 合 開 発","海     岸","砂     防","下 水 道","港湾・漁港","空     港","廃棄物処理\n施設","公     園","災 害 復 旧","農 林 関 係\n公 共 事 業","そ の 他 の\n土 木 建 設","鉄 道 軌 道\n建         設","電 力 施 設\n建         設","電 気 通 信\n施 設 建 設","上・工業用\n水       道","土 地 造 成","そ の 他 の\n土        木"]
[{"$f":"SUM(E8:BW8)","v":0},null,"01","農林漁業",{"$f":"E$56*CG8","v":0},{"$f":"F$56*CH8","v":0},0,0,0,0,0,0,0,0,0,0,0,0,0,0,0,{"$f":"V$56*CX8","v":0},0,0,0,0,0,0,0,0,0,0,0,0,0,0,0,{"$f":"AL$56*DN8","v":0},0,0,0,0,0,0,0,0,0,0,0,0,0,0,0,{"$f":"BB$56*ED8","v":0},0,0,0,0,0,0,0,0,0,0,0,0,0,0,0,{"$f":"BR$56*ET8","v":0},0,0,0,0,0,null,null,null,null,null,null,null,{"$f":"+C8","v":"01"},{"$f":"+D8","v":"農林漁業"},{"$f":"+SUMIFS('R2建設IOデータ'!L:L,'R2建設IOデータ'!$A:$A,'R2建設io'!$CE8)/'R2建設IOデータ'!L$232","v":9.9224908050683292E-4},{"$f":"+SUMIFS('R2建設IOデータ'!M:M,'R2建設IOデータ'!$A:$A,'R2建設io'!$CE8)/'R2建設IOデータ'!M$232","v":7.0660424665546287E-4},{"$f":"+SUMIFS('R2建設IOデータ'!N:N,'R2建設IOデータ'!$A:$A,'R2建設io'!$CE8)/'R2建設IOデータ'!N$232","v":6.1860256707671674E-4},{"$f":"+SUMIFS('R2建設IOデータ'!O:O,'R2建設IOデータ'!$A:$A,'R2建設io'!$CE8)/'R2建設IOデータ'!O$232","v":2.0399746093112422E-4},{"$f":"+SUMIFS('R2建設IOデータ'!P:P,'R2建設IOデータ'!$A:$A,'R2建設io'!$CE8)/'R2建設IOデータ'!P$232","v":2.0016862488698951E-4},{"$f":"+SUMIFS('R2建設IOデータ'!Q:Q,'R2建設IOデータ'!$A:$A,'R2建設io'!$CE8)/'R2建設IOデータ'!Q$232","v":3.7819575412233371E-4},{"$f":"+SUMIFS('R2建設IOデータ'!R:R,'R2建設IOデータ'!$A:$A,'R2建設io'!$CE8)/'R2建設IOデータ'!R$232","v":1.2055616125353841E-3},{"$f":"+SUMIFS('R2建設IOデータ'!S:S,'R2建設IOデータ'!$A:$A,'R2建設io'!$CE8)/'R2建設IOデータ'!S$232","v":6.5460763619846639E-4},{"$f":"+SUMIFS('R2建設IOデータ'!T:T,'R2建設IOデータ'!$A:$A,'R2建設io'!$CE8)/'R2建設IOデータ'!T$232","v":1.37378989391707E-3},{"$f":"+SUMIFS('R2建設IOデータ'!U:U,'R2建設IOデータ'!$A:$A,'R2建設io'!$CE8)/'R2建設IOデータ'!U$232","v":1.3818027490380628E-3},{"$f":"+SUMIFS('R2建設IOデータ'!V:V,'R2建設IOデータ'!$A:$A,'R2建設io'!$CE8)/'R2建設IOデータ'!V$232","v":7.9614815938127911E-4},{"$f":"+SUMIFS('R2建設IOデータ'!W:W,'R2建設IOデータ'!$A:$A,'R2建設io'!$CE8)/'R2建設IOデータ'!W$232","v":9.9476458495174436E-4},{"$f":"+SUMIFS('R2建設IOデータ'!X:X,'R2建設IOデータ'!$A:$A,'R2建設io'!$CE8)/'R2建設IOデータ'!X$232","v":1.2093672970776793E-3},{"$f":"+SUMIFS('R2建設IOデータ'!Y:Y,'R2建設IOデータ'!$A:$A,'R2建設io'!$CE8)/'R2建設IOデータ'!Y$232","v":9.0620193162325102E-4},{"$f":"+SUMIFS('R2建設IOデータ'!Z:Z,'R2建設IOデータ'!$A:$A,'R2建設io'!$CE8)/'R2建設IOデータ'!Z$232","v":0},{"$f":"+SUMIFS('R2建設IOデータ'!AA:AA,'R2建設IOデータ'!$A:$A,'R2建設io'!$CE8)/'R2建設IOデータ'!AA$232","v":7.9861323847968174E-4},{"$f":"+SUMIFS('R2建設IOデータ'!AB:AB,'R2建設IOデータ'!$A:$A,'R2建設io'!$CE8)/'R2建設IOデータ'!AB$232","v":4.9631525108849775E-4},{"$f":"+SUMIFS('R2建設IOデータ'!AC:AC,'R2建設IOデータ'!$A:$A,'R2建設io'!$CE8)/'R2建設IOデータ'!AC$232","v":1.0993720535897292E-3},{"$f":"+SUMIFS('R2建設IOデータ'!AD:AD,'R2建設IOデータ'!$A:$A,'R2建設io'!$CE8)/'R2建設IOデータ'!AD$232","v":4.2013889297520709E-4},{"$f":"+SUMIFS('R2建設IOデータ'!AE:AE,'R2建設IOデータ'!$A:$A,'R2建設io'!$CE8)/'R2建設IOデータ'!AE$232","v":8.1914437556226136E-4},{"$f":"+SUMIFS('R2建設IOデータ'!AF:AF,'R2建設IOデータ'!$A:$A,'R2建設io'!$CE8)/'R2建設IOデータ'!AF$232","v":6.6069042149045757E-4},{"$f":"+SUMIFS('R2建設IOデータ'!AG:AG,'R2建設IOデータ'!$A:$A,'R2建設io'!$CE8)/'R2建設IOデータ'!AG$232","v":1.811922449719152E-4},{"$f":"+SUMIFS('R2建設IOデータ'!AH:AH,'R2建設IOデータ'!$A:$A,'R2建設io'!$CE8)/'R2建設IOデータ'!AH$232","v":5.3280181537775171E-4},{"$f":"+SUMIFS('R2建設IOデータ'!AI:AI,'R2建設IOデータ'!$A:$A,'R2建設io'!$CE8)/'R2建設IOデータ'!AI$232","v":1.4645301435484992E-3},{"$f":"+SUMIFS('R2建設IOデータ'!AJ:AJ,'R2建設IOデータ'!$A:$A,'R2建設io'!$CE8)/'R2建設IOデータ'!AJ$232","v":8.2177405404561417E-4},{"$f":"+SUMIFS('R2建設IOデータ'!AK:AK,'R2建設IOデータ'!$A:$A,'R2建設io'!$CE8)/'R2建設IOデータ'!AK$232","v":7.6304024140088549E-4},{"$f":"+SUMIFS('R2建設IOデータ'!AL:AL,'R2建設IOデータ'!$A:$A,'R2建設io'!$CE8)/'R2建設IOデータ'!AL$232","v":8.7358673013345498E-4},{"$f":"+SUMIFS('R2建設IOデータ'!AM:AM,'R2建設IOデータ'!$A:$A,'R2建設io'!$CE8)/'R2建設IOデータ'!AM$232","v":1.2046832059631819E-3},{"$f":"+SUMIFS('R2建設IOデータ'!AN:AN,'R2建設IOデータ'!$A:$A,'R2建設io'!$CE8)/'R2建設IOデータ'!AN$232","v":5.7627256516265737E-5},{"$f":"+SUMIFS('R2建設IOデータ'!AO:AO,'R2建設IOデータ'!$A:$A,'R2建設io'!$CE8)/'R2建設IOデータ'!AO$232","v":1.8038969967154169E-3},{"$f":"+SUMIFS('R2建設IOデータ'!AP:AP,'R2建設IOデータ'!$A:$A,'R2建設io'!$CE8)/'R2建設IOデータ'!AP$232","v":1.8242719427383829E-3},{"$f":"+SUMIFS('R2建設IOデータ'!AQ:AQ,'R2建設IOデータ'!$A:$A,'R2建設io'!$CE8)/'R2建設IOデータ'!AQ$232","v":2.5970109440269173E-3},{"$f":"+SUMIFS('R2建設IOデータ'!AR:AR,'R2建設IOデータ'!$A:$A,'R2建設io'!$CE8)/'R2建設IOデータ'!AR$232","v":2.6186972024381141E-3},{"$f":"+SUMIFS('R2建設IOデータ'!AS:AS,'R2建設IOデータ'!$A:$A,'R2建設io'!$CE8)/'R2建設IOデータ'!AS$232","v":1.7855938695035926E-3},{"$f":"+SUMIFS('R2建設IOデータ'!AT:AT,'R2建設IOデータ'!$A:$A,'R2建設io'!$CE8)/'R2建設IOデータ'!AT$232","v":3.4738470857193565E-3},{"$f":"+SUMIFS('R2建設IOデータ'!AU:AU,'R2建設IOデータ'!$A:$A,'R2建設io'!$CE8)/'R2建設IOデータ'!AU$232","v":2.0485040230342898E-4},{"$f":"+SUMIFS('R2建設IOデータ'!AV:AV,'R2建設IOデータ'!$A:$A,'R2建設io'!$CE8)/'R2建設IOデータ'!AV$232","v":7.0875941586883985E-5},{"$f":"+SUMIFS('R2建設IOデータ'!AW:AW,'R2建設IOデータ'!$A:$A,'R2建設io'!$CE8)/'R2建設IOデータ'!AW$232","v":7.6255528394695259E-4},{"$f":"+SUMIFS('R2建設IOデータ'!AX:AX,'R2建設IOデータ'!$A:$A,'R2建設io'!$CE8)/'R2建設IOデータ'!AX$232","v":4.0750626540883068E-4},{"$f":"+SUMIFS('R2建設IOデータ'!AY:AY,'R2建設IOデータ'!$A:$A,'R2建設io'!$CE8)/'R2建設IOデータ'!AY$232","v":3.3127208480565373E-4},{"$f":"+SUMIFS('R2建設IOデータ'!AZ:AZ,'R2建設IOデータ'!$A:$A,'R2建設io'!$CE8)/'R2建設IOデータ'!AZ$232","v":7.2849129452903034E-5},{"$f":"+SUMIFS('R2建設IOデータ'!BA:BA,'R2建設IOデータ'!$A:$A,'R2建設io'!$CE8)/'R2建設IOデータ'!BA$232","v":6.1218264939841699E-3},{"$f":"+SUMIFS('R2建設IOデータ'!BB:BB,'R2建設IOデータ'!$A:$A,'R2建設io'!$CE8)/'R2建設IOデータ'!BB$232","v":6.5351362110793818E-3},{"$f":"+SUMIFS('R2建設IOデータ'!BC:BC,'R2建設IOデータ'!$A:$A,'R2建設io'!$CE8)/'R2建設IOデータ'!BC$232","v":7.3743014273523391E-3},{"$f":"+SUMIFS('R2建設IOデータ'!BD:BD,'R2建設IOデータ'!$A:$A,'R2建設io'!$CE8)/'R2建設IOデータ'!BD$232","v":3.8438869384721833E-5},{"$f":"+SUMIFS('R2建設IOデータ'!BE:BE,'R2建設IOデータ'!$A:$A,'R2建設io'!$CE8)/'R2建設IOデータ'!BE$232","v":4.5892611289582376E-5},{"$f":"+SUMIFS('R2建設IOデータ'!BF:BF,'R2建設IOデータ'!$A:$A,'R2建設io'!$CE8)/'R2建設IOデータ'!BF$232","v":0},{"$f":"+SUMIFS('R2建設IOデータ'!BG:BG,'R2建設IOデータ'!$A:$A,'R2建設io'!$CE8)/'R2建設IOデータ'!BG$232","v":2.0553589606864121E-3},{"$f":"+SUMIFS('R2建設IOデータ'!BH:BH,'R2建設IOデータ'!$A:$A,'R2建設io'!$CE8)/'R2建設IOデータ'!BH$232","v":2.0946001917091701E-3},{"$f":"+SUMIFS('R2建設IOデータ'!BI:BI,'R2建設IOデータ'!$A:$A,'R2建設io'!$CE8)/'R2建設IOデータ'!BI$232","v":1.877480956978865E-3},{"$f":"+SUMIFS('R2建設IOデータ'!BJ:BJ,'R2建設IOデータ'!$A:$A,'R2建設io'!$CE8)/'R2建設IOデータ'!BJ$232","v":1.2923503199859393E-3},{"$f":"+SUMIFS('R2建設IOデータ'!BK:BK,'R2建設IOデータ'!$A:$A,'R2建設io'!$CE8)/'R2建設IOデータ'!BK$232","v":1.1434619615871633E-3},{"$f":"+SUMIFS('R2建設IOデータ'!BL:BL,'R2建設IOデータ'!$A:$A,'R2建設io'!$CE8)/'R2建設IOデータ'!BL$232","v":2.0027157267844308E-3},{"$f":"+SUMIFS('R2建設IOデータ'!BM:BM,'R2建設IOデータ'!$A:$A,'R2建設io'!$CE8)/'R2建設IOデータ'!BM$232","v":1.5801352867656703E-3},{"$f":"+SUMIFS('R2建設IOデータ'!BN:BN,'R2建設IOデータ'!$A:$A,'R2建設io'!$CE8)/'R2建設IOデータ'!BN$232","v":4.3038104052281643E-3},{"$f":"+SUMIFS('R2建設IOデータ'!BO:BO,'R2建設IOデータ'!$A:$A,'R2建設io'!$CE8)/'R2建設IOデータ'!BO$232","v":5.6874409927996995E-6},{"$f":"+SUMIFS('R2建設IOデータ'!BP:BP,'R2建設IOデータ'!$A:$A,'R2建設io'!$CE8)/'R2建設IOデータ'!BP$232","v":3.3043637781191956E-3},{"$f":"+SUMIFS('R2建設IOデータ'!BQ:BQ,'R2建設IOデータ'!$A:$A,'R2建設io'!$CE8)/'R2建設IOデータ'!BQ$232","v":2.5794225704633762E-5},{"$f":"+SUMIFS('R2建設IOデータ'!BR:BR,'R2建設IOデータ'!$A:$A,'R2建設io'!$CE8)/'R2建設IOデータ'!BR$232","v":2.3466062207532355E-4},{"$f":"+SUMIFS('R2建設IOデータ'!BS:BS,'R2建設IOデータ'!$A:$A,'R2建設io'!$CE8)/'R2建設IOデータ'!BS$232","v":2.0093501761530322E-4},{"$f":"+SUMIFS('R2建設IOデータ'!BT:BT,'R2建設IOデータ'!$A:$A,'R2建設io'!$CE8)/'R2建設IOデータ'!BT$232","v":1.3255042851377337E-4},{"$f":"+SUMIFS('R2建設IOデータ'!BU:BU,'R2建設IOデータ'!$A:$A,'R2建設io'!$CE8)/'R2建設IOデータ'!BU$232","v":4.9800391662356835E-3},{"$f":"+SUMIFS('R2建設IOデータ'!BV:BV,'R2建設IOデータ'!$A:$A,'R2建設io'!$CE8)/'R2建設IOデータ'!BV$232","v":1.2184010238793159E-3},{"$f":"+SUMIFS('R2建設IOデータ'!BW:BW,'R2建設IOデータ'!$A:$A,'R2建設io'!$CE8)/'R2建設IOデータ'!BW$232","v":1.4733382913913646E-3},{"$f":"+SUMIFS('R2建設IOデータ'!BX:BX,'R2建設IOデータ'!$A:$A,'R2建設io'!$CE8)/'R2建設IOデータ'!BX$232","v":1.7751536139305097E-3},{"$f":"+SUMIFS('R2建設IOデータ'!BY:BY,'R2建設IOデータ'!$A:$A,'R2建設io'!$CE8)/'R2建設IOデータ'!BY$232","v":2.3594713219948353E-4},{"$f":"+SUMIFS('R2建設IOデータ'!BZ:BZ,'R2建設IOデータ'!$A:$A,'R2建設io'!$CE8)/'R2建設IOデータ'!BZ$232","v":5.7945958860443152E-4},{"$f":"+SUMIFS('R2建設IOデータ'!CA:CA,'R2建設IOデータ'!$A:$A,'R2建設io'!$CE8)/'R2建設IOデータ'!CA$232","v":1.1220325696851393E-4},{"$f":"+SUMIFS('R2建設IOデータ'!CB:CB,'R2建設IOデータ'!$A:$A,'R2建設io'!$CE8)/'R2建設IOデータ'!CB$232","v":1.0243093329415056E-4},{"$f":"+SUMIFS('R2建設IOデータ'!CC:CC,'R2建設IOデータ'!$A:$A,'R2建設io'!$CE8)/'R2建設IOデータ'!CC$232","v":1.0328184689128261E-3},{"$f":"+SUMIFS('R2建設IOデータ'!CD:CD,'R2建設IOデータ'!$A:$A,'R2建設io'!$CE8)/'R2建設IOデータ'!CD$232","v":5.0970762664752055E-3}]
[0,null,"06","鉱業",{"$f":"E$56*CG9","v":0},0,0,0,0,0,0,0,0,0,0,0,0,0,0,0,0,0,0,0,0,0,0,0,0,0,0,0,0,0,0,0,0,0,0,0,0,0,0,0,0,0,0,0,0,0,0,0,0,0,0,0,0,0,0,0,0,0,0,0,0,0,0,0,0,0,0,0,0,0,0,null,null,null,null,null,null,null,{"$f":"+C9","v":"06"},"鉱業",{"$f":"+SUMIFS('R2建設IOデータ'!L:L,'R2建設IOデータ'!$A:$A,'R2建設io'!$CE9)/'R2建設IOデータ'!L$232","v":2.0066946137467997E-3},{"$f":"+SUMIFS('R2建設IOデータ'!M:M,'R2建設IOデータ'!$A:$A,'R2建設io'!$CE9)/'R2建設IOデータ'!M$232","v":1.0636260236194432E-3},{"$f":"+SUMIFS('R2建設IOデータ'!N:N,'R2建設IOデータ'!$A:$A,'R2建設io'!$CE9)/'R2建設IOデータ'!N$232","v":1.2525859849941369E-3},{"$f":"+SUMIFS('R2建設IOデータ'!O:O,'R2建設IOデータ'!$A:$A,'R2建設io'!$CE9)/'R2建設IOデータ'!O$232","v":1.2304918616292055E-3},{"$f":"+SUMIFS('R2建設IOデータ'!P:P,'R2建設IOデータ'!$A:$A,'R2建設io'!$CE9)/'R2建設IOデータ'!P$232","v":1.2443483674453109E-3},{"$f":"+SUMIFS('R2建設IOデータ'!Q:Q,'R2建設IOデータ'!$A:$A,'R2建設io'!$CE9)/'R2建設IOデータ'!Q$232","v":6.0007059654076955E-4},{"$f":"+SUMIFS('R2建設IOデータ'!R:R,'R2建設IOデータ'!$A:$A,'R2建設io'!$CE9)/'R2建設IOデータ'!R$232","v":1.283864773818248E-3},{"$f":"+SUMIFS('R2建設IOデータ'!S:S,'R2建設IOデータ'!$A:$A,'R2建設io'!$CE9)/'R2建設IOデータ'!S$232","v":8.6835706842653695E-4},{"$f":"+SUMIFS('R2建設IOデータ'!T:T,'R2建設IOデータ'!$A:$A,'R2建設io'!$CE9)/'R2建設IOデータ'!T$232","v":1.3877949258731814E-3},{"$f":"+SUMIFS('R2建設IOデータ'!U:U,'R2建設IOデータ'!$A:$A,'R2建設io'!$CE9)/'R2建設IOデータ'!U$232","v":1.3815397989430983E-3},{"$f":"+SUMIFS('R2建設IOデータ'!V:V,'R2建設IOデータ'!$A:$A,'R2建設io'!$CE9)/'R2建設IOデータ'!V$232","v":1.8387231299996209E-3},{"$f":"+SUMIFS('R2建設IOデータ'!W:W,'R2建設IOデータ'!$A:$A,'R2建設io'!$CE9)/'R2建設IOデータ'!W$232","v":1.1555306092555977E-3},{"$f":"+SUMIFS('R2建設IOデータ'!X:X,'R2建設IOデータ'!$A:$A,'R2建設io'!$CE9)/'R2建設IOデータ'!X$232","v":8.1530379578270522E-4},{"$f":"+SUMIFS('R2建設IOデータ'!Y:Y,'R2建設IOデータ'!$A:$A,'R2建設io'!$CE9)/'R2建設IOデータ'!Y$232","v":1.2959360544438942E-3},{"$f":"+SUMIFS('R2建設IOデータ'!Z:Z,'R2建設IOデータ'!$A:$A,'R2建設io'!$CE9)/'R2建設IOデータ'!Z$232","v":5.525123525975974E-4},{"$f":"+SUMIFS('R2建設IOデータ'!AA:AA,'R2建設IOデータ'!$A:$A,'R2建設io'!$CE9)/'R2建設IOデータ'!AA$232","v":8.6606143593823365E-4},{"$f":"+SUMIFS('R2建設IOデータ'!AB:AB,'R2建設IOデータ'!$A:$A,'R2建設io'!$CE9)/'R2建設IOデータ'!AB$232","v":1.8494273566876651E-3},{"$f":"+SUMIFS('R2建設IOデータ'!AC:AC,'R2建設IOデータ'!$A:$A,'R2建設io'!$CE9)/'R2建設IOデータ'!AC$232","v":4.3788547897218033E-3},{"$f":"+SUMIFS('R2建設IOデータ'!AD:AD,'R2建設IOデータ'!$A:$A,'R2建設io'!$CE9)/'R2建設IOデータ'!AD$232","v":1.5299175374447317E-3},{"$f":"+SUMIFS('R2建設IOデータ'!AE:AE,'R2建設IOデータ'!$A:$A,'R2建設io'!$CE9)/'R2建設IOデータ'!AE$232","v":7.9927428761654255E-4},{"$f":"+SUMIFS('R2建設IOデータ'!AF:AF,'R2建設IOデータ'!$A:$A,'R2建設io'!$CE9)/'R2建設IOデータ'!AF$232","v":7.3576887847800955E-4},{"$f":"+SUMIFS('R2建設IOデータ'!AG:AG,'R2建設IOデータ'!$A:$A,'R2建設io'!$CE9)/'R2建設IOデータ'!AG$232","v":4.9525880292323489E-4},{"$f":"+SUMIFS('R2建設IOデータ'!AH:AH,'R2建設IOデータ'!$A:$A,'R2建設io'!$CE9)/'R2建設IOデータ'!AH$232","v":8.6660536236140336E-4},{"$f":"+SUMIFS('R2建設IOデータ'!AI:AI,'R2建設IOデータ'!$A:$A,'R2建設io'!$CE9)/'R2建設IOデータ'!AI$232","v":9.7362618481715876E-4},{"$f":"+SUMIFS('R2建設IOデータ'!AJ:AJ,'R2建設IOデータ'!$A:$A,'R2建設io'!$CE9)/'R2建設IOデータ'!AJ$232","v":8.4971437188316511E-4},{"$f":"+SUMIFS('R2建設IOデータ'!AK:AK,'R2建設IOデータ'!$A:$A,'R2建設io'!$CE9)/'R2建設IOデータ'!AK$232","v":9.5633716924197908E-4},{"$f":"+SUMIFS('R2建設IOデータ'!AL:AL,'R2建設IOデータ'!$A:$A,'R2建設io'!$CE9)/'R2建設IOデータ'!AL$232","v":6.7531738973177673E-4},{"$f":"+SUMIFS('R2建設IOデータ'!AM:AM,'R2建設IOデータ'!$A:$A,'R2建設io'!$CE9)/'R2建設IOデータ'!AM$232","v":5.8728306290705117E-4},{"$f":"+SUMIFS('R2建設IOデータ'!AN:AN,'R2建設IOデータ'!$A:$A,'R2建設io'!$CE9)/'R2建設IOデータ'!AN$232","v":1.5788692218997294E-4},{"$f":"+SUMIFS('R2建設IOデータ'!AO:AO,'R2建設IOデータ'!$A:$A,'R2建設io'!$CE9)/'R2建設IOデータ'!AO$232","v":4.127526400099191E-3},{"$f":"+SUMIFS('R2建設IOデータ'!AP:AP,'R2建設IOデータ'!$A:$A,'R2建設io'!$CE9)/'R2建設IOデータ'!AP$232","v":4.05777163835254E-3},{"$f":"+SUMIFS('R2建設IOデータ'!AQ:AQ,'R2建設IOデータ'!$A:$A,'R2建設io'!$CE9)/'R2建設IOデータ'!AQ$232","v":3.1874789012934679E-3},{"$f":"+SUMIFS('R2建設IOデータ'!AR:AR,'R2建設IOデータ'!$A:$A,'R2建設io'!$CE9)/'R2建設IOデータ'!AR$232","v":3.1440520618588592E-3},{"$f":"+SUMIFS('R2建設IOデータ'!AS:AS,'R2建設IOデータ'!$A:$A,'R2建設io'!$CE9)/'R2建設IOデータ'!AS$232","v":3.428876290508507E-3},{"$f":"+SUMIFS('R2建設IOデータ'!AT:AT,'R2建設IOデータ'!$A:$A,'R2建設io'!$CE9)/'R2建設IOデータ'!AT$232","v":5.4008957809758241E-3},{"$f":"+SUMIFS('R2建設IOデータ'!AU:AU,'R2建設IOデータ'!$A:$A,'R2建設io'!$CE9)/'R2建設IOデータ'!AU$232","v":1.4111916603125106E-3},{"$f":"+SUMIFS('R2建設IOデータ'!AV:AV,'R2建設IOデータ'!$A:$A,'R2建設io'!$CE9)/'R2建設IOデータ'!AV$232","v":6.7757400157061084E-4},{"$f":"+SUMIFS('R2建設IOデータ'!AW:AW,'R2建設IOデータ'!$A:$A,'R2建設io'!$CE9)/'R2建設IOデータ'!AW$232","v":2.2981549203958365E-3},{"$f":"+SUMIFS('R2建設IOデータ'!AX:AX,'R2建設IOデータ'!$A:$A,'R2建設io'!$CE9)/'R2建設IOデータ'!AX$232","v":2.220909146478127E-3},{"$f":"+SUMIFS('R2建設IOデータ'!AY:AY,'R2建設IOデータ'!$A:$A,'R2建設io'!$CE9)/'R2建設IOデータ'!AY$232","v":2.4293286219081271E-3},{"$f":"+SUMIFS('R2建設IOデータ'!AZ:AZ,'R2建設IOデータ'!$A:$A,'R2建設io'!$CE9)/'R2建設IOデータ'!AZ$232","v":8.7418955343483641E-4},{"$f":"+SUMIFS('R2建設IOデータ'!BA:BA,'R2建設IOデータ'!$A:$A,'R2建設io'!$CE9)/'R2建設IOデータ'!BA$232","v":1.9463901886191631E-3},{"$f":"+SUMIFS('R2建設IOデータ'!BB:BB,'R2建設IOデータ'!$A:$A,'R2建設io'!$CE9)/'R2建設IOデータ'!BB$232","v":1.8328337383304659E-3},{"$f":"+SUMIFS('R2建設IOデータ'!BC:BC,'R2建設IOデータ'!$A:$A,'R2建設io'!$CE9)/'R2建設IOデータ'!BC$232","v":2.064982415384119E-3},{"$f":"+SUMIFS('R2建設IOデータ'!BD:BD,'R2建設IOデータ'!$A:$A,'R2建設io'!$CE9)/'R2建設IOデータ'!BD$232","v":2.5625912923147888E-5},{"$f":"+SUMIFS('R2建設IOデータ'!BE:BE,'R2建設IOデータ'!$A:$A,'R2建設io'!$CE9)/'R2建設IOデータ'!BE$232","v":0},{"$f":"+SUMIFS('R2建設IOデータ'!BF:BF,'R2建設IOデータ'!$A:$A,'R2建設io'!$CE9)/'R2建設IOデータ'!BF$232","v":1.2354067576749646E-4},{"$f":"+SUMIFS('R2建設IOデータ'!BG:BG,'R2建設IOデータ'!$A:$A,'R2建設io'!$CE9)/'R2建設IOデータ'!BG$232","v":3.0636482621552185E-3},{"$f":"+SUMIFS('R2建設IOデータ'!BH:BH,'R2建設IOデータ'!$A:$A,'R2建設io'!$CE9)/'R2建設IOデータ'!BH$232","v":3.1123155390932866E-3},{"$f":"+SUMIFS('R2建設IOデータ'!BI:BI,'R2建設IOデータ'!$A:$A,'R2建設io'!$CE9)/'R2建設IOデータ'!BI$232","v":2.8430425919965668E-3},{"$f":"+SUMIFS('R2建設IOデータ'!BJ:BJ,'R2建設IOデータ'!$A:$A,'R2建設io'!$CE9)/'R2建設IOデータ'!BJ$232","v":5.8000682360968949E-3},{"$f":"+SUMIFS('R2建設IOデータ'!BK:BK,'R2建設IOデータ'!$A:$A,'R2建設io'!$CE9)/'R2建設IOデータ'!BK$232","v":4.6317924447466241E-3},{"$f":"+SUMIFS('R2建設IOデータ'!BL:BL,'R2建設IOデータ'!$A:$A,'R2建設io'!$CE9)/'R2建設IOデータ'!BL$232","v":3.8589344578637461E-3},{"$f":"+SUMIFS('R2建設IOデータ'!BM:BM,'R2建設IOデータ'!$A:$A,'R2建設io'!$CE9)/'R2建設IOデータ'!BM$232","v":3.9194151392591917E-3},{"$f":"+SUMIFS('R2建設IOデータ'!BN:BN,'R2建設IOデータ'!$A:$A,'R2建設io'!$CE9)/'R2建設IOデータ'!BN$232","v":8.2328827012939816E-4},{"$f":"+SUMIFS('R2建設IOデータ'!BO:BO,'R2建設IOデータ'!$A:$A,'R2建設io'!$CE9)/'R2建設IOデータ'!BO$232","v":1.4485912208660835E-2},{"$f":"+SUMIFS('R2建設IOデータ'!BP:BP,'R2建設IOデータ'!$A:$A,'R2建設io'!$CE9)/'R2建設IOデータ'!BP$232","v":5.9620720493476118E-4},{"$f":"+SUMIFS('R2建設IOデータ'!BQ:BQ,'R2建設IOデータ'!$A:$A,'R2建設io'!$CE9)/'R2建設IOデータ'!BQ$232","v":2.3111626231351848E-3},{"$f":"+SUMIFS('R2建設IOデータ'!BR:BR,'R2建設IOデータ'!$A:$A,'R2建設io'!$CE9)/'R2建設IOデータ'!BR$232","v":1.1123912042208955E-2},{"$f":"+SUMIFS('R2建設IOデータ'!BS:BS,'R2建設IOデータ'!$A:$A,'R2建設io'!$CE9)/'R2建設IOデータ'!BS$232","v":7.7159046764276431E-3},{"$f":"+SUMIFS('R2建設IOデータ'!BT:BT,'R2建設IOデータ'!$A:$A,'R2建設io'!$CE9)/'R2建設IOデータ'!BT$232","v":4.8469932814738026E-3},{"$f":"+SUMIFS('R2建設IOデータ'!BU:BU,'R2建設IOデータ'!$A:$A,'R2建設io'!$CE9)/'R2建設IOデータ'!BU$232","v":2.8764520271723024E-3},{"$f":"+SUMIFS('R2建設IOデータ'!BV:BV,'R2建設IOデータ'!$A:$A,'R2建設io'!$CE9)/'R2建設IOデータ'!BV$232","v":3.6494423102957285E-3},{"$f":"+SUMIFS('R2建設IOデータ'!BW:BW,'R2建設IOデータ'!$A:$A,'R2建設io'!$CE9)/'R2建設IOデータ'!BW$232","v":5.4254295373270542E-3},{"$f":"+SUMIFS('R2建設IOデータ'!BX:BX,'R2建設IOデータ'!$A:$A,'R2建設io'!$CE9)/'R2建設IOデータ'!BX$232","v":4.2259309708742006E-3},{"$f":"+SUMIFS('R2建設IOデータ'!BY:BY,'R2建設IOデータ'!$A:$A,'R2建設io'!$CE9)/'R2建設IOデータ'!BY$232","v":1.8751930920936854E-3},{"$f":"+SUMIFS('R2建設IOデータ'!BZ:BZ,'R2建設IOデータ'!$A:$A,'R2建設io'!$CE9)/'R2建設IOデータ'!BZ$232","v":2.6633572071789943E-3},{"$f":"+SUMIFS('R2建設IOデータ'!CA:CA,'R2建設IOデータ'!$A:$A,'R2建設io'!$CE9)/'R2建設IOデータ'!CA$232","v":1.427901722243143E-3},{"$f":"+SUMIFS('R2建設IOデータ'!CB:CB,'R2建設IOデータ'!$A:$A,'R2建設io'!$CE9)/'R2建設IOデータ'!CB$232","v":3.4233124327134731E-3},{"$f":"+SUMIFS('R2建設IOデータ'!CC:CC,'R2建設IOデータ'!$A:$A,'R2建設io'!$CE9)/'R2建設IOデータ'!CC$232","v":1.1096177909601901E-2},{"$f":"+SUMIFS('R2建設IOデータ'!CD:CD,'R2建設IOデータ'!$A:$A,'R2建設io'!$CE9)/'R2建設IOデータ'!CD$232","v":6.4712666314459232E-3}]
[0,null,"11","飲食料品",0,0,0,0,0,0,0,0,0,0,0,0,0,0,0,0,0,0,0,0,0,0,0,0,0,0,0,0,0,0,0,0,0,0,0,0,0,0,0,0,0,0,0,0,0,0,0,0,0,0,0,0,0,0,0,0,0,0,0,0,0,0,0,0,0,0,0,0,0,0,0,null,null,null,null,null,null,null,"11","飲食料品",{"$f":"+SUMIFS('R2建設IOデータ'!L:L,'R2建設IOデータ'!$A:$A,'R2建設io'!$CE10)/'R2建設IOデータ'!L$232","v":2.9354061516674334E-5},{"$f":"+SUMIFS('R2建設IOデータ'!M:M,'R2建設IOデータ'!$A:$A,'R2建設io'!$CE10)/'R2建設IOデータ'!M$232","v":0},{"$f":"+SUMIFS('R2建設IOデータ'!N:N,'R2建設IOデータ'!$A:$A,'R2建設io'!$CE10)/'R2建設IOデータ'!N$232","v":0},{"$f":"+SUMIFS('R2建設IOデータ'!O:O,'R2建設IOデータ'!$A:$A,'R2建設io'!$CE10)/'R2建設IOデータ'!O$232","v":0},{"$f":"+SUMIFS('R2建設IOデータ'!P:P,'R2建設IOデータ'!$A:$A,'R2建設io'!$CE10)/'R2建設IOデータ'!P$232","v":0},{"$f":"+SUMIFS('R2建設IOデータ'!Q:Q,'R2建設IOデータ'!$A:$A,'R2建設io'!$CE10)/'R2建設IOデータ'!Q$232","v":0},{"$f":"+SUMIFS('R2建設IOデータ'!R:R,'R2建設IOデータ'!$A:$A,'R2建設io'!$CE10)/'R2建設IOデータ'!R$232","v":0},{"$f":"+SUMIFS('R2建設IOデータ'!S:S,'R2建設IOデータ'!$A:$A,'R2建設io'!$CE10)/'R2建設IOデータ'!S$232","v":0},{"$f":"+SUMIFS('R2建設IOデータ'!T:T,'R2建設IOデータ'!$A:$A,'R2建設io'!$CE10)/'R2建設IOデータ'!T$232","v":0},{"$f":"+SUMIFS('R2建設IOデータ'!U:U,'R2建設IOデータ'!$A:$A,'R2建設io'!$CE10)/'R2建設IOデータ'!U$232","v":0},{"$f":"+SUMIFS('R2建設IOデータ'!V:V,'R2建設IOデータ'!$A:$A,'R2建設io'!$CE10)/'R2建設IOデータ'!V$232","v":0},{"$f":"+SUMIFS('R2建設IOデータ'!W:W,'R2建設IOデータ'!$A:$A,'R2建設io'!$CE10)/'R2建設IOデータ'!W$232","v":0},{"$f":"+SUMIFS('R2建設IOデータ'!X:X,'R2建設IOデータ'!$A:$A,'R2建設io'!$CE10)/'R2建設IOデータ'!X$232","v":0},{"$f":"+SUMIFS('R2建設IOデータ'!Y:Y,'R2建設IOデータ'!$A:$A,'R2建設io'!$CE10)/'R2建設IOデータ'!Y$232","v":0},{"$f":"+SUMIFS('R2建設IOデータ'!Z:Z,'R2建設IOデータ'!$A:$A,'R2建設io'!$CE10)/'R2建設IOデータ'!Z$232","v":0},{"$f":"+SUMIFS('R2建設IOデータ'!AA:AA,'R2建設IOデータ'!$A:$A,'R2建設io'!$CE10)/'R2建設IOデータ'!AA$232","v":0},{"$f":"+SUMIFS('R2建設IOデータ'!AB:AB,'R2建設IOデータ'!$A:$A,'R2建設io'!$CE10)/'R2建設IOデータ'!AB$232","v":0},{"$f":"+SUMIFS('R2建設IOデータ'!AC:AC,'R2建設IOデータ'!$A:$A,'R2建設io'!$CE10)/'R2建設IOデータ'!AC$232","v":0},{"$f":"+SUMIFS('R2建設IOデータ'!AD:AD,'R2建設IOデータ'!$A:$A,'R2建設io'!$CE10)/'R2建設IOデータ'!AD$232","v":0},{"$f":"+SUMIFS('R2建設IOデータ'!AE:AE,'R2建設IOデータ'!$A:$A,'R2建設io'!$CE10)/'R2建設IOデータ'!AE$232","v":0},{"$f":"+SUMIFS('R2建設IOデータ'!AF:AF,'R2建設IOデータ'!$A:$A,'R2建設io'!$CE10)/'R2建設IOデータ'!AF$232","v":0},{"$f":"+SUMIFS('R2建設IOデータ'!AG:AG,'R2建設IOデータ'!$A:$A,'R2建設io'!$CE10)/'R2建設IOデータ'!AG$232","v":0},{"$f":"+SUMIFS('R2建設IOデータ'!AH:AH,'R2建設IOデータ'!$A:$A,'R2建設io'!$CE10)/'R2建設IOデータ'!AH$232","v":0},{"$f":"+SUMIFS('R2建設IOデータ'!AI:AI,'R2建設IOデータ'!$A:$A,'R2建設io'!$CE10)/'R2建設IOデータ'!AI$232","v":0},{"$f":"+SUMIFS('R2建設IOデータ'!AJ:AJ,'R2建設IOデータ'!$A:$A,'R2建設io'!$CE10)/'R2建設IOデータ'!AJ$232","v":0},{"$f":"+SUMIFS('R2建設IOデータ'!AK:AK,'R2建設IOデータ'!$A:$A,'R2建設io'!$CE10)/'R2建設IOデータ'!AK$232","v":0},{"$f":"+SUMIFS('R2建設IOデータ'!AL:AL,'R2建設IOデータ'!$A:$A,'R2建設io'!$CE10)/'R2建設IOデータ'!AL$232","v":0},{"$f":"+SUMIFS('R2建設IOデータ'!AM:AM,'R2建設IOデータ'!$A:$A,'R2建設io'!$CE10)/'R2建設IOデータ'!AM$232","v":0},{"$f":"+SUMIFS('R2建設IOデータ'!AN:AN,'R2建設IOデータ'!$A:$A,'R2建設io'!$CE10)/'R2建設IOデータ'!AN$232","v":0},{"$f":"+SUMIFS('R2建設IOデータ'!AO:AO,'R2建設IOデータ'!$A:$A,'R2建設io'!$CE10)/'R2建設IOデータ'!AO$232","v":8.2629349138890146E-5},{"$f":"+SUMIFS('R2建設IOデータ'!AP:AP,'R2建設IOデータ'!$A:$A,'R2建設io'!$CE10)/'R2建設IOデータ'!AP$232","v":1.4120173573709235E-4},{"$f":"+SUMIFS('R2建設IOデータ'!AQ:AQ,'R2建設IOデータ'!$A:$A,'R2建設io'!$CE10)/'R2建設IOデータ'!AQ$232","v":0},{"$f":"+SUMIFS('R2建設IOデータ'!AR:AR,'R2建設IOデータ'!$A:$A,'R2建設io'!$CE10)/'R2建設IOデータ'!AR$232","v":0},{"$f":"+SUMIFS('R2建設IOデータ'!AS:AS,'R2建設IOデータ'!$A:$A,'R2建設io'!$CE10)/'R2建設IOデータ'!AS$232","v":0},{"$f":"+SUMIFS('R2建設IOデータ'!AT:AT,'R2建設IOデータ'!$A:$A,'R2建設io'!$CE10)/'R2建設IOデータ'!AT$232","v":0},{"$f":"+SUMIFS('R2建設IOデータ'!AU:AU,'R2建設IOデータ'!$A:$A,'R2建設io'!$CE10)/'R2建設IOデータ'!AU$232","v":0},{"$f":"+SUMIFS('R2建設IOデータ'!AV:AV,'R2建設IOデータ'!$A:$A,'R2建設io'!$CE10)/'R2建設IOデータ'!AV$232","v":0},{"$f":"+SUMIFS('R2建設IOデータ'!AW:AW,'R2建設IOデータ'!$A:$A,'R2建設io'!$CE10)/'R2建設IOデータ'!AW$232","v":0},{"$f":"+SUMIFS('R2建設IOデータ'!AX:AX,'R2建設IOデータ'!$A:$A,'R2建設io'!$CE10)/'R2建設IOデータ'!AX$232","v":0},{"$f":"+SUMIFS('R2建設IOデータ'!AY:AY,'R2建設IOデータ'!$A:$A,'R2建設io'!$CE10)/'R2建設IOデータ'!AY$232","v":0},{"$f":"+SUMIFS('R2建設IOデータ'!AZ:AZ,'R2建設IOデータ'!$A:$A,'R2建設io'!$CE10)/'R2建設IOデータ'!AZ$232","v":0},{"$f":"+SUMIFS('R2建設IOデータ'!BA:BA,'R2建設IOデータ'!$A:$A,'R2建設io'!$CE10)/'R2建設IOデータ'!BA$232","v":0},{"$f":"+SUMIFS('R2建設IOデータ'!BB:BB,'R2建設IOデータ'!$A:$A,'R2建設io'!$CE10)/'R2建設IOデータ'!BB$232","v":0},{"$f":"+SUMIFS('R2建設IOデータ'!BC:BC,'R2建設IOデータ'!$A:$A,'R2建設io'!$CE10)/'R2建設IOデータ'!BC$232","v":0},{"$f":"+SUMIFS('R2建設IOデータ'!BD:BD,'R2建設IOデータ'!$A:$A,'R2建設io'!$CE10)/'R2建設IOデータ'!BD$232","v":0},{"$f":"+SUMIFS('R2建設IOデータ'!BE:BE,'R2建設IOデータ'!$A:$A,'R2建設io'!$CE10)/'R2建設IOデータ'!BE$232","v":0},{"$f":"+SUMIFS('R2建設IOデータ'!BF:BF,'R2建設IOデータ'!$A:$A,'R2建設io'!$CE10)/'R2建設IOデータ'!BF$232","v":0},{"$f":"+SUMIFS('R2建設IOデータ'!BG:BG,'R2建設IOデータ'!$A:$A,'R2建設io'!$CE10)/'R2建設IOデータ'!BG$232","v":0},{"$f":"+SUMIFS('R2建設IOデータ'!BH:BH,'R2建設IOデータ'!$A:$A,'R2建設io'!$CE10)/'R2建設IOデータ'!BH$232","v":0},{"$f":"+SUMIFS('R2建設IOデータ'!BI:BI,'R2建設IOデータ'!$A:$A,'R2建設io'!$CE10)/'R2建設IOデータ'!BI$232","v":0},{"$f":"+SUMIFS('R2建設IOデータ'!BJ:BJ,'R2建設IOデータ'!$A:$A,'R2建設io'!$CE10)/'R2建設IOデータ'!BJ$232","v":0},{"$f":"+SUMIFS('R2建設IOデータ'!BK:BK,'R2建設IOデータ'!$A:$A,'R2建設io'!$CE10)/'R2建設IOデータ'!BK$232","v":0},{"$f":"+SUMIFS('R2建設IOデータ'!BL:BL,'R2建設IOデータ'!$A:$A,'R2建設io'!$CE10)/'R2建設IOデータ'!BL$232","v":0},{"$f":"+SUMIFS('R2建設IOデータ'!BM:BM,'R2建設IOデータ'!$A:$A,'R2建設io'!$CE10)/'R2建設IOデータ'!BM$232","v":0},{"$f":"+SUMIFS('R2建設IOデータ'!BN:BN,'R2建設IOデータ'!$A:$A,'R2建設io'!$CE10)/'R2建設IOデータ'!BN$232","v":0},{"$f":"+SUMIFS('R2建設IOデータ'!BO:BO,'R2建設IOデータ'!$A:$A,'R2建設io'!$CE10)/'R2建設IOデータ'!BO$232","v":0},{"$f":"+SUMIFS('R2建設IOデータ'!BP:BP,'R2建設IOデータ'!$A:$A,'R2建設io'!$CE10)/'R2建設IOデータ'!BP$232","v":0},{"$f":"+SUMIFS('R2建設IOデータ'!BQ:BQ,'R2建設IOデータ'!$A:$A,'R2建設io'!$CE10)/'R2建設IOデータ'!BQ$232","v":0},{"$f":"+SUMIFS('R2建設IOデータ'!BR:BR,'R2建設IOデータ'!$A:$A,'R2建設io'!$CE10)/'R2建設IOデータ'!BR$232","v":0},{"$f":"+SUMIFS('R2建設IOデータ'!BS:BS,'R2建設IOデータ'!$A:$A,'R2建設io'!$CE10)/'R2建設IOデータ'!BS$232","v":0},{"$f":"+SUMIFS('R2建設IOデータ'!BT:BT,'R2建設IOデータ'!$A:$A,'R2建設io'!$CE10)/'R2建設IOデータ'!BT$232","v":0},{"$f":"+SUMIFS('R2建設IOデータ'!BU:BU,'R2建設IOデータ'!$A:$A,'R2建設io'!$CE10)/'R2建設IOデータ'!BU$232","v":0},{"$f":"+SUMIFS('R2建設IOデータ'!BV:BV,'R2建設IOデータ'!$A:$A,'R2建設io'!$CE10)/'R2建設IOデータ'!BV$232","v":0},{"$f":"+SUMIFS('R2建設IOデータ'!BW:BW,'R2建設IOデータ'!$A:$A,'R2建設io'!$CE10)/'R2建設IOデータ'!BW$232","v":1.5453902483059509E-3},{"$f":"+SUMIFS('R2建設IOデータ'!BX:BX,'R2建設IOデータ'!$A:$A,'R2建設io'!$CE10)/'R2建設IOデータ'!BX$232","v":0},{"$f":"+SUMIFS('R2建設IOデータ'!BY:BY,'R2建設IOデータ'!$A:$A,'R2建設io'!$CE10)/'R2建設IOデータ'!BY$232","v":0},{"$f":"+SUMIFS('R2建設IOデータ'!BZ:BZ,'R2建設IOデータ'!$A:$A,'R2建設io'!$CE10)/'R2建設IOデータ'!BZ$232","v":0},{"$f":"+SUMIFS('R2建設IOデータ'!CA:CA,'R2建設IOデータ'!$A:$A,'R2建設io'!$CE10)/'R2建設IOデータ'!CA$232","v":0},{"$f":"+SUMIFS('R2建設IOデータ'!CB:CB,'R2建設IOデータ'!$A:$A,'R2建設io'!$CE10)/'R2建設IOデータ'!CB$232","v":0},{"$f":"+SUMIFS('R2建設IOデータ'!CC:CC,'R2建設IOデータ'!$A:$A,'R2建設io'!$CE10)/'R2建設IOデータ'!CC$232","v":0},{"$f":"+SUMIFS('R2建設IOデータ'!CD:CD,'R2建設IOデータ'!$A:$A,'R2建設io'!$CE10)/'R2建設IOデータ'!CD$232","v":0}]
[0,null,"15","繊維製品",0,0,0,0,0,0,0,0,0,0,0,0,0,0,0,0,0,0,0,0,0,0,0,0,0,0,0,0,0,0,0,0,0,0,0,0,0,0,0,0,0,0,0,0,0,0,0,0,0,0,0,0,0,0,0,0,0,0,0,0,0,0,0,0,0,0,0,0,0,0,0,null,null,null,null,null,null,null,"15","繊維製品",{"$f":"+SUMIFS('R2建設IOデータ'!L:L,'R2建設IOデータ'!$A:$A,'R2建設io'!$CE11)/'R2建設IOデータ'!L$232","v":3.6565313038570734E-3},{"$f":"+SUMIFS('R2建設IOデータ'!M:M,'R2建設IOデータ'!$A:$A,'R2建設io'!$CE11)/'R2建設IOデータ'!M$232","v":4.5225140726354472E-3},{"$f":"+SUMIFS('R2建設IOデータ'!N:N,'R2建設IOデータ'!$A:$A,'R2建設io'!$CE11)/'R2建設IOデータ'!N$232","v":3.5629550300784615E-3},{"$f":"+SUMIFS('R2建設IOデータ'!O:O,'R2建設IOデータ'!$A:$A,'R2建設io'!$CE11)/'R2建設IOデータ'!O$232","v":3.2520296988201441E-3},{"$f":"+SUMIFS('R2建設IOデータ'!P:P,'R2建設IOデータ'!$A:$A,'R2建設io'!$CE11)/'R2建設IOデータ'!P$232","v":3.2504680299339653E-3},{"$f":"+SUMIFS('R2建設IOデータ'!Q:Q,'R2建設IOデータ'!$A:$A,'R2建設io'!$CE11)/'R2建設IOデータ'!Q$232","v":3.3230800262215722E-3},{"$f":"+SUMIFS('R2建設IOデータ'!R:R,'R2建設IOデータ'!$A:$A,'R2建設io'!$CE11)/'R2建設IOデータ'!R$232","v":4.0031339688786386E-3},{"$f":"+SUMIFS('R2建設IOデータ'!S:S,'R2建設IOデータ'!$A:$A,'R2建設io'!$CE11)/'R2建設IOデータ'!S$232","v":4.0478798728190877E-3},{"$f":"+SUMIFS('R2建設IOデータ'!T:T,'R2建設IOデータ'!$A:$A,'R2建設io'!$CE11)/'R2建設IOデータ'!T$232","v":4.187763907320923E-3},{"$f":"+SUMIFS('R2建設IOデータ'!U:U,'R2建設IOデータ'!$A:$A,'R2建設io'!$CE11)/'R2建設IOデータ'!U$232","v":4.2156159224696907E-3},{"$f":"+SUMIFS('R2建設IOデータ'!V:V,'R2建設IOデータ'!$A:$A,'R2建設io'!$CE11)/'R2建設IOデータ'!V$232","v":2.1799294840201692E-3},{"$f":"+SUMIFS('R2建設IOデータ'!W:W,'R2建設IOデータ'!$A:$A,'R2建設io'!$CE11)/'R2建設IOデータ'!W$232","v":3.6833282457171732E-3},{"$f":"+SUMIFS('R2建設IOデータ'!X:X,'R2建設IOデータ'!$A:$A,'R2建設io'!$CE11)/'R2建設IOデータ'!X$232","v":3.8020333676666821E-3},{"$f":"+SUMIFS('R2建設IOデータ'!Y:Y,'R2建設IOデータ'!$A:$A,'R2建設io'!$CE11)/'R2建設IOデータ'!Y$232","v":3.6343407913677537E-3},{"$f":"+SUMIFS('R2建設IOデータ'!Z:Z,'R2建設IOデータ'!$A:$A,'R2建設io'!$CE11)/'R2建設IOデータ'!Z$232","v":5.4304071226735284E-3},{"$f":"+SUMIFS('R2建設IOデータ'!AA:AA,'R2建設IOデータ'!$A:$A,'R2建設io'!$CE11)/'R2建設IOデータ'!AA$232","v":5.5257683346461922E-3},{"$f":"+SUMIFS('R2建設IOデータ'!AB:AB,'R2建設IOデータ'!$A:$A,'R2建設io'!$CE11)/'R2建設IOデータ'!AB$232","v":4.0279900904129657E-3},{"$f":"+SUMIFS('R2建設IOデータ'!AC:AC,'R2建設IOデータ'!$A:$A,'R2建設io'!$CE11)/'R2建設IOデータ'!AC$232","v":2.2639610934093576E-3},{"$f":"+SUMIFS('R2建設IOデータ'!AD:AD,'R2建設IOデータ'!$A:$A,'R2建設io'!$CE11)/'R2建設IOデータ'!AD$232","v":4.2508170348079773E-3},{"$f":"+SUMIFS('R2建設IOデータ'!AE:AE,'R2建設IOデータ'!$A:$A,'R2建設io'!$CE11)/'R2建設IOデータ'!AE$232","v":5.6274927646268154E-3},{"$f":"+SUMIFS('R2建設IOデータ'!AF:AF,'R2建設IOデータ'!$A:$A,'R2建設io'!$CE11)/'R2建設IOデータ'!AF$232","v":3.1833265762722046E-3},{"$f":"+SUMIFS('R2建設IOデータ'!AG:AG,'R2建設IOデータ'!$A:$A,'R2建設io'!$CE11)/'R2建設IOデータ'!AG$232","v":6.0228302228664612E-3},{"$f":"+SUMIFS('R2建設IOデータ'!AH:AH,'R2建設IOデータ'!$A:$A,'R2建設io'!$CE11)/'R2建設IOデータ'!AH$232","v":3.0010222733626375E-3},{"$f":"+SUMIFS('R2建設IOデータ'!AI:AI,'R2建設IOデータ'!$A:$A,'R2建設io'!$CE11)/'R2建設IOデータ'!AI$232","v":5.4428976424337385E-3},{"$f":"+SUMIFS('R2建設IOデータ'!AJ:AJ,'R2建設IOデータ'!$A:$A,'R2建設io'!$CE11)/'R2建設IOデータ'!AJ$232","v":8.9047436496382752E-3},{"$f":"+SUMIFS('R2建設IOデータ'!AK:AK,'R2建設IOデータ'!$A:$A,'R2建設io'!$CE11)/'R2建設IOデータ'!AK$232","v":2.6395796868441271E-3},{"$f":"+SUMIFS('R2建設IOデータ'!AL:AL,'R2建設IOデータ'!$A:$A,'R2建設io'!$CE11)/'R2建設IOデータ'!AL$232","v":6.7133483674708507E-3},{"$f":"+SUMIFS('R2建設IOデータ'!AM:AM,'R2建設IOデータ'!$A:$A,'R2建設io'!$CE11)/'R2建設IOデータ'!AM$232","v":3.0644129051688438E-3},{"$f":"+SUMIFS('R2建設IOデータ'!AN:AN,'R2建設IOデータ'!$A:$A,'R2建設io'!$CE11)/'R2建設IOデータ'!AN$232","v":4.2979348762998597E-3},{"$f":"+SUMIFS('R2建設IOデータ'!AO:AO,'R2建設IOデータ'!$A:$A,'R2建設io'!$CE11)/'R2建設IOデータ'!AO$232","v":2.1863123553239141E-3},{"$f":"+SUMIFS('R2建設IOデータ'!AP:AP,'R2建設IOデータ'!$A:$A,'R2建設io'!$CE11)/'R2建設IOデータ'!AP$232","v":2.2672488778964421E-3},{"$f":"+SUMIFS('R2建設IOデータ'!AQ:AQ,'R2建設IOデータ'!$A:$A,'R2建設io'!$CE11)/'R2建設IOデータ'!AQ$232","v":2.4795259081551013E-3},{"$f":"+SUMIFS('R2建設IOデータ'!AR:AR,'R2建設IOデータ'!$A:$A,'R2建設io'!$CE11)/'R2建設IOデータ'!AR$232","v":2.5009778440137731E-3},{"$f":"+SUMIFS('R2建設IOデータ'!AS:AS,'R2建設IOデータ'!$A:$A,'R2建設io'!$CE11)/'R2建設IOデータ'!AS$232","v":2.6903032722911525E-3},{"$f":"+SUMIFS('R2建設IOデータ'!AT:AT,'R2建設IOデータ'!$A:$A,'R2建設io'!$CE11)/'R2建設IOデータ'!AT$232","v":1.7124162301355333E-3},{"$f":"+SUMIFS('R2建設IOデータ'!AU:AU,'R2建設IOデータ'!$A:$A,'R2建設io'!$CE11)/'R2建設IOデータ'!AU$232","v":1.7981313091078766E-3},{"$f":"+SUMIFS('R2建設IOデータ'!AV:AV,'R2建設IOデータ'!$A:$A,'R2建設io'!$CE11)/'R2建設IOデータ'!AV$232","v":1.5904561292096765E-3},{"$f":"+SUMIFS('R2建設IOデータ'!AW:AW,'R2建設IOデータ'!$A:$A,'R2建設io'!$CE11)/'R2建設IOデータ'!AW$232","v":3.9234360929897884E-3},{"$f":"+SUMIFS('R2建設IOデータ'!AX:AX,'R2建設IOデータ'!$A:$A,'R2建設io'!$CE11)/'R2建設IOデータ'!AX$232","v":2.6844475233806721E-3},{"$f":"+SUMIFS('R2建設IOデータ'!AY:AY,'R2建設IOデータ'!$A:$A,'R2建設io'!$CE11)/'R2建設IOデータ'!AY$232","v":2.8710247349823322E-3},{"$f":"+SUMIFS('R2建設IOデータ'!AZ:AZ,'R2建設IOデータ'!$A:$A,'R2建設io'!$CE11)/'R2建設IOデータ'!AZ$232","v":3.4967582137393457E-3},{"$f":"+SUMIFS('R2建設IOデータ'!BA:BA,'R2建設IOデータ'!$A:$A,'R2建設io'!$CE11)/'R2建設IOデータ'!BA$232","v":1.7048803766121898E-3},{"$f":"+SUMIFS('R2建設IOデータ'!BB:BB,'R2建設IOデータ'!$A:$A,'R2建設io'!$CE11)/'R2建設IOデータ'!BB$232","v":1.6613750982930997E-3},{"$f":"+SUMIFS('R2建設IOデータ'!BC:BC,'R2建設IOデータ'!$A:$A,'R2建設io'!$CE11)/'R2建設IOデータ'!BC$232","v":1.6633344348056347E-3},{"$f":"+SUMIFS('R2建設IOデータ'!BD:BD,'R2建設IOデータ'!$A:$A,'R2建設io'!$CE11)/'R2建設IOデータ'!BD$232","v":1.4991159060041513E-3},{"$f":"+SUMIFS('R2建設IOデータ'!BE:BE,'R2建設IOデータ'!$A:$A,'R2建設io'!$CE11)/'R2建設IOデータ'!BE$232","v":2.1110601193207895E-3},{"$f":"+SUMIFS('R2建設IOデータ'!BF:BF,'R2建設IOデータ'!$A:$A,'R2建設io'!$CE11)/'R2建設IOデータ'!BF$232","v":1.7295694607449503E-3},{"$f":"+SUMIFS('R2建設IOデータ'!BG:BG,'R2建設IOデータ'!$A:$A,'R2建設io'!$CE11)/'R2建設IOデータ'!BG$232","v":2.1329196761840129E-3},{"$f":"+SUMIFS('R2建設IOデータ'!BH:BH,'R2建設IOデータ'!$A:$A,'R2建設io'!$CE11)/'R2建設IOデータ'!BH$232","v":2.1774374874264819E-3},{"$f":"+SUMIFS('R2建設IOデータ'!BI:BI,'R2建設IOデータ'!$A:$A,'R2建設io'!$CE11)/'R2建設IOデータ'!BI$232","v":1.9311232700354038E-3},{"$f":"+SUMIFS('R2建設IOデータ'!BJ:BJ,'R2建設IOデータ'!$A:$A,'R2建設io'!$CE11)/'R2建設IOデータ'!BJ$232","v":1.188962294387064E-3},{"$f":"+SUMIFS('R2建設IOデータ'!BK:BK,'R2建設IOデータ'!$A:$A,'R2建設io'!$CE11)/'R2建設IOデータ'!BK$232","v":2.0096762554854494E-3},{"$f":"+SUMIFS('R2建設IOデータ'!BL:BL,'R2建設IOデータ'!$A:$A,'R2建設io'!$CE11)/'R2建設IOデータ'!BL$232","v":2.230649118893598E-3},{"$f":"+SUMIFS('R2建設IOデータ'!BM:BM,'R2建設IOデータ'!$A:$A,'R2建設io'!$CE11)/'R2建設IOデータ'!BM$232","v":2.5785089367694422E-3},{"$f":"+SUMIFS('R2建設IOデータ'!BN:BN,'R2建設IOデータ'!$A:$A,'R2建設io'!$CE11)/'R2建設IOデータ'!BN$232","v":1.1469257280423341E-3},{"$f":"+SUMIFS('R2建設IOデータ'!BO:BO,'R2建設IOデータ'!$A:$A,'R2建設io'!$CE11)/'R2建設IOデータ'!BO$232","v":1.9849169064870952E-3},{"$f":"+SUMIFS('R2建設IOデータ'!BP:BP,'R2建設IOデータ'!$A:$A,'R2建設io'!$CE11)/'R2建設IOデータ'!BP$232","v":1.593707720883304E-3},{"$f":"+SUMIFS('R2建設IOデータ'!BQ:BQ,'R2建設IOデータ'!$A:$A,'R2建設io'!$CE11)/'R2建設IOデータ'!BQ$232","v":1.5579712325598791E-3},{"$f":"+SUMIFS('R2建設IOデータ'!BR:BR,'R2建設IOデータ'!$A:$A,'R2建設io'!$CE11)/'R2建設IOデータ'!BR$232","v":1.8847741453922266E-3},{"$f":"+SUMIFS('R2建設IOデータ'!BS:BS,'R2建設IOデータ'!$A:$A,'R2建設io'!$CE11)/'R2建設IOデータ'!BS$232","v":2.3844288757015981E-3},{"$f":"+SUMIFS('R2建設IOデータ'!BT:BT,'R2建設IOデータ'!$A:$A,'R2建設io'!$CE11)/'R2建設IOデータ'!BT$232","v":1.2978071806721691E-3},{"$f":"+SUMIFS('R2建設IOデータ'!BU:BU,'R2建設IOデータ'!$A:$A,'R2建設io'!$CE11)/'R2建設IOデータ'!BU$232","v":4.8463858397206063E-3},{"$f":"+SUMIFS('R2建設IOデータ'!BV:BV,'R2建設IOデータ'!$A:$A,'R2建設io'!$CE11)/'R2建設IOデータ'!BV$232","v":1.9538582219026067E-3},{"$f":"+SUMIFS('R2建設IOデータ'!BW:BW,'R2建設IOデータ'!$A:$A,'R2建設io'!$CE11)/'R2建設IOデータ'!BW$232","v":2.5267875924873825E-3},{"$f":"+SUMIFS('R2建設IOデータ'!BX:BX,'R2建設IOデータ'!$A:$A,'R2建設io'!$CE11)/'R2建設IOデータ'!BX$232","v":2.0721334295510929E-3},{"$f":"+SUMIFS('R2建設IOデータ'!BY:BY,'R2建設IOデータ'!$A:$A,'R2建設io'!$CE11)/'R2建設IOデータ'!BY$232","v":1.533656359296643E-3},{"$f":"+SUMIFS('R2建設IOデータ'!BZ:BZ,'R2建設IOデータ'!$A:$A,'R2建設io'!$CE11)/'R2建設IOデータ'!BZ$232","v":2.1635370180105333E-3},{"$f":"+SUMIFS('R2建設IOデータ'!CA:CA,'R2建設IOデータ'!$A:$A,'R2建設io'!$CE11)/'R2建設IOデータ'!CA$232","v":2.8020073623780941E-3},{"$f":"+SUMIFS('R2建設IOデータ'!CB:CB,'R2建設IOデータ'!$A:$A,'R2建設io'!$CE11)/'R2建設IOデータ'!CB$232","v":2.1567009610140805E-3},{"$f":"+SUMIFS('R2建設IOデータ'!CC:CC,'R2建設IOデータ'!$A:$A,'R2建設io'!$CE11)/'R2建設IOデータ'!CC$232","v":1.9977754679131108E-3},{"$f":"+SUMIFS('R2建設IOデータ'!CD:CD,'R2建設IOデータ'!$A:$A,'R2建設io'!$CE11)/'R2建設IOデータ'!CD$232","v":2.0925336625770394E-3}]
[0,null,"16","パルプ・紙・木製品",0,0,0,0,0,0,0,0,0,0,0,0,0,0,0,0,0,0,0,0,0,0,0,0,0,0,0,0,0,0,0,0,0,0,0,0,0,0,0,0,0,0,0,0,0,0,0,0,0,0,0,0,0,0,0,0,0,0,0,0,0,0,0,0,0,0,0,0,0,0,0,null,null,null,null,null,null,null,"16","パルプ・紙・木製品",{"$f":"+SUMIFS('R2建設IOデータ'!L:L,'R2建設IOデータ'!$A:$A,'R2建設io'!$CE12)/'R2建設IOデータ'!L$232","v":4.0972716831342008E-2},{"$f":"+SUMIFS('R2建設IOデータ'!M:M,'R2建設IOデータ'!$A:$A,'R2建設io'!$CE12)/'R2建設IOデータ'!M$232","v":6.9006656913052619E-2},{"$f":"+SUMIFS('R2建設IOデータ'!N:N,'R2建設IOデータ'!$A:$A,'R2建設io'!$CE12)/'R2建設IOデータ'!N$232","v":0.11438243023799007},{"$f":"+SUMIFS('R2建設IOデータ'!O:O,'R2建設IOデータ'!$A:$A,'R2建設io'!$CE12)/'R2建設IOデータ'!O$232","v":0.15206736406106997},{"$f":"+SUMIFS('R2建設IOデータ'!P:P,'R2建設IOデータ'!$A:$A,'R2建設io'!$CE12)/'R2建設IOデータ'!P$232","v":0.15085443518144245},{"$f":"+SUMIFS('R2建設IOデータ'!Q:Q,'R2建設IOデータ'!$A:$A,'R2建設io'!$CE12)/'R2建設IOデータ'!Q$232","v":0.20725127325903889},{"$f":"+SUMIFS('R2建設IOデータ'!R:R,'R2建設IOデータ'!$A:$A,'R2建設io'!$CE12)/'R2建設IOデータ'!R$232","v":6.1031633402409004E-2},{"$f":"+SUMIFS('R2建設IOデータ'!S:S,'R2建設IOデータ'!$A:$A,'R2建設io'!$CE12)/'R2建設IOデータ'!S$232","v":2.8655783258075721E-2},{"$f":"+SUMIFS('R2建設IOデータ'!T:T,'R2建設IOデータ'!$A:$A,'R2建設io'!$CE12)/'R2建設IOデータ'!T$232","v":4.1786347013050874E-2},{"$f":"+SUMIFS('R2建設IOデータ'!U:U,'R2建設IOデータ'!$A:$A,'R2建設io'!$CE12)/'R2建設IOデータ'!U$232","v":4.1439883166013804E-2},{"$f":"+SUMIFS('R2建設IOデータ'!V:V,'R2建設IOデータ'!$A:$A,'R2建設io'!$CE12)/'R2建設IOデータ'!V$232","v":6.6762709936687259E-2},{"$f":"+SUMIFS('R2建設IOデータ'!W:W,'R2建設IOデータ'!$A:$A,'R2建設io'!$CE12)/'R2建設IOデータ'!W$232","v":9.1504051502289033E-2},{"$f":"+SUMIFS('R2建設IOデータ'!X:X,'R2建設IOデータ'!$A:$A,'R2建設io'!$CE12)/'R2建設IOデータ'!X$232","v":3.5653234989577696E-2},{"$f":"+SUMIFS('R2建設IOデータ'!Y:Y,'R2建設IOデータ'!$A:$A,'R2建設io'!$CE12)/'R2建設IOデータ'!Y$232","v":0.11455267214612282},{"$f":"+SUMIFS('R2建設IOデータ'!Z:Z,'R2建設IOデータ'!$A:$A,'R2建設io'!$CE12)/'R2建設IOデータ'!Z$232","v":5.8866244652469729E-2},{"$f":"+SUMIFS('R2建設IOデータ'!AA:AA,'R2建設IOデータ'!$A:$A,'R2建設io'!$CE12)/'R2建設IOデータ'!AA$232","v":2.1564617433159503E-2},{"$f":"+SUMIFS('R2建設IOデータ'!AB:AB,'R2建設IOデータ'!$A:$A,'R2建設io'!$CE12)/'R2建設IOデータ'!AB$232","v":9.6163953302481675E-2},{"$f":"+SUMIFS('R2建設IOデータ'!AC:AC,'R2建設IOデータ'!$A:$A,'R2建設io'!$CE12)/'R2建設IOデータ'!AC$232","v":6.5552387873367243E-2},{"$f":"+SUMIFS('R2建設IOデータ'!AD:AD,'R2建設IOデータ'!$A:$A,'R2建設io'!$CE12)/'R2建設IOデータ'!AD$232","v":0.10003071603671332},{"$f":"+SUMIFS('R2建設IOデータ'!AE:AE,'R2建設IOデータ'!$A:$A,'R2建設io'!$CE12)/'R2建設IOデータ'!AE$232","v":1.6498063056730593E-2},{"$f":"+SUMIFS('R2建設IOデータ'!AF:AF,'R2建設IOデータ'!$A:$A,'R2建設io'!$CE12)/'R2建設IOデータ'!AF$232","v":7.35018093908134E-3},{"$f":"+SUMIFS('R2建設IOデータ'!AG:AG,'R2建設IOデータ'!$A:$A,'R2建設io'!$CE12)/'R2建設IOデータ'!AG$232","v":1.6285558978075737E-2},{"$f":"+SUMIFS('R2建設IOデータ'!AH:AH,'R2建設IOデータ'!$A:$A,'R2建設io'!$CE12)/'R2建設IOデータ'!AH$232","v":9.097751480049621E-3},{"$f":"+SUMIFS('R2建設IOデータ'!AI:AI,'R2建設IOデータ'!$A:$A,'R2建設io'!$CE12)/'R2建設IOデータ'!AI$232","v":3.4486003100876669E-2},{"$f":"+SUMIFS('R2建設IOデータ'!AJ:AJ,'R2建設IOデータ'!$A:$A,'R2建設io'!$CE12)/'R2建設IOデータ'!AJ$232","v":2.9647964321857668E-2},{"$f":"+SUMIFS('R2建設IOデータ'!AK:AK,'R2建設IOデータ'!$A:$A,'R2建設io'!$CE12)/'R2建設IOデータ'!AK$232","v":6.8141498301165027E-3},{"$f":"+SUMIFS('R2建設IOデータ'!AL:AL,'R2建設IOデータ'!$A:$A,'R2建設io'!$CE12)/'R2建設IOデータ'!AL$232","v":1.7440148837618095E-2},{"$f":"+SUMIFS('R2建設IOデータ'!AM:AM,'R2建設IOデータ'!$A:$A,'R2建設io'!$CE12)/'R2建設IOデータ'!AM$232","v":7.1528065354063922E-3},{"$f":"+SUMIFS('R2建設IOデータ'!AN:AN,'R2建設IOデータ'!$A:$A,'R2建設io'!$CE12)/'R2建設IOデータ'!AN$232","v":4.2149731881348615E-2},{"$f":"+SUMIFS('R2建設IOデータ'!AO:AO,'R2建設IOデータ'!$A:$A,'R2建設io'!$CE12)/'R2建設IOデータ'!AO$232","v":2.2280255637316493E-3},{"$f":"+SUMIFS('R2建設IOデータ'!AP:AP,'R2建設IOデータ'!$A:$A,'R2建設io'!$CE12)/'R2建設IOデータ'!AP$232","v":1.5313502283555939E-3},{"$f":"+SUMIFS('R2建設IOデータ'!AQ:AQ,'R2建設IOデータ'!$A:$A,'R2建設io'!$CE12)/'R2建設IOデータ'!AQ$232","v":1.5939084938638157E-3},{"$f":"+SUMIFS('R2建設IOデータ'!AR:AR,'R2建設IOデータ'!$A:$A,'R2建設io'!$CE12)/'R2建設IOデータ'!AR$232","v":1.5356791049341769E-3},{"$f":"+SUMIFS('R2建設IOデータ'!AS:AS,'R2建設IOデータ'!$A:$A,'R2建設io'!$CE12)/'R2建設IOデータ'!AS$232","v":1.4356651209530315E-3},{"$f":"+SUMIFS('R2建設IOデータ'!AT:AT,'R2建設IOデータ'!$A:$A,'R2建設io'!$CE12)/'R2建設IOデータ'!AT$232","v":1.4900446136280265E-3},{"$f":"+SUMIFS('R2建設IOデータ'!AU:AU,'R2建設IOデータ'!$A:$A,'R2建設io'!$CE12)/'R2建設IOデータ'!AU$232","v":3.7555907088961978E-4},{"$f":"+SUMIFS('R2建設IOデータ'!AV:AV,'R2建設IOデータ'!$A:$A,'R2建設io'!$CE12)/'R2建設IOデータ'!AV$232","v":1.057469048476309E-3},{"$f":"+SUMIFS('R2建設IOデータ'!AW:AW,'R2建設IOデータ'!$A:$A,'R2建設io'!$CE12)/'R2建設IOデータ'!AW$232","v":4.7463035211278687E-4},{"$f":"+SUMIFS('R2建設IOデータ'!AX:AX,'R2建設IOデータ'!$A:$A,'R2建設io'!$CE12)/'R2建設IOデータ'!AX$232","v":6.4309582509831089E-3},{"$f":"+SUMIFS('R2建設IOデータ'!AY:AY,'R2建設IOデータ'!$A:$A,'R2建設io'!$CE12)/'R2建設IOデータ'!AY$232","v":9.9381625441696104E-4},{"$f":"+SUMIFS('R2建設IOデータ'!AZ:AZ,'R2建設IOデータ'!$A:$A,'R2建設io'!$CE12)/'R2建設IOデータ'!AZ$232","v":1.1655860712464486E-3},{"$f":"+SUMIFS('R2建設IOデータ'!BA:BA,'R2建設IOデータ'!$A:$A,'R2建設io'!$CE12)/'R2建設IOデータ'!BA$232","v":1.9562294772564842E-3},{"$f":"+SUMIFS('R2建設IOデータ'!BB:BB,'R2建設IOデータ'!$A:$A,'R2建設io'!$CE12)/'R2建設IOデータ'!BB$232","v":2.0673576252781276E-3},{"$f":"+SUMIFS('R2建設IOデータ'!BC:BC,'R2建設IOデータ'!$A:$A,'R2建設io'!$CE12)/'R2建設IOデータ'!BC$232","v":2.304191046476568E-3},{"$f":"+SUMIFS('R2建設IOデータ'!BD:BD,'R2建設IOデータ'!$A:$A,'R2建設io'!$CE12)/'R2建設IOデータ'!BD$232","v":2.6907208569305283E-4},{"$f":"+SUMIFS('R2建設IOデータ'!BE:BE,'R2建設IOデータ'!$A:$A,'R2建設io'!$CE12)/'R2建設IOデータ'!BE$232","v":1.3767783386874714E-4},{"$f":"+SUMIFS('R2建設IOデータ'!BF:BF,'R2建設IOデータ'!$A:$A,'R2建設io'!$CE12)/'R2建設IOデータ'!BF$232","v":1.8531101365124467E-4},{"$f":"+SUMIFS('R2建設IOデータ'!BG:BG,'R2建設IOデータ'!$A:$A,'R2建設io'!$CE12)/'R2建設IOデータ'!BG$232","v":8.6286295991080519E-4},{"$f":"+SUMIFS('R2建設IOデータ'!BH:BH,'R2建設IOデータ'!$A:$A,'R2建設io'!$CE12)/'R2建設IOデータ'!BH$232","v":8.7570855472586767E-4},{"$f":"+SUMIFS('R2建設IOデータ'!BI:BI,'R2建設IOデータ'!$A:$A,'R2建設io'!$CE12)/'R2建設IOデータ'!BI$232","v":8.0463469584808492E-4},{"$f":"+SUMIFS('R2建設IOデータ'!BJ:BJ,'R2建設IOデータ'!$A:$A,'R2建設io'!$CE12)/'R2建設IOデータ'!BJ$232","v":5.097029662024544E-3},{"$f":"+SUMIFS('R2建設IOデータ'!BK:BK,'R2建設IOデータ'!$A:$A,'R2建設io'!$CE12)/'R2建設IOデータ'!BK$232","v":1.1296734452545015E-3},{"$f":"+SUMIFS('R2建設IOデータ'!BL:BL,'R2建設IOデータ'!$A:$A,'R2建設io'!$CE12)/'R2建設IOデータ'!BL$232","v":3.6690637292912553E-4},{"$f":"+SUMIFS('R2建設IOデータ'!BM:BM,'R2建設IOデータ'!$A:$A,'R2建設io'!$CE12)/'R2建設IOデータ'!BM$232","v":3.9486391467133527E-4},{"$f":"+SUMIFS('R2建設IOデータ'!BN:BN,'R2建設IOデータ'!$A:$A,'R2建設io'!$CE12)/'R2建設IOデータ'!BN$232","v":6.2456351527057801E-5},{"$f":"+SUMIFS('R2建設IOデータ'!BO:BO,'R2建設IOデータ'!$A:$A,'R2建設io'!$CE12)/'R2建設IOデータ'!BO$232","v":3.2418413658958289E-4},{"$f":"+SUMIFS('R2建設IOデータ'!BP:BP,'R2建設IOデータ'!$A:$A,'R2建設io'!$CE12)/'R2建設IOデータ'!BP$232","v":4.1275883418560389E-4},{"$f":"+SUMIFS('R2建設IOデータ'!BQ:BQ,'R2建設IOデータ'!$A:$A,'R2建設io'!$CE12)/'R2建設IOデータ'!BQ$232","v":1.2200668758291769E-3},{"$f":"+SUMIFS('R2建設IOデータ'!BR:BR,'R2建設IOデータ'!$A:$A,'R2建設io'!$CE12)/'R2建設IOデータ'!BR$232","v":3.190385904385782E-3},{"$f":"+SUMIFS('R2建設IOデータ'!BS:BS,'R2建設IOデータ'!$A:$A,'R2建設io'!$CE12)/'R2建設IOデータ'!BS$232","v":1.1386317664867182E-4},{"$f":"+SUMIFS('R2建設IOデータ'!BT:BT,'R2建設IOデータ'!$A:$A,'R2建設io'!$CE12)/'R2建設IOデータ'!BT$232","v":3.8578109791322101E-4},{"$f":"+SUMIFS('R2建設IOデータ'!BU:BU,'R2建設IOデータ'!$A:$A,'R2建設io'!$CE12)/'R2建設IOデータ'!BU$232","v":8.2225850877753696E-3},{"$f":"+SUMIFS('R2建設IOデータ'!BV:BV,'R2建設IOデータ'!$A:$A,'R2建設io'!$CE12)/'R2建設IOデータ'!BV$232","v":4.3301722755679389E-4},{"$f":"+SUMIFS('R2建設IOデータ'!BW:BW,'R2建設IOデータ'!$A:$A,'R2建設io'!$CE12)/'R2建設IOデータ'!BW$232","v":3.2514480786973005E-3},{"$f":"+SUMIFS('R2建設IOデータ'!BX:BX,'R2建設IOデータ'!$A:$A,'R2建設io'!$CE12)/'R2建設IOデータ'!BX$232","v":3.2108407240244072E-3},{"$f":"+SUMIFS('R2建設IOデータ'!BY:BY,'R2建設IOデータ'!$A:$A,'R2建設io'!$CE12)/'R2建設IOデータ'!BY$232","v":3.7230111025509664E-3},{"$f":"+SUMIFS('R2建設IOデータ'!BZ:BZ,'R2建設IOデータ'!$A:$A,'R2建設io'!$CE12)/'R2建設IOデータ'!BZ$232","v":1.8624005388932696E-3},{"$f":"+SUMIFS('R2建設IOデータ'!CA:CA,'R2建設IOデータ'!$A:$A,'R2建設io'!$CE12)/'R2建設IOデータ'!CA$232","v":2.0611584602024269E-3},{"$f":"+SUMIFS('R2建設IOデータ'!CB:CB,'R2建設IOデータ'!$A:$A,'R2建設io'!$CE12)/'R2建設IOデータ'!CB$232","v":1.3400791755793352E-3},{"$f":"+SUMIFS('R2建設IOデータ'!CC:CC,'R2建設IOデータ'!$A:$A,'R2建設io'!$CE12)/'R2建設IOデータ'!CC$232","v":1.7279847460656898E-3},{"$f":"+SUMIFS('R2建設IOデータ'!CD:CD,'R2建設IOデータ'!$A:$A,'R2建設io'!$CE12)/'R2建設IOデータ'!CD$232","v":5.6660826418173903E-3}]
[0,null,"20","化学製品",0,0,0,0,0,0,0,0,0,0,0,0,0,0,0,0,0,0,0,0,0,0,0,0,0,0,0,0,0,0,0,0,0,0,0,0,0,0,0,0,0,0,0,0,0,0,0,0,0,0,0,0,0,0,0,0,0,0,0,0,0,0,0,0,0,0,0,0,0,0,0,null,null,null,null,null,null,null,"20","化学製品",{"$f":"+SUMIFS('R2建設IOデータ'!L:L,'R2建設IOデータ'!$A:$A,'R2建設io'!$CE13)/'R2建設IOデータ'!L$232","v":4.795393381864123E-3},{"$f":"+SUMIFS('R2建設IOデータ'!M:M,'R2建設IOデータ'!$A:$A,'R2建設io'!$CE13)/'R2建設IOデータ'!M$232","v":5.613590815229828E-3},{"$f":"+SUMIFS('R2建設IOデータ'!N:N,'R2建設IOデータ'!$A:$A,'R2建設io'!$CE13)/'R2建設IOデータ'!N$232","v":6.8045646806090057E-3},{"$f":"+SUMIFS('R2建設IOデータ'!O:O,'R2建設IOデータ'!$A:$A,'R2建設io'!$CE13)/'R2建設IOデータ'!O$232","v":7.0022860512913166E-3},{"$f":"+SUMIFS('R2建設IOデータ'!P:P,'R2建設IOデータ'!$A:$A,'R2建設io'!$CE13)/'R2建設IOデータ'!P$232","v":6.9663336544972046E-3},{"$f":"+SUMIFS('R2建設IOデータ'!Q:Q,'R2建設IOデータ'!$A:$A,'R2建設io'!$CE13)/'R2建設IOデータ'!Q$232","v":8.6379910241541017E-3},{"$f":"+SUMIFS('R2建設IOデータ'!R:R,'R2建設IOデータ'!$A:$A,'R2建設io'!$CE13)/'R2建設IOデータ'!R$232","v":6.5246492977972092E-3},{"$f":"+SUMIFS('R2建設IOデータ'!S:S,'R2建設IOデータ'!$A:$A,'R2建設io'!$CE13)/'R2建設IOデータ'!S$232","v":4.2215512865043953E-3},{"$f":"+SUMIFS('R2建設IOデータ'!T:T,'R2建設IOデータ'!$A:$A,'R2建設io'!$CE13)/'R2建設IOデータ'!T$232","v":7.9794966332162529E-3},{"$f":"+SUMIFS('R2建設IOデータ'!U:U,'R2建設IOデータ'!$A:$A,'R2建設io'!$CE13)/'R2建設IOデータ'!U$232","v":7.8803513959889073E-3},{"$f":"+SUMIFS('R2建設IOデータ'!V:V,'R2建設IOデータ'!$A:$A,'R2建設io'!$CE13)/'R2建設IOデータ'!V$232","v":1.5126815028244305E-2},{"$f":"+SUMIFS('R2建設IOデータ'!W:W,'R2建設IOデータ'!$A:$A,'R2建設io'!$CE13)/'R2建設IOデータ'!W$232","v":4.3910957058005571E-3},{"$f":"+SUMIFS('R2建設IOデータ'!X:X,'R2建設IOデータ'!$A:$A,'R2建設io'!$CE13)/'R2建設IOデータ'!X$232","v":5.2872451156508434E-3},{"$f":"+SUMIFS('R2建設IOデータ'!Y:Y,'R2建設IOデータ'!$A:$A,'R2建設io'!$CE13)/'R2建設IOデータ'!Y$232","v":4.0212710715781764E-3},{"$f":"+SUMIFS('R2建設IOデータ'!Z:Z,'R2建設IOデータ'!$A:$A,'R2建設io'!$CE13)/'R2建設IOデータ'!Z$232","v":5.5409095931930477E-3},{"$f":"+SUMIFS('R2建設IOデータ'!AA:AA,'R2建設IOデータ'!$A:$A,'R2建設io'!$CE13)/'R2建設IOデータ'!AA$232","v":4.3683838468278682E-3},{"$f":"+SUMIFS('R2建設IOデータ'!AB:AB,'R2建設IOデータ'!$A:$A,'R2建設io'!$CE13)/'R2建設IOデータ'!AB$232","v":4.8252291147930157E-3},{"$f":"+SUMIFS('R2建設IOデータ'!AC:AC,'R2建設IOデータ'!$A:$A,'R2建設io'!$CE13)/'R2建設IOデータ'!AC$232","v":3.5683008180073415E-3},{"$f":"+SUMIFS('R2建設IOデータ'!AD:AD,'R2建設IOデータ'!$A:$A,'R2建設io'!$CE13)/'R2建設IOデータ'!AD$232","v":4.9840005931372604E-3},{"$f":"+SUMIFS('R2建設IOデータ'!AE:AE,'R2建設IOデータ'!$A:$A,'R2建設io'!$CE13)/'R2建設IOデータ'!AE$232","v":4.3373563401512098E-3},{"$f":"+SUMIFS('R2建設IOデータ'!AF:AF,'R2建設IOデータ'!$A:$A,'R2建設io'!$CE13)/'R2建設IOデータ'!AF$232","v":5.150382149346067E-3},{"$f":"+SUMIFS('R2建設IOデータ'!AG:AG,'R2建設IOデータ'!$A:$A,'R2建設io'!$CE13)/'R2建設IOデータ'!AG$232","v":3.3411849972821163E-3},{"$f":"+SUMIFS('R2建設IOデータ'!AH:AH,'R2建設IOデータ'!$A:$A,'R2建設io'!$CE13)/'R2建設IOデータ'!AH$232","v":5.2830830609143327E-3},{"$f":"+SUMIFS('R2建設IOデータ'!AI:AI,'R2建設IOデータ'!$A:$A,'R2建設io'!$CE13)/'R2建設IOデータ'!AI$232","v":4.418135628582065E-3},{"$f":"+SUMIFS('R2建設IOデータ'!AJ:AJ,'R2建設IOデータ'!$A:$A,'R2建設io'!$CE13)/'R2建設IOデータ'!AJ$232","v":4.0040940783372557E-3},{"$f":"+SUMIFS('R2建設IOデータ'!AK:AK,'R2建設IOデータ'!$A:$A,'R2建設io'!$CE13)/'R2建設IOデータ'!AK$232","v":4.9687952923659342E-3},{"$f":"+SUMIFS('R2建設IOデータ'!AL:AL,'R2建設IOデータ'!$A:$A,'R2建設io'!$CE13)/'R2建設IOデータ'!AL$232","v":4.0331932058332732E-3},{"$f":"+SUMIFS('R2建設IOデータ'!AM:AM,'R2建設IOデータ'!$A:$A,'R2建設io'!$CE13)/'R2建設IOデータ'!AM$232","v":2.130783420547378E-3},{"$f":"+SUMIFS('R2建設IOデータ'!AN:AN,'R2建設IOデータ'!$A:$A,'R2建設io'!$CE13)/'R2建設IOデータ'!AN$232","v":7.0067099491792281E-3},{"$f":"+SUMIFS('R2建設IOデータ'!AO:AO,'R2建設IOデータ'!$A:$A,'R2建設io'!$CE13)/'R2建設IOデータ'!AO$232","v":2.6809814117175592E-3},{"$f":"+SUMIFS('R2建設IOデータ'!AP:AP,'R2建設IOデータ'!$A:$A,'R2建設io'!$CE13)/'R2建設IOデータ'!AP$232","v":2.5923306875033814E-3},{"$f":"+SUMIFS('R2建設IOデータ'!AQ:AQ,'R2建設IOデータ'!$A:$A,'R2建設io'!$CE13)/'R2建設IOデータ'!AQ$232","v":3.2929618687524797E-3},{"$f":"+SUMIFS('R2建設IOデータ'!AR:AR,'R2建設IOデータ'!$A:$A,'R2建設io'!$CE13)/'R2建設IOデータ'!AR$232","v":3.3202014668003914E-3},{"$f":"+SUMIFS('R2建設IOデータ'!AS:AS,'R2建設IOデータ'!$A:$A,'R2建設io'!$CE13)/'R2建設IOデータ'!AS$232","v":3.0219378735010763E-3},{"$f":"+SUMIFS('R2建設IOデータ'!AT:AT,'R2建設IOデータ'!$A:$A,'R2建設io'!$CE13)/'R2建設IOデータ'!AT$232","v":1.6200623569224387E-3},{"$f":"+SUMIFS('R2建設IOデータ'!AU:AU,'R2建設IOデータ'!$A:$A,'R2建設io'!$CE13)/'R2建設IOデータ'!AU$232","v":7.7387929759073167E-4},{"$f":"+SUMIFS('R2建設IOデータ'!AV:AV,'R2建設IOデータ'!$A:$A,'R2建設io'!$CE13)/'R2建設IOデータ'!AV$232","v":3.7280745274700976E-3},{"$f":"+SUMIFS('R2建設IOデータ'!AW:AW,'R2建設IOデータ'!$A:$A,'R2建設io'!$CE13)/'R2建設IOデータ'!AW$232","v":4.968147321065668E-3},{"$f":"+SUMIFS('R2建設IOデータ'!AX:AX,'R2建設IOデータ'!$A:$A,'R2建設io'!$CE13)/'R2建設IOデータ'!AX$232","v":5.1192974591984352E-4},{"$f":"+SUMIFS('R2建設IOデータ'!AY:AY,'R2建設IOデータ'!$A:$A,'R2建設io'!$CE13)/'R2建設IOデータ'!AY$232","v":4.4169611307420494E-4},{"$f":"+SUMIFS('R2建設IOデータ'!AZ:AZ,'R2建設IOデータ'!$A:$A,'R2建設io'!$CE13)/'R2建設IOデータ'!AZ$232","v":3.6424564726451517E-4},{"$f":"+SUMIFS('R2建設IOデータ'!BA:BA,'R2建設IOデータ'!$A:$A,'R2建設io'!$CE13)/'R2建設IOデータ'!BA$232","v":4.5743747355691177E-3},{"$f":"+SUMIFS('R2建設IOデータ'!BB:BB,'R2建設IOデータ'!$A:$A,'R2建設io'!$CE13)/'R2建設IOデータ'!BB$232","v":4.6303686754918597E-3},{"$f":"+SUMIFS('R2建設IOデータ'!BC:BC,'R2建設IOデータ'!$A:$A,'R2建設io'!$CE13)/'R2建設IOデータ'!BC$232","v":3.1631169218410832E-3},{"$f":"+SUMIFS('R2建設IOデータ'!BD:BD,'R2建設IOデータ'!$A:$A,'R2建設io'!$CE13)/'R2建設IOデータ'!BD$232","v":1.2979524895574406E-2},{"$f":"+SUMIFS('R2建設IOデータ'!BE:BE,'R2建設IOデータ'!$A:$A,'R2建設io'!$CE13)/'R2建設IOデータ'!BE$232","v":3.8366223038090869E-2},{"$f":"+SUMIFS('R2建設IOデータ'!BF:BF,'R2建設IOデータ'!$A:$A,'R2建設io'!$CE13)/'R2建設IOデータ'!BF$232","v":4.3239236518623756E-4},{"$f":"+SUMIFS('R2建設IOデータ'!BG:BG,'R2建設IOデータ'!$A:$A,'R2建設io'!$CE13)/'R2建設IOデータ'!BG$232","v":4.0234621164380244E-3},{"$f":"+SUMIFS('R2建設IOデータ'!BH:BH,'R2建設IOデータ'!$A:$A,'R2建設io'!$CE13)/'R2建設IOデータ'!BH$232","v":4.0708613895364659E-3},{"$f":"+SUMIFS('R2建設IOデータ'!BI:BI,'R2建設IOデータ'!$A:$A,'R2建設io'!$CE13)/'R2建設IOデータ'!BI$232","v":3.8086042270142687E-3},{"$f":"+SUMIFS('R2建設IOデータ'!BJ:BJ,'R2建設IOデータ'!$A:$A,'R2建設io'!$CE13)/'R2建設IOデータ'!BJ$232","v":1.6542084095820021E-3},{"$f":"+SUMIFS('R2建設IOデータ'!BK:BK,'R2建設IOデータ'!$A:$A,'R2建設io'!$CE13)/'R2建設IOデータ'!BK$232","v":1.5461194683016783E-3},{"$f":"+SUMIFS('R2建設IOデータ'!BL:BL,'R2建設IOデータ'!$A:$A,'R2建設io'!$CE13)/'R2建設IOデータ'!BL$232","v":7.6258103806620429E-4},{"$f":"+SUMIFS('R2建設IOデータ'!BM:BM,'R2建設IOデータ'!$A:$A,'R2建設io'!$CE13)/'R2建設IOデータ'!BM$232","v":8.0264076286892761E-4},{"$f":"+SUMIFS('R2建設IOデータ'!BN:BN,'R2建設IOデータ'!$A:$A,'R2建設io'!$CE13)/'R2建設IOデータ'!BN$232","v":7.0973126735292952E-4},{"$f":"+SUMIFS('R2建設IOデータ'!BO:BO,'R2建設IOデータ'!$A:$A,'R2建設io'!$CE13)/'R2建設IOデータ'!BO$232","v":1.9962917884726946E-3},{"$f":"+SUMIFS('R2建設IOデータ'!BP:BP,'R2建設IOデータ'!$A:$A,'R2建設io'!$CE13)/'R2建設IOデータ'!BP$232","v":1.5134490586805476E-4},{"$f":"+SUMIFS('R2建設IOデータ'!BQ:BQ,'R2建設IOデータ'!$A:$A,'R2建設io'!$CE13)/'R2建設IOデータ'!BQ$232","v":3.4564262444209239E-3},{"$f":"+SUMIFS('R2建設IOデータ'!BR:BR,'R2建設IOデータ'!$A:$A,'R2建設io'!$CE13)/'R2建設IOデータ'!BR$232","v":1.2494429930712707E-3},{"$f":"+SUMIFS('R2建設IOデータ'!BS:BS,'R2建設IOデータ'!$A:$A,'R2建設io'!$CE13)/'R2建設IOデータ'!BS$232","v":1.1922144378507991E-3},{"$f":"+SUMIFS('R2建設IOデータ'!BT:BT,'R2建設IOデータ'!$A:$A,'R2建設io'!$CE13)/'R2建設IOデータ'!BT$232","v":1.8834031036583918E-3},{"$f":"+SUMIFS('R2建設IOデータ'!BU:BU,'R2建設IOデータ'!$A:$A,'R2建設io'!$CE13)/'R2建設IOデータ'!BU$232","v":3.4517424326067627E-3},{"$f":"+SUMIFS('R2建設IOデータ'!BV:BV,'R2建設IOデータ'!$A:$A,'R2建設io'!$CE13)/'R2建設IOデータ'!BV$232","v":9.130806727417096E-4},{"$f":"+SUMIFS('R2建設IOデータ'!BW:BW,'R2建設IOデータ'!$A:$A,'R2建設io'!$CE13)/'R2建設IOデータ'!BW$232","v":4.4382349092559432E-3},{"$f":"+SUMIFS('R2建設IOデータ'!BX:BX,'R2建設IOデータ'!$A:$A,'R2建設io'!$CE13)/'R2建設IOデータ'!BX$232","v":2.8060429307701835E-3},{"$f":"+SUMIFS('R2建設IOデータ'!BY:BY,'R2建設IOデータ'!$A:$A,'R2建設io'!$CE13)/'R2建設IOデータ'!BY$232","v":3.9009491331875937E-3},{"$f":"+SUMIFS('R2建設IOデータ'!BZ:BZ,'R2建設IOデータ'!$A:$A,'R2建設io'!$CE13)/'R2建設IOデータ'!BZ$232","v":1.2368994224899175E-3},{"$f":"+SUMIFS('R2建設IOデータ'!CA:CA,'R2建設IOデータ'!$A:$A,'R2建設io'!$CE13)/'R2建設IOデータ'!CA$232","v":1.8121594515873687E-3},{"$f":"+SUMIFS('R2建設IOデータ'!CB:CB,'R2建設IOデータ'!$A:$A,'R2建設io'!$CE13)/'R2建設IOデータ'!CB$232","v":5.3221700099181403E-3},{"$f":"+SUMIFS('R2建設IOデータ'!CC:CC,'R2建設IOデータ'!$A:$A,'R2建設io'!$CE13)/'R2建設IOデータ'!CC$232","v":2.8816297345788948E-3},{"$f":"+SUMIFS('R2建設IOデータ'!CD:CD,'R2建設IOデータ'!$A:$A,'R2建設io'!$CE13)/'R2建設IOデータ'!CD$232","v":2.4943989570396555E-3}]
[0,null,"21","石油・石炭製品",0,0,0,0,0,0,0,0,0,0,0,0,0,0,0,0,0,0,0,0,0,0,0,0,0,0,0,0,0,0,0,0,0,0,0,0,0,0,0,0,0,0,0,0,0,0,0,0,0,0,0,0,0,0,0,0,0,0,0,0,0,0,0,0,0,0,0,0,0,0,0,null,null,null,null,null,null,null,"21","石油・石炭製品",{"$f":"+SUMIFS('R2建設IOデータ'!L:L,'R2建設IOデータ'!$A:$A,'R2建設io'!$CE14)/'R2建設IOデータ'!L$232","v":1.1319451536507361E-2},{"$f":"+SUMIFS('R2建設IOデータ'!M:M,'R2建設IOデータ'!$A:$A,'R2建設io'!$CE14)/'R2建設IOデータ'!M$232","v":2.7466637143337192E-3},{"$f":"+SUMIFS('R2建設IOデータ'!N:N,'R2建設IOデータ'!$A:$A,'R2建設io'!$CE14)/'R2建設IOデータ'!N$232","v":1.5199077148949558E-3},{"$f":"+SUMIFS('R2建設IOデータ'!O:O,'R2建設IOデータ'!$A:$A,'R2建設io'!$CE14)/'R2建設IOデータ'!O$232","v":5.5353697001193946E-4},{"$f":"+SUMIFS('R2建設IOデータ'!P:P,'R2建設IOデータ'!$A:$A,'R2建設io'!$CE14)/'R2建設IOデータ'!P$232","v":5.539550316639942E-4},{"$f":"+SUMIFS('R2建設IOデータ'!Q:Q,'R2建設IOデータ'!$A:$A,'R2建設io'!$CE14)/'R2建設IOデータ'!Q$232","v":5.3451666582623168E-4},{"$f":"+SUMIFS('R2建設IOデータ'!R:R,'R2建設IOデータ'!$A:$A,'R2建設io'!$CE14)/'R2建設IOデータ'!R$232","v":2.8880048308444445E-3},{"$f":"+SUMIFS('R2建設IOデータ'!S:S,'R2建設IOデータ'!$A:$A,'R2建設io'!$CE14)/'R2建設IOデータ'!S$232","v":2.4447591311085579E-3},{"$f":"+SUMIFS('R2建設IOデータ'!T:T,'R2建設IOデータ'!$A:$A,'R2建設io'!$CE14)/'R2建設IOデータ'!T$232","v":3.6441611854688975E-3},{"$f":"+SUMIFS('R2建設IOデータ'!U:U,'R2建設IOデータ'!$A:$A,'R2建設io'!$CE14)/'R2建設IOデータ'!U$232","v":3.6763052776976508E-3},{"$f":"+SUMIFS('R2建設IOデータ'!V:V,'R2建設IOデータ'!$A:$A,'R2建設io'!$CE14)/'R2建設IOデータ'!V$232","v":1.3269135989687985E-3},{"$f":"+SUMIFS('R2建設IOデータ'!W:W,'R2建設IOデータ'!$A:$A,'R2建設io'!$CE14)/'R2建設IOデータ'!W$232","v":1.749372516313782E-3},{"$f":"+SUMIFS('R2建設IOデータ'!X:X,'R2建設IOデータ'!$A:$A,'R2建設io'!$CE14)/'R2建設IOデータ'!X$232","v":2.8263864920467113E-3},{"$f":"+SUMIFS('R2建設IOデータ'!Y:Y,'R2建設IOデータ'!$A:$A,'R2建設io'!$CE14)/'R2建設IOデータ'!Y$232","v":1.3049083507965997E-3},{"$f":"+SUMIFS('R2建設IOデータ'!Z:Z,'R2建設IOデータ'!$A:$A,'R2建設io'!$CE14)/'R2建設IOデータ'!Z$232","v":2.6678453596855416E-3},{"$f":"+SUMIFS('R2建設IOデータ'!AA:AA,'R2建設IOデータ'!$A:$A,'R2建設io'!$CE14)/'R2建設IOデータ'!AA$232","v":4.0292822196052172E-3},{"$f":"+SUMIFS('R2建設IOデータ'!AB:AB,'R2建設IOデータ'!$A:$A,'R2建設io'!$CE14)/'R2建設IOデータ'!AB$232","v":1.2392208164020175E-3},{"$f":"+SUMIFS('R2建設IOデータ'!AC:AC,'R2建設IOデータ'!$A:$A,'R2建設io'!$CE14)/'R2建設IOデータ'!AC$232","v":4.5838224607300578E-3},{"$f":"+SUMIFS('R2建設IOデータ'!AD:AD,'R2建設IOデータ'!$A:$A,'R2建設io'!$CE14)/'R2建設IOデータ'!AD$232","v":8.1674059306664911E-4},{"$f":"+SUMIFS('R2建設IOデータ'!AE:AE,'R2建設IOデータ'!$A:$A,'R2建設io'!$CE14)/'R2建設IOデータ'!AE$232","v":4.2187744938751515E-3},{"$f":"+SUMIFS('R2建設IOデータ'!AF:AF,'R2建設IOデータ'!$A:$A,'R2建設io'!$CE14)/'R2建設IOデータ'!AF$232","v":6.4567473009294711E-3},{"$f":"+SUMIFS('R2建設IOデータ'!AG:AG,'R2建設IOデータ'!$A:$A,'R2建設io'!$CE14)/'R2建設IOデータ'!AG$232","v":2.7275472609772301E-3},{"$f":"+SUMIFS('R2建設IOデータ'!AH:AH,'R2建設IOデータ'!$A:$A,'R2建設io'!$CE14)/'R2建設IOデータ'!AH$232","v":5.7195953915852617E-3},{"$f":"+SUMIFS('R2建設IOデータ'!AI:AI,'R2建設IOデータ'!$A:$A,'R2建設io'!$CE14)/'R2建設IOデータ'!AI$232","v":4.5613159498787059E-3},{"$f":"+SUMIFS('R2建設IOデータ'!AJ:AJ,'R2建設IOデータ'!$A:$A,'R2建設io'!$CE14)/'R2建設IOデータ'!AJ$232","v":4.2058396086054536E-3},{"$f":"+SUMIFS('R2建設IOデータ'!AK:AK,'R2建設IOデータ'!$A:$A,'R2建設io'!$CE14)/'R2建設IOデータ'!AK$232","v":5.7927203535477539E-3},{"$f":"+SUMIFS('R2建設IOデータ'!AL:AL,'R2建設IOデータ'!$A:$A,'R2建設io'!$CE14)/'R2建設IOデータ'!AL$232","v":3.0145522829384168E-3},{"$f":"+SUMIFS('R2建設IOデータ'!AM:AM,'R2建設IOデータ'!$A:$A,'R2建設io'!$CE14)/'R2建設IOデータ'!AM$232","v":3.4935812972932273E-3},{"$f":"+SUMIFS('R2建設IOデータ'!AN:AN,'R2建設IOデータ'!$A:$A,'R2建設io'!$CE14)/'R2建設IOデータ'!AN$232","v":2.8036444339469622E-3},{"$f":"+SUMIFS('R2建設IOデータ'!AO:AO,'R2建設IOデータ'!$A:$A,'R2建設io'!$CE14)/'R2建設IOデータ'!AO$232","v":2.685263436402302E-2},{"$f":"+SUMIFS('R2建設IOデータ'!AP:AP,'R2建設IOデータ'!$A:$A,'R2建設io'!$CE14)/'R2建設IOデータ'!AP$232","v":3.5742805502932809E-2},{"$f":"+SUMIFS('R2建設IOデータ'!AQ:AQ,'R2建設IOデータ'!$A:$A,'R2建設io'!$CE14)/'R2建設IOデータ'!AQ$232","v":5.5562138849731907E-2},{"$f":"+SUMIFS('R2建設IOデータ'!AR:AR,'R2建設IOデータ'!$A:$A,'R2建設io'!$CE14)/'R2建設IOデータ'!AR$232","v":5.5692770690938739E-2},{"$f":"+SUMIFS('R2建設IOデータ'!AS:AS,'R2建設IOデータ'!$A:$A,'R2建設io'!$CE14)/'R2建設IOデータ'!AS$232","v":5.5931802822276402E-2},{"$f":"+SUMIFS('R2建設IOデータ'!AT:AT,'R2建設IOデータ'!$A:$A,'R2建設io'!$CE14)/'R2建設IOデータ'!AT$232","v":3.3653441832796151E-2},{"$f":"+SUMIFS('R2建設IOデータ'!AU:AU,'R2建設IOデータ'!$A:$A,'R2建設io'!$CE14)/'R2建設IOデータ'!AU$232","v":0.13105873516257155},{"$f":"+SUMIFS('R2建設IOデータ'!AV:AV,'R2建設IOデータ'!$A:$A,'R2建設io'!$CE14)/'R2建設IOデータ'!AV$232","v":1.0242991078136473E-2},{"$f":"+SUMIFS('R2建設IOデータ'!AW:AW,'R2建設IOデータ'!$A:$A,'R2建設io'!$CE14)/'R2建設IOデータ'!AW$232","v":8.61372798803407E-2},{"$f":"+SUMIFS('R2建設IOデータ'!AX:AX,'R2建設IOデータ'!$A:$A,'R2建設io'!$CE14)/'R2建設IOデータ'!AX$232","v":4.1815236659263635E-2},{"$f":"+SUMIFS('R2建設IOデータ'!AY:AY,'R2建設IOデータ'!$A:$A,'R2建設io'!$CE14)/'R2建設IOデータ'!AY$232","v":0.20340106007067138},{"$f":"+SUMIFS('R2建設IOデータ'!AZ:AZ,'R2建設IOデータ'!$A:$A,'R2建設io'!$CE14)/'R2建設IOデータ'!AZ$232","v":5.4636847089677282E-3},{"$f":"+SUMIFS('R2建設IOデータ'!BA:BA,'R2建設IOデータ'!$A:$A,'R2建設io'!$CE14)/'R2建設IOデータ'!BA$232","v":5.4687660727016092E-2},{"$f":"+SUMIFS('R2建設IOデータ'!BB:BB,'R2建設IOデータ'!$A:$A,'R2建設io'!$CE14)/'R2建設IOデータ'!BB$232","v":5.4426293478068072E-2},{"$f":"+SUMIFS('R2建設IOデータ'!BC:BC,'R2建設IOデータ'!$A:$A,'R2建設io'!$CE14)/'R2建設IOデータ'!BC$232","v":5.7740513152580615E-2},{"$f":"+SUMIFS('R2建設IOデータ'!BD:BD,'R2建設IOデータ'!$A:$A,'R2建設io'!$CE14)/'R2建設IOデータ'!BD$232","v":2.0077902775286368E-2},{"$f":"+SUMIFS('R2建設IOデータ'!BE:BE,'R2建設IOデータ'!$A:$A,'R2建設io'!$CE14)/'R2建設IOデータ'!BE$232","v":7.4483708122992195E-2},{"$f":"+SUMIFS('R2建設IOデータ'!BF:BF,'R2建設IOデータ'!$A:$A,'R2建設io'!$CE14)/'R2建設IOデータ'!BF$232","v":9.0184693310272415E-3},{"$f":"+SUMIFS('R2建設IOデータ'!BG:BG,'R2建設IOデータ'!$A:$A,'R2建設io'!$CE14)/'R2建設IOデータ'!BG$232","v":5.7259198216103542E-2},{"$f":"+SUMIFS('R2建設IOデータ'!BH:BH,'R2建設IOデータ'!$A:$A,'R2建設io'!$CE14)/'R2建設IOデータ'!BH$232","v":5.8033442599671019E-2},{"$f":"+SUMIFS('R2建設IOデータ'!BI:BI,'R2建設IOデータ'!$A:$A,'R2建設io'!$CE14)/'R2建設IOデータ'!BI$232","v":5.3749597682652077E-2},{"$f":"+SUMIFS('R2建設IOデータ'!BJ:BJ,'R2建設IOデータ'!$A:$A,'R2建設io'!$CE14)/'R2建設IOデータ'!BJ$232","v":4.7703235011320989E-2},{"$f":"+SUMIFS('R2建設IOデータ'!BK:BK,'R2建設IOデータ'!$A:$A,'R2建設io'!$CE14)/'R2建設IOデータ'!BK$232","v":1.8823294582130806E-2},{"$f":"+SUMIFS('R2建設IOデータ'!BL:BL,'R2建設IOデータ'!$A:$A,'R2建設io'!$CE14)/'R2建設IOデータ'!BL$232","v":1.2819151007863924E-2},{"$f":"+SUMIFS('R2建設IOデータ'!BM:BM,'R2建設IOデータ'!$A:$A,'R2建設io'!$CE14)/'R2建設IOデータ'!BM$232","v":1.5598823699718566E-2},{"$f":"+SUMIFS('R2建設IOデータ'!BN:BN,'R2建設IOデータ'!$A:$A,'R2建設io'!$CE14)/'R2建設IOデータ'!BN$232","v":1.0123606797522186E-2},{"$f":"+SUMIFS('R2建設IOデータ'!BO:BO,'R2建設IOデータ'!$A:$A,'R2建設io'!$CE14)/'R2建設IOデータ'!BO$232","v":8.468599638278753E-3},{"$f":"+SUMIFS('R2建設IOデータ'!BP:BP,'R2建設IOデータ'!$A:$A,'R2建設io'!$CE14)/'R2建設IOデータ'!BP$232","v":6.2831066981586369E-3},{"$f":"+SUMIFS('R2建設IOデータ'!BQ:BQ,'R2建設IOデータ'!$A:$A,'R2建設io'!$CE14)/'R2建設IOデータ'!BQ$232","v":2.4329113684610562E-2},{"$f":"+SUMIFS('R2建設IOデータ'!BR:BR,'R2建設IOデータ'!$A:$A,'R2建設io'!$CE14)/'R2建設IOデータ'!BR$232","v":1.8400887716140533E-2},{"$f":"+SUMIFS('R2建設IOデータ'!BS:BS,'R2建設IOデータ'!$A:$A,'R2建設io'!$CE14)/'R2建設IOデータ'!BS$232","v":6.1707143909659617E-2},{"$f":"+SUMIFS('R2建設IOデータ'!BT:BT,'R2建設IOデータ'!$A:$A,'R2建設io'!$CE14)/'R2建設IOデータ'!BT$232","v":1.4121566548228572E-2},{"$f":"+SUMIFS('R2建設IOデータ'!BU:BU,'R2建設IOデータ'!$A:$A,'R2建設io'!$CE14)/'R2建設IOデータ'!BU$232","v":5.5332477177241747E-2},{"$f":"+SUMIFS('R2建設IOデータ'!BV:BV,'R2建設IOデータ'!$A:$A,'R2建設io'!$CE14)/'R2建設IOデータ'!BV$232","v":1.6127251377542055E-2},{"$f":"+SUMIFS('R2建設IOデータ'!BW:BW,'R2建設IOデータ'!$A:$A,'R2建設io'!$CE14)/'R2建設IOデータ'!BW$232","v":2.4007380770574974E-2},{"$f":"+SUMIFS('R2建設IOデータ'!BX:BX,'R2建設IOデータ'!$A:$A,'R2建設io'!$CE14)/'R2建設IOデータ'!BX$232","v":1.4311075148062905E-2},{"$f":"+SUMIFS('R2建設IOデータ'!BY:BY,'R2建設IOデータ'!$A:$A,'R2建設io'!$CE14)/'R2建設IOデータ'!BY$232","v":4.6596299671107944E-3},{"$f":"+SUMIFS('R2建設IOデータ'!BZ:BZ,'R2建設IOデータ'!$A:$A,'R2建設io'!$CE14)/'R2建設IOデータ'!BZ$232","v":7.6428936146207983E-3},{"$f":"+SUMIFS('R2建設IOデータ'!CA:CA,'R2建設IOデータ'!$A:$A,'R2建設io'!$CE14)/'R2建設IOデータ'!CA$232","v":2.935729052189885E-3},{"$f":"+SUMIFS('R2建設IOデータ'!CB:CB,'R2建設IOデータ'!$A:$A,'R2建設io'!$CE14)/'R2建設IOデータ'!CB$232","v":8.8351978117926968E-3},{"$f":"+SUMIFS('R2建設IOデータ'!CC:CC,'R2建設IOデータ'!$A:$A,'R2建設io'!$CE14)/'R2建設IOデータ'!CC$232","v":2.6568593049661356E-2},{"$f":"+SUMIFS('R2建設IOデータ'!CD:CD,'R2建設IOデータ'!$A:$A,'R2建設io'!$CE14)/'R2建設IOデータ'!CD$232","v":2.8347490667350733E-2}]
[0,null,"22","プラスチック・ゴム製品",0,0,0,0,0,0,0,0,0,0,0,0,0,0,0,0,0,0,0,0,0,0,0,0,0,0,0,0,0,0,0,0,0,0,0,0,0,0,0,0,0,0,0,0,0,0,0,0,0,0,0,0,0,0,0,0,0,0,0,0,0,0,0,0,0,0,0,0,0,0,0,null,null,null,null,null,null,null,"22","プラスチック・ゴム製品",{"$f":"+SUMIFS('R2建設IOデータ'!L:L,'R2建設IOデータ'!$A:$A,'R2建設io'!$CE15)/'R2建設IOデータ'!L$232","v":1.3998379328599306E-2},{"$f":"+SUMIFS('R2建設IOデータ'!M:M,'R2建設IOデータ'!$A:$A,'R2建設io'!$CE15)/'R2建設IOデータ'!M$232","v":1.2703283131978249E-2},{"$f":"+SUMIFS('R2建設IOデータ'!N:N,'R2建設IOデータ'!$A:$A,'R2建設io'!$CE15)/'R2建設IOデータ'!N$232","v":1.443670811657668E-2},{"$f":"+SUMIFS('R2建設IOデータ'!O:O,'R2建設IOデータ'!$A:$A,'R2建設io'!$CE15)/'R2建設IOデータ'!O$232","v":1.4149354989527371E-2},{"$f":"+SUMIFS('R2建設IOデータ'!P:P,'R2建設IOデータ'!$A:$A,'R2建設io'!$CE15)/'R2建設IOデータ'!P$232","v":1.4194571218522625E-2},{"$f":"+SUMIFS('R2建設IOデータ'!Q:Q,'R2建設IOデータ'!$A:$A,'R2建設io'!$CE15)/'R2建設IOデータ'!Q$232","v":1.209217891180475E-2},{"$f":"+SUMIFS('R2建設IOデータ'!R:R,'R2建設IOデータ'!$A:$A,'R2建設io'!$CE15)/'R2建設IOデータ'!R$232","v":1.4843515738244507E-2},{"$f":"+SUMIFS('R2建設IOデータ'!S:S,'R2建設IOデータ'!$A:$A,'R2建設io'!$CE15)/'R2建設IOデータ'!S$232","v":1.5510193176049377E-2},{"$f":"+SUMIFS('R2建設IOデータ'!T:T,'R2建設IOデータ'!$A:$A,'R2建設io'!$CE15)/'R2建設IOデータ'!T$232","v":1.5563480789894177E-2},{"$f":"+SUMIFS('R2建設IOデータ'!U:U,'R2建設IOデータ'!$A:$A,'R2建設io'!$CE15)/'R2建設IOデータ'!U$232","v":1.551878870461054E-2},{"$f":"+SUMIFS('R2建設IOデータ'!V:V,'R2建設IOデータ'!$A:$A,'R2建設io'!$CE15)/'R2建設IOデータ'!V$232","v":1.878530537968685E-2},{"$f":"+SUMIFS('R2建設IOデータ'!W:W,'R2建設IOデータ'!$A:$A,'R2建設io'!$CE15)/'R2建設IOデータ'!W$232","v":1.3734181913306227E-2},{"$f":"+SUMIFS('R2建設IOデータ'!X:X,'R2建設IOデータ'!$A:$A,'R2建設io'!$CE15)/'R2建設IOデータ'!X$232","v":1.3165797462231052E-2},{"$f":"+SUMIFS('R2建設IOデータ'!Y:Y,'R2建設IOデータ'!$A:$A,'R2建設io'!$CE15)/'R2建設IOデータ'!Y$232","v":1.3968743884118307E-2},{"$f":"+SUMIFS('R2建設IOデータ'!Z:Z,'R2建設IOデータ'!$A:$A,'R2建設io'!$CE15)/'R2建設IOデータ'!Z$232","v":1.4349535100320457E-2},{"$f":"+SUMIFS('R2建設IOデータ'!AA:AA,'R2建設IOデータ'!$A:$A,'R2建設io'!$CE15)/'R2建設IOデータ'!AA$232","v":1.0890923572487143E-2},{"$f":"+SUMIFS('R2建設IOデータ'!AB:AB,'R2建設IOデータ'!$A:$A,'R2建設io'!$CE15)/'R2建設IOデータ'!AB$232","v":8.299435872412499E-3},{"$f":"+SUMIFS('R2建設IOデータ'!AC:AC,'R2建設IOデータ'!$A:$A,'R2建設io'!$CE15)/'R2建設IOデータ'!AC$232","v":6.0465462947435107E-3},{"$f":"+SUMIFS('R2建設IOデータ'!AD:AD,'R2建設IOデータ'!$A:$A,'R2建設io'!$CE15)/'R2建設IOデータ'!AD$232","v":8.5840142447091341E-3},{"$f":"+SUMIFS('R2建設IOデータ'!AE:AE,'R2建設IOデータ'!$A:$A,'R2建設io'!$CE15)/'R2建設IOデータ'!AE$232","v":1.1066929339767363E-2},{"$f":"+SUMIFS('R2建設IOデータ'!AF:AF,'R2建設IOデータ'!$A:$A,'R2建設io'!$CE15)/'R2建設IOデータ'!AF$232","v":7.4102437046713815E-3},{"$f":"+SUMIFS('R2建設IOデータ'!AG:AG,'R2建設IOデータ'!$A:$A,'R2建設io'!$CE15)/'R2建設IOデータ'!AG$232","v":1.0854623422117533E-2},{"$f":"+SUMIFS('R2建設IOデータ'!AH:AH,'R2建設IOデータ'!$A:$A,'R2建設io'!$CE15)/'R2建設IOデータ'!AH$232","v":6.0790761344907329E-3},{"$f":"+SUMIFS('R2建設IOデータ'!AI:AI,'R2建設IOデータ'!$A:$A,'R2建設io'!$CE15)/'R2建設IOデータ'!AI$232","v":1.0846932054801245E-2},{"$f":"+SUMIFS('R2建設IOデータ'!AJ:AJ,'R2建設IOデータ'!$A:$A,'R2建設io'!$CE15)/'R2建設IOデータ'!AJ$232","v":1.4720438630119088E-2},{"$f":"+SUMIFS('R2建設IOデータ'!AK:AK,'R2建設IOデータ'!$A:$A,'R2建設io'!$CE15)/'R2建設IOデータ'!AK$232","v":9.0512957081647031E-3},{"$f":"+SUMIFS('R2建設IOデータ'!AL:AL,'R2建設IOデータ'!$A:$A,'R2建設io'!$CE15)/'R2建設IOデータ'!AL$232","v":1.1687076392404379E-2},{"$f":"+SUMIFS('R2建設IOデータ'!AM:AM,'R2建設IOデータ'!$A:$A,'R2建設io'!$CE15)/'R2建設IOデータ'!AM$232","v":6.7763430335428983E-3},{"$f":"+SUMIFS('R2建設IOデータ'!AN:AN,'R2建設IOデータ'!$A:$A,'R2建設io'!$CE15)/'R2建設IOデータ'!AN$232","v":1.6017143128758207E-2},{"$f":"+SUMIFS('R2建設IOデータ'!AO:AO,'R2建設IOデータ'!$A:$A,'R2建設io'!$CE15)/'R2建設IOデータ'!AO$232","v":1.4851584891582191E-2},{"$f":"+SUMIFS('R2建設IOデータ'!AP:AP,'R2建設IOデータ'!$A:$A,'R2建設io'!$CE15)/'R2建設IOデータ'!AP$232","v":1.5686710729780666E-2},{"$f":"+SUMIFS('R2建設IOデータ'!AQ:AQ,'R2建設IOデータ'!$A:$A,'R2建設io'!$CE15)/'R2建設IOデータ'!AQ$232","v":1.25245809968039E-2},{"$f":"+SUMIFS('R2建設IOデータ'!AR:AR,'R2建設IOデータ'!$A:$A,'R2建設io'!$CE15)/'R2建設IOデータ'!AR$232","v":1.2438553931964054E-2},{"$f":"+SUMIFS('R2建設IOデータ'!AS:AS,'R2建設IOデータ'!$A:$A,'R2建設io'!$CE15)/'R2建設IOデータ'!AS$232","v":9.3559673062314757E-3},{"$f":"+SUMIFS('R2建設IOデータ'!AT:AT,'R2建設IOデータ'!$A:$A,'R2建設io'!$CE15)/'R2建設IOデータ'!AT$232","v":5.8657608075959253E-3},{"$f":"+SUMIFS('R2建設IOデータ'!AU:AU,'R2建設IOデータ'!$A:$A,'R2建設io'!$CE15)/'R2建設IOデータ'!AU$232","v":3.9604411111996266E-2},{"$f":"+SUMIFS('R2建設IOデータ'!AV:AV,'R2建設IOデータ'!$A:$A,'R2建設io'!$CE15)/'R2建設IOデータ'!AV$232","v":1.5876210915462013E-2},{"$f":"+SUMIFS('R2建設IOデータ'!AW:AW,'R2建設IOデータ'!$A:$A,'R2建設io'!$CE15)/'R2建設IOデータ'!AW$232","v":1.1275748696602118E-2},{"$f":"+SUMIFS('R2建設IOデータ'!AX:AX,'R2建設IOデータ'!$A:$A,'R2建設io'!$CE15)/'R2建設IOデータ'!AX$232","v":4.2940972717455533E-3},{"$f":"+SUMIFS('R2建設IOデータ'!AY:AY,'R2建設IOデータ'!$A:$A,'R2建設io'!$CE15)/'R2建設IOデータ'!AY$232","v":1.3250883392226149E-2},{"$f":"+SUMIFS('R2建設IOデータ'!AZ:AZ,'R2建設IOデータ'!$A:$A,'R2建設io'!$CE15)/'R2建設IOデータ'!AZ$232","v":1.6536752385808991E-2},{"$f":"+SUMIFS('R2建設IOデータ'!BA:BA,'R2建設IOデータ'!$A:$A,'R2建設io'!$CE15)/'R2建設IOデータ'!BA$232","v":2.5400570857637122E-2},{"$f":"+SUMIFS('R2建設IOデータ'!BB:BB,'R2建設IOデータ'!$A:$A,'R2建設io'!$CE15)/'R2建設IOデータ'!BB$232","v":2.6934772797594059E-2},{"$f":"+SUMIFS('R2建設IOデータ'!BC:BC,'R2建設IOデータ'!$A:$A,'R2建設io'!$CE15)/'R2建設IOデータ'!BC$232","v":2.8984297900415779E-2},{"$f":"+SUMIFS('R2建設IOデータ'!BD:BD,'R2建設IOデータ'!$A:$A,'R2建設io'!$CE15)/'R2建設IOデータ'!BD$232","v":1.3197345155421161E-2},{"$f":"+SUMIFS('R2建設IOデータ'!BE:BE,'R2建設IOデータ'!$A:$A,'R2建設io'!$CE15)/'R2建設IOデータ'!BE$232","v":9.1785222579164757E-4},{"$f":"+SUMIFS('R2建設IOデータ'!BF:BF,'R2建設IOデータ'!$A:$A,'R2建設io'!$CE15)/'R2建設IOデータ'!BF$232","v":1.4392488726913337E-2},{"$f":"+SUMIFS('R2建設IOデータ'!BG:BG,'R2建設IOデータ'!$A:$A,'R2建設io'!$CE15)/'R2建設IOデータ'!BG$232","v":1.0305880071743661E-2},{"$f":"+SUMIFS('R2建設IOデータ'!BH:BH,'R2建設IOデータ'!$A:$A,'R2建設io'!$CE15)/'R2建設IOデータ'!BH$232","v":1.0449333159769475E-2},{"$f":"+SUMIFS('R2建設IOデータ'!BI:BI,'R2建設IOデータ'!$A:$A,'R2建設io'!$CE15)/'R2建設IOデータ'!BI$232","v":9.6556163501770199E-3},{"$f":"+SUMIFS('R2建設IOデータ'!BJ:BJ,'R2建設IOデータ'!$A:$A,'R2建設io'!$CE15)/'R2建設IOデータ'!BJ$232","v":1.7700029982527423E-2},{"$f":"+SUMIFS('R2建設IOデータ'!BK:BK,'R2建設IOデータ'!$A:$A,'R2建設io'!$CE15)/'R2建設IOデータ'!BK$232","v":1.9201001440243361E-2},{"$f":"+SUMIFS('R2建設IOデータ'!BL:BL,'R2建設IOデータ'!$A:$A,'R2建設io'!$CE15)/'R2建設IOデータ'!BL$232","v":7.1101940664733436E-3},{"$f":"+SUMIFS('R2建設IOデータ'!BM:BM,'R2建設IOデータ'!$A:$A,'R2建設io'!$CE15)/'R2建設IOデータ'!BM$232","v":8.1140796510517591E-3},{"$f":"+SUMIFS('R2建設IOデータ'!BN:BN,'R2建設IOデータ'!$A:$A,'R2建設io'!$CE15)/'R2建設IOデータ'!BN$232","v":4.7296491656399217E-3},{"$f":"+SUMIFS('R2建設IOデータ'!BO:BO,'R2建設IOデータ'!$A:$A,'R2建設io'!$CE15)/'R2建設IOデータ'!BO$232","v":7.5074221104956037E-3},{"$f":"+SUMIFS('R2建設IOデータ'!BP:BP,'R2建設IOデータ'!$A:$A,'R2建設io'!$CE15)/'R2建設IOデータ'!BP$232","v":4.5242954436010918E-3},{"$f":"+SUMIFS('R2建設IOデータ'!BQ:BQ,'R2建設IOデータ'!$A:$A,'R2建設io'!$CE15)/'R2建設IOデータ'!BQ$232","v":4.9166373615602409E-2},{"$f":"+SUMIFS('R2建設IOデータ'!BR:BR,'R2建設IOデータ'!$A:$A,'R2建設io'!$CE15)/'R2建設IOデータ'!BR$232","v":2.1186858505885864E-2},{"$f":"+SUMIFS('R2建設IOデータ'!BS:BS,'R2建設IOデータ'!$A:$A,'R2建設io'!$CE15)/'R2建設IOデータ'!BS$232","v":4.078980857590655E-3},{"$f":"+SUMIFS('R2建設IOデータ'!BT:BT,'R2建設IOデータ'!$A:$A,'R2建設io'!$CE15)/'R2建設IOデータ'!BT$232","v":1.8701480608070146E-2},{"$f":"+SUMIFS('R2建設IOデータ'!BU:BU,'R2建設IOデータ'!$A:$A,'R2建設io'!$CE15)/'R2建設IOデータ'!BU$232","v":3.0013888323929174E-2},{"$f":"+SUMIFS('R2建設IOデータ'!BV:BV,'R2建設IOデータ'!$A:$A,'R2建設io'!$CE15)/'R2建設IOデータ'!BV$232","v":1.1064502284621936E-2},{"$f":"+SUMIFS('R2建設IOデータ'!BW:BW,'R2建設IOデータ'!$A:$A,'R2建設io'!$CE15)/'R2建設IOデータ'!BW$232","v":1.3448042257230456E-2},{"$f":"+SUMIFS('R2建設IOデータ'!BX:BX,'R2建設IOデータ'!$A:$A,'R2建設io'!$CE15)/'R2建設IOデータ'!BX$232","v":1.367345457340376E-2},{"$f":"+SUMIFS('R2建設IOデータ'!BY:BY,'R2建設IOデータ'!$A:$A,'R2建設io'!$CE15)/'R2建設IOデータ'!BY$232","v":1.3684281879912035E-2},{"$f":"+SUMIFS('R2建設IOデータ'!BZ:BZ,'R2建設IOデータ'!$A:$A,'R2建設io'!$CE15)/'R2建設IOデータ'!BZ$232","v":7.5914598358184007E-3},{"$f":"+SUMIFS('R2建設IOデータ'!CA:CA,'R2建設IOデータ'!$A:$A,'R2建設io'!$CE15)/'R2建設IOデータ'!CA$232","v":2.0316474665887905E-2},{"$f":"+SUMIFS('R2建設IOデータ'!CB:CB,'R2建設IOデータ'!$A:$A,'R2建設io'!$CE15)/'R2建設IOデータ'!CB$232","v":1.5435282017084067E-2},{"$f":"+SUMIFS('R2建設IOデータ'!CC:CC,'R2建設IOデータ'!$A:$A,'R2建設io'!$CE15)/'R2建設IOデータ'!CC$232","v":1.2446786676641751E-2},{"$f":"+SUMIFS('R2建設IOデータ'!CD:CD,'R2建設IOデータ'!$A:$A,'R2建設io'!$CE15)/'R2建設IOデータ'!CD$232","v":1.6787868173649408E-2}]
[0,null,"25","窯業・土石製品",0,0,0,0,0,0,0,0,0,0,0,0,0,0,0,0,0,0,0,0,0,0,0,0,0,0,0,0,0,0,0,0,0,0,0,0,0,0,0,0,0,0,0,0,0,0,0,0,0,0,0,0,0,0,0,0,0,0,0,0,0,0,0,0,0,0,0,0,0,0,0,null,null,null,null,null,null,null,"25","窯業・土石製品",{"$f":"+SUMIFS('R2建設IOデータ'!L:L,'R2建設IOデータ'!$A:$A,'R2建設io'!$CE16)/'R2建設IOデータ'!L$232","v":5.1655125455105935E-2},{"$f":"+SUMIFS('R2建設IOデータ'!M:M,'R2建設IOデータ'!$A:$A,'R2建設io'!$CE16)/'R2建設IOデータ'!M$232","v":4.5665846588619559E-2},{"$f":"+SUMIFS('R2建設IOデータ'!N:N,'R2建設IOデータ'!$A:$A,'R2建設io'!$CE16)/'R2建設IOデータ'!N$232","v":4.3999593233696774E-2},{"$f":"+SUMIFS('R2建設IOデータ'!O:O,'R2建設IOデータ'!$A:$A,'R2建設io'!$CE16)/'R2建設IOデータ'!O$232","v":4.1689662924833386E-2},{"$f":"+SUMIFS('R2建設IOデータ'!P:P,'R2建設IOデータ'!$A:$A,'R2建設io'!$CE16)/'R2建設IOデータ'!P$232","v":4.1804984553432775E-2},{"$f":"+SUMIFS('R2建設IOデータ'!Q:Q,'R2建設IOデータ'!$A:$A,'R2建設io'!$CE16)/'R2建設IOデータ'!Q$232","v":3.644294286722808E-2},{"$f":"+SUMIFS('R2建設IOデータ'!R:R,'R2建設IOデータ'!$A:$A,'R2建設io'!$CE16)/'R2建設IOデータ'!R$232","v":4.7269776039140524E-2},{"$f":"+SUMIFS('R2建設IOデータ'!S:S,'R2建設IOデータ'!$A:$A,'R2建設io'!$CE16)/'R2建設IOデータ'!S$232","v":3.1795228043925511E-2},{"$f":"+SUMIFS('R2建設IOデータ'!T:T,'R2建設IOデータ'!$A:$A,'R2建設io'!$CE16)/'R2建設IOデータ'!T$232","v":5.4136969731235655E-2},{"$f":"+SUMIFS('R2建設IOデータ'!U:U,'R2建設IOデータ'!$A:$A,'R2建設io'!$CE16)/'R2建設IOデータ'!U$232","v":5.3364407022555599E-2},{"$f":"+SUMIFS('R2建設IOデータ'!V:V,'R2建設IOデータ'!$A:$A,'R2建設io'!$CE16)/'R2建設IOデータ'!V$232","v":0.10983053417750313},{"$f":"+SUMIFS('R2建設IOデータ'!W:W,'R2建設IOデータ'!$A:$A,'R2建設io'!$CE16)/'R2建設IOデータ'!W$232","v":3.7746671647105476E-2},{"$f":"+SUMIFS('R2建設IOデータ'!X:X,'R2建設IOデータ'!$A:$A,'R2建設io'!$CE16)/'R2建設IOデータ'!X$232","v":3.5234712374409241E-2},{"$f":"+SUMIFS('R2建設IOデータ'!Y:Y,'R2建設IOデータ'!$A:$A,'R2建設io'!$CE16)/'R2建設IOデータ'!Y$232","v":3.8783311753091375E-2},{"$f":"+SUMIFS('R2建設IOデータ'!Z:Z,'R2建設IOデータ'!$A:$A,'R2建設io'!$CE16)/'R2建設IOデータ'!Z$232","v":2.6283801916428561E-2},{"$f":"+SUMIFS('R2建設IOデータ'!AA:AA,'R2建設IOデータ'!$A:$A,'R2建設io'!$CE16)/'R2建設IOデータ'!AA$232","v":4.7407975739381762E-2},{"$f":"+SUMIFS('R2建設IOデータ'!AB:AB,'R2建設IOデータ'!$A:$A,'R2建設io'!$CE16)/'R2建設IOデータ'!AB$232","v":5.0811188095121168E-2},{"$f":"+SUMIFS('R2建設IOデータ'!AC:AC,'R2建設IOデータ'!$A:$A,'R2建設io'!$CE16)/'R2建設IOデータ'!AC$232","v":8.8145415245868039E-2},{"$f":"+SUMIFS('R2建設IOデータ'!AD:AD,'R2建設IOデータ'!$A:$A,'R2建設io'!$CE16)/'R2建設IOデータ'!AD$232","v":4.6095238543565578E-2},{"$f":"+SUMIFS('R2建設IOデータ'!AE:AE,'R2建設IOデータ'!$A:$A,'R2建設io'!$CE16)/'R2建設IOデータ'!AE$232","v":4.7176840163522311E-2},{"$f":"+SUMIFS('R2建設IOデータ'!AF:AF,'R2建設IOデータ'!$A:$A,'R2建設io'!$CE16)/'R2建設IOデータ'!AF$232","v":5.4003934111146144E-2},{"$f":"+SUMIFS('R2建設IOデータ'!AG:AG,'R2建設IOデータ'!$A:$A,'R2建設io'!$CE16)/'R2建設IOデータ'!AG$232","v":3.7472972156791691E-2},{"$f":"+SUMIFS('R2建設IOデータ'!AH:AH,'R2建設IOデータ'!$A:$A,'R2建設io'!$CE16)/'R2建設IOデータ'!AH$232","v":6.1827478130250788E-2},{"$f":"+SUMIFS('R2建設IOデータ'!AI:AI,'R2建設IOデータ'!$A:$A,'R2建設io'!$CE16)/'R2建設IOデータ'!AI$232","v":4.6746329470191902E-2},{"$f":"+SUMIFS('R2建設IOデータ'!AJ:AJ,'R2建設IOデータ'!$A:$A,'R2建設io'!$CE16)/'R2建設IOデータ'!AJ$232","v":4.6020168800608441E-2},{"$f":"+SUMIFS('R2建設IOデータ'!AK:AK,'R2建設IOデータ'!$A:$A,'R2建設io'!$CE16)/'R2建設IOデータ'!AK$232","v":5.3095027838717598E-2},{"$f":"+SUMIFS('R2建設IOデータ'!AL:AL,'R2建設IOデータ'!$A:$A,'R2建設io'!$CE16)/'R2建設IOデータ'!AL$232","v":4.3119032500550603E-2},{"$f":"+SUMIFS('R2建設IOデータ'!AM:AM,'R2建設IOデータ'!$A:$A,'R2建設io'!$CE16)/'R2建設IOデータ'!AM$232","v":2.2557693031660581E-2},{"$f":"+SUMIFS('R2建設IOデータ'!AN:AN,'R2建設IOデータ'!$A:$A,'R2建設io'!$CE16)/'R2建設IOデータ'!AN$232","v":5.1304037191141669E-2},{"$f":"+SUMIFS('R2建設IOデータ'!AO:AO,'R2建設IOデータ'!$A:$A,'R2建設io'!$CE16)/'R2建設IOデータ'!AO$232","v":5.9977704245824527E-2},{"$f":"+SUMIFS('R2建設IOデータ'!AP:AP,'R2建設IOデータ'!$A:$A,'R2建設io'!$CE16)/'R2建設IOデータ'!AP$232","v":6.9911204085315815E-2},{"$f":"+SUMIFS('R2建設IOデータ'!AQ:AQ,'R2建設IOデータ'!$A:$A,'R2建設io'!$CE16)/'R2建設IOデータ'!AQ$232","v":6.4702305597342094E-2},{"$f":"+SUMIFS('R2建設IOデータ'!AR:AR,'R2建設IOデータ'!$A:$A,'R2建設io'!$CE16)/'R2建設IOデータ'!AR$232","v":6.4074045304595831E-2},{"$f":"+SUMIFS('R2建設IOデータ'!AS:AS,'R2建設IOデータ'!$A:$A,'R2建設io'!$CE16)/'R2建設IOデータ'!AS$232","v":6.3806582361846748E-2},{"$f":"+SUMIFS('R2建設IOデータ'!AT:AT,'R2建設IOデータ'!$A:$A,'R2建設io'!$CE16)/'R2建設IOデータ'!AT$232","v":9.2466864823338393E-2},{"$f":"+SUMIFS('R2建設IOデータ'!AU:AU,'R2建設IOデータ'!$A:$A,'R2建設io'!$CE16)/'R2建設IOデータ'!AU$232","v":0.10256176808658343},{"$f":"+SUMIFS('R2建設IOデータ'!AV:AV,'R2建設IOデータ'!$A:$A,'R2建設io'!$CE16)/'R2建設IOデータ'!AV$232","v":4.9797436558944683E-2},{"$f":"+SUMIFS('R2建設IOデータ'!AW:AW,'R2建設IOデータ'!$A:$A,'R2建設io'!$CE16)/'R2建設IOデータ'!AW$232","v":2.1855547694581399E-2},{"$f":"+SUMIFS('R2建設IOデータ'!AX:AX,'R2建設IOデータ'!$A:$A,'R2建設io'!$CE16)/'R2建設IOデータ'!AX$232","v":0.13065924326086514},{"$f":"+SUMIFS('R2建設IOデータ'!AY:AY,'R2建設IOデータ'!$A:$A,'R2建設io'!$CE16)/'R2建設IOデータ'!AY$232","v":5.3997349823321557E-2},{"$f":"+SUMIFS('R2建設IOデータ'!AZ:AZ,'R2建設IOデータ'!$A:$A,'R2建設io'!$CE16)/'R2建設IOデータ'!AZ$232","v":5.0484446710861802E-2},{"$f":"+SUMIFS('R2建設IOデータ'!BA:BA,'R2建設IOデータ'!$A:$A,'R2建設io'!$CE16)/'R2建設IOデータ'!BA$232","v":6.5198704434030696E-2},{"$f":"+SUMIFS('R2建設IOデータ'!BB:BB,'R2建設IOデータ'!$A:$A,'R2建設io'!$CE16)/'R2建設IOデータ'!BB$232","v":6.4717753458241933E-2},{"$f":"+SUMIFS('R2建設IOデータ'!BC:BC,'R2建設IOデータ'!$A:$A,'R2建設io'!$CE16)/'R2建設IOデータ'!BC$232","v":7.0577672155113999E-2},{"$f":"+SUMIFS('R2建設IOデータ'!BD:BD,'R2建設IOデータ'!$A:$A,'R2建設io'!$CE16)/'R2建設IOデータ'!BD$232","v":2.1602644594213669E-2},{"$f":"+SUMIFS('R2建設IOデータ'!BE:BE,'R2建設IOデータ'!$A:$A,'R2建設io'!$CE16)/'R2建設IOデータ'!BE$232","v":4.4056906837999085E-3},{"$f":"+SUMIFS('R2建設IOデータ'!BF:BF,'R2建設IOデータ'!$A:$A,'R2建設io'!$CE16)/'R2建設IOデータ'!BF$232","v":2.8414355426524183E-2},{"$f":"+SUMIFS('R2建設IOデータ'!BG:BG,'R2建設IOデータ'!$A:$A,'R2建設io'!$CE16)/'R2建設IOデータ'!BG$232","v":6.9930680110524016E-2},{"$f":"+SUMIFS('R2建設IOデータ'!BH:BH,'R2建設IOデータ'!$A:$A,'R2建設io'!$CE16)/'R2建設IOデータ'!BH$232","v":7.0944226832183474E-2},{"$f":"+SUMIFS('R2建設IOデータ'!BI:BI,'R2建設IOデータ'!$A:$A,'R2建設io'!$CE16)/'R2建設IOデータ'!BI$232","v":6.5336337302864506E-2},{"$f":"+SUMIFS('R2建設IOデータ'!BJ:BJ,'R2建設IOデータ'!$A:$A,'R2建設io'!$CE16)/'R2建設IOデータ'!BJ$232","v":0.10249888857872481},{"$f":"+SUMIFS('R2建設IOデータ'!BK:BK,'R2建設IOデータ'!$A:$A,'R2建設io'!$CE16)/'R2建設IOデータ'!BK$232","v":7.2191911196702055E-2},{"$f":"+SUMIFS('R2建設IOデータ'!BL:BL,'R2建設IOデータ'!$A:$A,'R2建設io'!$CE16)/'R2建設IOデータ'!BL$232","v":7.6262529697729342E-2},{"$f":"+SUMIFS('R2建設IOデータ'!BM:BM,'R2建設IOデータ'!$A:$A,'R2建設io'!$CE16)/'R2建設IOデータ'!BM$232","v":6.5570517190172845E-2},{"$f":"+SUMIFS('R2建設IOデータ'!BN:BN,'R2建設IOデータ'!$A:$A,'R2建設io'!$CE16)/'R2建設IOデータ'!BN$232","v":4.8392316733192144E-2},{"$f":"+SUMIFS('R2建設IOデータ'!BO:BO,'R2建設IOデータ'!$A:$A,'R2建設io'!$CE16)/'R2建設IOデータ'!BO$232","v":0.11151365554582371},{"$f":"+SUMIFS('R2建設IOデータ'!BP:BP,'R2建設IOデータ'!$A:$A,'R2建設io'!$CE16)/'R2建設IOデータ'!BP$232","v":0.10938109105918503},{"$f":"+SUMIFS('R2建設IOデータ'!BQ:BQ,'R2建設IOデータ'!$A:$A,'R2建設io'!$CE16)/'R2建設IOデータ'!BQ$232","v":5.9699015778327862E-2},{"$f":"+SUMIFS('R2建設IOデータ'!BR:BR,'R2建設IOデータ'!$A:$A,'R2建設io'!$CE16)/'R2建設IOデータ'!BR$232","v":9.7455305264760844E-2},{"$f":"+SUMIFS('R2建設IOデータ'!BS:BS,'R2建設IOデータ'!$A:$A,'R2建設io'!$CE16)/'R2建設IOデータ'!BS$232","v":1.883430898447442E-2},{"$f":"+SUMIFS('R2建設IOデータ'!BT:BT,'R2建設IOデータ'!$A:$A,'R2建設io'!$CE16)/'R2建設IOデータ'!BT$232","v":3.9096441317749094E-2},{"$f":"+SUMIFS('R2建設IOデータ'!BU:BU,'R2建設IOデータ'!$A:$A,'R2建設io'!$CE16)/'R2建設IOデータ'!BU$232","v":5.3804180443612827E-2},{"$f":"+SUMIFS('R2建設IOデータ'!BV:BV,'R2建設IOデータ'!$A:$A,'R2建設io'!$CE16)/'R2建設IOデータ'!BV$232","v":8.4627504370977671E-2},{"$f":"+SUMIFS('R2建設IOデータ'!BW:BW,'R2建設IOデータ'!$A:$A,'R2建設io'!$CE16)/'R2建設IOデータ'!BW$232","v":8.3923966137236614E-2},{"$f":"+SUMIFS('R2建設IOデータ'!BX:BX,'R2建設IOデータ'!$A:$A,'R2建設io'!$CE16)/'R2建設IOデータ'!BX$232","v":4.5964298371841787E-2},{"$f":"+SUMIFS('R2建設IOデータ'!BY:BY,'R2建設IOデータ'!$A:$A,'R2建設io'!$CE16)/'R2建設IOデータ'!BY$232","v":4.2018143161248356E-2},{"$f":"+SUMIFS('R2建設IOデータ'!BZ:BZ,'R2建設IOデータ'!$A:$A,'R2建設io'!$CE16)/'R2建設IOデータ'!BZ$232","v":2.094640641727644E-2},{"$f":"+SUMIFS('R2建設IOデータ'!CA:CA,'R2建設IOデータ'!$A:$A,'R2建設io'!$CE16)/'R2建設IOデータ'!CA$232","v":1.562853036788835E-2},{"$f":"+SUMIFS('R2建設IOデータ'!CB:CB,'R2建設IOデータ'!$A:$A,'R2建設io'!$CE16)/'R2建設IOデータ'!CB$232","v":5.1747401079975247E-2},{"$f":"+SUMIFS('R2建設IOデータ'!CC:CC,'R2建設IOデータ'!$A:$A,'R2建設io'!$CE16)/'R2建設IOデータ'!CC$232","v":0.11108095045781664},{"$f":"+SUMIFS('R2建設IOデータ'!CD:CD,'R2建設IOデータ'!$A:$A,'R2建設io'!$CE16)/'R2建設IOデータ'!CD$232","v":5.998148367503995E-2}]
[0,null,"26","鉄鋼",0,0,0,0,0,0,0,0,0,0,0,0,0,0,0,0,0,0,0,0,0,0,0,0,0,0,0,0,0,0,0,0,0,0,0,0,0,0,0,0,0,0,0,0,0,0,0,0,0,0,0,0,0,0,0,0,0,0,0,0,0,0,0,0,0,0,0,0,0,0,0,null,null,null,null,null,null,null,"26","鉄鋼",{"$f":"+SUMIFS('R2建設IOデータ'!L:L,'R2建設IOデータ'!$A:$A,'R2建設io'!$CE17)/'R2建設IOデータ'!L$232","v":1.9810750936042187E-2},{"$f":"+SUMIFS('R2建設IOデータ'!M:M,'R2建設IOデータ'!$A:$A,'R2建設io'!$CE17)/'R2建設IOデータ'!M$232","v":1.8392826350715062E-2},{"$f":"+SUMIFS('R2建設IOデータ'!N:N,'R2建設IOデータ'!$A:$A,'R2建設io'!$CE17)/'R2建設IOデータ'!N$232","v":1.8571106245451684E-2},{"$f":"+SUMIFS('R2建設IOデータ'!O:O,'R2建設IOデータ'!$A:$A,'R2建設io'!$CE17)/'R2建設IOデータ'!O$232","v":8.5226690416121201E-3},{"$f":"+SUMIFS('R2建設IOデータ'!P:P,'R2建設IOデータ'!$A:$A,'R2建設io'!$CE17)/'R2建設IOデータ'!P$232","v":8.5585941556746634E-3},{"$f":"+SUMIFS('R2建設IOデータ'!Q:Q,'R2建設IOデータ'!$A:$A,'R2建設io'!$CE17)/'R2建設IOデータ'!Q$232","v":6.888205335081438E-3},{"$f":"+SUMIFS('R2建設IOデータ'!R:R,'R2建設IOデータ'!$A:$A,'R2建設io'!$CE17)/'R2建設IOデータ'!R$232","v":3.2796741728691216E-2},{"$f":"+SUMIFS('R2建設IOデータ'!S:S,'R2建設IOデータ'!$A:$A,'R2建設io'!$CE17)/'R2建設IOデータ'!S$232","v":2.3365484810430971E-2},{"$f":"+SUMIFS('R2建設IOデータ'!T:T,'R2建設IOデータ'!$A:$A,'R2建設io'!$CE17)/'R2建設IOデータ'!T$232","v":2.7006110602924405E-2},{"$f":"+SUMIFS('R2建設IOデータ'!U:U,'R2建設IOデータ'!$A:$A,'R2建設io'!$CE17)/'R2建設IOデータ'!U$232","v":2.7209286976633992E-2},{"$f":"+SUMIFS('R2建設IOデータ'!V:V,'R2建設IOデータ'!$A:$A,'R2建設io'!$CE17)/'R2建設IOデータ'!V$232","v":1.2359252378966524E-2},{"$f":"+SUMIFS('R2建設IOデータ'!W:W,'R2建設IOデータ'!$A:$A,'R2建設io'!$CE17)/'R2建設IOデータ'!W$232","v":4.2571637141953222E-2},{"$f":"+SUMIFS('R2建設IOデータ'!X:X,'R2建設IOデータ'!$A:$A,'R2建設io'!$CE17)/'R2建設IOデータ'!X$232","v":1.1317775525123586E-2},{"$f":"+SUMIFS('R2建設IOデータ'!Y:Y,'R2建設IOデータ'!$A:$A,'R2建設io'!$CE17)/'R2建設IOデータ'!Y$232","v":5.546953989503535E-2},{"$f":"+SUMIFS('R2建設IOデータ'!Z:Z,'R2建設IOデータ'!$A:$A,'R2建設io'!$CE17)/'R2建設IOデータ'!Z$232","v":7.6720286674980664E-3},{"$f":"+SUMIFS('R2建設IOデータ'!AA:AA,'R2建設IOデータ'!$A:$A,'R2建設io'!$CE17)/'R2建設IOデータ'!AA$232","v":1.8206428165410359E-2},{"$f":"+SUMIFS('R2建設IOデータ'!AB:AB,'R2建設IOデータ'!$A:$A,'R2建設io'!$CE17)/'R2建設IOデータ'!AB$232","v":8.4039232936942883E-3},{"$f":"+SUMIFS('R2建設IOデータ'!AC:AC,'R2建設IOデータ'!$A:$A,'R2建設io'!$CE17)/'R2建設IOデータ'!AC$232","v":1.6509214228483053E-2},{"$f":"+SUMIFS('R2建設IOデータ'!AD:AD,'R2建設IOデータ'!$A:$A,'R2建設io'!$CE17)/'R2建設IOデータ'!AD$232","v":7.3800868287045478E-3},{"$f":"+SUMIFS('R2建設IOデータ'!AE:AE,'R2建設IOデータ'!$A:$A,'R2建設io'!$CE17)/'R2建設IOデータ'!AE$232","v":1.887218374324497E-2},{"$f":"+SUMIFS('R2建設IOデータ'!AF:AF,'R2建設IOデータ'!$A:$A,'R2建設io'!$CE17)/'R2建設IOデータ'!AF$232","v":2.0736669819961862E-2},{"$f":"+SUMIFS('R2建設IOデータ'!AG:AG,'R2建設IOデータ'!$A:$A,'R2建設io'!$CE17)/'R2建設IOデータ'!AG$232","v":1.9189466690825632E-2},{"$f":"+SUMIFS('R2建設IOデータ'!AH:AH,'R2建設IOデータ'!$A:$A,'R2建設io'!$CE17)/'R2建設IOデータ'!AH$232","v":2.5527947220523782E-2},{"$f":"+SUMIFS('R2建設IOデータ'!AI:AI,'R2建設IOデータ'!$A:$A,'R2建設io'!$CE17)/'R2建設IOデータ'!AI$232","v":2.2452719812474688E-2},{"$f":"+SUMIFS('R2建設IOデータ'!AJ:AJ,'R2建設IOデータ'!$A:$A,'R2建設io'!$CE17)/'R2建設IOデータ'!AJ$232","v":2.4366422476506507E-2},{"$f":"+SUMIFS('R2建設IOデータ'!AK:AK,'R2建設IOデータ'!$A:$A,'R2建設io'!$CE17)/'R2建設IOデータ'!AK$232","v":1.8863156665056273E-2},{"$f":"+SUMIFS('R2建設IOデータ'!AL:AL,'R2建設IOデータ'!$A:$A,'R2建設io'!$CE17)/'R2建設IOデータ'!AL$232","v":1.569881187741496E-2},{"$f":"+SUMIFS('R2建設IOデータ'!AM:AM,'R2建設IOデータ'!$A:$A,'R2建設io'!$CE17)/'R2建設IOデータ'!AM$232","v":1.0390392651432444E-2},{"$f":"+SUMIFS('R2建設IOデータ'!AN:AN,'R2建設IOデータ'!$A:$A,'R2建設io'!$CE17)/'R2建設IOデータ'!AN$232","v":1.3457238468545858E-2},{"$f":"+SUMIFS('R2建設IOデータ'!AO:AO,'R2建設IOデータ'!$A:$A,'R2建設io'!$CE17)/'R2建設IOデータ'!AO$232","v":2.4614202638958232E-2},{"$f":"+SUMIFS('R2建設IOデータ'!AP:AP,'R2建設IOデータ'!$A:$A,'R2建設io'!$CE17)/'R2建設IOデータ'!AP$232","v":1.9165979008159962E-2},{"$f":"+SUMIFS('R2建設IOデータ'!AQ:AQ,'R2建設IOデータ'!$A:$A,'R2建設io'!$CE17)/'R2建設IOデータ'!AQ$232","v":2.056106458008735E-2},{"$f":"+SUMIFS('R2建設IOデータ'!AR:AR,'R2建設IOデータ'!$A:$A,'R2建設io'!$CE17)/'R2建設IOデータ'!AR$232","v":2.0763976295273833E-2},{"$f":"+SUMIFS('R2建設IOデータ'!AS:AS,'R2建設IOデータ'!$A:$A,'R2建設io'!$CE17)/'R2建設IOデータ'!AS$232","v":1.3813570300685583E-2},{"$f":"+SUMIFS('R2建設IOデータ'!AT:AT,'R2建設IOデータ'!$A:$A,'R2建設io'!$CE17)/'R2建設IOデータ'!AT$232","v":1.6160895925439983E-2},{"$f":"+SUMIFS('R2建設IOデータ'!AU:AU,'R2建設IOデータ'!$A:$A,'R2建設io'!$CE17)/'R2建設IOデータ'!AU$232","v":4.7457009866961044E-3},{"$f":"+SUMIFS('R2建設IOデータ'!AV:AV,'R2建設IOデータ'!$A:$A,'R2建設io'!$CE17)/'R2建設IOデータ'!AV$232","v":4.9411871436712038E-2},{"$f":"+SUMIFS('R2建設IOデータ'!AW:AW,'R2建設IOデータ'!$A:$A,'R2建設io'!$CE17)/'R2建設IOデータ'!AW$232","v":6.8483128595456027E-3},{"$f":"+SUMIFS('R2建設IOデータ'!AX:AX,'R2建設IOデータ'!$A:$A,'R2建設io'!$CE17)/'R2建設IOデータ'!AX$232","v":4.3654108681920982E-3},{"$f":"+SUMIFS('R2建設IOデータ'!AY:AY,'R2建設IOデータ'!$A:$A,'R2建設io'!$CE17)/'R2建設IOデータ'!AY$232","v":3.7544169611307418E-3},{"$f":"+SUMIFS('R2建設IOデータ'!AZ:AZ,'R2建設IOデータ'!$A:$A,'R2建設io'!$CE17)/'R2建設IOデータ'!AZ$232","v":7.0080862533692723E-2},{"$f":"+SUMIFS('R2建設IOデータ'!BA:BA,'R2建設IOデータ'!$A:$A,'R2建設io'!$CE17)/'R2建設IOデータ'!BA$232","v":4.9989847643087858E-2},{"$f":"+SUMIFS('R2建設IOデータ'!BB:BB,'R2建設IOデータ'!$A:$A,'R2建設io'!$CE17)/'R2建設IOデータ'!BB$232","v":5.3001413055688583E-2},{"$f":"+SUMIFS('R2建設IOデータ'!BC:BC,'R2建設IOデータ'!$A:$A,'R2建設io'!$CE17)/'R2建設IOデータ'!BC$232","v":5.6936104593139497E-2},{"$f":"+SUMIFS('R2建設IOデータ'!BD:BD,'R2建設IOデータ'!$A:$A,'R2建設io'!$CE17)/'R2建設IOデータ'!BD$232","v":7.8159034415601052E-4},{"$f":"+SUMIFS('R2建設IOデータ'!BE:BE,'R2建設IOデータ'!$A:$A,'R2建設io'!$CE17)/'R2建設IOデータ'!BE$232","v":0.11638366223038091},{"$f":"+SUMIFS('R2建設IOデータ'!BF:BF,'R2建設IOデータ'!$A:$A,'R2建設io'!$CE17)/'R2建設IOデータ'!BF$232","v":9.8832540613997166E-4},{"$f":"+SUMIFS('R2建設IOデータ'!BG:BG,'R2建設IOデータ'!$A:$A,'R2建設io'!$CE17)/'R2建設IOデータ'!BG$232","v":2.0359687818120122E-2},{"$f":"+SUMIFS('R2建設IOデータ'!BH:BH,'R2建設IOデータ'!$A:$A,'R2建設io'!$CE17)/'R2建設IOデータ'!BH$232","v":2.0661988331775204E-2},{"$f":"+SUMIFS('R2建設IOデータ'!BI:BI,'R2建設IOデータ'!$A:$A,'R2建設io'!$CE17)/'R2建設IOデータ'!BI$232","v":1.8989378822014805E-2},{"$f":"+SUMIFS('R2建設IOデータ'!BJ:BJ,'R2建設IOデータ'!$A:$A,'R2建設io'!$CE17)/'R2建設IOデータ'!BJ$232","v":8.3537524683891112E-3},{"$f":"+SUMIFS('R2建設IOデータ'!BK:BK,'R2建設IOデータ'!$A:$A,'R2建設io'!$CE17)/'R2建設IOデータ'!BK$232","v":1.6712994987217716E-2},{"$f":"+SUMIFS('R2建設IOデータ'!BL:BL,'R2建設IOデータ'!$A:$A,'R2建設io'!$CE17)/'R2建設IOデータ'!BL$232","v":1.4994476487896072E-2},{"$f":"+SUMIFS('R2建設IOデータ'!BM:BM,'R2建設IOデータ'!$A:$A,'R2建設io'!$CE17)/'R2建設IOデータ'!BM$232","v":1.7077014774434837E-2},{"$f":"+SUMIFS('R2建設IOデータ'!BN:BN,'R2建設IOデータ'!$A:$A,'R2建設io'!$CE17)/'R2建設IOデータ'!BN$232","v":2.285334680876433E-2},{"$f":"+SUMIFS('R2建設IOデータ'!BO:BO,'R2建設IOデータ'!$A:$A,'R2建設io'!$CE17)/'R2建設IOデータ'!BO$232","v":1.2034625140764164E-2},{"$f":"+SUMIFS('R2建設IOデータ'!BP:BP,'R2建設IOデータ'!$A:$A,'R2建設io'!$CE17)/'R2建設IOデータ'!BP$232","v":5.9872962003256211E-3},{"$f":"+SUMIFS('R2建設IOデータ'!BQ:BQ,'R2建設IOデータ'!$A:$A,'R2建設io'!$CE17)/'R2建設IOデータ'!BQ$232","v":1.0315110859283041E-2},{"$f":"+SUMIFS('R2建設IOデータ'!BR:BR,'R2建設IOデータ'!$A:$A,'R2建設io'!$CE17)/'R2建設IOデータ'!BR$232","v":2.6549103359266659E-2},{"$f":"+SUMIFS('R2建設IOデータ'!BS:BS,'R2建設IOデータ'!$A:$A,'R2建設io'!$CE17)/'R2建設IOデータ'!BS$232","v":1.7086174331221282E-2},{"$f":"+SUMIFS('R2建設IOデータ'!BT:BT,'R2建設IOデータ'!$A:$A,'R2建設io'!$CE17)/'R2建設IOデータ'!BT$232","v":5.765350130967737E-2},{"$f":"+SUMIFS('R2建設IOデータ'!BU:BU,'R2建設IOデータ'!$A:$A,'R2建設io'!$CE17)/'R2建設IOデータ'!BU$232","v":1.2086909528319979E-3},{"$f":"+SUMIFS('R2建設IOデータ'!BV:BV,'R2建設IOデータ'!$A:$A,'R2建設io'!$CE17)/'R2建設IOデータ'!BV$232","v":2.6585913594340629E-3},{"$f":"+SUMIFS('R2建設IOデータ'!BW:BW,'R2建設IOデータ'!$A:$A,'R2建設io'!$CE17)/'R2建設IOデータ'!BW$232","v":2.4707195754400554E-2},{"$f":"+SUMIFS('R2建設IOデータ'!BX:BX,'R2建設IOデータ'!$A:$A,'R2建設io'!$CE17)/'R2建設IOデータ'!BX$232","v":3.2300131089580728E-2},{"$f":"+SUMIFS('R2建設IOデータ'!BY:BY,'R2建設IOデータ'!$A:$A,'R2建設io'!$CE17)/'R2建設IOデータ'!BY$232","v":5.3203471160351498E-2},{"$f":"+SUMIFS('R2建設IOデータ'!BZ:BZ,'R2建設IOデータ'!$A:$A,'R2建設io'!$CE17)/'R2建設IOデータ'!BZ$232","v":1.6460883159460891E-2},{"$f":"+SUMIFS('R2建設IOデータ'!CA:CA,'R2建設IOデータ'!$A:$A,'R2建設io'!$CE17)/'R2建設IOデータ'!CA$232","v":7.090323621859654E-3},{"$f":"+SUMIFS('R2建設IOデータ'!CB:CB,'R2建設IOデータ'!$A:$A,'R2建設io'!$CE17)/'R2建設IOデータ'!CB$232","v":5.4531403204887301E-2},{"$f":"+SUMIFS('R2建設IOデータ'!CC:CC,'R2建設IOデータ'!$A:$A,'R2建設io'!$CE17)/'R2建設IOデータ'!CC$232","v":6.2995305972471417E-3},{"$f":"+SUMIFS('R2建設IOデータ'!CD:CD,'R2建設IOデータ'!$A:$A,'R2建設io'!$CE17)/'R2建設IOデータ'!CD$232","v":3.4754807667851433E-2}]
[0,null,"27","非鉄金属",0,0,0,0,0,0,0,0,0,0,0,0,0,0,0,0,0,0,0,0,0,0,0,0,0,0,0,0,0,0,0,0,0,0,0,0,0,0,0,0,0,0,0,0,0,0,0,0,0,0,0,0,0,0,0,0,0,0,0,0,0,0,0,0,0,0,0,0,0,0,0,null,null,null,null,null,null,null,"27","非鉄金属",{"$f":"+SUMIFS('R2建設IOデータ'!L:L,'R2建設IOデータ'!$A:$A,'R2建設io'!$CE18)/'R2建設IOデータ'!L$232","v":8.9839159249338937E-3},{"$f":"+SUMIFS('R2建設IOデータ'!M:M,'R2建設IOデータ'!$A:$A,'R2建設io'!$CE18)/'R2建設IOデータ'!M$232","v":5.9952045380683968E-3},{"$f":"+SUMIFS('R2建設IOデータ'!N:N,'R2建設IOデータ'!$A:$A,'R2建設io'!$CE18)/'R2建設IOデータ'!N$232","v":4.9448164308163612E-3},{"$f":"+SUMIFS('R2建設IOデータ'!O:O,'R2建設IOデータ'!$A:$A,'R2建設io'!$CE18)/'R2建設IOデータ'!O$232","v":3.7063334541845671E-3},{"$f":"+SUMIFS('R2建設IOデータ'!P:P,'R2建設IOデータ'!$A:$A,'R2建設io'!$CE18)/'R2建設IOデータ'!P$232","v":3.7445719777447072E-3},{"$f":"+SUMIFS('R2建設IOデータ'!Q:Q,'R2建設IOデータ'!$A:$A,'R2建設io'!$CE18)/'R2建設IOデータ'!Q$232","v":1.9666179214361352E-3},{"$f":"+SUMIFS('R2建設IOデータ'!R:R,'R2建設IOデータ'!$A:$A,'R2建設io'!$CE18)/'R2建設IOデータ'!R$232","v":6.6981445375023782E-3},{"$f":"+SUMIFS('R2建設IOデータ'!S:S,'R2建設IOデータ'!$A:$A,'R2建設io'!$CE18)/'R2建設IOデータ'!S$232","v":1.6525502979132713E-2},{"$f":"+SUMIFS('R2建設IOデータ'!T:T,'R2建設IOデータ'!$A:$A,'R2建設io'!$CE18)/'R2建設IOデータ'!T$232","v":7.357310120943825E-3},{"$f":"+SUMIFS('R2建設IOデータ'!U:U,'R2建設IOデータ'!$A:$A,'R2建設io'!$CE18)/'R2建設IOデータ'!U$232","v":7.406252374768045E-3},{"$f":"+SUMIFS('R2建設IOデータ'!V:V,'R2建設IOデータ'!$A:$A,'R2建設io'!$CE18)/'R2建設IOデータ'!V$232","v":3.8290935284528188E-3},{"$f":"+SUMIFS('R2建設IOデータ'!W:W,'R2建設IOデータ'!$A:$A,'R2建設io'!$CE18)/'R2建設IOデータ'!W$232","v":5.4303190431523795E-3},{"$f":"+SUMIFS('R2建設IOデータ'!X:X,'R2建設IOデータ'!$A:$A,'R2建設io'!$CE18)/'R2建設IOデータ'!X$232","v":8.564766374697318E-3},{"$f":"+SUMIFS('R2建設IOデータ'!Y:Y,'R2建設IOデータ'!$A:$A,'R2建設io'!$CE18)/'R2建設IOデータ'!Y$232","v":4.1367893871192595E-3},{"$f":"+SUMIFS('R2建設IOデータ'!Z:Z,'R2建設IOデータ'!$A:$A,'R2建設io'!$CE18)/'R2建設IOデータ'!Z$232","v":5.3830489210223058E-3},{"$f":"+SUMIFS('R2建設IOデータ'!AA:AA,'R2建設IOデータ'!$A:$A,'R2建設io'!$CE18)/'R2建設IOデータ'!AA$232","v":7.0934239270055007E-3},{"$f":"+SUMIFS('R2建設IOデータ'!AB:AB,'R2建設IOデータ'!$A:$A,'R2建設io'!$CE18)/'R2建設IOデータ'!AB$232","v":5.0509219447616802E-3},{"$f":"+SUMIFS('R2建設IOデータ'!AC:AC,'R2建設IOデータ'!$A:$A,'R2建設io'!$CE18)/'R2建設IOデータ'!AC$232","v":3.5869342426444557E-3},{"$f":"+SUMIFS('R2建設IOデータ'!AD:AD,'R2建設IOデータ'!$A:$A,'R2建設io'!$CE18)/'R2建設IOデータ'!AD$232","v":5.2358485569935472E-3},{"$f":"+SUMIFS('R2建設IOデータ'!AE:AE,'R2建設IOデータ'!$A:$A,'R2建設io'!$CE18)/'R2建設IOデータ'!AE$232","v":7.2321442954432283E-3},{"$f":"+SUMIFS('R2建設IOデータ'!AF:AF,'R2建設IOデータ'!$A:$A,'R2建設io'!$CE18)/'R2建設IOデータ'!AF$232","v":5.2554919891286394E-3},{"$f":"+SUMIFS('R2建設IOデータ'!AG:AG,'R2建設IOデータ'!$A:$A,'R2建設io'!$CE18)/'R2建設IOデータ'!AG$232","v":8.6513257232590443E-3},{"$f":"+SUMIFS('R2建設IOデータ'!AH:AH,'R2建設IOデータ'!$A:$A,'R2建設io'!$CE18)/'R2建設IOデータ'!AH$232","v":5.4178883395038843E-3},{"$f":"+SUMIFS('R2建設IOデータ'!AI:AI,'R2建設IOデータ'!$A:$A,'R2建設io'!$CE18)/'R2建設IOデータ'!AI$232","v":7.343105049356302E-3},{"$f":"+SUMIFS('R2建設IOデータ'!AJ:AJ,'R2建設IOデータ'!$A:$A,'R2建設io'!$CE18)/'R2建設IOデータ'!AJ$232","v":7.6342809620837558E-3},{"$f":"+SUMIFS('R2建設IOデータ'!AK:AK,'R2建設IOデータ'!$A:$A,'R2建設io'!$CE18)/'R2建設IOデータ'!AK$232","v":7.2165836389124285E-3},{"$f":"+SUMIFS('R2建設IOデータ'!AL:AL,'R2建設IOデータ'!$A:$A,'R2建設io'!$CE18)/'R2建設IOデータ'!AL$232","v":7.0836227979872313E-3},{"$f":"+SUMIFS('R2建設IOデータ'!AM:AM,'R2建設IOデータ'!$A:$A,'R2建設io'!$CE18)/'R2建設IOデータ'!AM$232","v":1.2513646801942552E-2},{"$f":"+SUMIFS('R2建設IOデータ'!AN:AN,'R2建設IOデータ'!$A:$A,'R2建設io'!$CE18)/'R2建設IOデータ'!AN$232","v":7.9950958028638195E-3},{"$f":"+SUMIFS('R2建設IOデータ'!AO:AO,'R2建設IOデータ'!$A:$A,'R2建設io'!$CE18)/'R2建設IOデータ'!AO$232","v":1.3504584799698001E-2},{"$f":"+SUMIFS('R2建設IOデータ'!AP:AP,'R2建設IOデータ'!$A:$A,'R2建設io'!$CE18)/'R2建設IOデータ'!AP$232","v":3.2971286331921696E-3},{"$f":"+SUMIFS('R2建設IOデータ'!AQ:AQ,'R2建設IOデータ'!$A:$A,'R2建設io'!$CE18)/'R2建設IOデータ'!AQ$232","v":3.3081757582898372E-3},{"$f":"+SUMIFS('R2建設IOデータ'!AR:AR,'R2建設IOデータ'!$A:$A,'R2建設io'!$CE18)/'R2建設IOデータ'!AR$232","v":3.3066250736390437E-3},{"$f":"+SUMIFS('R2建設IOデータ'!AS:AS,'R2建設IOデータ'!$A:$A,'R2建設io'!$CE18)/'R2建設IOデータ'!AS$232","v":3.4852477910348894E-3},{"$f":"+SUMIFS('R2建設IOデータ'!AT:AT,'R2建設IOデータ'!$A:$A,'R2建設io'!$CE18)/'R2建設IOデータ'!AT$232","v":1.3982066838407034E-4},{"$f":"+SUMIFS('R2建設IOデータ'!AU:AU,'R2建設IOデータ'!$A:$A,'R2建設io'!$CE18)/'R2建設IOデータ'!AU$232","v":1.2746247254435581E-3},{"$f":"+SUMIFS('R2建設IOデータ'!AV:AV,'R2建設IOデータ'!$A:$A,'R2建設io'!$CE18)/'R2建設IOデータ'!AV$232","v":2.2992155450785165E-3},{"$f":"+SUMIFS('R2建設IOデータ'!AW:AW,'R2建設IOデータ'!$A:$A,'R2建設io'!$CE18)/'R2建設IOデータ'!AW$232","v":7.2820358442939733E-3},{"$f":"+SUMIFS('R2建設IOデータ'!AX:AX,'R2建設IOデータ'!$A:$A,'R2建設io'!$CE18)/'R2建設IOデータ'!AX$232","v":3.0664846472014508E-3},{"$f":"+SUMIFS('R2建設IOデータ'!AY:AY,'R2建設IOデータ'!$A:$A,'R2建設io'!$CE18)/'R2建設IOデータ'!AY$232","v":3.7544169611307418E-3},{"$f":"+SUMIFS('R2建設IOデータ'!AZ:AZ,'R2建設IOデータ'!$A:$A,'R2建設io'!$CE18)/'R2建設IOデータ'!AZ$232","v":4.8808916733445035E-3},{"$f":"+SUMIFS('R2建設IOデータ'!BA:BA,'R2建設IOデータ'!$A:$A,'R2建設io'!$CE18)/'R2建設IOデータ'!BA$232","v":2.5555316033478628E-3},{"$f":"+SUMIFS('R2建設IOデータ'!BB:BB,'R2建設IOデータ'!$A:$A,'R2建設io'!$CE18)/'R2建設IOデータ'!BB$232","v":4.4539830630396267E-4},{"$f":"+SUMIFS('R2建設IOデータ'!BC:BC,'R2建設IOデータ'!$A:$A,'R2建設io'!$CE18)/'R2建設IOデータ'!BC$232","v":5.0289442443621863E-4},{"$f":"+SUMIFS('R2建設IOデータ'!BD:BD,'R2建設IOデータ'!$A:$A,'R2建設io'!$CE18)/'R2建設IOデータ'!BD$232","v":0},{"$f":"+SUMIFS('R2建設IOデータ'!BE:BE,'R2建設IOデータ'!$A:$A,'R2建設io'!$CE18)/'R2建設IOデータ'!BE$232","v":0},{"$f":"+SUMIFS('R2建設IOデータ'!BF:BF,'R2建設IOデータ'!$A:$A,'R2建設io'!$CE18)/'R2建設IOデータ'!BF$232","v":0},{"$f":"+SUMIFS('R2建設IOデータ'!BG:BG,'R2建設IOデータ'!$A:$A,'R2建設io'!$CE18)/'R2建設IOデータ'!BG$232","v":2.3316690096466138E-2},{"$f":"+SUMIFS('R2建設IOデータ'!BH:BH,'R2建設IOデータ'!$A:$A,'R2建設io'!$CE18)/'R2建設IOデータ'!BH$232","v":2.3644130977598429E-2},{"$f":"+SUMIFS('R2建設IOデータ'!BI:BI,'R2建設IOデータ'!$A:$A,'R2建設io'!$CE18)/'R2建設IOデータ'!BI$232","v":2.1832421414011371E-2},{"$f":"+SUMIFS('R2建設IOデータ'!BJ:BJ,'R2建設IOデータ'!$A:$A,'R2建設io'!$CE18)/'R2建設IOデータ'!BJ$232","v":3.4014660422029921E-3},{"$f":"+SUMIFS('R2建設IOデータ'!BK:BK,'R2建設IOデータ'!$A:$A,'R2建設io'!$CE18)/'R2建設IOデータ'!BK$232","v":3.770995067979027E-3},{"$f":"+SUMIFS('R2建設IOデータ'!BL:BL,'R2建設IOデータ'!$A:$A,'R2建設io'!$CE18)/'R2建設IOデータ'!BL$232","v":3.5575312733465755E-3},{"$f":"+SUMIFS('R2建設IOデータ'!BM:BM,'R2建設IOデータ'!$A:$A,'R2建設io'!$CE18)/'R2建設IOデータ'!BM$232","v":1.0676957141973627E-3},{"$f":"+SUMIFS('R2建設IOデータ'!BN:BN,'R2建設IOデータ'!$A:$A,'R2建設io'!$CE18)/'R2建設IOデータ'!BN$232","v":3.5730710923615884E-2},{"$f":"+SUMIFS('R2建設IOデータ'!BO:BO,'R2建設IOデータ'!$A:$A,'R2建設io'!$CE18)/'R2建設IOデータ'!BO$232","v":6.5974315516476511E-4},{"$f":"+SUMIFS('R2建設IOデータ'!BP:BP,'R2建設IOデータ'!$A:$A,'R2建設io'!$CE18)/'R2建設IOデータ'!BP$232","v":1.3300006879313903E-4},{"$f":"+SUMIFS('R2建設IOデータ'!BQ:BQ,'R2建設IOデータ'!$A:$A,'R2建設io'!$CE18)/'R2建設IOデータ'!BQ$232","v":4.249168781076668E-3},{"$f":"+SUMIFS('R2建設IOデータ'!BR:BR,'R2建設IOデータ'!$A:$A,'R2建設io'!$CE18)/'R2建設IOデータ'!BR$232","v":4.6657521559444652E-3},{"$f":"+SUMIFS('R2建設IOデータ'!BS:BS,'R2建設IOデータ'!$A:$A,'R2建設io'!$CE18)/'R2建設IOデータ'!BS$232","v":6.2289855460743993E-4},{"$f":"+SUMIFS('R2建設IOデータ'!BT:BT,'R2建設IOデータ'!$A:$A,'R2建設io'!$CE18)/'R2建設IOデータ'!BT$232","v":8.8254845014916865E-3},{"$f":"+SUMIFS('R2建設IOデータ'!BU:BU,'R2建設IOデータ'!$A:$A,'R2建設io'!$CE18)/'R2建設IOデータ'!BU$232","v":5.99115563639322E-3},{"$f":"+SUMIFS('R2建設IOデータ'!BV:BV,'R2建設IOデータ'!$A:$A,'R2建設io'!$CE18)/'R2建設IOデータ'!BV$232","v":6.4328501654778696E-4},{"$f":"+SUMIFS('R2建設IOデータ'!BW:BW,'R2建設IOデータ'!$A:$A,'R2建設io'!$CE18)/'R2建設IOデータ'!BW$232","v":8.5220073178286359E-4},{"$f":"+SUMIFS('R2建設IOデータ'!BX:BX,'R2建設IOデータ'!$A:$A,'R2建設io'!$CE18)/'R2建設IOデータ'!BX$232","v":2.790446686678822E-2},{"$f":"+SUMIFS('R2建設IOデータ'!BY:BY,'R2建設IOデータ'!$A:$A,'R2建設io'!$CE18)/'R2建設IOデータ'!BY$232","v":4.5343563792413451E-2},{"$f":"+SUMIFS('R2建設IOデータ'!BZ:BZ,'R2建設IOデータ'!$A:$A,'R2建設io'!$CE18)/'R2建設IOデータ'!BZ$232","v":5.3167594894284922E-2},{"$f":"+SUMIFS('R2建設IOデータ'!CA:CA,'R2建設IOデータ'!$A:$A,'R2建設io'!$CE18)/'R2建設IOデータ'!CA$232","v":6.4894982362570228E-2},{"$f":"+SUMIFS('R2建設IOデータ'!CB:CB,'R2建設IOデータ'!$A:$A,'R2建設io'!$CE18)/'R2建設IOデータ'!CB$232","v":3.9291093171176924E-3},{"$f":"+SUMIFS('R2建設IOデータ'!CC:CC,'R2建設IOデータ'!$A:$A,'R2建設io'!$CE18)/'R2建設IOデータ'!CC$232","v":3.7472772654144845E-3},{"$f":"+SUMIFS('R2建設IOデータ'!CD:CD,'R2建設IOデータ'!$A:$A,'R2建設io'!$CE18)/'R2建設IOデータ'!CD$232","v":4.9430157919253415E-3}]
[0,null,"28","金属製品",0,0,0,0,0,0,0,0,0,0,0,0,0,0,0,0,0,0,0,0,0,0,0,0,0,0,0,0,0,0,0,0,0,0,0,0,0,0,0,0,0,0,0,0,0,0,0,0,0,0,0,0,0,0,0,0,0,0,0,0,0,0,0,0,0,0,0,0,0,0,0,null,null,null,null,null,null,null,"28","金属製品",{"$f":"+SUMIFS('R2建設IOデータ'!L:L,'R2建設IOデータ'!$A:$A,'R2建設io'!$CE19)/'R2建設IOデータ'!L$232","v":8.8111186640925709E-2},{"$f":"+SUMIFS('R2建設IOデータ'!M:M,'R2建設IOデータ'!$A:$A,'R2建設io'!$CE19)/'R2建設IOデータ'!M$232","v":9.1111177815816791E-2},{"$f":"+SUMIFS('R2建設IOデータ'!N:N,'R2建設IOデータ'!$A:$A,'R2建設io'!$CE19)/'R2建設IOデータ'!N$232","v":6.3309043876737095E-2},{"$f":"+SUMIFS('R2建設IOデータ'!O:O,'R2建設IOデータ'!$A:$A,'R2建設io'!$CE19)/'R2建設IOデータ'!O$232","v":4.9070119707792348E-2},{"$f":"+SUMIFS('R2建設IOデータ'!P:P,'R2建設IOデータ'!$A:$A,'R2建設io'!$CE19)/'R2建設IOデータ'!P$232","v":4.8418972660579075E-2},{"$f":"+SUMIFS('R2建設IOデータ'!Q:Q,'R2建設IOデータ'!$A:$A,'R2建設io'!$CE19)/'R2建設IOデータ'!Q$232","v":7.86949725177752E-2},{"$f":"+SUMIFS('R2建設IOデータ'!R:R,'R2建設IOデータ'!$A:$A,'R2建設io'!$CE19)/'R2建設IOデータ'!R$232","v":8.3467178001663409E-2},{"$f":"+SUMIFS('R2建設IOデータ'!S:S,'R2建設IOデータ'!$A:$A,'R2建設io'!$CE19)/'R2建設IOデータ'!S$232","v":8.3976808186603261E-2},{"$f":"+SUMIFS('R2建設IOデータ'!T:T,'R2建設IOデータ'!$A:$A,'R2建設io'!$CE19)/'R2建設IOデータ'!T$232","v":5.7253348693914061E-2},{"$f":"+SUMIFS('R2建設IOデータ'!U:U,'R2建設IOデータ'!$A:$A,'R2建設io'!$CE19)/'R2建設IOデータ'!U$232","v":5.7262379230308261E-2},{"$f":"+SUMIFS('R2建設IOデータ'!V:V,'R2建設IOデータ'!$A:$A,'R2建設io'!$CE19)/'R2建設IOデータ'!V$232","v":5.6602342950297604E-2},{"$f":"+SUMIFS('R2建設IOデータ'!W:W,'R2建設IOデータ'!$A:$A,'R2建設io'!$CE19)/'R2建設IOデータ'!W$232","v":0.12475483181293662},{"$f":"+SUMIFS('R2建設IOデータ'!X:X,'R2建設IOデータ'!$A:$A,'R2建設io'!$CE19)/'R2建設IOデータ'!X$232","v":0.10396074583991238},{"$f":"+SUMIFS('R2建設IOデータ'!Y:Y,'R2建設IOデータ'!$A:$A,'R2建設io'!$CE19)/'R2建設IOデータ'!Y$232","v":0.13333617456051169},{"$f":"+SUMIFS('R2建設IOデータ'!Z:Z,'R2建設IOデータ'!$A:$A,'R2建設io'!$CE19)/'R2建設IOデータ'!Z$232","v":3.6497387405875575E-2},{"$f":"+SUMIFS('R2建設IOデータ'!AA:AA,'R2建設IOデータ'!$A:$A,'R2建設io'!$CE19)/'R2建設IOデータ'!AA$232","v":0.12017933113449994},{"$f":"+SUMIFS('R2建設IOデータ'!AB:AB,'R2建設IOデータ'!$A:$A,'R2建設io'!$CE19)/'R2建設IOデータ'!AB$232","v":7.3114028167719031E-2},{"$f":"+SUMIFS('R2建設IOデータ'!AC:AC,'R2建設IOデータ'!$A:$A,'R2建設io'!$CE19)/'R2建設IOデータ'!AC$232","v":5.8564853634449472E-2},{"$f":"+SUMIFS('R2建設IOデータ'!AD:AD,'R2建設IOデータ'!$A:$A,'R2建設io'!$CE19)/'R2建設IOデータ'!AD$232","v":7.4951837019061593E-2},{"$f":"+SUMIFS('R2建設IOデータ'!AE:AE,'R2建設IOデータ'!$A:$A,'R2建設io'!$CE19)/'R2建設IOデータ'!AE$232","v":0.12337585981596183},{"$f":"+SUMIFS('R2建設IOデータ'!AF:AF,'R2建設IOデータ'!$A:$A,'R2建設io'!$CE19)/'R2建設IOデータ'!AF$232","v":0.1520488910911903},{"$f":"+SUMIFS('R2建設IOデータ'!AG:AG,'R2建設IOデータ'!$A:$A,'R2建設io'!$CE19)/'R2建設IOデータ'!AG$232","v":0.11443619013106239},{"$f":"+SUMIFS('R2建設IOデータ'!AH:AH,'R2建設IOデータ'!$A:$A,'R2建設io'!$CE19)/'R2建設IOデータ'!AH$232","v":0.10899488221388784},{"$f":"+SUMIFS('R2建設IOデータ'!AI:AI,'R2建設IOデータ'!$A:$A,'R2建設io'!$CE19)/'R2建設IOデータ'!AI$232","v":7.8810539707993968E-2},{"$f":"+SUMIFS('R2建設IOデータ'!AJ:AJ,'R2建設IOデータ'!$A:$A,'R2建設io'!$CE19)/'R2建設IOデータ'!AJ$232","v":8.6179034160736537E-2},{"$f":"+SUMIFS('R2建設IOデータ'!AK:AK,'R2建設IOデータ'!$A:$A,'R2建設io'!$CE19)/'R2建設IOデータ'!AK$232","v":0.14776919010319731},{"$f":"+SUMIFS('R2建設IOデータ'!AL:AL,'R2建設IOデータ'!$A:$A,'R2建設io'!$CE19)/'R2建設IOデータ'!AL$232","v":0.12824472925420344},{"$f":"+SUMIFS('R2建設IOデータ'!AM:AM,'R2建設IOデータ'!$A:$A,'R2建設io'!$CE19)/'R2建設IOデータ'!AM$232","v":7.9975906335880739E-2},{"$f":"+SUMIFS('R2建設IOデータ'!AN:AN,'R2建設IOデータ'!$A:$A,'R2建設io'!$CE19)/'R2建設IOデータ'!AN$232","v":0.16200599695888815},{"$f":"+SUMIFS('R2建設IOデータ'!AO:AO,'R2建設IOデータ'!$A:$A,'R2建設io'!$CE19)/'R2建設IOデータ'!AO$232","v":5.0634255533254881E-2},{"$f":"+SUMIFS('R2建設IOデータ'!AP:AP,'R2建設IOデータ'!$A:$A,'R2建設io'!$CE19)/'R2建設IOデータ'!AP$232","v":3.7925076058625204E-2},{"$f":"+SUMIFS('R2建設IOデータ'!AQ:AQ,'R2建設IOデータ'!$A:$A,'R2建設io'!$CE19)/'R2建設IOデータ'!AQ$232","v":4.76150791282847E-2},{"$f":"+SUMIFS('R2建設IOデータ'!AR:AR,'R2建設IOデータ'!$A:$A,'R2建設io'!$CE19)/'R2建設IOデータ'!AR$232","v":4.7944430963525214E-2},{"$f":"+SUMIFS('R2建設IOデータ'!AS:AS,'R2建設IOデータ'!$A:$A,'R2建設io'!$CE19)/'R2建設IOデータ'!AS$232","v":4.0809775541448261E-2},{"$f":"+SUMIFS('R2建設IOデータ'!AT:AT,'R2建設IOデータ'!$A:$A,'R2建設io'!$CE19)/'R2建設IOデータ'!AT$232","v":3.2387832609378719E-2},{"$f":"+SUMIFS('R2建設IOデータ'!AU:AU,'R2建設IOデータ'!$A:$A,'R2建設io'!$CE19)/'R2建設IOデータ'!AU$232","v":6.498309984180997E-3},{"$f":"+SUMIFS('R2建設IOデータ'!AV:AV,'R2建設IOデータ'!$A:$A,'R2建設io'!$CE19)/'R2建設IOデータ'!AV$232","v":8.5209892013415403E-2},{"$f":"+SUMIFS('R2建設IOデータ'!AW:AW,'R2建設IOデータ'!$A:$A,'R2建設io'!$CE19)/'R2建設IOデータ'!AW$232","v":3.4857272621905265E-2},{"$f":"+SUMIFS('R2建設IOデータ'!AX:AX,'R2建設IOデータ'!$A:$A,'R2建設io'!$CE19)/'R2建設IOデータ'!AX$232","v":7.5966808614682454E-2},{"$f":"+SUMIFS('R2建設IOデータ'!AY:AY,'R2建設IOデータ'!$A:$A,'R2建設io'!$CE19)/'R2建設IOデータ'!AY$232","v":1.0600706713780919E-2},{"$f":"+SUMIFS('R2建設IOデータ'!AZ:AZ,'R2建設IOデータ'!$A:$A,'R2建設io'!$CE19)/'R2建設IOデータ'!AZ$232","v":0.14985065928462155},{"$f":"+SUMIFS('R2建設IOデータ'!BA:BA,'R2建設IOデータ'!$A:$A,'R2建設io'!$CE19)/'R2建設IOデータ'!BA$232","v":7.7945055623287629E-2},{"$f":"+SUMIFS('R2建設IOデータ'!BB:BB,'R2建設IOデータ'!$A:$A,'R2建設io'!$CE19)/'R2建設IOデータ'!BB$232","v":8.0737311567939993E-2},{"$f":"+SUMIFS('R2建設IOデータ'!BC:BC,'R2建設IOデータ'!$A:$A,'R2建設io'!$CE19)/'R2建設IOデータ'!BC$232","v":6.9728759664306847E-2},{"$f":"+SUMIFS('R2建設IOデータ'!BD:BD,'R2建設IOデータ'!$A:$A,'R2建設io'!$CE19)/'R2建設IOデータ'!BD$232","v":0.20534044025318401},{"$f":"+SUMIFS('R2建設IOデータ'!BE:BE,'R2建設IOデータ'!$A:$A,'R2建設io'!$CE19)/'R2建設IOデータ'!BE$232","v":2.4552547039926573E-2},{"$f":"+SUMIFS('R2建設IOデータ'!BF:BF,'R2建設IOデータ'!$A:$A,'R2建設io'!$CE19)/'R2建設IOデータ'!BF$232","v":0.16684168262400395},{"$f":"+SUMIFS('R2建設IOデータ'!BG:BG,'R2建設IOデータ'!$A:$A,'R2建設io'!$CE19)/'R2建設IOデータ'!BG$232","v":5.0472635610063502E-2},{"$f":"+SUMIFS('R2建設IOデータ'!BH:BH,'R2建設IOデータ'!$A:$A,'R2建設io'!$CE19)/'R2建設IOデータ'!BH$232","v":5.1157947055134136E-2},{"$f":"+SUMIFS('R2建設IOデータ'!BI:BI,'R2建設IOデータ'!$A:$A,'R2建設io'!$CE19)/'R2建設IOデータ'!BI$232","v":4.7366162428923934E-2},{"$f":"+SUMIFS('R2建設IOデータ'!BJ:BJ,'R2建設IOデータ'!$A:$A,'R2建設io'!$CE19)/'R2建設IOデータ'!BJ$232","v":2.7801040083537523E-2},{"$f":"+SUMIFS('R2建設IOデータ'!BK:BK,'R2建設IOデータ'!$A:$A,'R2建設io'!$CE19)/'R2建設IOデータ'!BK$232","v":2.8701289193447305E-2},{"$f":"+SUMIFS('R2建設IOデータ'!BL:BL,'R2建設IOデータ'!$A:$A,'R2建設io'!$CE19)/'R2建設IOデータ'!BL$232","v":3.4827337136058976E-2},{"$f":"+SUMIFS('R2建設IOデータ'!BM:BM,'R2建設IOデータ'!$A:$A,'R2建設io'!$CE19)/'R2建設IOデータ'!BM$232","v":2.498652637330747E-2},{"$f":"+SUMIFS('R2建設IOデータ'!BN:BN,'R2建設IOデータ'!$A:$A,'R2建設io'!$CE19)/'R2建設IOデータ'!BN$232","v":7.5725487301488162E-2},{"$f":"+SUMIFS('R2建設IOデータ'!BO:BO,'R2建設IOデータ'!$A:$A,'R2建設io'!$CE19)/'R2建設IOデータ'!BO$232","v":6.1208239964510365E-2},{"$f":"+SUMIFS('R2建設IOデータ'!BP:BP,'R2建設IOデータ'!$A:$A,'R2建設io'!$CE19)/'R2建設IOデータ'!BP$232","v":4.087688321218097E-2},{"$f":"+SUMIFS('R2建設IOデータ'!BQ:BQ,'R2建設IOデータ'!$A:$A,'R2建設io'!$CE19)/'R2建設IOデータ'!BQ$232","v":3.649624994948631E-2},{"$f":"+SUMIFS('R2建設IOデータ'!BR:BR,'R2建設IOデータ'!$A:$A,'R2建設io'!$CE19)/'R2建設IOデータ'!BR$232","v":3.1940056693007736E-2},{"$f":"+SUMIFS('R2建設IOデータ'!BS:BS,'R2建設IOデータ'!$A:$A,'R2建設io'!$CE19)/'R2建設IOデータ'!BS$232","v":7.2336606341509152E-3},{"$f":"+SUMIFS('R2建設IOデータ'!BT:BT,'R2建設IOデータ'!$A:$A,'R2建設io'!$CE19)/'R2建設IOデータ'!BT$232","v":2.0042811810045344E-2},{"$f":"+SUMIFS('R2建設IOデータ'!BU:BU,'R2建設IOデータ'!$A:$A,'R2建設io'!$CE19)/'R2建設IOデータ'!BU$232","v":4.2158907994212229E-2},{"$f":"+SUMIFS('R2建設IOデータ'!BV:BV,'R2建設IOデータ'!$A:$A,'R2建設io'!$CE19)/'R2建設IOデータ'!BV$232","v":9.2719453803014606E-3},{"$f":"+SUMIFS('R2建設IOデータ'!BW:BW,'R2建設IOデータ'!$A:$A,'R2建設io'!$CE19)/'R2建設IOデータ'!BW$232","v":3.6988327582979839E-2},{"$f":"+SUMIFS('R2建設IOデータ'!BX:BX,'R2建設IOデータ'!$A:$A,'R2建設io'!$CE19)/'R2建設IOデータ'!BX$232","v":6.8563373485744539E-2},{"$f":"+SUMIFS('R2建設IOデータ'!BY:BY,'R2建設IOデータ'!$A:$A,'R2建設io'!$CE19)/'R2建設IOデータ'!BY$232","v":4.2804199076807964E-2},{"$f":"+SUMIFS('R2建設IOデータ'!BZ:BZ,'R2建設IOデータ'!$A:$A,'R2建設io'!$CE19)/'R2建設IOデータ'!BZ$232","v":7.7883599551530638E-2},{"$f":"+SUMIFS('R2建設IOデータ'!CA:CA,'R2建設IOデータ'!$A:$A,'R2建設io'!$CE19)/'R2建設IOデータ'!CA$232","v":4.5991039109751691E-2},{"$f":"+SUMIFS('R2建設IOデータ'!CB:CB,'R2建設IOデータ'!$A:$A,'R2建設io'!$CE19)/'R2建設IOデータ'!CB$232","v":0.11276091631180823},{"$f":"+SUMIFS('R2建設IOデータ'!CC:CC,'R2建設IOデータ'!$A:$A,'R2建設io'!$CE19)/'R2建設IOデータ'!CC$232","v":1.2423614467403322E-2},{"$f":"+SUMIFS('R2建設IOデータ'!CD:CD,'R2建設IOデータ'!$A:$A,'R2建設io'!$CE19)/'R2建設IOデータ'!CD$232","v":6.9685840170978064E-2}]
[0,null,"29","はん用機械",0,0,0,0,0,0,0,0,0,0,0,0,0,0,0,0,0,0,0,0,0,0,0,0,0,0,0,0,0,0,0,0,0,0,0,0,0,0,0,0,0,0,0,0,0,0,0,0,0,0,0,0,0,0,0,0,0,0,0,0,0,0,0,0,0,0,0,0,0,0,0,null,null,null,null,null,null,null,"29","はん用機械",{"$f":"+SUMIFS('R2建設IOデータ'!L:L,'R2建設IOデータ'!$A:$A,'R2建設io'!$CE20)/'R2建設IOデータ'!L$232","v":7.0806369598530195E-3},{"$f":"+SUMIFS('R2建設IOデータ'!M:M,'R2建設IOデータ'!$A:$A,'R2建設io'!$CE20)/'R2建設IOデータ'!M$232","v":1.0208743713460495E-2},{"$f":"+SUMIFS('R2建設IOデータ'!N:N,'R2建設IOデータ'!$A:$A,'R2建設io'!$CE20)/'R2建設IOデータ'!N$232","v":4.0672181316079659E-3},{"$f":"+SUMIFS('R2建設IOデータ'!O:O,'R2建設IOデータ'!$A:$A,'R2建設io'!$CE20)/'R2建設IOデータ'!O$232","v":2.8081372971236573E-3},{"$f":"+SUMIFS('R2建設IOデータ'!P:P,'R2建設IOデータ'!$A:$A,'R2建設io'!$CE20)/'R2建設IOデータ'!P$232","v":2.8552292058215598E-3},{"$f":"+SUMIFS('R2建設IOデータ'!Q:Q,'R2建設IOデータ'!$A:$A,'R2建設io'!$CE20)/'R2建設IOデータ'!Q$232","v":6.6562452725530731E-4},{"$f":"+SUMIFS('R2建設IOデータ'!R:R,'R2建設IOデータ'!$A:$A,'R2建設io'!$CE20)/'R2建設IOデータ'!R$232","v":5.8497067546609957E-3},{"$f":"+SUMIFS('R2建設IOデータ'!S:S,'R2建設IOデータ'!$A:$A,'R2建設io'!$CE20)/'R2建設IOデータ'!S$232","v":2.6304539503566943E-2},{"$f":"+SUMIFS('R2建設IOデータ'!T:T,'R2建設IOデータ'!$A:$A,'R2建設io'!$CE20)/'R2建設IOデータ'!T$232","v":7.2784669780797907E-3},{"$f":"+SUMIFS('R2建設IOデータ'!U:U,'R2建設IOデータ'!$A:$A,'R2建設io'!$CE20)/'R2建設IOデータ'!U$232","v":7.2708330758613649E-3},{"$f":"+SUMIFS('R2建設IOデータ'!V:V,'R2建設IOデータ'!$A:$A,'R2建設io'!$CE20)/'R2建設IOデータ'!V$232","v":7.8287902339159113E-3},{"$f":"+SUMIFS('R2建設IOデータ'!W:W,'R2建設IOデータ'!$A:$A,'R2建設io'!$CE20)/'R2建設IOデータ'!W$232","v":3.1355329036447839E-3},{"$f":"+SUMIFS('R2建設IOデータ'!X:X,'R2建設IOデータ'!$A:$A,'R2建設io'!$CE20)/'R2建設IOデータ'!X$232","v":7.1379847320775843E-3},{"$f":"+SUMIFS('R2建設IOデータ'!Y:Y,'R2建設IOデータ'!$A:$A,'R2建設io'!$CE20)/'R2建設IOデータ'!Y$232","v":1.4837935093286647E-3},{"$f":"+SUMIFS('R2建設IOデータ'!Z:Z,'R2建設IOデータ'!$A:$A,'R2建設io'!$CE20)/'R2建設IOデータ'!Z$232","v":2.6520592924684674E-3},{"$f":"+SUMIFS('R2建設IOデータ'!AA:AA,'R2建設IOデータ'!$A:$A,'R2建設io'!$CE20)/'R2建設IOデータ'!AA$232","v":1.6629934533384065E-2},{"$f":"+SUMIFS('R2建設IOデータ'!AB:AB,'R2建設IOデータ'!$A:$A,'R2建設io'!$CE20)/'R2建設IOデータ'!AB$232","v":1.1874995428675319E-2},{"$f":"+SUMIFS('R2建設IOデータ'!AC:AC,'R2建設IOデータ'!$A:$A,'R2建設io'!$CE20)/'R2建設IOデータ'!AC$232","v":1.5372575325619095E-3},{"$f":"+SUMIFS('R2建設IOデータ'!AD:AD,'R2建設IOデータ'!$A:$A,'R2建設io'!$CE20)/'R2建設IOデータ'!AD$232","v":1.3180828014908458E-2},{"$f":"+SUMIFS('R2建設IOデータ'!AE:AE,'R2建設IOデータ'!$A:$A,'R2建設io'!$CE20)/'R2建設IOデータ'!AE$232","v":1.6952875176888135E-2},{"$f":"+SUMIFS('R2建設IOデータ'!AF:AF,'R2建設IOデータ'!$A:$A,'R2建設io'!$CE20)/'R2建設IOデータ'!AF$232","v":1.5000675706112888E-2},{"$f":"+SUMIFS('R2建設IOデータ'!AG:AG,'R2建設IOデータ'!$A:$A,'R2建設io'!$CE20)/'R2建設IOデータ'!AG$232","v":2.7350365404360692E-2},{"$f":"+SUMIFS('R2建設IOデータ'!AH:AH,'R2建設IOデータ'!$A:$A,'R2建設io'!$CE20)/'R2建設IOデータ'!AH$232","v":1.1289942081874949E-2},{"$f":"+SUMIFS('R2建設IOデータ'!AI:AI,'R2建設IOデータ'!$A:$A,'R2建設io'!$CE20)/'R2建設IOデータ'!AI$232","v":1.9464341963697653E-2},{"$f":"+SUMIFS('R2建設IOデータ'!AJ:AJ,'R2建設IOデータ'!$A:$A,'R2建設io'!$CE20)/'R2建設IOデータ'!AJ$232","v":1.6638048385234527E-2},{"$f":"+SUMIFS('R2建設IOデータ'!AK:AK,'R2建設IOデータ'!$A:$A,'R2建設io'!$CE20)/'R2建設IOデータ'!AK$232","v":1.6594330880780592E-2},{"$f":"+SUMIFS('R2建設IOデータ'!AL:AL,'R2建設IOデータ'!$A:$A,'R2建設io'!$CE20)/'R2建設IOデータ'!AL$232","v":1.6939068140966584E-2},{"$f":"+SUMIFS('R2建設IOデータ'!AM:AM,'R2建設IOデータ'!$A:$A,'R2建設io'!$CE20)/'R2建設IOデータ'!AM$232","v":2.1112073184504761E-2},{"$f":"+SUMIFS('R2建設IOデータ'!AN:AN,'R2建設IOデータ'!$A:$A,'R2建設io'!$CE20)/'R2建設IOデータ'!AN$232","v":6.9848547141398965E-4},{"$f":"+SUMIFS('R2建設IOデータ'!AO:AO,'R2建設IOデータ'!$A:$A,'R2建設io'!$CE20)/'R2建設IOデータ'!AO$232","v":5.7003623336813122E-3},{"$f":"+SUMIFS('R2建設IOデータ'!AP:AP,'R2建設IOデータ'!$A:$A,'R2建設io'!$CE20)/'R2建設IOデータ'!AP$232","v":5.304448270865186E-3},{"$f":"+SUMIFS('R2建設IOデータ'!AQ:AQ,'R2建設IOデータ'!$A:$A,'R2建設io'!$CE20)/'R2建設IOデータ'!AQ$232","v":5.0019887934489669E-4},{"$f":"+SUMIFS('R2建設IOデータ'!AR:AR,'R2建設IOデータ'!$A:$A,'R2建設io'!$CE20)/'R2建設IOデータ'!AR$232","v":5.0473249006173645E-4},{"$f":"+SUMIFS('R2建設IOデータ'!AS:AS,'R2建設IOデータ'!$A:$A,'R2建設io'!$CE20)/'R2建設IOデータ'!AS$232","v":4.8245495544843315E-4},{"$f":"+SUMIFS('R2建設IOデータ'!AT:AT,'R2建設IOデータ'!$A:$A,'R2建設io'!$CE20)/'R2建設IOデータ'!AT$232","v":5.3090578511885017E-4},{"$f":"+SUMIFS('R2建設IOデータ'!AU:AU,'R2建設IOデータ'!$A:$A,'R2建設io'!$CE20)/'R2建設IOデータ'!AU$232","v":4.8936484994708033E-4},{"$f":"+SUMIFS('R2建設IOデータ'!AV:AV,'R2建設IOデータ'!$A:$A,'R2建設io'!$CE20)/'R2建設IOデータ'!AV$232","v":5.1597685475251542E-4},{"$f":"+SUMIFS('R2建設IOデータ'!AW:AW,'R2建設IOデータ'!$A:$A,'R2建設io'!$CE20)/'R2建設IOデータ'!AW$232","v":5.0819537148871872E-4},{"$f":"+SUMIFS('R2建設IOデータ'!AX:AX,'R2建設IOデータ'!$A:$A,'R2建設io'!$CE20)/'R2建設IOデータ'!AX$232","v":1.0187656635220767E-4},{"$f":"+SUMIFS('R2建設IOデータ'!AY:AY,'R2建設IOデータ'!$A:$A,'R2建設io'!$CE20)/'R2建設IOデータ'!AY$232","v":2.2084805653710247E-4},{"$f":"+SUMIFS('R2建設IOデータ'!AZ:AZ,'R2建設IOデータ'!$A:$A,'R2建設io'!$CE20)/'R2建設IOデータ'!AZ$232","v":2.185473883587091E-4},{"$f":"+SUMIFS('R2建設IOデータ'!BA:BA,'R2建設IOデータ'!$A:$A,'R2建設io'!$CE20)/'R2建設IOデータ'!BA$232","v":5.9840764530616735E-4},{"$f":"+SUMIFS('R2建設IOデータ'!BB:BB,'R2建設IOデータ'!$A:$A,'R2建設io'!$CE20)/'R2建設IOデータ'!BB$232","v":6.168569463413288E-4},{"$f":"+SUMIFS('R2建設IOデータ'!BC:BC,'R2建設IOデータ'!$A:$A,'R2建設io'!$CE20)/'R2建設IOデータ'!BC$232","v":1.4352517865546947E-4},{"$f":"+SUMIFS('R2建設IOデータ'!BD:BD,'R2建設IOデータ'!$A:$A,'R2建設io'!$CE20)/'R2建設IOデータ'!BD$232","v":2.9469799861620071E-4},{"$f":"+SUMIFS('R2建設IOデータ'!BE:BE,'R2建設IOデータ'!$A:$A,'R2建設io'!$CE20)/'R2建設IOデータ'!BE$232","v":2.1569527306103717E-2},{"$f":"+SUMIFS('R2建設IOデータ'!BF:BF,'R2建設IOデータ'!$A:$A,'R2建設io'!$CE20)/'R2建設IOデータ'!BF$232","v":2.4708135153499292E-4},{"$f":"+SUMIFS('R2建設IOデータ'!BG:BG,'R2建設IOデータ'!$A:$A,'R2建設io'!$CE20)/'R2建設IOデータ'!BG$232","v":4.1688884579960253E-4},{"$f":"+SUMIFS('R2建設IOデータ'!BH:BH,'R2建設IOデータ'!$A:$A,'R2建設io'!$CE20)/'R2建設IOデータ'!BH$232","v":4.1418647858655904E-4},{"$f":"+SUMIFS('R2建設IOデータ'!BI:BI,'R2建設IOデータ'!$A:$A,'R2建設io'!$CE20)/'R2建設IOデータ'!BI$232","v":4.2913850445231198E-4},{"$f":"+SUMIFS('R2建設IOデータ'!BJ:BJ,'R2建設IOデータ'!$A:$A,'R2建設io'!$CE20)/'R2建設IOデータ'!BJ$232","v":2.274536563175253E-4},{"$f":"+SUMIFS('R2建設IOデータ'!BK:BK,'R2建設IOデータ'!$A:$A,'R2建設io'!$CE20)/'R2建設IOデータ'!BK$232","v":1.0897195776905745E-2},{"$f":"+SUMIFS('R2建設IOデータ'!BL:BL,'R2建設IOデータ'!$A:$A,'R2建設io'!$CE20)/'R2建設IOデータ'!BL$232","v":3.7115522839368479E-3},{"$f":"+SUMIFS('R2建設IOデータ'!BM:BM,'R2建設IOデータ'!$A:$A,'R2建設io'!$CE20)/'R2建設IOデータ'!BM$232","v":5.3677025784409742E-3},{"$f":"+SUMIFS('R2建設IOデータ'!BN:BN,'R2建設IOデータ'!$A:$A,'R2建設io'!$CE20)/'R2建設IOデータ'!BN$232","v":1.3853954338729183E-3},{"$f":"+SUMIFS('R2建設IOデータ'!BO:BO,'R2建設IOデータ'!$A:$A,'R2建設io'!$CE20)/'R2建設IOデータ'!BO$232","v":9.5549008679034957E-4},{"$f":"+SUMIFS('R2建設IOデータ'!BP:BP,'R2建設IOデータ'!$A:$A,'R2建設io'!$CE20)/'R2建設IOデータ'!BP$232","v":1.7427595221169943E-4},{"$f":"+SUMIFS('R2建設IOデータ'!BQ:BQ,'R2建設IOデータ'!$A:$A,'R2建設io'!$CE20)/'R2建設IOデータ'!BQ$232","v":4.1188219605159192E-2},{"$f":"+SUMIFS('R2建設IOデータ'!BR:BR,'R2建設IOデータ'!$A:$A,'R2建設io'!$CE20)/'R2建設IOデータ'!BR$232","v":3.4674851496023875E-3},{"$f":"+SUMIFS('R2建設IOデータ'!BS:BS,'R2建設IOデータ'!$A:$A,'R2建設io'!$CE20)/'R2建設IOデータ'!BS$232","v":1.3395667841020214E-5},{"$f":"+SUMIFS('R2建設IOデータ'!BT:BT,'R2建設IOデータ'!$A:$A,'R2建設io'!$CE20)/'R2建設IOデータ'!BT$232","v":1.2319276393362191E-2},{"$f":"+SUMIFS('R2建設IOデータ'!BU:BU,'R2建設IOデータ'!$A:$A,'R2建設io'!$CE20)/'R2建設IOデータ'!BU$232","v":2.0338549687076886E-3},{"$f":"+SUMIFS('R2建設IOデータ'!BV:BV,'R2建設IOデータ'!$A:$A,'R2建設io'!$CE20)/'R2建設IOデータ'!BV$232","v":7.0953377198330534E-4},{"$f":"+SUMIFS('R2建設IOデータ'!BW:BW,'R2建設IOデータ'!$A:$A,'R2建設io'!$CE20)/'R2建設IOデータ'!BW$232","v":6.2445029325974648E-4},{"$f":"+SUMIFS('R2建設IOデータ'!BX:BX,'R2建設IOデータ'!$A:$A,'R2建設io'!$CE20)/'R2建設IOデータ'!BX$232","v":6.2588869768693076E-3},{"$f":"+SUMIFS('R2建設IOデータ'!BY:BY,'R2建設IOデータ'!$A:$A,'R2建設io'!$CE20)/'R2建設IOデータ'!BY$232","v":4.3663255210064644E-3},{"$f":"+SUMIFS('R2建設IOデータ'!BZ:BZ,'R2建設IOデータ'!$A:$A,'R2建設io'!$CE20)/'R2建設IOデータ'!BZ$232","v":3.7438813505680738E-3},{"$f":"+SUMIFS('R2建設IOデータ'!CA:CA,'R2建設IOデータ'!$A:$A,'R2建設io'!$CE20)/'R2建設IOデータ'!CA$232","v":3.2170057100698582E-3},{"$f":"+SUMIFS('R2建設IOデータ'!CB:CB,'R2建設IOデータ'!$A:$A,'R2建設io'!$CE20)/'R2建設IOデータ'!CB$232","v":1.6110619756595845E-2},{"$f":"+SUMIFS('R2建設IOデータ'!CC:CC,'R2建設IOデータ'!$A:$A,'R2建設io'!$CE20)/'R2建設IOデータ'!CC$232","v":3.9889303046152419E-4},{"$f":"+SUMIFS('R2建設IOデータ'!CD:CD,'R2建設IOデータ'!$A:$A,'R2建設io'!$CE20)/'R2建設IOデータ'!CD$232","v":6.4552792237096163E-3}]
[0,null,"30","生産用機械",0,0,0,0,0,0,0,0,0,0,0,0,0,0,0,0,0,0,0,0,0,0,0,0,0,0,0,0,0,0,0,0,0,0,0,0,0,0,0,0,0,0,0,0,0,0,0,0,0,0,0,0,0,0,0,0,0,0,0,0,0,0,0,0,0,0,0,0,0,0,0,null,null,null,null,null,null,null,"30","生産用機械",{"$f":"+SUMIFS('R2建設IOデータ'!L:L,'R2建設IOデータ'!$A:$A,'R2建設io'!$CE21)/'R2建設IOデータ'!L$232","v":5.6301278761081155E-5},{"$f":"+SUMIFS('R2建設IOデータ'!M:M,'R2建設IOデータ'!$A:$A,'R2建設io'!$CE21)/'R2建設IOデータ'!M$232","v":2.358487807787532E-5},{"$f":"+SUMIFS('R2建設IOデータ'!N:N,'R2建設IOデータ'!$A:$A,'R2建設io'!$CE21)/'R2建設IOデータ'!N$232","v":1.6461323833645294E-5},{"$f":"+SUMIFS('R2建設IOデータ'!O:O,'R2建設IOデータ'!$A:$A,'R2建設io'!$CE21)/'R2建設IOデータ'!O$232","v":1.4207159692704559E-5},{"$f":"+SUMIFS('R2建設IOデータ'!P:P,'R2建設IOデータ'!$A:$A,'R2建設io'!$CE21)/'R2建設IOデータ'!P$232","v":1.4186923580030265E-5},{"$f":"+SUMIFS('R2建設IOデータ'!Q:Q,'R2建設IOデータ'!$A:$A,'R2建設io'!$CE21)/'R2建設IOデータ'!Q$232","v":1.5127830164893349E-5},{"$f":"+SUMIFS('R2建設IOデータ'!R:R,'R2建設IOデータ'!$A:$A,'R2建設io'!$CE21)/'R2建設IOデータ'!R$232","v":1.9652558125895209E-5},{"$f":"+SUMIFS('R2建設IOデータ'!S:S,'R2建設IOデータ'!$A:$A,'R2建設io'!$CE21)/'R2建設IOデータ'!S$232","v":2.671867902850883E-5},{"$f":"+SUMIFS('R2建設IOデータ'!T:T,'R2建設IOデータ'!$A:$A,'R2建設io'!$CE21)/'R2建設IOデータ'!T$232","v":1.9710785716008555E-5},{"$f":"+SUMIFS('R2建設IOデータ'!U:U,'R2建設IOデータ'!$A:$A,'R2建設io'!$CE21)/'R2建設IOデータ'!U$232","v":1.9721257122332011E-5},{"$f":"+SUMIFS('R2建設IOデータ'!V:V,'R2建設IOデータ'!$A:$A,'R2建設io'!$CE21)/'R2建設IOデータ'!V$232","v":1.8955908556697122E-5},{"$f":"+SUMIFS('R2建設IOデータ'!W:W,'R2建設IOデータ'!$A:$A,'R2建設io'!$CE21)/'R2建設IOデータ'!W$232","v":1.9450704175034108E-5},{"$f":"+SUMIFS('R2建設IOデータ'!X:X,'R2建設IOデータ'!$A:$A,'R2建設io'!$CE21)/'R2建設IOデータ'!X$232","v":1.6306075915654103E-5},{"$f":"+SUMIFS('R2建設IOデータ'!Y:Y,'R2建設IOデータ'!$A:$A,'R2建設io'!$CE21)/'R2建設IOデータ'!Y$232","v":2.0748435315631366E-5},{"$f":"+SUMIFS('R2建設IOデータ'!Z:Z,'R2建設IOデータ'!$A:$A,'R2建設io'!$CE21)/'R2建設IOデータ'!Z$232","v":1.578606721707421E-5},{"$f":"+SUMIFS('R2建設IOデータ'!AA:AA,'R2建設IOデータ'!$A:$A,'R2建設io'!$CE21)/'R2建設IOデータ'!AA$232","v":3.1032815973540638E-5},{"$f":"+SUMIFS('R2建設IOデータ'!AB:AB,'R2建設IOデータ'!$A:$A,'R2建設io'!$CE21)/'R2建設IOデータ'!AB$232","v":2.2987232681993578E-5},{"$f":"+SUMIFS('R2建設IOデータ'!AC:AC,'R2建設IOデータ'!$A:$A,'R2建設io'!$CE21)/'R2建設IOデータ'!AC$232","v":2.7950136955671083E-5},{"$f":"+SUMIFS('R2建設IOデータ'!AD:AD,'R2建設IOデータ'!$A:$A,'R2建設io'!$CE21)/'R2建設IOデータ'!AD$232","v":2.2360333239576849E-5},{"$f":"+SUMIFS('R2建設IOデータ'!AE:AE,'R2建設IOデータ'!$A:$A,'R2建設io'!$CE21)/'R2建設IOデータ'!AE$232","v":3.1579246913731815E-5},{"$f":"+SUMIFS('R2建設IOデータ'!AF:AF,'R2建設IOデータ'!$A:$A,'R2建設io'!$CE21)/'R2建設IOデータ'!AF$232","v":3.7539228493775998E-5},{"$f":"+SUMIFS('R2建設IOデータ'!AG:AG,'R2建設IOデータ'!$A:$A,'R2建設io'!$CE21)/'R2建設IOデータ'!AG$232","v":3.1406655795131968E-5},{"$f":"+SUMIFS('R2建設IOデータ'!AH:AH,'R2建設IOデータ'!$A:$A,'R2建設io'!$CE21)/'R2建設IOデータ'!AH$232","v":3.5306144392501615E-5},{"$f":"+SUMIFS('R2建設IOデータ'!AI:AI,'R2建設IOデータ'!$A:$A,'R2建設io'!$CE21)/'R2建設IOデータ'!AI$232","v":3.0681497420708782E-5},{"$f":"+SUMIFS('R2建設IOデータ'!AJ:AJ,'R2建設IOデータ'!$A:$A,'R2建設io'!$CE21)/'R2建設IOデータ'!AJ$232","v":3.3281849188847376E-5},{"$f":"+SUMIFS('R2建設IOデータ'!AK:AK,'R2建設IOデータ'!$A:$A,'R2建設io'!$CE21)/'R2建設IOデータ'!AK$232","v":3.0194910623064556E-5},{"$f":"+SUMIFS('R2建設IOデータ'!AL:AL,'R2建設IOデータ'!$A:$A,'R2建設io'!$CE21)/'R2建設IOデータ'!AL$232","v":3.1242441517840209E-5},{"$f":"+SUMIFS('R2建設IOデータ'!AM:AM,'R2建設IOデータ'!$A:$A,'R2建設io'!$CE21)/'R2建設IOデータ'!AM$232","v":3.7646350186349433E-5},{"$f":"+SUMIFS('R2建設IOデータ'!AN:AN,'R2建設IOデータ'!$A:$A,'R2建設io'!$CE21)/'R2建設IOデータ'!AN$232","v":1.0810010873714473E-4},{"$f":"+SUMIFS('R2建設IOデータ'!AO:AO,'R2建設IOデータ'!$A:$A,'R2建設io'!$CE21)/'R2建設IOデータ'!AO$232","v":7.7492690778701909E-5},{"$f":"+SUMIFS('R2建設IOデータ'!AP:AP,'R2建設IOデータ'!$A:$A,'R2建設io'!$CE21)/'R2建設IOデータ'!AP$232","v":1.2478116946970273E-4},{"$f":"+SUMIFS('R2建設IOデータ'!AQ:AQ,'R2建設IOデータ'!$A:$A,'R2建設io'!$CE21)/'R2建設IOデータ'!AQ$232","v":2.3733667678277624E-4},{"$f":"+SUMIFS('R2建設IOデータ'!AR:AR,'R2建設IOデータ'!$A:$A,'R2建設io'!$CE21)/'R2建設IOデータ'!AR$232","v":2.3801651301855807E-4},{"$f":"+SUMIFS('R2建設IOデータ'!AS:AS,'R2建設IOデータ'!$A:$A,'R2建設io'!$CE21)/'R2建設IOデータ'!AS$232","v":2.422910909416955E-4},{"$f":"+SUMIFS('R2建設IOデータ'!AT:AT,'R2建設IOデータ'!$A:$A,'R2建設io'!$CE21)/'R2建設IOデータ'!AT$232","v":2.3011076789407887E-4},{"$f":"+SUMIFS('R2建設IOデータ'!AU:AU,'R2建設IOデータ'!$A:$A,'R2建設io'!$CE21)/'R2建設IOデータ'!AU$232","v":2.5037271392641317E-4},{"$f":"+SUMIFS('R2建設IOデータ'!AV:AV,'R2建設IOデータ'!$A:$A,'R2建設io'!$CE21)/'R2建設IOデータ'!AV$232","v":1.9845263644327515E-4},{"$f":"+SUMIFS('R2建設IOデータ'!AW:AW,'R2建設IOデータ'!$A:$A,'R2建設io'!$CE21)/'R2建設IOデータ'!AW$232","v":2.6170226044671893E-4},{"$f":"+SUMIFS('R2建設IOデータ'!AX:AX,'R2建設IOデータ'!$A:$A,'R2建設io'!$CE21)/'R2建設IOデータ'!AX$232","v":2.3940993092768802E-4},{"$f":"+SUMIFS('R2建設IOデータ'!AY:AY,'R2建設IOデータ'!$A:$A,'R2建設io'!$CE21)/'R2建設IOデータ'!AY$232","v":2.2084805653710247E-4},{"$f":"+SUMIFS('R2建設IOデータ'!AZ:AZ,'R2建設IOデータ'!$A:$A,'R2建設io'!$CE21)/'R2建設IOデータ'!AZ$232","v":4.3709477671741821E-4},{"$f":"+SUMIFS('R2建設IOデータ'!BA:BA,'R2建設IOデータ'!$A:$A,'R2建設io'!$CE21)/'R2建設IOデータ'!BA$232","v":2.2004227316190907E-4},{"$f":"+SUMIFS('R2建設IOデータ'!BB:BB,'R2建設IOデータ'!$A:$A,'R2建設io'!$CE21)/'R2建設IOデータ'!BB$232","v":2.1974296970306121E-4},{"$f":"+SUMIFS('R2建設IOデータ'!BC:BC,'R2建設IOデータ'!$A:$A,'R2建設io'!$CE21)/'R2建設IOデータ'!BC$232","v":2.1918186197773245E-4},{"$f":"+SUMIFS('R2建設IOデータ'!BD:BD,'R2建設IOデータ'!$A:$A,'R2建設io'!$CE21)/'R2建設IOデータ'!BD$232","v":1.9219434692360914E-4},{"$f":"+SUMIFS('R2建設IOデータ'!BE:BE,'R2建設IOデータ'!$A:$A,'R2建設io'!$CE21)/'R2建設IOデータ'!BE$232","v":3.2124827902707662E-4},{"$f":"+SUMIFS('R2建設IOデータ'!BF:BF,'R2建設IOデータ'!$A:$A,'R2建設io'!$CE21)/'R2建設IOデータ'!BF$232","v":2.4708135153499292E-4},{"$f":"+SUMIFS('R2建設IOデータ'!BG:BG,'R2建設IOデータ'!$A:$A,'R2建設io'!$CE21)/'R2建設IOデータ'!BG$232","v":2.2298705705560133E-4},{"$f":"+SUMIFS('R2建設IOデータ'!BH:BH,'R2建設IOデータ'!$A:$A,'R2建設io'!$CE21)/'R2建設IOデータ'!BH$232","v":2.3667798776374804E-4},{"$f":"+SUMIFS('R2建設IOデータ'!BI:BI,'R2建設IOデータ'!$A:$A,'R2建設io'!$CE21)/'R2建設IOデータ'!BI$232","v":1.6092693916961701E-4},{"$f":"+SUMIFS('R2建設IOデータ'!BJ:BJ,'R2建設IOデータ'!$A:$A,'R2建設io'!$CE21)/'R2建設IOデータ'!BJ$232","v":1.9643724863786276E-4},{"$f":"+SUMIFS('R2建設IOデータ'!BK:BK,'R2建設IOデータ'!$A:$A,'R2建設io'!$CE21)/'R2建設IOデータ'!BK$232","v":1.3460218324741227E-5},{"$f":"+SUMIFS('R2建設IOデータ'!BL:BL,'R2建設IOデータ'!$A:$A,'R2建設io'!$CE21)/'R2建設IOデータ'!BL$232","v":1.3277673326747607E-5},{"$f":"+SUMIFS('R2建設IOデータ'!BM:BM,'R2建設IOデータ'!$A:$A,'R2建設io'!$CE21)/'R2建設IOデータ'!BM$232","v":1.3592561606586412E-5},{"$f":"+SUMIFS('R2建設IOデータ'!BN:BN,'R2建設IOデータ'!$A:$A,'R2建設io'!$CE21)/'R2建設IOデータ'!BN$232","v":1.1355700277646872E-5},{"$f":"+SUMIFS('R2建設IOデータ'!BO:BO,'R2建設IOデータ'!$A:$A,'R2建設io'!$CE21)/'R2建設IOデータ'!BO$232","v":1.1374881985599399E-5},{"$f":"+SUMIFS('R2建設IOデータ'!BP:BP,'R2建設IOデータ'!$A:$A,'R2建設io'!$CE21)/'R2建設IOデータ'!BP$232","v":1.3758627806186795E-5},{"$f":"+SUMIFS('R2建設IOデータ'!BQ:BQ,'R2建設IOデータ'!$A:$A,'R2建設io'!$CE21)/'R2建設IOデータ'!BQ$232","v":1.3756920375804673E-5},{"$f":"+SUMIFS('R2建設IOデータ'!BR:BR,'R2建設IOデータ'!$A:$A,'R2建設io'!$CE21)/'R2建設IOデータ'!BR$232","v":1.2481947982729977E-5},{"$f":"+SUMIFS('R2建設IOデータ'!BS:BS,'R2建設IOデータ'!$A:$A,'R2建設io'!$CE21)/'R2建設IOデータ'!BS$232","v":1.3395667841020214E-5},{"$f":"+SUMIFS('R2建設IOデータ'!BT:BT,'R2建設IOデータ'!$A:$A,'R2建設io'!$CE21)/'R2建設IOデータ'!BT$232","v":1.3848552232782293E-5},{"$f":"+SUMIFS('R2建設IOデータ'!BU:BU,'R2建設IOデータ'!$A:$A,'R2建設io'!$CE21)/'R2建設IOデータ'!BU$232","v":1.1622028392615363E-5},{"$f":"+SUMIFS('R2建設IOデータ'!BV:BV,'R2建設IOデータ'!$A:$A,'R2建設io'!$CE21)/'R2建設IOデータ'!BV$232","v":1.4401903355547468E-5},{"$f":"+SUMIFS('R2建設IOデータ'!BW:BW,'R2建設IOデータ'!$A:$A,'R2建設io'!$CE21)/'R2建設IOデータ'!BW$232","v":1.3499389628824759E-4},{"$f":"+SUMIFS('R2建設IOデータ'!BX:BX,'R2建設IOデータ'!$A:$A,'R2建設io'!$CE21)/'R2建設IOデータ'!BX$232","v":1.0781797763364092E-5},{"$f":"+SUMIFS('R2建設IOデータ'!BY:BY,'R2建設IOデータ'!$A:$A,'R2建設io'!$CE21)/'R2建設IOデータ'!BY$232","v":5.214301264076984E-6},{"$f":"+SUMIFS('R2建設IOデータ'!BZ:BZ,'R2建設IOデータ'!$A:$A,'R2建設io'!$CE21)/'R2建設IOデータ'!BZ$232","v":7.4661936971222388E-6},{"$f":"+SUMIFS('R2建設IOデータ'!CA:CA,'R2建設IOデータ'!$A:$A,'R2建設io'!$CE21)/'R2建設IOデータ'!CA$232","v":1.9981401925899739E-5},{"$f":"+SUMIFS('R2建設IOデータ'!CB:CB,'R2建設IOデータ'!$A:$A,'R2建設io'!$CE21)/'R2建設IOデータ'!CB$232","v":1.4834824821911461E-5},{"$f":"+SUMIFS('R2建設IOデータ'!CC:CC,'R2建設IOデータ'!$A:$A,'R2建設io'!$CE21)/'R2建設IOデータ'!CC$232","v":1.1586104619214397E-5},{"$f":"+SUMIFS('R2建設IOデータ'!CD:CD,'R2建設IOデータ'!$A:$A,'R2建設io'!$CE21)/'R2建設IOデータ'!CD$232","v":1.2353905978055103E-5}]
[0,null,"31","業務用機械",0,0,0,0,0,0,0,0,0,0,0,0,0,0,0,0,0,0,0,0,0,0,0,0,0,0,0,0,0,0,0,0,0,0,0,0,0,0,0,0,0,0,0,0,0,0,0,0,0,0,0,0,0,0,0,0,0,0,0,0,0,0,0,0,0,0,0,0,0,0,0,null,null,null,null,null,null,null,"31","業務用機械",{"$f":"+SUMIFS('R2建設IOデータ'!L:L,'R2建設IOデータ'!$A:$A,'R2建設io'!$CE22)/'R2建設IOデータ'!L$232","v":1.8965303625135358E-4},{"$f":"+SUMIFS('R2建設IOデータ'!M:M,'R2建設IOデータ'!$A:$A,'R2建設io'!$CE22)/'R2建設IOデータ'!M$232","v":3.7466170643544907E-4},{"$f":"+SUMIFS('R2建設IOデータ'!N:N,'R2建設IOデータ'!$A:$A,'R2建設io'!$CE22)/'R2建設IOデータ'!N$232","v":1.1141583274278069E-4},{"$f":"+SUMIFS('R2建設IOデータ'!O:O,'R2建設IOデータ'!$A:$A,'R2建設io'!$CE22)/'R2建設IOデータ'!O$232","v":1.0747553630129937E-4},{"$f":"+SUMIFS('R2建設IOデータ'!P:P,'R2建設IOデータ'!$A:$A,'R2建設io'!$CE22)/'R2建設IOデータ'!P$232","v":1.0828612763819976E-4},{"$f":"+SUMIFS('R2建設IOデータ'!Q:Q,'R2建設IOデータ'!$A:$A,'R2建設io'!$CE22)/'R2建設IOデータ'!Q$232","v":7.0596540769502297E-5},{"$f":"+SUMIFS('R2建設IOデータ'!R:R,'R2建設IOデータ'!$A:$A,'R2建設io'!$CE22)/'R2建設IOデータ'!R$232","v":1.1699413509321991E-4},{"$f":"+SUMIFS('R2建設IOデータ'!S:S,'R2建設IOデータ'!$A:$A,'R2建設io'!$CE22)/'R2建設IOデータ'!S$232","v":8.2827904988377378E-4},{"$f":"+SUMIFS('R2建設IOデータ'!T:T,'R2建設IOデータ'!$A:$A,'R2建設io'!$CE22)/'R2建設IOデータ'!T$232","v":1.0607514944536184E-4},{"$f":"+SUMIFS('R2建設IOデータ'!U:U,'R2建設IOデータ'!$A:$A,'R2建設io'!$CE22)/'R2建設IOデータ'!U$232","v":1.0649478846059285E-4},{"$f":"+SUMIFS('R2建設IOデータ'!V:V,'R2建設IOデータ'!$A:$A,'R2建設io'!$CE22)/'R2建設IOデータ'!V$232","v":7.5823634226788487E-5},{"$f":"+SUMIFS('R2建設IOデータ'!W:W,'R2建設IOデータ'!$A:$A,'R2建設io'!$CE22)/'R2建設IOデータ'!W$232","v":1.1432250617162905E-4},{"$f":"+SUMIFS('R2建設IOデータ'!X:X,'R2建設IOデータ'!$A:$A,'R2建設io'!$CE22)/'R2建設IOデータ'!X$232","v":2.622560543101035E-4},{"$f":"+SUMIFS('R2建設IOデータ'!Y:Y,'R2建設IOデータ'!$A:$A,'R2建設io'!$CE22)/'R2建設IOデータ'!Y$232","v":5.3273009594188646E-5},{"$f":"+SUMIFS('R2建設IOデータ'!Z:Z,'R2建設IOデータ'!$A:$A,'R2建設io'!$CE22)/'R2建設IOデータ'!Z$232","v":4.7358201651222633E-5},{"$f":"+SUMIFS('R2建設IOデータ'!AA:AA,'R2建設IOデータ'!$A:$A,'R2建設io'!$CE22)/'R2建設IOデータ'!AA$232","v":6.4989494694052982E-4},{"$f":"+SUMIFS('R2建設IOデータ'!AB:AB,'R2建設IOデータ'!$A:$A,'R2建設io'!$CE22)/'R2建設IOデータ'!AB$232","v":1.2120540868687522E-4},{"$f":"+SUMIFS('R2建設IOデータ'!AC:AC,'R2建設IOデータ'!$A:$A,'R2建設io'!$CE22)/'R2建設IOデータ'!AC$232","v":4.6583561592785138E-5},{"$f":"+SUMIFS('R2建設IOデータ'!AD:AD,'R2建設IOデータ'!$A:$A,'R2建設io'!$CE22)/'R2建設IOデータ'!AD$232","v":1.3063142050489631E-4},{"$f":"+SUMIFS('R2建設IOデータ'!AE:AE,'R2建設IOデータ'!$A:$A,'R2建設io'!$CE22)/'R2建設IOデータ'!AE$232","v":6.8580189252652642E-4},{"$f":"+SUMIFS('R2建設IOデータ'!AF:AF,'R2建設IOデータ'!$A:$A,'R2建設io'!$CE22)/'R2建設IOデータ'!AF$232","v":8.4838656395933747E-4},{"$f":"+SUMIFS('R2建設IOデータ'!AG:AG,'R2建設IOデータ'!$A:$A,'R2建設io'!$CE22)/'R2建設IOデータ'!AG$232","v":1.0484991242374825E-3},{"$f":"+SUMIFS('R2建設IOデータ'!AH:AH,'R2建設IOデータ'!$A:$A,'R2建設io'!$CE22)/'R2建設IOデータ'!AH$232","v":4.1725443372956457E-5},{"$f":"+SUMIFS('R2建設IOデータ'!AI:AI,'R2建設IOデータ'!$A:$A,'R2建設io'!$CE22)/'R2建設IOデータ'!AI$232","v":6.9340184170801845E-4},{"$f":"+SUMIFS('R2建設IOデータ'!AJ:AJ,'R2建設IOデータ'!$A:$A,'R2建設io'!$CE22)/'R2建設IOデータ'!AJ$232","v":5.7606361188597551E-4},{"$f":"+SUMIFS('R2建設IOデータ'!AK:AK,'R2建設IOデータ'!$A:$A,'R2建設io'!$CE22)/'R2建設IOデータ'!AK$232","v":6.2592564726008412E-4},{"$f":"+SUMIFS('R2建設IOデータ'!AL:AL,'R2建設IOデータ'!$A:$A,'R2建設io'!$CE22)/'R2建設IOデータ'!AL$232","v":8.1831164129419923E-4},{"$f":"+SUMIFS('R2建設IOデータ'!AM:AM,'R2建設IOデータ'!$A:$A,'R2建設io'!$CE22)/'R2建設IOデータ'!AM$232","v":4.065805820125739E-4},{"$f":"+SUMIFS('R2建設IOデータ'!AN:AN,'R2建設IOデータ'!$A:$A,'R2建設io'!$CE22)/'R2建設IOデータ'!AN$232","v":0},{"$f":"+SUMIFS('R2建設IOデータ'!AO:AO,'R2建設IOデータ'!$A:$A,'R2建設io'!$CE22)/'R2建設IOデータ'!AO$232","v":2.3159244158434915E-5},{"$f":"+SUMIFS('R2建設IOデータ'!AP:AP,'R2建設IOデータ'!$A:$A,'R2建設io'!$CE22)/'R2建設IOデータ'!AP$232","v":3.9575834828777762E-5},{"$f":"+SUMIFS('R2建設IOデータ'!AQ:AQ,'R2建設IOデータ'!$A:$A,'R2建設io'!$CE22)/'R2建設IOデータ'!AQ$232","v":3.5668118804249138E-5},{"$f":"+SUMIFS('R2建設IOデータ'!AR:AR,'R2建設IOデータ'!$A:$A,'R2建設io'!$CE22)/'R2建設IOデータ'!AR$232","v":3.626099945625686E-5},{"$f":"+SUMIFS('R2建設IOデータ'!AS:AS,'R2建設IOデータ'!$A:$A,'R2建設io'!$CE22)/'R2建設IOデータ'!AS$232","v":4.1693638125173235E-5},{"$f":"+SUMIFS('R2建設IOデータ'!AT:AT,'R2建設IOデータ'!$A:$A,'R2建設io'!$CE22)/'R2建設IOデータ'!AT$232","v":4.3339247764804095E-5},{"$f":"+SUMIFS('R2建設IOデータ'!AU:AU,'R2建設IOデータ'!$A:$A,'R2建設io'!$CE22)/'R2建設IOデータ'!AU$232","v":4.5522311622984215E-5},{"$f":"+SUMIFS('R2建設IOデータ'!AV:AV,'R2建設IOデータ'!$A:$A,'R2建設io'!$CE22)/'R2建設IOデータ'!AV$232","v":3.9690527288655028E-5},{"$f":"+SUMIFS('R2建設IOデータ'!AW:AW,'R2建設IOデータ'!$A:$A,'R2建設io'!$CE22)/'R2建設IOデータ'!AW$232","v":4.9298622208399964E-5},{"$f":"+SUMIFS('R2建設IOデータ'!AX:AX,'R2建設IOデータ'!$A:$A,'R2建設io'!$CE22)/'R2建設IOデータ'!AX$232","v":0},{"$f":"+SUMIFS('R2建設IOデータ'!AY:AY,'R2建設IOデータ'!$A:$A,'R2建設io'!$CE22)/'R2建設IOデータ'!AY$232","v":0},{"$f":"+SUMIFS('R2建設IOデータ'!AZ:AZ,'R2建設IOデータ'!$A:$A,'R2建設io'!$CE22)/'R2建設IOデータ'!AZ$232","v":0},{"$f":"+SUMIFS('R2建設IOデータ'!BA:BA,'R2建設IOデータ'!$A:$A,'R2建設io'!$CE22)/'R2建設IOデータ'!BA$232","v":1.3417211778165187E-5},{"$f":"+SUMIFS('R2建設IOデータ'!BB:BB,'R2建設IOデータ'!$A:$A,'R2建設io'!$CE22)/'R2建設IOデータ'!BB$232","v":1.3795522761627163E-5},{"$f":"+SUMIFS('R2建設IOデータ'!BC:BC,'R2建設IOデータ'!$A:$A,'R2建設io'!$CE22)/'R2建設IOデータ'!BC$232","v":1.4463777693962041E-5},{"$f":"+SUMIFS('R2建設IOデータ'!BD:BD,'R2建設IOデータ'!$A:$A,'R2建設io'!$CE22)/'R2建設IOデータ'!BD$232","v":1.2812956461573944E-5},{"$f":"+SUMIFS('R2建設IOデータ'!BE:BE,'R2建設IOデータ'!$A:$A,'R2建設io'!$CE22)/'R2建設IOデータ'!BE$232","v":0},{"$f":"+SUMIFS('R2建設IOデータ'!BF:BF,'R2建設IOデータ'!$A:$A,'R2建設io'!$CE22)/'R2建設IOデータ'!BF$232","v":0},{"$f":"+SUMIFS('R2建設IOデータ'!BG:BG,'R2建設IOデータ'!$A:$A,'R2建設io'!$CE22)/'R2建設IOデータ'!BG$232","v":9.6950894372000584E-6},{"$f":"+SUMIFS('R2建設IOデータ'!BH:BH,'R2建設IOデータ'!$A:$A,'R2建設io'!$CE22)/'R2建設IOデータ'!BH$232","v":1.1833899388187401E-5},{"$f":"+SUMIFS('R2建設IOデータ'!BI:BI,'R2建設IOデータ'!$A:$A,'R2建設io'!$CE22)/'R2建設IOデータ'!BI$232","v":0},{"$f":"+SUMIFS('R2建設IOデータ'!BJ:BJ,'R2建設IOデータ'!$A:$A,'R2建設io'!$CE22)/'R2建設IOデータ'!BJ$232","v":0},{"$f":"+SUMIFS('R2建設IOデータ'!BK:BK,'R2建設IOデータ'!$A:$A,'R2建設io'!$CE22)/'R2建設IOデータ'!BK$232","v":3.2009055772250477E-5},{"$f":"+SUMIFS('R2建設IOデータ'!BL:BL,'R2建設IOデータ'!$A:$A,'R2建設io'!$CE22)/'R2建設IOデータ'!BL$232","v":0},{"$f":"+SUMIFS('R2建設IOデータ'!BM:BM,'R2建設IOデータ'!$A:$A,'R2建設io'!$CE22)/'R2建設IOデータ'!BM$232","v":0},{"$f":"+SUMIFS('R2建設IOデータ'!BN:BN,'R2建設IOデータ'!$A:$A,'R2建設io'!$CE22)/'R2建設IOデータ'!BN$232","v":0},{"$f":"+SUMIFS('R2建設IOデータ'!BO:BO,'R2建設IOデータ'!$A:$A,'R2建設io'!$CE22)/'R2建設IOデータ'!BO$232","v":0},{"$f":"+SUMIFS('R2建設IOデータ'!BP:BP,'R2建設IOデータ'!$A:$A,'R2建設io'!$CE22)/'R2建設IOデータ'!BP$232","v":0},{"$f":"+SUMIFS('R2建設IOデータ'!BQ:BQ,'R2建設IOデータ'!$A:$A,'R2建設io'!$CE22)/'R2建設IOデータ'!BQ$232","v":1.1091517052992517E-4},{"$f":"+SUMIFS('R2建設IOデータ'!BR:BR,'R2建設IOデータ'!$A:$A,'R2建設io'!$CE22)/'R2建設IOデータ'!BR$232","v":0},{"$f":"+SUMIFS('R2建設IOデータ'!BS:BS,'R2建設IOデータ'!$A:$A,'R2建設io'!$CE22)/'R2建設IOデータ'!BS$232","v":0},{"$f":"+SUMIFS('R2建設IOデータ'!BT:BT,'R2建設IOデータ'!$A:$A,'R2建設io'!$CE22)/'R2建設IOデータ'!BT$232","v":1.305720639090902E-4},{"$f":"+SUMIFS('R2建設IOデータ'!BU:BU,'R2建設IOデータ'!$A:$A,'R2建設io'!$CE22)/'R2建設IOデータ'!BU$232","v":0},{"$f":"+SUMIFS('R2建設IOデータ'!BV:BV,'R2建設IOデータ'!$A:$A,'R2建設io'!$CE22)/'R2建設IOデータ'!BV$232","v":0},{"$f":"+SUMIFS('R2建設IOデータ'!BW:BW,'R2建設IOデータ'!$A:$A,'R2建設io'!$CE22)/'R2建設IOデータ'!BW$232","v":9.689745929892618E-5},{"$f":"+SUMIFS('R2建設IOデータ'!BX:BX,'R2建設IOデータ'!$A:$A,'R2建設io'!$CE22)/'R2建設IOデータ'!BX$232","v":0},{"$f":"+SUMIFS('R2建設IOデータ'!BY:BY,'R2建設IOデータ'!$A:$A,'R2建設io'!$CE22)/'R2建設IOデータ'!BY$232","v":0},{"$f":"+SUMIFS('R2建設IOデータ'!BZ:BZ,'R2建設IOデータ'!$A:$A,'R2建設io'!$CE22)/'R2建設IOデータ'!BZ$232","v":0},{"$f":"+SUMIFS('R2建設IOデータ'!CA:CA,'R2建設IOデータ'!$A:$A,'R2建設io'!$CE22)/'R2建設IOデータ'!CA$232","v":0},{"$f":"+SUMIFS('R2建設IOデータ'!CB:CB,'R2建設IOデータ'!$A:$A,'R2建設io'!$CE22)/'R2建設IOデータ'!CB$232","v":0},{"$f":"+SUMIFS('R2建設IOデータ'!CC:CC,'R2建設IOデータ'!$A:$A,'R2建設io'!$CE22)/'R2建設IOデータ'!CC$232","v":0},{"$f":"+SUMIFS('R2建設IOデータ'!CD:CD,'R2建設IOデータ'!$A:$A,'R2建設io'!$CE22)/'R2建設IOデータ'!CD$232","v":0}]
[0,null,"32","電子部品",0,0,0,0,0,0,0,0,0,0,0,0,0,0,0,0,{"$f":"U$56*CW23","v":0},0,0,0,0,0,0,0,0,0,0,0,0,0,0,0,{"$f":"AK$56*DM23","v":0},0,0,0,0,0,0,0,0,0,0,0,0,0,0,0,{"$f":"BA$56*EC23","v":0},0,0,0,0,0,0,0,0,0,0,0,0,0,0,0,{"$f":"BQ$56*ES23","v":0},0,0,0,0,0,0,null,null,null,null,null,null,null,"32","電子部品",{"$f":"+SUMIFS('R2建設IOデータ'!L:L,'R2建設IOデータ'!$A:$A,'R2建設io'!$CE23)/'R2建設IOデータ'!L$232","v":3.5350721886532991E-4},{"$f":"+SUMIFS('R2建設IOデータ'!M:M,'R2建設IOデータ'!$A:$A,'R2建設io'!$CE23)/'R2建設IOデータ'!M$232","v":6.3425779558187018E-4},{"$f":"+SUMIFS('R2建設IOデータ'!N:N,'R2建設IOデータ'!$A:$A,'R2建設io'!$CE23)/'R2建設IOデータ'!N$232","v":7.7546182275793911E-4},{"$f":"+SUMIFS('R2建設IOデータ'!O:O,'R2建設IOデータ'!$A:$A,'R2建設io'!$CE23)/'R2建設IOデータ'!O$232","v":5.3477484308951282E-4},{"$f":"+SUMIFS('R2建設IOデータ'!P:P,'R2建設IOデータ'!$A:$A,'R2建設io'!$CE23)/'R2建設IOデータ'!P$232","v":5.3466968242239061E-4},{"$f":"+SUMIFS('R2建設IOデータ'!Q:Q,'R2建設IOデータ'!$A:$A,'R2建設io'!$CE23)/'R2建設IOデータ'!Q$232","v":5.3955927588119615E-4},{"$f":"+SUMIFS('R2建設IOデータ'!R:R,'R2建設IOデータ'!$A:$A,'R2建設io'!$CE23)/'R2建設IOデータ'!R$232","v":1.1162038873067045E-3},{"$f":"+SUMIFS('R2建設IOデータ'!S:S,'R2建設IOデータ'!$A:$A,'R2建設io'!$CE23)/'R2建設IOデータ'!S$232","v":1.6431987602532931E-3},{"$f":"+SUMIFS('R2建設IOデータ'!T:T,'R2建設IOデータ'!$A:$A,'R2建設io'!$CE23)/'R2建設IOデータ'!T$232","v":1.3950567942948686E-3},{"$f":"+SUMIFS('R2建設IOデータ'!U:U,'R2建設IOデータ'!$A:$A,'R2建設io'!$CE23)/'R2建設IOデータ'!U$232","v":1.4052053074898969E-3},{"$f":"+SUMIFS('R2建設IOデータ'!V:V,'R2建設IOデータ'!$A:$A,'R2建設io'!$CE23)/'R2建設IOデータ'!V$232","v":6.6345679948439924E-4},{"$f":"+SUMIFS('R2建設IOデータ'!W:W,'R2建設IOデータ'!$A:$A,'R2建設io'!$CE23)/'R2建設IOデータ'!W$232","v":6.7124777061189139E-4},{"$f":"+SUMIFS('R2建設IOデータ'!X:X,'R2建設IOデータ'!$A:$A,'R2建設io'!$CE23)/'R2建設IOデータ'!X$232","v":4.6744084291541765E-4},{"$f":"+SUMIFS('R2建設IOデータ'!Y:Y,'R2建設IOデータ'!$A:$A,'R2建設io'!$CE23)/'R2建設IOデータ'!Y$232","v":7.553551991933906E-4},{"$f":"+SUMIFS('R2建設IOデータ'!Z:Z,'R2建設IOデータ'!$A:$A,'R2建設io'!$CE23)/'R2建設IOデータ'!Z$232","v":1.2155271757147141E-3},{"$f":"+SUMIFS('R2建設IOデータ'!AA:AA,'R2建設IOデータ'!$A:$A,'R2建設io'!$CE23)/'R2建設IOデータ'!AA$232","v":4.8662379309258693E-4},{"$f":"+SUMIFS('R2建設IOデータ'!AB:AB,'R2建設IOデータ'!$A:$A,'R2建設io'!$CE23)/'R2建設IOデータ'!AB$232","v":4.8168701210904723E-4},{"$f":"+SUMIFS('R2建設IOデータ'!AC:AC,'R2建設IOデータ'!$A:$A,'R2建設io'!$CE23)/'R2建設IOデータ'!AC$232","v":2.5155123260103975E-4},{"$f":"+SUMIFS('R2建設IOデータ'!AD:AD,'R2建設IOデータ'!$A:$A,'R2建設io'!$CE23)/'R2建設IOデータ'!AD$232","v":5.1075708557770272E-4},{"$f":"+SUMIFS('R2建設IOデータ'!AE:AE,'R2建設IOデータ'!$A:$A,'R2建設io'!$CE23)/'R2建設IOデータ'!AE$232","v":4.8695908386972515E-4},{"$f":"+SUMIFS('R2建設IOデータ'!AF:AF,'R2建設IOデータ'!$A:$A,'R2建設io'!$CE23)/'R2建設IOデータ'!AF$232","v":1.1261768548132799E-4},{"$f":"+SUMIFS('R2建設IOデータ'!AG:AG,'R2建設IOデータ'!$A:$A,'R2建設io'!$CE23)/'R2建設IOデータ'!AG$232","v":3.9137524913933683E-4},{"$f":"+SUMIFS('R2建設IOデータ'!AH:AH,'R2建設IOデータ'!$A:$A,'R2建設io'!$CE23)/'R2建設IOデータ'!AH$232","v":1.4443422706023388E-4},{"$f":"+SUMIFS('R2建設IOデータ'!AI:AI,'R2建設IOデータ'!$A:$A,'R2建設io'!$CE23)/'R2建設IOデータ'!AI$232","v":9.4703555371921115E-4},{"$f":"+SUMIFS('R2建設IOデータ'!AJ:AJ,'R2建設IOデータ'!$A:$A,'R2建設io'!$CE23)/'R2建設IOデータ'!AJ$232","v":8.2300671512668263E-4},{"$f":"+SUMIFS('R2建設IOデータ'!AK:AK,'R2建設IOデータ'!$A:$A,'R2建設io'!$CE23)/'R2建設IOデータ'!AK$232","v":2.4155928498451645E-4},{"$f":"+SUMIFS('R2建設IOデータ'!AL:AL,'R2建設IOデータ'!$A:$A,'R2建設io'!$CE23)/'R2建設IOデータ'!AL$232","v":5.1515696151120032E-4},{"$f":"+SUMIFS('R2建設IOデータ'!AM:AM,'R2建設IOデータ'!$A:$A,'R2建設io'!$CE23)/'R2建設IOデータ'!AM$232","v":1.1444490456650228E-3},{"$f":"+SUMIFS('R2建設IOデータ'!AN:AN,'R2建設IOデータ'!$A:$A,'R2建設io'!$CE23)/'R2建設IOデータ'!AN$232","v":2.1335805686379338E-4},{"$f":"+SUMIFS('R2建設IOデータ'!AO:AO,'R2建設IOデータ'!$A:$A,'R2建設io'!$CE23)/'R2建設IOデータ'!AO$232","v":3.4141065480216671E-5},{"$f":"+SUMIFS('R2建設IOデータ'!AP:AP,'R2建設IOデータ'!$A:$A,'R2建設io'!$CE23)/'R2建設IOデータ'!AP$232","v":5.0548102611134885E-5},{"$f":"+SUMIFS('R2建設IOデータ'!AQ:AQ,'R2建設IOデータ'!$A:$A,'R2建設io'!$CE23)/'R2建設IOデータ'!AQ$232","v":3.2625340896777644E-5},{"$f":"+SUMIFS('R2建設IOデータ'!AR:AR,'R2建設IOデータ'!$A:$A,'R2建設io'!$CE23)/'R2建設IOデータ'!AR$232","v":3.2652084818430347E-5},{"$f":"+SUMIFS('R2建設IOデータ'!AS:AS,'R2建設IOデータ'!$A:$A,'R2建設io'!$CE23)/'R2建設IOデータ'!AS$232","v":3.297200974184618E-5},{"$f":"+SUMIFS('R2建設IOデータ'!AT:AT,'R2建設IOデータ'!$A:$A,'R2建設io'!$CE23)/'R2建設IOデータ'!AT$232","v":3.1988492397831594E-5},{"$f":"+SUMIFS('R2建設IOデータ'!AU:AU,'R2建設IOデータ'!$A:$A,'R2建設io'!$CE23)/'R2建設IOデータ'!AU$232","v":3.4141733717238161E-5},{"$f":"+SUMIFS('R2建設IOデータ'!AV:AV,'R2建設IOデータ'!$A:$A,'R2建設io'!$CE23)/'R2建設IOデータ'!AV$232","v":2.5515338971278234E-5},{"$f":"+SUMIFS('R2建設IOデータ'!AW:AW,'R2建設IOデータ'!$A:$A,'R2建設io'!$CE23)/'R2建設IOデータ'!AW$232","v":3.5138379659178697E-5},{"$f":"+SUMIFS('R2建設IOデータ'!AX:AX,'R2建設IOデータ'!$A:$A,'R2建設io'!$CE23)/'R2建設IOデータ'!AX$232","v":3.310988406446749E-5},{"$f":"+SUMIFS('R2建設IOデータ'!AY:AY,'R2建設IOデータ'!$A:$A,'R2建設io'!$CE23)/'R2建設IOデータ'!AY$232","v":0},{"$f":"+SUMIFS('R2建設IOデータ'!AZ:AZ,'R2建設IOデータ'!$A:$A,'R2建設io'!$CE23)/'R2建設IOデータ'!AZ$232","v":7.2849129452903034E-5},{"$f":"+SUMIFS('R2建設IOデータ'!BA:BA,'R2建設IOデータ'!$A:$A,'R2建設io'!$CE23)/'R2建設IOデータ'!BA$232","v":3.1306827482385437E-5},{"$f":"+SUMIFS('R2建設IOデータ'!BB:BB,'R2建設IOデータ'!$A:$A,'R2建設io'!$CE23)/'R2建設IOデータ'!BB$232","v":3.054722897217443E-5},{"$f":"+SUMIFS('R2建設IOデータ'!BC:BC,'R2建設IOデータ'!$A:$A,'R2建設io'!$CE23)/'R2建設IOデータ'!BC$232","v":3.0040153672075008E-5},{"$f":"+SUMIFS('R2建設IOデータ'!BD:BD,'R2建設IOデータ'!$A:$A,'R2建設io'!$CE23)/'R2建設IOデータ'!BD$232","v":2.5625912923147888E-5},{"$f":"+SUMIFS('R2建設IOデータ'!BE:BE,'R2建設IOデータ'!$A:$A,'R2建設io'!$CE23)/'R2建設IOデータ'!BE$232","v":4.5892611289582376E-5},{"$f":"+SUMIFS('R2建設IOデータ'!BF:BF,'R2建設IOデータ'!$A:$A,'R2建設io'!$CE23)/'R2建設IOデータ'!BF$232","v":6.1770337883748229E-5},{"$f":"+SUMIFS('R2建設IOデータ'!BG:BG,'R2建設IOデータ'!$A:$A,'R2建設io'!$CE23)/'R2建設IOデータ'!BG$232","v":3.8780357748800234E-5},{"$f":"+SUMIFS('R2建設IOデータ'!BH:BH,'R2建設IOデータ'!$A:$A,'R2建設io'!$CE23)/'R2建設IOデータ'!BH$232","v":3.5501698164562205E-5},{"$f":"+SUMIFS('R2建設IOデータ'!BI:BI,'R2建設IOデータ'!$A:$A,'R2建設io'!$CE23)/'R2建設IOデータ'!BI$232","v":5.3642313056538997E-5},{"$f":"+SUMIFS('R2建設IOデータ'!BJ:BJ,'R2建設IOデータ'!$A:$A,'R2建設io'!$CE23)/'R2建設IOデータ'!BJ$232","v":3.1016407679662539E-5},{"$f":"+SUMIFS('R2建設IOデータ'!BK:BK,'R2建設IOデータ'!$A:$A,'R2建設io'!$CE23)/'R2建設IOデータ'!BK$232","v":5.1542787243521283E-5},{"$f":"+SUMIFS('R2建設IOデータ'!BL:BL,'R2建設IOデータ'!$A:$A,'R2建設io'!$CE23)/'R2建設IOデータ'!BL$232","v":5.178292597431567E-5},{"$f":"+SUMIFS('R2建設IOデータ'!BM:BM,'R2建設IOデータ'!$A:$A,'R2建設io'!$CE23)/'R2建設IOデータ'!BM$232","v":5.3010990265687006E-5},{"$f":"+SUMIFS('R2建設IOデータ'!BN:BN,'R2建設IOデータ'!$A:$A,'R2建設io'!$CE23)/'R2建設IOデータ'!BN$232","v":5.1100651249410921E-5},{"$f":"+SUMIFS('R2建設IOデータ'!BO:BO,'R2建設IOデータ'!$A:$A,'R2建設io'!$CE23)/'R2建設IOデータ'!BO$232","v":4.5499527942397596E-5},{"$f":"+SUMIFS('R2建設IOデータ'!BP:BP,'R2建設IOデータ'!$A:$A,'R2建設io'!$CE23)/'R2建設IOデータ'!BP$232","v":5.0448301956018256E-5},{"$f":"+SUMIFS('R2建設IOデータ'!BQ:BQ,'R2建設IOデータ'!$A:$A,'R2建設io'!$CE23)/'R2建設IOデータ'!BQ$232","v":5.1588451409267525E-5},{"$f":"+SUMIFS('R2建設IOデータ'!BR:BR,'R2建設IOデータ'!$A:$A,'R2建設io'!$CE23)/'R2建設IOデータ'!BR$232","v":4.867959713264691E-5},{"$f":"+SUMIFS('R2建設IOデータ'!BS:BS,'R2建設IOデータ'!$A:$A,'R2建設io'!$CE23)/'R2建設IOデータ'!BS$232","v":4.6884837443570748E-5},{"$f":"+SUMIFS('R2建設IOデータ'!BT:BT,'R2建設IOデータ'!$A:$A,'R2建設io'!$CE23)/'R2建設IOデータ'!BT$232","v":4.7480750512396431E-5},{"$f":"+SUMIFS('R2建設IOデータ'!BU:BU,'R2建設IOデータ'!$A:$A,'R2建設io'!$CE23)/'R2建設IOデータ'!BU$232","v":5.2299127766769131E-5},{"$f":"+SUMIFS('R2建設IOデータ'!BV:BV,'R2建設IOデータ'!$A:$A,'R2建設io'!$CE23)/'R2建設IOデータ'!BV$232","v":5.5687359641450217E-5},{"$f":"+SUMIFS('R2建設IOデータ'!BW:BW,'R2建設IOデータ'!$A:$A,'R2建設io'!$CE23)/'R2建設IOデータ'!BW$232","v":1.3333752946262492E-4},{"$f":"+SUMIFS('R2建設IOデータ'!BX:BX,'R2建設IOデータ'!$A:$A,'R2建設io'!$CE23)/'R2建設IOデータ'!BX$232","v":1.0995298709173282E-5},{"$f":"+SUMIFS('R2建設IOデータ'!BY:BY,'R2建設IOデータ'!$A:$A,'R2建設io'!$CE23)/'R2建設IOデータ'!BY$232","v":1.7598266766259822E-5},{"$f":"+SUMIFS('R2建設IOデータ'!BZ:BZ,'R2建設IOデータ'!$A:$A,'R2建設io'!$CE23)/'R2建設IOデータ'!BZ$232","v":2.4057735246282769E-5},{"$f":"+SUMIFS('R2建設IOデータ'!CA:CA,'R2建設IOデータ'!$A:$A,'R2建設io'!$CE23)/'R2建設IOデータ'!CA$232","v":1.9981401925899739E-5},{"$f":"+SUMIFS('R2建設IOデータ'!CB:CB,'R2建設IOデータ'!$A:$A,'R2建設io'!$CE23)/'R2建設IOデータ'!CB$232","v":7.0642022961483139E-7},{"$f":"+SUMIFS('R2建設IOデータ'!CC:CC,'R2建設IOデータ'!$A:$A,'R2建設io'!$CE23)/'R2建設IOデータ'!CC$232","v":0},{"$f":"+SUMIFS('R2建設IOデータ'!CD:CD,'R2建設IOデータ'!$A:$A,'R2建設io'!$CE23)/'R2建設IOデータ'!CD$232","v":1.4534007033006004E-6}]
[0,null,"33","電気機械",0,0,0,0,0,0,0,0,0,0,0,0,0,0,0,0,0,0,0,0,0,0,0,0,0,0,0,0,0,0,0,0,0,0,0,0,0,0,0,0,0,0,0,0,0,0,0,0,0,0,0,0,0,0,0,0,0,0,0,0,0,0,0,0,0,0,0,0,0,0,0,null,null,null,null,null,null,null,"33","電気機械",{"$f":"+SUMIFS('R2建設IOデータ'!L:L,'R2建設IOデータ'!$A:$A,'R2建設io'!$CE24)/'R2建設IOデータ'!L$232","v":7.9157804603132136E-3},{"$f":"+SUMIFS('R2建設IOデータ'!M:M,'R2建設IOデータ'!$A:$A,'R2建設io'!$CE24)/'R2建設IOデータ'!M$232","v":1.0374942385976211E-2},{"$f":"+SUMIFS('R2建設IOデータ'!N:N,'R2建設IOデータ'!$A:$A,'R2建設io'!$CE24)/'R2建設IOデータ'!N$232","v":9.1163319848606671E-3},{"$f":"+SUMIFS('R2建設IOデータ'!O:O,'R2建設IOデータ'!$A:$A,'R2建設io'!$CE24)/'R2建設IOデータ'!O$232","v":9.07945955964529E-3},{"$f":"+SUMIFS('R2建設IOデータ'!P:P,'R2建設IOデータ'!$A:$A,'R2建設io'!$CE24)/'R2建設IOデータ'!P$232","v":9.181599604450837E-3},{"$f":"+SUMIFS('R2建設IOデータ'!Q:Q,'R2建設IOデータ'!$A:$A,'R2建設io'!$CE24)/'R2建設IOデータ'!Q$232","v":4.4324542383137513E-3},{"$f":"+SUMIFS('R2建設IOデータ'!R:R,'R2建設IOデータ'!$A:$A,'R2建設io'!$CE24)/'R2建設IOデータ'!R$232","v":9.1685325081715483E-3},{"$f":"+SUMIFS('R2建設IOデータ'!S:S,'R2建設IOデータ'!$A:$A,'R2建設io'!$CE24)/'R2建設IOデータ'!S$232","v":2.7760707510620673E-2},{"$f":"+SUMIFS('R2建設IOデータ'!T:T,'R2建設IOデータ'!$A:$A,'R2建設io'!$CE24)/'R2建設IOデータ'!T$232","v":7.9182894565191734E-3},{"$f":"+SUMIFS('R2建設IOデータ'!U:U,'R2建設IOデータ'!$A:$A,'R2建設io'!$CE24)/'R2建設IOデータ'!U$232","v":7.8040958684492227E-3},{"$f":"+SUMIFS('R2建設IOデータ'!V:V,'R2建設IOデータ'!$A:$A,'R2建設io'!$CE24)/'R2建設IOデータ'!V$232","v":1.6150434090305948E-2},{"$f":"+SUMIFS('R2建設IOデータ'!W:W,'R2建設IOデータ'!$A:$A,'R2建設io'!$CE24)/'R2建設IOデータ'!W$232","v":1.0633977839693647E-2},{"$f":"+SUMIFS('R2建設IOデータ'!X:X,'R2建設IOデータ'!$A:$A,'R2建設io'!$CE24)/'R2建設IOデータ'!X$232","v":1.6239492772331849E-2},{"$f":"+SUMIFS('R2建設IOデータ'!Y:Y,'R2建設IOデータ'!$A:$A,'R2建設io'!$CE24)/'R2建設IOデータ'!Y$232","v":8.3206833300902214E-3},{"$f":"+SUMIFS('R2建設IOデータ'!Z:Z,'R2建設IOデータ'!$A:$A,'R2建設io'!$CE24)/'R2建設IOデータ'!Z$232","v":5.0199693750295985E-3},{"$f":"+SUMIFS('R2建設IOデータ'!AA:AA,'R2建設IOデータ'!$A:$A,'R2建設io'!$CE24)/'R2建設IOデータ'!AA$232","v":1.1690865839488175E-2},{"$f":"+SUMIFS('R2建設IOデータ'!AB:AB,'R2建設IOデータ'!$A:$A,'R2建設io'!$CE24)/'R2建設IOデータ'!AB$232","v":1.8691754793099234E-2},{"$f":"+SUMIFS('R2建設IOデータ'!AC:AC,'R2建設IOデータ'!$A:$A,'R2建設io'!$CE24)/'R2建設IOデータ'!AC$232","v":1.0695585741703468E-2},{"$f":"+SUMIFS('R2建設IOデータ'!AD:AD,'R2建設IOデータ'!$A:$A,'R2建設io'!$CE24)/'R2建設IOデータ'!AD$232","v":1.9701807303355579E-2},{"$f":"+SUMIFS('R2建設IOデータ'!AE:AE,'R2建設IOデータ'!$A:$A,'R2建設io'!$CE24)/'R2建設IOデータ'!AE$232","v":1.1215387282561806E-2},{"$f":"+SUMIFS('R2建設IOデータ'!AF:AF,'R2建設IOデータ'!$A:$A,'R2建設io'!$CE24)/'R2建設IOデータ'!AF$232","v":4.6548643332282235E-3},{"$f":"+SUMIFS('R2建設IOデータ'!AG:AG,'R2建設IOデータ'!$A:$A,'R2建設io'!$CE24)/'R2建設IOデータ'!AG$232","v":1.2625475629643052E-2},{"$f":"+SUMIFS('R2建設IOデータ'!AH:AH,'R2建設IOデータ'!$A:$A,'R2建設io'!$CE24)/'R2建設IOデータ'!AH$232","v":6.5284270631225721E-3},{"$f":"+SUMIFS('R2建設IOデータ'!AI:AI,'R2建設IOデータ'!$A:$A,'R2建設io'!$CE24)/'R2建設IOデータ'!AI$232","v":1.2704185365334818E-2},{"$f":"+SUMIFS('R2建設IOデータ'!AJ:AJ,'R2建設IOデータ'!$A:$A,'R2建設io'!$CE24)/'R2建設IOデータ'!AJ$232","v":1.1856966938797144E-2},{"$f":"+SUMIFS('R2建設IOデータ'!AK:AK,'R2建設IOデータ'!$A:$A,'R2建設io'!$CE24)/'R2建設IOデータ'!AK$232","v":9.8630933052438162E-3},{"$f":"+SUMIFS('R2建設IOデータ'!AL:AL,'R2建設IOデータ'!$A:$A,'R2建設io'!$CE24)/'R2建設IOデータ'!AL$232","v":1.1981476322091719E-2},{"$f":"+SUMIFS('R2建設IOデータ'!AM:AM,'R2建設IOデータ'!$A:$A,'R2建設io'!$CE24)/'R2建設IOデータ'!AM$232","v":2.5689869367164855E-2},{"$f":"+SUMIFS('R2建設IOデータ'!AN:AN,'R2建設IOデータ'!$A:$A,'R2建設io'!$CE24)/'R2建設IOデータ'!AN$232","v":7.7370472205384325E-3},{"$f":"+SUMIFS('R2建設IOデータ'!AO:AO,'R2建設IOデータ'!$A:$A,'R2建設io'!$CE24)/'R2建設IOデータ'!AO$232","v":4.6444690698995142E-3},{"$f":"+SUMIFS('R2建設IOデータ'!AP:AP,'R2建設IOデータ'!$A:$A,'R2建設io'!$CE24)/'R2建設IOデータ'!AP$232","v":3.143668225863754E-3},{"$f":"+SUMIFS('R2建設IOデータ'!AQ:AQ,'R2建設IOデータ'!$A:$A,'R2建設io'!$CE24)/'R2建設IOデータ'!AQ$232","v":1.4314579622482545E-3},{"$f":"+SUMIFS('R2建設IOデータ'!AR:AR,'R2建設IOデータ'!$A:$A,'R2建設io'!$CE24)/'R2建設IOデータ'!AR$232","v":1.3985403486967694E-3},{"$f":"+SUMIFS('R2建設IOデータ'!AS:AS,'R2建設IOデータ'!$A:$A,'R2建設io'!$CE24)/'R2建設IOデータ'!AS$232","v":1.6013760602362455E-3},{"$f":"+SUMIFS('R2建設IOデータ'!AT:AT,'R2建設IOデータ'!$A:$A,'R2建設io'!$CE24)/'R2建設IOデータ'!AT$232","v":3.5238935980191899E-4},{"$f":"+SUMIFS('R2建設IOデータ'!AU:AU,'R2建設IOデータ'!$A:$A,'R2建設io'!$CE24)/'R2建設IOデータ'!AU$232","v":5.4626773947581057E-4},{"$f":"+SUMIFS('R2建設IOデータ'!AV:AV,'R2建設IOデータ'!$A:$A,'R2建設io'!$CE24)/'R2建設IOデータ'!AV$232","v":4.0257534821350102E-4},{"$f":"+SUMIFS('R2建設IOデータ'!AW:AW,'R2建設IOデータ'!$A:$A,'R2建設io'!$CE24)/'R2建設IOデータ'!AW$232","v":2.7617717505258959E-3},{"$f":"+SUMIFS('R2建設IOデータ'!AX:AX,'R2建設IOデータ'!$A:$A,'R2建設io'!$CE24)/'R2建設IOデータ'!AX$232","v":3.3619266896228531E-3},{"$f":"+SUMIFS('R2建設IOデータ'!AY:AY,'R2建設IOデータ'!$A:$A,'R2建設io'!$CE24)/'R2建設IOデータ'!AY$232","v":4.5273851590106008E-3},{"$f":"+SUMIFS('R2建設IOデータ'!AZ:AZ,'R2建設IOデータ'!$A:$A,'R2建設io'!$CE24)/'R2建設IOデータ'!AZ$232","v":2.0397756246812852E-3},{"$f":"+SUMIFS('R2建設IOデータ'!BA:BA,'R2建設IOデータ'!$A:$A,'R2建設io'!$CE24)/'R2建設IOデータ'!BA$232","v":5.4563327897871763E-4},{"$f":"+SUMIFS('R2建設IOデータ'!BB:BB,'R2建設IOデータ'!$A:$A,'R2建設io'!$CE24)/'R2建設IOデータ'!BB$232","v":1.8525416279899332E-4},{"$f":"+SUMIFS('R2建設IOデータ'!BC:BC,'R2建設IOデータ'!$A:$A,'R2建設io'!$CE24)/'R2建設IOデータ'!BC$232","v":1.7690312717999726E-4},{"$f":"+SUMIFS('R2建設IOデータ'!BD:BD,'R2建設IOデータ'!$A:$A,'R2建設io'!$CE24)/'R2建設IOデータ'!BD$232","v":2.5625912923147887E-4},{"$f":"+SUMIFS('R2建設IOデータ'!BE:BE,'R2建設IOデータ'!$A:$A,'R2建設io'!$CE24)/'R2建設IOデータ'!BE$232","v":2.7535566773749428E-4},{"$f":"+SUMIFS('R2建設IOデータ'!BF:BF,'R2建設IOデータ'!$A:$A,'R2建設io'!$CE24)/'R2建設IOデータ'!BF$232","v":1.8531101365124467E-4},{"$f":"+SUMIFS('R2建設IOデータ'!BG:BG,'R2建設IOデータ'!$A:$A,'R2建設io'!$CE24)/'R2建設IOデータ'!BG$232","v":4.0913277424984244E-3},{"$f":"+SUMIFS('R2建設IOデータ'!BH:BH,'R2建設IOデータ'!$A:$A,'R2建設io'!$CE24)/'R2建設IOデータ'!BH$232","v":4.1300308864774034E-3},{"$f":"+SUMIFS('R2建設IOデータ'!BI:BI,'R2建設IOデータ'!$A:$A,'R2建設io'!$CE24)/'R2建設IOデータ'!BI$232","v":3.9158888531273467E-3},{"$f":"+SUMIFS('R2建設IOデータ'!BJ:BJ,'R2建設IOデータ'!$A:$A,'R2建設io'!$CE24)/'R2建設IOデータ'!BJ$232","v":3.4118048447628795E-3},{"$f":"+SUMIFS('R2建設IOデータ'!BK:BK,'R2建設IOデータ'!$A:$A,'R2建設io'!$CE24)/'R2建設IOデータ'!BK$232","v":5.263437811985701E-3},{"$f":"+SUMIFS('R2建設IOデータ'!BL:BL,'R2建設IOデータ'!$A:$A,'R2建設io'!$CE24)/'R2建設IOデータ'!BL$232","v":3.1552177715461231E-3},{"$f":"+SUMIFS('R2建設IOデータ'!BM:BM,'R2建設IOデータ'!$A:$A,'R2建設io'!$CE24)/'R2建設IOデータ'!BM$232","v":3.2486222239741522E-3},{"$f":"+SUMIFS('R2建設IOデータ'!BN:BN,'R2建設IOデータ'!$A:$A,'R2建設io'!$CE24)/'R2建設IOデータ'!BN$232","v":1.0589190508905708E-2},{"$f":"+SUMIFS('R2建設IOデータ'!BO:BO,'R2建設IOデータ'!$A:$A,'R2建設io'!$CE24)/'R2建設IOデータ'!BO$232","v":4.9480736637357383E-4},{"$f":"+SUMIFS('R2建設IOデータ'!BP:BP,'R2建設IOデータ'!$A:$A,'R2建設io'!$CE24)/'R2建設IOデータ'!BP$232","v":9.1036253984269307E-4},{"$f":"+SUMIFS('R2建設IOデータ'!BQ:BQ,'R2建設IOデータ'!$A:$A,'R2建設io'!$CE24)/'R2建設IOデータ'!BQ$232","v":1.1617719257367046E-2},{"$f":"+SUMIFS('R2建設IOデータ'!BR:BR,'R2建設IOデータ'!$A:$A,'R2建設io'!$CE24)/'R2建設IOデータ'!BR$232","v":2.7273056342265001E-3},{"$f":"+SUMIFS('R2建設IOデータ'!BS:BS,'R2建設IOデータ'!$A:$A,'R2建設io'!$CE24)/'R2建設IOデータ'!BS$232","v":6.4299205636897025E-4},{"$f":"+SUMIFS('R2建設IOデータ'!BT:BT,'R2建設IOデータ'!$A:$A,'R2建設io'!$CE24)/'R2建設IOデータ'!BT$232","v":1.1438904144278174E-2},{"$f":"+SUMIFS('R2建設IOデータ'!BU:BU,'R2建設IOデータ'!$A:$A,'R2建設io'!$CE24)/'R2建設IOデータ'!BU$232","v":1.1221068413070133E-2},{"$f":"+SUMIFS('R2建設IOデータ'!BV:BV,'R2建設IOデータ'!$A:$A,'R2建設io'!$CE24)/'R2建設IOデータ'!BV$232","v":1.3729814532288586E-3},{"$f":"+SUMIFS('R2建設IOデータ'!BW:BW,'R2建設IOデータ'!$A:$A,'R2建設io'!$CE24)/'R2建設IOデータ'!BW$232","v":8.3729343035225949E-4},{"$f":"+SUMIFS('R2建設IOデータ'!BX:BX,'R2建設IOデータ'!$A:$A,'R2建設io'!$CE24)/'R2建設IOデータ'!BX$232","v":6.7616817042499494E-3},{"$f":"+SUMIFS('R2建設IOデータ'!BY:BY,'R2建設IOデータ'!$A:$A,'R2建設io'!$CE24)/'R2建設IOデータ'!BY$232","v":3.0634019926452281E-3},{"$f":"+SUMIFS('R2建設IOデータ'!BZ:BZ,'R2建設IOデータ'!$A:$A,'R2建設io'!$CE24)/'R2建設IOデータ'!BZ$232","v":8.5180974313390154E-3},{"$f":"+SUMIFS('R2建設IOデータ'!CA:CA,'R2建設IOデータ'!$A:$A,'R2建設io'!$CE24)/'R2建設IOデータ'!CA$232","v":6.9489167774609787E-3},{"$f":"+SUMIFS('R2建設IOデータ'!CB:CB,'R2建設IOデータ'!$A:$A,'R2建設io'!$CE24)/'R2建設IOデータ'!CB$232","v":1.4362936108528753E-2},{"$f":"+SUMIFS('R2建設IOデータ'!CC:CC,'R2建設IOデータ'!$A:$A,'R2建設io'!$CE24)/'R2建設IOデータ'!CC$232","v":1.3688155028700436E-3},{"$f":"+SUMIFS('R2建設IOデータ'!CD:CD,'R2建設IOデータ'!$A:$A,'R2建設io'!$CE24)/'R2建設IOデータ'!CD$232","v":4.5146259346274895E-3}]
[0,null,"34","情報通信機器",0,0,0,0,0,0,0,0,0,0,0,0,0,0,0,0,0,0,0,0,0,0,0,0,0,0,0,0,0,0,0,0,0,0,0,0,0,0,0,0,0,0,0,0,0,0,0,0,0,0,0,0,0,0,0,0,0,0,0,0,0,0,0,0,0,0,0,0,0,0,0,null,null,null,null,null,null,null,"34","情報通信機器",{"$f":"+SUMIFS('R2建設IOデータ'!L:L,'R2建設IOデータ'!$A:$A,'R2建設io'!$CE25)/'R2建設IOデータ'!L$232","v":1.8743811028053485E-3},{"$f":"+SUMIFS('R2建設IOデータ'!M:M,'R2建設IOデータ'!$A:$A,'R2建設io'!$CE25)/'R2建設IOデータ'!M$232","v":1.4237339760894818E-3},{"$f":"+SUMIFS('R2建設IOデータ'!N:N,'R2建設IOデータ'!$A:$A,'R2建設io'!$CE25)/'R2建設IOデータ'!N$232","v":8.8357267928701499E-4},{"$f":"+SUMIFS('R2建設IOデータ'!O:O,'R2建設IOデータ'!$A:$A,'R2建設io'!$CE25)/'R2建設IOデータ'!O$232","v":4.7772930111727926E-4},{"$f":"+SUMIFS('R2建設IOデータ'!P:P,'R2建設IOデータ'!$A:$A,'R2建設io'!$CE25)/'R2建設IOデータ'!P$232","v":4.7869783548555247E-4},{"$f":"+SUMIFS('R2建設IOデータ'!Q:Q,'R2建設IOデータ'!$A:$A,'R2建設io'!$CE25)/'R2建設IOデータ'!Q$232","v":4.3366446472694269E-4},{"$f":"+SUMIFS('R2建設IOデータ'!R:R,'R2建設IOデータ'!$A:$A,'R2建設io'!$CE25)/'R2建設IOデータ'!R$232","v":1.4581276915752092E-3},{"$f":"+SUMIFS('R2建設IOデータ'!S:S,'R2建設IOデータ'!$A:$A,'R2建設io'!$CE25)/'R2建設IOデータ'!S$232","v":3.3131161995350951E-3},{"$f":"+SUMIFS('R2建設IOデータ'!T:T,'R2建設IOデータ'!$A:$A,'R2建設io'!$CE25)/'R2建設IOデータ'!T$232","v":1.9142803864455151E-3},{"$f":"+SUMIFS('R2建設IOデータ'!U:U,'R2建設IOデータ'!$A:$A,'R2建設io'!$CE25)/'R2建設IOデータ'!U$232","v":1.9350497488432167E-3},{"$f":"+SUMIFS('R2建設IOデータ'!V:V,'R2建設IOデータ'!$A:$A,'R2建設io'!$CE25)/'R2建設IOデータ'!V$232","v":4.1702998824733669E-4},{"$f":"+SUMIFS('R2建設IOデータ'!W:W,'R2建設IOデータ'!$A:$A,'R2建設io'!$CE25)/'R2建設IOデータ'!W$232","v":7.260273048191303E-4},{"$f":"+SUMIFS('R2建設IOデータ'!X:X,'R2建設IOデータ'!$A:$A,'R2建設io'!$CE25)/'R2建設IOデータ'!X$232","v":1.3493277820203773E-3},{"$f":"+SUMIFS('R2建設IOデータ'!Y:Y,'R2建設IOデータ'!$A:$A,'R2建設io'!$CE25)/'R2建設IOデータ'!Y$232","v":4.6880248442886008E-4},{"$f":"+SUMIFS('R2建設IOデータ'!Z:Z,'R2建設IOデータ'!$A:$A,'R2建設io'!$CE25)/'R2建設IOデータ'!Z$232","v":6.1565662146589417E-4},{"$f":"+SUMIFS('R2建設IOデータ'!AA:AA,'R2建設IOデータ'!$A:$A,'R2建設io'!$CE25)/'R2建設IOデータ'!AA$232","v":1.9884924736450322E-3},{"$f":"+SUMIFS('R2建設IOデータ'!AB:AB,'R2建設IOデータ'!$A:$A,'R2建設io'!$CE25)/'R2建設IOデータ'!AB$232","v":8.7142509349012016E-4},{"$f":"+SUMIFS('R2建設IOデータ'!AC:AC,'R2建設IOデータ'!$A:$A,'R2建設io'!$CE25)/'R2建設IOデータ'!AC$232","v":1.3975068477835542E-4},{"$f":"+SUMIFS('R2建設IOデータ'!AD:AD,'R2建設IOデータ'!$A:$A,'R2建設io'!$CE25)/'R2建設IOデータ'!AD$232","v":9.6384804859018104E-4},{"$f":"+SUMIFS('R2建設IOデータ'!AE:AE,'R2建設IOデータ'!$A:$A,'R2建設io'!$CE25)/'R2建設IOデータ'!AE$232","v":2.0643602083605809E-3},{"$f":"+SUMIFS('R2建設IOデータ'!AF:AF,'R2建設IOデータ'!$A:$A,'R2建設io'!$CE25)/'R2建設IOデータ'!AF$232","v":9.9854347793444155E-4},{"$f":"+SUMIFS('R2建設IOデータ'!AG:AG,'R2建設IOデータ'!$A:$A,'R2建設io'!$CE25)/'R2建設IOデータ'!AG$232","v":2.32167663224014E-3},{"$f":"+SUMIFS('R2建設IOデータ'!AH:AH,'R2建設IOデータ'!$A:$A,'R2建設io'!$CE25)/'R2建設IOデータ'!AH$232","v":2.1456506842170301E-3},{"$f":"+SUMIFS('R2建設IOデータ'!AI:AI,'R2建設IOデータ'!$A:$A,'R2建設io'!$CE25)/'R2建設IOデータ'!AI$232","v":2.1824771831930848E-3},{"$f":"+SUMIFS('R2建設IOデータ'!AJ:AJ,'R2建設IOデータ'!$A:$A,'R2建設io'!$CE25)/'R2建設IOデータ'!AJ$232","v":2.2442649415985723E-3},{"$f":"+SUMIFS('R2建設IOデータ'!AK:AK,'R2建設IOデータ'!$A:$A,'R2建設io'!$CE25)/'R2建設IOデータ'!AK$232","v":1.9898941099134346E-3},{"$f":"+SUMIFS('R2建設IOデータ'!AL:AL,'R2建設IOデータ'!$A:$A,'R2建設io'!$CE25)/'R2建設IOデータ'!AL$232","v":2.0050094336723826E-3},{"$f":"+SUMIFS('R2建設IOデータ'!AM:AM,'R2建設IOデータ'!$A:$A,'R2建設io'!$CE25)/'R2建設IOデータ'!AM$232","v":3.0870007152806536E-3},{"$f":"+SUMIFS('R2建設IOデータ'!AN:AN,'R2建設IOデータ'!$A:$A,'R2建設io'!$CE25)/'R2建設IOデータ'!AN$232","v":3.8329966026380151E-4},{"$f":"+SUMIFS('R2建設IOデータ'!AO:AO,'R2建設IOデータ'!$A:$A,'R2建設io'!$CE25)/'R2建設IOデータ'!AO$232","v":3.1623660068348554E-3},{"$f":"+SUMIFS('R2建設IOデータ'!AP:AP,'R2建設IOデータ'!$A:$A,'R2建設io'!$CE25)/'R2建設IOデータ'!AP$232","v":2.7850642464114063E-3},{"$f":"+SUMIFS('R2建設IOデータ'!AQ:AQ,'R2建設IOデータ'!$A:$A,'R2建設io'!$CE25)/'R2建設IOデータ'!AQ$232","v":5.612234807114082E-4},{"$f":"+SUMIFS('R2建設IOデータ'!AR:AR,'R2建設IOデータ'!$A:$A,'R2建設io'!$CE25)/'R2建設IOデータ'!AR$232","v":5.64881067358845E-4},{"$f":"+SUMIFS('R2建設IOデータ'!AS:AS,'R2建設IOデータ'!$A:$A,'R2建設io'!$CE25)/'R2建設IOデータ'!AS$232","v":6.0370686224102876E-4},{"$f":"+SUMIFS('R2建設IOデータ'!AT:AT,'R2建設IOデータ'!$A:$A,'R2建設io'!$CE25)/'R2建設IOデータ'!AT$232","v":3.8437785219975058E-4},{"$f":"+SUMIFS('R2建設IOデータ'!AU:AU,'R2建設IOデータ'!$A:$A,'R2建設io'!$CE25)/'R2建設IOデータ'!AU$232","v":4.3246196041835002E-4},{"$f":"+SUMIFS('R2建設IOデータ'!AV:AV,'R2建設IOデータ'!$A:$A,'R2建設io'!$CE25)/'R2建設IOデータ'!AV$232","v":3.3169940662661706E-4},{"$f":"+SUMIFS('R2建設IOデータ'!AW:AW,'R2建設IOデータ'!$A:$A,'R2建設io'!$CE25)/'R2建設IOデータ'!AW$232","v":4.5784784242482092E-4},{"$f":"+SUMIFS('R2建設IOデータ'!AX:AX,'R2建設IOデータ'!$A:$A,'R2建設io'!$CE25)/'R2建設IOデータ'!AX$232","v":2.6768067809042565E-3},{"$f":"+SUMIFS('R2建設IOデータ'!AY:AY,'R2建設IOデータ'!$A:$A,'R2建設io'!$CE25)/'R2建設IOデータ'!AY$232","v":4.4169611307420494E-4},{"$f":"+SUMIFS('R2建設IOデータ'!AZ:AZ,'R2建設IOデータ'!$A:$A,'R2建設io'!$CE25)/'R2建設IOデータ'!AZ$232","v":7.2849129452903034E-4},{"$f":"+SUMIFS('R2建設IOデータ'!BA:BA,'R2建設IOデータ'!$A:$A,'R2建設io'!$CE25)/'R2建設IOデータ'!BA$232","v":4.0162187255974463E-4},{"$f":"+SUMIFS('R2建設IOデータ'!BB:BB,'R2建設IOデータ'!$A:$A,'R2建設io'!$CE25)/'R2建設IOデータ'!BB$232","v":3.6459595870014645E-4},{"$f":"+SUMIFS('R2建設IOデータ'!BC:BC,'R2建設IOデータ'!$A:$A,'R2建設io'!$CE25)/'R2建設IOデータ'!BC$232","v":3.6604483548565472E-4},{"$f":"+SUMIFS('R2建設IOデータ'!BD:BD,'R2建設IOデータ'!$A:$A,'R2建設io'!$CE25)/'R2建設IOデータ'!BD$232","v":3.0751095507777467E-4},{"$f":"+SUMIFS('R2建設IOデータ'!BE:BE,'R2建設IOデータ'!$A:$A,'R2建設io'!$CE25)/'R2建設IOデータ'!BE$232","v":5.0481872418540617E-4},{"$f":"+SUMIFS('R2建設IOデータ'!BF:BF,'R2建設IOデータ'!$A:$A,'R2建設io'!$CE25)/'R2建設IOデータ'!BF$232","v":3.7062202730248935E-4},{"$f":"+SUMIFS('R2建設IOデータ'!BG:BG,'R2建設IOデータ'!$A:$A,'R2建設io'!$CE25)/'R2建設IOデータ'!BG$232","v":7.6591206553880463E-4},{"$f":"+SUMIFS('R2建設IOデータ'!BH:BH,'R2建設IOデータ'!$A:$A,'R2建設io'!$CE25)/'R2建設IOデータ'!BH$232","v":7.9287125900855593E-4},{"$f":"+SUMIFS('R2建設IOデータ'!BI:BI,'R2建設IOデータ'!$A:$A,'R2建設io'!$CE25)/'R2建設IOデータ'!BI$232","v":6.4370775667846802E-4},{"$f":"+SUMIFS('R2建設IOデータ'!BJ:BJ,'R2建設IOデータ'!$A:$A,'R2建設io'!$CE25)/'R2建設IOデータ'!BJ$232","v":3.4118048447628798E-4},{"$f":"+SUMIFS('R2建設IOデータ'!BK:BK,'R2建設IOデータ'!$A:$A,'R2建設io'!$CE25)/'R2建設IOデータ'!BK$232","v":5.4901275864548179E-3},{"$f":"+SUMIFS('R2建設IOデータ'!BL:BL,'R2建設IOデータ'!$A:$A,'R2建設io'!$CE25)/'R2建設IOデータ'!BL$232","v":5.4186184846456986E-3},{"$f":"+SUMIFS('R2建設IOデータ'!BM:BM,'R2建設IOデータ'!$A:$A,'R2建設io'!$CE25)/'R2建設IOデータ'!BM$232","v":1.4380930179768423E-3},{"$f":"+SUMIFS('R2建設IOデータ'!BN:BN,'R2建設IOデータ'!$A:$A,'R2建設io'!$CE25)/'R2建設IOデータ'!BN$232","v":5.5597508559359084E-2},{"$f":"+SUMIFS('R2建設IOデータ'!BO:BO,'R2建設IOデータ'!$A:$A,'R2建設io'!$CE25)/'R2建設IOデータ'!BO$232","v":9.6117752778314923E-4},{"$f":"+SUMIFS('R2建設IOデータ'!BP:BP,'R2建設IOデータ'!$A:$A,'R2建設io'!$CE25)/'R2建設IOデータ'!BP$232","v":3.8065536930450135E-4},{"$f":"+SUMIFS('R2建設IOデータ'!BQ:BQ,'R2建設IOデータ'!$A:$A,'R2建設io'!$CE25)/'R2建設IOデータ'!BQ$232","v":9.3572852781176399E-3},{"$f":"+SUMIFS('R2建設IOデータ'!BR:BR,'R2建設IOデータ'!$A:$A,'R2建設io'!$CE25)/'R2建設IOデータ'!BR$232","v":4.6220653380049104E-3},{"$f":"+SUMIFS('R2建設IOデータ'!BS:BS,'R2建設IOデータ'!$A:$A,'R2建設io'!$CE25)/'R2建設IOデータ'!BS$232","v":2.0629328475171129E-3},{"$f":"+SUMIFS('R2建設IOデータ'!BT:BT,'R2建設IOデータ'!$A:$A,'R2建設io'!$CE25)/'R2建設IOデータ'!BT$232","v":1.1223262402367706E-2},{"$f":"+SUMIFS('R2建設IOデータ'!BU:BU,'R2建設IOデータ'!$A:$A,'R2建設io'!$CE25)/'R2建設IOデータ'!BU$232","v":1.1622028392615363E-3},{"$f":"+SUMIFS('R2建設IOデータ'!BV:BV,'R2建設IOデータ'!$A:$A,'R2建設io'!$CE25)/'R2建設IOデータ'!BV$232","v":4.1861532420124642E-4},{"$f":"+SUMIFS('R2建設IOデータ'!BW:BW,'R2建設IOデータ'!$A:$A,'R2建設io'!$CE25)/'R2建設IOデータ'!BW$232","v":3.2299153099642058E-5},{"$f":"+SUMIFS('R2建設IOデータ'!BX:BX,'R2建設IOデータ'!$A:$A,'R2建設io'!$CE25)/'R2建設IOデータ'!BX$232","v":3.6946338672280317E-3},{"$f":"+SUMIFS('R2建設IOデータ'!BY:BY,'R2建設IOデータ'!$A:$A,'R2建設io'!$CE25)/'R2建設IOデータ'!BY$232","v":3.3162956039529618E-3},{"$f":"+SUMIFS('R2建設IOデータ'!BZ:BZ,'R2建設IOデータ'!$A:$A,'R2建設io'!$CE25)/'R2建設IOデータ'!BZ$232","v":2.4580368805081324E-3},{"$f":"+SUMIFS('R2建設IOデータ'!CA:CA,'R2建設IOデータ'!$A:$A,'R2建設io'!$CE25)/'R2建設IOデータ'!CA$232","v":2.257744714534933E-2},{"$f":"+SUMIFS('R2建設IOデータ'!CB:CB,'R2建設IOデータ'!$A:$A,'R2建設io'!$CE25)/'R2建設IOデータ'!CB$232","v":4.688511063953636E-3},{"$f":"+SUMIFS('R2建設IOデータ'!CC:CC,'R2建設IOデータ'!$A:$A,'R2建設io'!$CE25)/'R2建設IOデータ'!CC$232","v":6.4882185867600622E-4},{"$f":"+SUMIFS('R2建設IOデータ'!CD:CD,'R2建設IOデータ'!$A:$A,'R2建設io'!$CE25)/'R2建設IOデータ'!CD$232","v":6.8237163019963182E-4}]
[0,null,"35","輸送機械",0,0,0,0,0,0,0,0,0,0,0,0,0,0,0,0,0,0,0,0,0,0,0,0,0,0,0,0,0,0,0,0,0,0,0,0,0,0,0,0,0,0,0,0,0,0,0,0,0,0,0,0,0,0,0,0,0,0,0,0,0,0,0,0,0,0,0,0,0,0,0,null,null,null,null,null,null,null,"35","輸送機械",{"$f":"+SUMIFS('R2建設IOデータ'!L:L,'R2建設IOデータ'!$A:$A,'R2建設io'!$CE26)/'R2建設IOデータ'!L$232","v":0},{"$f":"+SUMIFS('R2建設IOデータ'!M:M,'R2建設IOデータ'!$A:$A,'R2建設io'!$CE26)/'R2建設IOデータ'!M$232","v":0},{"$f":"+SUMIFS('R2建設IOデータ'!N:N,'R2建設IOデータ'!$A:$A,'R2建設io'!$CE26)/'R2建設IOデータ'!N$232","v":0},{"$f":"+SUMIFS('R2建設IOデータ'!O:O,'R2建設IOデータ'!$A:$A,'R2建設io'!$CE26)/'R2建設IOデータ'!O$232","v":0},{"$f":"+SUMIFS('R2建設IOデータ'!P:P,'R2建設IOデータ'!$A:$A,'R2建設io'!$CE26)/'R2建設IOデータ'!P$232","v":0},{"$f":"+SUMIFS('R2建設IOデータ'!Q:Q,'R2建設IOデータ'!$A:$A,'R2建設io'!$CE26)/'R2建設IOデータ'!Q$232","v":0},{"$f":"+SUMIFS('R2建設IOデータ'!R:R,'R2建設IOデータ'!$A:$A,'R2建設io'!$CE26)/'R2建設IOデータ'!R$232","v":0},{"$f":"+SUMIFS('R2建設IOデータ'!S:S,'R2建設IOデータ'!$A:$A,'R2建設io'!$CE26)/'R2建設IOデータ'!S$232","v":0},{"$f":"+SUMIFS('R2建設IOデータ'!T:T,'R2建設IOデータ'!$A:$A,'R2建設io'!$CE26)/'R2建設IOデータ'!T$232","v":0},{"$f":"+SUMIFS('R2建設IOデータ'!U:U,'R2建設IOデータ'!$A:$A,'R2建設io'!$CE26)/'R2建設IOデータ'!U$232","v":0},{"$f":"+SUMIFS('R2建設IOデータ'!V:V,'R2建設IOデータ'!$A:$A,'R2建設io'!$CE26)/'R2建設IOデータ'!V$232","v":0},{"$f":"+SUMIFS('R2建設IOデータ'!W:W,'R2建設IOデータ'!$A:$A,'R2建設io'!$CE26)/'R2建設IOデータ'!W$232","v":0},{"$f":"+SUMIFS('R2建設IOデータ'!X:X,'R2建設IOデータ'!$A:$A,'R2建設io'!$CE26)/'R2建設IOデータ'!X$232","v":0},{"$f":"+SUMIFS('R2建設IOデータ'!Y:Y,'R2建設IOデータ'!$A:$A,'R2建設io'!$CE26)/'R2建設IOデータ'!Y$232","v":0},{"$f":"+SUMIFS('R2建設IOデータ'!Z:Z,'R2建設IOデータ'!$A:$A,'R2建設io'!$CE26)/'R2建設IOデータ'!Z$232","v":0},{"$f":"+SUMIFS('R2建設IOデータ'!AA:AA,'R2建設IOデータ'!$A:$A,'R2建設io'!$CE26)/'R2建設IOデータ'!AA$232","v":0},{"$f":"+SUMIFS('R2建設IOデータ'!AB:AB,'R2建設IOデータ'!$A:$A,'R2建設io'!$CE26)/'R2建設IOデータ'!AB$232","v":0},{"$f":"+SUMIFS('R2建設IOデータ'!AC:AC,'R2建設IOデータ'!$A:$A,'R2建設io'!$CE26)/'R2建設IOデータ'!AC$232","v":0},{"$f":"+SUMIFS('R2建設IOデータ'!AD:AD,'R2建設IOデータ'!$A:$A,'R2建設io'!$CE26)/'R2建設IOデータ'!AD$232","v":0},{"$f":"+SUMIFS('R2建設IOデータ'!AE:AE,'R2建設IOデータ'!$A:$A,'R2建設io'!$CE26)/'R2建設IOデータ'!AE$232","v":0},{"$f":"+SUMIFS('R2建設IOデータ'!AF:AF,'R2建設IOデータ'!$A:$A,'R2建設io'!$CE26)/'R2建設IOデータ'!AF$232","v":0},{"$f":"+SUMIFS('R2建設IOデータ'!AG:AG,'R2建設IOデータ'!$A:$A,'R2建設io'!$CE26)/'R2建設IOデータ'!AG$232","v":0},{"$f":"+SUMIFS('R2建設IOデータ'!AH:AH,'R2建設IOデータ'!$A:$A,'R2建設io'!$CE26)/'R2建設IOデータ'!AH$232","v":0},{"$f":"+SUMIFS('R2建設IOデータ'!AI:AI,'R2建設IOデータ'!$A:$A,'R2建設io'!$CE26)/'R2建設IOデータ'!AI$232","v":0},{"$f":"+SUMIFS('R2建設IOデータ'!AJ:AJ,'R2建設IOデータ'!$A:$A,'R2建設io'!$CE26)/'R2建設IOデータ'!AJ$232","v":0},{"$f":"+SUMIFS('R2建設IOデータ'!AK:AK,'R2建設IOデータ'!$A:$A,'R2建設io'!$CE26)/'R2建設IOデータ'!AK$232","v":0},{"$f":"+SUMIFS('R2建設IOデータ'!AL:AL,'R2建設IOデータ'!$A:$A,'R2建設io'!$CE26)/'R2建設IOデータ'!AL$232","v":0},{"$f":"+SUMIFS('R2建設IOデータ'!AM:AM,'R2建設IOデータ'!$A:$A,'R2建設io'!$CE26)/'R2建設IOデータ'!AM$232","v":0},{"$f":"+SUMIFS('R2建設IOデータ'!AN:AN,'R2建設IOデータ'!$A:$A,'R2建設io'!$CE26)/'R2建設IOデータ'!AN$232","v":0},{"$f":"+SUMIFS('R2建設IOデータ'!AO:AO,'R2建設IOデータ'!$A:$A,'R2建設io'!$CE26)/'R2建設IOデータ'!AO$232","v":0},{"$f":"+SUMIFS('R2建設IOデータ'!AP:AP,'R2建設IOデータ'!$A:$A,'R2建設io'!$CE26)/'R2建設IOデータ'!AP$232","v":0},{"$f":"+SUMIFS('R2建設IOデータ'!AQ:AQ,'R2建設IOデータ'!$A:$A,'R2建設io'!$CE26)/'R2建設IOデータ'!AQ$232","v":0},{"$f":"+SUMIFS('R2建設IOデータ'!AR:AR,'R2建設IOデータ'!$A:$A,'R2建設io'!$CE26)/'R2建設IOデータ'!AR$232","v":0},{"$f":"+SUMIFS('R2建設IOデータ'!AS:AS,'R2建設IOデータ'!$A:$A,'R2建設io'!$CE26)/'R2建設IOデータ'!AS$232","v":0},{"$f":"+SUMIFS('R2建設IOデータ'!AT:AT,'R2建設IOデータ'!$A:$A,'R2建設io'!$CE26)/'R2建設IOデータ'!AT$232","v":0},{"$f":"+SUMIFS('R2建設IOデータ'!AU:AU,'R2建設IOデータ'!$A:$A,'R2建設io'!$CE26)/'R2建設IOデータ'!AU$232","v":0},{"$f":"+SUMIFS('R2建設IOデータ'!AV:AV,'R2建設IOデータ'!$A:$A,'R2建設io'!$CE26)/'R2建設IOデータ'!AV$232","v":0},{"$f":"+SUMIFS('R2建設IOデータ'!AW:AW,'R2建設IOデータ'!$A:$A,'R2建設io'!$CE26)/'R2建設IOデータ'!AW$232","v":0},{"$f":"+SUMIFS('R2建設IOデータ'!AX:AX,'R2建設IOデータ'!$A:$A,'R2建設io'!$CE26)/'R2建設IOデータ'!AX$232","v":0},{"$f":"+SUMIFS('R2建設IOデータ'!AY:AY,'R2建設IOデータ'!$A:$A,'R2建設io'!$CE26)/'R2建設IOデータ'!AY$232","v":0},{"$f":"+SUMIFS('R2建設IOデータ'!AZ:AZ,'R2建設IOデータ'!$A:$A,'R2建設io'!$CE26)/'R2建設IOデータ'!AZ$232","v":0},{"$f":"+SUMIFS('R2建設IOデータ'!BA:BA,'R2建設IOデータ'!$A:$A,'R2建設io'!$CE26)/'R2建設IOデータ'!BA$232","v":0},{"$f":"+SUMIFS('R2建設IOデータ'!BB:BB,'R2建設IOデータ'!$A:$A,'R2建設io'!$CE26)/'R2建設IOデータ'!BB$232","v":0},{"$f":"+SUMIFS('R2建設IOデータ'!BC:BC,'R2建設IOデータ'!$A:$A,'R2建設io'!$CE26)/'R2建設IOデータ'!BC$232","v":0},{"$f":"+SUMIFS('R2建設IOデータ'!BD:BD,'R2建設IOデータ'!$A:$A,'R2建設io'!$CE26)/'R2建設IOデータ'!BD$232","v":0},{"$f":"+SUMIFS('R2建設IOデータ'!BE:BE,'R2建設IOデータ'!$A:$A,'R2建設io'!$CE26)/'R2建設IOデータ'!BE$232","v":0},{"$f":"+SUMIFS('R2建設IOデータ'!BF:BF,'R2建設IOデータ'!$A:$A,'R2建設io'!$CE26)/'R2建設IOデータ'!BF$232","v":0},{"$f":"+SUMIFS('R2建設IOデータ'!BG:BG,'R2建設IOデータ'!$A:$A,'R2建設io'!$CE26)/'R2建設IOデータ'!BG$232","v":0},{"$f":"+SUMIFS('R2建設IOデータ'!BH:BH,'R2建設IOデータ'!$A:$A,'R2建設io'!$CE26)/'R2建設IOデータ'!BH$232","v":0},{"$f":"+SUMIFS('R2建設IOデータ'!BI:BI,'R2建設IOデータ'!$A:$A,'R2建設io'!$CE26)/'R2建設IOデータ'!BI$232","v":0},{"$f":"+SUMIFS('R2建設IOデータ'!BJ:BJ,'R2建設IOデータ'!$A:$A,'R2建設io'!$CE26)/'R2建設IOデータ'!BJ$232","v":0},{"$f":"+SUMIFS('R2建設IOデータ'!BK:BK,'R2建設IOデータ'!$A:$A,'R2建設io'!$CE26)/'R2建設IOデータ'!BK$232","v":0},{"$f":"+SUMIFS('R2建設IOデータ'!BL:BL,'R2建設IOデータ'!$A:$A,'R2建設io'!$CE26)/'R2建設IOデータ'!BL$232","v":0},{"$f":"+SUMIFS('R2建設IOデータ'!BM:BM,'R2建設IOデータ'!$A:$A,'R2建設io'!$CE26)/'R2建設IOデータ'!BM$232","v":0},{"$f":"+SUMIFS('R2建設IOデータ'!BN:BN,'R2建設IOデータ'!$A:$A,'R2建設io'!$CE26)/'R2建設IOデータ'!BN$232","v":0},{"$f":"+SUMIFS('R2建設IOデータ'!BO:BO,'R2建設IOデータ'!$A:$A,'R2建設io'!$CE26)/'R2建設IOデータ'!BO$232","v":0},{"$f":"+SUMIFS('R2建設IOデータ'!BP:BP,'R2建設IOデータ'!$A:$A,'R2建設io'!$CE26)/'R2建設IOデータ'!BP$232","v":0},{"$f":"+SUMIFS('R2建設IOデータ'!BQ:BQ,'R2建設IOデータ'!$A:$A,'R2建設io'!$CE26)/'R2建設IOデータ'!BQ$232","v":0},{"$f":"+SUMIFS('R2建設IOデータ'!BR:BR,'R2建設IOデータ'!$A:$A,'R2建設io'!$CE26)/'R2建設IOデータ'!BR$232","v":0},{"$f":"+SUMIFS('R2建設IOデータ'!BS:BS,'R2建設IOデータ'!$A:$A,'R2建設io'!$CE26)/'R2建設IOデータ'!BS$232","v":0},{"$f":"+SUMIFS('R2建設IOデータ'!BT:BT,'R2建設IOデータ'!$A:$A,'R2建設io'!$CE26)/'R2建設IOデータ'!BT$232","v":0},{"$f":"+SUMIFS('R2建設IOデータ'!BU:BU,'R2建設IOデータ'!$A:$A,'R2建設io'!$CE26)/'R2建設IOデータ'!BU$232","v":0},{"$f":"+SUMIFS('R2建設IOデータ'!BV:BV,'R2建設IOデータ'!$A:$A,'R2建設io'!$CE26)/'R2建設IOデータ'!BV$232","v":0},{"$f":"+SUMIFS('R2建設IOデータ'!BW:BW,'R2建設IOデータ'!$A:$A,'R2建設io'!$CE26)/'R2建設IOデータ'!BW$232","v":0},{"$f":"+SUMIFS('R2建設IOデータ'!BX:BX,'R2建設IOデータ'!$A:$A,'R2建設io'!$CE26)/'R2建設IOデータ'!BX$232","v":0},{"$f":"+SUMIFS('R2建設IOデータ'!BY:BY,'R2建設IOデータ'!$A:$A,'R2建設io'!$CE26)/'R2建設IOデータ'!BY$232","v":0},{"$f":"+SUMIFS('R2建設IOデータ'!BZ:BZ,'R2建設IOデータ'!$A:$A,'R2建設io'!$CE26)/'R2建設IOデータ'!BZ$232","v":0},{"$f":"+SUMIFS('R2建設IOデータ'!CA:CA,'R2建設IOデータ'!$A:$A,'R2建設io'!$CE26)/'R2建設IOデータ'!CA$232","v":0},{"$f":"+SUMIFS('R2建設IOデータ'!CB:CB,'R2建設IOデータ'!$A:$A,'R2建設io'!$CE26)/'R2建設IOデータ'!CB$232","v":0},{"$f":"+SUMIFS('R2建設IOデータ'!CC:CC,'R2建設IOデータ'!$A:$A,'R2建設io'!$CE26)/'R2建設IOデータ'!CC$232","v":0},{"$f":"+SUMIFS('R2建設IOデータ'!CD:CD,'R2建設IOデータ'!$A:$A,'R2建設io'!$CE26)/'R2建設IOデータ'!CD$232","v":0}]
[0,null,"39","その他の製造工業製品",0,0,0,0,0,0,0,0,0,0,0,0,0,0,0,0,0,0,0,0,0,0,0,0,0,0,0,0,0,0,0,0,0,0,0,0,0,0,0,0,0,0,0,0,0,0,0,0,0,0,0,0,0,0,0,0,0,0,0,0,0,0,0,0,0,0,0,0,0,0,0,null,null,null,null,null,null,null,"39","その他の製造工業製品",{"$f":"+SUMIFS('R2建設IOデータ'!L:L,'R2建設IOデータ'!$A:$A,'R2建設io'!$CE27)/'R2建設IOデータ'!L$232","v":2.9355005377173261E-3},{"$f":"+SUMIFS('R2建設IOデータ'!M:M,'R2建設IOデータ'!$A:$A,'R2建設io'!$CE27)/'R2建設IOデータ'!M$232","v":1.8707096475405649E-3},{"$f":"+SUMIFS('R2建設IOデータ'!N:N,'R2建設IOデータ'!$A:$A,'R2建設io'!$CE27)/'R2建設IOデータ'!N$232","v":2.4087556446769228E-3},{"$f":"+SUMIFS('R2建設IOデータ'!O:O,'R2建設IOデータ'!$A:$A,'R2建設io'!$CE27)/'R2建設IOデータ'!O$232","v":2.560433841107343E-3},{"$f":"+SUMIFS('R2建設IOデータ'!P:P,'R2建設IOデータ'!$A:$A,'R2建設io'!$CE27)/'R2建設IOデータ'!P$232","v":2.5732640996684584E-3},{"$f":"+SUMIFS('R2建設IOデータ'!Q:Q,'R2建設IOデータ'!$A:$A,'R2建設io'!$CE27)/'R2建設IOデータ'!Q$232","v":1.9767031415460642E-3},{"$f":"+SUMIFS('R2建設IOデータ'!R:R,'R2建設IOデータ'!$A:$A,'R2建設io'!$CE27)/'R2建設IOデータ'!R$232","v":2.1940238720237698E-3},{"$f":"+SUMIFS('R2建設IOデータ'!S:S,'R2建設IOデータ'!$A:$A,'R2建設io'!$CE27)/'R2建設IOデータ'!S$232","v":1.9638229085953991E-3},{"$f":"+SUMIFS('R2建設IOデータ'!T:T,'R2建設IOデータ'!$A:$A,'R2建設io'!$CE27)/'R2建設IOデータ'!T$232","v":2.1074979569511254E-3},{"$f":"+SUMIFS('R2建設IOデータ'!U:U,'R2建設IOデータ'!$A:$A,'R2建設io'!$CE27)/'R2建設IOデータ'!U$232","v":2.1075450111398808E-3},{"$f":"+SUMIFS('R2建設IOデータ'!V:V,'R2建設IOデータ'!$A:$A,'R2建設io'!$CE27)/'R2建設IOデータ'!V$232","v":2.1041058497933804E-3},{"$f":"+SUMIFS('R2建設IOデータ'!W:W,'R2建設IOデータ'!$A:$A,'R2建設io'!$CE27)/'R2建設IOデータ'!W$232","v":2.3320997352719464E-3},{"$f":"+SUMIFS('R2建設IOデータ'!X:X,'R2建設IOデータ'!$A:$A,'R2建設io'!$CE27)/'R2建設IOデータ'!X$232","v":1.9078108821315302E-3},{"$f":"+SUMIFS('R2建設IOデータ'!Y:Y,'R2建設IOデータ'!$A:$A,'R2建設io'!$CE27)/'R2建設IOデータ'!Y$232","v":2.507196062059131E-3},{"$f":"+SUMIFS('R2建設IOデータ'!Z:Z,'R2建設IOデータ'!$A:$A,'R2建設io'!$CE27)/'R2建設IOデータ'!Z$232","v":2.241621544824538E-3},{"$f":"+SUMIFS('R2建設IOデータ'!AA:AA,'R2建設IOデータ'!$A:$A,'R2建設io'!$CE27)/'R2建設IOデータ'!AA$232","v":1.3081627735655695E-3},{"$f":"+SUMIFS('R2建設IOデータ'!AB:AB,'R2建設IOデータ'!$A:$A,'R2建設io'!$CE27)/'R2建設IOデータ'!AB$232","v":7.1887345841870824E-4},{"$f":"+SUMIFS('R2建設IOデータ'!AC:AC,'R2建設IOデータ'!$A:$A,'R2建設io'!$CE27)/'R2建設IOデータ'!AC$232","v":6.8011999925466303E-4},{"$f":"+SUMIFS('R2建設IOデータ'!AD:AD,'R2建設IOデータ'!$A:$A,'R2建設io'!$CE27)/'R2建設IOデータ'!AD$232","v":7.2376868117577698E-4},{"$f":"+SUMIFS('R2建設IOデータ'!AE:AE,'R2建設IOデータ'!$A:$A,'R2建設io'!$CE27)/'R2建設IOデータ'!AE$232","v":1.3481854671170269E-3},{"$f":"+SUMIFS('R2建設IOデータ'!AF:AF,'R2建設IOデータ'!$A:$A,'R2建設io'!$CE27)/'R2建設IOデータ'!AF$232","v":1.4339985284622431E-3},{"$f":"+SUMIFS('R2建設IOデータ'!AG:AG,'R2建設IOデータ'!$A:$A,'R2建設io'!$CE27)/'R2建設IOデータ'!AG$232","v":1.3335749229932959E-3},{"$f":"+SUMIFS('R2建設IOデータ'!AH:AH,'R2建設IOデータ'!$A:$A,'R2建設io'!$CE27)/'R2建設IOデータ'!AH$232","v":1.487672538720409E-3},{"$f":"+SUMIFS('R2建設IOデータ'!AI:AI,'R2建設IOデータ'!$A:$A,'R2建設io'!$CE27)/'R2建設IOデータ'!AI$232","v":1.2906683248311494E-3},{"$f":"+SUMIFS('R2建設IOデータ'!AJ:AJ,'R2建設IOデータ'!$A:$A,'R2建設io'!$CE27)/'R2建設IOデータ'!AJ$232","v":1.4841239416063792E-3},{"$f":"+SUMIFS('R2建設IOデータ'!AK:AK,'R2建設IOデータ'!$A:$A,'R2建設io'!$CE27)/'R2建設IOデータ'!AK$232","v":1.2332888494650056E-3},{"$f":"+SUMIFS('R2建設IOデータ'!AL:AL,'R2建設IOデータ'!$A:$A,'R2建設io'!$CE27)/'R2建設IOデータ'!AL$232","v":1.3537246912620213E-3},{"$f":"+SUMIFS('R2建設IOデータ'!AM:AM,'R2建設IOデータ'!$A:$A,'R2建設io'!$CE27)/'R2建設IOデータ'!AM$232","v":1.6263223280502956E-3},{"$f":"+SUMIFS('R2建設IOデータ'!AN:AN,'R2建設IOデータ'!$A:$A,'R2建設io'!$CE27)/'R2建設IOデータ'!AN$232","v":5.3171924745467362E-3},{"$f":"+SUMIFS('R2建設IOデータ'!AO:AO,'R2建設IOデータ'!$A:$A,'R2建設io'!$CE27)/'R2建設IOデータ'!AO$232","v":3.3107977208292603E-3},{"$f":"+SUMIFS('R2建設IOデータ'!AP:AP,'R2建設IOデータ'!$A:$A,'R2建設io'!$CE27)/'R2建設IOデータ'!AP$232","v":3.2522558415029436E-3},{"$f":"+SUMIFS('R2建設IOデータ'!AQ:AQ,'R2建設IOデータ'!$A:$A,'R2建設io'!$CE27)/'R2建設IOデータ'!AQ$232","v":4.7700614996128068E-3},{"$f":"+SUMIFS('R2建設IOデータ'!AR:AR,'R2建設IOデータ'!$A:$A,'R2建設io'!$CE27)/'R2建設IOデータ'!AR$232","v":4.7630799096190293E-3},{"$f":"+SUMIFS('R2建設IOデータ'!AS:AS,'R2建設IOデータ'!$A:$A,'R2建設io'!$CE27)/'R2建設IOデータ'!AS$232","v":4.9662228350525221E-3},{"$f":"+SUMIFS('R2建設IOデータ'!AT:AT,'R2建設IOデータ'!$A:$A,'R2建設io'!$CE27)/'R2建設IOデータ'!AT$232","v":5.2693302074040974E-3},{"$f":"+SUMIFS('R2建設IOデータ'!AU:AU,'R2建設IOデータ'!$A:$A,'R2建設io'!$CE27)/'R2建設IOデータ'!AU$232","v":1.67294495214467E-3},{"$f":"+SUMIFS('R2建設IOデータ'!AV:AV,'R2建設IOデータ'!$A:$A,'R2建設io'!$CE27)/'R2建設IOデータ'!AV$232","v":1.7860737279894764E-3},{"$f":"+SUMIFS('R2建設IOデータ'!AW:AW,'R2建設IOデータ'!$A:$A,'R2建設io'!$CE27)/'R2建設IOデータ'!AW$232","v":5.7721344258047872E-3},{"$f":"+SUMIFS('R2建設IOデータ'!AX:AX,'R2建設IOデータ'!$A:$A,'R2建設io'!$CE27)/'R2建設IOデータ'!AX$232","v":3.2294871533649831E-3},{"$f":"+SUMIFS('R2建設IOデータ'!AY:AY,'R2建設IOデータ'!$A:$A,'R2建設io'!$CE27)/'R2建設IOデータ'!AY$232","v":3.4231448763250884E-3},{"$f":"+SUMIFS('R2建設IOデータ'!AZ:AZ,'R2建設IOデータ'!$A:$A,'R2建設io'!$CE27)/'R2建設IOデータ'!AZ$232","v":3.7153056020980549E-3},{"$f":"+SUMIFS('R2建設IOデータ'!BA:BA,'R2建設IOデータ'!$A:$A,'R2建設io'!$CE27)/'R2建設IOデータ'!BA$232","v":3.9088810313721249E-3},{"$f":"+SUMIFS('R2建設IOデータ'!BB:BB,'R2建設IOデータ'!$A:$A,'R2建設io'!$CE27)/'R2建設IOデータ'!BB$232","v":3.7031124670139199E-3},{"$f":"+SUMIFS('R2建設IOデータ'!BC:BC,'R2建設IOデータ'!$A:$A,'R2建設io'!$CE27)/'R2建設IOデータ'!BC$232","v":3.1798058961033469E-3},{"$f":"+SUMIFS('R2建設IOデータ'!BD:BD,'R2建設IOデータ'!$A:$A,'R2建設io'!$CE27)/'R2建設IOデータ'!BD$232","v":9.8403505624887894E-3},{"$f":"+SUMIFS('R2建設IOデータ'!BE:BE,'R2建設IOデータ'!$A:$A,'R2建設io'!$CE27)/'R2建設IOデータ'!BE$232","v":2.9830197338228544E-3},{"$f":"+SUMIFS('R2建設IOデータ'!BF:BF,'R2建設IOデータ'!$A:$A,'R2建設io'!$CE27)/'R2建設IOデータ'!BF$232","v":4.1386126382111314E-3},{"$f":"+SUMIFS('R2建設IOデータ'!BG:BG,'R2建設IOデータ'!$A:$A,'R2建設io'!$CE27)/'R2建設IOデータ'!BG$232","v":5.9333947355664357E-3},{"$f":"+SUMIFS('R2建設IOデータ'!BH:BH,'R2建設IOデータ'!$A:$A,'R2建設io'!$CE27)/'R2建設IOデータ'!BH$232","v":5.8104445996000143E-3},{"$f":"+SUMIFS('R2建設IOデータ'!BI:BI,'R2建設IOデータ'!$A:$A,'R2建設io'!$CE27)/'R2建設IOデータ'!BI$232","v":6.4907198798412188E-3},{"$f":"+SUMIFS('R2建設IOデータ'!BJ:BJ,'R2建設IOデータ'!$A:$A,'R2建設io'!$CE27)/'R2建設IOデータ'!BJ$232","v":5.1900788850635319E-3},{"$f":"+SUMIFS('R2建設IOデータ'!BK:BK,'R2建設IOデータ'!$A:$A,'R2建設io'!$CE27)/'R2建設IOデータ'!BK$232","v":2.1670951502833374E-3},{"$f":"+SUMIFS('R2建設IOデータ'!BL:BL,'R2建設IOデータ'!$A:$A,'R2建設io'!$CE27)/'R2建設IOデータ'!BL$232","v":2.3072170350778424E-3},{"$f":"+SUMIFS('R2建設IOデータ'!BM:BM,'R2建設IOデータ'!$A:$A,'R2建設io'!$CE27)/'R2建設IOデータ'!BM$232","v":2.3820964215542687E-3},{"$f":"+SUMIFS('R2建設IOデータ'!BN:BN,'R2建設IOデータ'!$A:$A,'R2建設io'!$CE27)/'R2建設IOデータ'!BN$232","v":3.8950051952328772E-3},{"$f":"+SUMIFS('R2建設IOデータ'!BO:BO,'R2建設IOデータ'!$A:$A,'R2建設io'!$CE27)/'R2建設IOデータ'!BO$232","v":2.2408517511630817E-3},{"$f":"+SUMIFS('R2建設IOデータ'!BP:BP,'R2建設IOデータ'!$A:$A,'R2建設io'!$CE27)/'R2建設IOデータ'!BP$232","v":1.4400697103808847E-3},{"$f":"+SUMIFS('R2建設IOデータ'!BQ:BQ,'R2建設IOデータ'!$A:$A,'R2建設io'!$CE27)/'R2建設IOデータ'!BQ$232","v":1.6611481353784141E-3},{"$f":"+SUMIFS('R2建設IOデータ'!BR:BR,'R2建設IOデータ'!$A:$A,'R2建設io'!$CE27)/'R2建設IOデータ'!BR$232","v":1.7412317435908317E-3},{"$f":"+SUMIFS('R2建設IOデータ'!BS:BS,'R2建設IOデータ'!$A:$A,'R2建設io'!$CE27)/'R2建設IOデータ'!BS$232","v":2.6054573950784316E-3},{"$f":"+SUMIFS('R2建設IOデータ'!BT:BT,'R2建設IOデータ'!$A:$A,'R2建設io'!$CE27)/'R2建設IOデータ'!BT$232","v":1.1474514707162471E-3},{"$f":"+SUMIFS('R2建設IOデータ'!BU:BU,'R2建設IOデータ'!$A:$A,'R2建設io'!$CE27)/'R2建設IOデータ'!BU$232","v":1.0366849326212903E-2},{"$f":"+SUMIFS('R2建設IOデータ'!BV:BV,'R2建設IOデータ'!$A:$A,'R2建設io'!$CE27)/'R2建設IOデータ'!BV$232","v":1.832882233716008E-3},{"$f":"+SUMIFS('R2建設IOデータ'!BW:BW,'R2建設IOデータ'!$A:$A,'R2建設io'!$CE27)/'R2建設IOデータ'!BW$232","v":1.291137940572871E-3},{"$f":"+SUMIFS('R2建設IOデータ'!BX:BX,'R2建設IOデータ'!$A:$A,'R2建設io'!$CE27)/'R2建設IOデータ'!BX$232","v":3.3933840326912648E-3},{"$f":"+SUMIFS('R2建設IOデータ'!BY:BY,'R2建設IOデータ'!$A:$A,'R2建設io'!$CE27)/'R2建設IOデータ'!BY$232","v":3.139661148632354E-3},{"$f":"+SUMIFS('R2建設IOデータ'!BZ:BZ,'R2建設IOデータ'!$A:$A,'R2建設io'!$CE27)/'R2建設IOデータ'!BZ$232","v":2.7645656106288735E-3},{"$f":"+SUMIFS('R2建設IOデータ'!CA:CA,'R2建設IOデータ'!$A:$A,'R2建設io'!$CE27)/'R2建設IOデータ'!CA$232","v":2.4899900861505828E-3},{"$f":"+SUMIFS('R2建設IOデータ'!CB:CB,'R2建設IOデータ'!$A:$A,'R2建設io'!$CE27)/'R2建設IOデータ'!CB$232","v":5.3539589202508077E-3},{"$f":"+SUMIFS('R2建設IOデータ'!CC:CC,'R2建設IOデータ'!$A:$A,'R2建設io'!$CE27)/'R2建設IOデータ'!CC$232","v":2.7608032149785159E-3},{"$f":"+SUMIFS('R2建設IOデータ'!CD:CD,'R2建設IOデータ'!$A:$A,'R2建設io'!$CE27)/'R2建設IOデータ'!CD$232","v":3.4296623096135917E-3}]
[0,null,"41","建設",0,0,0,0,0,0,0,0,0,0,0,0,0,0,0,0,0,0,0,0,0,0,0,0,0,0,0,0,0,0,0,0,0,0,0,0,0,0,0,0,0,0,0,0,0,0,0,0,0,0,0,0,0,0,0,0,0,0,0,0,0,0,0,0,0,0,0,0,0,0,0,null,null,null,null,null,null,null,"41","建設",{"$f":"+SUMIFS('R2建設IOデータ'!L:L,'R2建設IOデータ'!$A:$A,'R2建設io'!$CE28)/'R2建設IOデータ'!L$232","v":8.1066605152131752E-4},{"$f":"+SUMIFS('R2建設IOデータ'!M:M,'R2建設IOデータ'!$A:$A,'R2建設io'!$CE28)/'R2建設IOデータ'!M$232","v":8.5620254355438274E-4},{"$f":"+SUMIFS('R2建設IOデータ'!N:N,'R2建設IOデータ'!$A:$A,'R2建設io'!$CE28)/'R2建設IOデータ'!N$232","v":7.7387289188596557E-4},{"$f":"+SUMIFS('R2建設IOデータ'!O:O,'R2建設IOデータ'!$A:$A,'R2建設io'!$CE28)/'R2建設IOデータ'!O$232","v":8.3865622827239959E-4},{"$f":"+SUMIFS('R2建設IOデータ'!P:P,'R2建設IOデータ'!$A:$A,'R2建設io'!$CE28)/'R2建設IOデータ'!P$232","v":8.4744701322587036E-4},{"$f":"+SUMIFS('R2建設IOデータ'!Q:Q,'R2建設IOデータ'!$A:$A,'R2建設io'!$CE28)/'R2建設IOデータ'!Q$232","v":4.3870707478190711E-4},{"$f":"+SUMIFS('R2建設IOデータ'!R:R,'R2建設IOデータ'!$A:$A,'R2建設io'!$CE28)/'R2建設IOデータ'!R$232","v":6.8215871682306573E-4},{"$f":"+SUMIFS('R2建設IOデータ'!S:S,'R2建設IOデータ'!$A:$A,'R2建設io'!$CE28)/'R2建設IOデータ'!S$232","v":7.7484169182675611E-4},{"$f":"+SUMIFS('R2建設IOデータ'!T:T,'R2建設IOデータ'!$A:$A,'R2建設io'!$CE28)/'R2建設IOデータ'!T$232","v":7.9232171529481765E-4},{"$f":"+SUMIFS('R2建設IOデータ'!U:U,'R2建設IOデータ'!$A:$A,'R2建設io'!$CE28)/'R2建設IOデータ'!U$232","v":7.9673878774221322E-4},{"$f":"+SUMIFS('R2建設IOデータ'!V:V,'R2建設IOデータ'!$A:$A,'R2建設io'!$CE28)/'R2建設IOデータ'!V$232","v":4.7389771391742808E-4},{"$f":"+SUMIFS('R2建設IOデータ'!W:W,'R2建設IOデータ'!$A:$A,'R2建設io'!$CE28)/'R2建設IOデータ'!W$232","v":5.1881776238305261E-4},{"$f":"+SUMIFS('R2建設IOデータ'!X:X,'R2建設IOデータ'!$A:$A,'R2建設io'!$CE28)/'R2建設IOデータ'!X$232","v":8.7509274080677026E-4},{"$f":"+SUMIFS('R2建設IOデータ'!Y:Y,'R2建設IOデータ'!$A:$A,'R2建設io'!$CE28)/'R2建設IOデータ'!Y$232","v":3.7178953011523234E-4},{"$f":"+SUMIFS('R2建設IOデータ'!Z:Z,'R2建設IOデータ'!$A:$A,'R2建設io'!$CE28)/'R2建設IOデータ'!Z$232","v":3.6307954599270681E-4},{"$f":"+SUMIFS('R2建設IOデータ'!AA:AA,'R2建設IOデータ'!$A:$A,'R2建設io'!$CE28)/'R2建設IOデータ'!AA$232","v":9.4228122163770071E-4},{"$f":"+SUMIFS('R2建設IOデータ'!AB:AB,'R2建設IOデータ'!$A:$A,'R2建設io'!$CE28)/'R2建設IOデータ'!AB$232","v":8.16046760210772E-4},{"$f":"+SUMIFS('R2建設IOデータ'!AC:AC,'R2建設IOデータ'!$A:$A,'R2建設io'!$CE28)/'R2建設IOデータ'!AC$232","v":7.0807013621033412E-4},{"$f":"+SUMIFS('R2建設IOデータ'!AD:AD,'R2建設IOデータ'!$A:$A,'R2建設io'!$CE28)/'R2建設IOデータ'!AD$232","v":8.2968604915271992E-4},{"$f":"+SUMIFS('R2建設IOデータ'!AE:AE,'R2建設IOデータ'!$A:$A,'R2建設io'!$CE28)/'R2建設IOデータ'!AE$232","v":9.5085467280245524E-4},{"$f":"+SUMIFS('R2建設IOデータ'!AF:AF,'R2建設IOデータ'!$A:$A,'R2建設io'!$CE28)/'R2建設IOデータ'!AF$232","v":8.6340225535684796E-4},{"$f":"+SUMIFS('R2建設IOデータ'!AG:AG,'R2建設IOデータ'!$A:$A,'R2建設io'!$CE28)/'R2建設IOデータ'!AG$232","v":1.0847375732318657E-3},{"$f":"+SUMIFS('R2建設IOデータ'!AH:AH,'R2建設IOデータ'!$A:$A,'R2建設io'!$CE28)/'R2建設IOデータ'!AH$232","v":1.0575795070299349E-3},{"$f":"+SUMIFS('R2建設IOデータ'!AI:AI,'R2建設IOデータ'!$A:$A,'R2建設io'!$CE28)/'R2建設IOデータ'!AI$232","v":9.8589878378544217E-4},{"$f":"+SUMIFS('R2建設IOデータ'!AJ:AJ,'R2建設IOデータ'!$A:$A,'R2建設io'!$CE28)/'R2建設IOデータ'!AJ$232","v":9.3682242161200022E-4},{"$f":"+SUMIFS('R2建設IOデータ'!AK:AK,'R2建設IOデータ'!$A:$A,'R2建設io'!$CE28)/'R2建設IOデータ'!AK$232","v":9.5435717510276169E-4},{"$f":"+SUMIFS('R2建設IOデータ'!AL:AL,'R2建設IOデータ'!$A:$A,'R2建設io'!$CE28)/'R2建設IOデータ'!AL$232","v":9.3538496610280923E-4},{"$f":"+SUMIFS('R2建設IOデータ'!AM:AM,'R2建設IOデータ'!$A:$A,'R2建設io'!$CE28)/'R2建設IOデータ'!AM$232","v":8.2069043406241763E-4},{"$f":"+SUMIFS('R2建設IOデータ'!AN:AN,'R2建設IOデータ'!$A:$A,'R2建設io'!$CE28)/'R2建設IOデータ'!AN$232","v":1.4813537112982255E-3},{"$f":"+SUMIFS('R2建設IOデータ'!AO:AO,'R2建設IOデータ'!$A:$A,'R2建設io'!$CE28)/'R2建設IOデータ'!AO$232","v":4.4556083120874204E-4},{"$f":"+SUMIFS('R2建設IOデータ'!AP:AP,'R2建設IOデータ'!$A:$A,'R2建設io'!$CE28)/'R2建設IOデータ'!AP$232","v":5.047243179884277E-4},{"$f":"+SUMIFS('R2建設IOデータ'!AQ:AQ,'R2建設IOデータ'!$A:$A,'R2建設io'!$CE28)/'R2建設IOデータ'!AQ$232","v":6.4033570630566696E-4},{"$f":"+SUMIFS('R2建設IOデータ'!AR:AR,'R2建設IOデータ'!$A:$A,'R2建設io'!$CE28)/'R2建設IOデータ'!AR$232","v":6.3946530320725962E-4},{"$f":"+SUMIFS('R2建設IOデータ'!AS:AS,'R2建設IOデータ'!$A:$A,'R2建設io'!$CE28)/'R2建設IOデータ'!AS$232","v":6.8432874412593014E-4},{"$f":"+SUMIFS('R2建設IOデータ'!AT:AT,'R2建設IOデータ'!$A:$A,'R2建設io'!$CE28)/'R2建設IOデータ'!AT$232","v":6.3822201767931746E-4},{"$f":"+SUMIFS('R2建設IOデータ'!AU:AU,'R2建設IOデータ'!$A:$A,'R2建設io'!$CE28)/'R2建設IOデータ'!AU$232","v":6.0317062900454082E-4},{"$f":"+SUMIFS('R2建設IOデータ'!AV:AV,'R2建設IOデータ'!$A:$A,'R2建設io'!$CE28)/'R2建設IOデータ'!AV$232","v":5.613374573681211E-4},{"$f":"+SUMIFS('R2建設IOデータ'!AW:AW,'R2建設IOデータ'!$A:$A,'R2建設io'!$CE28)/'R2建設IOデータ'!AW$232","v":7.5206621539197392E-4},{"$f":"+SUMIFS('R2建設IOデータ'!AX:AX,'R2建設IOデータ'!$A:$A,'R2建設io'!$CE28)/'R2建設IOデータ'!AX$232","v":7.3605819189470037E-4},{"$f":"+SUMIFS('R2建設IOデータ'!AY:AY,'R2建設IOデータ'!$A:$A,'R2建設io'!$CE28)/'R2建設IOデータ'!AY$232","v":4.4169611307420494E-4},{"$f":"+SUMIFS('R2建設IOデータ'!AZ:AZ,'R2建設IOデータ'!$A:$A,'R2建設io'!$CE28)/'R2建設IOデータ'!AZ$232","v":1.4569825890580607E-4},{"$f":"+SUMIFS('R2建設IOデータ'!BA:BA,'R2建設IOデータ'!$A:$A,'R2建設io'!$CE28)/'R2建設IOデータ'!BA$232","v":4.5081831574635031E-4},{"$f":"+SUMIFS('R2建設IOデータ'!BB:BB,'R2建設IOデータ'!$A:$A,'R2建設io'!$CE28)/'R2建設IOデータ'!BB$232","v":4.2864660009341542E-4},{"$f":"+SUMIFS('R2建設IOデータ'!BC:BC,'R2建設IOデータ'!$A:$A,'R2建設io'!$CE28)/'R2建設IOデータ'!BC$232","v":4.205621514090501E-4},{"$f":"+SUMIFS('R2建設IOデータ'!BD:BD,'R2建設IOデータ'!$A:$A,'R2建設io'!$CE28)/'R2建設IOデータ'!BD$232","v":4.3564051969351408E-4},{"$f":"+SUMIFS('R2建設IOデータ'!BE:BE,'R2建設IOデータ'!$A:$A,'R2建設io'!$CE28)/'R2建設IOデータ'!BE$232","v":5.9660394676457095E-4},{"$f":"+SUMIFS('R2建設IOデータ'!BF:BF,'R2建設IOデータ'!$A:$A,'R2建設io'!$CE28)/'R2建設IOデータ'!BF$232","v":6.1770337883748226E-4},{"$f":"+SUMIFS('R2建設IOデータ'!BG:BG,'R2建設IOデータ'!$A:$A,'R2建設io'!$CE28)/'R2建設IOデータ'!BG$232","v":6.6896117116680396E-4},{"$f":"+SUMIFS('R2建設IOデータ'!BH:BH,'R2建設IOデータ'!$A:$A,'R2建設io'!$CE28)/'R2建設IOデータ'!BH$232","v":6.7453226512668193E-4},{"$f":"+SUMIFS('R2建設IOデータ'!BI:BI,'R2建設IOデータ'!$A:$A,'R2建設io'!$CE28)/'R2建設IOデータ'!BI$232","v":6.4370775667846802E-4},{"$f":"+SUMIFS('R2建設IOデータ'!BJ:BJ,'R2建設IOデータ'!$A:$A,'R2建設io'!$CE28)/'R2建設IOデータ'!BJ$232","v":6.9269977151246347E-4},{"$f":"+SUMIFS('R2建設IOデータ'!BK:BK,'R2建設IOデータ'!$A:$A,'R2建設io'!$CE28)/'R2建設IOデータ'!BK$232","v":4.5223050591051316E-4},{"$f":"+SUMIFS('R2建設IOデータ'!BL:BL,'R2建設IOデータ'!$A:$A,'R2建設io'!$CE28)/'R2建設IOデータ'!BL$232","v":7.1168329031367171E-4},{"$f":"+SUMIFS('R2建設IOデータ'!BM:BM,'R2建設IOデータ'!$A:$A,'R2建設io'!$CE28)/'R2建設IOデータ'!BM$232","v":3.1059003271049953E-4},{"$f":"+SUMIFS('R2建設IOデータ'!BN:BN,'R2建設IOデータ'!$A:$A,'R2建設io'!$CE28)/'R2建設IOデータ'!BN$232","v":2.384697058305843E-4},{"$f":"+SUMIFS('R2建設IOデータ'!BO:BO,'R2建設IOデータ'!$A:$A,'R2建設io'!$CE28)/'R2建設IOデータ'!BO$232","v":3.2418413658958289E-4},{"$f":"+SUMIFS('R2建設IOデータ'!BP:BP,'R2建設IOデータ'!$A:$A,'R2建設io'!$CE28)/'R2建設IOデータ'!BP$232","v":2.4123460753514184E-3},{"$f":"+SUMIFS('R2建設IOデータ'!BQ:BQ,'R2建設IOデータ'!$A:$A,'R2建設io'!$CE28)/'R2建設IOデータ'!BQ$232","v":3.3790435673070225E-4},{"$f":"+SUMIFS('R2建設IOデータ'!BR:BR,'R2建設IOデータ'!$A:$A,'R2建設io'!$CE28)/'R2建設IOデータ'!BR$232","v":3.145450891647954E-4},{"$f":"+SUMIFS('R2建設IOデータ'!BS:BS,'R2建設IOデータ'!$A:$A,'R2建設io'!$CE28)/'R2建設IOデータ'!BS$232","v":3.8177653346907611E-4},{"$f":"+SUMIFS('R2建設IOデータ'!BT:BT,'R2建設IOデータ'!$A:$A,'R2建設io'!$CE28)/'R2建設IOデータ'!BT$232","v":1.9585809586363529E-4},{"$f":"+SUMIFS('R2建設IOデータ'!BU:BU,'R2建設IOデータ'!$A:$A,'R2建設io'!$CE28)/'R2建設IOデータ'!BU$232","v":4.2420403633046074E-4},{"$f":"+SUMIFS('R2建設IOデータ'!BV:BV,'R2建設IOデータ'!$A:$A,'R2建設io'!$CE28)/'R2建設IOデータ'!BV$232","v":2.6211464107096392E-4},{"$f":"+SUMIFS('R2建設IOデータ'!BW:BW,'R2建設IOデータ'!$A:$A,'R2建設io'!$CE28)/'R2建設IOデータ'!BW$232","v":1.0517929342703952E-4},{"$f":"+SUMIFS('R2建設IOデータ'!BX:BX,'R2建設IOデータ'!$A:$A,'R2建設io'!$CE28)/'R2建設IOデータ'!BX$232","v":3.6209760409238611E-4},{"$f":"+SUMIFS('R2建設IOデータ'!BY:BY,'R2建設IOデータ'!$A:$A,'R2建設io'!$CE28)/'R2建設IOデータ'!BY$232","v":3.5652784893126376E-4},{"$f":"+SUMIFS('R2建設IOデータ'!BZ:BZ,'R2建設IOデータ'!$A:$A,'R2建設io'!$CE28)/'R2建設IOデータ'!BZ$232","v":5.106046911754153E-4},{"$f":"+SUMIFS('R2建設IOデータ'!CA:CA,'R2建設IOデータ'!$A:$A,'R2建設io'!$CE28)/'R2建設IOデータ'!CA$232","v":3.4275789457504936E-4},{"$f":"+SUMIFS('R2建設IOデータ'!CB:CB,'R2建設IOデータ'!$A:$A,'R2建設io'!$CE28)/'R2建設IOデータ'!CB$232","v":2.7479746932016944E-4},{"$f":"+SUMIFS('R2建設IOデータ'!CC:CC,'R2建設IOデータ'!$A:$A,'R2建設io'!$CE28)/'R2建設IOデータ'!CC$232","v":2.3503240798977774E-4},{"$f":"+SUMIFS('R2建設IOデータ'!CD:CD,'R2建設IOデータ'!$A:$A,'R2建設io'!$CE28)/'R2建設IOデータ'!CD$232","v":3.1248115120962905E-4}]
[0,null,"46","電気・ガス・熱供給",0,0,0,0,0,0,0,0,0,0,0,0,0,0,0,0,0,0,0,0,0,0,0,0,0,0,0,0,0,0,0,0,0,0,0,0,0,0,0,0,0,0,0,0,0,0,0,0,0,0,0,0,0,0,0,0,0,0,0,0,0,0,0,0,0,0,0,0,0,0,0,null,null,null,null,null,null,null,"46","電気・ガス・熱供給",{"$f":"+SUMIFS('R2建設IOデータ'!L:L,'R2建設IOデータ'!$A:$A,'R2建設io'!$CE29)/'R2建設IOデータ'!L$232","v":2.8320534270347697E-3},{"$f":"+SUMIFS('R2建設IOデータ'!M:M,'R2建設IOデータ'!$A:$A,'R2建設io'!$CE29)/'R2建設IOデータ'!M$232","v":3.1461122829915087E-3},{"$f":"+SUMIFS('R2建設IOデータ'!N:N,'R2建設IOデータ'!$A:$A,'R2建設io'!$CE29)/'R2建設IOデータ'!N$232","v":4.8062616587802734E-3},{"$f":"+SUMIFS('R2建設IOデータ'!O:O,'R2建設IOデータ'!$A:$A,'R2建設io'!$CE29)/'R2建設IOデータ'!O$232","v":3.6374666877351976E-3},{"$f":"+SUMIFS('R2建設IOデータ'!P:P,'R2建設IOデータ'!$A:$A,'R2建設io'!$CE29)/'R2建設IOデータ'!P$232","v":3.6283057055927401E-3},{"$f":"+SUMIFS('R2建設IOデータ'!Q:Q,'R2建設IOデータ'!$A:$A,'R2建設io'!$CE29)/'R2建設IOデータ'!Q$232","v":4.0542584841914177E-3},{"$f":"+SUMIFS('R2建設IOデータ'!R:R,'R2建設IOデータ'!$A:$A,'R2建設io'!$CE29)/'R2建設IOデータ'!R$232","v":6.4609320194984081E-3},{"$f":"+SUMIFS('R2建設IOデータ'!S:S,'R2建設IOデータ'!$A:$A,'R2建設io'!$CE29)/'R2建設IOデータ'!S$232","v":6.2388115531568115E-3},{"$f":"+SUMIFS('R2建設IOデータ'!T:T,'R2建設IOデータ'!$A:$A,'R2建設io'!$CE29)/'R2建設IOデータ'!T$232","v":6.8357523568004933E-3},{"$f":"+SUMIFS('R2建設IOデータ'!U:U,'R2建設IOデータ'!$A:$A,'R2建設io'!$CE29)/'R2建設IOデータ'!U$232","v":6.8340729681254523E-3},{"$f":"+SUMIFS('R2建設IOデータ'!V:V,'R2建設IOデータ'!$A:$A,'R2建設io'!$CE29)/'R2建設IOデータ'!V$232","v":6.956818440307844E-3},{"$f":"+SUMIFS('R2建設IOデータ'!W:W,'R2建設IOデータ'!$A:$A,'R2建設io'!$CE29)/'R2建設IOデータ'!W$232","v":5.9491368055354325E-3},{"$f":"+SUMIFS('R2建設IOデータ'!X:X,'R2建設IOデータ'!$A:$A,'R2建設io'!$CE29)/'R2建設IOデータ'!X$232","v":5.6174431529428387E-3},{"$f":"+SUMIFS('R2建設IOデータ'!Y:Y,'R2建設IOデータ'!$A:$A,'R2建設io'!$CE29)/'R2建設IOデータ'!Y$232","v":6.0860207697445191E-3},{"$f":"+SUMIFS('R2建設IOデータ'!Z:Z,'R2建設IOデータ'!$A:$A,'R2建設io'!$CE29)/'R2建設IOデータ'!Z$232","v":4.2622381486100364E-3},{"$f":"+SUMIFS('R2建設IOデータ'!AA:AA,'R2建設IOデータ'!$A:$A,'R2建設io'!$CE29)/'R2建設IOデータ'!AA$232","v":1.4103650668574443E-3},{"$f":"+SUMIFS('R2建設IOデータ'!AB:AB,'R2建設IOデータ'!$A:$A,'R2建設io'!$CE29)/'R2建設IOデータ'!AB$232","v":1.3834134577708863E-3},{"$f":"+SUMIFS('R2建設IOデータ'!AC:AC,'R2建設IOデータ'!$A:$A,'R2建設io'!$CE29)/'R2建設IOデータ'!AC$232","v":1.2298060260495277E-3},{"$f":"+SUMIFS('R2建設IOデータ'!AD:AD,'R2建設IOデータ'!$A:$A,'R2建設io'!$CE29)/'R2建設IOデータ'!AD$232","v":1.4028166958724002E-3},{"$f":"+SUMIFS('R2建設IOデータ'!AE:AE,'R2建設IOデータ'!$A:$A,'R2建設io'!$CE29)/'R2建設IOデータ'!AE$232","v":1.4121955361421643E-3},{"$f":"+SUMIFS('R2建設IOデータ'!AF:AF,'R2建設IOデータ'!$A:$A,'R2建設io'!$CE29)/'R2建設IOデータ'!AF$232","v":1.3063651515834046E-3},{"$f":"+SUMIFS('R2建設IOデータ'!AG:AG,'R2建設IOデータ'!$A:$A,'R2建設io'!$CE29)/'R2建設IOデータ'!AG$232","v":1.4447061665760705E-3},{"$f":"+SUMIFS('R2建設IOデータ'!AH:AH,'R2建設IOデータ'!$A:$A,'R2建設io'!$CE29)/'R2建設IOデータ'!AH$232","v":1.7412348484483753E-3},{"$f":"+SUMIFS('R2建設IOデータ'!AI:AI,'R2建設IOデータ'!$A:$A,'R2建設io'!$CE29)/'R2建設IOデータ'!AI$232","v":1.4583938440643576E-3},{"$f":"+SUMIFS('R2建設IOデータ'!AJ:AJ,'R2建設IOデータ'!$A:$A,'R2建設io'!$CE29)/'R2建設IOデータ'!AJ$232","v":1.3649667037697651E-3},{"$f":"+SUMIFS('R2建設IOデータ'!AK:AK,'R2建設IOデータ'!$A:$A,'R2建設io'!$CE29)/'R2建設IOデータ'!AK$232","v":1.4137158154011863E-3},{"$f":"+SUMIFS('R2建設IOデータ'!AL:AL,'R2建設IOデータ'!$A:$A,'R2建設io'!$CE29)/'R2建設IOデータ'!AL$232","v":1.3805039268487414E-3},{"$f":"+SUMIFS('R2建設IOデータ'!AM:AM,'R2建設IOデータ'!$A:$A,'R2建設io'!$CE29)/'R2建設IOデータ'!AM$232","v":1.9124345894665513E-3},{"$f":"+SUMIFS('R2建設IOデータ'!AN:AN,'R2建設IOデータ'!$A:$A,'R2建設io'!$CE29)/'R2建設IOデータ'!AN$232","v":2.350760841495153E-3},{"$f":"+SUMIFS('R2建設IOデータ'!AO:AO,'R2建設IOデータ'!$A:$A,'R2建設io'!$CE29)/'R2建設IOデータ'!AO$232","v":2.621422743661928E-3},{"$f":"+SUMIFS('R2建設IOデータ'!AP:AP,'R2建設IOデータ'!$A:$A,'R2建設io'!$CE29)/'R2建設IOデータ'!AP$232","v":1.9208278992231256E-3},{"$f":"+SUMIFS('R2建設IOデータ'!AQ:AQ,'R2建設IOデータ'!$A:$A,'R2建設io'!$CE29)/'R2建設IOデータ'!AQ$232","v":2.0538750875432562E-3},{"$f":"+SUMIFS('R2建設IOデータ'!AR:AR,'R2建設IOデータ'!$A:$A,'R2建設io'!$CE29)/'R2建設IOデータ'!AR$232","v":2.0417864196198474E-3},{"$f":"+SUMIFS('R2建設IOデータ'!AS:AS,'R2建設IOデータ'!$A:$A,'R2建設io'!$CE29)/'R2建設IOデータ'!AS$232","v":2.1278646028883054E-3},{"$f":"+SUMIFS('R2建設IOデータ'!AT:AT,'R2建設IOデータ'!$A:$A,'R2建設io'!$CE29)/'R2建設IOデータ'!AT$232","v":1.9812227549624727E-3},{"$f":"+SUMIFS('R2建設IOデータ'!AU:AU,'R2建設IOデータ'!$A:$A,'R2建設io'!$CE29)/'R2建設IOデータ'!AU$232","v":1.7981313091078766E-3},{"$f":"+SUMIFS('R2建設IOデータ'!AV:AV,'R2建設IOデータ'!$A:$A,'R2建設io'!$CE29)/'R2建設IOデータ'!AV$232","v":1.9221555358362936E-3},{"$f":"+SUMIFS('R2建設IOデータ'!AW:AW,'R2建設IOデータ'!$A:$A,'R2建設io'!$CE29)/'R2建設IOデータ'!AW$232","v":2.3684316797141941E-3},{"$f":"+SUMIFS('R2建設IOデータ'!AX:AX,'R2建設IOデータ'!$A:$A,'R2建設io'!$CE29)/'R2建設IOデータ'!AX$232","v":1.9738584730740233E-3},{"$f":"+SUMIFS('R2建設IOデータ'!AY:AY,'R2建設IOデータ'!$A:$A,'R2建設io'!$CE29)/'R2建設IOデータ'!AY$232","v":1.7667844522968198E-3},{"$f":"+SUMIFS('R2建設IOデータ'!AZ:AZ,'R2建設IOデータ'!$A:$A,'R2建設io'!$CE29)/'R2建設IOデータ'!AZ$232","v":1.4569825890580607E-3},{"$f":"+SUMIFS('R2建設IOデータ'!BA:BA,'R2建設IOデータ'!$A:$A,'R2建設io'!$CE29)/'R2建設IOデータ'!BA$232","v":1.6798349146262815E-3},{"$f":"+SUMIFS('R2建設IOデータ'!BB:BB,'R2建設IOデータ'!$A:$A,'R2建設io'!$CE29)/'R2建設IOデータ'!BB$232","v":1.603236823797671E-3},{"$f":"+SUMIFS('R2建設IOデータ'!BC:BC,'R2建設IOデータ'!$A:$A,'R2建設io'!$CE29)/'R2建設IOデータ'!BC$232","v":1.5442864184014855E-3},{"$f":"+SUMIFS('R2建設IOデータ'!BD:BD,'R2建設IOデータ'!$A:$A,'R2建設io'!$CE29)/'R2建設IOデータ'!BD$232","v":2.0244471209286833E-3},{"$f":"+SUMIFS('R2建設IOデータ'!BE:BE,'R2建設IOデータ'!$A:$A,'R2建設io'!$CE29)/'R2建設IOデータ'!BE$232","v":1.8357044515832951E-3},{"$f":"+SUMIFS('R2建設IOデータ'!BF:BF,'R2建設IOデータ'!$A:$A,'R2建設io'!$CE29)/'R2建設IOデータ'!BF$232","v":2.532583853233677E-3},{"$f":"+SUMIFS('R2建設IOデータ'!BG:BG,'R2建設IOデータ'!$A:$A,'R2建設io'!$CE29)/'R2建設IOデータ'!BG$232","v":2.4334674487372144E-3},{"$f":"+SUMIFS('R2建設IOデータ'!BH:BH,'R2建設IOデータ'!$A:$A,'R2建設io'!$CE29)/'R2建設IOデータ'!BH$232","v":2.3194442800847305E-3},{"$f":"+SUMIFS('R2建設IOデータ'!BI:BI,'R2建設IOデータ'!$A:$A,'R2建設io'!$CE29)/'R2建設IOデータ'!BI$232","v":2.9503272181096449E-3},{"$f":"+SUMIFS('R2建設IOデータ'!BJ:BJ,'R2建設IOデータ'!$A:$A,'R2建設io'!$CE29)/'R2建設IOデータ'!BJ$232","v":2.7811378886097413E-3},{"$f":"+SUMIFS('R2建設IOデータ'!BK:BK,'R2建設IOデータ'!$A:$A,'R2建設io'!$CE29)/'R2建設IOデータ'!BK$232","v":1.8696571551073485E-3},{"$f":"+SUMIFS('R2建設IOデータ'!BL:BL,'R2建設IOデータ'!$A:$A,'R2建設io'!$CE29)/'R2建設IOデータ'!BL$232","v":6.6786696833540462E-4},{"$f":"+SUMIFS('R2建設IOデータ'!BM:BM,'R2建設IOデータ'!$A:$A,'R2建設io'!$CE29)/'R2建設IOデータ'!BM$232","v":6.1778192501935243E-4},{"$f":"+SUMIFS('R2建設IOデータ'!BN:BN,'R2建設IOデータ'!$A:$A,'R2建設io'!$CE29)/'R2建設IOデータ'!BN$232","v":6.018521147152842E-4},{"$f":"+SUMIFS('R2建設IOデータ'!BO:BO,'R2建設IOデータ'!$A:$A,'R2建設io'!$CE29)/'R2建設IOデータ'!BO$232","v":6.1993106821516724E-4},{"$f":"+SUMIFS('R2建設IOデータ'!BP:BP,'R2建設IOデータ'!$A:$A,'R2建設io'!$CE29)/'R2建設IOデータ'!BP$232","v":8.8284528423031945E-4},{"$f":"+SUMIFS('R2建設IOデータ'!BQ:BQ,'R2建設IOデータ'!$A:$A,'R2建設io'!$CE29)/'R2建設IOデータ'!BQ$232","v":1.7909790714250708E-3},{"$f":"+SUMIFS('R2建設IOデータ'!BR:BR,'R2建設IOデータ'!$A:$A,'R2建設io'!$CE29)/'R2建設IOデータ'!BR$232","v":9.7983291664430314E-4},{"$f":"+SUMIFS('R2建設IOデータ'!BS:BS,'R2建設IOデータ'!$A:$A,'R2建設io'!$CE29)/'R2建設IOデータ'!BS$232","v":9.2430108103039473E-4},{"$f":"+SUMIFS('R2建設IOデータ'!BT:BT,'R2建設IOデータ'!$A:$A,'R2建設io'!$CE29)/'R2建設IOデータ'!BT$232","v":7.596920081983429E-4},{"$f":"+SUMIFS('R2建設IOデータ'!BU:BU,'R2建設IOデータ'!$A:$A,'R2建設io'!$CE29)/'R2建設IOデータ'!BU$232","v":4.1258200793784541E-4},{"$f":"+SUMIFS('R2建設IOデータ'!BV:BV,'R2建設IOデータ'!$A:$A,'R2建設io'!$CE29)/'R2建設IOデータ'!BV$232","v":6.164014636174317E-3},{"$f":"+SUMIFS('R2建設IOデータ'!BW:BW,'R2建設IOデータ'!$A:$A,'R2建設io'!$CE29)/'R2建設IOデータ'!BW$232","v":1.5271702132241014E-3},{"$f":"+SUMIFS('R2建設IOデータ'!BX:BX,'R2建設IOデータ'!$A:$A,'R2建設io'!$CE29)/'R2建設IOデータ'!BX$232","v":3.6097672412688788E-3},{"$f":"+SUMIFS('R2建設IOデータ'!BY:BY,'R2建設IOデータ'!$A:$A,'R2建設io'!$CE29)/'R2建設IOデータ'!BY$232","v":3.495537209905608E-3},{"$f":"+SUMIFS('R2建設IOデータ'!BZ:BZ,'R2建設IOデータ'!$A:$A,'R2建設io'!$CE29)/'R2建設IOデータ'!BZ$232","v":2.5617340151903858E-3},{"$f":"+SUMIFS('R2建設IOデータ'!CA:CA,'R2建設IOデータ'!$A:$A,'R2建設io'!$CE29)/'R2建設IOデータ'!CA$232","v":5.0476095326657498E-3},{"$f":"+SUMIFS('R2建設IOデータ'!CB:CB,'R2建設IOデータ'!$A:$A,'R2建設io'!$CE29)/'R2建設IOデータ'!CB$232","v":7.2506972367666301E-3},{"$f":"+SUMIFS('R2建設IOデータ'!CC:CC,'R2建設IOデータ'!$A:$A,'R2建設io'!$CE29)/'R2建設IOデータ'!CC$232","v":2.8088027912581185E-3},{"$f":"+SUMIFS('R2建設IOデータ'!CD:CD,'R2建設IOデータ'!$A:$A,'R2建設io'!$CE29)/'R2建設IOデータ'!CD$232","v":2.5547150862266304E-3}]
[0,null,"47","水道",0,0,0,0,0,0,0,0,0,0,0,0,0,0,0,0,0,0,0,0,0,0,0,0,0,0,0,0,0,0,0,0,0,0,0,0,0,0,0,0,0,0,0,0,0,0,0,0,0,0,0,0,0,0,0,0,0,0,0,0,0,0,0,0,0,0,0,0,0,0,0,null,null,null,null,null,null,null,"47","水道",{"$f":"+SUMIFS('R2建設IOデータ'!L:L,'R2建設IOデータ'!$A:$A,'R2建設io'!$CE30)/'R2建設IOデータ'!L$232","v":8.604232308231615E-4},{"$f":"+SUMIFS('R2建設IOデータ'!M:M,'R2建設IOデータ'!$A:$A,'R2建設io'!$CE30)/'R2建設IOデータ'!M$232","v":7.4458044840895635E-4},{"$f":"+SUMIFS('R2建設IOデータ'!N:N,'R2建設IOデータ'!$A:$A,'R2建設io'!$CE30)/'R2建設IOデータ'!N$232","v":8.2014255887783349E-4},{"$f":"+SUMIFS('R2建設IOデータ'!O:O,'R2建設IOデータ'!$A:$A,'R2建設io'!$CE30)/'R2建設IOデータ'!O$232","v":9.3539505610363985E-4},{"$f":"+SUMIFS('R2建設IOデータ'!P:P,'R2建設IOデータ'!$A:$A,'R2建設io'!$CE30)/'R2建設IOデータ'!P$232","v":9.3389857879167979E-4},{"$f":"+SUMIFS('R2建設IOデータ'!Q:Q,'R2建設IOデータ'!$A:$A,'R2建設io'!$CE30)/'R2建設IOデータ'!Q$232","v":1.0034794009379255E-3},{"$f":"+SUMIFS('R2建設IOデータ'!R:R,'R2建設IOデータ'!$A:$A,'R2建設io'!$CE30)/'R2建設IOデータ'!R$232","v":6.5697887672426243E-4},{"$f":"+SUMIFS('R2建設IOデータ'!S:S,'R2建設IOデータ'!$A:$A,'R2建設io'!$CE30)/'R2建設IOデータ'!S$232","v":5.4773292008443105E-4},{"$f":"+SUMIFS('R2建設IOデータ'!T:T,'R2建設IOデータ'!$A:$A,'R2建設io'!$CE30)/'R2建設IOデータ'!T$232","v":5.9365774347294189E-4},{"$f":"+SUMIFS('R2建設IOデータ'!U:U,'R2建設IOデータ'!$A:$A,'R2建設io'!$CE30)/'R2建設IOデータ'!U$232","v":5.8401216091599187E-4},{"$f":"+SUMIFS('R2建設IOデータ'!V:V,'R2建設IOデータ'!$A:$A,'R2建設io'!$CE30)/'R2建設IOデータ'!V$232","v":1.2890017818554043E-3},{"$f":"+SUMIFS('R2建設IOデータ'!W:W,'R2建設IOデータ'!$A:$A,'R2建設io'!$CE30)/'R2建設IOデータ'!W$232","v":7.6413480687633991E-4},{"$f":"+SUMIFS('R2建設IOデータ'!X:X,'R2建設IOデータ'!$A:$A,'R2建設io'!$CE30)/'R2建設IOデータ'!X$232","v":4.8374691883107179E-4},{"$f":"+SUMIFS('R2建設IOデータ'!Y:Y,'R2建設IOデータ'!$A:$A,'R2建設io'!$CE30)/'R2建設IOデータ'!Y$232","v":8.7984581108717873E-4},{"$f":"+SUMIFS('R2建設IOデータ'!Z:Z,'R2建設IOデータ'!$A:$A,'R2建設io'!$CE30)/'R2建設IOデータ'!Z$232","v":3.7886561320978106E-4},{"$f":"+SUMIFS('R2建設IOデータ'!AA:AA,'R2建設IOデータ'!$A:$A,'R2建設io'!$CE30)/'R2建設IOデータ'!AA$232","v":6.6557748349246903E-4},{"$f":"+SUMIFS('R2建設IOデータ'!AB:AB,'R2建設IOデータ'!$A:$A,'R2建設io'!$CE30)/'R2建設IOデータ'!AB$232","v":1.4377469168374165E-3},{"$f":"+SUMIFS('R2建設IOデータ'!AC:AC,'R2建設IOデータ'!$A:$A,'R2建設io'!$CE30)/'R2建設IOデータ'!AC$232","v":1.6211079434289228E-3},{"$f":"+SUMIFS('R2建設IOデータ'!AD:AD,'R2建設IOデータ'!$A:$A,'R2建設io'!$CE30)/'R2建設IOデータ'!AD$232","v":1.4145852923142827E-3},{"$f":"+SUMIFS('R2建設IOデータ'!AE:AE,'R2建設IOデータ'!$A:$A,'R2建設io'!$CE30)/'R2建設IOデータ'!AE$232","v":6.131341423250402E-4},{"$f":"+SUMIFS('R2建設IOデータ'!AF:AF,'R2建設IOデータ'!$A:$A,'R2建設io'!$CE30)/'R2建設IOデータ'!AF$232","v":5.6308842740663992E-4},{"$f":"+SUMIFS('R2建設IOデータ'!AG:AG,'R2建設IOデータ'!$A:$A,'R2建設io'!$CE30)/'R2建設IOデータ'!AG$232","v":6.0397414990638403E-4},{"$f":"+SUMIFS('R2建設IOデータ'!AH:AH,'R2建設IOデータ'!$A:$A,'R2建設io'!$CE30)/'R2建設IOデータ'!AH$232","v":7.8475930036060412E-4},{"$f":"+SUMIFS('R2建設IOデータ'!AI:AI,'R2建設IOデータ'!$A:$A,'R2建設io'!$CE30)/'R2建設IOデータ'!AI$232","v":6.3408428002798153E-4},{"$f":"+SUMIFS('R2建設IOデータ'!AJ:AJ,'R2建設IOデータ'!$A:$A,'R2建設io'!$CE30)/'R2建設IOデータ'!AJ$232","v":5.9784062431818437E-4},{"$f":"+SUMIFS('R2建設IOデータ'!AK:AK,'R2建設IOデータ'!$A:$A,'R2建設io'!$CE30)/'R2建設IOデータ'!AK$232","v":6.1305568535517131E-4},{"$f":"+SUMIFS('R2建設IOデータ'!AL:AL,'R2建設IOデータ'!$A:$A,'R2建設io'!$CE30)/'R2建設IOデータ'!AL$232","v":5.9652463887085007E-4},{"$f":"+SUMIFS('R2建設IOデータ'!AM:AM,'R2建設IOデータ'!$A:$A,'R2建設io'!$CE30)/'R2建設IOデータ'!AM$232","v":8.2069043406241763E-4},{"$f":"+SUMIFS('R2建設IOデータ'!AN:AN,'R2建設IOデータ'!$A:$A,'R2建設io'!$CE30)/'R2建設IOデータ'!AN$232","v":1.2790702802615375E-3},{"$f":"+SUMIFS('R2建設IOデータ'!AO:AO,'R2建設IOデータ'!$A:$A,'R2建設io'!$CE30)/'R2建設IOデータ'!AO$232","v":8.2917179133211037E-4},{"$f":"+SUMIFS('R2建設IOデータ'!AP:AP,'R2建設IOデータ'!$A:$A,'R2建設io'!$CE30)/'R2建設IOデータ'!AP$232","v":6.8678829236326383E-4},{"$f":"+SUMIFS('R2建設IOデータ'!AQ:AQ,'R2建設IOデータ'!$A:$A,'R2建設io'!$CE30)/'R2建設IOデータ'!AQ$232","v":5.1101764523812866E-4},{"$f":"+SUMIFS('R2建設IOデータ'!AR:AR,'R2建設IOデータ'!$A:$A,'R2建設io'!$CE30)/'R2建設IOデータ'!AR$232","v":5.071384331536208E-4},{"$f":"+SUMIFS('R2建設IOデータ'!AS:AS,'R2建設IOデータ'!$A:$A,'R2建設io'!$CE30)/'R2建設IOデータ'!AS$232","v":5.3265749931343768E-4},{"$f":"+SUMIFS('R2建設IOデータ'!AT:AT,'R2建設IOデータ'!$A:$A,'R2建設io'!$CE30)/'R2建設IOデータ'!AT$232","v":4.9066219790867491E-4},{"$f":"+SUMIFS('R2建設IOデータ'!AU:AU,'R2建設IOデータ'!$A:$A,'R2建設io'!$CE30)/'R2建設IOデータ'!AU$232","v":4.4384253832409609E-4},{"$f":"+SUMIFS('R2建設IOデータ'!AV:AV,'R2建設IOデータ'!$A:$A,'R2建設io'!$CE30)/'R2建設IOデータ'!AV$232","v":4.7061625213690964E-4},{"$f":"+SUMIFS('R2建設IOデータ'!AW:AW,'R2建設IOデータ'!$A:$A,'R2建設io'!$CE30)/'R2建設IOデータ'!AW$232","v":5.9787690763378671E-4},{"$f":"+SUMIFS('R2建設IOデータ'!AX:AX,'R2建設IOデータ'!$A:$A,'R2建設io'!$CE30)/'R2建設IOデータ'!AX$232","v":5.068359176022331E-4},{"$f":"+SUMIFS('R2建設IOデータ'!AY:AY,'R2建設IOデータ'!$A:$A,'R2建設io'!$CE30)/'R2建設IOデータ'!AY$232","v":4.4169611307420494E-4},{"$f":"+SUMIFS('R2建設IOデータ'!AZ:AZ,'R2建設IOデータ'!$A:$A,'R2建設io'!$CE30)/'R2建設IOデータ'!AZ$232","v":3.6424564726451517E-4},{"$f":"+SUMIFS('R2建設IOデータ'!BA:BA,'R2建設IOデータ'!$A:$A,'R2建設io'!$CE30)/'R2建設IOデータ'!BA$232","v":3.9983291098932258E-4},{"$f":"+SUMIFS('R2建設IOデータ'!BB:BB,'R2建設IOデータ'!$A:$A,'R2建設io'!$CE30)/'R2建設IOデータ'!BB$232","v":3.8233305939366707E-4},{"$f":"+SUMIFS('R2建設IOデータ'!BC:BC,'R2建設IOデータ'!$A:$A,'R2建設io'!$CE30)/'R2建設IOデータ'!BC$232","v":3.6715743376980562E-4},{"$f":"+SUMIFS('R2建設IOデータ'!BD:BD,'R2建設IOデータ'!$A:$A,'R2建設io'!$CE30)/'R2建設IOデータ'!BD$232","v":4.9970530200138378E-4},{"$f":"+SUMIFS('R2建設IOデータ'!BE:BE,'R2建設IOデータ'!$A:$A,'R2建設io'!$CE30)/'R2建設IOデータ'!BE$232","v":5.0481872418540617E-4},{"$f":"+SUMIFS('R2建設IOデータ'!BF:BF,'R2建設IOデータ'!$A:$A,'R2建設io'!$CE30)/'R2建設IOデータ'!BF$232","v":4.9416270306998583E-4},{"$f":"+SUMIFS('R2建設IOデータ'!BG:BG,'R2建設IOデータ'!$A:$A,'R2建設io'!$CE30)/'R2建設IOデータ'!BG$232","v":5.7201027679480341E-4},{"$f":"+SUMIFS('R2建設IOデータ'!BH:BH,'R2建設IOデータ'!$A:$A,'R2建設io'!$CE30)/'R2建設IOデータ'!BH$232","v":5.5619327124480783E-4},{"$f":"+SUMIFS('R2建設IOデータ'!BI:BI,'R2建設IOデータ'!$A:$A,'R2建設io'!$CE30)/'R2建設IOデータ'!BI$232","v":6.4370775667846802E-4},{"$f":"+SUMIFS('R2建設IOデータ'!BJ:BJ,'R2建設IOデータ'!$A:$A,'R2建設io'!$CE30)/'R2建設IOデータ'!BJ$232","v":7.44393784311901E-4},{"$f":"+SUMIFS('R2建設IOデータ'!BK:BK,'R2建設IOデータ'!$A:$A,'R2建設io'!$CE30)/'R2建設IOデータ'!BK$232","v":9.7635827555561975E-4},{"$f":"+SUMIFS('R2建設IOデータ'!BL:BL,'R2建設IOデータ'!$A:$A,'R2建設io'!$CE30)/'R2建設IOデータ'!BL$232","v":3.4610468471722098E-4},{"$f":"+SUMIFS('R2建設IOデータ'!BM:BM,'R2建設IOデータ'!$A:$A,'R2建設io'!$CE30)/'R2建設IOデータ'!BM$232","v":4.4107862413372904E-4},{"$f":"+SUMIFS('R2建設IOデータ'!BN:BN,'R2建設IOデータ'!$A:$A,'R2建設io'!$CE30)/'R2建設IOデータ'!BN$232","v":2.6118110638587806E-4},{"$f":"+SUMIFS('R2建設IOデータ'!BO:BO,'R2建設IOデータ'!$A:$A,'R2建設io'!$CE30)/'R2建設IOデータ'!BO$232","v":3.2987157758238256E-4},{"$f":"+SUMIFS('R2建設IOデータ'!BP:BP,'R2建設IOデータ'!$A:$A,'R2建設io'!$CE30)/'R2建設IOデータ'!BP$232","v":6.6500034396569513E-5},{"$f":"+SUMIFS('R2建設IOデータ'!BQ:BQ,'R2建設IOデータ'!$A:$A,'R2建設io'!$CE30)/'R2建設IOデータ'!BQ$232","v":1.0893761322590325E-3},{"$f":"+SUMIFS('R2建設IOデータ'!BR:BR,'R2建設IOデータ'!$A:$A,'R2建設io'!$CE30)/'R2建設IOデータ'!BR$232","v":5.7666599680212497E-4},{"$f":"+SUMIFS('R2建設IOデータ'!BS:BS,'R2建設IOデータ'!$A:$A,'R2建設io'!$CE30)/'R2建設IOデータ'!BS$232","v":4.7554620835621762E-4},{"$f":"+SUMIFS('R2建設IOデータ'!BT:BT,'R2建設IOデータ'!$A:$A,'R2建設io'!$CE30)/'R2建設IOデータ'!BT$232","v":6.7066560098759961E-4},{"$f":"+SUMIFS('R2建設IOデータ'!BU:BU,'R2建設IOデータ'!$A:$A,'R2建設io'!$CE30)/'R2建設IOデータ'!BU$232","v":2.0338549687076886E-4},{"$f":"+SUMIFS('R2建設IOデータ'!BV:BV,'R2建設IOデータ'!$A:$A,'R2建設io'!$CE30)/'R2建設IOデータ'!BV$232","v":2.8726996559865353E-3},{"$f":"+SUMIFS('R2建設IOデータ'!BW:BW,'R2建設IOデータ'!$A:$A,'R2建設io'!$CE30)/'R2建設IOデータ'!BW$232","v":8.6959258345190162E-5},{"$f":"+SUMIFS('R2建設IOデータ'!BX:BX,'R2建設IOデータ'!$A:$A,'R2建設io'!$CE30)/'R2建設IOデータ'!BX$232","v":1.0300353130564368E-3},{"$f":"+SUMIFS('R2建設IOデータ'!BY:BY,'R2建設IOデータ'!$A:$A,'R2建設io'!$CE30)/'R2建設IOデータ'!BY$232","v":1.1966821401056679E-3},{"$f":"+SUMIFS('R2建設IOデータ'!BZ:BZ,'R2建設IOデータ'!$A:$A,'R2建設io'!$CE30)/'R2建設IOデータ'!BZ$232","v":4.5585260406318557E-4},{"$f":"+SUMIFS('R2建設IOデータ'!CA:CA,'R2建設IOデータ'!$A:$A,'R2建設io'!$CE30)/'R2建設IOデータ'!CA$232","v":6.4247892346354547E-4},{"$f":"+SUMIFS('R2建設IOデータ'!CB:CB,'R2建設IOデータ'!$A:$A,'R2建設io'!$CE30)/'R2建設IOデータ'!CB$232","v":2.7303141874613236E-3},{"$f":"+SUMIFS('R2建設IOデータ'!CC:CC,'R2建設IOデータ'!$A:$A,'R2建設io'!$CE30)/'R2建設IOデータ'!CC$232","v":8.4578563720265093E-4},{"$f":"+SUMIFS('R2建設IOデータ'!CD:CD,'R2建設IOデータ'!$A:$A,'R2建設io'!$CE30)/'R2建設IOデータ'!CD$232","v":6.9763233758428811E-4}]
[0,null,"48","廃棄物処理",0,0,0,0,0,0,0,0,0,0,0,0,0,0,0,0,0,0,0,0,0,0,0,0,0,0,0,0,0,0,0,0,0,0,0,0,0,0,0,0,0,0,0,0,0,0,0,0,0,0,0,0,0,0,0,0,0,0,0,0,0,0,0,0,0,0,0,0,0,0,0,null,null,null,null,null,null,null,"48","廃棄物処理",{"$f":"+SUMIFS('R2建設IOデータ'!L:L,'R2建設IOデータ'!$A:$A,'R2建設io'!$CE31)/'R2建設IOデータ'!L$232","v":2.5830630274174485E-3},{"$f":"+SUMIFS('R2建設IOデータ'!M:M,'R2建設IOデータ'!$A:$A,'R2建設io'!$CE31)/'R2建設IOデータ'!M$232","v":8.5633248778621681E-4},{"$f":"+SUMIFS('R2建設IOデータ'!N:N,'R2建設IOデータ'!$A:$A,'R2建設io'!$CE31)/'R2建設IOデータ'!N$232","v":9.1585975460551608E-4},{"$f":"+SUMIFS('R2建設IOデータ'!O:O,'R2建設IOデータ'!$A:$A,'R2建設io'!$CE31)/'R2建設IOデータ'!O$232","v":8.4256048589787566E-4},{"$f":"+SUMIFS('R2建設IOデータ'!P:P,'R2建設IOデータ'!$A:$A,'R2建設io'!$CE31)/'R2建設IOデータ'!P$232","v":8.3503345509334387E-4},{"$f":"+SUMIFS('R2建設IOデータ'!Q:Q,'R2建設IOデータ'!$A:$A,'R2建設io'!$CE31)/'R2建設IOデータ'!Q$232","v":1.1850133629166457E-3},{"$f":"+SUMIFS('R2建設IOデータ'!R:R,'R2建設IOデータ'!$A:$A,'R2建設io'!$CE31)/'R2建設IOデータ'!R$232","v":1.0196299883911725E-3},{"$f":"+SUMIFS('R2建設IOデータ'!S:S,'R2建設IOデータ'!$A:$A,'R2建設io'!$CE31)/'R2建設IOデータ'!S$232","v":8.1491971036951928E-4},{"$f":"+SUMIFS('R2建設IOデータ'!T:T,'R2建設IOデータ'!$A:$A,'R2建設io'!$CE31)/'R2建設IOデータ'!T$232","v":9.4897059124835923E-4},{"$f":"+SUMIFS('R2建設IOデータ'!U:U,'R2建設IOデータ'!$A:$A,'R2建設io'!$CE31)/'R2建設IOデータ'!U$232","v":9.4293904054243449E-4},{"$f":"+SUMIFS('R2建設IOデータ'!V:V,'R2建設IOデータ'!$A:$A,'R2建設io'!$CE31)/'R2建設IOデータ'!V$232","v":1.3837813246388899E-3},{"$f":"+SUMIFS('R2建設IOデータ'!W:W,'R2建設IOデータ'!$A:$A,'R2建設io'!$CE31)/'R2建設IOデータ'!W$232","v":1.151561077791305E-3},{"$f":"+SUMIFS('R2建設IOデータ'!X:X,'R2建設IOデータ'!$A:$A,'R2建設io'!$CE31)/'R2建設IOデータ'!X$232","v":5.0956487236419076E-4},{"$f":"+SUMIFS('R2建設IOデータ'!Y:Y,'R2建設IOデータ'!$A:$A,'R2建設io'!$CE31)/'R2建設IOデータ'!Y$232","v":1.4165012866833738E-3},{"$f":"+SUMIFS('R2建設IOデータ'!Z:Z,'R2建設IOデータ'!$A:$A,'R2建設io'!$CE31)/'R2建設IOデータ'!Z$232","v":3.1572134434148418E-4},{"$f":"+SUMIFS('R2建設IOデータ'!AA:AA,'R2建設IOデータ'!$A:$A,'R2建設io'!$CE31)/'R2建設IOデータ'!AA$232","v":7.9409454150708913E-4},{"$f":"+SUMIFS('R2建設IOデータ'!AB:AB,'R2建設IOデータ'!$A:$A,'R2建設io'!$CE31)/'R2建設IOデータ'!AB$232","v":7.3872606846224812E-4},{"$f":"+SUMIFS('R2建設IOデータ'!AC:AC,'R2建設IOデータ'!$A:$A,'R2建設io'!$CE31)/'R2建設IOデータ'!AC$232","v":7.2670356084744811E-4},{"$f":"+SUMIFS('R2建設IOデータ'!AD:AD,'R2建設IOデータ'!$A:$A,'R2建設io'!$CE31)/'R2建設IOデータ'!AD$232","v":7.4024471619441251E-4},{"$f":"+SUMIFS('R2建設IOデータ'!AE:AE,'R2建設IOデータ'!$A:$A,'R2建設io'!$CE31)/'R2建設IOデータ'!AE$232","v":7.9785499562041973E-4},{"$f":"+SUMIFS('R2建設IOデータ'!AF:AF,'R2建設IOデータ'!$A:$A,'R2建設io'!$CE31)/'R2建設IOデータ'!AF$232","v":6.8321395858672313E-4},{"$f":"+SUMIFS('R2建設IOデータ'!AG:AG,'R2建設IOデータ'!$A:$A,'R2建設io'!$CE31)/'R2建設IOデータ'!AG$232","v":5.5324032131424776E-4},{"$f":"+SUMIFS('R2建設IOデータ'!AH:AH,'R2建設IOデータ'!$A:$A,'R2建設io'!$CE31)/'R2建設IOデータ'!AH$232","v":1.5486558790347301E-3},{"$f":"+SUMIFS('R2建設IOデータ'!AI:AI,'R2建設IOデータ'!$A:$A,'R2建設io'!$CE31)/'R2建設IOデータ'!AI$232","v":6.9135640854663788E-4},{"$f":"+SUMIFS('R2建設IOデータ'!AJ:AJ,'R2建設IOデータ'!$A:$A,'R2建設io'!$CE31)/'R2建設IOデータ'!AJ$232","v":7.0631479945220538E-4},{"$f":"+SUMIFS('R2建設IOデータ'!AK:AK,'R2建設IOデータ'!$A:$A,'R2建設io'!$CE31)/'R2建設IOデータ'!AK$232","v":8.19717573635982E-4},{"$f":"+SUMIFS('R2建設IOデータ'!AL:AL,'R2建設IOデータ'!$A:$A,'R2建設io'!$CE31)/'R2建設IOデータ'!AL$232","v":7.645815083541774E-4},{"$f":"+SUMIFS('R2建設IOデータ'!AM:AM,'R2建設IOデータ'!$A:$A,'R2建設io'!$CE31)/'R2建設IOデータ'!AM$232","v":1.0164514550314347E-3},{"$f":"+SUMIFS('R2建設IOデータ'!AN:AN,'R2建設IOデータ'!$A:$A,'R2建設io'!$CE31)/'R2建設IOデータ'!AN$232","v":7.1593045723013812E-4},{"$f":"+SUMIFS('R2建設IOデータ'!AO:AO,'R2建設IOデータ'!$A:$A,'R2建設io'!$CE31)/'R2建設IOデータ'!AO$232","v":5.7803790721025206E-3},{"$f":"+SUMIFS('R2建設IOデータ'!AP:AP,'R2建設IOデータ'!$A:$A,'R2建設io'!$CE31)/'R2建設IOデータ'!AP$232","v":5.2076653019435667E-3},{"$f":"+SUMIFS('R2建設IOデータ'!AQ:AQ,'R2建設IOデータ'!$A:$A,'R2建設io'!$CE31)/'R2建設IOデータ'!AQ$232","v":5.1575085531641767E-3},{"$f":"+SUMIFS('R2建設IOデータ'!AR:AR,'R2建設IOデータ'!$A:$A,'R2建設io'!$CE31)/'R2建設IOデータ'!AR$232","v":4.9558990631257604E-3},{"$f":"+SUMIFS('R2建設IOデータ'!AS:AS,'R2建設IOデータ'!$A:$A,'R2建設io'!$CE31)/'R2建設IOデータ'!AS$232","v":5.9962258748590975E-3},{"$f":"+SUMIFS('R2建設IOデータ'!AT:AT,'R2建設IOデータ'!$A:$A,'R2建設io'!$CE31)/'R2建設IOデータ'!AT$232","v":4.3308291159257807E-3},{"$f":"+SUMIFS('R2建設IOデータ'!AU:AU,'R2建設IOデータ'!$A:$A,'R2建設io'!$CE31)/'R2建設IOデータ'!AU$232","v":4.3132390262777542E-3},{"$f":"+SUMIFS('R2建設IOデータ'!AV:AV,'R2建設IOデータ'!$A:$A,'R2建設io'!$CE31)/'R2建設IOデータ'!AV$232","v":2.3389060723671713E-3},{"$f":"+SUMIFS('R2建設IOデータ'!AW:AW,'R2建設IOデータ'!$A:$A,'R2建設io'!$CE31)/'R2建設IOデータ'!AW$232","v":5.9903070517483446E-3},{"$f":"+SUMIFS('R2建設IOデータ'!AX:AX,'R2建設IOデータ'!$A:$A,'R2建設io'!$CE31)/'R2建設IOデータ'!AX$232","v":1.7680678090425641E-2},{"$f":"+SUMIFS('R2建設IOデータ'!AY:AY,'R2建設IOデータ'!$A:$A,'R2建設io'!$CE31)/'R2建設IOデータ'!AY$232","v":1.9986749116607774E-2},{"$f":"+SUMIFS('R2建設IOデータ'!AZ:AZ,'R2建設IOデータ'!$A:$A,'R2建設io'!$CE31)/'R2建設IOデータ'!AZ$232","v":3.2782108253806368E-3},{"$f":"+SUMIFS('R2建設IOデータ'!BA:BA,'R2建設IOデータ'!$A:$A,'R2建設io'!$CE31)/'R2建設IOデータ'!BA$232","v":5.8141251038715811E-4},{"$f":"+SUMIFS('R2建設IOデータ'!BB:BB,'R2建設IOデータ'!$A:$A,'R2建設io'!$CE31)/'R2建設IOデータ'!BB$232","v":1.6160469520763246E-4},{"$f":"+SUMIFS('R2建設IOデータ'!BC:BC,'R2建設IOデータ'!$A:$A,'R2建設io'!$CE31)/'R2建設IOデータ'!BC$232","v":0},{"$f":"+SUMIFS('R2建設IOデータ'!BD:BD,'R2建設IOデータ'!$A:$A,'R2建設io'!$CE31)/'R2建設IOデータ'!BD$232","v":7.3033851830971478E-4},{"$f":"+SUMIFS('R2建設IOデータ'!BE:BE,'R2建設IOデータ'!$A:$A,'R2建設io'!$CE31)/'R2建設IOデータ'!BE$232","v":2.6158788435061953E-3},{"$f":"+SUMIFS('R2建設IOデータ'!BF:BF,'R2建設IOデータ'!$A:$A,'R2建設io'!$CE31)/'R2建設IOデータ'!BF$232","v":3.0885168941874111E-3},{"$f":"+SUMIFS('R2建設IOデータ'!BG:BG,'R2建設IOデータ'!$A:$A,'R2建設io'!$CE31)/'R2建設IOデータ'!BG$232","v":4.7118134664792281E-3},{"$f":"+SUMIFS('R2建設IOデータ'!BH:BH,'R2建設IOデータ'!$A:$A,'R2建設io'!$CE31)/'R2建設IOデータ'!BH$232","v":4.7690614534395227E-3},{"$f":"+SUMIFS('R2建設IOデータ'!BI:BI,'R2建設IOデータ'!$A:$A,'R2建設io'!$CE31)/'R2建設IOデータ'!BI$232","v":4.4523119836927371E-3},{"$f":"+SUMIFS('R2建設IOデータ'!BJ:BJ,'R2建設IOデータ'!$A:$A,'R2建設io'!$CE31)/'R2建設IOデータ'!BJ$232","v":1.7286477880131924E-2},{"$f":"+SUMIFS('R2建設IOデータ'!BK:BK,'R2建設IOデータ'!$A:$A,'R2建設io'!$CE31)/'R2建設IOデータ'!BK$232","v":4.8044771969128165E-3},{"$f":"+SUMIFS('R2建設IOデータ'!BL:BL,'R2建設IOデータ'!$A:$A,'R2建設io'!$CE31)/'R2建設IOデータ'!BL$232","v":6.7291248419956871E-3},{"$f":"+SUMIFS('R2建設IOデータ'!BM:BM,'R2建設IOデータ'!$A:$A,'R2建設io'!$CE31)/'R2建設IOデータ'!BM$232","v":9.3625564346167204E-3},{"$f":"+SUMIFS('R2建設IOデータ'!BN:BN,'R2建設IOデータ'!$A:$A,'R2建設io'!$CE31)/'R2建設IOデータ'!BN$232","v":3.7473810916234675E-4},{"$f":"+SUMIFS('R2建設IOデータ'!BO:BO,'R2建設IOデータ'!$A:$A,'R2建設io'!$CE31)/'R2建設IOデータ'!BO$232","v":5.0049480736637361E-4},{"$f":"+SUMIFS('R2建設IOデータ'!BP:BP,'R2建設IOデータ'!$A:$A,'R2建設io'!$CE31)/'R2建設IOデータ'!BP$232","v":2.9214153041803299E-3},{"$f":"+SUMIFS('R2建設IOデータ'!BQ:BQ,'R2建設IOデータ'!$A:$A,'R2建設io'!$CE31)/'R2建設IOデータ'!BQ$232","v":5.3316664531477985E-3},{"$f":"+SUMIFS('R2建設IOデータ'!BR:BR,'R2建設IOデータ'!$A:$A,'R2建設io'!$CE31)/'R2建設IOデータ'!BR$232","v":1.9696513916747905E-3},{"$f":"+SUMIFS('R2建設IOデータ'!BS:BS,'R2建設IOデータ'!$A:$A,'R2建設io'!$CE31)/'R2建設IOデータ'!BS$232","v":2.3777310417810878E-3},{"$f":"+SUMIFS('R2建設IOデータ'!BT:BT,'R2建設IOデータ'!$A:$A,'R2建設io'!$CE31)/'R2建設IOデータ'!BT$232","v":6.9480164916473448E-3},{"$f":"+SUMIFS('R2建設IOデータ'!BU:BU,'R2建設IOデータ'!$A:$A,'R2建設io'!$CE31)/'R2建設IOデータ'!BU$232","v":4.6313783144572226E-3},{"$f":"+SUMIFS('R2建設IOデータ'!BV:BV,'R2建設IOデータ'!$A:$A,'R2建設io'!$CE31)/'R2建設IOデータ'!BV$232","v":1.5573258161798663E-3},{"$f":"+SUMIFS('R2建設IOデータ'!BW:BW,'R2建設IOデータ'!$A:$A,'R2建設io'!$CE31)/'R2建設IOデータ'!BW$232","v":7.4876062352272786E-3},{"$f":"+SUMIFS('R2建設IOデータ'!BX:BX,'R2建設IOデータ'!$A:$A,'R2建設io'!$CE31)/'R2建設IOデータ'!BX$232","v":6.5883189362528878E-3},{"$f":"+SUMIFS('R2建設IOデータ'!BY:BY,'R2建設IOデータ'!$A:$A,'R2建設io'!$CE31)/'R2建設IOデータ'!BY$232","v":9.4528764041135627E-3},{"$f":"+SUMIFS('R2建設IOデータ'!BZ:BZ,'R2建設IOデータ'!$A:$A,'R2建設io'!$CE31)/'R2建設IOデータ'!BZ$232","v":5.3312770882840074E-3},{"$f":"+SUMIFS('R2建設IOデータ'!CA:CA,'R2建設IOデータ'!$A:$A,'R2建設io'!$CE31)/'R2建設IOデータ'!CA$232","v":6.4878075022479081E-3},{"$f":"+SUMIFS('R2建設IOデータ'!CB:CB,'R2建設IOデータ'!$A:$A,'R2建設io'!$CE31)/'R2建設IOデータ'!CB$232","v":6.6580106641197859E-3},{"$f":"+SUMIFS('R2建設IOデータ'!CC:CC,'R2建設IOデータ'!$A:$A,'R2建設io'!$CE31)/'R2建設IOデータ'!CC$232","v":5.9089133557993423E-3},{"$f":"+SUMIFS('R2建設IOデータ'!CD:CD,'R2建設IOデータ'!$A:$A,'R2建設io'!$CE31)/'R2建設IOデータ'!CD$232","v":6.2296387645221982E-3}]
[0,null,"51","商業",0,0,0,0,0,0,0,0,0,0,0,0,0,0,0,0,0,0,0,0,0,0,0,0,0,0,0,0,0,0,0,0,0,0,0,0,0,0,0,0,0,0,0,0,0,0,0,0,0,0,0,0,0,0,0,0,0,0,0,0,0,0,0,0,0,0,0,0,0,0,0,null,null,null,null,null,null,null,"51","商業",{"$f":"+SUMIFS('R2建設IOデータ'!L:L,'R2建設IOデータ'!$A:$A,'R2建設io'!$CE32)/'R2建設IOデータ'!L$232","v":4.8541691482332283E-2},{"$f":"+SUMIFS('R2建設IOデータ'!M:M,'R2建設IOデータ'!$A:$A,'R2建設io'!$CE32)/'R2建設IOデータ'!M$232","v":5.3389894159123728E-2},{"$f":"+SUMIFS('R2建設IOデータ'!N:N,'R2建設IOデータ'!$A:$A,'R2建設io'!$CE32)/'R2建設IOデータ'!N$232","v":6.0377784204120419E-2},{"$f":"+SUMIFS('R2建設IOデータ'!O:O,'R2建設IOデータ'!$A:$A,'R2建設io'!$CE32)/'R2建設IOデータ'!O$232","v":6.4338478313421432E-2},{"$f":"+SUMIFS('R2建設IOデータ'!P:P,'R2建設IOデータ'!$A:$A,'R2建設io'!$CE32)/'R2建設IOデータ'!P$232","v":6.4140744035423858E-2},{"$f":"+SUMIFS('R2建設IOデータ'!Q:Q,'R2建設IOデータ'!$A:$A,'R2建設io'!$CE32)/'R2建設IOデータ'!Q$232","v":7.3334678029347997E-2},{"$f":"+SUMIFS('R2建設IOデータ'!R:R,'R2建設IOデータ'!$A:$A,'R2建設io'!$CE32)/'R2建設IOデータ'!R$232","v":5.4770604747597436E-2},{"$f":"+SUMIFS('R2建設IOデータ'!S:S,'R2建設IOデータ'!$A:$A,'R2建設io'!$CE32)/'R2建設IOデータ'!S$232","v":4.7652764047345496E-2},{"$f":"+SUMIFS('R2建設IOデータ'!T:T,'R2建設IOデータ'!$A:$A,'R2建設io'!$CE32)/'R2建設IOデータ'!T$232","v":5.039217979763766E-2},{"$f":"+SUMIFS('R2建設IOデータ'!U:U,'R2建設IOデータ'!$A:$A,'R2建設io'!$CE32)/'R2建設IOデータ'!U$232","v":4.9994701555586468E-2},{"$f":"+SUMIFS('R2建設IOデータ'!V:V,'R2建設IOデータ'!$A:$A,'R2建設io'!$CE32)/'R2建設IOデータ'!V$232","v":7.9046138681427E-2},{"$f":"+SUMIFS('R2建設IOデータ'!W:W,'R2建設IOデータ'!$A:$A,'R2建設io'!$CE32)/'R2建設IOデータ'!W$232","v":6.2140633354623255E-2},{"$f":"+SUMIFS('R2建設IOデータ'!X:X,'R2建設IOデータ'!$A:$A,'R2建設io'!$CE32)/'R2建設IOデータ'!X$232","v":4.1806060968417852E-2},{"$f":"+SUMIFS('R2建設IOデータ'!Y:Y,'R2建設IOデータ'!$A:$A,'R2建設io'!$CE32)/'R2建設IOデータ'!Y$232","v":7.0532343165661676E-2},{"$f":"+SUMIFS('R2建設IOデータ'!Z:Z,'R2建設IOデータ'!$A:$A,'R2建設io'!$CE32)/'R2建設IOデータ'!Z$232","v":3.6592103809178017E-2},{"$f":"+SUMIFS('R2建設IOデータ'!AA:AA,'R2建設IOデータ'!$A:$A,'R2建設io'!$CE32)/'R2建設IOデータ'!AA$232","v":4.6083798172133913E-2},{"$f":"+SUMIFS('R2建設IOデータ'!AB:AB,'R2建設IOデータ'!$A:$A,'R2建設io'!$CE32)/'R2建設IOデータ'!AB$232","v":6.1649668304681139E-2},{"$f":"+SUMIFS('R2建設IOデータ'!AC:AC,'R2建設IOデータ'!$A:$A,'R2建設io'!$CE32)/'R2建設IOデータ'!AC$232","v":5.4102148433860658E-2},{"$f":"+SUMIFS('R2建設IOデータ'!AD:AD,'R2建設IOデータ'!$A:$A,'R2建設io'!$CE32)/'R2建設IOデータ'!AD$232","v":6.2603048772594233E-2},{"$f":"+SUMIFS('R2建設IOデータ'!AE:AE,'R2建設IOデータ'!$A:$A,'R2建設io'!$CE32)/'R2建設IOデータ'!AE$232","v":4.5026612789396299E-2},{"$f":"+SUMIFS('R2建設IOデータ'!AF:AF,'R2建設IOデータ'!$A:$A,'R2建設io'!$CE32)/'R2建設IOデータ'!AF$232","v":4.2486898809255672E-2},{"$f":"+SUMIFS('R2建設IOデータ'!AG:AG,'R2建設IOデータ'!$A:$A,'R2建設io'!$CE32)/'R2建設IOデータ'!AG$232","v":4.422781904934469E-2},{"$f":"+SUMIFS('R2建設IOデータ'!AH:AH,'R2建設IOデータ'!$A:$A,'R2建設io'!$CE32)/'R2建設IOデータ'!AH$232","v":4.2394655291668873E-2},{"$f":"+SUMIFS('R2建設IOデータ'!AI:AI,'R2建設IOデータ'!$A:$A,'R2建設io'!$CE32)/'R2建設IOデータ'!AI$232","v":4.9861524174974532E-2},{"$f":"+SUMIFS('R2建設IOデータ'!AJ:AJ,'R2建設IOデータ'!$A:$A,'R2建設io'!$CE32)/'R2建設IOデータ'!AJ$232","v":5.1926258927034272E-2},{"$f":"+SUMIFS('R2建設IOデータ'!AK:AK,'R2建設IOデータ'!$A:$A,'R2建設io'!$CE32)/'R2建設IOデータ'!AK$232","v":4.1617991810744243E-2},{"$f":"+SUMIFS('R2建設IOデータ'!AL:AL,'R2建設IOデータ'!$A:$A,'R2建設io'!$CE32)/'R2建設IOデータ'!AL$232","v":4.4685961105906898E-2},{"$f":"+SUMIFS('R2建設IOデータ'!AM:AM,'R2建設IOデータ'!$A:$A,'R2建設io'!$CE32)/'R2建設IOデータ'!AM$232","v":3.6818130482249745E-2},{"$f":"+SUMIFS('R2建設IOデータ'!AN:AN,'R2建設IOデータ'!$A:$A,'R2建設io'!$CE32)/'R2建設IOデータ'!AN$232","v":6.1576879709472385E-2},{"$f":"+SUMIFS('R2建設IOデータ'!AO:AO,'R2建設IOデータ'!$A:$A,'R2建設io'!$CE32)/'R2建設IOデータ'!AO$232","v":3.604348889806501E-2},{"$f":"+SUMIFS('R2建設IOデータ'!AP:AP,'R2建設IOデータ'!$A:$A,'R2建設io'!$CE32)/'R2建設IOデータ'!AP$232","v":3.7938923817274664E-2},{"$f":"+SUMIFS('R2建設IOデータ'!AQ:AQ,'R2建設IOデータ'!$A:$A,'R2建設io'!$CE32)/'R2建設IOデータ'!AQ$232","v":3.7377990945031032E-2},{"$f":"+SUMIFS('R2建設IOデータ'!AR:AR,'R2建設IOデータ'!$A:$A,'R2建設io'!$CE32)/'R2建設IOデータ'!AR$232","v":3.7294867573455161E-2},{"$f":"+SUMIFS('R2建設IOデータ'!AS:AS,'R2建設IOデータ'!$A:$A,'R2建設io'!$CE32)/'R2建設IOデータ'!AS$232","v":3.4419800053478472E-2},{"$f":"+SUMIFS('R2建設IOデータ'!AT:AT,'R2建設IOデータ'!$A:$A,'R2建設io'!$CE32)/'R2建設IOデータ'!AT$232","v":4.2135035809053464E-2},{"$f":"+SUMIFS('R2建設IOデータ'!AU:AU,'R2建設IOデータ'!$A:$A,'R2建設io'!$CE32)/'R2建設IOデータ'!AU$232","v":4.1129408551366237E-2},{"$f":"+SUMIFS('R2建設IOデータ'!AV:AV,'R2建設IOデータ'!$A:$A,'R2建設io'!$CE32)/'R2建設IOデータ'!AV$232","v":3.1108868281315118E-2},{"$f":"+SUMIFS('R2建設IOデータ'!AW:AW,'R2建設IOデータ'!$A:$A,'R2建設io'!$CE32)/'R2建設IOデータ'!AW$232","v":2.4079230228236888E-2},{"$f":"+SUMIFS('R2建設IOデータ'!AX:AX,'R2建設IOデータ'!$A:$A,'R2建設io'!$CE32)/'R2建設IOデータ'!AX$232","v":4.8202897369547054E-2},{"$f":"+SUMIFS('R2建設IOデータ'!AY:AY,'R2建設IOデータ'!$A:$A,'R2建設io'!$CE32)/'R2建設IOデータ'!AY$232","v":2.771643109540636E-2},{"$f":"+SUMIFS('R2建設IOデータ'!AZ:AZ,'R2建設IOデータ'!$A:$A,'R2建設io'!$CE32)/'R2建設IOデータ'!AZ$232","v":3.3729146936694106E-2},{"$f":"+SUMIFS('R2建設IOデータ'!BA:BA,'R2建設IOデータ'!$A:$A,'R2建設io'!$CE32)/'R2建設IOデータ'!BA$232","v":4.9384284151500001E-2},{"$f":"+SUMIFS('R2建設IOデータ'!BB:BB,'R2建設IOデータ'!$A:$A,'R2建設io'!$CE32)/'R2建設IOデータ'!BB$232","v":5.0351687290973196E-2},{"$f":"+SUMIFS('R2建設IOデータ'!BC:BC,'R2建設IOデータ'!$A:$A,'R2建設io'!$CE32)/'R2建設IOデータ'!BC$232","v":5.1837066656875805E-2},{"$f":"+SUMIFS('R2建設IOデータ'!BD:BD,'R2建設IOデータ'!$A:$A,'R2建設io'!$CE32)/'R2建設IOデータ'!BD$232","v":4.4755656920277782E-2},{"$f":"+SUMIFS('R2建設IOデータ'!BE:BE,'R2建設IOデータ'!$A:$A,'R2建設io'!$CE32)/'R2建設IOデータ'!BE$232","v":3.1895364846259752E-2},{"$f":"+SUMIFS('R2建設IOデータ'!BF:BF,'R2建設IOデータ'!$A:$A,'R2建設io'!$CE32)/'R2建設IOデータ'!BF$232","v":1.9704737784915684E-2},{"$f":"+SUMIFS('R2建設IOデータ'!BG:BG,'R2建設IOデータ'!$A:$A,'R2建設io'!$CE32)/'R2建設IOデータ'!BG$232","v":3.9866207765766638E-2},{"$f":"+SUMIFS('R2建設IOデータ'!BH:BH,'R2建設IOデータ'!$A:$A,'R2建設io'!$CE32)/'R2建設IOデータ'!BH$232","v":4.0424600310048166E-2},{"$f":"+SUMIFS('R2建設IOデータ'!BI:BI,'R2建設IOデータ'!$A:$A,'R2建設io'!$CE32)/'R2建設IOデータ'!BI$232","v":3.7335049887351146E-2},{"$f":"+SUMIFS('R2建設IOデータ'!BJ:BJ,'R2建設IOデータ'!$A:$A,'R2建設io'!$CE32)/'R2建設IOデータ'!BJ$232","v":4.2378751692978917E-2},{"$f":"+SUMIFS('R2建設IOデータ'!BK:BK,'R2建設IOデータ'!$A:$A,'R2建設io'!$CE32)/'R2建設IOデータ'!BK$232","v":3.8207322161789854E-2},{"$f":"+SUMIFS('R2建設IOデータ'!BL:BL,'R2建設IOデータ'!$A:$A,'R2建設io'!$CE32)/'R2建設IOデータ'!BL$232","v":3.6905293011694977E-2},{"$f":"+SUMIFS('R2建設IOデータ'!BM:BM,'R2建設IOデータ'!$A:$A,'R2建設io'!$CE32)/'R2建設IOデータ'!BM$232","v":3.326779453212024E-2},{"$f":"+SUMIFS('R2建設IOデータ'!BN:BN,'R2建設IOデータ'!$A:$A,'R2建設io'!$CE32)/'R2建設IOデータ'!BN$232","v":4.1045178653554615E-2},{"$f":"+SUMIFS('R2建設IOデータ'!BO:BO,'R2建設IOデータ'!$A:$A,'R2建設io'!$CE32)/'R2建設IOデータ'!BO$232","v":4.1984689408847385E-2},{"$f":"+SUMIFS('R2建設IOデータ'!BP:BP,'R2建設IOデータ'!$A:$A,'R2建設io'!$CE32)/'R2建設IOデータ'!BP$232","v":4.5458506271641178E-2},{"$f":"+SUMIFS('R2建設IOデータ'!BQ:BQ,'R2建設IOデータ'!$A:$A,'R2建設io'!$CE32)/'R2建設IOデータ'!BQ$232","v":4.7181078043869097E-2},{"$f":"+SUMIFS('R2建設IOデータ'!BR:BR,'R2建設IOデータ'!$A:$A,'R2建設io'!$CE32)/'R2建設IOデータ'!BR$232","v":3.7502012714112215E-2},{"$f":"+SUMIFS('R2建設IOデータ'!BS:BS,'R2建設IOデータ'!$A:$A,'R2建設io'!$CE32)/'R2建設IOデータ'!BS$232","v":1.6496764946216394E-2},{"$f":"+SUMIFS('R2建設IOデータ'!BT:BT,'R2建設IOデータ'!$A:$A,'R2建設io'!$CE32)/'R2建設IOデータ'!BT$232","v":3.1428300109997073E-2},{"$f":"+SUMIFS('R2建設IOデータ'!BU:BU,'R2建設IOデータ'!$A:$A,'R2建設io'!$CE32)/'R2建設IOデータ'!BU$232","v":4.9614439208074984E-2},{"$f":"+SUMIFS('R2建設IOデータ'!BV:BV,'R2建設IOデータ'!$A:$A,'R2建設io'!$CE32)/'R2建設IOデータ'!BV$232","v":3.6071007144304189E-2},{"$f":"+SUMIFS('R2建設IOデータ'!BW:BW,'R2建設IOデータ'!$A:$A,'R2建設io'!$CE32)/'R2建設IOデータ'!BW$232","v":3.9332914824648728E-2},{"$f":"+SUMIFS('R2建設IOデータ'!BX:BX,'R2建設IOデータ'!$A:$A,'R2建設io'!$CE32)/'R2建設IOデータ'!BX$232","v":3.3369557327138956E-2},{"$f":"+SUMIFS('R2建設IOデータ'!BY:BY,'R2建設IOデータ'!$A:$A,'R2建設io'!$CE32)/'R2建設IOデータ'!BY$232","v":3.2584168599217075E-2},{"$f":"+SUMIFS('R2建設IOデータ'!BZ:BZ,'R2建設IOデータ'!$A:$A,'R2建設io'!$CE32)/'R2建設IOデータ'!BZ$232","v":2.2950664636415031E-2},{"$f":"+SUMIFS('R2建設IOデータ'!CA:CA,'R2建設IOデータ'!$A:$A,'R2建設io'!$CE32)/'R2建設IOデータ'!CA$232","v":2.621406229586308E-2},{"$f":"+SUMIFS('R2建設IOデータ'!CB:CB,'R2建設IOデータ'!$A:$A,'R2建設io'!$CE32)/'R2建設IOデータ'!CB$232","v":3.7011475090209862E-2},{"$f":"+SUMIFS('R2建設IOデータ'!CC:CC,'R2建設IOデータ'!$A:$A,'R2建設io'!$CE32)/'R2建設IOデータ'!CC$232","v":4.3300583277609689E-2},{"$f":"+SUMIFS('R2建設IOデータ'!CD:CD,'R2建設IOデータ'!$A:$A,'R2建設io'!$CE32)/'R2建設IOデータ'!CD$232","v":4.0572407332987906E-2}]
[0,null,"53","金融・保険",0,0,0,0,0,0,0,0,0,0,0,0,0,0,0,0,0,0,0,0,0,0,0,0,0,0,0,0,0,0,0,0,0,0,0,0,0,0,0,0,0,0,0,0,0,0,0,0,0,0,0,0,0,0,0,0,0,0,0,0,0,0,0,0,0,0,0,0,0,0,0,null,null,null,null,null,null,null,"53","金融・保険",{"$f":"+SUMIFS('R2建設IOデータ'!L:L,'R2建設IOデータ'!$A:$A,'R2建設io'!$CE33)/'R2建設IOデータ'!L$232","v":1.1133699790318244E-2},{"$f":"+SUMIFS('R2建設IOデータ'!M:M,'R2建設IOデータ'!$A:$A,'R2建設io'!$CE33)/'R2建設IOデータ'!M$232","v":1.0249448744082502E-2},{"$f":"+SUMIFS('R2建設IOデータ'!N:N,'R2建設IOデータ'!$A:$A,'R2建設io'!$CE33)/'R2建設IOデータ'!N$232","v":9.5578640955646579E-3},{"$f":"+SUMIFS('R2建設IOデータ'!O:O,'R2建設IOデータ'!$A:$A,'R2建設io'!$CE33)/'R2建設IOデータ'!O$232","v":1.0480220434385535E-2},{"$f":"+SUMIFS('R2建設IOデータ'!P:P,'R2建設IOデータ'!$A:$A,'R2建設io'!$CE33)/'R2建設IOデータ'!P$232","v":1.0507633617821791E-2},{"$f":"+SUMIFS('R2建設IOデータ'!Q:Q,'R2建設IOデータ'!$A:$A,'R2建設io'!$CE33)/'R2建設IOデータ'!Q$232","v":9.2330190106399077E-3},{"$f":"+SUMIFS('R2建設IOデータ'!R:R,'R2建設IOデータ'!$A:$A,'R2建設io'!$CE33)/'R2建設IOデータ'!R$232","v":8.2520784499413267E-3},{"$f":"+SUMIFS('R2建設IOデータ'!S:S,'R2建設IOデータ'!$A:$A,'R2建設io'!$CE33)/'R2建設IOデータ'!S$232","v":8.2293531407807204E-3},{"$f":"+SUMIFS('R2建設IOデータ'!T:T,'R2建設IOデータ'!$A:$A,'R2建設io'!$CE33)/'R2建設IOデータ'!T$232","v":8.3252134405772983E-3},{"$f":"+SUMIFS('R2建設IOデータ'!U:U,'R2建設IOデータ'!$A:$A,'R2建設io'!$CE33)/'R2建設IOデータ'!U$232","v":8.3244741063838237E-3},{"$f":"+SUMIFS('R2建設IOデータ'!V:V,'R2建設IOデータ'!$A:$A,'R2建設io'!$CE33)/'R2建設IOデータ'!V$232","v":8.3785115820601275E-3},{"$f":"+SUMIFS('R2建設IOデータ'!W:W,'R2建設IOデータ'!$A:$A,'R2建設io'!$CE33)/'R2建設IOデータ'!W$232","v":8.1677079409286091E-3},{"$f":"+SUMIFS('R2建設IOデータ'!X:X,'R2建設IOデータ'!$A:$A,'R2建設io'!$CE33)/'R2建設IOデータ'!X$232","v":7.4749769676677692E-3},{"$f":"+SUMIFS('R2建設IOデータ'!Y:Y,'R2建設IOデータ'!$A:$A,'R2建設io'!$CE33)/'R2建設IOデータ'!Y$232","v":8.4535854698146711E-3},{"$f":"+SUMIFS('R2建設IOデータ'!Z:Z,'R2建設IOデータ'!$A:$A,'R2建設io'!$CE33)/'R2建設IOデータ'!Z$232","v":7.1826605837687655E-3},{"$f":"+SUMIFS('R2建設IOデータ'!AA:AA,'R2建設IOデータ'!$A:$A,'R2建設io'!$CE33)/'R2建設IOデータ'!AA$232","v":1.097252592369808E-2},{"$f":"+SUMIFS('R2建設IOデータ'!AB:AB,'R2建設IOデータ'!$A:$A,'R2建設io'!$CE33)/'R2建設IOデータ'!AB$232","v":1.1373455806522732E-2},{"$f":"+SUMIFS('R2建設IOデータ'!AC:AC,'R2建設IOデータ'!$A:$A,'R2建設io'!$CE33)/'R2建設IOデータ'!AC$232","v":1.5093073956062384E-2},{"$f":"+SUMIFS('R2建設IOデータ'!AD:AD,'R2建設IOデータ'!$A:$A,'R2建設io'!$CE33)/'R2建設IOデータ'!AD$232","v":1.0903604603404185E-2},{"$f":"+SUMIFS('R2建設IOデータ'!AE:AE,'R2建設IOデータ'!$A:$A,'R2建設io'!$CE33)/'R2建設IOデータ'!AE$232","v":1.094529601569964E-2},{"$f":"+SUMIFS('R2建設IOデータ'!AF:AF,'R2建設IOデータ'!$A:$A,'R2建設io'!$CE33)/'R2建設IOデータ'!AF$232","v":1.1990029580912054E-2},{"$f":"+SUMIFS('R2建設IOデータ'!AG:AG,'R2建設IOデータ'!$A:$A,'R2建設io'!$CE33)/'R2建設IOデータ'!AG$232","v":1.0958506975901431E-2},{"$f":"+SUMIFS('R2建設IOデータ'!AH:AH,'R2建設IOデータ'!$A:$A,'R2建設io'!$CE33)/'R2建設IOデータ'!AH$232","v":1.2509608888161368E-2},{"$f":"+SUMIFS('R2建設IOデータ'!AI:AI,'R2建設IOデータ'!$A:$A,'R2建設io'!$CE33)/'R2建設IOデータ'!AI$232","v":1.0808068824735013E-2},{"$f":"+SUMIFS('R2建設IOデータ'!AJ:AJ,'R2建設IOデータ'!$A:$A,'R2建設io'!$CE33)/'R2建設IOデータ'!AJ$232","v":1.1489633936638755E-2},{"$f":"+SUMIFS('R2建設IOデータ'!AK:AK,'R2建設IOデータ'!$A:$A,'R2建設io'!$CE33)/'R2建設IOデータ'!AK$232","v":1.0454616554335E-2},{"$f":"+SUMIFS('R2建設IOデータ'!AL:AL,'R2建設IOデータ'!$A:$A,'R2建設io'!$CE33)/'R2建設IOデータ'!AL$232","v":1.0833402427194383E-2},{"$f":"+SUMIFS('R2建設IOデータ'!AM:AM,'R2建設IOデータ'!$A:$A,'R2建設io'!$CE33)/'R2建設IOデータ'!AM$232","v":1.2882581033768777E-2},{"$f":"+SUMIFS('R2建設IOデータ'!AN:AN,'R2建設IOデータ'!$A:$A,'R2建設io'!$CE33)/'R2建設IOデータ'!AN$232","v":5.3796220024393574E-3},{"$f":"+SUMIFS('R2建設IOデータ'!AO:AO,'R2建設IOデータ'!$A:$A,'R2建設io'!$CE33)/'R2建設IOデータ'!AO$232","v":1.4938863802167803E-2},{"$f":"+SUMIFS('R2建設IOデータ'!AP:AP,'R2建設IOデータ'!$A:$A,'R2建設io'!$CE33)/'R2建設IOデータ'!AP$232","v":1.5364277398603949E-2},{"$f":"+SUMIFS('R2建設IOデータ'!AQ:AQ,'R2建設IOデータ'!$A:$A,'R2建設io'!$CE33)/'R2建設IOデータ'!AQ$232","v":1.4018584949372402E-2},{"$f":"+SUMIFS('R2建設IOデータ'!AR:AR,'R2建設IOデータ'!$A:$A,'R2建設io'!$CE33)/'R2建設IOデータ'!AR$232","v":1.4062737372063976E-2},{"$f":"+SUMIFS('R2建設IOデータ'!AS:AS,'R2建設IOデータ'!$A:$A,'R2建設io'!$CE33)/'R2建設IOデータ'!AS$232","v":1.4375158079514448E-2},{"$f":"+SUMIFS('R2建設IOデータ'!AT:AT,'R2建設IOデータ'!$A:$A,'R2建設io'!$CE33)/'R2建設IOデータ'!AT$232","v":1.3573439645196025E-2},{"$f":"+SUMIFS('R2建設IOデータ'!AU:AU,'R2建設IOデータ'!$A:$A,'R2建設io'!$CE33)/'R2建設IOデータ'!AU$232","v":1.4601281453072186E-2},{"$f":"+SUMIFS('R2建設IOデータ'!AV:AV,'R2建設IOデータ'!$A:$A,'R2建設io'!$CE33)/'R2建設IOデータ'!AV$232","v":1.1816436981365298E-2},{"$f":"+SUMIFS('R2建設IOデータ'!AW:AW,'R2建設IOデータ'!$A:$A,'R2建設io'!$CE33)/'R2建設IOデータ'!AW$232","v":1.5552141946466942E-2},{"$f":"+SUMIFS('R2建設IOデータ'!AX:AX,'R2建設IOデータ'!$A:$A,'R2建設io'!$CE33)/'R2建設IOデータ'!AX$232","v":1.4522504533507202E-2},{"$f":"+SUMIFS('R2建設IOデータ'!AY:AY,'R2建設IOデータ'!$A:$A,'R2建設io'!$CE33)/'R2建設IOデータ'!AY$232","v":1.6563604240282685E-2},{"$f":"+SUMIFS('R2建設IOデータ'!AZ:AZ,'R2建設IOデータ'!$A:$A,'R2建設io'!$CE33)/'R2建設IOデータ'!AZ$232","v":2.2728928389305746E-2},{"$f":"+SUMIFS('R2建設IOデータ'!BA:BA,'R2建設IOデータ'!$A:$A,'R2建設io'!$CE33)/'R2建設IOデータ'!BA$232","v":1.274903463161256E-2},{"$f":"+SUMIFS('R2建設IOデータ'!BB:BB,'R2建設IOデータ'!$A:$A,'R2建設io'!$CE33)/'R2建設IOデータ'!BB$232","v":1.2683997784833203E-2},{"$f":"+SUMIFS('R2建設IOデータ'!BC:BC,'R2建設IOデータ'!$A:$A,'R2建設io'!$CE33)/'R2建設IOデータ'!BC$232","v":1.2679170046183954E-2},{"$f":"+SUMIFS('R2建設IOデータ'!BD:BD,'R2建設IOデータ'!$A:$A,'R2建設io'!$CE33)/'R2建設IOデータ'!BD$232","v":1.1121646208646183E-2},{"$f":"+SUMIFS('R2建設IOデータ'!BE:BE,'R2建設IOデータ'!$A:$A,'R2建設io'!$CE33)/'R2建設IOデータ'!BE$232","v":1.7439192290041303E-2},{"$f":"+SUMIFS('R2建設IOデータ'!BF:BF,'R2建設IOデータ'!$A:$A,'R2建設io'!$CE33)/'R2建設IOデータ'!BF$232","v":1.4083637037494596E-2},{"$f":"+SUMIFS('R2建設IOデータ'!BG:BG,'R2建設IOデータ'!$A:$A,'R2建設io'!$CE33)/'R2建設IOデータ'!BG$232","v":1.338891851277328E-2},{"$f":"+SUMIFS('R2建設IOデータ'!BH:BH,'R2建設IOデータ'!$A:$A,'R2建設io'!$CE33)/'R2建設IOデータ'!BH$232","v":1.3739157189685573E-2},{"$f":"+SUMIFS('R2建設IOデータ'!BI:BI,'R2建設IOデータ'!$A:$A,'R2建設io'!$CE33)/'R2建設IOデータ'!BI$232","v":1.180130887243858E-2},{"$f":"+SUMIFS('R2建設IOデータ'!BJ:BJ,'R2建設IOデータ'!$A:$A,'R2建設io'!$CE33)/'R2建設IOデータ'!BJ$232","v":1.1362344013316377E-2},{"$f":"+SUMIFS('R2建設IOデータ'!BK:BK,'R2建設IOデータ'!$A:$A,'R2建設io'!$CE33)/'R2建設IOデータ'!BK$232","v":1.535121485036341E-2},{"$f":"+SUMIFS('R2建設IOデータ'!BL:BL,'R2建設IOデータ'!$A:$A,'R2建設io'!$CE33)/'R2建設IOデータ'!BL$232","v":1.4903303131052406E-2},{"$f":"+SUMIFS('R2建設IOデータ'!BM:BM,'R2建設IOデータ'!$A:$A,'R2建設io'!$CE33)/'R2建設IOデータ'!BM$232","v":1.5015702806796009E-2},{"$f":"+SUMIFS('R2建設IOデータ'!BN:BN,'R2建設IOデータ'!$A:$A,'R2建設io'!$CE33)/'R2建設IOデータ'!BN$232","v":1.3808531537618596E-2},{"$f":"+SUMIFS('R2建設IOデータ'!BO:BO,'R2建設IOデータ'!$A:$A,'R2建設io'!$CE33)/'R2建設IOデータ'!BO$232","v":1.5191154891767998E-2},{"$f":"+SUMIFS('R2建設IOデータ'!BP:BP,'R2建設IOデータ'!$A:$A,'R2建設io'!$CE33)/'R2建設IOデータ'!BP$232","v":1.4850145612144282E-2},{"$f":"+SUMIFS('R2建設IOデータ'!BQ:BQ,'R2建設IOデータ'!$A:$A,'R2建設io'!$CE33)/'R2建設IOデータ'!BQ$232","v":1.6869423610830478E-2},{"$f":"+SUMIFS('R2建設IOデータ'!BR:BR,'R2建設IOデータ'!$A:$A,'R2建設io'!$CE33)/'R2建設IOデータ'!BR$232","v":1.396979618227139E-2},{"$f":"+SUMIFS('R2建設IOデータ'!BS:BS,'R2建設IOデータ'!$A:$A,'R2建設io'!$CE33)/'R2建設IOデータ'!BS$232","v":1.5599255200868039E-2},{"$f":"+SUMIFS('R2建設IOデータ'!BT:BT,'R2建設IOデータ'!$A:$A,'R2建設io'!$CE33)/'R2建設IOデータ'!BT$232","v":1.4180917486369068E-2},{"$f":"+SUMIFS('R2建設IOデータ'!BU:BU,'R2建設IOデータ'!$A:$A,'R2建設io'!$CE33)/'R2建設IOデータ'!BU$232","v":1.5085392853614741E-2},{"$f":"+SUMIFS('R2建設IOデータ'!BV:BV,'R2建設IOデータ'!$A:$A,'R2建設io'!$CE33)/'R2建設IOデータ'!BV$232","v":1.626646977664568E-2},{"$f":"+SUMIFS('R2建設IOデータ'!BW:BW,'R2建設IOデータ'!$A:$A,'R2建設io'!$CE33)/'R2建設IOデータ'!BW$232","v":2.2023053313479018E-2},{"$f":"+SUMIFS('R2建設IOデータ'!BX:BX,'R2建設IOデータ'!$A:$A,'R2建設io'!$CE33)/'R2建設IOデータ'!BX$232","v":1.4338723520545197E-2},{"$f":"+SUMIFS('R2建設IOデータ'!BY:BY,'R2建設IOデータ'!$A:$A,'R2建設io'!$CE33)/'R2建設IOデータ'!BY$232","v":1.4369310708480149E-2},{"$f":"+SUMIFS('R2建設IOデータ'!BZ:BZ,'R2建設IOデータ'!$A:$A,'R2建設io'!$CE33)/'R2建設IOデータ'!BZ$232","v":1.4977184556427211E-2},{"$f":"+SUMIFS('R2建設IOデータ'!CA:CA,'R2建設IOデータ'!$A:$A,'R2建設io'!$CE33)/'R2建設IOデータ'!CA$232","v":3.1831910298875665E-2},{"$f":"+SUMIFS('R2建設IOデータ'!CB:CB,'R2建設IOデータ'!$A:$A,'R2建設io'!$CE33)/'R2建設IOデータ'!CB$232","v":1.4658926184737367E-2},{"$f":"+SUMIFS('R2建設IOデータ'!CC:CC,'R2建設IOデータ'!$A:$A,'R2建設io'!$CE33)/'R2建設IOデータ'!CC$232","v":9.8217064014883178E-3},{"$f":"+SUMIFS('R2建設IOデータ'!CD:CD,'R2建設IOデータ'!$A:$A,'R2建設io'!$CE33)/'R2建設IOデータ'!CD$232","v":1.0453947908665393E-2}]
[0,null,"55","不動産",0,0,0,0,0,0,0,0,0,0,0,0,0,0,0,0,0,0,0,0,0,0,0,0,0,0,0,0,0,0,0,0,0,0,0,0,0,0,0,0,0,0,0,0,0,0,0,0,0,0,0,0,0,0,0,0,0,0,0,0,0,0,0,0,0,0,0,0,0,0,0,null,null,null,null,null,null,null,"55","不動産",{"$f":"+SUMIFS('R2建設IOデータ'!L:L,'R2建設IOデータ'!$A:$A,'R2建設io'!$CE34)/'R2建設IOデータ'!L$232","v":5.3705347768861654E-3},{"$f":"+SUMIFS('R2建設IOデータ'!M:M,'R2建設IOデータ'!$A:$A,'R2建設io'!$CE34)/'R2建設IOデータ'!M$232","v":8.4629429587703853E-3},{"$f":"+SUMIFS('R2建設IOデータ'!N:N,'R2建設IOデータ'!$A:$A,'R2建設io'!$CE34)/'R2建設IOデータ'!N$232","v":9.1005697906106891E-3},{"$f":"+SUMIFS('R2建設IOデータ'!O:O,'R2建設IOデータ'!$A:$A,'R2建設io'!$CE34)/'R2建設IOデータ'!O$232","v":9.9620386862042942E-3},{"$f":"+SUMIFS('R2建設IOデータ'!P:P,'R2建設IOデータ'!$A:$A,'R2建設io'!$CE34)/'R2建設IOデータ'!P$232","v":9.8214520249782951E-3},{"$f":"+SUMIFS('R2建設IOデータ'!Q:Q,'R2建設IOデータ'!$A:$A,'R2建設io'!$CE34)/'R2建設IOデータ'!Q$232","v":1.6358227018304673E-2},{"$f":"+SUMIFS('R2建設IOデータ'!R:R,'R2建設IOデータ'!$A:$A,'R2建設io'!$CE34)/'R2建設IOデータ'!R$232","v":7.8809828797046962E-3},{"$f":"+SUMIFS('R2建設IOデータ'!S:S,'R2建設IOデータ'!$A:$A,'R2建設io'!$CE34)/'R2建設IOデータ'!S$232","v":7.7884949368103237E-3},{"$f":"+SUMIFS('R2建設IOデータ'!T:T,'R2建設IOデータ'!$A:$A,'R2建設io'!$CE34)/'R2建設IOデータ'!T$232","v":7.7904287018087503E-3},{"$f":"+SUMIFS('R2建設IOデータ'!U:U,'R2建設IOデータ'!$A:$A,'R2建設io'!$CE34)/'R2建設IOデータ'!U$232","v":7.7254737900548593E-3},{"$f":"+SUMIFS('R2建設IOデータ'!V:V,'R2建設IOデータ'!$A:$A,'R2建設io'!$CE34)/'R2建設IOデータ'!V$232","v":1.2472987830306707E-2},{"$f":"+SUMIFS('R2建設IOデータ'!W:W,'R2建設IOデータ'!$A:$A,'R2建設io'!$CE34)/'R2建設IOデータ'!W$232","v":7.9922546502068717E-3},{"$f":"+SUMIFS('R2建設IOデータ'!X:X,'R2建設IOデータ'!$A:$A,'R2建設io'!$CE34)/'R2建設IOデータ'!X$232","v":8.0293835488000082E-3},{"$f":"+SUMIFS('R2建設IOデータ'!Y:Y,'R2建設IOデータ'!$A:$A,'R2建設io'!$CE34)/'R2建設IOデータ'!Y$232","v":7.9769322260771942E-3},{"$f":"+SUMIFS('R2建設IOデータ'!Z:Z,'R2建設IOデータ'!$A:$A,'R2建設io'!$CE34)/'R2建設IOデータ'!Z$232","v":9.0769886498176713E-3},{"$f":"+SUMIFS('R2建設IOデータ'!AA:AA,'R2建設IOデータ'!$A:$A,'R2建設io'!$CE34)/'R2建設IOデータ'!AA$232","v":7.7962806605218586E-3},{"$f":"+SUMIFS('R2建設IOデータ'!AB:AB,'R2建設IOデータ'!$A:$A,'R2建設io'!$CE34)/'R2建設IOデータ'!AB$232","v":8.7152958091140202E-3},{"$f":"+SUMIFS('R2建設IOデータ'!AC:AC,'R2建設IOデータ'!$A:$A,'R2建設io'!$CE34)/'R2建設IOデータ'!AC$232","v":7.6769709504909906E-3},{"$f":"+SUMIFS('R2建設IOデータ'!AD:AD,'R2建設IOデータ'!$A:$A,'R2建設io'!$CE34)/'R2建設IOデータ'!AD$232","v":8.8464539453631148E-3},{"$f":"+SUMIFS('R2建設IOデータ'!AE:AE,'R2建設IOデータ'!$A:$A,'R2建設io'!$CE34)/'R2建設IOデータ'!AE$232","v":7.7338640160726302E-3},{"$f":"+SUMIFS('R2建設IOデータ'!AF:AF,'R2建設IOデータ'!$A:$A,'R2建設io'!$CE34)/'R2建設IOデータ'!AF$232","v":7.0798984939261528E-3},{"$f":"+SUMIFS('R2建設IOデータ'!AG:AG,'R2建設IOデータ'!$A:$A,'R2建設io'!$CE34)/'R2建設IOデータ'!AG$232","v":8.6634052062571718E-3},{"$f":"+SUMIFS('R2建設IOデータ'!AH:AH,'R2建設IOデータ'!$A:$A,'R2建設io'!$CE34)/'R2建設IOデータ'!AH$232","v":8.2311461176882185E-3},{"$f":"+SUMIFS('R2建設IOデータ'!AI:AI,'R2建設IOデータ'!$A:$A,'R2建設io'!$CE34)/'R2建設IOデータ'!AI$232","v":7.8462816070559264E-3},{"$f":"+SUMIFS('R2建設IOデータ'!AJ:AJ,'R2建設IOデータ'!$A:$A,'R2建設io'!$CE34)/'R2建設IOデータ'!AJ$232","v":7.6375680582999386E-3},{"$f":"+SUMIFS('R2建設IOデータ'!AK:AK,'R2建設IOデータ'!$A:$A,'R2建設io'!$CE34)/'R2建設IOデータ'!AK$232","v":7.6935147271964075E-3},{"$f":"+SUMIFS('R2建設IOデータ'!AL:AL,'R2建設IOデータ'!$A:$A,'R2建設io'!$CE34)/'R2建設IOデータ'!AL$232","v":7.5512294501553457E-3},{"$f":"+SUMIFS('R2建設IOデータ'!AM:AM,'R2建設IOデータ'!$A:$A,'R2建設io'!$CE34)/'R2建設IOデータ'!AM$232","v":1.3748447088054814E-2},{"$f":"+SUMIFS('R2建設IOデータ'!AN:AN,'R2建設IOデータ'!$A:$A,'R2建設io'!$CE34)/'R2建設IOデータ'!AN$232","v":3.2378089685848148E-3},{"$f":"+SUMIFS('R2建設IOデータ'!AO:AO,'R2建設IOデータ'!$A:$A,'R2建設io'!$CE34)/'R2建設IOデータ'!AO$232","v":2.1189158551152372E-3},{"$f":"+SUMIFS('R2建設IOデータ'!AP:AP,'R2建設IOデータ'!$A:$A,'R2建設io'!$CE34)/'R2建設IOデータ'!AP$232","v":1.9235520484656419E-3},{"$f":"+SUMIFS('R2建設IOデータ'!AQ:AQ,'R2建設IOデータ'!$A:$A,'R2建設io'!$CE34)/'R2建設IOデータ'!AQ$232","v":1.8750273638707651E-3},{"$f":"+SUMIFS('R2建設IOデータ'!AR:AR,'R2建設IOデータ'!$A:$A,'R2建設io'!$CE34)/'R2建設IOデータ'!AR$232","v":1.8984609525747372E-3},{"$f":"+SUMIFS('R2建設IOデータ'!AS:AS,'R2建設IOデータ'!$A:$A,'R2建設io'!$CE34)/'R2建設IOデータ'!AS$232","v":1.977256971293292E-3},{"$f":"+SUMIFS('R2建設IOデータ'!AT:AT,'R2建設IOデータ'!$A:$A,'R2建設io'!$CE34)/'R2建設IOデータ'!AT$232","v":1.9683241693181858E-3},{"$f":"+SUMIFS('R2建設IOデータ'!AU:AU,'R2建設IOデータ'!$A:$A,'R2建設io'!$CE34)/'R2建設IOデータ'!AU$232","v":2.0485040230342898E-3},{"$f":"+SUMIFS('R2建設IOデータ'!AV:AV,'R2建設IOデータ'!$A:$A,'R2建設io'!$CE34)/'R2建設IOデータ'!AV$232","v":1.720867861729543E-3},{"$f":"+SUMIFS('R2建設IOデータ'!AW:AW,'R2建設IOデータ'!$A:$A,'R2建設io'!$CE34)/'R2建設IOデータ'!AW$232","v":2.4082901402231131E-3},{"$f":"+SUMIFS('R2建設IOデータ'!AX:AX,'R2建設IOデータ'!$A:$A,'R2建設io'!$CE34)/'R2建設IOデータ'!AX$232","v":2.470506734041036E-4},{"$f":"+SUMIFS('R2建設IOデータ'!AY:AY,'R2建設IOデータ'!$A:$A,'R2建設io'!$CE34)/'R2建設IOデータ'!AY$232","v":2.2084805653710247E-4},{"$f":"+SUMIFS('R2建設IOデータ'!AZ:AZ,'R2建設IOデータ'!$A:$A,'R2建設io'!$CE34)/'R2建設IOデータ'!AZ$232","v":1.4569825890580607E-4},{"$f":"+SUMIFS('R2建設IOデータ'!BA:BA,'R2建設IOデータ'!$A:$A,'R2建設io'!$CE34)/'R2建設IOデータ'!BA$232","v":1.5671303356896938E-3},{"$f":"+SUMIFS('R2建設IOデータ'!BB:BB,'R2建設IOデータ'!$A:$A,'R2建設io'!$CE34)/'R2建設IOデータ'!BB$232","v":1.5194782927449345E-3},{"$f":"+SUMIFS('R2建設IOデータ'!BC:BC,'R2建設IOデータ'!$A:$A,'R2建設io'!$CE34)/'R2建設IOデータ'!BC$232","v":1.5198092561501651E-3},{"$f":"+SUMIFS('R2建設IOデータ'!BD:BD,'R2建設IOデータ'!$A:$A,'R2建設io'!$CE34)/'R2建設IOデータ'!BD$232","v":1.8322527740050739E-3},{"$f":"+SUMIFS('R2建設IOデータ'!BE:BE,'R2建設IOデータ'!$A:$A,'R2建設io'!$CE34)/'R2建設IOデータ'!BE$232","v":2.2946305644791189E-4},{"$f":"+SUMIFS('R2建設IOデータ'!BF:BF,'R2建設IOデータ'!$A:$A,'R2建設io'!$CE34)/'R2建設IOデータ'!BF$232","v":1.7295694607449503E-3},{"$f":"+SUMIFS('R2建設IOデータ'!BG:BG,'R2建設IOデータ'!$A:$A,'R2建設io'!$CE34)/'R2建設IOデータ'!BG$232","v":2.0359687818120122E-3},{"$f":"+SUMIFS('R2建設IOデータ'!BH:BH,'R2建設IOデータ'!$A:$A,'R2建設io'!$CE34)/'R2建設IOデータ'!BH$232","v":2.0709323929327954E-3},{"$f":"+SUMIFS('R2建設IOデータ'!BI:BI,'R2建設IOデータ'!$A:$A,'R2建設io'!$CE34)/'R2建設IOデータ'!BI$232","v":1.877480956978865E-3},{"$f":"+SUMIFS('R2建設IOデータ'!BJ:BJ,'R2建設IOデータ'!$A:$A,'R2建設io'!$CE34)/'R2建設IOデータ'!BJ$232","v":4.6524611519493811E-4},{"$f":"+SUMIFS('R2建設IOデータ'!BK:BK,'R2建設IOデータ'!$A:$A,'R2建設io'!$CE34)/'R2建設IOデータ'!BK$232","v":2.2990709494673856E-3},{"$f":"+SUMIFS('R2建設IOデータ'!BL:BL,'R2建設IOデータ'!$A:$A,'R2建設io'!$CE34)/'R2建設IOデータ'!BL$232","v":3.7788258287923689E-3},{"$f":"+SUMIFS('R2建設IOデータ'!BM:BM,'R2建設IOデータ'!$A:$A,'R2建設io'!$CE34)/'R2建設IOデータ'!BM$232","v":2.0110194896944596E-3},{"$f":"+SUMIFS('R2建設IOデータ'!BN:BN,'R2建設IOデータ'!$A:$A,'R2建設io'!$CE34)/'R2建設IOデータ'!BN$232","v":9.9362377429410118E-4},{"$f":"+SUMIFS('R2建設IOデータ'!BO:BO,'R2建設IOデータ'!$A:$A,'R2建設io'!$CE34)/'R2建設IOデータ'!BO$232","v":5.4030689431597148E-4},{"$f":"+SUMIFS('R2建設IOデータ'!BP:BP,'R2建設IOデータ'!$A:$A,'R2建設io'!$CE34)/'R2建設IOデータ'!BP$232","v":1.2174092503840951E-2},{"$f":"+SUMIFS('R2建設IOデータ'!BQ:BQ,'R2建設IOデータ'!$A:$A,'R2建設io'!$CE34)/'R2建設IOデータ'!BQ$232","v":1.227805143540567E-3},{"$f":"+SUMIFS('R2建設IOデータ'!BR:BR,'R2建設IOデータ'!$A:$A,'R2建設io'!$CE34)/'R2建設IOデータ'!BR$232","v":2.3166495455946836E-3},{"$f":"+SUMIFS('R2建設IOデータ'!BS:BS,'R2建設IOデータ'!$A:$A,'R2建設io'!$CE34)/'R2建設IOデータ'!BS$232","v":1.560595303478855E-3},{"$f":"+SUMIFS('R2建設IOデータ'!BT:BT,'R2建設IOデータ'!$A:$A,'R2建設io'!$CE34)/'R2建設IOデータ'!BT$232","v":9.4170155182919592E-4},{"$f":"+SUMIFS('R2建設IOデータ'!BU:BU,'R2建設IOデータ'!$A:$A,'R2建設io'!$CE34)/'R2建設IOデータ'!BU$232","v":6.0027776647858348E-3},{"$f":"+SUMIFS('R2建設IOデータ'!BV:BV,'R2建設IOデータ'!$A:$A,'R2建設io'!$CE34)/'R2建設IOデータ'!BV$232","v":4.2437608554346545E-4},{"$f":"+SUMIFS('R2建設IOデータ'!BW:BW,'R2建設IOデータ'!$A:$A,'R2建設io'!$CE34)/'R2建設IOデータ'!BW$232","v":2.6667505892524984E-4},{"$f":"+SUMIFS('R2建設IOデータ'!BX:BX,'R2建設IOデータ'!$A:$A,'R2建設io'!$CE34)/'R2建設IOデータ'!BX$232","v":2.3945198577229698E-3},{"$f":"+SUMIFS('R2建設IOデータ'!BY:BY,'R2建設IOデータ'!$A:$A,'R2建設io'!$CE34)/'R2建設IOデータ'!BY$232","v":4.5853261740976979E-3},{"$f":"+SUMIFS('R2建設IOデータ'!BZ:BZ,'R2建設IOデータ'!$A:$A,'R2建設io'!$CE34)/'R2建設IOデータ'!BZ$232","v":1.1385945388111415E-3},{"$f":"+SUMIFS('R2建設IOデータ'!CA:CA,'R2建設IOデータ'!$A:$A,'R2建設io'!$CE34)/'R2建設IOデータ'!CA$232","v":1.1850508372975921E-3},{"$f":"+SUMIFS('R2建設IOデータ'!CB:CB,'R2建設IOデータ'!$A:$A,'R2建設io'!$CE34)/'R2建設IOデータ'!CB$232","v":1.1874924059825317E-3},{"$f":"+SUMIFS('R2建設IOデータ'!CC:CC,'R2建設IOデータ'!$A:$A,'R2建設io'!$CE34)/'R2建設IOデータ'!CC$232","v":3.5387273822686254E-3},{"$f":"+SUMIFS('R2建設IOデータ'!CD:CD,'R2建設IOデータ'!$A:$A,'R2建設io'!$CE34)/'R2建設IOデータ'!CD$232","v":2.9289657673265347E-3}]
[0,null,"57","運輸・郵便",0,0,0,0,0,0,0,0,0,0,0,0,0,0,0,0,0,0,0,0,0,0,0,0,0,0,0,0,0,0,0,0,0,0,0,0,0,0,0,0,0,0,0,0,0,0,0,0,0,0,0,0,0,0,0,0,0,0,0,0,0,0,0,0,0,0,0,0,0,0,0,null,null,null,null,null,null,null,"57","運輸・郵便",{"$f":"+SUMIFS('R2建設IOデータ'!L:L,'R2建設IOデータ'!$A:$A,'R2建設io'!$CE35)/'R2建設IOデータ'!L$232","v":4.2419875210315719E-2},{"$f":"+SUMIFS('R2建設IOデータ'!M:M,'R2建設IOデータ'!$A:$A,'R2建設io'!$CE35)/'R2建設IOデータ'!M$232","v":4.3217307428171051E-2},{"$f":"+SUMIFS('R2建設IOデータ'!N:N,'R2建設IOデータ'!$A:$A,'R2建設io'!$CE35)/'R2建設IOデータ'!N$232","v":4.6826428369407362E-2},{"$f":"+SUMIFS('R2建設IOデータ'!O:O,'R2建設IOデータ'!$A:$A,'R2建設io'!$CE35)/'R2建設IOデータ'!O$232","v":4.2281591761495846E-2},{"$f":"+SUMIFS('R2建設IOデータ'!P:P,'R2建設IOデータ'!$A:$A,'R2建設io'!$CE35)/'R2建設IOデータ'!P$232","v":4.2160544325657287E-2},{"$f":"+SUMIFS('R2建設IOデータ'!Q:Q,'R2建設IOデータ'!$A:$A,'R2建設io'!$CE35)/'R2建設IOデータ'!Q$232","v":4.7788815490898091E-2},{"$f":"+SUMIFS('R2建設IOデータ'!R:R,'R2建設IOデータ'!$A:$A,'R2建設io'!$CE35)/'R2建設IOデータ'!R$232","v":5.3260582019721038E-2},{"$f":"+SUMIFS('R2建設IOデータ'!S:S,'R2建設IOデータ'!$A:$A,'R2建設io'!$CE35)/'R2建設IOデータ'!S$232","v":4.9857055067197481E-2},{"$f":"+SUMIFS('R2建設IOデータ'!T:T,'R2建設IOデータ'!$A:$A,'R2建設io'!$CE35)/'R2建設IOデータ'!T$232","v":5.0466354596516327E-2},{"$f":"+SUMIFS('R2建設IOデータ'!U:U,'R2建設IOデータ'!$A:$A,'R2建設io'!$CE35)/'R2建設IOデータ'!U$232","v":5.0357309736542413E-2},{"$f":"+SUMIFS('R2建設IOデータ'!V:V,'R2建設IOデータ'!$A:$A,'R2建設io'!$CE35)/'R2建設IOデータ'!V$232","v":5.8327330628957043E-2},{"$f":"+SUMIFS('R2建設IOデータ'!W:W,'R2建設IOデータ'!$A:$A,'R2建設io'!$CE35)/'R2建設IOデータ'!W$232","v":5.7890456015805086E-2},{"$f":"+SUMIFS('R2建設IOデータ'!X:X,'R2建設IOデータ'!$A:$A,'R2建設io'!$CE35)/'R2建設IOデータ'!X$232","v":4.714086547215602E-2},{"$f":"+SUMIFS('R2建設IOデータ'!Y:Y,'R2建設IOデータ'!$A:$A,'R2建設io'!$CE35)/'R2建設IOデータ'!Y$232","v":6.2326617382590495E-2},{"$f":"+SUMIFS('R2建設IOデータ'!Z:Z,'R2建設IOデータ'!$A:$A,'R2建設io'!$CE35)/'R2建設IOデータ'!Z$232","v":4.3238038107566261E-2},{"$f":"+SUMIFS('R2建設IOデータ'!AA:AA,'R2建設IOデータ'!$A:$A,'R2建設io'!$CE35)/'R2建設IOデータ'!AA$232","v":3.9443838776613296E-2},{"$f":"+SUMIFS('R2建設IOデータ'!AB:AB,'R2建設IOデータ'!$A:$A,'R2建設io'!$CE35)/'R2建設IOデータ'!AB$232","v":4.1890052066082026E-2},{"$f":"+SUMIFS('R2建設IOデータ'!AC:AC,'R2建設IOデータ'!$A:$A,'R2建設io'!$CE35)/'R2建設IOデータ'!AC$232","v":5.0226396109340939E-2},{"$f":"+SUMIFS('R2建設IOデータ'!AD:AD,'R2建設IOデータ'!$A:$A,'R2建設io'!$CE35)/'R2建設IOデータ'!AD$232","v":4.0837029653332454E-2},{"$f":"+SUMIFS('R2建設IOデータ'!AE:AE,'R2建設IOデータ'!$A:$A,'R2建設io'!$CE35)/'R2建設IOデータ'!AE$232","v":3.9277699594501184E-2},{"$f":"+SUMIFS('R2建設IOデータ'!AF:AF,'R2建設IOデータ'!$A:$A,'R2建設io'!$CE35)/'R2建設IOデータ'!AF$232","v":4.3845818880730365E-2},{"$f":"+SUMIFS('R2建設IOデータ'!AG:AG,'R2建設IOデータ'!$A:$A,'R2建設io'!$CE35)/'R2建設IOデータ'!AG$232","v":3.6262607960379299E-2},{"$f":"+SUMIFS('R2建設IOデータ'!AH:AH,'R2建設IOデータ'!$A:$A,'R2建設io'!$CE35)/'R2建設IOデータ'!AH$232","v":4.2123439909744653E-2},{"$f":"+SUMIFS('R2建設IOデータ'!AI:AI,'R2建設IOデータ'!$A:$A,'R2建設io'!$CE35)/'R2建設IOデータ'!AI$232","v":3.6298256881859871E-2},{"$f":"+SUMIFS('R2建設IOデータ'!AJ:AJ,'R2建設IOデータ'!$A:$A,'R2建設io'!$CE35)/'R2建設IOデータ'!AJ$232","v":3.8422456783929713E-2},{"$f":"+SUMIFS('R2建設IOデータ'!AK:AK,'R2建設IOデータ'!$A:$A,'R2建設io'!$CE35)/'R2建設IOデータ'!AK$232","v":4.0911381402311049E-2},{"$f":"+SUMIFS('R2建設IOデータ'!AL:AL,'R2建設IOデータ'!$A:$A,'R2建設io'!$CE35)/'R2建設IOデータ'!AL$232","v":3.8558494347778846E-2},{"$f":"+SUMIFS('R2建設IOデータ'!AM:AM,'R2建設IOデータ'!$A:$A,'R2建設io'!$CE35)/'R2建設IOデータ'!AM$232","v":3.9227496894176109E-2},{"$f":"+SUMIFS('R2建設IOデータ'!AN:AN,'R2建設IOデータ'!$A:$A,'R2建設io'!$CE35)/'R2建設IOデータ'!AN$232","v":4.3234653190251784E-2},{"$f":"+SUMIFS('R2建設IOデータ'!AO:AO,'R2建設IOデータ'!$A:$A,'R2建設io'!$CE35)/'R2建設IOデータ'!AO$232","v":4.0964761859426047E-2},{"$f":"+SUMIFS('R2建設IOデータ'!AP:AP,'R2建設IOデータ'!$A:$A,'R2建設io'!$CE35)/'R2建設IOデータ'!AP$232","v":4.4096863179982647E-2},{"$f":"+SUMIFS('R2建設IOデータ'!AQ:AQ,'R2建設IOデータ'!$A:$A,'R2建設io'!$CE35)/'R2建設IOデータ'!AQ$232","v":4.9966977407543078E-2},{"$f":"+SUMIFS('R2建設IOデータ'!AR:AR,'R2建設IOデータ'!$A:$A,'R2建設io'!$CE35)/'R2建設IOデータ'!AR$232","v":4.9163212992642626E-2},{"$f":"+SUMIFS('R2建設IOデータ'!AS:AS,'R2建設IOデータ'!$A:$A,'R2建設io'!$CE35)/'R2建設IOデータ'!AS$232","v":5.192729905846831E-2},{"$f":"+SUMIFS('R2建設IOデータ'!AT:AT,'R2建設IOデータ'!$A:$A,'R2建設io'!$CE35)/'R2建設IOデータ'!AT$232","v":5.3939821390704863E-2},{"$f":"+SUMIFS('R2建設IOデータ'!AU:AU,'R2建設IOデータ'!$A:$A,'R2建設io'!$CE35)/'R2建設IOデータ'!AU$232","v":6.7486826981074097E-2},{"$f":"+SUMIFS('R2建設IOデータ'!AV:AV,'R2建設IOデータ'!$A:$A,'R2建設io'!$CE35)/'R2建設IOデータ'!AV$232","v":8.1544188314541757E-2},{"$f":"+SUMIFS('R2建設IOデータ'!AW:AW,'R2建設IOデータ'!$A:$A,'R2建設io'!$CE35)/'R2建設IOデータ'!AW$232","v":4.7540129865157779E-2},{"$f":"+SUMIFS('R2建設IOデータ'!AX:AX,'R2建設IOデータ'!$A:$A,'R2建設io'!$CE35)/'R2建設IOデータ'!AX$232","v":3.4174494182848063E-2},{"$f":"+SUMIFS('R2建設IOデータ'!AY:AY,'R2建設IOデータ'!$A:$A,'R2建設io'!$CE35)/'R2建設IOデータ'!AY$232","v":3.7102473498233215E-2},{"$f":"+SUMIFS('R2建設IOデータ'!AZ:AZ,'R2建設IOデータ'!$A:$A,'R2建設io'!$CE35)/'R2建設IOデータ'!AZ$232","v":3.4093392583958625E-2},{"$f":"+SUMIFS('R2建設IOデータ'!BA:BA,'R2建設IOデータ'!$A:$A,'R2建設io'!$CE35)/'R2建設IOデータ'!BA$232","v":3.7540464074520982E-2},{"$f":"+SUMIFS('R2建設IOデータ'!BB:BB,'R2建設IOデータ'!$A:$A,'R2建設io'!$CE35)/'R2建設IOデータ'!BB$232","v":3.3277757084493632E-2},{"$f":"+SUMIFS('R2建設IOデータ'!BC:BC,'R2建設IOデータ'!$A:$A,'R2建設io'!$CE35)/'R2建設IOデータ'!BC$232","v":3.3663886283554573E-2},{"$f":"+SUMIFS('R2建設IOデータ'!BD:BD,'R2建設IOデータ'!$A:$A,'R2建設io'!$CE35)/'R2建設IOデータ'!BD$232","v":3.2865233323937162E-2},{"$f":"+SUMIFS('R2建設IOデータ'!BE:BE,'R2建設IOデータ'!$A:$A,'R2建設io'!$CE35)/'R2建設IOデータ'!BE$232","v":2.0009178522257916E-2},{"$f":"+SUMIFS('R2建設IOデータ'!BF:BF,'R2建設IOデータ'!$A:$A,'R2建設io'!$CE35)/'R2建設IOデータ'!BF$232","v":3.1688183334362838E-2},{"$f":"+SUMIFS('R2建設IOデータ'!BG:BG,'R2建設IOデータ'!$A:$A,'R2建設io'!$CE35)/'R2建設IOデータ'!BG$232","v":7.9480343206166079E-2},{"$f":"+SUMIFS('R2建設IOデータ'!BH:BH,'R2建設IOデータ'!$A:$A,'R2建設io'!$CE35)/'R2建設IOデータ'!BH$232","v":8.0375844644568831E-2},{"$f":"+SUMIFS('R2建設IOデータ'!BI:BI,'R2建設IOデータ'!$A:$A,'R2建設io'!$CE35)/'R2建設IOデータ'!BI$232","v":7.5421092157493833E-2},{"$f":"+SUMIFS('R2建設IOデータ'!BJ:BJ,'R2建設IOデータ'!$A:$A,'R2建設io'!$CE35)/'R2建設IOデータ'!BJ$232","v":9.8322012344530252E-2},{"$f":"+SUMIFS('R2建設IOデータ'!BK:BK,'R2建設IOデータ'!$A:$A,'R2建設io'!$CE35)/'R2建設IOデータ'!BK$232","v":4.0996706186086536E-2},{"$f":"+SUMIFS('R2建設IOデータ'!BL:BL,'R2建設IOデータ'!$A:$A,'R2建設io'!$CE35)/'R2建設IOデータ'!BL$232","v":3.3888605631857915E-2},{"$f":"+SUMIFS('R2建設IOデータ'!BM:BM,'R2建設IOデータ'!$A:$A,'R2建設io'!$CE35)/'R2建設IOデータ'!BM$232","v":3.83731606715541E-2},{"$f":"+SUMIFS('R2建設IOデータ'!BN:BN,'R2建設IOデータ'!$A:$A,'R2建設io'!$CE35)/'R2建設IOデータ'!BN$232","v":3.4248792037382965E-2},{"$f":"+SUMIFS('R2建設IOデータ'!BO:BO,'R2建設IOデータ'!$A:$A,'R2建設io'!$CE35)/'R2建設IOデータ'!BO$232","v":4.4111792340154471E-2},{"$f":"+SUMIFS('R2建設IOデータ'!BP:BP,'R2建設IOデータ'!$A:$A,'R2建設io'!$CE35)/'R2建設IOデータ'!BP$232","v":1.4490128184549061E-2},{"$f":"+SUMIFS('R2建設IOデータ'!BQ:BQ,'R2建設IOデータ'!$A:$A,'R2建設io'!$CE35)/'R2建設IOデータ'!BQ$232","v":5.6148870513846767E-2},{"$f":"+SUMIFS('R2建設IOデータ'!BR:BR,'R2建設IOデータ'!$A:$A,'R2建設io'!$CE35)/'R2建設IOデータ'!BR$232","v":5.5297525953090343E-2},{"$f":"+SUMIFS('R2建設IOデータ'!BS:BS,'R2建設IOデータ'!$A:$A,'R2建設io'!$CE35)/'R2建設IOデータ'!BS$232","v":2.4895848682536068E-2},{"$f":"+SUMIFS('R2建設IOデータ'!BT:BT,'R2建設IOデータ'!$A:$A,'R2建設io'!$CE35)/'R2建設IOデータ'!BT$232","v":4.8467954450133341E-2},{"$f":"+SUMIFS('R2建設IOデータ'!BU:BU,'R2建設IOデータ'!$A:$A,'R2建設io'!$CE35)/'R2建設IOデータ'!BU$232","v":4.8225606815157453E-2},{"$f":"+SUMIFS('R2建設IOデータ'!BV:BV,'R2建設IOデータ'!$A:$A,'R2建設io'!$CE35)/'R2建設IOデータ'!BV$232","v":2.5983914034078744E-2},{"$f":"+SUMIFS('R2建設IOデータ'!BW:BW,'R2建設IOデータ'!$A:$A,'R2建設io'!$CE35)/'R2建設IOデータ'!BW$232","v":3.097902873962079E-2},{"$f":"+SUMIFS('R2建設IOデータ'!BX:BX,'R2建設IOデータ'!$A:$A,'R2建設io'!$CE35)/'R2建設IOデータ'!BX$232","v":3.6546237899833897E-2},{"$f":"+SUMIFS('R2建設IOデータ'!BY:BY,'R2建設IOデータ'!$A:$A,'R2建設io'!$CE35)/'R2建設IOデータ'!BY$232","v":3.8356400098550292E-2},{"$f":"+SUMIFS('R2建設IOデータ'!BZ:BZ,'R2建設IOデータ'!$A:$A,'R2建設io'!$CE35)/'R2建設IOデータ'!BZ$232","v":2.4815553906540676E-2},{"$f":"+SUMIFS('R2建設IOデータ'!CA:CA,'R2建設IOデータ'!$A:$A,'R2建設io'!$CE35)/'R2建設IOデータ'!CA$232","v":2.4549457812343894E-2},{"$f":"+SUMIFS('R2建設IOデータ'!CB:CB,'R2建設IOデータ'!$A:$A,'R2建設io'!$CE35)/'R2建設IOデータ'!CB$232","v":4.1699279733933885E-2},{"$f":"+SUMIFS('R2建設IOデータ'!CC:CC,'R2建設IOデータ'!$A:$A,'R2建設io'!$CE35)/'R2建設IOデータ'!CC$232","v":4.8628536244645568E-2},{"$f":"+SUMIFS('R2建設IOデータ'!CD:CD,'R2建設IOデータ'!$A:$A,'R2建設io'!$CE35)/'R2建設IOデータ'!CD$232","v":4.3346222575237105E-2}]
[0,null,"59","情報通信",0,0,0,0,0,0,0,0,0,0,0,0,0,0,0,0,0,0,0,0,0,0,0,0,0,0,0,0,0,0,0,0,0,0,0,0,0,0,0,0,0,0,0,0,0,0,0,0,0,0,0,0,0,0,0,0,0,0,0,0,0,0,0,0,0,0,0,0,0,0,0,null,null,null,null,null,null,null,"59","情報通信",{"$f":"+SUMIFS('R2建設IOデータ'!L:L,'R2建設IOデータ'!$A:$A,'R2建設io'!$CE36)/'R2建設IOデータ'!L$232","v":8.4057227142986489E-3},{"$f":"+SUMIFS('R2建設IOデータ'!M:M,'R2建設IOデータ'!$A:$A,'R2建設io'!$CE36)/'R2建設IOデータ'!M$232","v":8.2840422375928917E-3},{"$f":"+SUMIFS('R2建設IOデータ'!N:N,'R2建設IOデータ'!$A:$A,'R2建設io'!$CE36)/'R2建設IOデータ'!N$232","v":7.7253183423001996E-3},{"$f":"+SUMIFS('R2建設IOデータ'!O:O,'R2建設IOデータ'!$A:$A,'R2建設io'!$CE36)/'R2建設IOデータ'!O$232","v":6.8745300656576835E-3},{"$f":"+SUMIFS('R2建設IOデータ'!P:P,'R2建設IOデータ'!$A:$A,'R2建設io'!$CE36)/'R2建設IOデータ'!P$232","v":6.6399235768160401E-3},{"$f":"+SUMIFS('R2建設IOデータ'!Q:Q,'R2建設IOデータ'!$A:$A,'R2建設io'!$CE36)/'R2建設IOデータ'!Q$232","v":1.7548282991276285E-2},{"$f":"+SUMIFS('R2建設IOデータ'!R:R,'R2建設IOデータ'!$A:$A,'R2建設io'!$CE36)/'R2建設IOデータ'!R$232","v":8.9297846340639937E-3},{"$f":"+SUMIFS('R2建設IOデータ'!S:S,'R2建設IOデータ'!$A:$A,'R2建設io'!$CE36)/'R2建設IOデータ'!S$232","v":7.9488070109813777E-3},{"$f":"+SUMIFS('R2建設IOデータ'!T:T,'R2建設IOデータ'!$A:$A,'R2建設io'!$CE36)/'R2建設IOデータ'!T$232","v":8.1112476745811516E-3},{"$f":"+SUMIFS('R2建設IOデータ'!U:U,'R2建設IOデータ'!$A:$A,'R2建設io'!$CE36)/'R2建設IOデータ'!U$232","v":8.0120893935660843E-3},{"$f":"+SUMIFS('R2建設IOデータ'!V:V,'R2建設IOデータ'!$A:$A,'R2建設io'!$CE36)/'R2建設IOデータ'!V$232","v":1.5259506388141183E-2},{"$f":"+SUMIFS('R2建設IOデータ'!W:W,'R2建設IOデータ'!$A:$A,'R2建設io'!$CE36)/'R2建設IOデータ'!W$232","v":1.0142946797560644E-2},{"$f":"+SUMIFS('R2建設IOデータ'!X:X,'R2建設IOデータ'!$A:$A,'R2建設io'!$CE36)/'R2建設IOデータ'!X$232","v":7.5293305540532832E-3},{"$f":"+SUMIFS('R2建設IOデータ'!Y:Y,'R2建設IOデータ'!$A:$A,'R2建設io'!$CE36)/'R2建設IOデータ'!Y$232","v":1.1221538894624305E-2},{"$f":"+SUMIFS('R2建設IOデータ'!Z:Z,'R2建設IOデータ'!$A:$A,'R2建設io'!$CE36)/'R2建設IOデータ'!Z$232","v":1.1665903673417841E-2},{"$f":"+SUMIFS('R2建設IOデータ'!AA:AA,'R2建設IOデータ'!$A:$A,'R2建設io'!$CE36)/'R2建設IOデータ'!AA$232","v":8.8682086144173285E-3},{"$f":"+SUMIFS('R2建設IOデータ'!AB:AB,'R2建設IOデータ'!$A:$A,'R2建設io'!$CE36)/'R2建設IOデータ'!AB$232","v":1.2343099076017734E-2},{"$f":"+SUMIFS('R2建設IOデータ'!AC:AC,'R2建設IOデータ'!$A:$A,'R2建設io'!$CE36)/'R2建設IOデータ'!AC$232","v":1.5288724914752081E-2},{"$f":"+SUMIFS('R2建設IOデータ'!AD:AD,'R2建設IOデータ'!$A:$A,'R2建設io'!$CE36)/'R2建設IOデータ'!AD$232","v":1.1971016300682931E-2},{"$f":"+SUMIFS('R2建設IOデータ'!AE:AE,'R2建設IOデータ'!$A:$A,'R2建設io'!$CE36)/'R2建設IOデータ'!AE$232","v":8.6322048850185421E-3},{"$f":"+SUMIFS('R2建設IOデータ'!AF:AF,'R2建設IOデータ'!$A:$A,'R2建設io'!$CE36)/'R2建設IOデータ'!AF$232","v":8.9118128444224207E-3},{"$f":"+SUMIFS('R2建設IOデータ'!AG:AG,'R2建設IOデータ'!$A:$A,'R2建設io'!$CE36)/'R2建設IOデータ'!AG$232","v":8.8856676934227219E-3},{"$f":"+SUMIFS('R2建設IOデータ'!AH:AH,'R2建設IOデータ'!$A:$A,'R2建設io'!$CE36)/'R2建設IOデータ'!AH$232","v":9.6401822438980551E-3},{"$f":"+SUMIFS('R2建設IOデータ'!AI:AI,'R2建設IOデータ'!$A:$A,'R2建設io'!$CE36)/'R2建設IOデータ'!AI$232","v":8.5417288819253246E-3},{"$f":"+SUMIFS('R2建設IOデータ'!AJ:AJ,'R2建設IOデータ'!$A:$A,'R2建設io'!$CE36)/'R2建設IOデータ'!AJ$232","v":8.8065416501798242E-3},{"$f":"+SUMIFS('R2建設IOデータ'!AK:AK,'R2建設IOデータ'!$A:$A,'R2建設io'!$CE36)/'R2建設IOデータ'!AK$232","v":8.2711780173130682E-3},{"$f":"+SUMIFS('R2建設IOデータ'!AL:AL,'R2建設IOデータ'!$A:$A,'R2建設io'!$CE36)/'R2建設IOデータ'!AL$232","v":8.4313393274188988E-3},{"$f":"+SUMIFS('R2建設IOデータ'!AM:AM,'R2建設IOデータ'!$A:$A,'R2建設io'!$CE36)/'R2建設IOデータ'!AM$232","v":1.9764333847833451E-2},{"$f":"+SUMIFS('R2建設IOデータ'!AN:AN,'R2建設IOデータ'!$A:$A,'R2建設io'!$CE36)/'R2建設IOデータ'!AN$232","v":8.4451372347051339E-3},{"$f":"+SUMIFS('R2建設IOデータ'!AO:AO,'R2建設IOデータ'!$A:$A,'R2建設io'!$CE36)/'R2建設IOデータ'!AO$232","v":8.553776052765881E-3},{"$f":"+SUMIFS('R2建設IOデータ'!AP:AP,'R2建設IOデータ'!$A:$A,'R2建設io'!$CE36)/'R2建設IOデータ'!AP$232","v":8.0940527660141193E-3},{"$f":"+SUMIFS('R2建設IOデータ'!AQ:AQ,'R2建設IOデータ'!$A:$A,'R2建設io'!$CE36)/'R2建設IOデータ'!AQ$232","v":8.6225564169058761E-3},{"$f":"+SUMIFS('R2建設IOデータ'!AR:AR,'R2建設IOデータ'!$A:$A,'R2建設io'!$CE36)/'R2建設IOデータ'!AR$232","v":8.6560676853658855E-3},{"$f":"+SUMIFS('R2建設IOデータ'!AS:AS,'R2建設IOデータ'!$A:$A,'R2建設io'!$CE36)/'R2建設IOデータ'!AS$232","v":9.1740894460425829E-3},{"$f":"+SUMIFS('R2建設IOデータ'!AT:AT,'R2建設IOデータ'!$A:$A,'R2建設io'!$CE36)/'R2建設IOデータ'!AT$232","v":8.6988061585071066E-3},{"$f":"+SUMIFS('R2建設IOデータ'!AU:AU,'R2建設IOデータ'!$A:$A,'R2建設io'!$CE36)/'R2建設IOデータ'!AU$232","v":8.1598743584199197E-3},{"$f":"+SUMIFS('R2建設IOデータ'!AV:AV,'R2建設IOデータ'!$A:$A,'R2建設io'!$CE36)/'R2建設IOデータ'!AV$232","v":7.7935185368937622E-3},{"$f":"+SUMIFS('R2建設IOデータ'!AW:AW,'R2建設IOデータ'!$A:$A,'R2建設io'!$CE36)/'R2建設IOデータ'!AW$232","v":1.0395715844839405E-2},{"$f":"+SUMIFS('R2建設IOデータ'!AX:AX,'R2建設IOデータ'!$A:$A,'R2建設io'!$CE36)/'R2建設IOデータ'!AX$232","v":7.4268016870759389E-3},{"$f":"+SUMIFS('R2建設IOデータ'!AY:AY,'R2建設IOデータ'!$A:$A,'R2建設io'!$CE36)/'R2建設IOデータ'!AY$232","v":4.5273851590106008E-3},{"$f":"+SUMIFS('R2建設IOデータ'!AZ:AZ,'R2建設IOデータ'!$A:$A,'R2建設io'!$CE36)/'R2建設IOデータ'!AZ$232","v":1.6026808479638669E-3},{"$f":"+SUMIFS('R2建設IOデータ'!BA:BA,'R2建設IOデータ'!$A:$A,'R2建設io'!$CE36)/'R2建設IOデータ'!BA$232","v":6.4778298464981529E-3},{"$f":"+SUMIFS('R2建設IOデータ'!BB:BB,'R2建設IOデータ'!$A:$A,'R2建設io'!$CE36)/'R2建設IOデータ'!BB$232","v":6.1971459034195157E-3},{"$f":"+SUMIFS('R2建設IOデータ'!BC:BC,'R2建設IOデータ'!$A:$A,'R2建設io'!$CE36)/'R2建設IOデータ'!BC$232","v":6.0391834863712272E-3},{"$f":"+SUMIFS('R2建設IOデータ'!BD:BD,'R2建設IOデータ'!$A:$A,'R2建設io'!$CE36)/'R2建設IOデータ'!BD$232","v":6.9958742280193734E-3},{"$f":"+SUMIFS('R2建設IOデータ'!BE:BE,'R2建設IOデータ'!$A:$A,'R2建設io'!$CE36)/'R2建設IOデータ'!BE$232","v":8.1688848095456627E-3},{"$f":"+SUMIFS('R2建設IOデータ'!BF:BF,'R2建設IOデータ'!$A:$A,'R2建設io'!$CE36)/'R2建設IOデータ'!BF$232","v":8.4625362900735066E-3},{"$f":"+SUMIFS('R2建設IOデータ'!BG:BG,'R2建設IOデータ'!$A:$A,'R2建設io'!$CE36)/'R2建設IOデータ'!BG$232","v":9.2394202336516552E-3},{"$f":"+SUMIFS('R2建設IOデータ'!BH:BH,'R2建設IOデータ'!$A:$A,'R2建設io'!$CE36)/'R2建設IOデータ'!BH$232","v":9.2186076233979862E-3},{"$f":"+SUMIFS('R2建設IOデータ'!BI:BI,'R2建設IOデータ'!$A:$A,'R2建設io'!$CE36)/'R2建設IOデータ'!BI$232","v":9.3337624718377865E-3},{"$f":"+SUMIFS('R2建設IOデータ'!BJ:BJ,'R2建設IOデータ'!$A:$A,'R2建設io'!$CE36)/'R2建設IOデータ'!BJ$232","v":6.6064948357681215E-3},{"$f":"+SUMIFS('R2建設IOデータ'!BK:BK,'R2建設IOデータ'!$A:$A,'R2建設io'!$CE36)/'R2建設IOデータ'!BK$232","v":8.8033110823886838E-3},{"$f":"+SUMIFS('R2建設IOデータ'!BL:BL,'R2建設IOデータ'!$A:$A,'R2建設io'!$CE36)/'R2建設IOデータ'!BL$232","v":7.7351298910522644E-3},{"$f":"+SUMIFS('R2建設IOデータ'!BM:BM,'R2建設IOデータ'!$A:$A,'R2建設io'!$CE36)/'R2建設IOデータ'!BM$232","v":7.7756248670477566E-3},{"$f":"+SUMIFS('R2建設IOデータ'!BN:BN,'R2建設IOデータ'!$A:$A,'R2建設io'!$CE36)/'R2建設IOデータ'!BN$232","v":5.4450582831316752E-3},{"$f":"+SUMIFS('R2建設IOデータ'!BO:BO,'R2建設IOデータ'!$A:$A,'R2建設io'!$CE36)/'R2建設IOデータ'!BO$232","v":1.1443131277512996E-2},{"$f":"+SUMIFS('R2建設IOデータ'!BP:BP,'R2建設IOデータ'!$A:$A,'R2建設io'!$CE36)/'R2建設IOデータ'!BP$232","v":7.0283657043270888E-3},{"$f":"+SUMIFS('R2建設IOデータ'!BQ:BQ,'R2建設IOデータ'!$A:$A,'R2建設io'!$CE36)/'R2建設IOデータ'!BQ$232","v":9.0830066781250347E-3},{"$f":"+SUMIFS('R2建設IOデータ'!BR:BR,'R2建設IOデータ'!$A:$A,'R2建設io'!$CE36)/'R2建設IOデータ'!BR$232","v":8.0233961632988297E-3},{"$f":"+SUMIFS('R2建設IOデータ'!BS:BS,'R2建設IOデータ'!$A:$A,'R2建設io'!$CE36)/'R2建設IOデータ'!BS$232","v":8.8813277785964023E-3},{"$f":"+SUMIFS('R2建設IOデータ'!BT:BT,'R2建設IOデータ'!$A:$A,'R2建設io'!$CE36)/'R2建設IOデータ'!BT$232","v":4.7183995821693959E-3},{"$f":"+SUMIFS('R2建設IOデータ'!BU:BU,'R2建設IOデータ'!$A:$A,'R2建設io'!$CE36)/'R2建設IOデータ'!BU$232","v":1.4643755774695358E-2},{"$f":"+SUMIFS('R2建設IOデータ'!BV:BV,'R2建設IOデータ'!$A:$A,'R2建設io'!$CE36)/'R2建設IOデータ'!BV$232","v":1.2414440692481918E-2},{"$f":"+SUMIFS('R2建設IOデータ'!BW:BW,'R2建設IOデータ'!$A:$A,'R2建設io'!$CE36)/'R2建設IOデータ'!BW$232","v":1.9263546181991649E-3},{"$f":"+SUMIFS('R2建設IOデータ'!BX:BX,'R2建設IOデータ'!$A:$A,'R2建設io'!$CE36)/'R2建設IOデータ'!BX$232","v":9.2023177662677053E-3},{"$f":"+SUMIFS('R2建設IOデータ'!BY:BY,'R2建設IOデータ'!$A:$A,'R2建設io'!$CE36)/'R2建設IOデータ'!BY$232","v":7.8885860248904677E-3},{"$f":"+SUMIFS('R2建設IOデータ'!BZ:BZ,'R2建設IOデータ'!$A:$A,'R2建設io'!$CE36)/'R2建設IOデータ'!BZ$232","v":8.2957707745802654E-3},{"$f":"+SUMIFS('R2建設IOデータ'!CA:CA,'R2建設IOデータ'!$A:$A,'R2建設io'!$CE36)/'R2建設IOデータ'!CA$232","v":1.0762290483473075E-2},{"$f":"+SUMIFS('R2建設IOデータ'!CB:CB,'R2建設IOデータ'!$A:$A,'R2建設io'!$CE36)/'R2建設IOデータ'!CB$232","v":9.66170948044205E-3},{"$f":"+SUMIFS('R2建設IOデータ'!CC:CC,'R2建設IOデータ'!$A:$A,'R2建設io'!$CE36)/'R2建設IOデータ'!CC$232","v":8.1317902848857607E-3},{"$f":"+SUMIFS('R2建設IOデータ'!CD:CD,'R2建設IOデータ'!$A:$A,'R2建設io'!$CE36)/'R2建設IOデータ'!CD$232","v":1.0358750162599203E-2}]
[0,null,"61","公務",0,0,0,0,0,0,0,0,0,0,0,0,0,0,0,0,0,0,0,0,0,0,0,0,0,0,0,0,0,0,0,0,0,0,0,0,0,0,0,0,0,0,0,0,0,0,0,0,0,0,0,0,0,0,0,0,0,0,0,0,0,0,0,0,0,0,0,0,0,0,0,null,null,null,null,null,null,null,"61","公務",{"$f":"+SUMIFS('R2建設IOデータ'!L:L,'R2建設IOデータ'!$A:$A,'R2建設io'!$CE37)/'R2建設IOデータ'!L$232","v":0},{"$f":"+SUMIFS('R2建設IOデータ'!M:M,'R2建設IOデータ'!$A:$A,'R2建設io'!$CE37)/'R2建設IOデータ'!M$232","v":0},{"$f":"+SUMIFS('R2建設IOデータ'!N:N,'R2建設IOデータ'!$A:$A,'R2建設io'!$CE37)/'R2建設IOデータ'!N$232","v":0},{"$f":"+SUMIFS('R2建設IOデータ'!O:O,'R2建設IOデータ'!$A:$A,'R2建設io'!$CE37)/'R2建設IOデータ'!O$232","v":0},{"$f":"+SUMIFS('R2建設IOデータ'!P:P,'R2建設IOデータ'!$A:$A,'R2建設io'!$CE37)/'R2建設IOデータ'!P$232","v":0},{"$f":"+SUMIFS('R2建設IOデータ'!Q:Q,'R2建設IOデータ'!$A:$A,'R2建設io'!$CE37)/'R2建設IOデータ'!Q$232","v":0},{"$f":"+SUMIFS('R2建設IOデータ'!R:R,'R2建設IOデータ'!$A:$A,'R2建設io'!$CE37)/'R2建設IOデータ'!R$232","v":0},{"$f":"+SUMIFS('R2建設IOデータ'!S:S,'R2建設IOデータ'!$A:$A,'R2建設io'!$CE37)/'R2建設IOデータ'!S$232","v":0},{"$f":"+SUMIFS('R2建設IOデータ'!T:T,'R2建設IOデータ'!$A:$A,'R2建設io'!$CE37)/'R2建設IOデータ'!T$232","v":0},{"$f":"+SUMIFS('R2建設IOデータ'!U:U,'R2建設IOデータ'!$A:$A,'R2建設io'!$CE37)/'R2建設IOデータ'!U$232","v":0},{"$f":"+SUMIFS('R2建設IOデータ'!V:V,'R2建設IOデータ'!$A:$A,'R2建設io'!$CE37)/'R2建設IOデータ'!V$232","v":0},{"$f":"+SUMIFS('R2建設IOデータ'!W:W,'R2建設IOデータ'!$A:$A,'R2建設io'!$CE37)/'R2建設IOデータ'!W$232","v":0},{"$f":"+SUMIFS('R2建設IOデータ'!X:X,'R2建設IOデータ'!$A:$A,'R2建設io'!$CE37)/'R2建設IOデータ'!X$232","v":0},{"$f":"+SUMIFS('R2建設IOデータ'!Y:Y,'R2建設IOデータ'!$A:$A,'R2建設io'!$CE37)/'R2建設IOデータ'!Y$232","v":0},{"$f":"+SUMIFS('R2建設IOデータ'!Z:Z,'R2建設IOデータ'!$A:$A,'R2建設io'!$CE37)/'R2建設IOデータ'!Z$232","v":0},{"$f":"+SUMIFS('R2建設IOデータ'!AA:AA,'R2建設IOデータ'!$A:$A,'R2建設io'!$CE37)/'R2建設IOデータ'!AA$232","v":0},{"$f":"+SUMIFS('R2建設IOデータ'!AB:AB,'R2建設IOデータ'!$A:$A,'R2建設io'!$CE37)/'R2建設IOデータ'!AB$232","v":0},{"$f":"+SUMIFS('R2建設IOデータ'!AC:AC,'R2建設IOデータ'!$A:$A,'R2建設io'!$CE37)/'R2建設IOデータ'!AC$232","v":0},{"$f":"+SUMIFS('R2建設IOデータ'!AD:AD,'R2建設IOデータ'!$A:$A,'R2建設io'!$CE37)/'R2建設IOデータ'!AD$232","v":0},{"$f":"+SUMIFS('R2建設IOデータ'!AE:AE,'R2建設IOデータ'!$A:$A,'R2建設io'!$CE37)/'R2建設IOデータ'!AE$232","v":0},{"$f":"+SUMIFS('R2建設IOデータ'!AF:AF,'R2建設IOデータ'!$A:$A,'R2建設io'!$CE37)/'R2建設IOデータ'!AF$232","v":0},{"$f":"+SUMIFS('R2建設IOデータ'!AG:AG,'R2建設IOデータ'!$A:$A,'R2建設io'!$CE37)/'R2建設IOデータ'!AG$232","v":0},{"$f":"+SUMIFS('R2建設IOデータ'!AH:AH,'R2建設IOデータ'!$A:$A,'R2建設io'!$CE37)/'R2建設IOデータ'!AH$232","v":0},{"$f":"+SUMIFS('R2建設IOデータ'!AI:AI,'R2建設IOデータ'!$A:$A,'R2建設io'!$CE37)/'R2建設IOデータ'!AI$232","v":0},{"$f":"+SUMIFS('R2建設IOデータ'!AJ:AJ,'R2建設IOデータ'!$A:$A,'R2建設io'!$CE37)/'R2建設IOデータ'!AJ$232","v":0},{"$f":"+SUMIFS('R2建設IOデータ'!AK:AK,'R2建設IOデータ'!$A:$A,'R2建設io'!$CE37)/'R2建設IOデータ'!AK$232","v":0},{"$f":"+SUMIFS('R2建設IOデータ'!AL:AL,'R2建設IOデータ'!$A:$A,'R2建設io'!$CE37)/'R2建設IOデータ'!AL$232","v":0},{"$f":"+SUMIFS('R2建設IOデータ'!AM:AM,'R2建設IOデータ'!$A:$A,'R2建設io'!$CE37)/'R2建設IOデータ'!AM$232","v":0},{"$f":"+SUMIFS('R2建設IOデータ'!AN:AN,'R2建設IOデータ'!$A:$A,'R2建設io'!$CE37)/'R2建設IOデータ'!AN$232","v":0},{"$f":"+SUMIFS('R2建設IOデータ'!AO:AO,'R2建設IOデータ'!$A:$A,'R2建設io'!$CE37)/'R2建設IOデータ'!AO$232","v":0},{"$f":"+SUMIFS('R2建設IOデータ'!AP:AP,'R2建設IOデータ'!$A:$A,'R2建設io'!$CE37)/'R2建設IOデータ'!AP$232","v":0},{"$f":"+SUMIFS('R2建設IOデータ'!AQ:AQ,'R2建設IOデータ'!$A:$A,'R2建設io'!$CE37)/'R2建設IOデータ'!AQ$232","v":0},{"$f":"+SUMIFS('R2建設IOデータ'!AR:AR,'R2建設IOデータ'!$A:$A,'R2建設io'!$CE37)/'R2建設IOデータ'!AR$232","v":0},{"$f":"+SUMIFS('R2建設IOデータ'!AS:AS,'R2建設IOデータ'!$A:$A,'R2建設io'!$CE37)/'R2建設IOデータ'!AS$232","v":0},{"$f":"+SUMIFS('R2建設IOデータ'!AT:AT,'R2建設IOデータ'!$A:$A,'R2建設io'!$CE37)/'R2建設IOデータ'!AT$232","v":0},{"$f":"+SUMIFS('R2建設IOデータ'!AU:AU,'R2建設IOデータ'!$A:$A,'R2建設io'!$CE37)/'R2建設IOデータ'!AU$232","v":0},{"$f":"+SUMIFS('R2建設IOデータ'!AV:AV,'R2建設IOデータ'!$A:$A,'R2建設io'!$CE37)/'R2建設IOデータ'!AV$232","v":0},{"$f":"+SUMIFS('R2建設IOデータ'!AW:AW,'R2建設IOデータ'!$A:$A,'R2建設io'!$CE37)/'R2建設IOデータ'!AW$232","v":0},{"$f":"+SUMIFS('R2建設IOデータ'!AX:AX,'R2建設IOデータ'!$A:$A,'R2建設io'!$CE37)/'R2建設IOデータ'!AX$232","v":0},{"$f":"+SUMIFS('R2建設IOデータ'!AY:AY,'R2建設IOデータ'!$A:$A,'R2建設io'!$CE37)/'R2建設IOデータ'!AY$232","v":0},{"$f":"+SUMIFS('R2建設IOデータ'!AZ:AZ,'R2建設IOデータ'!$A:$A,'R2建設io'!$CE37)/'R2建設IOデータ'!AZ$232","v":0},{"$f":"+SUMIFS('R2建設IOデータ'!BA:BA,'R2建設IOデータ'!$A:$A,'R2建設io'!$CE37)/'R2建設IOデータ'!BA$232","v":0},{"$f":"+SUMIFS('R2建設IOデータ'!BB:BB,'R2建設IOデータ'!$A:$A,'R2建設io'!$CE37)/'R2建設IOデータ'!BB$232","v":0},{"$f":"+SUMIFS('R2建設IOデータ'!BC:BC,'R2建設IOデータ'!$A:$A,'R2建設io'!$CE37)/'R2建設IOデータ'!BC$232","v":0},{"$f":"+SUMIFS('R2建設IOデータ'!BD:BD,'R2建設IOデータ'!$A:$A,'R2建設io'!$CE37)/'R2建設IOデータ'!BD$232","v":0},{"$f":"+SUMIFS('R2建設IOデータ'!BE:BE,'R2建設IOデータ'!$A:$A,'R2建設io'!$CE37)/'R2建設IOデータ'!BE$232","v":0},{"$f":"+SUMIFS('R2建設IOデータ'!BF:BF,'R2建設IOデータ'!$A:$A,'R2建設io'!$CE37)/'R2建設IOデータ'!BF$232","v":0},{"$f":"+SUMIFS('R2建設IOデータ'!BG:BG,'R2建設IOデータ'!$A:$A,'R2建設io'!$CE37)/'R2建設IOデータ'!BG$232","v":0},{"$f":"+SUMIFS('R2建設IOデータ'!BH:BH,'R2建設IOデータ'!$A:$A,'R2建設io'!$CE37)/'R2建設IOデータ'!BH$232","v":0},{"$f":"+SUMIFS('R2建設IOデータ'!BI:BI,'R2建設IOデータ'!$A:$A,'R2建設io'!$CE37)/'R2建設IOデータ'!BI$232","v":0},{"$f":"+SUMIFS('R2建設IOデータ'!BJ:BJ,'R2建設IOデータ'!$A:$A,'R2建設io'!$CE37)/'R2建設IOデータ'!BJ$232","v":0},{"$f":"+SUMIFS('R2建設IOデータ'!BK:BK,'R2建設IOデータ'!$A:$A,'R2建設io'!$CE37)/'R2建設IOデータ'!BK$232","v":0},{"$f":"+SUMIFS('R2建設IOデータ'!BL:BL,'R2建設IOデータ'!$A:$A,'R2建設io'!$CE37)/'R2建設IOデータ'!BL$232","v":0},{"$f":"+SUMIFS('R2建設IOデータ'!BM:BM,'R2建設IOデータ'!$A:$A,'R2建設io'!$CE37)/'R2建設IOデータ'!BM$232","v":0},{"$f":"+SUMIFS('R2建設IOデータ'!BN:BN,'R2建設IOデータ'!$A:$A,'R2建設io'!$CE37)/'R2建設IOデータ'!BN$232","v":0},{"$f":"+SUMIFS('R2建設IOデータ'!BO:BO,'R2建設IOデータ'!$A:$A,'R2建設io'!$CE37)/'R2建設IOデータ'!BO$232","v":0},{"$f":"+SUMIFS('R2建設IOデータ'!BP:BP,'R2建設IOデータ'!$A:$A,'R2建設io'!$CE37)/'R2建設IOデータ'!BP$232","v":0},{"$f":"+SUMIFS('R2建設IOデータ'!BQ:BQ,'R2建設IOデータ'!$A:$A,'R2建設io'!$CE37)/'R2建設IOデータ'!BQ$232","v":0},{"$f":"+SUMIFS('R2建設IOデータ'!BR:BR,'R2建設IOデータ'!$A:$A,'R2建設io'!$CE37)/'R2建設IOデータ'!BR$232","v":0},{"$f":"+SUMIFS('R2建設IOデータ'!BS:BS,'R2建設IOデータ'!$A:$A,'R2建設io'!$CE37)/'R2建設IOデータ'!BS$232","v":0},{"$f":"+SUMIFS('R2建設IOデータ'!BT:BT,'R2建設IOデータ'!$A:$A,'R2建設io'!$CE37)/'R2建設IOデータ'!BT$232","v":0},{"$f":"+SUMIFS('R2建設IOデータ'!BU:BU,'R2建設IOデータ'!$A:$A,'R2建設io'!$CE37)/'R2建設IOデータ'!BU$232","v":0},{"$f":"+SUMIFS('R2建設IOデータ'!BV:BV,'R2建設IOデータ'!$A:$A,'R2建設io'!$CE37)/'R2建設IOデータ'!BV$232","v":0},{"$f":"+SUMIFS('R2建設IOデータ'!BW:BW,'R2建設IOデータ'!$A:$A,'R2建設io'!$CE37)/'R2建設IOデータ'!BW$232","v":0},{"$f":"+SUMIFS('R2建設IOデータ'!BX:BX,'R2建設IOデータ'!$A:$A,'R2建設io'!$CE37)/'R2建設IOデータ'!BX$232","v":0},{"$f":"+SUMIFS('R2建設IOデータ'!BY:BY,'R2建設IOデータ'!$A:$A,'R2建設io'!$CE37)/'R2建設IOデータ'!BY$232","v":0},{"$f":"+SUMIFS('R2建設IOデータ'!BZ:BZ,'R2建設IOデータ'!$A:$A,'R2建設io'!$CE37)/'R2建設IOデータ'!BZ$232","v":0},{"$f":"+SUMIFS('R2建設IOデータ'!CA:CA,'R2建設IOデータ'!$A:$A,'R2建設io'!$CE37)/'R2建設IOデータ'!CA$232","v":0},{"$f":"+SUMIFS('R2建設IOデータ'!CB:CB,'R2建設IOデータ'!$A:$A,'R2建設io'!$CE37)/'R2建設IOデータ'!CB$232","v":0},{"$f":"+SUMIFS('R2建設IOデータ'!CC:CC,'R2建設IOデータ'!$A:$A,'R2建設io'!$CE37)/'R2建設IOデータ'!CC$232","v":0},{"$f":"+SUMIFS('R2建設IOデータ'!CD:CD,'R2建設IOデータ'!$A:$A,'R2建設io'!$CE37)/'R2建設IOデータ'!CD$232","v":0}]
[0,null,"63","教育・研究",0,0,0,0,0,0,0,0,0,0,0,0,0,0,0,0,0,0,0,0,0,0,0,0,0,0,0,0,0,0,0,0,0,0,0,0,0,0,0,0,0,0,0,0,0,0,0,0,0,0,0,0,0,0,0,0,0,0,0,0,0,0,0,0,0,0,0,0,0,0,0,null,null,null,null,null,null,null,"63","教育・研究",{"$f":"+SUMIFS('R2建設IOデータ'!L:L,'R2建設IOデータ'!$A:$A,'R2建設io'!$CE38)/'R2建設IOデータ'!L$232","v":1.7507039154290925E-4},{"$f":"+SUMIFS('R2建設IOデータ'!M:M,'R2建設IOデータ'!$A:$A,'R2建設io'!$CE38)/'R2建設IOデータ'!M$232","v":2.4114400822598965E-4},{"$f":"+SUMIFS('R2建設IOデータ'!N:N,'R2建設IOデータ'!$A:$A,'R2建設io'!$CE38)/'R2建設IOデータ'!N$232","v":2.2251387931116669E-4},{"$f":"+SUMIFS('R2建設IOデータ'!O:O,'R2建設IOデータ'!$A:$A,'R2建設io'!$CE38)/'R2建設IOデータ'!O$232","v":2.2568778107265791E-4},{"$f":"+SUMIFS('R2建設IOデータ'!P:P,'R2建設IOデータ'!$A:$A,'R2建設io'!$CE38)/'R2建設IOデータ'!P$232","v":2.2543908251391844E-4},{"$f":"+SUMIFS('R2建設IOデータ'!Q:Q,'R2建設IOデータ'!$A:$A,'R2建設io'!$CE38)/'R2建設IOデータ'!Q$232","v":2.3700267258332914E-4},{"$f":"+SUMIFS('R2建設IOデータ'!R:R,'R2建設IOデータ'!$A:$A,'R2建設io'!$CE38)/'R2建設IOデータ'!R$232","v":2.1802056670914996E-4},{"$f":"+SUMIFS('R2建設IOデータ'!S:S,'R2建設IOデータ'!$A:$A,'R2建設io'!$CE38)/'R2建設IOデータ'!S$232","v":2.4046811125657947E-4},{"$f":"+SUMIFS('R2建設IOデータ'!T:T,'R2建設IOデータ'!$A:$A,'R2建設io'!$CE38)/'R2建設IOデータ'!T$232","v":2.3523266637394421E-4},{"$f":"+SUMIFS('R2建設IOデータ'!U:U,'R2建設IOデータ'!$A:$A,'R2建設io'!$CE38)/'R2建設IOデータ'!U$232","v":2.3507738489819756E-4},{"$f":"+SUMIFS('R2建設IOデータ'!V:V,'R2建設IOデータ'!$A:$A,'R2建設io'!$CE38)/'R2建設IOデータ'!V$232","v":2.4642681123706261E-4},{"$f":"+SUMIFS('R2建設IOデータ'!W:W,'R2建設IOデータ'!$A:$A,'R2建設io'!$CE38)/'R2建設IOデータ'!W$232","v":1.9212532287176548E-4},{"$f":"+SUMIFS('R2建設IOデータ'!X:X,'R2建設IOデータ'!$A:$A,'R2建設io'!$CE38)/'R2建設IOデータ'!X$232","v":2.5817953533119E-4},{"$f":"+SUMIFS('R2建設IOデータ'!Y:Y,'R2建設IOデータ'!$A:$A,'R2建設io'!$CE38)/'R2建設IOデータ'!Y$232","v":1.6486594548096274E-4},{"$f":"+SUMIFS('R2建設IOデータ'!Z:Z,'R2建設IOデータ'!$A:$A,'R2建設io'!$CE38)/'R2建設IOデータ'!Z$232","v":1.7364673938781631E-4},{"$f":"+SUMIFS('R2建設IOデータ'!AA:AA,'R2建設IOデータ'!$A:$A,'R2建設io'!$CE38)/'R2建設IOデータ'!AA$232","v":2.6062249303688732E-4},{"$f":"+SUMIFS('R2建設IOデータ'!AB:AB,'R2建設IOデータ'!$A:$A,'R2建設io'!$CE38)/'R2建設IOデータ'!AB$232","v":1.1180154077151422E-4},{"$f":"+SUMIFS('R2建設IOデータ'!AC:AC,'R2建設IOデータ'!$A:$A,'R2建設io'!$CE38)/'R2建設IOデータ'!AC$232","v":9.3167123185570276E-5},{"$f":"+SUMIFS('R2建設IOデータ'!AD:AD,'R2建設IOデータ'!$A:$A,'R2建設io'!$CE38)/'R2建設IOデータ'!AD$232","v":1.1415538548626076E-4},{"$f":"+SUMIFS('R2建設IOデータ'!AE:AE,'R2建設IOデータ'!$A:$A,'R2建設io'!$CE38)/'R2建設IOデータ'!AE$232","v":2.7072994826041994E-4},{"$f":"+SUMIFS('R2建設IOデータ'!AF:AF,'R2建設IOデータ'!$A:$A,'R2建設io'!$CE38)/'R2建設IOデータ'!AF$232","v":2.4025106236016638E-4},{"$f":"+SUMIFS('R2建設IOデータ'!AG:AG,'R2建設IOデータ'!$A:$A,'R2建設io'!$CE38)/'R2建設IOデータ'!AG$232","v":3.1165066135169413E-4},{"$f":"+SUMIFS('R2建設IOデータ'!AH:AH,'R2建設IOデータ'!$A:$A,'R2建設io'!$CE38)/'R2建設IOデータ'!AH$232","v":2.9849740259115003E-4},{"$f":"+SUMIFS('R2建設IOデータ'!AI:AI,'R2建設IOデータ'!$A:$A,'R2建設io'!$CE38)/'R2建設IOデータ'!AI$232","v":2.7817890994775963E-4},{"$f":"+SUMIFS('R2建設IOデータ'!AJ:AJ,'R2建設IOデータ'!$A:$A,'R2建設io'!$CE38)/'R2建設IOデータ'!AJ$232","v":2.658439064837562E-4},{"$f":"+SUMIFS('R2建設IOデータ'!AK:AK,'R2建設IOデータ'!$A:$A,'R2建設io'!$CE38)/'R2建設IOデータ'!AK$232","v":2.7026920000316801E-4},{"$f":"+SUMIFS('R2建設IOデータ'!AL:AL,'R2建設IOデータ'!$A:$A,'R2建設io'!$CE38)/'R2建設IOデータ'!AL$232","v":2.6538909113506021E-4},{"$f":"+SUMIFS('R2建設IOデータ'!AM:AM,'R2建設IOデータ'!$A:$A,'R2建設io'!$CE38)/'R2建設IOデータ'!AM$232","v":3.5387569175168466E-4},{"$f":"+SUMIFS('R2建設IOデータ'!AN:AN,'R2建設IOデータ'!$A:$A,'R2建設io'!$CE38)/'R2建設IOデータ'!AN$232","v":2.940166148789068E-5},{"$f":"+SUMIFS('R2建設IOデータ'!AO:AO,'R2建設IOデータ'!$A:$A,'R2建設io'!$CE38)/'R2建設IOデータ'!AO$232","v":1.5082291702414783E-4},{"$f":"+SUMIFS('R2建設IOデータ'!AP:AP,'R2建設IOデータ'!$A:$A,'R2建設io'!$CE38)/'R2建設IOデータ'!AP$232","v":1.3075916364078006E-4},{"$f":"+SUMIFS('R2建設IOデータ'!AQ:AQ,'R2建設IOデータ'!$A:$A,'R2建設io'!$CE38)/'R2建設IOデータ'!AQ$232","v":1.9913290972230088E-4},{"$f":"+SUMIFS('R2建設IOデータ'!AR:AR,'R2建設IOデータ'!$A:$A,'R2建設io'!$CE38)/'R2建設IOデータ'!AR$232","v":1.9969327662640033E-4},{"$f":"+SUMIFS('R2建設IOデータ'!AS:AS,'R2建設IOデータ'!$A:$A,'R2建設io'!$CE38)/'R2建設IOデータ'!AS$232","v":2.0357556982546321E-4},{"$f":"+SUMIFS('R2建設IOデータ'!AT:AT,'R2建設IOデータ'!$A:$A,'R2建設io'!$CE38)/'R2建設IOデータ'!AT$232","v":1.929628412385325E-4},{"$f":"+SUMIFS('R2建設IOデータ'!AU:AU,'R2建設IOデータ'!$A:$A,'R2建設io'!$CE38)/'R2建設IOデータ'!AU$232","v":2.0485040230342898E-4},{"$f":"+SUMIFS('R2建設IOデータ'!AV:AV,'R2建設IOデータ'!$A:$A,'R2建設io'!$CE38)/'R2建設IOデータ'!AV$232","v":1.672672221450462E-4},{"$f":"+SUMIFS('R2建設IOデータ'!AW:AW,'R2建設IOデータ'!$A:$A,'R2建設io'!$CE38)/'R2建設IOデータ'!AW$232","v":2.2027043965455303E-4},{"$f":"+SUMIFS('R2建設IOデータ'!AX:AX,'R2建設IOデータ'!$A:$A,'R2建設io'!$CE38)/'R2建設IOデータ'!AX$232","v":2.0120621854561013E-4},{"$f":"+SUMIFS('R2建設IOデータ'!AY:AY,'R2建設IOデータ'!$A:$A,'R2建設io'!$CE38)/'R2建設IOデータ'!AY$232","v":2.2084805653710247E-4},{"$f":"+SUMIFS('R2建設IOデータ'!AZ:AZ,'R2建設IOデータ'!$A:$A,'R2建設io'!$CE38)/'R2建設IOデータ'!AZ$232","v":3.6424564726451517E-4},{"$f":"+SUMIFS('R2建設IOデータ'!BA:BA,'R2建設IOデータ'!$A:$A,'R2建設io'!$CE38)/'R2建設IOデータ'!BA$232","v":1.8336856096825757E-4},{"$f":"+SUMIFS('R2建設IOデータ'!BB:BB,'R2建設IOデータ'!$A:$A,'R2建設io'!$CE38)/'R2建設IOデータ'!BB$232","v":1.8328337383304659E-4},{"$f":"+SUMIFS('R2建設IOデータ'!BC:BC,'R2建設IOデータ'!$A:$A,'R2建設io'!$CE38)/'R2建設IOデータ'!BC$232","v":1.8357871688490281E-4},{"$f":"+SUMIFS('R2建設IOデータ'!BD:BD,'R2建設IOデータ'!$A:$A,'R2建設io'!$CE38)/'R2建設IOデータ'!BD$232","v":1.5375547753888733E-4},{"$f":"+SUMIFS('R2建設IOデータ'!BE:BE,'R2建設IOデータ'!$A:$A,'R2建設io'!$CE38)/'R2建設IOデータ'!BE$232","v":2.7535566773749428E-4},{"$f":"+SUMIFS('R2建設IOデータ'!BF:BF,'R2建設IOデータ'!$A:$A,'R2建設io'!$CE38)/'R2建設IOデータ'!BF$232","v":1.8531101365124467E-4},{"$f":"+SUMIFS('R2建設IOデータ'!BG:BG,'R2建設IOデータ'!$A:$A,'R2建設io'!$CE38)/'R2建設IOデータ'!BG$232","v":1.842066993068011E-4},{"$f":"+SUMIFS('R2建設IOデータ'!BH:BH,'R2建設IOデータ'!$A:$A,'R2建設io'!$CE38)/'R2建設IOデータ'!BH$232","v":1.8934239021099842E-4},{"$f":"+SUMIFS('R2建設IOデータ'!BI:BI,'R2建設IOデータ'!$A:$A,'R2建設io'!$CE38)/'R2建設IOデータ'!BI$232","v":1.6092693916961701E-4},{"$f":"+SUMIFS('R2建設IOデータ'!BJ:BJ,'R2建設IOデータ'!$A:$A,'R2建設io'!$CE38)/'R2建設IOデータ'!BJ$232","v":1.6542084095820021E-4},{"$f":"+SUMIFS('R2建設IOデータ'!BK:BK,'R2建設IOデータ'!$A:$A,'R2建設io'!$CE38)/'R2建設IOデータ'!BK$232","v":8.3223545007851254E-5},{"$f":"+SUMIFS('R2建設IOデータ'!BL:BL,'R2建設IOデータ'!$A:$A,'R2建設io'!$CE38)/'R2建設IOデータ'!BL$232","v":8.2321574625835169E-5},{"$f":"+SUMIFS('R2建設IOデータ'!BM:BM,'R2建設IOデータ'!$A:$A,'R2建設io'!$CE38)/'R2建設IOデータ'!BM$232","v":8.2914625800177113E-5},{"$f":"+SUMIFS('R2建設IOデータ'!BN:BN,'R2建設IOデータ'!$A:$A,'R2建設io'!$CE38)/'R2建設IOデータ'!BN$232","v":7.9489901943528108E-5},{"$f":"+SUMIFS('R2建設IOデータ'!BO:BO,'R2建設IOデータ'!$A:$A,'R2建設io'!$CE38)/'R2建設IOデータ'!BO$232","v":7.9624173899195793E-5},{"$f":"+SUMIFS('R2建設IOデータ'!BP:BP,'R2建設IOデータ'!$A:$A,'R2建設io'!$CE38)/'R2建設IOデータ'!BP$232","v":8.2551766837120783E-5},{"$f":"+SUMIFS('R2建設IOデータ'!BQ:BQ,'R2建設IOデータ'!$A:$A,'R2建設io'!$CE38)/'R2建設IOデータ'!BQ$232","v":8.3401329778315831E-5},{"$f":"+SUMIFS('R2建設IOデータ'!BR:BR,'R2建設IOデータ'!$A:$A,'R2建設io'!$CE38)/'R2建設IOデータ'!BR$232","v":7.8636272291198849E-5},{"$f":"+SUMIFS('R2建設IOデータ'!BS:BS,'R2建設IOデータ'!$A:$A,'R2建設io'!$CE38)/'R2建設IOデータ'!BS$232","v":8.7071840966631395E-5},{"$f":"+SUMIFS('R2建設IOデータ'!BT:BT,'R2建設IOデータ'!$A:$A,'R2建設io'!$CE38)/'R2建設IOデータ'!BT$232","v":7.71562195826442E-5},{"$f":"+SUMIFS('R2建設IOデータ'!BU:BU,'R2建設IOデータ'!$A:$A,'R2建設io'!$CE38)/'R2建設IOデータ'!BU$232","v":8.1354198748307546E-5},{"$f":"+SUMIFS('R2建設IOデータ'!BV:BV,'R2建設IOデータ'!$A:$A,'R2建設io'!$CE38)/'R2建設IOデータ'!BV$232","v":9.1212054585133973E-5},{"$f":"+SUMIFS('R2建設IOデータ'!BW:BW,'R2建設IOデータ'!$A:$A,'R2建設io'!$CE38)/'R2建設IOデータ'!BW$232","v":3.5611886750887402E-5},{"$f":"+SUMIFS('R2建設IOデータ'!BX:BX,'R2建設IOデータ'!$A:$A,'R2建設io'!$CE38)/'R2建設IOデータ'!BX$232","v":1.7912729353391035E-4},{"$f":"+SUMIFS('R2建設IOデータ'!BY:BY,'R2建設IOデータ'!$A:$A,'R2建設io'!$CE38)/'R2建設IOデータ'!BY$232","v":1.1992892907377063E-4},{"$f":"+SUMIFS('R2建設IOデータ'!BZ:BZ,'R2建設IOデータ'!$A:$A,'R2建設io'!$CE38)/'R2建設IOデータ'!BZ$232","v":1.6964851234016641E-4},{"$f":"+SUMIFS('R2建設IOデータ'!CA:CA,'R2建設IOデータ'!$A:$A,'R2建設io'!$CE38)/'R2建設IOデータ'!CA$232","v":1.8290667916785145E-4},{"$f":"+SUMIFS('R2建設IOデータ'!CB:CB,'R2建設IOデータ'!$A:$A,'R2建設io'!$CE38)/'R2建設IOデータ'!CB$232","v":2.3170583531366472E-4},{"$f":"+SUMIFS('R2建設IOデータ'!CC:CC,'R2建設IOデータ'!$A:$A,'R2建設io'!$CE38)/'R2建設IOデータ'!CC$232","v":1.820673583019405E-4},{"$f":"+SUMIFS('R2建設IOデータ'!CD:CD,'R2建設IOデータ'!$A:$A,'R2建設io'!$CE38)/'R2建設IOデータ'!CD$232","v":1.9184889283567925E-4}]
[0,null,"64","医療・福祉",{"$f":"E$56*CG39","v":0},0,0,0,0,0,0,0,0,0,0,0,0,0,0,0,0,0,0,0,0,0,0,0,0,0,0,0,0,0,{"$f":"AI$56*DK39","v":0},0,0,0,0,0,0,0,0,0,0,0,0,0,0,0,{"$f":"AY$56*EA39","v":0},0,0,0,0,0,0,0,0,0,0,0,0,0,0,0,{"$f":"BO$56*EQ39","v":0},0,0,0,0,0,0,0,0,null,null,null,null,null,null,null,"64","医療・福祉",{"$f":"+SUMIFS('R2建設IOデータ'!L:L,'R2建設IOデータ'!$A:$A,'R2建設io'!$CE39)/'R2建設IOデータ'!L$232","v":1.2427496569224397E-6},{"$f":"+SUMIFS('R2建設IOデータ'!M:M,'R2建設IOデータ'!$A:$A,'R2建設io'!$CE39)/'R2建設IOデータ'!M$232","v":7.7966539100414279E-7},{"$f":"+SUMIFS('R2建設IOデータ'!N:N,'R2建設IOデータ'!$A:$A,'R2建設io'!$CE39)/'R2建設IOデータ'!N$232","v":5.0845787903151489E-7},{"$f":"+SUMIFS('R2建設IOデータ'!O:O,'R2建設IOデータ'!$A:$A,'R2建設io'!$CE39)/'R2建設IOデータ'!O$232","v":4.3380640283067353E-7},{"$f":"+SUMIFS('R2建設IOデータ'!P:P,'R2建設IOデータ'!$A:$A,'R2建設io'!$CE39)/'R2建設IOデータ'!P$232","v":4.4334136187594579E-7},{"$f":"+SUMIFS('R2建設IOデータ'!Q:Q,'R2建設IOデータ'!$A:$A,'R2建設io'!$CE39)/'R2建設IOデータ'!Q$232","v":0},{"$f":"+SUMIFS('R2建設IOデータ'!R:R,'R2建設IOデータ'!$A:$A,'R2建設io'!$CE39)/'R2建設IOデータ'!R$232","v":6.1414244143422528E-7},{"$f":"+SUMIFS('R2建設IOデータ'!S:S,'R2建設IOデータ'!$A:$A,'R2建設io'!$CE39)/'R2建設IOデータ'!S$232","v":0},{"$f":"+SUMIFS('R2建設IOデータ'!T:T,'R2建設IOデータ'!$A:$A,'R2建設io'!$CE39)/'R2建設IOデータ'!T$232","v":7.7805733089507456E-7},{"$f":"+SUMIFS('R2建設IOデータ'!U:U,'R2建設IOデータ'!$A:$A,'R2建設io'!$CE39)/'R2建設IOデータ'!U$232","v":7.8885028489328036E-7},{"$f":"+SUMIFS('R2建設IOデータ'!V:V,'R2建設IOデータ'!$A:$A,'R2建設io'!$CE39)/'R2建設IOデータ'!V$232","v":0},{"$f":"+SUMIFS('R2建設IOデータ'!W:W,'R2建設IOデータ'!$A:$A,'R2建設io'!$CE39)/'R2建設IOデータ'!W$232","v":3.969531464292675E-7},{"$f":"+SUMIFS('R2建設IOデータ'!X:X,'R2建設IOデータ'!$A:$A,'R2建設io'!$CE39)/'R2建設IOデータ'!X$232","v":0},{"$f":"+SUMIFS('R2建設IOデータ'!Y:Y,'R2建設IOデータ'!$A:$A,'R2建設io'!$CE39)/'R2建設IOデータ'!Y$232","v":5.6076852204409097E-7},{"$f":"+SUMIFS('R2建設IOデータ'!Z:Z,'R2建設IOデータ'!$A:$A,'R2建設io'!$CE39)/'R2建設IOデータ'!Z$232","v":0},{"$f":"+SUMIFS('R2建設IOデータ'!AA:AA,'R2建設IOデータ'!$A:$A,'R2建設io'!$CE39)/'R2建設IOデータ'!AA$232","v":1.0632228170806214E-6},{"$f":"+SUMIFS('R2建設IOデータ'!AB:AB,'R2建設IOデータ'!$A:$A,'R2建設io'!$CE39)/'R2建設IOデータ'!AB$232","v":9.4038679153610093E-6},{"$f":"+SUMIFS('R2建設IOデータ'!AC:AC,'R2建設IOデータ'!$A:$A,'R2建設io'!$CE39)/'R2建設IOデータ'!AC$232","v":9.3167123185570276E-6},{"$f":"+SUMIFS('R2建設IOデータ'!AD:AD,'R2建設IOデータ'!$A:$A,'R2建設io'!$CE39)/'R2建設IOデータ'!AD$232","v":9.4148771535060419E-6},{"$f":"+SUMIFS('R2建設IOデータ'!AE:AE,'R2建設IOデータ'!$A:$A,'R2建設io'!$CE39)/'R2建設IOデータ'!AE$232","v":4.9675219864297231E-7},{"$f":"+SUMIFS('R2建設IOデータ'!AF:AF,'R2建設IOデータ'!$A:$A,'R2建設io'!$CE39)/'R2建設IOデータ'!AF$232","v":0},{"$f":"+SUMIFS('R2建設IOデータ'!AG:AG,'R2建設IOデータ'!$A:$A,'R2建設io'!$CE39)/'R2建設IOデータ'!AG$232","v":0},{"$f":"+SUMIFS('R2建設IOデータ'!AH:AH,'R2建設IOデータ'!$A:$A,'R2建設io'!$CE39)/'R2建設IOデータ'!AH$232","v":0},{"$f":"+SUMIFS('R2建設IOデータ'!AI:AI,'R2建設IOデータ'!$A:$A,'R2建設io'!$CE39)/'R2建設IOデータ'!AI$232","v":0},{"$f":"+SUMIFS('R2建設IOデータ'!AJ:AJ,'R2建設IOデータ'!$A:$A,'R2建設io'!$CE39)/'R2建設IOデータ'!AJ$232","v":4.1088702702280711E-7},{"$f":"+SUMIFS('R2建設IOデータ'!AK:AK,'R2建設IOデータ'!$A:$A,'R2建設io'!$CE39)/'R2建設IOデータ'!AK$232","v":4.9499853480433698E-7},{"$f":"+SUMIFS('R2建設IOデータ'!AL:AL,'R2建設IOデータ'!$A:$A,'R2建設io'!$CE39)/'R2建設IOデータ'!AL$232","v":6.8664706632615837E-7},{"$f":"+SUMIFS('R2建設IOデータ'!AM:AM,'R2建設IOデータ'!$A:$A,'R2建設io'!$CE39)/'R2建設IOデータ'!AM$232","v":0},{"$f":"+SUMIFS('R2建設IOデータ'!AN:AN,'R2建設IOデータ'!$A:$A,'R2建設io'!$CE39)/'R2建設IOデータ'!AN$232","v":1.568088612687503E-6},{"$f":"+SUMIFS('R2建設IOデータ'!AO:AO,'R2建設IOデータ'!$A:$A,'R2建設io'!$CE39)/'R2建設IOデータ'!AO$232","v":1.7269799659253568E-6},{"$f":"+SUMIFS('R2建設IOデータ'!AP:AP,'R2建設IOデータ'!$A:$A,'R2建設io'!$CE39)/'R2建設IOデータ'!AP$232","v":1.3620746212581257E-6},{"$f":"+SUMIFS('R2建設IOデータ'!AQ:AQ,'R2建設IOデータ'!$A:$A,'R2建設io'!$CE39)/'R2建設IOデータ'!AQ$232","v":6.7617286832699784E-7},{"$f":"+SUMIFS('R2建設IOデータ'!AR:AR,'R2建設IOデータ'!$A:$A,'R2建設io'!$CE39)/'R2建設IOデータ'!AR$232","v":6.8741231196695476E-7},{"$f":"+SUMIFS('R2建設IOデータ'!AS:AS,'R2建設IOデータ'!$A:$A,'R2建設io'!$CE39)/'R2建設IOデータ'!AS$232","v":6.381679304873455E-7},{"$f":"+SUMIFS('R2建設IOデータ'!AT:AT,'R2建設IOデータ'!$A:$A,'R2建設io'!$CE39)/'R2建設IOデータ'!AT$232","v":1.0318868515429545E-6},{"$f":"+SUMIFS('R2建設IOデータ'!AU:AU,'R2建設IOデータ'!$A:$A,'R2建設io'!$CE39)/'R2建設IOデータ'!AU$232","v":0},{"$f":"+SUMIFS('R2建設IOデータ'!AV:AV,'R2建設IOデータ'!$A:$A,'R2建設io'!$CE39)/'R2建設IOデータ'!AV$232","v":0},{"$f":"+SUMIFS('R2建設IOデータ'!AW:AW,'R2建設IOデータ'!$A:$A,'R2建設io'!$CE39)/'R2建設IOデータ'!AW$232","v":5.2445342774893579E-7},{"$f":"+SUMIFS('R2建設IOデータ'!AX:AX,'R2建設IOデータ'!$A:$A,'R2建設io'!$CE39)/'R2建設IOデータ'!AX$232","v":0},{"$f":"+SUMIFS('R2建設IOデータ'!AY:AY,'R2建設IOデータ'!$A:$A,'R2建設io'!$CE39)/'R2建設IOデータ'!AY$232","v":0},{"$f":"+SUMIFS('R2建設IOデータ'!AZ:AZ,'R2建設IOデータ'!$A:$A,'R2建設io'!$CE39)/'R2建設IOデータ'!AZ$232","v":0},{"$f":"+SUMIFS('R2建設IOデータ'!BA:BA,'R2建設IOデータ'!$A:$A,'R2建設io'!$CE39)/'R2建設IOデータ'!BA$232","v":8.9448078521101247E-7},{"$f":"+SUMIFS('R2建設IOデータ'!BB:BB,'R2建設IOデータ'!$A:$A,'R2建設io'!$CE39)/'R2建設IOデータ'!BB$232","v":9.8539448297336878E-7},{"$f":"+SUMIFS('R2建設IOデータ'!BC:BC,'R2建設IOデータ'!$A:$A,'R2建設io'!$CE39)/'R2建設IOデータ'!BC$232","v":1.1125982841509261E-6},{"$f":"+SUMIFS('R2建設IOデータ'!BD:BD,'R2建設IOデータ'!$A:$A,'R2建設io'!$CE39)/'R2建設IOデータ'!BD$232","v":0},{"$f":"+SUMIFS('R2建設IOデータ'!BE:BE,'R2建設IOデータ'!$A:$A,'R2建設io'!$CE39)/'R2建設IOデータ'!BE$232","v":0},{"$f":"+SUMIFS('R2建設IOデータ'!BF:BF,'R2建設IOデータ'!$A:$A,'R2建設io'!$CE39)/'R2建設IOデータ'!BF$232","v":0},{"$f":"+SUMIFS('R2建設IOデータ'!BG:BG,'R2建設IOデータ'!$A:$A,'R2建設io'!$CE39)/'R2建設IOデータ'!BG$232","v":0},{"$f":"+SUMIFS('R2建設IOデータ'!BH:BH,'R2建設IOデータ'!$A:$A,'R2建設io'!$CE39)/'R2建設IOデータ'!BH$232","v":0},{"$f":"+SUMIFS('R2建設IOデータ'!BI:BI,'R2建設IOデータ'!$A:$A,'R2建設io'!$CE39)/'R2建設IOデータ'!BI$232","v":0},{"$f":"+SUMIFS('R2建設IOデータ'!BJ:BJ,'R2建設IOデータ'!$A:$A,'R2建設io'!$CE39)/'R2建設IOデータ'!BJ$232","v":0},{"$f":"+SUMIFS('R2建設IOデータ'!BK:BK,'R2建設IOデータ'!$A:$A,'R2建設io'!$CE39)/'R2建設IOデータ'!BK$232","v":8.207450198012943E-7},{"$f":"+SUMIFS('R2建設IOデータ'!BL:BL,'R2建設IOデータ'!$A:$A,'R2建設io'!$CE39)/'R2建設IOデータ'!BL$232","v":8.8517822178317386E-7},{"$f":"+SUMIFS('R2建設IOデータ'!BM:BM,'R2建設IOデータ'!$A:$A,'R2建設io'!$CE39)/'R2建設IOデータ'!BM$232","v":1.3592561606586412E-6},{"$f":"+SUMIFS('R2建設IOデータ'!BN:BN,'R2建設IOデータ'!$A:$A,'R2建設io'!$CE39)/'R2建設IOデータ'!BN$232","v":0},{"$f":"+SUMIFS('R2建設IOデータ'!BO:BO,'R2建設IOデータ'!$A:$A,'R2建設io'!$CE39)/'R2建設IOデータ'!BO$232","v":0},{"$f":"+SUMIFS('R2建設IOデータ'!BP:BP,'R2建設IOデータ'!$A:$A,'R2建設io'!$CE39)/'R2建設IOデータ'!BP$232","v":0},{"$f":"+SUMIFS('R2建設IOデータ'!BQ:BQ,'R2建設IOデータ'!$A:$A,'R2建設io'!$CE39)/'R2建設IOデータ'!BQ$232","v":8.5980752348779207E-7},{"$f":"+SUMIFS('R2建設IOデータ'!BR:BR,'R2建設IOデータ'!$A:$A,'R2建設io'!$CE39)/'R2建設IOデータ'!BR$232","v":1.2481947982729976E-6},{"$f":"+SUMIFS('R2建設IOデータ'!BS:BS,'R2建設IOデータ'!$A:$A,'R2建設io'!$CE39)/'R2建設IOデータ'!BS$232","v":0},{"$f":"+SUMIFS('R2建設IOデータ'!BT:BT,'R2建設IOデータ'!$A:$A,'R2建設io'!$CE39)/'R2建設IOデータ'!BT$232","v":0},{"$f":"+SUMIFS('R2建設IOデータ'!BU:BU,'R2建設IOデータ'!$A:$A,'R2建設io'!$CE39)/'R2建設IOデータ'!BU$232","v":0},{"$f":"+SUMIFS('R2建設IOデータ'!BV:BV,'R2建設IOデータ'!$A:$A,'R2建設io'!$CE39)/'R2建設IOデータ'!BV$232","v":9.6012689036983137E-7},{"$f":"+SUMIFS('R2建設IOデータ'!BW:BW,'R2建設IOデータ'!$A:$A,'R2建設io'!$CE39)/'R2建設IOデータ'!BW$232","v":7.4536507153020133E-6},{"$f":"+SUMIFS('R2建設IOデータ'!BX:BX,'R2建設IOデータ'!$A:$A,'R2建設io'!$CE39)/'R2建設IOデータ'!BX$232","v":2.2417599309964944E-6},{"$f":"+SUMIFS('R2建設IOデータ'!BY:BY,'R2建設IOデータ'!$A:$A,'R2建設io'!$CE39)/'R2建設IOデータ'!BY$232","v":1.9553629740288691E-6},{"$f":"+SUMIFS('R2建設IOデータ'!BZ:BZ,'R2建設IOデータ'!$A:$A,'R2建設io'!$CE39)/'R2建設IOデータ'!BZ$232","v":2.4887312323740796E-6},{"$f":"+SUMIFS('R2建設IOデータ'!CA:CA,'R2建設IOデータ'!$A:$A,'R2建設io'!$CE39)/'R2建設IOデータ'!CA$232","v":1.2296247339015225E-5},{"$f":"+SUMIFS('R2建設IOデータ'!CB:CB,'R2建設IOデータ'!$A:$A,'R2建設io'!$CE39)/'R2建設IOデータ'!CB$232","v":7.0642022961483139E-7},{"$f":"+SUMIFS('R2建設IOデータ'!CC:CC,'R2建設IOデータ'!$A:$A,'R2建設io'!$CE39)/'R2建設IOデータ'!CC$232","v":0},{"$f":"+SUMIFS('R2建設IOデータ'!CD:CD,'R2建設IOデータ'!$A:$A,'R2建設io'!$CE39)/'R2建設IOデータ'!CD$232","v":1.0900505274754503E-6}]
[0,null,"65","他に分類されない会員制団体",0,0,0,0,0,0,0,0,0,0,0,0,0,0,0,0,{"$f":"U$56*CW40","v":0},0,0,0,0,0,0,0,0,0,0,0,0,0,0,0,0,0,0,0,0,0,0,0,0,0,0,0,0,0,0,0,0,0,0,0,0,0,0,0,0,0,0,0,0,0,0,0,0,0,0,0,0,0,0,null,null,null,null,null,null,null,"65","他に分類されない会員制団体",{"$f":"+SUMIFS('R2建設IOデータ'!L:L,'R2建設IOデータ'!$A:$A,'R2建設io'!$CE40)/'R2建設IOデータ'!L$232","v":9.0214186487579833E-4},{"$f":"+SUMIFS('R2建設IOデータ'!M:M,'R2建設IOデータ'!$A:$A,'R2建設io'!$CE40)/'R2建設IOデータ'!M$232","v":7.4779656814684837E-4},{"$f":"+SUMIFS('R2建設IOデータ'!N:N,'R2建設IOデータ'!$A:$A,'R2建設io'!$CE40)/'R2建設IOデータ'!N$232","v":2.1215405002589956E-4},{"$f":"+SUMIFS('R2建設IOデータ'!O:O,'R2建設IOデータ'!$A:$A,'R2建設io'!$CE40)/'R2建設IOデータ'!O$232","v":8.8604957778165068E-5},{"$f":"+SUMIFS('R2建設IOデータ'!P:P,'R2建設IOデータ'!$A:$A,'R2建設io'!$CE40)/'R2建設IOデータ'!P$232","v":8.8779107715658141E-5},{"$f":"+SUMIFS('R2建設IOデータ'!Q:Q,'R2建設IOデータ'!$A:$A,'R2建設io'!$CE40)/'R2建設IOデータ'!Q$232","v":8.0681760879431193E-5},{"$f":"+SUMIFS('R2建設IOデータ'!R:R,'R2建設IOデータ'!$A:$A,'R2建設io'!$CE40)/'R2建設IOデータ'!R$232","v":3.870632737139205E-4},{"$f":"+SUMIFS('R2建設IOデータ'!S:S,'R2建設IOデータ'!$A:$A,'R2建設io'!$CE40)/'R2建設IOデータ'!S$232","v":3.8742084591337806E-4},{"$f":"+SUMIFS('R2建設IOデータ'!T:T,'R2建設IOデータ'!$A:$A,'R2建設io'!$CE40)/'R2建設IOデータ'!T$232","v":3.8565708368032528E-4},{"$f":"+SUMIFS('R2建設IOデータ'!U:U,'R2建設IOデータ'!$A:$A,'R2建設io'!$CE40)/'R2建設IOデータ'!U$232","v":3.8548483921784968E-4},{"$f":"+SUMIFS('R2建設IOデータ'!V:V,'R2建設IOデータ'!$A:$A,'R2建設io'!$CE40)/'R2建設IOデータ'!V$232","v":3.9807407969063956E-4},{"$f":"+SUMIFS('R2建設IOデータ'!W:W,'R2建設IOデータ'!$A:$A,'R2建設io'!$CE40)/'R2建設IOデータ'!W$232","v":3.9020494293996998E-4},{"$f":"+SUMIFS('R2建設IOデータ'!X:X,'R2建設IOデータ'!$A:$A,'R2建設io'!$CE40)/'R2建設IOデータ'!X$232","v":3.3970991490946053E-4},{"$f":"+SUMIFS('R2建設IOデータ'!Y:Y,'R2建設IOデータ'!$A:$A,'R2建設io'!$CE40)/'R2建設IOデータ'!Y$232","v":4.1104332665831871E-4},{"$f":"+SUMIFS('R2建設IOデータ'!Z:Z,'R2建設IOデータ'!$A:$A,'R2建設io'!$CE40)/'R2建設IOデータ'!Z$232","v":3.4729347877563262E-4},{"$f":"+SUMIFS('R2建設IOデータ'!AA:AA,'R2建設IOデータ'!$A:$A,'R2建設io'!$CE40)/'R2建設IOデータ'!AA$232","v":1.3078305164352319E-3},{"$f":"+SUMIFS('R2建設IOデータ'!AB:AB,'R2建設IOデータ'!$A:$A,'R2建設io'!$CE40)/'R2建設IOデータ'!AB$232","v":2.8963913179311908E-3},{"$f":"+SUMIFS('R2建設IOデータ'!AC:AC,'R2建設IOデータ'!$A:$A,'R2建設io'!$CE40)/'R2建設IOデータ'!AC$232","v":3.9316525984310659E-3},{"$f":"+SUMIFS('R2建設IOデータ'!AD:AD,'R2建設IOデータ'!$A:$A,'R2建設io'!$CE40)/'R2建設IOデータ'!AD$232","v":2.7656201638423996E-3},{"$f":"+SUMIFS('R2建設IOデータ'!AE:AE,'R2建設IOデータ'!$A:$A,'R2建設io'!$CE40)/'R2建設IOデータ'!AE$232","v":1.1999404181220028E-3},{"$f":"+SUMIFS('R2建設IOデータ'!AF:AF,'R2建設IOデータ'!$A:$A,'R2建設io'!$CE40)/'R2建設IOデータ'!AF$232","v":1.3288886886796702E-3},{"$f":"+SUMIFS('R2建設IOデータ'!AG:AG,'R2建設IOデータ'!$A:$A,'R2建設io'!$CE40)/'R2建設IOデータ'!AG$232","v":1.1886211270157637E-3},{"$f":"+SUMIFS('R2建設IOデータ'!AH:AH,'R2建設IOデータ'!$A:$A,'R2建設io'!$CE40)/'R2建設IOデータ'!AH$232","v":1.3721251570722218E-3},{"$f":"+SUMIFS('R2建設IOデータ'!AI:AI,'R2建設IOデータ'!$A:$A,'R2建設io'!$CE40)/'R2建設IOデータ'!AI$232","v":1.1802149341165978E-3},{"$f":"+SUMIFS('R2建設IOデータ'!AJ:AJ,'R2建設IOデータ'!$A:$A,'R2建設io'!$CE40)/'R2建設IOデータ'!AJ$232","v":1.2663538172842915E-3},{"$f":"+SUMIFS('R2建設IOデータ'!AK:AK,'R2建設IOデータ'!$A:$A,'R2建設io'!$CE40)/'R2建設IOデータ'!AK$232","v":1.1407241234565946E-3},{"$f":"+SUMIFS('R2建設IOデータ'!AL:AL,'R2建設IOデータ'!$A:$A,'R2建設io'!$CE40)/'R2建設IOデータ'!AL$232","v":1.1884144100439986E-3},{"$f":"+SUMIFS('R2建設IOデータ'!AM:AM,'R2建設IOデータ'!$A:$A,'R2建設io'!$CE40)/'R2建設IOデータ'!AM$232","v":1.460678387230358E-3},{"$f":"+SUMIFS('R2建設IOデータ'!AN:AN,'R2建設IOデータ'!$A:$A,'R2建設io'!$CE40)/'R2建設IOデータ'!AN$232","v":1.5094813007883075E-3},{"$f":"+SUMIFS('R2建設IOデータ'!AO:AO,'R2建設IOデータ'!$A:$A,'R2建設io'!$CE40)/'R2建設IOデータ'!AO$232","v":8.3811666192485203E-4},{"$f":"+SUMIFS('R2建設IOデータ'!AP:AP,'R2建設IOデータ'!$A:$A,'R2建設io'!$CE40)/'R2建設IOデータ'!AP$232","v":7.7993906229486111E-4},{"$f":"+SUMIFS('R2建設IOデータ'!AQ:AQ,'R2建設IOデータ'!$A:$A,'R2建設io'!$CE40)/'R2建設IOデータ'!AQ$232","v":6.4236422491064803E-4},{"$f":"+SUMIFS('R2建設IOデータ'!AR:AR,'R2建設IOデータ'!$A:$A,'R2建設io'!$CE40)/'R2建設IOデータ'!AR$232","v":6.4169939322115228E-4},{"$f":"+SUMIFS('R2建設IOデータ'!AS:AS,'R2建設IOデータ'!$A:$A,'R2建設io'!$CE40)/'R2建設IOデータ'!AS$232","v":6.8837047435234993E-4},{"$f":"+SUMIFS('R2建設IOデータ'!AT:AT,'R2建設IOデータ'!$A:$A,'R2建設io'!$CE40)/'R2建設IOデータ'!AT$232","v":6.4028579138240339E-4},{"$f":"+SUMIFS('R2建設IOデータ'!AU:AU,'R2建設IOデータ'!$A:$A,'R2建設io'!$CE40)/'R2建設IOデータ'!AU$232","v":6.1455120691028694E-4},{"$f":"+SUMIFS('R2建設IOデータ'!AV:AV,'R2建設IOデータ'!$A:$A,'R2建設io'!$CE40)/'R2建設IOデータ'!AV$232","v":5.613374573681211E-4},{"$f":"+SUMIFS('R2建設IOデータ'!AW:AW,'R2建設IOデータ'!$A:$A,'R2建設io'!$CE40)/'R2建設IOデータ'!AW$232","v":7.5678629624171428E-4},{"$f":"+SUMIFS('R2建設IOデータ'!AX:AX,'R2建設IOデータ'!$A:$A,'R2建設io'!$CE40)/'R2建設IOデータ'!AX$232","v":7.4879276268872638E-4},{"$f":"+SUMIFS('R2建設IOデータ'!AY:AY,'R2建設IOデータ'!$A:$A,'R2建設io'!$CE40)/'R2建設IOデータ'!AY$232","v":4.4169611307420494E-4},{"$f":"+SUMIFS('R2建設IOデータ'!AZ:AZ,'R2建設IOデータ'!$A:$A,'R2建設io'!$CE40)/'R2建設IOデータ'!AZ$232","v":1.4569825890580607E-4},{"$f":"+SUMIFS('R2建設IOデータ'!BA:BA,'R2建設IOデータ'!$A:$A,'R2建設io'!$CE40)/'R2建設IOデータ'!BA$232","v":4.4545143103508423E-4},{"$f":"+SUMIFS('R2建設IOデータ'!BB:BB,'R2建設IOデータ'!$A:$A,'R2建設io'!$CE40)/'R2建設IOデータ'!BB$232","v":4.2273423319557518E-4},{"$f":"+SUMIFS('R2建設IOデータ'!BC:BC,'R2建設IOデータ'!$A:$A,'R2建設io'!$CE40)/'R2建設IOデータ'!BC$232","v":4.1611175827244639E-4},{"$f":"+SUMIFS('R2建設IOデータ'!BD:BD,'R2建設IOデータ'!$A:$A,'R2建設io'!$CE40)/'R2建設IOデータ'!BD$232","v":4.2282756323194011E-4},{"$f":"+SUMIFS('R2建設IOデータ'!BE:BE,'R2建設IOデータ'!$A:$A,'R2建設io'!$CE40)/'R2建設IOデータ'!BE$232","v":5.9660394676457095E-4},{"$f":"+SUMIFS('R2建設IOデータ'!BF:BF,'R2建設IOデータ'!$A:$A,'R2建設io'!$CE40)/'R2建設IOデータ'!BF$232","v":5.5593304095373399E-4},{"$f":"+SUMIFS('R2建設IOデータ'!BG:BG,'R2建設IOデータ'!$A:$A,'R2建設io'!$CE40)/'R2建設IOデータ'!BG$232","v":6.6896117116680396E-4},{"$f":"+SUMIFS('R2建設IOデータ'!BH:BH,'R2建設IOデータ'!$A:$A,'R2建設io'!$CE40)/'R2建設IOデータ'!BH$232","v":6.7453226512668193E-4},{"$f":"+SUMIFS('R2建設IOデータ'!BI:BI,'R2建設IOデータ'!$A:$A,'R2建設io'!$CE40)/'R2建設IOデータ'!BI$232","v":6.4370775667846802E-4},{"$f":"+SUMIFS('R2建設IOデータ'!BJ:BJ,'R2建設IOデータ'!$A:$A,'R2建設io'!$CE40)/'R2建設IOデータ'!BJ$232","v":6.8236096895257596E-4},{"$f":"+SUMIFS('R2建設IOデータ'!BK:BK,'R2建設IOデータ'!$A:$A,'R2建設io'!$CE40)/'R2建設IOデータ'!BK$232","v":5.9110056326089214E-4},{"$f":"+SUMIFS('R2建設IOデータ'!BL:BL,'R2建設IOデータ'!$A:$A,'R2建設io'!$CE40)/'R2建設IOデータ'!BL$232","v":6.1962475524822164E-4},{"$f":"+SUMIFS('R2建設IOデータ'!BM:BM,'R2建設IOデータ'!$A:$A,'R2建設io'!$CE40)/'R2建設IOデータ'!BM$232","v":6.306948585456095E-4},{"$f":"+SUMIFS('R2建設IOデータ'!BN:BN,'R2建設IOデータ'!$A:$A,'R2建設io'!$CE40)/'R2建設IOデータ'!BN$232","v":4.4855016096705146E-4},{"$f":"+SUMIFS('R2建設IOデータ'!BO:BO,'R2建設IOデータ'!$A:$A,'R2建設io'!$CE40)/'R2建設IOデータ'!BO$232","v":6.4836827317916578E-4},{"$f":"+SUMIFS('R2建設IOデータ'!BP:BP,'R2建設IOデータ'!$A:$A,'R2建設io'!$CE40)/'R2建設IOデータ'!BP$232","v":6.3977619298768605E-4},{"$f":"+SUMIFS('R2建設IOデータ'!BQ:BQ,'R2建設IOデータ'!$A:$A,'R2建設io'!$CE40)/'R2建設IOデータ'!BQ$232","v":6.9730390154859937E-4},{"$f":"+SUMIFS('R2建設IOデータ'!BR:BR,'R2建設IOデータ'!$A:$A,'R2建設io'!$CE40)/'R2建設IOデータ'!BR$232","v":6.3782754191750186E-4},{"$f":"+SUMIFS('R2建設IOデータ'!BS:BS,'R2建設IOデータ'!$A:$A,'R2建設io'!$CE40)/'R2建設IOデータ'!BS$232","v":5.6261804932284895E-4},{"$f":"+SUMIFS('R2建設IOデータ'!BT:BT,'R2建設IOデータ'!$A:$A,'R2建設io'!$CE40)/'R2建設IOデータ'!BT$232","v":4.0160801475068648E-4},{"$f":"+SUMIFS('R2建設IOデータ'!BU:BU,'R2建設IOデータ'!$A:$A,'R2建設io'!$CE40)/'R2建設IOデータ'!BU$232","v":8.8327415783876764E-4},{"$f":"+SUMIFS('R2建設IOデータ'!BV:BV,'R2建設IOデータ'!$A:$A,'R2建設io'!$CE40)/'R2建設IOデータ'!BV$232","v":4.2245583176272577E-4},{"$f":"+SUMIFS('R2建設IOデータ'!BW:BW,'R2建設IOデータ'!$A:$A,'R2建設io'!$CE40)/'R2建設IOデータ'!BW$232","v":2.4067009976297391E-3},{"$f":"+SUMIFS('R2建設IOデータ'!BX:BX,'R2建設IOデータ'!$A:$A,'R2建設io'!$CE40)/'R2建設IOデータ'!BX$232","v":9.201890764376086E-4},{"$f":"+SUMIFS('R2建設IOデータ'!BY:BY,'R2建設IOデータ'!$A:$A,'R2建設io'!$CE40)/'R2建設IOデータ'!BY$232","v":4.4060845681450516E-4},{"$f":"+SUMIFS('R2建設IOデータ'!BZ:BZ,'R2建設IOデータ'!$A:$A,'R2建設io'!$CE40)/'R2建設IOデータ'!BZ$232","v":5.5954973874543885E-4},{"$f":"+SUMIFS('R2建設IOデータ'!CA:CA,'R2建設IOデータ'!$A:$A,'R2建設io'!$CE40)/'R2建設IOデータ'!CA$232","v":4.5957224429569402E-4},{"$f":"+SUMIFS('R2建設IOデータ'!CB:CB,'R2建設IOデータ'!$A:$A,'R2建設io'!$CE40)/'R2建設IOデータ'!CB$232","v":1.2425931838924884E-3},{"$f":"+SUMIFS('R2建設IOデータ'!CC:CC,'R2建設IOデータ'!$A:$A,'R2建設io'!$CE40)/'R2建設IOデータ'!CC$232","v":1.0609561515594896E-3},{"$f":"+SUMIFS('R2建設IOデータ'!CD:CD,'R2建設IOデータ'!$A:$A,'R2建設io'!$CE40)/'R2建設IOデータ'!CD$232","v":1.4156122850147847E-3}]
[0,null,"66","対事業所サービス",0,0,0,0,0,0,0,0,0,0,0,0,0,0,0,0,0,0,0,0,0,0,0,0,0,0,0,0,0,0,0,0,0,0,0,0,0,0,0,0,0,0,0,0,0,0,0,0,0,0,0,0,0,0,0,0,0,0,0,0,0,0,0,0,0,0,0,0,0,0,0,null,null,null,null,null,null,null,"66","対事業所サービス",{"$f":"+SUMIFS('R2建設IOデータ'!L:L,'R2建設IOデータ'!$A:$A,'R2建設io'!$CE41)/'R2建設IOデータ'!L$232","v":0.10595293445914497},{"$f":"+SUMIFS('R2建設IOデータ'!M:M,'R2建設IOデータ'!$A:$A,'R2建設io'!$CE41)/'R2建設IOデータ'!M$232","v":9.8881030728042441E-2},{"$f":"+SUMIFS('R2建設IOデータ'!N:N,'R2建設IOデータ'!$A:$A,'R2建設io'!$CE41)/'R2建設IOデータ'!N$232","v":9.0281971672540415E-2},{"$f":"+SUMIFS('R2建設IOデータ'!O:O,'R2建設IOデータ'!$A:$A,'R2建設io'!$CE41)/'R2建設IOデータ'!O$232","v":7.8242515782148067E-2},{"$f":"+SUMIFS('R2建設IOデータ'!P:P,'R2建設IOデータ'!$A:$A,'R2建設io'!$CE41)/'R2建設IOデータ'!P$232","v":7.881689480828423E-2},{"$f":"+SUMIFS('R2建設IOデータ'!Q:Q,'R2建設IOデータ'!$A:$A,'R2建設io'!$CE41)/'R2建設IOデータ'!Q$232","v":5.2110332308002619E-2},{"$f":"+SUMIFS('R2建設IOデータ'!R:R,'R2建設IOデータ'!$A:$A,'R2建設io'!$CE41)/'R2建設IOデータ'!R$232","v":0.10732630478016233},{"$f":"+SUMIFS('R2建設IOデータ'!S:S,'R2建設IOデータ'!$A:$A,'R2建設io'!$CE41)/'R2建設IOデータ'!S$232","v":0.10274668020413071},{"$f":"+SUMIFS('R2建設IOデータ'!T:T,'R2建設IOデータ'!$A:$A,'R2建設io'!$CE41)/'R2建設IOデータ'!T$232","v":0.11785908707421137},{"$f":"+SUMIFS('R2建設IOデータ'!U:U,'R2建設IOデータ'!$A:$A,'R2建設io'!$CE41)/'R2建設IOデータ'!U$232","v":0.11856419781946004},{"$f":"+SUMIFS('R2建設IOデータ'!V:V,'R2建設IOデータ'!$A:$A,'R2建設io'!$CE41)/'R2建設IOデータ'!V$232","v":6.702809265648102E-2},{"$f":"+SUMIFS('R2建設IOデータ'!W:W,'R2建設IOデータ'!$A:$A,'R2建設io'!$CE41)/'R2建設IOデータ'!W$232","v":8.4915820131002476E-2},{"$f":"+SUMIFS('R2建設IOデータ'!X:X,'R2建設IOデータ'!$A:$A,'R2建設io'!$CE41)/'R2建設IOデータ'!X$232","v":0.18695459573161285},{"$f":"+SUMIFS('R2建設IOデータ'!Y:Y,'R2建設IOデータ'!$A:$A,'R2建設io'!$CE41)/'R2建設IOデータ'!Y$232","v":4.2806265130235686E-2},{"$f":"+SUMIFS('R2建設IOデータ'!Z:Z,'R2建設IOデータ'!$A:$A,'R2建設io'!$CE41)/'R2建設IOデータ'!Z$232","v":0.36285854105166782},{"$f":"+SUMIFS('R2建設IOデータ'!AA:AA,'R2建設IOデータ'!$A:$A,'R2建設io'!$CE41)/'R2建設IOデータ'!AA$232","v":0.10787166315825288},{"$f":"+SUMIFS('R2建設IOデータ'!AB:AB,'R2建設IOデータ'!$A:$A,'R2建設io'!$CE41)/'R2建設IOデータ'!AB$232","v":8.4186560200950208E-2},{"$f":"+SUMIFS('R2建設IOデータ'!AC:AC,'R2建設IOデータ'!$A:$A,'R2建設io'!$CE41)/'R2建設IOデータ'!AC$232","v":9.4434196060894038E-2},{"$f":"+SUMIFS('R2建設IOデータ'!AD:AD,'R2建設IOデータ'!$A:$A,'R2建設io'!$CE41)/'R2建設IOデータ'!AD$232","v":8.2892109038399747E-2},{"$f":"+SUMIFS('R2建設IOデータ'!AE:AE,'R2建設IOデータ'!$A:$A,'R2建設io'!$CE41)/'R2建設IOデータ'!AE$232","v":0.10948028152792176},{"$f":"+SUMIFS('R2建設IOデータ'!AF:AF,'R2建設IOデータ'!$A:$A,'R2建設io'!$CE41)/'R2建設IOデータ'!AF$232","v":0.10001952039881676},{"$f":"+SUMIFS('R2建設IOデータ'!AG:AG,'R2建設IOデータ'!$A:$A,'R2建設io'!$CE41)/'R2建設IOデータ'!AG$232","v":9.4671740049525874E-2},{"$f":"+SUMIFS('R2建設IOデータ'!AH:AH,'R2建設IOデータ'!$A:$A,'R2建設io'!$CE41)/'R2建設IOデータ'!AH$232","v":9.2473211462942184E-2},{"$f":"+SUMIFS('R2建設IOデータ'!AI:AI,'R2建設IOデータ'!$A:$A,'R2建設io'!$CE41)/'R2建設IOデータ'!AI$232","v":0.11301836389892288},{"$f":"+SUMIFS('R2建設IOデータ'!AJ:AJ,'R2建設IOデータ'!$A:$A,'R2建設io'!$CE41)/'R2建設IOデータ'!AJ$232","v":0.10820052437402389},{"$f":"+SUMIFS('R2建設IOデータ'!AK:AK,'R2建設IOデータ'!$A:$A,'R2建設io'!$CE41)/'R2建設IOデータ'!AK$232","v":8.3720339687794521E-2},{"$f":"+SUMIFS('R2建設IOデータ'!AL:AL,'R2建設IOデータ'!$A:$A,'R2建設io'!$CE41)/'R2建設IOデータ'!AL$232","v":0.12948069397359052},{"$f":"+SUMIFS('R2建設IOデータ'!AM:AM,'R2建設IOデータ'!$A:$A,'R2建設io'!$CE41)/'R2建設IOデータ'!AM$232","v":0.16175130821066896},{"$f":"+SUMIFS('R2建設IOデータ'!AN:AN,'R2建設IOデータ'!$A:$A,'R2建設io'!$CE41)/'R2建設IOデータ'!AN$232","v":5.1485053420368784E-2},{"$f":"+SUMIFS('R2建設IOデータ'!AO:AO,'R2建設IOデータ'!$A:$A,'R2建設io'!$CE41)/'R2建設IOデータ'!AO$232","v":0.14020265445677071},{"$f":"+SUMIFS('R2建設IOデータ'!AP:AP,'R2建設IOデータ'!$A:$A,'R2建設io'!$CE41)/'R2建設IOデータ'!AP$232","v":0.16079381708926924},{"$f":"+SUMIFS('R2建設IOデータ'!AQ:AQ,'R2建設IOデータ'!$A:$A,'R2建設io'!$CE41)/'R2建設IOデータ'!AQ$232","v":0.14257865623151619},{"$f":"+SUMIFS('R2建設IOデータ'!AR:AR,'R2建設IOデータ'!$A:$A,'R2建設io'!$CE41)/'R2建設IOデータ'!AR$232","v":0.14312371153154776},{"$f":"+SUMIFS('R2建設IOデータ'!AS:AS,'R2建設IOデータ'!$A:$A,'R2建設io'!$CE41)/'R2建設IOデータ'!AS$232","v":0.15930692410077352},{"$f":"+SUMIFS('R2建設IOデータ'!AT:AT,'R2建設IOデータ'!$A:$A,'R2建設io'!$CE41)/'R2建設IOデータ'!AT$232","v":0.15925728911973344},{"$f":"+SUMIFS('R2建設IOデータ'!AU:AU,'R2建設IOデータ'!$A:$A,'R2建設io'!$CE41)/'R2建設IOデータ'!AU$232","v":0.13952588512444661},{"$f":"+SUMIFS('R2建設IOデータ'!AV:AV,'R2建設IOデータ'!$A:$A,'R2建設io'!$CE41)/'R2建設IOデータ'!AV$232","v":0.15807886507772256},{"$f":"+SUMIFS('R2建設IOデータ'!AW:AW,'R2建設IOデータ'!$A:$A,'R2建設io'!$CE41)/'R2建設IOデータ'!AW$232","v":0.16839780002276128},{"$f":"+SUMIFS('R2建設IOデータ'!AX:AX,'R2建設IOデータ'!$A:$A,'R2建設io'!$CE41)/'R2建設IOデータ'!AX$232","v":0.12256515006418224},{"$f":"+SUMIFS('R2建設IOデータ'!AY:AY,'R2建設IOデータ'!$A:$A,'R2建設io'!$CE41)/'R2建設IOデータ'!AY$232","v":0.11749116607773852},{"$f":"+SUMIFS('R2建設IOデータ'!AZ:AZ,'R2建設IOデータ'!$A:$A,'R2建設io'!$CE41)/'R2建設IOデータ'!AZ$232","v":0.14023457419683835},{"$f":"+SUMIFS('R2建設IOデータ'!BA:BA,'R2建設IOデータ'!$A:$A,'R2建設io'!$CE41)/'R2建設IOデータ'!BA$232","v":7.5074666783545491E-2},{"$f":"+SUMIFS('R2建設IOデータ'!BB:BB,'R2建設IOデータ'!$A:$A,'R2建設io'!$CE41)/'R2建設IOデータ'!BB$232","v":7.505946855704744E-2},{"$f":"+SUMIFS('R2建設IOデータ'!BC:BC,'R2建設IOデータ'!$A:$A,'R2建設io'!$CE41)/'R2建設IOデータ'!BC$232","v":6.7677128428332539E-2},{"$f":"+SUMIFS('R2建設IOデータ'!BD:BD,'R2建設IOデータ'!$A:$A,'R2建設io'!$CE41)/'R2建設IOデータ'!BD$232","v":0.12911616226328063},{"$f":"+SUMIFS('R2建設IOデータ'!BE:BE,'R2建設IOデータ'!$A:$A,'R2建設io'!$CE41)/'R2建設IOデータ'!BE$232","v":0.14768242312987609},{"$f":"+SUMIFS('R2建設IOデータ'!BF:BF,'R2建設IOデータ'!$A:$A,'R2建設io'!$CE41)/'R2建設IOデータ'!BF$232","v":0.12656742232380011},{"$f":"+SUMIFS('R2建設IOデータ'!BG:BG,'R2建設IOデータ'!$A:$A,'R2建設io'!$CE41)/'R2建設IOデータ'!BG$232","v":7.5224198943235246E-2},{"$f":"+SUMIFS('R2建設IOデータ'!BH:BH,'R2建設IOデータ'!$A:$A,'R2建設io'!$CE41)/'R2建設IOデータ'!BH$232","v":7.5133427215601817E-2},{"$f":"+SUMIFS('R2建設IOデータ'!BI:BI,'R2建設IOデータ'!$A:$A,'R2建設io'!$CE41)/'R2建設IOデータ'!BI$232","v":7.5635661409719987E-2},{"$f":"+SUMIFS('R2建設IOデータ'!BJ:BJ,'R2建設IOデータ'!$A:$A,'R2建設io'!$CE41)/'R2建設IOデータ'!BJ$232","v":0.1097877443834455},{"$f":"+SUMIFS('R2建設IOデータ'!BK:BK,'R2建設IOデータ'!$A:$A,'R2建設io'!$CE41)/'R2建設IOデータ'!BK$232","v":0.18334918465548242},{"$f":"+SUMIFS('R2建設IOデータ'!BL:BL,'R2建設IOデータ'!$A:$A,'R2建設io'!$CE41)/'R2建設IOデータ'!BL$232","v":0.21394492067032778},{"$f":"+SUMIFS('R2建設IOデータ'!BM:BM,'R2建設IOデータ'!$A:$A,'R2建設io'!$CE41)/'R2建設IOデータ'!BM$232","v":0.20273577487455766},{"$f":"+SUMIFS('R2建設IOデータ'!BN:BN,'R2建設IOデータ'!$A:$A,'R2建設io'!$CE41)/'R2建設IOデータ'!BN$232","v":0.23677202863907609},{"$f":"+SUMIFS('R2建設IOデータ'!BO:BO,'R2建設IOデータ'!$A:$A,'R2建設io'!$CE41)/'R2建設IOデータ'!BO$232","v":0.21099268595088325},{"$f":"+SUMIFS('R2建設IOデータ'!BP:BP,'R2建設IOデータ'!$A:$A,'R2建設io'!$CE41)/'R2建設IOデータ'!BP$232","v":0.24373638469123346},{"$f":"+SUMIFS('R2建設IOデータ'!BQ:BQ,'R2建設IOデータ'!$A:$A,'R2建設io'!$CE41)/'R2建設IOデータ'!BQ$232","v":0.1042224287670962},{"$f":"+SUMIFS('R2建設IOデータ'!BR:BR,'R2建設IOデータ'!$A:$A,'R2建設io'!$CE41)/'R2建設IOデータ'!BR$232","v":0.12456235169885553},{"$f":"+SUMIFS('R2建設IOデータ'!BS:BS,'R2建設IOデータ'!$A:$A,'R2建設io'!$CE41)/'R2建設IOデータ'!BS$232","v":6.9161833063187364E-2},{"$f":"+SUMIFS('R2建設IOデータ'!BT:BT,'R2建設IOデータ'!$A:$A,'R2建設io'!$CE41)/'R2建設IOデータ'!BT$232","v":0.16373143304818505},{"$f":"+SUMIFS('R2建設IOデータ'!BU:BU,'R2建設IOデータ'!$A:$A,'R2建設io'!$CE41)/'R2建設IOデータ'!BU$232","v":0.12516924578846747},{"$f":"+SUMIFS('R2建設IOデータ'!BV:BV,'R2建設IOデータ'!$A:$A,'R2建設io'!$CE41)/'R2建設IOデータ'!BV$232","v":0.28605732533611644},{"$f":"+SUMIFS('R2建設IOデータ'!BW:BW,'R2建設IOデータ'!$A:$A,'R2建設io'!$CE41)/'R2建設IOデータ'!BW$232","v":0.13623534322405176},{"$f":"+SUMIFS('R2建設IOデータ'!BX:BX,'R2建設IOデータ'!$A:$A,'R2建設io'!$CE41)/'R2建設IOデータ'!BX$232","v":0.11115425016332822},{"$f":"+SUMIFS('R2建設IOデータ'!BY:BY,'R2建設IOデータ'!$A:$A,'R2建設io'!$CE41)/'R2建設IOデータ'!BY$232","v":0.10109161396963452},{"$f":"+SUMIFS('R2建設IOデータ'!BZ:BZ,'R2建設IOデータ'!$A:$A,'R2建設io'!$CE41)/'R2建設IOデータ'!BZ$232","v":9.8793504577398925E-2},{"$f":"+SUMIFS('R2建設IOデータ'!CA:CA,'R2建設IOデータ'!$A:$A,'R2建設io'!$CE41)/'R2建設IOデータ'!CA$232","v":0.10996533995281316},{"$f":"+SUMIFS('R2建設IOデータ'!CB:CB,'R2建設IOデータ'!$A:$A,'R2建設io'!$CE41)/'R2建設IOデータ'!CB$232","v":9.4033009604489445E-2},{"$f":"+SUMIFS('R2建設IOデータ'!CC:CC,'R2建設IOデータ'!$A:$A,'R2建設io'!$CE41)/'R2建設IOデータ'!CC$232","v":0.13093622345954464},{"$f":"+SUMIFS('R2建設IOデータ'!CD:CD,'R2建設IOデータ'!$A:$A,'R2建設io'!$CE41)/'R2建設IOデータ'!CD$232","v":0.13233649423762955}]
[0,null,"67","対個人サービス",0,0,0,0,0,0,0,0,0,0,0,0,0,0,0,0,0,0,0,0,0,0,0,0,0,0,0,0,0,0,0,0,0,0,0,0,0,0,0,0,0,0,0,0,0,0,0,0,0,0,0,0,0,0,0,0,0,0,0,0,0,0,0,0,0,0,0,0,0,0,0,null,null,null,null,null,null,null,"67","対個人サービス",{"$f":"+SUMIFS('R2建設IOデータ'!L:L,'R2建設IOデータ'!$A:$A,'R2建設io'!$CE42)/'R2建設IOデータ'!L$232","v":3.2633976750450644E-4},{"$f":"+SUMIFS('R2建設IOデータ'!M:M,'R2建設IOデータ'!$A:$A,'R2建設io'!$CE42)/'R2建設IOデータ'!M$232","v":2.6148028050801436E-4},{"$f":"+SUMIFS('R2建設IOデータ'!N:N,'R2建設IOデータ'!$A:$A,'R2建設io'!$CE42)/'R2建設IOデータ'!N$232","v":2.2353079506922971E-4},{"$f":"+SUMIFS('R2建設IOデータ'!O:O,'R2建設IOデータ'!$A:$A,'R2建設io'!$CE42)/'R2建設IOデータ'!O$232","v":1.6918449710396269E-4},{"$f":"+SUMIFS('R2建設IOデータ'!P:P,'R2建設IOデータ'!$A:$A,'R2建設io'!$CE42)/'R2建設IOデータ'!P$232","v":1.6946723557708027E-4},{"$f":"+SUMIFS('R2建設IOデータ'!Q:Q,'R2建設IOデータ'!$A:$A,'R2建設io'!$CE42)/'R2建設IOデータ'!Q$232","v":1.5632091170389794E-4},{"$f":"+SUMIFS('R2建設IOデータ'!R:R,'R2建設IOデータ'!$A:$A,'R2建設io'!$CE42)/'R2建設IOデータ'!R$232","v":3.0046918947169472E-4},{"$f":"+SUMIFS('R2建設IOデータ'!S:S,'R2建設IOデータ'!$A:$A,'R2建設io'!$CE42)/'R2建設IOデータ'!S$232","v":2.9390546931359711E-4},{"$f":"+SUMIFS('R2建設IOデータ'!T:T,'R2建設IOデータ'!$A:$A,'R2建設io'!$CE42)/'R2建設IOデータ'!T$232","v":2.9929271995097199E-4},{"$f":"+SUMIFS('R2建設IOデータ'!U:U,'R2建設IOデータ'!$A:$A,'R2建設io'!$CE42)/'R2建設IOデータ'!U$232","v":2.9897425797455326E-4},{"$f":"+SUMIFS('R2建設IOデータ'!V:V,'R2建設IOデータ'!$A:$A,'R2建設io'!$CE42)/'R2建設IOデータ'!V$232","v":3.2225044546385108E-4},{"$f":"+SUMIFS('R2建設IOデータ'!W:W,'R2建設IOデータ'!$A:$A,'R2建設io'!$CE42)/'R2建設IOデータ'!W$232","v":3.0287525072553113E-4},{"$f":"+SUMIFS('R2建設IOデータ'!X:X,'R2建設IOデータ'!$A:$A,'R2建設io'!$CE42)/'R2建設IOデータ'!X$232","v":2.6361489396974135E-4},{"$f":"+SUMIFS('R2建設IOデータ'!Y:Y,'R2建設IOデータ'!$A:$A,'R2建設io'!$CE42)/'R2建設IOデータ'!Y$232","v":3.1907728904308777E-4},{"$f":"+SUMIFS('R2建設IOデータ'!Z:Z,'R2建設IOデータ'!$A:$A,'R2建設io'!$CE42)/'R2建設IOデータ'!Z$232","v":2.841492099073358E-4},{"$f":"+SUMIFS('R2建設IOデータ'!AA:AA,'R2建設IOデータ'!$A:$A,'R2建設io'!$CE42)/'R2建設IOデータ'!AA$232","v":3.0115786293808604E-4},{"$f":"+SUMIFS('R2建設IOデータ'!AB:AB,'R2建設IOデータ'!$A:$A,'R2建設io'!$CE42)/'R2建設IOデータ'!AB$232","v":2.2569282996866421E-4},{"$f":"+SUMIFS('R2建設IOデータ'!AC:AC,'R2建設IOデータ'!$A:$A,'R2建設io'!$CE42)/'R2建設IOデータ'!AC$232","v":2.9813479419382488E-4},{"$f":"+SUMIFS('R2建設IOデータ'!AD:AD,'R2建設IOデータ'!$A:$A,'R2建設io'!$CE42)/'R2建設IOデータ'!AD$232","v":2.1654217453063895E-4},{"$f":"+SUMIFS('R2建設IOデータ'!AE:AE,'R2建設IOデータ'!$A:$A,'R2建設io'!$CE42)/'R2建設IOデータ'!AE$232","v":3.062832127632955E-4},{"$f":"+SUMIFS('R2建設IOデータ'!AF:AF,'R2建設IOデータ'!$A:$A,'R2建設io'!$CE42)/'R2建設IOデータ'!AF$232","v":3.3785305644398397E-4},{"$f":"+SUMIFS('R2建設IOデータ'!AG:AG,'R2建設IOデータ'!$A:$A,'R2建設io'!$CE42)/'R2建設IOデータ'!AG$232","v":3.0440297155281753E-4},{"$f":"+SUMIFS('R2建設IOデータ'!AH:AH,'R2建設IOデータ'!$A:$A,'R2建設io'!$CE42)/'R2建設IOデータ'!AH$232","v":3.4985179443478877E-4},{"$f":"+SUMIFS('R2建設IOデータ'!AI:AI,'R2建設IOデータ'!$A:$A,'R2建設io'!$CE42)/'R2建設IOデータ'!AI$232","v":3.006786747229461E-4},{"$f":"+SUMIFS('R2建設IOデータ'!AJ:AJ,'R2建設IOデータ'!$A:$A,'R2建設io'!$CE42)/'R2建設IOデータ'!AJ$232","v":3.2295720323992637E-4},{"$f":"+SUMIFS('R2建設IOデータ'!AK:AK,'R2建設IOデータ'!$A:$A,'R2建設io'!$CE42)/'R2建設IOデータ'!AK$232","v":2.9105913846495015E-4},{"$f":"+SUMIFS('R2建設IOデータ'!AL:AL,'R2建設IOデータ'!$A:$A,'R2建設io'!$CE42)/'R2建設IOデータ'!AL$232","v":3.0366966508274355E-4},{"$f":"+SUMIFS('R2建設IOデータ'!AM:AM,'R2建設IOデータ'!$A:$A,'R2建設io'!$CE42)/'R2建設IOデータ'!AM$232","v":3.6893423182622447E-4},{"$f":"+SUMIFS('R2建設IOデータ'!AN:AN,'R2建設IOデータ'!$A:$A,'R2建設io'!$CE42)/'R2建設IOデータ'!AN$232","v":1.4818437389896904E-4},{"$f":"+SUMIFS('R2建設IOデータ'!AO:AO,'R2建設IOデータ'!$A:$A,'R2建設io'!$CE42)/'R2建設IOデータ'!AO$232","v":4.9524471638228698E-4},{"$f":"+SUMIFS('R2建設IOデータ'!AP:AP,'R2建設IOデータ'!$A:$A,'R2建設io'!$CE42)/'R2建設IOデータ'!AP$232","v":5.0638907585885424E-4},{"$f":"+SUMIFS('R2建設IOデータ'!AQ:AQ,'R2建設IOデータ'!$A:$A,'R2建設io'!$CE42)/'R2建設IOデータ'!AQ$232","v":6.4101187917399395E-4},{"$f":"+SUMIFS('R2建設IOデータ'!AR:AR,'R2建設IOデータ'!$A:$A,'R2建設io'!$CE42)/'R2建設IOデータ'!AR$232","v":6.4341792400106964E-4},{"$f":"+SUMIFS('R2建設IOデータ'!AS:AS,'R2建設IOデータ'!$A:$A,'R2建設io'!$CE42)/'R2建設IOデータ'!AS$232","v":6.5667480047147848E-4},{"$f":"+SUMIFS('R2建設IOデータ'!AT:AT,'R2建設IOデータ'!$A:$A,'R2建設io'!$CE42)/'R2建設IOデータ'!AT$232","v":6.2583937546080198E-4},{"$f":"+SUMIFS('R2建設IOデータ'!AU:AU,'R2建設IOデータ'!$A:$A,'R2建設io'!$CE42)/'R2建設IOデータ'!AU$232","v":6.7145409643901718E-4},{"$f":"+SUMIFS('R2建設IOデータ'!AV:AV,'R2建設IOデータ'!$A:$A,'R2建設io'!$CE42)/'R2建設IOデータ'!AV$232","v":5.4432723138726899E-4},{"$f":"+SUMIFS('R2建設IOデータ'!AW:AW,'R2建設IOデータ'!$A:$A,'R2建設io'!$CE42)/'R2建設IOデータ'!AW$232","v":7.1692783573279516E-4},{"$f":"+SUMIFS('R2建設IOデータ'!AX:AX,'R2建設IOデータ'!$A:$A,'R2建設io'!$CE42)/'R2建設IOデータ'!AX$232","v":5.9597791316041483E-4},{"$f":"+SUMIFS('R2建設IOデータ'!AY:AY,'R2建設IOデータ'!$A:$A,'R2建設io'!$CE42)/'R2建設IOデータ'!AY$232","v":7.7296819787985862E-4},{"$f":"+SUMIFS('R2建設IOデータ'!AZ:AZ,'R2建設IOデータ'!$A:$A,'R2建設io'!$CE42)/'R2建設IOデータ'!AZ$232","v":1.0927369417935455E-3},{"$f":"+SUMIFS('R2建設IOデータ'!BA:BA,'R2建設IOデータ'!$A:$A,'R2建設io'!$CE42)/'R2建設IOデータ'!BA$232","v":5.8767387588363519E-4},{"$f":"+SUMIFS('R2建設IOデータ'!BB:BB,'R2建設IOデータ'!$A:$A,'R2建設io'!$CE42)/'R2建設IOデータ'!BB$232","v":5.8433892840320761E-4},{"$f":"+SUMIFS('R2建設IOデータ'!BC:BC,'R2建設IOデータ'!$A:$A,'R2建設io'!$CE42)/'R2建設IOデータ'!BC$232","v":5.8633929574753807E-4},{"$f":"+SUMIFS('R2建設IOデータ'!BD:BD,'R2建設IOデータ'!$A:$A,'R2建設io'!$CE42)/'R2建設IOデータ'!BD$232","v":5.1251825846295774E-4},{"$f":"+SUMIFS('R2建設IOデータ'!BE:BE,'R2建設IOデータ'!$A:$A,'R2建設io'!$CE42)/'R2建設IOデータ'!BE$232","v":7.3428178063331801E-4},{"$f":"+SUMIFS('R2建設IOデータ'!BF:BF,'R2建設IOデータ'!$A:$A,'R2建設io'!$CE42)/'R2建設IOデータ'!BF$232","v":6.1770337883748226E-4},{"$f":"+SUMIFS('R2建設IOデータ'!BG:BG,'R2建設IOデータ'!$A:$A,'R2建設io'!$CE42)/'R2建設IOデータ'!BG$232","v":6.2048572398080374E-4},{"$f":"+SUMIFS('R2建設IOデータ'!BH:BH,'R2建設IOデータ'!$A:$A,'R2建設io'!$CE42)/'R2建設IOデータ'!BH$232","v":6.3903056696211968E-4},{"$f":"+SUMIFS('R2建設IOデータ'!BI:BI,'R2建設IOデータ'!$A:$A,'R2建設io'!$CE42)/'R2建設IOデータ'!BI$232","v":5.3642313056538994E-4},{"$f":"+SUMIFS('R2建設IOデータ'!BJ:BJ,'R2建設IOデータ'!$A:$A,'R2建設io'!$CE42)/'R2建設IOデータ'!BJ$232","v":4.9626252287460063E-4},{"$f":"+SUMIFS('R2建設IOデータ'!BK:BK,'R2建設IOデータ'!$A:$A,'R2建設io'!$CE42)/'R2建設IOデータ'!BK$232","v":4.686454063065391E-4},{"$f":"+SUMIFS('R2建設IOデータ'!BL:BL,'R2建設IOデータ'!$A:$A,'R2建設io'!$CE42)/'R2建設IOデータ'!BL$232","v":3.8151181358854789E-4},{"$f":"+SUMIFS('R2建設IOデータ'!BM:BM,'R2建設IOデータ'!$A:$A,'R2建設io'!$CE42)/'R2建設IOデータ'!BM$232","v":3.9758242699265256E-4},{"$f":"+SUMIFS('R2建設IOデータ'!BN:BN,'R2建設IOデータ'!$A:$A,'R2建設io'!$CE42)/'R2建設IOデータ'!BN$232","v":3.4634885846822957E-4},{"$f":"+SUMIFS('R2建設IOデータ'!BO:BO,'R2建設IOデータ'!$A:$A,'R2建設io'!$CE42)/'R2建設IOデータ'!BO$232","v":3.4693390056078166E-4},{"$f":"+SUMIFS('R2建設IOデータ'!BP:BP,'R2建設IOデータ'!$A:$A,'R2建設io'!$CE42)/'R2建設IOデータ'!BP$232","v":3.5543121832649221E-4},{"$f":"+SUMIFS('R2建設IOデータ'!BQ:BQ,'R2建設IOデータ'!$A:$A,'R2建設io'!$CE42)/'R2建設IOデータ'!BQ$232","v":6.8956563383720923E-4},{"$f":"+SUMIFS('R2建設IOデータ'!BR:BR,'R2建設IOデータ'!$A:$A,'R2建設io'!$CE42)/'R2建設IOデータ'!BR$232","v":4.1315247822836226E-4},{"$f":"+SUMIFS('R2建設IOデータ'!BS:BS,'R2建設IOデータ'!$A:$A,'R2建設io'!$CE42)/'R2建設IOデータ'!BS$232","v":3.6168303170754578E-4},{"$f":"+SUMIFS('R2建設IOデータ'!BT:BT,'R2建設IOデータ'!$A:$A,'R2建設io'!$CE42)/'R2建設IOデータ'!BT$232","v":6.1527139205647043E-4},{"$f":"+SUMIFS('R2建設IOデータ'!BU:BU,'R2建設IOデータ'!$A:$A,'R2建設io'!$CE42)/'R2建設IOデータ'!BU$232","v":4.8812519248984525E-4},{"$f":"+SUMIFS('R2建設IOデータ'!BV:BV,'R2建設IOデータ'!$A:$A,'R2建設io'!$CE42)/'R2建設IOデータ'!BV$232","v":3.9461215194200067E-4},{"$f":"+SUMIFS('R2建設IOデータ'!BW:BW,'R2建設IOデータ'!$A:$A,'R2建設io'!$CE42)/'R2建設IOデータ'!BW$232","v":3.7268253576510067E-5},{"$f":"+SUMIFS('R2建設IOデータ'!BX:BX,'R2建設IOデータ'!$A:$A,'R2建設io'!$CE42)/'R2建設IOデータ'!BX$232","v":4.7952312428744062E-4},{"$f":"+SUMIFS('R2建設IOデータ'!BY:BY,'R2建設IOデータ'!$A:$A,'R2建設io'!$CE42)/'R2建設IOデータ'!BY$232","v":3.7673326632956211E-4},{"$f":"+SUMIFS('R2建設IOデータ'!BZ:BZ,'R2建設IOデータ'!$A:$A,'R2建設io'!$CE42)/'R2建設IOデータ'!BZ$232","v":2.4099214100155669E-4},{"$f":"+SUMIFS('R2建設IOデータ'!CA:CA,'R2建設IOデータ'!$A:$A,'R2建設io'!$CE42)/'R2建設IOデータ'!CA$232","v":9.3758885959991086E-5},{"$f":"+SUMIFS('R2建設IOデータ'!CB:CB,'R2建設IOデータ'!$A:$A,'R2建設io'!$CE42)/'R2建設IOデータ'!CB$232","v":8.6465836104855371E-4},{"$f":"+SUMIFS('R2建設IOデータ'!CC:CC,'R2建設IOデータ'!$A:$A,'R2建設io'!$CE42)/'R2建設IOデータ'!CC$232","v":6.0578775580463838E-4},{"$f":"+SUMIFS('R2建設IOデータ'!CD:CD,'R2建設IOデータ'!$A:$A,'R2建設io'!$CE42)/'R2建設IOデータ'!CD$232","v":6.1115499573790243E-4}]
[0,null,"68","事務用品",0,0,0,0,0,0,0,0,0,0,0,0,0,0,0,0,0,0,0,0,0,0,0,0,0,0,0,0,0,0,0,0,0,0,0,0,0,0,0,0,0,0,0,0,0,0,0,0,0,0,0,0,0,0,0,0,0,0,0,0,0,0,0,0,0,0,0,0,0,0,0,null,null,null,null,null,null,null,"68","事務用品",{"$f":"+SUMIFS('R2建設IOデータ'!L:L,'R2建設IOデータ'!$A:$A,'R2建設io'!$CE43)/'R2建設IOデータ'!L$232","v":7.8535485914171994E-4},{"$f":"+SUMIFS('R2建設IOデータ'!M:M,'R2建設IOデータ'!$A:$A,'R2建設io'!$CE43)/'R2建設IOデータ'!M$232","v":5.7493825374963826E-4},{"$f":"+SUMIFS('R2建設IOデータ'!N:N,'R2建設IOデータ'!$A:$A,'R2建設io'!$CE43)/'R2建設IOデータ'!N$232","v":7.6777139733758741E-4},{"$f":"+SUMIFS('R2建設IOデータ'!O:O,'R2建設IOデータ'!$A:$A,'R2建設io'!$CE43)/'R2建設IOデータ'!O$232","v":1.1350544530064574E-3},{"$f":"+SUMIFS('R2建設IOデータ'!P:P,'R2建設IOデータ'!$A:$A,'R2建設io'!$CE43)/'R2建設IOデータ'!P$232","v":1.1370597578713318E-3},{"$f":"+SUMIFS('R2建設IOデータ'!Q:Q,'R2建設IOデータ'!$A:$A,'R2建設io'!$CE43)/'R2建設IOデータ'!Q$232","v":1.043820281377641E-3},{"$f":"+SUMIFS('R2建設IOデータ'!R:R,'R2建設IOデータ'!$A:$A,'R2建設io'!$CE43)/'R2建設IOデータ'!R$232","v":2.4780647511870988E-4},{"$f":"+SUMIFS('R2建設IOデータ'!S:S,'R2建設IOデータ'!$A:$A,'R2建設io'!$CE43)/'R2建設IOデータ'!S$232","v":2.4046811125657947E-4},{"$f":"+SUMIFS('R2建設IOデータ'!T:T,'R2建設IOデータ'!$A:$A,'R2建設io'!$CE43)/'R2建設IOデータ'!T$232","v":2.4690352633737031E-4},{"$f":"+SUMIFS('R2建設IOデータ'!U:U,'R2建設IOデータ'!$A:$A,'R2建設io'!$CE43)/'R2建設IOデータ'!U$232","v":2.4664718907663235E-4},{"$f":"+SUMIFS('R2建設IOデータ'!V:V,'R2建設IOデータ'!$A:$A,'R2建設io'!$CE43)/'R2建設IOデータ'!V$232","v":2.6538271979375974E-4},{"$f":"+SUMIFS('R2建設IOデータ'!W:W,'R2建設IOデータ'!$A:$A,'R2建設io'!$CE43)/'R2建設IOデータ'!W$232","v":2.5008048225043855E-4},{"$f":"+SUMIFS('R2建設IOデータ'!X:X,'R2建設IOデータ'!$A:$A,'R2建設io'!$CE43)/'R2建設IOデータ'!X$232","v":2.1741434554205472E-4},{"$f":"+SUMIFS('R2建設IOデータ'!Y:Y,'R2建設IOデータ'!$A:$A,'R2建設io'!$CE43)/'R2建設IOデータ'!Y$232","v":2.6356120536072278E-4},{"$f":"+SUMIFS('R2建設IOデータ'!Z:Z,'R2建設IOデータ'!$A:$A,'R2建設io'!$CE43)/'R2建設IOデータ'!Z$232","v":2.2100494103903894E-4},{"$f":"+SUMIFS('R2建設IOデータ'!AA:AA,'R2建設IOデータ'!$A:$A,'R2建設io'!$CE43)/'R2建設IOデータ'!AA$232","v":3.7332411164743318E-4},{"$f":"+SUMIFS('R2建設IOデータ'!AB:AB,'R2建設IOデータ'!$A:$A,'R2建設io'!$CE43)/'R2建設IOデータ'!AB$232","v":2.0166072307385274E-3},{"$f":"+SUMIFS('R2建設IOデータ'!AC:AC,'R2建設IOデータ'!$A:$A,'R2建設io'!$CE43)/'R2建設IOデータ'!AC$232","v":2.7391134216557659E-3},{"$f":"+SUMIFS('R2建設IOデータ'!AD:AD,'R2建設IOデータ'!$A:$A,'R2建設io'!$CE43)/'R2建設IOデータ'!AD$232","v":1.9253423778919855E-3},{"$f":"+SUMIFS('R2建設IOデータ'!AE:AE,'R2建設IOデータ'!$A:$A,'R2建設io'!$CE43)/'R2建設IOデータ'!AE$232","v":2.6171744408504029E-4},{"$f":"+SUMIFS('R2建設IOデータ'!AF:AF,'R2建設IOデータ'!$A:$A,'R2建設io'!$CE43)/'R2建設IOデータ'!AF$232","v":2.928059822514528E-4},{"$f":"+SUMIFS('R2建設IOデータ'!AG:AG,'R2建設IOデータ'!$A:$A,'R2建設io'!$CE43)/'R2建設IOデータ'!AG$232","v":2.5850093615993234E-4},{"$f":"+SUMIFS('R2建設IOデータ'!AH:AH,'R2建設IOデータ'!$A:$A,'R2建設io'!$CE43)/'R2建設IOデータ'!AH$232","v":2.9849740259115003E-4},{"$f":"+SUMIFS('R2建設IOデータ'!AI:AI,'R2建設IOデータ'!$A:$A,'R2建設io'!$CE43)/'R2建設IOデータ'!AI$232","v":2.5772457833395378E-4},{"$f":"+SUMIFS('R2建設IOデータ'!AJ:AJ,'R2建設IOデータ'!$A:$A,'R2建設io'!$CE43)/'R2建設IOデータ'!AJ$232","v":2.7611608215932635E-4},{"$f":"+SUMIFS('R2建設IOデータ'!AK:AK,'R2建設IOデータ'!$A:$A,'R2建設io'!$CE43)/'R2建設IOデータ'!AK$232","v":2.4873676373917932E-4},{"$f":"+SUMIFS('R2建設IOデータ'!AL:AL,'R2建設IOデータ'!$A:$A,'R2建設io'!$CE43)/'R2建設IOデータ'!AL$232","v":2.5938092930470635E-4},{"$f":"+SUMIFS('R2建設IOデータ'!AM:AM,'R2建設IOデータ'!$A:$A,'R2建設io'!$CE43)/'R2建設IOデータ'!AM$232","v":3.1622934156533522E-4},{"$f":"+SUMIFS('R2建設IOデータ'!AN:AN,'R2建設IOデータ'!$A:$A,'R2建設io'!$CE43)/'R2建設IOデータ'!AN$232","v":2.2933295960554731E-5},{"$f":"+SUMIFS('R2建設IOデータ'!AO:AO,'R2建設IOデータ'!$A:$A,'R2建設io'!$CE43)/'R2建設IOデータ'!AO$232","v":1.4166549505098467E-3},{"$f":"+SUMIFS('R2建設IOデータ'!AP:AP,'R2建設IOデータ'!$A:$A,'R2建設io'!$CE43)/'R2建設IOデータ'!AP$232","v":2.1351276396344042E-3},{"$f":"+SUMIFS('R2建設IOデータ'!AQ:AQ,'R2建設IOデータ'!$A:$A,'R2建設io'!$CE43)/'R2建設IOデータ'!AQ$232","v":2.6725732620624591E-3},{"$f":"+SUMIFS('R2建設IOデータ'!AR:AR,'R2建設IOデータ'!$A:$A,'R2建設io'!$CE43)/'R2建設IOデータ'!AR$232","v":2.6625197373260075E-3},{"$f":"+SUMIFS('R2建設IOデータ'!AS:AS,'R2建設IOデータ'!$A:$A,'R2建設io'!$CE43)/'R2建設IOデータ'!AS$232","v":2.7815612863508429E-3},{"$f":"+SUMIFS('R2建設IOデータ'!AT:AT,'R2建設IOデータ'!$A:$A,'R2建設io'!$CE43)/'R2建設IOデータ'!AT$232","v":2.6756826060508813E-3},{"$f":"+SUMIFS('R2建設IOデータ'!AU:AU,'R2建設IOデータ'!$A:$A,'R2建設io'!$CE43)/'R2建設IOデータ'!AU$232","v":2.5037271392641318E-3},{"$f":"+SUMIFS('R2建設IOデータ'!AV:AV,'R2建設IOデータ'!$A:$A,'R2建設io'!$CE43)/'R2建設IOデータ'!AV$232","v":2.4438024659157597E-3},{"$f":"+SUMIFS('R2建設IOデータ'!AW:AW,'R2建設IOデータ'!$A:$A,'R2建設io'!$CE43)/'R2建設IOデータ'!AW$232","v":3.2222418600894613E-3},{"$f":"+SUMIFS('R2建設IOデータ'!AX:AX,'R2建設IOデータ'!$A:$A,'R2建設io'!$CE43)/'R2建設IOデータ'!AX$232","v":1.635118889952933E-3},{"$f":"+SUMIFS('R2建設IOデータ'!AY:AY,'R2建設IOデータ'!$A:$A,'R2建設io'!$CE43)/'R2建設IOデータ'!AY$232","v":1.2146643109540636E-3},{"$f":"+SUMIFS('R2建設IOデータ'!AZ:AZ,'R2建設IOデータ'!$A:$A,'R2建設io'!$CE43)/'R2建設IOデータ'!AZ$232","v":8.0134042398193343E-4},{"$f":"+SUMIFS('R2建設IOデータ'!BA:BA,'R2建設IOデータ'!$A:$A,'R2建設io'!$CE43)/'R2建設IOデータ'!BA$232","v":2.1619600578550173E-3},{"$f":"+SUMIFS('R2建設IOデータ'!BB:BB,'R2建設IOデータ'!$A:$A,'R2建設io'!$CE43)/'R2建設IOデータ'!BB$232","v":2.0811531480397546E-3},{"$f":"+SUMIFS('R2建設IOデータ'!BC:BC,'R2建設IOデータ'!$A:$A,'R2建設io'!$CE43)/'R2建設IOデータ'!BC$232","v":2.019365885733931E-3},{"$f":"+SUMIFS('R2建設IOデータ'!BD:BD,'R2建設IOデータ'!$A:$A,'R2建設io'!$CE43)/'R2建設IOデータ'!BD$232","v":2.5754042487763627E-3},{"$f":"+SUMIFS('R2建設IOデータ'!BE:BE,'R2建設IOデータ'!$A:$A,'R2建設io'!$CE43)/'R2建設IOデータ'!BE$232","v":2.1569527306103719E-3},{"$f":"+SUMIFS('R2建設IOデータ'!BF:BF,'R2建設IOデータ'!$A:$A,'R2建設io'!$CE43)/'R2建設IOデータ'!BF$232","v":3.0267465563036632E-3},{"$f":"+SUMIFS('R2建設IOデータ'!BG:BG,'R2建設IOデータ'!$A:$A,'R2建設io'!$CE43)/'R2建設IOデータ'!BG$232","v":2.9570022783460179E-3},{"$f":"+SUMIFS('R2建設IOデータ'!BH:BH,'R2建設IOデータ'!$A:$A,'R2建設io'!$CE43)/'R2建設IOデータ'!BH$232","v":2.863803651941351E-3},{"$f":"+SUMIFS('R2建設IOデータ'!BI:BI,'R2建設IOデータ'!$A:$A,'R2建設io'!$CE43)/'R2建設IOデータ'!BI$232","v":3.3794657225619568E-3},{"$f":"+SUMIFS('R2建設IOデータ'!BJ:BJ,'R2建設IOデータ'!$A:$A,'R2建設io'!$CE43)/'R2建設IOデータ'!BJ$232","v":3.277400411484342E-3},{"$f":"+SUMIFS('R2建設IOデータ'!BK:BK,'R2建設IOデータ'!$A:$A,'R2建設io'!$CE43)/'R2建設IOデータ'!BK$232","v":2.0177195566795018E-3},{"$f":"+SUMIFS('R2建設IOデータ'!BL:BL,'R2建設IOデータ'!$A:$A,'R2建設io'!$CE43)/'R2建設IOデータ'!BL$232","v":1.4105314964114875E-3},{"$f":"+SUMIFS('R2建設IOデータ'!BM:BM,'R2建設IOデータ'!$A:$A,'R2建設io'!$CE43)/'R2建設IOデータ'!BM$232","v":1.5801352867656703E-3},{"$f":"+SUMIFS('R2建設IOデータ'!BN:BN,'R2建設IOデータ'!$A:$A,'R2建設io'!$CE43)/'R2建設IOデータ'!BN$232","v":1.0447244255435122E-3},{"$f":"+SUMIFS('R2建設IOデータ'!BO:BO,'R2建設IOデータ'!$A:$A,'R2建設io'!$CE43)/'R2建設IOデータ'!BO$232","v":1.3991104842287262E-3},{"$f":"+SUMIFS('R2建設IOデータ'!BP:BP,'R2建設IOデータ'!$A:$A,'R2建設io'!$CE43)/'R2建設IOデータ'!BP$232","v":9.9062120204544929E-4},{"$f":"+SUMIFS('R2建設IOデータ'!BQ:BQ,'R2建設IOデータ'!$A:$A,'R2建設io'!$CE43)/'R2建設IOデータ'!BQ$232","v":1.4676914425936611E-3},{"$f":"+SUMIFS('R2建設IOデータ'!BR:BR,'R2建設IOデータ'!$A:$A,'R2建設io'!$CE43)/'R2建設IOデータ'!BR$232","v":1.4416649920053124E-3},{"$f":"+SUMIFS('R2建設IOデータ'!BS:BS,'R2建設IOデータ'!$A:$A,'R2建設io'!$CE43)/'R2建設IOデータ'!BS$232","v":1.7749259889351784E-3},{"$f":"+SUMIFS('R2建設IOデータ'!BT:BT,'R2建設IOデータ'!$A:$A,'R2建設io'!$CE43)/'R2建設IOデータ'!BT$232","v":7.2210308070936246E-4},{"$f":"+SUMIFS('R2建設IOデータ'!BU:BU,'R2建設IOデータ'!$A:$A,'R2建設io'!$CE43)/'R2建設IOデータ'!BU$232","v":2.1791303236153806E-3},{"$f":"+SUMIFS('R2建設IOデータ'!BV:BV,'R2建設IOデータ'!$A:$A,'R2建設io'!$CE43)/'R2建設IOデータ'!BV$232","v":5.0291446517571762E-3},{"$f":"+SUMIFS('R2建設IOデータ'!BW:BW,'R2建設IOデータ'!$A:$A,'R2建設io'!$CE43)/'R2建設IOデータ'!BW$232","v":9.4412909060492169E-5},{"$f":"+SUMIFS('R2建設IOデータ'!BX:BX,'R2建設IOデータ'!$A:$A,'R2建設io'!$CE43)/'R2建設IOデータ'!BX$232","v":4.0308978568775062E-4},{"$f":"+SUMIFS('R2建設IOデータ'!BY:BY,'R2建設IOデータ'!$A:$A,'R2建設io'!$CE43)/'R2建設IOデータ'!BY$232","v":1.1986375030796966E-3},{"$f":"+SUMIFS('R2建設IOデータ'!BZ:BZ,'R2建設IOデータ'!$A:$A,'R2建設io'!$CE43)/'R2建設IOデータ'!BZ$232","v":3.5796250892313841E-4},{"$f":"+SUMIFS('R2建設IOデータ'!CA:CA,'R2建設IOデータ'!$A:$A,'R2建設io'!$CE43)/'R2建設IOデータ'!CA$232","v":3.8579476026160265E-4},{"$f":"+SUMIFS('R2建設IOデータ'!CB:CB,'R2建設IOデータ'!$A:$A,'R2建設io'!$CE43)/'R2建設IOデータ'!CB$232","v":1.5046750890795909E-4},{"$f":"+SUMIFS('R2建設IOデータ'!CC:CC,'R2建設IOデータ'!$A:$A,'R2建設io'!$CE43)/'R2建設IOデータ'!CC$232","v":1.6386062247174645E-4},{"$f":"+SUMIFS('R2建設IOデータ'!CD:CD,'R2建設IOデータ'!$A:$A,'R2建設io'!$CE43)/'R2建設IOデータ'!CD$232","v":1.8567193984665169E-4}]
[0,null,"69","分類不明",0,0,0,0,0,0,0,0,0,0,0,0,0,0,0,0,0,0,0,0,0,0,0,0,0,0,0,0,0,0,0,0,0,0,0,0,0,0,0,0,0,0,0,0,0,0,0,0,0,0,0,0,0,0,0,0,0,0,0,0,0,0,0,0,0,0,0,0,0,0,0,null,null,null,null,null,null,null,"69","分類不明",{"$f":"+SUMIFS('R2建設IOデータ'!L:L,'R2建設IOデータ'!$A:$A,'R2建設io'!$CE44)/'R2建設IOデータ'!L$232","v":1.4467776885724733E-2},{"$f":"+SUMIFS('R2建設IOデータ'!M:M,'R2建設IOデータ'!$A:$A,'R2建設io'!$CE44)/'R2建設IOデータ'!M$232","v":1.4501224009691761E-2},{"$f":"+SUMIFS('R2建設IOデータ'!N:N,'R2建設IOデータ'!$A:$A,'R2建設io'!$CE44)/'R2建設IOデータ'!N$232","v":1.1517905661996269E-2},{"$f":"+SUMIFS('R2建設IOデータ'!O:O,'R2建設IOデータ'!$A:$A,'R2建設io'!$CE44)/'R2建設IOデータ'!O$232","v":9.1793434838970522E-3},{"$f":"+SUMIFS('R2建設IOデータ'!P:P,'R2建設IOデータ'!$A:$A,'R2建設io'!$CE44)/'R2建設IOデータ'!P$232","v":9.2254903992765556E-3},{"$f":"+SUMIFS('R2建設IOデータ'!Q:Q,'R2建設IOデータ'!$A:$A,'R2建設io'!$CE44)/'R2建設IOデータ'!Q$232","v":7.0798245171700873E-3},{"$f":"+SUMIFS('R2建設IOデータ'!R:R,'R2建設IOデータ'!$A:$A,'R2建設io'!$CE44)/'R2建設IOデータ'!R$232","v":1.4828622784039727E-2},{"$f":"+SUMIFS('R2建設IOデータ'!S:S,'R2建設IOデータ'!$A:$A,'R2建設io'!$CE44)/'R2建設IOデータ'!S$232","v":2.2296737649290618E-2},{"$f":"+SUMIFS('R2建設IOデータ'!T:T,'R2建設IOデータ'!$A:$A,'R2建設io'!$CE44)/'R2建設IOデータ'!T$232","v":1.7968974704578117E-2},{"$f":"+SUMIFS('R2建設IOデータ'!U:U,'R2建設IOデータ'!$A:$A,'R2建設io'!$CE44)/'R2建設IOデータ'!U$232","v":1.800945200411359E-2},{"$f":"+SUMIFS('R2建設IOデータ'!V:V,'R2建設IOデータ'!$A:$A,'R2建設io'!$CE44)/'R2建設IOデータ'!V$232","v":1.5050991394017514E-2},{"$f":"+SUMIFS('R2建設IOデータ'!W:W,'R2建設IOデータ'!$A:$A,'R2建設io'!$CE44)/'R2建設IOデータ'!W$232","v":9.9234317075852594E-3},{"$f":"+SUMIFS('R2建設IOデータ'!X:X,'R2建設IOデータ'!$A:$A,'R2建設io'!$CE44)/'R2建設IOデータ'!X$232","v":1.542147129722987E-2},{"$f":"+SUMIFS('R2建設IOデータ'!Y:Y,'R2建設IOデータ'!$A:$A,'R2建設io'!$CE44)/'R2建設IOデータ'!Y$232","v":7.6544903259018419E-3},{"$f":"+SUMIFS('R2建設IOデータ'!Z:Z,'R2建設IOデータ'!$A:$A,'R2建設io'!$CE44)/'R2建設IOデータ'!Z$232","v":9.9294362795396777E-3},{"$f":"+SUMIFS('R2建設IOデータ'!AA:AA,'R2建設IOデータ'!$A:$A,'R2建設io'!$CE44)/'R2建設IOデータ'!AA$232","v":1.7620393038920733E-2},{"$f":"+SUMIFS('R2建設IOデータ'!AB:AB,'R2建設IOデータ'!$A:$A,'R2建設io'!$CE44)/'R2建設IOデータ'!AB$232","v":1.0583530901632407E-2},{"$f":"+SUMIFS('R2建設IOデータ'!AC:AC,'R2建設IOデータ'!$A:$A,'R2建設io'!$CE44)/'R2建設IOデータ'!AC$232","v":1.1478189576462258E-2},{"$f":"+SUMIFS('R2建設IOデータ'!AD:AD,'R2建設IOデータ'!$A:$A,'R2建設io'!$CE44)/'R2建設IOデータ'!AD$232","v":1.0470520254342907E-2},{"$f":"+SUMIFS('R2建設IOデータ'!AE:AE,'R2建設IOデータ'!$A:$A,'R2建設io'!$CE44)/'R2建設IOデータ'!AE$232","v":1.8098314782359022E-2},{"$f":"+SUMIFS('R2建設IOデータ'!AF:AF,'R2建設IOデータ'!$A:$A,'R2建設io'!$CE44)/'R2建設IOデータ'!AF$232","v":2.0181089238253975E-2},{"$f":"+SUMIFS('R2建設IOデータ'!AG:AG,'R2建設IOデータ'!$A:$A,'R2建設io'!$CE44)/'R2建設IOデータ'!AG$232","v":1.5171830645648367E-2},{"$f":"+SUMIFS('R2建設IOデータ'!AH:AH,'R2建設IOデータ'!$A:$A,'R2建設io'!$CE44)/'R2建設IOデータ'!AH$232","v":2.40081781869011E-2},{"$f":"+SUMIFS('R2建設IOデータ'!AI:AI,'R2建設IOデータ'!$A:$A,'R2建設io'!$CE44)/'R2建設IOデータ'!AI$232","v":1.3784174074543767E-2},{"$f":"+SUMIFS('R2建設IOデータ'!AJ:AJ,'R2建設IOデータ'!$A:$A,'R2建設io'!$CE44)/'R2建設IOデータ'!AJ$232","v":2.6387575762431694E-2},{"$f":"+SUMIFS('R2建設IOデータ'!AK:AK,'R2建設IOデータ'!$A:$A,'R2建設io'!$CE44)/'R2建設IOデータ'!AK$232","v":1.6133487244877755E-2},{"$f":"+SUMIFS('R2建設IOデータ'!AL:AL,'R2建設IOデータ'!$A:$A,'R2建設io'!$CE44)/'R2建設IOデータ'!AL$232","v":1.5250946328403722E-2},{"$f":"+SUMIFS('R2建設IOデータ'!AM:AM,'R2建設IOデータ'!$A:$A,'R2建設io'!$CE44)/'R2建設IOデータ'!AM$232","v":4.6049015547942627E-2},{"$f":"+SUMIFS('R2建設IOデータ'!AN:AN,'R2建設IOデータ'!$A:$A,'R2建設io'!$CE44)/'R2建設IOデータ'!AN$232","v":1.7596698389425985E-2},{"$f":"+SUMIFS('R2建設IOデータ'!AO:AO,'R2建設IOデータ'!$A:$A,'R2建設io'!$CE44)/'R2建設IOデータ'!AO$232","v":1.3008454452563956E-2},{"$f":"+SUMIFS('R2建設IOデータ'!AP:AP,'R2建設IOデータ'!$A:$A,'R2建設io'!$CE44)/'R2建設IOデータ'!AP$232","v":1.2010925351878737E-2},{"$f":"+SUMIFS('R2建設IOデータ'!AQ:AQ,'R2建設IOデータ'!$A:$A,'R2建設io'!$CE44)/'R2建設IOデータ'!AQ$232","v":1.4205546747464817E-2},{"$f":"+SUMIFS('R2建設IOデータ'!AR:AR,'R2建設IOデータ'!$A:$A,'R2建設io'!$CE44)/'R2建設IOデータ'!AR$232","v":1.4328250377561212E-2},{"$f":"+SUMIFS('R2建設IOデータ'!AS:AS,'R2建設IOデータ'!$A:$A,'R2建設io'!$CE44)/'R2建設IOデータ'!AS$232","v":1.1595298574311571E-2},{"$f":"+SUMIFS('R2建設IOデータ'!AT:AT,'R2建設IOデータ'!$A:$A,'R2建設io'!$CE44)/'R2建設IOデータ'!AT$232","v":1.2360972594633052E-2},{"$f":"+SUMIFS('R2建設IOデータ'!AU:AU,'R2建設IOデータ'!$A:$A,'R2建設io'!$CE44)/'R2建設IOデータ'!AU$232","v":8.0574491572682067E-3},{"$f":"+SUMIFS('R2建設IOデータ'!AV:AV,'R2建設IOデータ'!$A:$A,'R2建設io'!$CE44)/'R2建設IOデータ'!AV$232","v":1.6054818288260959E-2},{"$f":"+SUMIFS('R2建設IOデータ'!AW:AW,'R2建設IOデータ'!$A:$A,'R2建設io'!$CE44)/'R2建設IOデータ'!AW$232","v":1.1366479139602684E-2},{"$f":"+SUMIFS('R2建設IOデータ'!AX:AX,'R2建設IOデータ'!$A:$A,'R2建設io'!$CE44)/'R2建設IOデータ'!AX$232","v":5.7789482263289798E-3},{"$f":"+SUMIFS('R2建設IOデータ'!AY:AY,'R2建設IOデータ'!$A:$A,'R2建設io'!$CE44)/'R2建設IOデータ'!AY$232","v":6.2941696113074201E-3},{"$f":"+SUMIFS('R2建設IOデータ'!AZ:AZ,'R2建設IOデータ'!$A:$A,'R2建設io'!$CE44)/'R2建設IOデータ'!AZ$232","v":1.318569243097545E-2},{"$f":"+SUMIFS('R2建設IOデータ'!BA:BA,'R2建設IOデータ'!$A:$A,'R2建設io'!$CE44)/'R2建設IOデータ'!BA$232","v":2.5820082345901087E-2},{"$f":"+SUMIFS('R2建設IOデータ'!BB:BB,'R2建設IOデータ'!$A:$A,'R2建設io'!$CE44)/'R2建設IOデータ'!BB$232","v":2.7179150629371457E-2},{"$f":"+SUMIFS('R2建設IOデータ'!BC:BC,'R2建設IOデータ'!$A:$A,'R2建設io'!$CE44)/'R2建設IOデータ'!BC$232","v":2.8699472739673142E-2},{"$f":"+SUMIFS('R2建設IOデータ'!BD:BD,'R2建設IOデータ'!$A:$A,'R2建設io'!$CE44)/'R2建設IOデータ'!BD$232","v":1.9334751300515082E-2},{"$f":"+SUMIFS('R2建設IOデータ'!BE:BE,'R2建設IOデータ'!$A:$A,'R2建設io'!$CE44)/'R2建設IOデータ'!BE$232","v":4.9564020192748972E-3},{"$f":"+SUMIFS('R2建設IOデータ'!BF:BF,'R2建設IOデータ'!$A:$A,'R2建設io'!$CE44)/'R2建設IOデータ'!BF$232","v":1.0500957440237197E-2},{"$f":"+SUMIFS('R2建設IOデータ'!BG:BG,'R2建設IOデータ'!$A:$A,'R2建設io'!$CE44)/'R2建設IOデータ'!BG$232","v":1.2448494837364875E-2},{"$f":"+SUMIFS('R2建設IOデータ'!BH:BH,'R2建設IOデータ'!$A:$A,'R2建設io'!$CE44)/'R2建設IOデータ'!BH$232","v":1.243742825698496E-2},{"$f":"+SUMIFS('R2建設IOデータ'!BI:BI,'R2建設IOデータ'!$A:$A,'R2建設io'!$CE44)/'R2建設IOデータ'!BI$232","v":1.2498658942173587E-2},{"$f":"+SUMIFS('R2建設IOデータ'!BJ:BJ,'R2建設IOデータ'!$A:$A,'R2建設io'!$CE44)/'R2建設IOデータ'!BJ$232","v":6.823609689525759E-3},{"$f":"+SUMIFS('R2建設IOデータ'!BK:BK,'R2建設IOデータ'!$A:$A,'R2建設io'!$CE44)/'R2建設IOデータ'!BK$232","v":1.2255036337665007E-2},{"$f":"+SUMIFS('R2建設IOデータ'!BL:BL,'R2建設IOデータ'!$A:$A,'R2建設io'!$CE44)/'R2建設IOデータ'!BL$232","v":8.0307794171278445E-3},{"$f":"+SUMIFS('R2建設IOデータ'!BM:BM,'R2建設IOデータ'!$A:$A,'R2建設io'!$CE44)/'R2建設IOデータ'!BM$232","v":8.1969942768519363E-3},{"$f":"+SUMIFS('R2建設IOデータ'!BN:BN,'R2建設IOデータ'!$A:$A,'R2建設io'!$CE44)/'R2建設IOデータ'!BN$232","v":7.0916348233904716E-3},{"$f":"+SUMIFS('R2建設IOデータ'!BO:BO,'R2建設IOデータ'!$A:$A,'R2建設io'!$CE44)/'R2建設IOデータ'!BO$232","v":1.4451787562704037E-2},{"$f":"+SUMIFS('R2建設IOデータ'!BP:BP,'R2建設IOデータ'!$A:$A,'R2建設io'!$CE44)/'R2建設IOデータ'!BP$232","v":5.2603820312320847E-3},{"$f":"+SUMIFS('R2建設IOデータ'!BQ:BQ,'R2建設IOデータ'!$A:$A,'R2建設io'!$CE44)/'R2建設IOデータ'!BQ$232","v":1.0921275163341935E-2},{"$f":"+SUMIFS('R2建設IOデータ'!BR:BR,'R2建設IOデータ'!$A:$A,'R2建設io'!$CE44)/'R2建設IOデータ'!BR$232","v":3.5034331597926502E-2},{"$f":"+SUMIFS('R2建設IOデータ'!BS:BS,'R2建設IOデータ'!$A:$A,'R2建設io'!$CE44)/'R2建設IOデータ'!BS$232","v":4.3489035645872122E-2},{"$f":"+SUMIFS('R2建設IOデータ'!BT:BT,'R2建設IOデータ'!$A:$A,'R2建設io'!$CE44)/'R2建設IOデータ'!BT$232","v":6.3782474854985876E-3},{"$f":"+SUMIFS('R2建設IOデータ'!BU:BU,'R2建設IOデータ'!$A:$A,'R2建設io'!$CE44)/'R2建設IOデータ'!BU$232","v":6.4269817011162961E-3},{"$f":"+SUMIFS('R2建設IOデータ'!BV:BV,'R2建設IOデータ'!$A:$A,'R2建設io'!$CE44)/'R2建設IOデータ'!BV$232","v":4.7238243006195698E-3},{"$f":"+SUMIFS('R2建設IOデータ'!BW:BW,'R2建設IOデータ'!$A:$A,'R2建設io'!$CE44)/'R2建設IOデータ'!BW$232","v":2.7330052622774049E-5},{"$f":"+SUMIFS('R2建設IOデータ'!BX:BX,'R2建設IOデータ'!$A:$A,'R2建設io'!$CE44)/'R2建設IOデータ'!BX$232","v":1.4415690611509409E-2},{"$f":"+SUMIFS('R2建設IOデータ'!BY:BY,'R2建設IOデータ'!$A:$A,'R2建設io'!$CE44)/'R2建設IOデータ'!BY$232","v":1.3177191081980549E-2},{"$f":"+SUMIFS('R2建設IOデータ'!BZ:BZ,'R2建設IOデータ'!$A:$A,'R2建設io'!$CE44)/'R2建設IOデータ'!BZ$232","v":1.4947319781638721E-2},{"$f":"+SUMIFS('R2建設IOデータ'!CA:CA,'R2建設IOデータ'!$A:$A,'R2建設io'!$CE44)/'R2建設IOデータ'!CA$232","v":1.1098900254378617E-2},{"$f":"+SUMIFS('R2建設IOデータ'!CB:CB,'R2建設IOデータ'!$A:$A,'R2建設io'!$CE44)/'R2建設IOデータ'!CB$232","v":8.0171631858987225E-3},{"$f":"+SUMIFS('R2建設IOデータ'!CC:CC,'R2建設IOデータ'!$A:$A,'R2建設io'!$CE44)/'R2建設IOデータ'!CC$232","v":1.9822169845673088E-2},{"$f":"+SUMIFS('R2建設IOデータ'!CD:CD,'R2建設IOデータ'!$A:$A,'R2建設io'!$CE44)/'R2建設IOデータ'!CD$232","v":1.7528739182156892E-2}]
[0,null,"70","内生部門計　　",0,0,0,0,0,0,0,0,0,0,0,0,0,0,0,0,0,0,0,0,0,0,0,0,0,0,0,0,0,0,0,0,0,0,0,0,0,0,0,0,0,0,0,0,0,0,0,0,0,0,0,0,0,0,0,0,0,0,0,0,0,0,0,0,0,0,0,0,0,0,0,null,null,null,null,null,null,null,"70","内生部門計　　",{"$f":"+SUMIFS('R2建設IOデータ'!L:L,'R2建設IOデータ'!$A:$A,'R2建設io'!$CE45)/'R2建設IOデータ'!L$232","v":0.51230610037805391},{"$f":"+SUMIFS('R2建設IOデータ'!M:M,'R2建設IOデータ'!$A:$A,'R2建設io'!$CE45)/'R2建設IOデータ'!M$232","v":0.52685388511812381},{"$f":"+SUMIFS('R2建設IOデータ'!N:N,'R2建設IOデータ'!$A:$A,'R2建設io'!$CE45)/'R2建設IOデータ'!N$232","v":0.5349119891190014},{"$f":"+SUMIFS('R2建設IOデータ'!O:O,'R2建設IOデータ'!$A:$A,'R2建設io'!$CE45)/'R2建設IOデータ'!O$232","v":0.52626182624036366},{"$f":"+SUMIFS('R2建設IOデータ'!P:P,'R2建設IOデータ'!$A:$A,'R2建設io'!$CE45)/'R2建設IOデータ'!P$232","v":0.52471589300089239},{"$f":"+SUMIFS('R2建設IOデータ'!Q:Q,'R2建設IOデータ'!$A:$A,'R2建設io'!$CE45)/'R2建設IOデータ'!Q$232","v":0.59659623821289898},{"$f":"+SUMIFS('R2建設IOデータ'!R:R,'R2建設IOデータ'!$A:$A,'R2建設io'!$CE45)/'R2建設IOデータ'!R$232","v":0.5471580788826047},{"$f":"+SUMIFS('R2建設IOデータ'!S:S,'R2建設IOデータ'!$A:$A,'R2建設io'!$CE45)/'R2建設IOデータ'!S$232","v":0.52996499853047263},{"$f":"+SUMIFS('R2建設IOデータ'!T:T,'R2建設IOデータ'!$A:$A,'R2建設io'!$CE45)/'R2建設IOデータ'!T$232","v":0.51366800345561192},{"$f":"+SUMIFS('R2建設IOデータ'!U:U,'R2建設IOデータ'!$A:$A,'R2建設io'!$CE45)/'R2建設IOデータ'!U$232","v":0.5126979915608797},{"$f":"+SUMIFS('R2建設IOデータ'!V:V,'R2建設IOデータ'!$A:$A,'R2建設io'!$CE45)/'R2建設IOデータ'!V$232","v":0.58359555673503427},{"$f":"+SUMIFS('R2建設IOデータ'!W:W,'R2建設IOデータ'!$A:$A,'R2建設io'!$CE45)/'R2建設IOデータ'!W$232","v":0.59604102748940235},{"$f":"+SUMIFS('R2建設IOデータ'!X:X,'R2建設IOデータ'!$A:$A,'R2建設io'!$CE45)/'R2建設IOデータ'!X$232","v":0.57213943869051342},{"$f":"+SUMIFS('R2建設IOデータ'!Y:Y,'R2建設IOデータ'!$A:$A,'R2建設io'!$CE45)/'R2建設IOデータ'!Y$232","v":0.60590478038341988},{"$f":"+SUMIFS('R2建設IOデータ'!Z:Z,'R2建設IOデータ'!$A:$A,'R2建設io'!$CE45)/'R2建設IOデータ'!Z$232","v":0.66194137054635582},{"$f":"+SUMIFS('R2建設IOデータ'!AA:AA,'R2建設IOデータ'!$A:$A,'R2建設io'!$CE45)/'R2建設IOデータ'!AA$232","v":0.51842884108845844},{"$f":"+SUMIFS('R2建設IOデータ'!AB:AB,'R2建設IOデータ'!$A:$A,'R2建設io'!$CE45)/'R2建設IOデータ'!AB$232","v":0.52744205388834264},{"$f":"+SUMIFS('R2建設IOデータ'!AC:AC,'R2建設IOデータ'!$A:$A,'R2建設io'!$CE45)/'R2建設IOデータ'!AC$232","v":0.52733523394264636},{"$f":"+SUMIFS('R2建設IOデータ'!AD:AD,'R2建設IOデータ'!$A:$A,'R2建設io'!$CE45)/'R2建設IOデータ'!AD$232","v":0.52745554706908993},{"$f":"+SUMIFS('R2建設IOデータ'!AE:AE,'R2建設IOデータ'!$A:$A,'R2建設io'!$CE45)/'R2建設IOデータ'!AE$232","v":0.51781669176802836},{"$f":"+SUMIFS('R2建設IOデータ'!AF:AF,'R2建設IOデータ'!$A:$A,'R2建設io'!$CE45)/'R2建設IOデータ'!AF$232","v":0.52620988933435442},{"$f":"+SUMIFS('R2建設IOデータ'!AG:AG,'R2建設IOデータ'!$A:$A,'R2建設io'!$CE45)/'R2建設IOデータ'!AG$232","v":0.48935193573715047},{"$f":"+SUMIFS('R2建設IOデータ'!AH:AH,'R2建設IOデータ'!$A:$A,'R2建設io'!$CE45)/'R2建設IOデータ'!AH$232","v":0.49285291299763612},{"$f":"+SUMIFS('R2建設IOデータ'!AI:AI,'R2建設IOデータ'!$A:$A,'R2建設io'!$CE45)/'R2建設IOデータ'!AI$232","v":0.50080385523242255},{"$f":"+SUMIFS('R2建設IOデータ'!AJ:AJ,'R2建設IOデータ'!$A:$A,'R2建設io'!$CE45)/'R2建設IOデータ'!AJ$232","v":0.51961841743574444},{"$f":"+SUMIFS('R2建設IOデータ'!AK:AK,'R2建設IOデータ'!$A:$A,'R2建設io'!$CE45)/'R2建設IOデータ'!AK$232","v":0.50306280343410181},{"$f":"+SUMIFS('R2建設IOデータ'!AL:AL,'R2建設IOデータ'!$A:$A,'R2建設io'!$CE45)/'R2建設IOデータ'!AL$232","v":0.53271401201186042},{"$f":"+SUMIFS('R2建設IOデータ'!AM:AM,'R2建設IOデータ'!$A:$A,'R2建設io'!$CE45)/'R2建設IOデータ'!AM$232","v":0.54026277152430069},{"$f":"+SUMIFS('R2建設IOデータ'!AN:AN,'R2建設IOデータ'!$A:$A,'R2建設io'!$CE45)/'R2建設IOデータ'!AN$232","v":0.52020506678832423},{"$f":"+SUMIFS('R2建設IOデータ'!AO:AO,'R2建設IOデータ'!$A:$A,'R2建設io'!$CE45)/'R2建設IOデータ'!AO$232","v":0.48890714272271674},{"$f":"+SUMIFS('R2建設IOデータ'!AP:AP,'R2建設IOデータ'!$A:$A,'R2建設io'!$CE45)/'R2建設IOデータ'!AP$232","v":0.5009394152992005},{"$f":"+SUMIFS('R2建設IOデータ'!AQ:AQ,'R2建設IOデータ'!$A:$A,'R2建設io'!$CE45)/'R2建設IOデータ'!AQ$232","v":0.50615663848772585},{"$f":"+SUMIFS('R2建設IOデータ'!AR:AR,'R2建設IOデータ'!$A:$A,'R2建設io'!$CE45)/'R2建設IOデータ'!AR$232","v":0.50569778880081606},{"$f":"+SUMIFS('R2建設IOデータ'!AS:AS,'R2建設IOデータ'!$A:$A,'R2建設io'!$CE45)/'R2建設IOデータ'!AS$232","v":0.5039837633060672},{"$f":"+SUMIFS('R2建設IOデータ'!AT:AT,'R2建設IOデータ'!$A:$A,'R2建設io'!$CE45)/'R2建設IOデータ'!AT$232","v":0.50472475192150235},{"$f":"+SUMIFS('R2建設IOデータ'!AU:AU,'R2建設IOデータ'!$A:$A,'R2建設io'!$CE45)/'R2建設IOデータ'!AU$232","v":0.58594043405524132},{"$f":"+SUMIFS('R2建設IOデータ'!AV:AV,'R2建設IOデータ'!$A:$A,'R2建設io'!$CE45)/'R2建設IOデータ'!AV$232","v":0.54038936407270166},{"$f":"+SUMIFS('R2建設IOデータ'!AW:AW,'R2建設IOデータ'!$A:$A,'R2建設io'!$CE45)/'R2建設IOデータ'!AW$232","v":0.4848944301472613},{"$f":"+SUMIFS('R2建設IOデータ'!AX:AX,'R2建設IOデータ'!$A:$A,'R2建設io'!$CE45)/'R2建設IOデータ'!AX$232","v":0.53906202245359525},{"$f":"+SUMIFS('R2建設IOデータ'!AY:AY,'R2建設IOデータ'!$A:$A,'R2建設io'!$CE45)/'R2建設IOデータ'!AY$232","v":0.53986307420494695},{"$f":"+SUMIFS('R2建設IOデータ'!AZ:AZ,'R2建設IOデータ'!$A:$A,'R2建設io'!$CE45)/'R2建設IOデータ'!AZ$232","v":0.56385226196546956},{"$f":"+SUMIFS('R2建設IOデータ'!BA:BA,'R2建設IOデータ'!$A:$A,'R2建設io'!$CE45)/'R2建設IOデータ'!BA$232","v":0.51290512152863188},{"$f":"+SUMIFS('R2建設IOデータ'!BB:BB,'R2建設IOデータ'!$A:$A,'R2建設io'!$CE45)/'R2建設IOデータ'!BB$232","v":0.51424092106793118},{"$f":"+SUMIFS('R2建設IOデータ'!BC:BC,'R2建設IOデータ'!$A:$A,'R2建設io'!$CE45)/'R2建設IOデータ'!BC$232","v":0.51282436412226562},{"$f":"+SUMIFS('R2建設IOデータ'!BD:BD,'R2建設IOデータ'!$A:$A,'R2建設io'!$CE45)/'R2建設IOデータ'!BD$232","v":0.54011736668118804},{"$f":"+SUMIFS('R2建設IOデータ'!BE:BE,'R2建設IOデータ'!$A:$A,'R2建設io'!$CE45)/'R2建設IOデータ'!BE$232","v":0.52680128499311607},{"$f":"+SUMIFS('R2建設IOデータ'!BF:BF,'R2建設IOデータ'!$A:$A,'R2建設io'!$CE45)/'R2建設IOデータ'!BF$232","v":0.45123231824078075},{"$f":"+SUMIFS('R2建設IOデータ'!BG:BG,'R2建設IOデータ'!$A:$A,'R2建設io'!$CE45)/'R2建設IOデータ'!BG$232","v":0.49976247030878862},{"$f":"+SUMIFS('R2建設IOデータ'!BH:BH,'R2建設IOデータ'!$A:$A,'R2建設io'!$CE45)/'R2建設IOデータ'!BH$232","v":0.5047394767049691},{"$f":"+SUMIFS('R2建設IOデータ'!BI:BI,'R2建設IOデータ'!$A:$A,'R2建設io'!$CE45)/'R2建設IOデータ'!BI$232","v":0.47720201695097092},{"$f":"+SUMIFS('R2建設IOデータ'!BJ:BJ,'R2建設IOデータ'!$A:$A,'R2建設io'!$CE45)/'R2建設IOデータ'!BJ$232","v":0.53376135975931271},{"$f":"+SUMIFS('R2建設IOデータ'!BK:BK,'R2建設IOデータ'!$A:$A,'R2建設io'!$CE45)/'R2建設IOデータ'!BK$232","v":0.50630315760306999},{"$f":"+SUMIFS('R2建設IOデータ'!BL:BL,'R2建設IOデータ'!$A:$A,'R2建設io'!$CE45)/'R2建設IOデータ'!BL$232","v":0.50358718474377628},{"$f":"+SUMIFS('R2建設IOデータ'!BM:BM,'R2建設IOデータ'!$A:$A,'R2建設io'!$CE45)/'R2建設IOデータ'!BM$232","v":0.47499410422640315},{"$f":"+SUMIFS('R2建設IOデータ'!BN:BN,'R2建設IOデータ'!$A:$A,'R2建設io'!$CE45)/'R2建設IOデータ'!BN$232","v":0.61893108793286511},{"$f":"+SUMIFS('R2建設IOデータ'!BO:BO,'R2建設IOデータ'!$A:$A,'R2建設io'!$CE45)/'R2建設IOデータ'!BO$232","v":0.56786254592608598},{"$f":"+SUMIFS('R2建設IOデータ'!BP:BP,'R2建設IOデータ'!$A:$A,'R2建設io'!$CE45)/'R2建設IOデータ'!BP$232","v":0.52756311770506092},{"$f":"+SUMIFS('R2建設IOデータ'!BQ:BQ,'R2建設IOデータ'!$A:$A,'R2建設io'!$CE45)/'R2建設IOデータ'!BQ$232","v":0.5139697227378679},{"$f":"+SUMIFS('R2建設IOデータ'!BR:BR,'R2建設IOデータ'!$A:$A,'R2建設io'!$CE45)/'R2建設IOデータ'!BR$232","v":0.51361967754135585},{"$f":"+SUMIFS('R2建設IOデータ'!BS:BS,'R2建設IOデータ'!$A:$A,'R2建設io'!$CE45)/'R2建設IOデータ'!BS$232","v":0.31358588632436268},{"$f":"+SUMIFS('R2建設IOデータ'!BT:BT,'R2建設IOデータ'!$A:$A,'R2建設io'!$CE45)/'R2建設IOデータ'!BT$232","v":0.48354594158284997},{"$f":"+SUMIFS('R2建設IOデータ'!BU:BU,'R2建設IOデータ'!$A:$A,'R2建設io'!$CE45)/'R2建設IOデータ'!BU$232","v":0.51220603531934428},{"$f":"+SUMIFS('R2建設IOデータ'!BV:BV,'R2建設IOデータ'!$A:$A,'R2建設io'!$CE45)/'R2建設IOデータ'!BV$232","v":0.53570087822806667},{"$f":"+SUMIFS('R2建設IOデータ'!BW:BW,'R2建設IOデータ'!$A:$A,'R2建設io'!$CE45)/'R2建設IOデータ'!BW$232","v":0.44831721412350867},{"$f":"+SUMIFS('R2建設IOデータ'!BX:BX,'R2建設IOデータ'!$A:$A,'R2建設io'!$CE45)/'R2建設IOデータ'!BX$232","v":0.47193295216297809},{"$f":"+SUMIFS('R2建設IOデータ'!BY:BY,'R2建設IOデータ'!$A:$A,'R2建設io'!$CE45)/'R2建設IOデータ'!BY$232","v":0.45558262646961822},{"$f":"+SUMIFS('R2建設IOデータ'!BZ:BZ,'R2建設IOデータ'!$A:$A,'R2建設io'!$CE45)/'R2建設IOデータ'!BZ$232","v":0.40582329925292437},{"$f":"+SUMIFS('R2建設IOデータ'!CA:CA,'R2建設IOデータ'!$A:$A,'R2建設io'!$CE45)/'R2建設IOデータ'!CA$232","v":0.42960782656143126},{"$f":"+SUMIFS('R2建設IOデータ'!CB:CB,'R2建設IOデータ'!$A:$A,'R2建設io'!$CE45)/'R2建設IOデータ'!CB$232","v":0.52578857690231906},{"$f":"+SUMIFS('R2建設IOデータ'!CC:CC,'R2建設IOデータ'!$A:$A,'R2建設io'!$CE45)/'R2建設IOデータ'!CC$232","v":0.47248300152936579},{"$f":"+SUMIFS('R2建設IOデータ'!CD:CD,'R2建設IOデータ'!$A:$A,'R2建設io'!$CE45)/'R2建設IOデータ'!CD$232","v":0.52114298338108966}]
[0,null,"71","家計外消費支出（行）",0,0,0,0,0,0,0,0,0,0,0,0,0,0,0,0,0,0,0,0,0,0,0,0,0,0,0,0,0,0,0,0,0,0,0,0,0,0,0,0,0,0,0,0,0,0,0,0,0,0,0,0,0,0,0,0,0,0,0,0,0,0,0,0,0,0,0,0,0,0,0,null,null,null,null,null,null,null,"71","家計外消費支出（行）",{"$f":"+SUMIFS('R2建設IOデータ'!L:L,'R2建設IOデータ'!$A:$A,'R2建設io'!$CE46)/'R2建設IOデータ'!L$232","v":1.2129928815928892E-2},{"$f":"+SUMIFS('R2建設IOデータ'!M:M,'R2建設IOデータ'!$A:$A,'R2建設io'!$CE46)/'R2建設IOデータ'!M$232","v":1.3357519853204601E-2},{"$f":"+SUMIFS('R2建設IOデータ'!N:N,'R2建設IOデータ'!$A:$A,'R2建設io'!$CE46)/'R2建設IOデータ'!N$232","v":1.3007623690323728E-2},{"$f":"+SUMIFS('R2建設IOデータ'!O:O,'R2建設IOデータ'!$A:$A,'R2建設io'!$CE46)/'R2建設IOデータ'!O$232","v":1.3619352016868995E-2},{"$f":"+SUMIFS('R2建設IOデータ'!P:P,'R2建設IOデータ'!$A:$A,'R2建設io'!$CE46)/'R2建設IOデータ'!P$232","v":1.3689937913367329E-2},{"$f":"+SUMIFS('R2建設IOデータ'!Q:Q,'R2建設IOデータ'!$A:$A,'R2建設io'!$CE46)/'R2建設IOデータ'!Q$232","v":1.0407947153446624E-2},{"$f":"+SUMIFS('R2建設IOデータ'!R:R,'R2建設IOデータ'!$A:$A,'R2建設io'!$CE46)/'R2建設IOデータ'!R$232","v":1.2141596067154634E-2},{"$f":"+SUMIFS('R2建設IOデータ'!S:S,'R2建設IOデータ'!$A:$A,'R2建設io'!$CE46)/'R2建設IOデータ'!S$232","v":1.313223074251209E-2},{"$f":"+SUMIFS('R2建設IOデータ'!T:T,'R2建設IOデータ'!$A:$A,'R2建設io'!$CE46)/'R2建設IOデータ'!T$232","v":1.3606147897805801E-2},{"$f":"+SUMIFS('R2建設IOデータ'!U:U,'R2建設IOデータ'!$A:$A,'R2建設io'!$CE46)/'R2建設IOデータ'!U$232","v":1.3645269277989E-2},{"$f":"+SUMIFS('R2建設IOデータ'!V:V,'R2建設IOデータ'!$A:$A,'R2建設io'!$CE46)/'R2建設IOデータ'!V$232","v":1.0785911968760662E-2},{"$f":"+SUMIFS('R2建設IOデータ'!W:W,'R2建設IOデータ'!$A:$A,'R2建設io'!$CE46)/'R2建設IOデータ'!W$232","v":9.970272178863912E-3},{"$f":"+SUMIFS('R2建設IOデータ'!X:X,'R2建設IOデータ'!$A:$A,'R2建設io'!$CE46)/'R2建設IOデータ'!X$232","v":1.4774663619242257E-2},{"$f":"+SUMIFS('R2建設IOデータ'!Y:Y,'R2建設IOデータ'!$A:$A,'R2建設io'!$CE46)/'R2建設IOデータ'!Y$232","v":7.9875868279960325E-3},{"$f":"+SUMIFS('R2建設IOデータ'!Z:Z,'R2建設IOデータ'!$A:$A,'R2建設io'!$CE46)/'R2建設IOデータ'!Z$232","v":8.1771828184444405E-3},{"$f":"+SUMIFS('R2建設IOデータ'!AA:AA,'R2建設IOデータ'!$A:$A,'R2建設io'!$CE46)/'R2建設IOデータ'!AA$232","v":1.3723349157189918E-2},{"$f":"+SUMIFS('R2建設IOデータ'!AB:AB,'R2建設IOデータ'!$A:$A,'R2建設io'!$CE46)/'R2建設IOデータ'!AB$232","v":1.5142317092156861E-2},{"$f":"+SUMIFS('R2建設IOデータ'!AC:AC,'R2建設IOデータ'!$A:$A,'R2建設io'!$CE46)/'R2建設IOデータ'!AC$232","v":1.3304265190899436E-2},{"$f":"+SUMIFS('R2建設IOデータ'!AD:AD,'R2建設IOデータ'!$A:$A,'R2建設io'!$CE46)/'R2建設IOデータ'!AD$232","v":1.5374494391675366E-2},{"$f":"+SUMIFS('R2建設IOデータ'!AE:AE,'R2建設IOデータ'!$A:$A,'R2建設io'!$CE46)/'R2建設IOデータ'!AE$232","v":1.3626977277773823E-2},{"$f":"+SUMIFS('R2建設IOデータ'!AF:AF,'R2建設IOデータ'!$A:$A,'R2建設io'!$CE46)/'R2建設IOデータ'!AF$232","v":1.2515578779824918E-2},{"$f":"+SUMIFS('R2建設IOデータ'!AG:AG,'R2建設IOデータ'!$A:$A,'R2建設io'!$CE46)/'R2建設IOデータ'!AG$232","v":1.527813009603189E-2},{"$f":"+SUMIFS('R2建設IOデータ'!AH:AH,'R2建設IOデータ'!$A:$A,'R2建設io'!$CE46)/'R2建設IOデータ'!AH$232","v":1.5141521470147853E-2},{"$f":"+SUMIFS('R2建設IOデータ'!AI:AI,'R2建設IOデータ'!$A:$A,'R2建設io'!$CE46)/'R2建設IOデータ'!AI$232","v":1.4052125818684622E-2},{"$f":"+SUMIFS('R2建設IOデータ'!AJ:AJ,'R2建設IOデータ'!$A:$A,'R2建設io'!$CE46)/'R2建設IOデータ'!AJ$232","v":1.3433951348510678E-2},{"$f":"+SUMIFS('R2建設IOデータ'!AK:AK,'R2建設IOデータ'!$A:$A,'R2建設io'!$CE46)/'R2建設IOデータ'!AK$232","v":1.3690421976350949E-2},{"$f":"+SUMIFS('R2建設IOデータ'!AL:AL,'R2建設IOデータ'!$A:$A,'R2建設io'!$CE46)/'R2建設IOデータ'!AL$232","v":1.3369533366670048E-2},{"$f":"+SUMIFS('R2建設IOデータ'!AM:AM,'R2建設IOデータ'!$A:$A,'R2建設io'!$CE46)/'R2建設IOデータ'!AM$232","v":1.3823739788427512E-2},{"$f":"+SUMIFS('R2建設IOデータ'!AN:AN,'R2建設IOデータ'!$A:$A,'R2建設io'!$CE46)/'R2建設IOデータ'!AN$232","v":1.2139161984043719E-2},{"$f":"+SUMIFS('R2建設IOデータ'!AO:AO,'R2建設IOデータ'!$A:$A,'R2建設io'!$CE46)/'R2建設IOデータ'!AO$232","v":1.0452435539919253E-2},{"$f":"+SUMIFS('R2建設IOデータ'!AP:AP,'R2建設IOデータ'!$A:$A,'R2建設io'!$CE46)/'R2建設IOデータ'!AP$232","v":1.1011843617185902E-2},{"$f":"+SUMIFS('R2建設IOデータ'!AQ:AQ,'R2建設IOデータ'!$A:$A,'R2建設io'!$CE46)/'R2建設IOデータ'!AQ$232","v":1.1717061548804383E-2},{"$f":"+SUMIFS('R2建設IOデータ'!AR:AR,'R2建設IOデータ'!$A:$A,'R2建設io'!$CE46)/'R2建設IOデータ'!AR$232","v":1.1777435140929835E-2},{"$f":"+SUMIFS('R2建設IOデータ'!AS:AS,'R2建設IOデータ'!$A:$A,'R2建設io'!$CE46)/'R2建設IOデータ'!AS$232","v":1.2498306195951164E-2},{"$f":"+SUMIFS('R2建設IOデータ'!AT:AT,'R2建設IOデータ'!$A:$A,'R2建設io'!$CE46)/'R2建設IOデータ'!AT$232","v":1.1742872370558823E-2},{"$f":"+SUMIFS('R2建設IOデータ'!AU:AU,'R2建設IOデータ'!$A:$A,'R2建設io'!$CE46)/'R2建設IOデータ'!AU$232","v":1.0913974211610465E-2},{"$f":"+SUMIFS('R2建設IOデータ'!AV:AV,'R2建設IOデータ'!$A:$A,'R2建設io'!$CE46)/'R2建設IOデータ'!AV$232","v":1.0563350334109189E-2},{"$f":"+SUMIFS('R2建設IOデータ'!AW:AW,'R2建設IOデータ'!$A:$A,'R2建設io'!$CE46)/'R2建設IOデータ'!AW$232","v":1.4169682710920747E-2},{"$f":"+SUMIFS('R2建設IOデータ'!AX:AX,'R2建設IOデータ'!$A:$A,'R2建設io'!$CE46)/'R2建設IOデータ'!AX$232","v":1.0638460441329286E-2},{"$f":"+SUMIFS('R2建設IOデータ'!AY:AY,'R2建設IOデータ'!$A:$A,'R2建設io'!$CE46)/'R2建設IOデータ'!AY$232","v":7.1775618374558302E-3},{"$f":"+SUMIFS('R2建設IOデータ'!AZ:AZ,'R2建設IOデータ'!$A:$A,'R2建設io'!$CE46)/'R2建設IOデータ'!AZ$232","v":3.5696073431922487E-3},{"$f":"+SUMIFS('R2建設IOデータ'!BA:BA,'R2建設IOデータ'!$A:$A,'R2建設io'!$CE46)/'R2建設IOデータ'!BA$232","v":8.7462331177932794E-3},{"$f":"+SUMIFS('R2建設IOデータ'!BB:BB,'R2建設IOデータ'!$A:$A,'R2建設io'!$CE46)/'R2建設IOデータ'!BB$232","v":8.3866924445863411E-3},{"$f":"+SUMIFS('R2建設IOデータ'!BC:BC,'R2建設IOデータ'!$A:$A,'R2建設io'!$CE46)/'R2建設IOデータ'!BC$232","v":8.1542328245421385E-3},{"$f":"+SUMIFS('R2建設IOデータ'!BD:BD,'R2建設IOデータ'!$A:$A,'R2建設io'!$CE46)/'R2建設IOデータ'!BD$232","v":9.7890987366424931E-3},{"$f":"+SUMIFS('R2建設IOデータ'!BE:BE,'R2建設IOデータ'!$A:$A,'R2建設io'!$CE46)/'R2建設IOデータ'!BE$232","v":1.1381367599816429E-2},{"$f":"+SUMIFS('R2建設IOデータ'!BF:BF,'R2建設IOデータ'!$A:$A,'R2建設io'!$CE46)/'R2建設IOデータ'!BF$232","v":1.0500957440237197E-2},{"$f":"+SUMIFS('R2建設IOデータ'!BG:BG,'R2建設IOデータ'!$A:$A,'R2建設io'!$CE46)/'R2建設IOデータ'!BG$232","v":1.2283678316932474E-2},{"$f":"+SUMIFS('R2建設IOデータ'!BH:BH,'R2建設IOデータ'!$A:$A,'R2建設io'!$CE46)/'R2建設IOデータ'!BH$232","v":1.2401926558820397E-2},{"$f":"+SUMIFS('R2建設IOデータ'!BI:BI,'R2建設IOデータ'!$A:$A,'R2建設io'!$CE46)/'R2建設IOデータ'!BI$232","v":1.1747666559382041E-2},{"$f":"+SUMIFS('R2建設IOデータ'!BJ:BJ,'R2建設IOデータ'!$A:$A,'R2建設io'!$CE46)/'R2建設IOデータ'!BJ$232","v":8.0849436018320363E-3},{"$f":"+SUMIFS('R2建設IOデータ'!BK:BK,'R2建設IOデータ'!$A:$A,'R2建設io'!$CE46)/'R2建設IOデータ'!BK$232","v":1.1646535979984328E-2},{"$f":"+SUMIFS('R2建設IOデータ'!BL:BL,'R2建設IOデータ'!$A:$A,'R2建設io'!$CE46)/'R2建設IOデータ'!BL$232","v":1.1553788739824876E-2},{"$f":"+SUMIFS('R2建設IOデータ'!BM:BM,'R2建設IOデータ'!$A:$A,'R2建設io'!$CE46)/'R2建設IOデータ'!BM$232","v":1.192407466937793E-2},{"$f":"+SUMIFS('R2建設IOデータ'!BN:BN,'R2建設IOデータ'!$A:$A,'R2建設io'!$CE46)/'R2建設IOデータ'!BN$232","v":1.0719781062098647E-2},{"$f":"+SUMIFS('R2建設IOデータ'!BO:BO,'R2建設IOデータ'!$A:$A,'R2建設io'!$CE46)/'R2建設IOデータ'!BO$232","v":1.3166425898331304E-2},{"$f":"+SUMIFS('R2建設IOデータ'!BP:BP,'R2建設IOデータ'!$A:$A,'R2建設io'!$CE46)/'R2建設IOデータ'!BP$232","v":9.9910568919259791E-3},{"$f":"+SUMIFS('R2建設IOデータ'!BQ:BQ,'R2建設IOデータ'!$A:$A,'R2建設io'!$CE46)/'R2建設IOデータ'!BQ$232","v":1.5390554670431477E-2},{"$f":"+SUMIFS('R2建設IOデータ'!BR:BR,'R2建設IOデータ'!$A:$A,'R2建設io'!$CE46)/'R2建設IOデータ'!BR$232","v":1.1065246886690125E-2},{"$f":"+SUMIFS('R2建設IOデータ'!BS:BS,'R2建設IOデータ'!$A:$A,'R2建設io'!$CE46)/'R2建設IOデータ'!BS$232","v":1.1828374703620848E-2},{"$f":"+SUMIFS('R2建設IOデータ'!BT:BT,'R2建設IOデータ'!$A:$A,'R2建設io'!$CE46)/'R2建設IOデータ'!BT$232","v":7.3575379648167637E-3},{"$f":"+SUMIFS('R2建設IOデータ'!BU:BU,'R2建設IOデータ'!$A:$A,'R2建設io'!$CE46)/'R2建設IOデータ'!BU$232","v":1.835118283193966E-2},{"$f":"+SUMIFS('R2建設IOデータ'!BV:BV,'R2建設IOデータ'!$A:$A,'R2建設io'!$CE46)/'R2建設IOデータ'!BV$232","v":9.0616775913104682E-3},{"$f":"+SUMIFS('R2建設IOデータ'!BW:BW,'R2建設IOデータ'!$A:$A,'R2建設io'!$CE46)/'R2建設IOデータ'!BW$232","v":4.3545883845619989E-3},{"$f":"+SUMIFS('R2建設IOデータ'!BX:BX,'R2建設IOデータ'!$A:$A,'R2建設io'!$CE46)/'R2建設IOデータ'!BX$232","v":9.663266308269745E-3},{"$f":"+SUMIFS('R2建設IOデータ'!BY:BY,'R2建設IOデータ'!$A:$A,'R2建設io'!$CE46)/'R2建設IOデータ'!BY$232","v":9.285366976005089E-3},{"$f":"+SUMIFS('R2建設IOデータ'!BZ:BZ,'R2建設IOデータ'!$A:$A,'R2建設io'!$CE46)/'R2建設IOデータ'!BZ$232","v":9.2730125718258199E-3},{"$f":"+SUMIFS('R2建設IOデータ'!CA:CA,'R2建設IOデータ'!$A:$A,'R2建設io'!$CE46)/'R2建設IOデータ'!CA$232","v":1.1277195840794337E-2},{"$f":"+SUMIFS('R2建設IOデータ'!CB:CB,'R2建設IOデータ'!$A:$A,'R2建設io'!$CE46)/'R2建設IOデータ'!CB$232","v":1.081246803448461E-2},{"$f":"+SUMIFS('R2建設IOデータ'!CC:CC,'R2建設IOデータ'!$A:$A,'R2建設io'!$CE46)/'R2建設IOデータ'!CC$232","v":7.6501393642869914E-3},{"$f":"+SUMIFS('R2建設IOデータ'!CD:CD,'R2建設IOデータ'!$A:$A,'R2建設io'!$CE46)/'R2建設IOデータ'!CD$232","v":9.6850989366193754E-3}]
[0,null,"91","雇用者所得",0,0,0,0,0,0,0,0,0,0,0,0,0,0,0,0,0,0,0,0,0,0,0,0,0,0,0,0,0,0,0,0,0,0,0,0,0,0,0,0,0,0,0,0,0,0,0,0,0,0,0,0,0,0,0,0,0,0,0,0,0,0,0,0,0,0,0,0,0,0,0,null,null,null,null,null,null,null,"91","雇用者所得",{"$f":"+SUMIFS('R2建設IOデータ'!L:L,'R2建設IOデータ'!$A:$A,'R2建設io'!$CE47)/'R2建設IOデータ'!L$232","v":0.34379289649330025},{"$f":"+SUMIFS('R2建設IOデータ'!M:M,'R2建設IOデータ'!$A:$A,'R2建設io'!$CE47)/'R2建設IOデータ'!M$232","v":0.32922686820497249},{"$f":"+SUMIFS('R2建設IOデータ'!N:N,'R2建設IOデータ'!$A:$A,'R2建設io'!$CE47)/'R2建設IOデータ'!N$232","v":0.32682229714914024},{"$f":"+SUMIFS('R2建設IOデータ'!O:O,'R2建設IOデータ'!$A:$A,'R2建設io'!$CE47)/'R2建設IOデータ'!O$232","v":0.33107670857634175},{"$f":"+SUMIFS('R2建設IOデータ'!P:P,'R2建設IOデータ'!$A:$A,'R2建設io'!$CE47)/'R2建設IOデータ'!P$232","v":0.33245836221055769},{"$f":"+SUMIFS('R2建設IOデータ'!Q:Q,'R2建設IOデータ'!$A:$A,'R2建設io'!$CE47)/'R2建設IOデータ'!Q$232","v":0.26821642882355906},{"$f":"+SUMIFS('R2建設IOデータ'!R:R,'R2建設IOデータ'!$A:$A,'R2建設io'!$CE47)/'R2建設IOデータ'!R$232","v":0.3207993002461022},{"$f":"+SUMIFS('R2建設IOデータ'!S:S,'R2建設IOデータ'!$A:$A,'R2建設io'!$CE47)/'R2建設IOデータ'!S$232","v":0.34219948165762687},{"$f":"+SUMIFS('R2建設IOデータ'!T:T,'R2建設IOデータ'!$A:$A,'R2建設io'!$CE47)/'R2建設IOデータ'!T$232","v":0.35393101795574772},{"$f":"+SUMIFS('R2建設IOデータ'!U:U,'R2建設IOデータ'!$A:$A,'R2建設io'!$CE47)/'R2建設IOデータ'!U$232","v":0.35467760609181742},{"$f":"+SUMIFS('R2建設IOデータ'!V:V,'R2建設IOデータ'!$A:$A,'R2建設io'!$CE47)/'R2建設IOデータ'!V$232","v":0.30010994426962884},{"$f":"+SUMIFS('R2建設IOデータ'!W:W,'R2建設IOデータ'!$A:$A,'R2建設io'!$CE47)/'R2建設IOデータ'!W$232","v":0.27135558308646157},{"$f":"+SUMIFS('R2建設IOデータ'!X:X,'R2建設IOデータ'!$A:$A,'R2建設io'!$CE47)/'R2建設IOデータ'!X$232","v":0.30229426488133254},{"$f":"+SUMIFS('R2建設IOデータ'!Y:Y,'R2建設IOデータ'!$A:$A,'R2建設io'!$CE47)/'R2建設IOデータ'!Y$232","v":0.2585877493387137},{"$f":"+SUMIFS('R2建設IOデータ'!Z:Z,'R2建設IOデータ'!$A:$A,'R2建設io'!$CE47)/'R2建設IOデータ'!Z$232","v":0.2451576238811625},{"$f":"+SUMIFS('R2建設IOデータ'!AA:AA,'R2建設IOデータ'!$A:$A,'R2建設io'!$CE47)/'R2建設IOデータ'!AA$232","v":0.33174093566000157},{"$f":"+SUMIFS('R2建設IOデータ'!AB:AB,'R2建設IOデータ'!$A:$A,'R2建設io'!$CE47)/'R2建設IOデータ'!AB$232","v":0.33112168291620214},{"$f":"+SUMIFS('R2建設IOデータ'!AC:AC,'R2建設IOデータ'!$A:$A,'R2建設io'!$CE47)/'R2建設IOデータ'!AC$232","v":0.33563456127601693},{"$f":"+SUMIFS('R2建設IOデータ'!AD:AD,'R2建設IOデータ'!$A:$A,'R2建設io'!$CE47)/'R2建設IOデータ'!AD$232","v":0.33055162942102034},{"$f":"+SUMIFS('R2建設IOデータ'!AE:AE,'R2建設IOデータ'!$A:$A,'R2建設io'!$CE47)/'R2建設IOデータ'!AE$232","v":0.33178299337623524},{"$f":"+SUMIFS('R2建設IOデータ'!AF:AF,'R2建設IOデータ'!$A:$A,'R2建設io'!$CE47)/'R2建設IOデータ'!AF$232","v":0.32493956184212502},{"$f":"+SUMIFS('R2建設IOデータ'!AG:AG,'R2建設IOデータ'!$A:$A,'R2建設io'!$CE47)/'R2建設IOデータ'!AG$232","v":0.35569245636286767},{"$f":"+SUMIFS('R2建設IOデータ'!AH:AH,'R2建設IOデータ'!$A:$A,'R2建設io'!$CE47)/'R2建設IOデータ'!AH$232","v":0.3426124300095808},{"$f":"+SUMIFS('R2建設IOデータ'!AI:AI,'R2建設IOデータ'!$A:$A,'R2建設io'!$CE47)/'R2建設IOデータ'!AI$232","v":0.34831476761833852},{"$f":"+SUMIFS('R2建設IOデータ'!AJ:AJ,'R2建設IOデータ'!$A:$A,'R2建設io'!$CE47)/'R2建設IOデータ'!AJ$232","v":0.33345906476360232},{"$f":"+SUMIFS('R2建設IOデータ'!AK:AK,'R2建設IOデータ'!$A:$A,'R2建設io'!$CE47)/'R2建設IOデータ'!AK$232","v":0.34099954064135968},{"$f":"+SUMIFS('R2建設IOデータ'!AL:AL,'R2建設IOデータ'!$A:$A,'R2建設io'!$CE47)/'R2建設IOデータ'!AL$232","v":0.32138790598222372},{"$f":"+SUMIFS('R2建設IOデータ'!AM:AM,'R2建設IOデータ'!$A:$A,'R2建設io'!$CE47)/'R2建設IOデータ'!AM$232","v":0.2973158152317133},{"$f":"+SUMIFS('R2建設IOデータ'!AN:AN,'R2建設IOデータ'!$A:$A,'R2建設io'!$CE47)/'R2建設IOデータ'!AN$232","v":0.3427695679082825},{"$f":"+SUMIFS('R2建設IOデータ'!AO:AO,'R2建設IOデータ'!$A:$A,'R2建設io'!$CE47)/'R2建設IOデータ'!AO$232","v":0.36411012375582719},{"$f":"+SUMIFS('R2建設IOデータ'!AP:AP,'R2建設IOデータ'!$A:$A,'R2建設io'!$CE47)/'R2建設IOデータ'!AP$232","v":0.33207772754497022},{"$f":"+SUMIFS('R2建設IOデータ'!AQ:AQ,'R2建設IOデータ'!$A:$A,'R2建設io'!$CE47)/'R2建設IOデータ'!AQ$232","v":0.32962159506813032},{"$f":"+SUMIFS('R2建設IOデータ'!AR:AR,'R2建設IOデータ'!$A:$A,'R2建設io'!$CE47)/'R2建設IOデータ'!AR$232","v":0.32971044131183014},{"$f":"+SUMIFS('R2建設IOデータ'!AS:AS,'R2建設IOデータ'!$A:$A,'R2建設io'!$CE47)/'R2建設IOデータ'!AS$232","v":0.33595372176346222},{"$f":"+SUMIFS('R2建設IOデータ'!AT:AT,'R2建設IOデータ'!$A:$A,'R2建設io'!$CE47)/'R2建設IOデータ'!AT$232","v":0.3122840454298505},{"$f":"+SUMIFS('R2建設IOデータ'!AU:AU,'R2建設IOデータ'!$A:$A,'R2建設io'!$CE47)/'R2建設IOデータ'!AU$232","v":0.2691620480487999},{"$f":"+SUMIFS('R2建設IOデータ'!AV:AV,'R2建設IOデータ'!$A:$A,'R2建設io'!$CE47)/'R2建設IOデータ'!AV$232","v":0.30376861556605778},{"$f":"+SUMIFS('R2建設IOデータ'!AW:AW,'R2建設IOデータ'!$A:$A,'R2建設io'!$CE47)/'R2建設IOデータ'!AW$232","v":0.3712422256335004},{"$f":"+SUMIFS('R2建設IOデータ'!AX:AX,'R2建設IOデータ'!$A:$A,'R2建設io'!$CE47)/'R2建設IOデータ'!AX$232","v":0.32780822755149858},{"$f":"+SUMIFS('R2建設IOデータ'!AY:AY,'R2建設IOデータ'!$A:$A,'R2建設io'!$CE47)/'R2建設IOデータ'!AY$232","v":0.30808303886925797},{"$f":"+SUMIFS('R2建設IOデータ'!AZ:AZ,'R2建設IOデータ'!$A:$A,'R2建設io'!$CE47)/'R2建設IOデータ'!AZ$232","v":0.28221752750054635},{"$f":"+SUMIFS('R2建設IOデータ'!BA:BA,'R2建設IOデータ'!$A:$A,'R2建設io'!$CE47)/'R2建設IOデータ'!BA$232","v":0.30345797326754725},{"$f":"+SUMIFS('R2建設IOデータ'!BB:BB,'R2建設IOデータ'!$A:$A,'R2建設io'!$CE47)/'R2建設IOデータ'!BB$232","v":0.29941802601835593},{"$f":"+SUMIFS('R2建設IOデータ'!BC:BC,'R2建設IOデータ'!$A:$A,'R2建設io'!$CE47)/'R2建設IOデータ'!BC$232","v":0.29248206213416378},{"$f":"+SUMIFS('R2建設IOデータ'!BD:BD,'R2建設IOデータ'!$A:$A,'R2建設io'!$CE47)/'R2建設IOデータ'!BD$232","v":0.34791020680111728},{"$f":"+SUMIFS('R2建設IOデータ'!BE:BE,'R2建設IOデータ'!$A:$A,'R2建設io'!$CE47)/'R2建設IOデータ'!BE$232","v":0.36778338687471318},{"$f":"+SUMIFS('R2建設IOデータ'!BF:BF,'R2建設IOデータ'!$A:$A,'R2建設io'!$CE47)/'R2建設IOデータ'!BF$232","v":0.35870035209092593},{"$f":"+SUMIFS('R2建設IOデータ'!BG:BG,'R2建設IOデータ'!$A:$A,'R2建設io'!$CE47)/'R2建設IOデータ'!BG$232","v":0.34320616607688204},{"$f":"+SUMIFS('R2建設IOデータ'!BH:BH,'R2建設IOデータ'!$A:$A,'R2建設io'!$CE47)/'R2建設IOデータ'!BH$232","v":0.33636675620983869},{"$f":"+SUMIFS('R2建設IOデータ'!BI:BI,'R2建設IOデータ'!$A:$A,'R2建設io'!$CE47)/'R2建設IOデータ'!BI$232","v":0.37420877588241602},{"$f":"+SUMIFS('R2建設IOデータ'!BJ:BJ,'R2建設IOデータ'!$A:$A,'R2建設io'!$CE47)/'R2建設IOデータ'!BJ$232","v":0.32427654229087188},{"$f":"+SUMIFS('R2建設IOデータ'!BK:BK,'R2建設IOデータ'!$A:$A,'R2建設io'!$CE47)/'R2建設IOデータ'!BK$232","v":0.32249090860741564},{"$f":"+SUMIFS('R2建設IOデータ'!BL:BL,'R2建設IOデータ'!$A:$A,'R2建設io'!$CE47)/'R2建設IOデータ'!BL$232","v":0.31300078957897381},{"$f":"+SUMIFS('R2建設IOデータ'!BM:BM,'R2建設IOデータ'!$A:$A,'R2建設io'!$CE47)/'R2建設IOデータ'!BM$232","v":0.31994579286431291},{"$f":"+SUMIFS('R2建設IOデータ'!BN:BN,'R2建設IOデータ'!$A:$A,'R2建設io'!$CE47)/'R2建設IOデータ'!BN$232","v":0.2595231741453416},{"$f":"+SUMIFS('R2建設IOデータ'!BO:BO,'R2建設IOデータ'!$A:$A,'R2建設io'!$CE47)/'R2建設IOデータ'!BO$232","v":0.27413465585294555},{"$f":"+SUMIFS('R2建設IOデータ'!BP:BP,'R2建設IOデータ'!$A:$A,'R2建設io'!$CE47)/'R2建設IOデータ'!BP$232","v":0.32683620353596737},{"$f":"+SUMIFS('R2建設IOデータ'!BQ:BQ,'R2建設IOデータ'!$A:$A,'R2建設io'!$CE47)/'R2建設IOデータ'!BQ$232","v":0.33162862161676487},{"$f":"+SUMIFS('R2建設IOデータ'!BR:BR,'R2建設IOデータ'!$A:$A,'R2建設io'!$CE47)/'R2建設IOデータ'!BR$232","v":0.28183739267084978},{"$f":"+SUMIFS('R2建設IOデータ'!BS:BS,'R2建設IOデータ'!$A:$A,'R2建設io'!$CE47)/'R2建設IOデータ'!BS$232","v":0.42846043589503152},{"$f":"+SUMIFS('R2建設IOデータ'!BT:BT,'R2建設IOデータ'!$A:$A,'R2建設io'!$CE47)/'R2建設IOデータ'!BT$232","v":0.34590715930583144},{"$f":"+SUMIFS('R2建設IOデータ'!BU:BU,'R2建設IOデータ'!$A:$A,'R2建設io'!$CE47)/'R2建設IOデータ'!BU$232","v":0.33995595251239197},{"$f":"+SUMIFS('R2建設IOデータ'!BV:BV,'R2建設IOデータ'!$A:$A,'R2建設io'!$CE47)/'R2建設IOデータ'!BV$232","v":0.33470503461737505},{"$f":"+SUMIFS('R2建設IOデータ'!BW:BW,'R2建設IOデータ'!$A:$A,'R2建設io'!$CE47)/'R2建設IOデータ'!BW$232","v":0.39247943206494285},{"$f":"+SUMIFS('R2建設IOデータ'!BX:BX,'R2建設IOデータ'!$A:$A,'R2建設io'!$CE47)/'R2建設IOデータ'!BX$232","v":0.40929892694424636},{"$f":"+SUMIFS('R2建設IOデータ'!BY:BY,'R2建設IOデータ'!$A:$A,'R2建設io'!$CE47)/'R2建設IOデータ'!BY$232","v":0.42672016539763608},{"$f":"+SUMIFS('R2建設IOデータ'!BZ:BZ,'R2建設IOデータ'!$A:$A,'R2建設io'!$CE47)/'R2建設IOデータ'!BZ$232","v":0.42238912391268368},{"$f":"+SUMIFS('R2建設IOデータ'!CA:CA,'R2建設IOデータ'!$A:$A,'R2建設io'!$CE47)/'R2建設IOデータ'!CA$232","v":0.42581289722642773},{"$f":"+SUMIFS('R2建設IOデータ'!CB:CB,'R2建設IOデータ'!$A:$A,'R2建設io'!$CE47)/'R2建設IOデータ'!CB$232","v":0.39152776090218339},{"$f":"+SUMIFS('R2建設IOデータ'!CC:CC,'R2建設IOデータ'!$A:$A,'R2建設io'!$CE47)/'R2建設IOデータ'!CC$232","v":0.4279509808465139},{"$f":"+SUMIFS('R2建設IOデータ'!CD:CD,'R2建設IOデータ'!$A:$A,'R2建設io'!$CE47)/'R2建設IOデータ'!CD$232","v":0.38926249361412069}]
[0,null,"92","営業余剰",0,0,0,0,0,0,0,0,0,0,0,0,0,0,0,0,0,0,0,0,0,0,0,0,0,0,0,0,0,0,0,0,0,0,0,0,0,0,0,0,0,0,0,0,0,0,0,0,0,0,0,0,0,0,0,0,0,0,0,0,0,0,0,0,0,0,0,0,0,0,0,null,null,null,null,null,null,null,"92","営業余剰",{"$f":"+SUMIFS('R2建設IOデータ'!L:L,'R2建設IOデータ'!$A:$A,'R2建設io'!$CE48)/'R2建設IOデータ'!L$232","v":3.8098126757822197E-2},{"$f":"+SUMIFS('R2建設IOデータ'!M:M,'R2建設IOデータ'!$A:$A,'R2建設io'!$CE48)/'R2建設IOデータ'!M$232","v":4.6716997965982936E-2},{"$f":"+SUMIFS('R2建設IOデータ'!N:N,'R2建設IOデータ'!$A:$A,'R2建設io'!$CE48)/'R2建設IOデータ'!N$232","v":4.5868557282546865E-2},{"$f":"+SUMIFS('R2建設IOデータ'!O:O,'R2建設IOデータ'!$A:$A,'R2建設io'!$CE48)/'R2建設IOデータ'!O$232","v":4.7831493976110064E-2},{"$f":"+SUMIFS('R2建設IOデータ'!P:P,'R2建設IOデータ'!$A:$A,'R2建設io'!$CE48)/'R2建設IOデータ'!P$232","v":4.7634590956080053E-2},{"$f":"+SUMIFS('R2建設IOデータ'!Q:Q,'R2建設IOデータ'!$A:$A,'R2建設io'!$CE48)/'R2建設IOデータ'!Q$232","v":5.6789874439009631E-2},{"$f":"+SUMIFS('R2建設IOデータ'!R:R,'R2建設IOデータ'!$A:$A,'R2建設io'!$CE48)/'R2建設IOデータ'!R$232","v":4.3089615511518471E-2},{"$f":"+SUMIFS('R2建設IOデータ'!S:S,'R2建設IOデータ'!$A:$A,'R2建設io'!$CE48)/'R2建設IOデータ'!S$232","v":3.727255724476982E-2},{"$f":"+SUMIFS('R2建設IOデータ'!T:T,'R2建設IOデータ'!$A:$A,'R2建設io'!$CE48)/'R2建設IOデータ'!T$232","v":3.6495557162964369E-2},{"$f":"+SUMIFS('R2建設IOデータ'!U:U,'R2建設IOデータ'!$A:$A,'R2建設io'!$CE48)/'R2建設IOデータ'!U$232","v":3.6513250186760306E-2},{"$f":"+SUMIFS('R2建設IOデータ'!V:V,'R2建設IOデータ'!$A:$A,'R2建設io'!$CE48)/'R2建設IOデータ'!V$232","v":3.5220078098343252E-2},{"$f":"+SUMIFS('R2建設IOデータ'!W:W,'R2建設IOデータ'!$A:$A,'R2建設io'!$CE48)/'R2建設IOデータ'!W$232","v":5.3737135244715663E-2},{"$f":"+SUMIFS('R2建設IOデータ'!X:X,'R2建設IOデータ'!$A:$A,'R2建設io'!$CE48)/'R2建設IOデータ'!X$232","v":3.9198447661572829E-2},{"$f":"+SUMIFS('R2建設IOデータ'!Y:Y,'R2建設IOデータ'!$A:$A,'R2建設io'!$CE48)/'R2建設IOデータ'!Y$232","v":5.9736988347790877E-2},{"$f":"+SUMIFS('R2建設IOデータ'!Z:Z,'R2建設IOデータ'!$A:$A,'R2建設io'!$CE48)/'R2建設IOデータ'!Z$232","v":2.7893980772570128E-2},{"$f":"+SUMIFS('R2建設IOデータ'!AA:AA,'R2建設IOデータ'!$A:$A,'R2建設io'!$CE48)/'R2建設IOデータ'!AA$232","v":4.7604073897707065E-2},{"$f":"+SUMIFS('R2建設IOデータ'!AB:AB,'R2建設IOデータ'!$A:$A,'R2建設io'!$CE48)/'R2建設IOデータ'!AB$232","v":4.6931570142928342E-2},{"$f":"+SUMIFS('R2建設IOデータ'!AC:AC,'R2建設IOデータ'!$A:$A,'R2建設io'!$CE48)/'R2建設IOデータ'!AC$232","v":3.983826187414985E-2},{"$f":"+SUMIFS('R2建設IOデータ'!AD:AD,'R2建設IOデータ'!$A:$A,'R2建設io'!$CE48)/'R2建設IOデータ'!AD$232","v":4.7827575939810692E-2},{"$f":"+SUMIFS('R2建設IOデータ'!AE:AE,'R2建設IOデータ'!$A:$A,'R2建設io'!$CE48)/'R2建設IOデータ'!AE$232","v":4.7649748256630417E-2},{"$f":"+SUMIFS('R2建設IOデータ'!AF:AF,'R2建設IOデータ'!$A:$A,'R2建設io'!$CE48)/'R2建設IOデータ'!AF$232","v":4.3065002928059821E-2},{"$f":"+SUMIFS('R2建設IOデータ'!AG:AG,'R2建設IOデータ'!$A:$A,'R2建設io'!$CE48)/'R2建設IOデータ'!AG$232","v":5.4770791810110526E-2},{"$f":"+SUMIFS('R2建設IOデータ'!AH:AH,'R2建設IOデータ'!$A:$A,'R2建設io'!$CE48)/'R2建設IOデータ'!AH$232","v":5.1331924297207121E-2},{"$f":"+SUMIFS('R2建設IOデータ'!AI:AI,'R2建設IOデータ'!$A:$A,'R2建設io'!$CE48)/'R2建設IOデータ'!AI$232","v":4.886744365854357E-2},{"$f":"+SUMIFS('R2建設IOデータ'!AJ:AJ,'R2建設IOデータ'!$A:$A,'R2建設io'!$CE48)/'R2建設IOデータ'!AJ$232","v":4.6985342427085013E-2},{"$f":"+SUMIFS('R2建設IOデータ'!AK:AK,'R2建設IOデータ'!$A:$A,'R2建設io'!$CE48)/'R2建設IOデータ'!AK$232","v":4.7529264313377631E-2},{"$f":"+SUMIFS('R2建設IOデータ'!AL:AL,'R2建設IOデータ'!$A:$A,'R2建設io'!$CE48)/'R2建設IOデータ'!AL$232","v":4.6786242820032034E-2},{"$f":"+SUMIFS('R2建設IOデータ'!AM:AM,'R2建設IOデータ'!$A:$A,'R2建設io'!$CE48)/'R2建設IOデータ'!AM$232","v":6.2011068026954788E-2},{"$f":"+SUMIFS('R2建設IOデータ'!AN:AN,'R2建設IOデータ'!$A:$A,'R2建設io'!$CE48)/'R2建設IOデータ'!AN$232","v":4.7876783517036545E-2},{"$f":"+SUMIFS('R2建設IOデータ'!AO:AO,'R2建設IOデータ'!$A:$A,'R2建設io'!$CE48)/'R2建設IOデータ'!AO$232","v":2.1931538528812335E-2},{"$f":"+SUMIFS('R2建設IOデータ'!AP:AP,'R2建設IOデータ'!$A:$A,'R2建設io'!$CE48)/'R2建設IOデータ'!AP$232","v":2.1779270510668261E-2},{"$f":"+SUMIFS('R2建設IOデータ'!AQ:AQ,'R2建設IOデータ'!$A:$A,'R2建設io'!$CE48)/'R2建設IOデータ'!AQ$232","v":2.2931726656441807E-2},{"$f":"+SUMIFS('R2建設IOデータ'!AR:AR,'R2建設IOデータ'!$A:$A,'R2建設io'!$CE48)/'R2建設IOデータ'!AR$232","v":2.2908530855532742E-2},{"$f":"+SUMIFS('R2建設IOデータ'!AS:AS,'R2建設IOデータ'!$A:$A,'R2建設io'!$CE48)/'R2建設IOデータ'!AS$232","v":2.4570954382267269E-2},{"$f":"+SUMIFS('R2建設IOデータ'!AT:AT,'R2建設IOデータ'!$A:$A,'R2建設io'!$CE48)/'R2建設IOデータ'!AT$232","v":2.2855261874824902E-2},{"$f":"+SUMIFS('R2建設IOデータ'!AU:AU,'R2建設IOデータ'!$A:$A,'R2建設io'!$CE48)/'R2建設IOデータ'!AU$232","v":2.1805187267409439E-2},{"$f":"+SUMIFS('R2建設IOデータ'!AV:AV,'R2建設IOデータ'!$A:$A,'R2建設io'!$CE48)/'R2建設IOデータ'!AV$232","v":2.0077736732732495E-2},{"$f":"+SUMIFS('R2建設IOデータ'!AW:AW,'R2建設IOデータ'!$A:$A,'R2建設io'!$CE48)/'R2建設IOデータ'!AW$232","v":2.7013547156492183E-2},{"$f":"+SUMIFS('R2建設IOデータ'!AX:AX,'R2建設IOデータ'!$A:$A,'R2建設io'!$CE48)/'R2建設IOデータ'!AX$232","v":2.6745145581613318E-2},{"$f":"+SUMIFS('R2建設IOデータ'!AY:AY,'R2建設IOデータ'!$A:$A,'R2建設io'!$CE48)/'R2建設IOデータ'!AY$232","v":1.4907243816254417E-2},{"$f":"+SUMIFS('R2建設IOデータ'!AZ:AZ,'R2建設IOデータ'!$A:$A,'R2建設io'!$CE48)/'R2建設IOデータ'!AZ$232","v":4.8808916733445035E-3},{"$f":"+SUMIFS('R2建設IOデータ'!BA:BA,'R2建設IOデータ'!$A:$A,'R2建設io'!$CE48)/'R2建設IOデータ'!BA$232","v":1.5918180053615179E-2},{"$f":"+SUMIFS('R2建設IOデータ'!BB:BB,'R2建設IOデータ'!$A:$A,'R2建設io'!$CE48)/'R2建設IOデータ'!BB$232","v":1.5136644652953918E-2},{"$f":"+SUMIFS('R2建設IOデータ'!BC:BC,'R2建設IOデータ'!$A:$A,'R2建設io'!$CE48)/'R2建設IOデータ'!BC$232","v":1.487321386252958E-2},{"$f":"+SUMIFS('R2建設IOデータ'!BD:BD,'R2建設IOデータ'!$A:$A,'R2建設io'!$CE48)/'R2建設IOデータ'!BD$232","v":1.5285857058657714E-2},{"$f":"+SUMIFS('R2建設IOデータ'!BE:BE,'R2建設IOデータ'!$A:$A,'R2建設io'!$CE48)/'R2建設IOデータ'!BE$232","v":2.1569527306103717E-2},{"$f":"+SUMIFS('R2建設IOデータ'!BF:BF,'R2建設IOデータ'!$A:$A,'R2建設io'!$CE48)/'R2建設IOデータ'!BF$232","v":2.0384211501636915E-2},{"$f":"+SUMIFS('R2建設IOデータ'!BG:BG,'R2建設IOデータ'!$A:$A,'R2建設io'!$CE48)/'R2建設IOデータ'!BG$232","v":2.3607542779582141E-2},{"$f":"+SUMIFS('R2建設IOデータ'!BH:BH,'R2建設IOデータ'!$A:$A,'R2建設io'!$CE48)/'R2建設IOデータ'!BH$232","v":2.3939978462303113E-2},{"$f":"+SUMIFS('R2建設IOデータ'!BI:BI,'R2建設IOデータ'!$A:$A,'R2建設io'!$CE48)/'R2建設IOデータ'!BI$232","v":2.2100632979294068E-2},{"$f":"+SUMIFS('R2建設IOデータ'!BJ:BJ,'R2建設IOデータ'!$A:$A,'R2建設io'!$CE48)/'R2建設IOデータ'!BJ$232","v":2.4327202423415319E-2},{"$f":"+SUMIFS('R2建設IOデータ'!BK:BK,'R2建設IOデータ'!$A:$A,'R2建設io'!$CE48)/'R2建設IOデータ'!BK$232","v":2.1760741007999639E-2},{"$f":"+SUMIFS('R2建設IOデータ'!BL:BL,'R2建設IOデータ'!$A:$A,'R2建設io'!$CE48)/'R2建設IOデータ'!BL$232","v":2.2816353844683088E-2},{"$f":"+SUMIFS('R2建設IOデータ'!BM:BM,'R2建設IOデータ'!$A:$A,'R2建設io'!$CE48)/'R2建設IOデータ'!BM$232","v":2.3241921091102104E-2},{"$f":"+SUMIFS('R2建設IOデータ'!BN:BN,'R2建設IOデータ'!$A:$A,'R2建設io'!$CE48)/'R2建設IOデータ'!BN$232","v":1.622729569675738E-2},{"$f":"+SUMIFS('R2建設IOデータ'!BO:BO,'R2建設IOデータ'!$A:$A,'R2建設io'!$CE48)/'R2建設IOデータ'!BO$232","v":2.3972563784650736E-2},{"$f":"+SUMIFS('R2建設IOデータ'!BP:BP,'R2建設IOデータ'!$A:$A,'R2建設io'!$CE48)/'R2建設IOデータ'!BP$232","v":2.3575408745901076E-2},{"$f":"+SUMIFS('R2建設IOデータ'!BQ:BQ,'R2建設IOデータ'!$A:$A,'R2建設io'!$CE48)/'R2建設IOデータ'!BQ$232","v":2.5676432073915935E-2},{"$f":"+SUMIFS('R2建設IOデータ'!BR:BR,'R2建設IOデータ'!$A:$A,'R2建設io'!$CE48)/'R2建設IOデータ'!BR$232","v":2.3457324843944444E-2},{"$f":"+SUMIFS('R2建設IOデータ'!BS:BS,'R2建設IOデータ'!$A:$A,'R2建設io'!$CE48)/'R2建設IOデータ'!BS$232","v":2.0414997789714805E-2},{"$f":"+SUMIFS('R2建設IOデータ'!BT:BT,'R2建設IOデータ'!$A:$A,'R2建設io'!$CE48)/'R2建設IOデータ'!BT$232","v":1.4802123972239588E-2},{"$f":"+SUMIFS('R2建設IOデータ'!BU:BU,'R2建設IOデータ'!$A:$A,'R2建設io'!$CE48)/'R2建設IOデータ'!BU$232","v":3.2553301527715635E-2},{"$f":"+SUMIFS('R2建設IOデータ'!BV:BV,'R2建設IOデータ'!$A:$A,'R2建設io'!$CE48)/'R2建設IOデータ'!BV$232","v":1.5579979050031252E-2},{"$f":"+SUMIFS('R2建設IOデータ'!BW:BW,'R2建設IOデータ'!$A:$A,'R2建設io'!$CE48)/'R2建設IOデータ'!BW$232","v":1.6226597607212484E-2},{"$f":"+SUMIFS('R2建設IOデータ'!BX:BX,'R2建設IOデータ'!$A:$A,'R2建設io'!$CE48)/'R2建設IOデータ'!BX$232","v":2.2146346358314369E-2},{"$f":"+SUMIFS('R2建設IOデータ'!BY:BY,'R2建設IOデータ'!$A:$A,'R2建設io'!$CE48)/'R2建設IOデータ'!BY$232","v":2.2677647985128814E-2},{"$f":"+SUMIFS('R2建設IOデータ'!BZ:BZ,'R2建設IOデータ'!$A:$A,'R2建設io'!$CE48)/'R2建設IOデータ'!BZ$232","v":2.2787652740694529E-2},{"$f":"+SUMIFS('R2建設IOデータ'!CA:CA,'R2建設IOデータ'!$A:$A,'R2建設io'!$CE48)/'R2建設IOデータ'!CA$232","v":2.0871342827060966E-2},{"$f":"+SUMIFS('R2建設IOデータ'!CB:CB,'R2建設IOデータ'!$A:$A,'R2建設io'!$CE48)/'R2建設IOデータ'!CB$232","v":2.0553296580643522E-2},{"$f":"+SUMIFS('R2建設IOデータ'!CC:CC,'R2建設IOデータ'!$A:$A,'R2建設io'!$CE48)/'R2建設IOデータ'!CC$232","v":1.7557913971518044E-2},{"$f":"+SUMIFS('R2建設IOデータ'!CD:CD,'R2建設IOデータ'!$A:$A,'R2建設io'!$CE48)/'R2建設IOデータ'!CD$232","v":2.341646543122762E-2}]
[0,null,"93","資本減耗引当",0,0,0,0,0,0,0,0,0,0,0,0,0,0,0,0,0,0,0,0,0,0,0,0,0,0,0,0,0,0,0,0,0,0,0,0,0,0,0,0,0,0,0,0,0,0,0,0,0,0,0,0,0,0,0,0,0,0,0,0,0,0,0,0,0,0,0,0,0,0,0,null,null,null,null,null,null,null,"93","資本減耗引当",{"$f":"+SUMIFS('R2建設IOデータ'!L:L,'R2建設IOデータ'!$A:$A,'R2建設io'!$CE49)/'R2建設IOデータ'!L$232","v":4.9570405040114389E-2},{"$f":"+SUMIFS('R2建設IOデータ'!M:M,'R2建設IOデータ'!$A:$A,'R2建設io'!$CE49)/'R2建設IOデータ'!M$232","v":3.716980033678946E-2},{"$f":"+SUMIFS('R2建設IOデータ'!N:N,'R2建設IOデータ'!$A:$A,'R2建設io'!$CE49)/'R2建設IOデータ'!N$232","v":3.3278504625377771E-2},{"$f":"+SUMIFS('R2建設IOデータ'!O:O,'R2建設IOデータ'!$A:$A,'R2建設io'!$CE49)/'R2建設IOデータ'!O$232","v":3.3919539540531778E-2},{"$f":"+SUMIFS('R2建設IOデータ'!P:P,'R2建設IOデータ'!$A:$A,'R2建設io'!$CE49)/'R2建設IOデータ'!P$232","v":3.411899703327044E-2},{"$f":"+SUMIFS('R2建設IOデータ'!Q:Q,'R2建設IOデータ'!$A:$A,'R2建設io'!$CE49)/'R2建設IOデータ'!Q$232","v":2.4844939740809844E-2},{"$f":"+SUMIFS('R2建設IOデータ'!R:R,'R2建設IOデータ'!$A:$A,'R2建設io'!$CE49)/'R2建設IOデータ'!R$232","v":3.2370987481166937E-2},{"$f":"+SUMIFS('R2建設IOデータ'!S:S,'R2建設IOデータ'!$A:$A,'R2建設io'!$CE49)/'R2建設IOデータ'!S$232","v":3.3037646618751172E-2},{"$f":"+SUMIFS('R2建設IOデータ'!T:T,'R2建設IOデータ'!$A:$A,'R2建設io'!$CE49)/'R2建設IOデータ'!T$232","v":3.7452827032408938E-2},{"$f":"+SUMIFS('R2建設IOデータ'!U:U,'R2建設IOデータ'!$A:$A,'R2建設io'!$CE49)/'R2建設IOデータ'!U$232","v":3.7640780193967764E-2},{"$f":"+SUMIFS('R2建設IOデータ'!V:V,'R2建設IOデータ'!$A:$A,'R2建設io'!$CE49)/'R2建設IOデータ'!V$232","v":2.390340068999507E-2},{"$f":"+SUMIFS('R2建設IOデータ'!W:W,'R2建設IOデータ'!$A:$A,'R2建設io'!$CE49)/'R2建設IOデータ'!W$232","v":2.4892137906286506E-2},{"$f":"+SUMIFS('R2建設IOデータ'!X:X,'R2建設IOデータ'!$A:$A,'R2建設io'!$CE49)/'R2建設IOデータ'!X$232","v":3.0811689282288068E-2},{"$f":"+SUMIFS('R2建設IOデータ'!Y:Y,'R2建設IOデータ'!$A:$A,'R2建設io'!$CE49)/'R2建設IOデータ'!Y$232","v":2.2449246242991095E-2},{"$f":"+SUMIFS('R2建設IOデータ'!Z:Z,'R2建設IOデータ'!$A:$A,'R2建設io'!$CE49)/'R2建設IOデータ'!Z$232","v":1.9685225819691541E-2},{"$f":"+SUMIFS('R2建設IOデータ'!AA:AA,'R2建設IOデータ'!$A:$A,'R2建設io'!$CE49)/'R2建設IOデータ'!AA$232","v":4.1238293086141117E-2},{"$f":"+SUMIFS('R2建設IOデータ'!AB:AB,'R2建設IOデータ'!$A:$A,'R2建設io'!$CE49)/'R2建設IOデータ'!AB$232","v":3.1810150535027844E-2},{"$f":"+SUMIFS('R2建設IOデータ'!AC:AC,'R2建設IOデータ'!$A:$A,'R2建設io'!$CE49)/'R2建設IOデータ'!AC$232","v":3.8207837218402367E-2},{"$f":"+SUMIFS('R2建設IOデータ'!AD:AD,'R2建設IOデータ'!$A:$A,'R2建設io'!$CE49)/'R2建設IOデータ'!AD$232","v":3.1002013606851207E-2},{"$f":"+SUMIFS('R2建設IOデータ'!AE:AE,'R2建設IOデータ'!$A:$A,'R2建設io'!$CE49)/'R2建設IOデータ'!AE$232","v":4.1878623141995974E-2},{"$f":"+SUMIFS('R2建設IOデータ'!AF:AF,'R2建設IOデータ'!$A:$A,'R2建設io'!$CE49)/'R2建設IOデータ'!AF$232","v":4.669880024625734E-2},{"$f":"+SUMIFS('R2建設IOデータ'!AG:AG,'R2建設IOデータ'!$A:$A,'R2建設io'!$CE49)/'R2建設IOデータ'!AG$232","v":3.654285196593586E-2},{"$f":"+SUMIFS('R2建設IOデータ'!AH:AH,'R2建設IOデータ'!$A:$A,'R2建設io'!$CE49)/'R2建設IOデータ'!AH$232","v":4.9579455675542949E-2},{"$f":"+SUMIFS('R2建設IOデータ'!AI:AI,'R2建設IOデータ'!$A:$A,'R2建設io'!$CE49)/'R2建設IOデータ'!AI$232","v":4.1229796233948464E-2},{"$f":"+SUMIFS('R2建設IOデータ'!AJ:AJ,'R2建設IOデータ'!$A:$A,'R2建設io'!$CE49)/'R2建設IOデータ'!AJ$232","v":3.8341101152579202E-2},{"$f":"+SUMIFS('R2建設IOデータ'!AK:AK,'R2建設IOデータ'!$A:$A,'R2建設io'!$CE49)/'R2建設IOデータ'!AK$232","v":4.6856066306043734E-2},{"$f":"+SUMIFS('R2建設IOデータ'!AL:AL,'R2建設IOデータ'!$A:$A,'R2建設io'!$CE49)/'R2建設IOデータ'!AL$232","v":3.9571642094143086E-2},{"$f":"+SUMIFS('R2建設IOデータ'!AM:AM,'R2建設IOデータ'!$A:$A,'R2建設io'!$CE49)/'R2建設IOデータ'!AM$232","v":3.452170312088243E-2},{"$f":"+SUMIFS('R2建設IOデータ'!AN:AN,'R2建設IOデータ'!$A:$A,'R2建設io'!$CE49)/'R2建設IOデータ'!AN$232","v":2.8844892024848325E-2},{"$f":"+SUMIFS('R2建設IOデータ'!AO:AO,'R2建設IOデータ'!$A:$A,'R2建設io'!$CE49)/'R2建設IOデータ'!AO$232","v":7.5837934000582308E-2},{"$f":"+SUMIFS('R2建設IOデータ'!AP:AP,'R2建設IOデータ'!$A:$A,'R2建設io'!$CE49)/'R2建設IOデータ'!AP$232","v":8.2190609479206991E-2},{"$f":"+SUMIFS('R2建設IOデータ'!AQ:AQ,'R2建設IOデータ'!$A:$A,'R2建設io'!$CE49)/'R2建設IOデータ'!AQ$232","v":7.826937611388915E-2},{"$f":"+SUMIFS('R2建設IOデータ'!AR:AR,'R2建設IOデータ'!$A:$A,'R2建設io'!$CE49)/'R2建設IOデータ'!AR$232","v":7.8574148760148788E-2},{"$f":"+SUMIFS('R2建設IOデータ'!AS:AS,'R2建設IOデータ'!$A:$A,'R2建設io'!$CE49)/'R2建設IOデータ'!AS$232","v":7.0730066239703959E-2},{"$f":"+SUMIFS('R2建設IOデータ'!AT:AT,'R2建設IOデータ'!$A:$A,'R2建設io'!$CE49)/'R2建設IOデータ'!AT$232","v":9.8130891751457672E-2},{"$f":"+SUMIFS('R2建設IOデータ'!AU:AU,'R2建設IOデータ'!$A:$A,'R2建設io'!$CE49)/'R2建設IOデータ'!AU$232","v":6.4072653609350286E-2},{"$f":"+SUMIFS('R2建設IOデータ'!AV:AV,'R2建設IOデータ'!$A:$A,'R2建設io'!$CE49)/'R2建設IOデータ'!AV$232","v":7.5780556744696359E-2},{"$f":"+SUMIFS('R2建設IOデータ'!AW:AW,'R2建設IOデータ'!$A:$A,'R2建設io'!$CE49)/'R2建設IOデータ'!AW$232","v":4.755848573512899E-2},{"$f":"+SUMIFS('R2建設IOデータ'!AX:AX,'R2建設IOデータ'!$A:$A,'R2建設io'!$CE49)/'R2建設IOデータ'!AX$232","v":4.3697406222620673E-2},{"$f":"+SUMIFS('R2建設IOデータ'!AY:AY,'R2建設IOデータ'!$A:$A,'R2建設io'!$CE49)/'R2建設IOデータ'!AY$232","v":8.3149293286219075E-2},{"$f":"+SUMIFS('R2建設IOデータ'!AZ:AZ,'R2建設IOデータ'!$A:$A,'R2建設io'!$CE49)/'R2建設IOデータ'!AZ$232","v":9.8346324761419107E-2},{"$f":"+SUMIFS('R2建設IOデータ'!BA:BA,'R2建設IOデータ'!$A:$A,'R2建設io'!$CE49)/'R2建設IOデータ'!BA$232","v":0.11155785456994706},{"$f":"+SUMIFS('R2建設IOデータ'!BB:BB,'R2建設IOデータ'!$A:$A,'R2建設io'!$CE49)/'R2建設IOデータ'!BB$232","v":0.11531578936995848},{"$f":"+SUMIFS('R2建設IOデータ'!BC:BC,'R2建設IOデータ'!$A:$A,'R2建設io'!$CE49)/'R2建設IOデータ'!BC$232","v":0.12476899678125317},{"$f":"+SUMIFS('R2建設IOデータ'!BD:BD,'R2建設IOデータ'!$A:$A,'R2建設io'!$CE49)/'R2建設IOデータ'!BD$232","v":3.3326499756553829E-2},{"$f":"+SUMIFS('R2建設IOデータ'!BE:BE,'R2建設IOデータ'!$A:$A,'R2建設io'!$CE49)/'R2建設IOデータ'!BE$232","v":1.9229004130335015E-2},{"$f":"+SUMIFS('R2建設IOデータ'!BF:BF,'R2建設IOデータ'!$A:$A,'R2建設io'!$CE49)/'R2建設IOデータ'!BF$232","v":0.11507813947742294},{"$f":"+SUMIFS('R2建設IOデータ'!BG:BG,'R2建設IOデータ'!$A:$A,'R2建設io'!$CE49)/'R2建設IOデータ'!BG$232","v":7.4584323040380041E-2},{"$f":"+SUMIFS('R2建設IOデータ'!BH:BH,'R2建設IOデータ'!$A:$A,'R2建設io'!$CE49)/'R2建設IOデータ'!BH$232","v":7.5630450989905687E-2},{"$f":"+SUMIFS('R2建設IOデータ'!BI:BI,'R2建設IOデータ'!$A:$A,'R2建設io'!$CE49)/'R2建設IOデータ'!BI$232","v":6.9842291599613776E-2},{"$f":"+SUMIFS('R2建設IOデータ'!BJ:BJ,'R2建設IOデータ'!$A:$A,'R2建設io'!$CE49)/'R2建設IOデータ'!BJ$232","v":5.9934038439667915E-2},{"$f":"+SUMIFS('R2建設IOデータ'!BK:BK,'R2建設IOデータ'!$A:$A,'R2建設io'!$CE49)/'R2建設IOデータ'!BK$232","v":8.6852058740392771E-2},{"$f":"+SUMIFS('R2建設IOデータ'!BL:BL,'R2建設IOデータ'!$A:$A,'R2建設io'!$CE49)/'R2建設IOデータ'!BL$232","v":9.7490873812533421E-2},{"$f":"+SUMIFS('R2建設IOデータ'!BM:BM,'R2建設IOデータ'!$A:$A,'R2建設io'!$CE49)/'R2建設IOデータ'!BM$232","v":0.11851354464782693},{"$f":"+SUMIFS('R2建設IOデータ'!BN:BN,'R2建設IOデータ'!$A:$A,'R2建設io'!$CE49)/'R2建設IOデータ'!BN$232","v":4.5842962020860419E-2},{"$f":"+SUMIFS('R2建設IOデータ'!BO:BO,'R2建設IOデータ'!$A:$A,'R2建設io'!$CE49)/'R2建設IOデータ'!BO$232","v":7.1064575205032246E-2},{"$f":"+SUMIFS('R2建設IOデータ'!BP:BP,'R2建設IOデータ'!$A:$A,'R2建設io'!$CE49)/'R2建設IOデータ'!BP$232","v":5.8072874865280101E-2},{"$f":"+SUMIFS('R2建設IOデータ'!BQ:BQ,'R2建設IOデータ'!$A:$A,'R2建設io'!$CE49)/'R2建設IOデータ'!BQ$232","v":5.9742865962025743E-2},{"$f":"+SUMIFS('R2建設IOデータ'!BR:BR,'R2建設IOデータ'!$A:$A,'R2建設io'!$CE49)/'R2建設IOデータ'!BR$232","v":0.12266884018987539},{"$f":"+SUMIFS('R2建設IOデータ'!BS:BS,'R2建設IOデータ'!$A:$A,'R2建設io'!$CE49)/'R2建設IOデータ'!BS$232","v":0.17737203788294864},{"$f":"+SUMIFS('R2建設IOデータ'!BT:BT,'R2建設IOデータ'!$A:$A,'R2建設io'!$CE49)/'R2建設IOデータ'!BT$232","v":9.975310009733554E-2},{"$f":"+SUMIFS('R2建設IOデータ'!BU:BU,'R2建設IOデータ'!$A:$A,'R2建設io'!$CE49)/'R2建設IOデータ'!BU$232","v":4.1182657609232537E-2},{"$f":"+SUMIFS('R2建設IOデータ'!BV:BV,'R2建設IOデータ'!$A:$A,'R2建設io'!$CE49)/'R2建設IOデータ'!BV$232","v":5.48030827754196E-2},{"$f":"+SUMIFS('R2建設IOデータ'!BW:BW,'R2建設IOデータ'!$A:$A,'R2建設io'!$CE49)/'R2建設IOデータ'!BW$232","v":7.7883196324190745E-2},{"$f":"+SUMIFS('R2建設IOデータ'!BX:BX,'R2建設IOデータ'!$A:$A,'R2建設io'!$CE49)/'R2建設IOデータ'!BX$232","v":6.6876075511014516E-2},{"$f":"+SUMIFS('R2建設IOデータ'!BY:BY,'R2建設IOデータ'!$A:$A,'R2建設io'!$CE49)/'R2建設IOデータ'!BY$232","v":8.83706742482607E-2},{"$f":"+SUMIFS('R2建設IOデータ'!BZ:BZ,'R2建設IOデータ'!$A:$A,'R2建設io'!$CE49)/'R2建設IOデータ'!BZ$232","v":9.0077138224547437E-2},{"$f":"+SUMIFS('R2建設IOデータ'!CA:CA,'R2建設IOデータ'!$A:$A,'R2建設io'!$CE49)/'R2建設IOデータ'!CA$232","v":6.6800900700117585E-2},{"$f":"+SUMIFS('R2建設IOデータ'!CB:CB,'R2建設IOデータ'!$A:$A,'R2建設io'!$CE49)/'R2建設IOデータ'!CB$232","v":4.6469029124293224E-2},{"$f":"+SUMIFS('R2建設IOデータ'!CC:CC,'R2建設IOデータ'!$A:$A,'R2建設io'!$CE49)/'R2建設IOデータ'!CC$232","v":6.1532146474844909E-2},{"$f":"+SUMIFS('R2建設IOデータ'!CD:CD,'R2建設IOデータ'!$A:$A,'R2建設io'!$CE49)/'R2建設IOデータ'!CD$232","v":4.625702083377238E-2}]
[0,null,"94","間接税（関税・輸入品商品税を除く。）",0,0,0,0,0,0,0,0,0,0,0,0,0,0,0,0,0,0,0,0,0,0,0,0,0,0,0,0,0,0,0,0,0,0,0,0,0,0,0,0,0,0,0,0,0,0,0,0,0,0,0,0,0,0,0,0,0,0,0,0,0,0,0,0,0,0,0,0,{"$f":"BU$56*EW50","v":0},0,0,null,null,null,null,null,null,null,"94","間接税（関税・輸入品商品税を除く。）",{"$f":"+SUMIFS('R2建設IOデータ'!L:L,'R2建設IOデータ'!$A:$A,'R2建設io'!$CE50)/'R2建設IOデータ'!L$232","v":4.817946928486018E-2},{"$f":"+SUMIFS('R2建設IOデータ'!M:M,'R2建設IOデータ'!$A:$A,'R2建設io'!$CE50)/'R2建設IOデータ'!M$232","v":4.6678242098838439E-2},{"$f":"+SUMIFS('R2建設IOデータ'!N:N,'R2建設IOデータ'!$A:$A,'R2建設io'!$CE50)/'R2建設IOデータ'!N$232","v":4.6114778010467879E-2},{"$f":"+SUMIFS('R2建設IOデータ'!O:O,'R2建設IOデータ'!$A:$A,'R2建設io'!$CE50)/'R2建設IOデータ'!O$232","v":4.7294441649405689E-2},{"$f":"+SUMIFS('R2建設IOデータ'!P:P,'R2建設IOデータ'!$A:$A,'R2建設io'!$CE50)/'R2建設IOデータ'!P$232","v":4.7385543946046244E-2},{"$f":"+SUMIFS('R2建設IOデータ'!Q:Q,'R2建設IOデータ'!$A:$A,'R2建設io'!$CE50)/'R2建設IOデータ'!Q$232","v":4.3149614240330793E-2},{"$f":"+SUMIFS('R2建設IOデータ'!R:R,'R2建設IOデータ'!$A:$A,'R2建設io'!$CE50)/'R2建設IOデータ'!R$232","v":4.4444720808543087E-2},{"$f":"+SUMIFS('R2建設IOデータ'!S:S,'R2建設IOデータ'!$A:$A,'R2建設io'!$CE50)/'R2建設IOデータ'!S$232","v":4.4406444545381674E-2},{"$f":"+SUMIFS('R2建設IOデータ'!T:T,'R2建設IOデータ'!$A:$A,'R2建設io'!$CE50)/'R2建設IOデータ'!T$232","v":4.4850596134559308E-2},{"$f":"+SUMIFS('R2建設IOデータ'!U:U,'R2建設IOデータ'!$A:$A,'R2建設io'!$CE50)/'R2建設IOデータ'!U$232","v":4.4829309890105265E-2},{"$f":"+SUMIFS('R2建設IOデータ'!V:V,'R2建設IOデータ'!$A:$A,'R2建設io'!$CE50)/'R2建設IOデータ'!V$232","v":4.6385108238237861E-2},{"$f":"+SUMIFS('R2建設IOデータ'!W:W,'R2建設IOデータ'!$A:$A,'R2建設io'!$CE50)/'R2建設IOデータ'!W$232","v":4.4008210578880741E-2},{"$f":"+SUMIFS('R2建設IOデータ'!X:X,'R2建設IOデータ'!$A:$A,'R2建設io'!$CE50)/'R2建設IOデータ'!X$232","v":4.0785572384029828E-2},{"$f":"+SUMIFS('R2建設IOデータ'!Y:Y,'R2建設IOデータ'!$A:$A,'R2建設io'!$CE50)/'R2建設IOデータ'!Y$232","v":4.5338135007264753E-2},{"$f":"+SUMIFS('R2建設IOデータ'!Z:Z,'R2建設IOデータ'!$A:$A,'R2建設io'!$CE50)/'R2建設IOデータ'!Z$232","v":3.7144616161775619E-2},{"$f":"+SUMIFS('R2建設IOデータ'!AA:AA,'R2建設IOデータ'!$A:$A,'R2建設io'!$CE50)/'R2建設IOデータ'!AA$232","v":4.7267364521822848E-2},{"$f":"+SUMIFS('R2建設IOデータ'!AB:AB,'R2建設IOデータ'!$A:$A,'R2建設io'!$CE50)/'R2建設IOデータ'!AB$232","v":4.7554315173767805E-2},{"$f":"+SUMIFS('R2建設IOデータ'!AC:AC,'R2建設IOデータ'!$A:$A,'R2建設io'!$CE50)/'R2建設IOデータ'!AC$232","v":4.5679840497885107E-2},{"$f":"+SUMIFS('R2建設IOデータ'!AD:AD,'R2建設IOデータ'!$A:$A,'R2建設io'!$CE50)/'R2建設IOデータ'!AD$232","v":4.7791093290840851E-2},{"$f":"+SUMIFS('R2建設IOデータ'!AE:AE,'R2建設IOデータ'!$A:$A,'R2建設io'!$CE50)/'R2建設IOデータ'!AE$232","v":4.7247875727928254E-2},{"$f":"+SUMIFS('R2建設IOデータ'!AF:AF,'R2建設IOデータ'!$A:$A,'R2建設io'!$CE50)/'R2建設IOデータ'!AF$232","v":4.6586182560776013E-2},{"$f":"+SUMIFS('R2建設IOデータ'!AG:AG,'R2建設IOデータ'!$A:$A,'R2建設io'!$CE50)/'R2建設IOデータ'!AG$232","v":4.8366249924503231E-2},{"$f":"+SUMIFS('R2建設IOデータ'!AH:AH,'R2建設IOデータ'!$A:$A,'R2建設io'!$CE50)/'R2建設IOデータ'!AH$232","v":4.8484965199375403E-2},{"$f":"+SUMIFS('R2建設IOデータ'!AI:AI,'R2建設IOデータ'!$A:$A,'R2建設io'!$CE50)/'R2建設IOデータ'!AI$232","v":4.6734056871223617E-2},{"$f":"+SUMIFS('R2建設IOデータ'!AJ:AJ,'R2建設IOデータ'!$A:$A,'R2建設io'!$CE50)/'R2建設IOデータ'!AJ$232","v":4.8164999081667492E-2},{"$f":"+SUMIFS('R2建設IOデータ'!AK:AK,'R2建設IOデータ'!$A:$A,'R2建設io'!$CE50)/'R2建設IOデータ'!AK$232","v":4.7864625820707572E-2},{"$f":"+SUMIFS('R2建設IOデータ'!AL:AL,'R2建設IOデータ'!$A:$A,'R2建設io'!$CE50)/'R2建設IOデータ'!AL$232","v":4.6173581975102518E-2},{"$f":"+SUMIFS('R2建設IOデータ'!AM:AM,'R2建設IOデータ'!$A:$A,'R2建設io'!$CE50)/'R2建設IOデータ'!AM$232","v":5.2064902307721268E-2},{"$f":"+SUMIFS('R2建設IOデータ'!AN:AN,'R2建設IOデータ'!$A:$A,'R2建設io'!$CE50)/'R2建設IOデータ'!AN$232","v":4.8174524342370587E-2},{"$f":"+SUMIFS('R2建設IOデータ'!AO:AO,'R2建設IOデータ'!$A:$A,'R2建設io'!$CE50)/'R2建設IOデータ'!AO$232","v":5.0228016707424133E-2},{"$f":"+SUMIFS('R2建設IOデータ'!AP:AP,'R2建設IOデータ'!$A:$A,'R2建設io'!$CE50)/'R2建設IOデータ'!AP$232","v":5.4533684294560743E-2},{"$f":"+SUMIFS('R2建設IOデータ'!AQ:AQ,'R2建設IOデータ'!$A:$A,'R2建設io'!$CE50)/'R2建設IOデータ'!AQ$232","v":5.3966201837263111E-2},{"$f":"+SUMIFS('R2建設IOデータ'!AR:AR,'R2建設IOデータ'!$A:$A,'R2建設io'!$CE50)/'R2建設IOデータ'!AR$232","v":5.4001220844266055E-2},{"$f":"+SUMIFS('R2建設IOデータ'!AS:AS,'R2建設IOデータ'!$A:$A,'R2建設io'!$CE50)/'R2建設IOデータ'!AS$232","v":5.4981996219067734E-2},{"$f":"+SUMIFS('R2建設IOデータ'!AT:AT,'R2建設IOデータ'!$A:$A,'R2建設io'!$CE50)/'R2建設IOデータ'!AT$232","v":5.2839830006960076E-2},{"$f":"+SUMIFS('R2建設IOデータ'!AU:AU,'R2建設IOデータ'!$A:$A,'R2建設io'!$CE50)/'R2建設IOデータ'!AU$232","v":5.0916705550307848E-2},{"$f":"+SUMIFS('R2建設IOデータ'!AV:AV,'R2建設IOデータ'!$A:$A,'R2建設io'!$CE50)/'R2建設IOデータ'!AV$232","v":5.1657221266184522E-2},{"$f":"+SUMIFS('R2建設IOデータ'!AW:AW,'R2建設IOデータ'!$A:$A,'R2建設io'!$CE50)/'R2建設IOデータ'!AW$232","v":5.8057518905234938E-2},{"$f":"+SUMIFS('R2建設IOデータ'!AX:AX,'R2建設IOデータ'!$A:$A,'R2建設io'!$CE50)/'R2建設IOデータ'!AX$232","v":5.475356058599401E-2},{"$f":"+SUMIFS('R2建設IOデータ'!AY:AY,'R2建設IOデータ'!$A:$A,'R2建設io'!$CE50)/'R2建設IOデータ'!AY$232","v":4.9801236749116608E-2},{"$f":"+SUMIFS('R2建設IOデータ'!AZ:AZ,'R2建設IOデータ'!$A:$A,'R2建設io'!$CE50)/'R2建設IOデータ'!AZ$232","v":5.1650032782108252E-2},{"$f":"+SUMIFS('R2建設IOデータ'!BA:BA,'R2建設IOデータ'!$A:$A,'R2建設io'!$CE50)/'R2建設IOデータ'!BA$232","v":4.9877143064151266E-2},{"$f":"+SUMIFS('R2建設IOデータ'!BB:BB,'R2建設IOデータ'!$A:$A,'R2建設io'!$CE50)/'R2建設IOデータ'!BB$232","v":4.9957529497783849E-2},{"$f":"+SUMIFS('R2建設IOデータ'!BC:BC,'R2建設IOデータ'!$A:$A,'R2建設io'!$CE50)/'R2建設IOデータ'!BC$232","v":4.9357085081503389E-2},{"$f":"+SUMIFS('R2建設IOデータ'!BD:BD,'R2建設IOデータ'!$A:$A,'R2建設io'!$CE50)/'R2建設IOデータ'!BD$232","v":5.5659482869077209E-2},{"$f":"+SUMIFS('R2建設IOデータ'!BE:BE,'R2建設IOデータ'!$A:$A,'R2建設io'!$CE50)/'R2建設IOデータ'!BE$232","v":5.6631482331344657E-2},{"$f":"+SUMIFS('R2建設IOデータ'!BF:BF,'R2建設IOデータ'!$A:$A,'R2建設io'!$CE50)/'R2建設IOデータ'!BF$232","v":4.6821916115881157E-2},{"$f":"+SUMIFS('R2建設IOデータ'!BG:BG,'R2建設IOデータ'!$A:$A,'R2建設io'!$CE50)/'R2建設IOデータ'!BG$232","v":4.9086237820543895E-2},{"$f":"+SUMIFS('R2建設IOデータ'!BH:BH,'R2建設IOデータ'!$A:$A,'R2建設io'!$CE50)/'R2建設IOデータ'!BH$232","v":4.9524868939564273E-2},{"$f":"+SUMIFS('R2建設IOデータ'!BI:BI,'R2建設IOデータ'!$A:$A,'R2建設io'!$CE50)/'R2建設IOデータ'!BI$232","v":4.7097950863641241E-2},{"$f":"+SUMIFS('R2建設IOデータ'!BJ:BJ,'R2建設IOデータ'!$A:$A,'R2建設io'!$CE50)/'R2建設IOデータ'!BJ$232","v":5.1859433640395768E-2},{"$f":"+SUMIFS('R2建設IOデータ'!BK:BK,'R2建設IOデータ'!$A:$A,'R2建設io'!$CE50)/'R2建設IOデータ'!BK$232","v":5.3749442303759047E-2},{"$f":"+SUMIFS('R2建設IOデータ'!BL:BL,'R2建設IOデータ'!$A:$A,'R2建設io'!$CE50)/'R2建設IOデータ'!BL$232","v":5.4334009609494777E-2},{"$f":"+SUMIFS('R2建設IOデータ'!BM:BM,'R2建設IOデータ'!$A:$A,'R2建設io'!$CE50)/'R2建設IOデータ'!BM$232","v":5.4193543125460021E-2},{"$f":"+SUMIFS('R2建設IOデータ'!BN:BN,'R2建設IOデータ'!$A:$A,'R2建設io'!$CE50)/'R2建設IOデータ'!BN$232","v":5.1435644407601504E-2},{"$f":"+SUMIFS('R2建設IOデータ'!BO:BO,'R2建設IOデータ'!$A:$A,'R2建設io'!$CE50)/'R2建設IOデータ'!BO$232","v":5.2466643158577228E-2},{"$f":"+SUMIFS('R2建設IOデータ'!BP:BP,'R2建設IOデータ'!$A:$A,'R2建設io'!$CE50)/'R2建設IOデータ'!BP$232","v":5.673140865417689E-2},{"$f":"+SUMIFS('R2建設IOデータ'!BQ:BQ,'R2建設IOデータ'!$A:$A,'R2建設io'!$CE50)/'R2建設IOデータ'!BQ$232","v":5.6399934310705203E-2},{"$f":"+SUMIFS('R2建設IOデータ'!BR:BR,'R2建設IOデータ'!$A:$A,'R2建設io'!$CE50)/'R2建設IOデータ'!BR$232","v":4.9996442644824925E-2},{"$f":"+SUMIFS('R2建設IOデータ'!BS:BS,'R2建設IOデータ'!$A:$A,'R2建設io'!$CE50)/'R2建設IOデータ'!BS$232","v":5.1164753318776707E-2},{"$f":"+SUMIFS('R2建設IOデータ'!BT:BT,'R2建設IOデータ'!$A:$A,'R2建設io'!$CE50)/'R2建設IOデータ'!BT$232","v":5.1231729802875749E-2},{"$f":"+SUMIFS('R2建設IOデータ'!BU:BU,'R2建設IOデータ'!$A:$A,'R2建設io'!$CE50)/'R2建設IOデータ'!BU$232","v":5.8540157013603586E-2},{"$f":"+SUMIFS('R2建設IOデータ'!BV:BV,'R2建設IOデータ'!$A:$A,'R2建設io'!$CE50)/'R2建設IOデータ'!BV$232","v":5.3209272137405679E-2},{"$f":"+SUMIFS('R2建設IOデータ'!BW:BW,'R2建設IOデータ'!$A:$A,'R2建設io'!$CE50)/'R2建設IOデータ'!BW$232","v":6.1270665246608173E-2},{"$f":"+SUMIFS('R2建設IOデータ'!BX:BX,'R2建設IOデータ'!$A:$A,'R2建設io'!$CE50)/'R2建設IOデータ'!BX$232","v":4.4153917101852763E-2},{"$f":"+SUMIFS('R2建設IOデータ'!BY:BY,'R2建設IOデータ'!$A:$A,'R2建設io'!$CE50)/'R2建設IOデータ'!BY$232","v":4.5318144073751079E-2},{"$f":"+SUMIFS('R2建設IOデータ'!BZ:BZ,'R2建設IOデータ'!$A:$A,'R2建設io'!$CE50)/'R2建設IOデータ'!BZ$232","v":5.1406402758841528E-2},{"$f":"+SUMIFS('R2建設IOデータ'!CA:CA,'R2建設IOデータ'!$A:$A,'R2建設io'!$CE50)/'R2建設IOデータ'!CA$232","v":4.9870505145210998E-2},{"$f":"+SUMIFS('R2建設IOデータ'!CB:CB,'R2建設IOデータ'!$A:$A,'R2建設io'!$CE50)/'R2建設IOデータ'!CB$232","v":3.9567303480956321E-2},{"$f":"+SUMIFS('R2建設IOデータ'!CC:CC,'R2建設IOデータ'!$A:$A,'R2建設io'!$CE50)/'R2建設IOデータ'!CC$232","v":4.0205438186476698E-2},{"$f":"+SUMIFS('R2建設IOデータ'!CD:CD,'R2建設IOデータ'!$A:$A,'R2建設io'!$CE50)/'R2建設IOデータ'!CD$232","v":3.9026352334851896E-2}]
[0,null,"95","（控除）経常補助金",0,0,0,0,0,0,0,0,0,0,0,0,0,0,0,0,0,0,0,0,0,0,0,0,0,0,0,0,0,0,0,0,0,0,0,0,0,0,0,0,0,0,0,0,0,0,0,0,0,0,0,0,0,0,0,0,0,0,0,0,0,0,0,0,0,0,0,0,0,0,0,null,null,null,null,null,null,null,"95","（控除）経常補助金",{"$f":"+SUMIFS('R2建設IOデータ'!L:L,'R2建設IOデータ'!$A:$A,'R2建設io'!$CE51)/'R2建設IOデータ'!L$232","v":-4.0769267700797984E-3},{"$f":"+SUMIFS('R2建設IOデータ'!M:M,'R2建設IOデータ'!$A:$A,'R2建設io'!$CE51)/'R2建設IOデータ'!M$232","v":-3.3135779117676066E-6},{"$f":"+SUMIFS('R2建設IOデータ'!N:N,'R2建設IOデータ'!$A:$A,'R2建設io'!$CE51)/'R2建設IOデータ'!N$232","v":-3.7498768578574219E-6},{"$f":"+SUMIFS('R2建設IOデータ'!O:O,'R2建設IOデータ'!$A:$A,'R2建設io'!$CE51)/'R2建設IOデータ'!O$232","v":-3.3619996219377201E-6},{"$f":"+SUMIFS('R2建設IOデータ'!P:P,'R2建設IOデータ'!$A:$A,'R2建設io'!$CE51)/'R2建設IOデータ'!P$232","v":-3.3250602140695931E-6},{"$f":"+SUMIFS('R2建設IOデータ'!Q:Q,'R2建設IOデータ'!$A:$A,'R2建設io'!$CE51)/'R2建設IOデータ'!Q$232","v":-5.0426100549644496E-6},{"$f":"+SUMIFS('R2建設IOデータ'!R:R,'R2建設IOデータ'!$A:$A,'R2建設io'!$CE51)/'R2建設IOデータ'!R$232","v":-4.2989970900395768E-6},{"$f":"+SUMIFS('R2建設IOデータ'!S:S,'R2建設IOデータ'!$A:$A,'R2建設io'!$CE51)/'R2建設IOデータ'!S$232","v":-1.3359339514254415E-5},{"$f":"+SUMIFS('R2建設IOデータ'!T:T,'R2建設IOデータ'!$A:$A,'R2建設io'!$CE51)/'R2建設IOデータ'!T$232","v":-4.1496390981070643E-6},{"$f":"+SUMIFS('R2建設IOデータ'!U:U,'R2建設IOデータ'!$A:$A,'R2建設io'!$CE51)/'R2建設IOデータ'!U$232","v":-4.2072015194308292E-6},{"$f":"+SUMIFS('R2建設IOデータ'!V:V,'R2建設IOデータ'!$A:$A,'R2建設io'!$CE51)/'R2建設IOデータ'!V$232","v":0},{"$f":"+SUMIFS('R2建設IOデータ'!W:W,'R2建設IOデータ'!$A:$A,'R2建設io'!$CE51)/'R2建設IOデータ'!W$232","v":-4.3664846107219426E-6},{"$f":"+SUMIFS('R2建設IOデータ'!X:X,'R2建設IOデータ'!$A:$A,'R2建設io'!$CE51)/'R2建設IOデータ'!X$232","v":-4.0765189789135258E-6},{"$f":"+SUMIFS('R2建設IOデータ'!Y:Y,'R2建設IOデータ'!$A:$A,'R2建設io'!$CE51)/'R2建設IOデータ'!Y$232","v":-4.4861481763527278E-6},{"$f":"+SUMIFS('R2建設IOデータ'!Z:Z,'R2建設IOデータ'!$A:$A,'R2建設io'!$CE51)/'R2建設IOデータ'!Z$232","v":0},{"$f":"+SUMIFS('R2建設IOデータ'!AA:AA,'R2建設IOデータ'!$A:$A,'R2建設io'!$CE51)/'R2建設IOデータ'!AA$232","v":-2.8574113209041699E-6},{"$f":"+SUMIFS('R2建設IOデータ'!AB:AB,'R2建設IOデータ'!$A:$A,'R2建設io'!$CE51)/'R2建設IOデータ'!AB$232","v":-2.0897484256357798E-6},{"$f":"+SUMIFS('R2建設IOデータ'!AC:AC,'R2建設IOデータ'!$A:$A,'R2建設io'!$CE51)/'R2建設IOデータ'!AC$232","v":0},{"$f":"+SUMIFS('R2建設IOデータ'!AD:AD,'R2建設IOデータ'!$A:$A,'R2建設io'!$CE51)/'R2建設IOデータ'!AD$232","v":-2.3537192883765105E-6},{"$f":"+SUMIFS('R2建設IOデータ'!AE:AE,'R2建設IOデータ'!$A:$A,'R2建設io'!$CE51)/'R2建設IOデータ'!AE$232","v":-2.9095485920516952E-6},{"$f":"+SUMIFS('R2建設IOデータ'!AF:AF,'R2建設IOデータ'!$A:$A,'R2建設io'!$CE51)/'R2建設IOデータ'!AF$232","v":-1.5015691397510398E-5},{"$f":"+SUMIFS('R2建設IOデータ'!AG:AG,'R2建設IOデータ'!$A:$A,'R2建設io'!$CE51)/'R2建設IOデータ'!AG$232","v":-2.415896599625536E-6},{"$f":"+SUMIFS('R2建設IOデータ'!AH:AH,'R2建設IOデータ'!$A:$A,'R2建設io'!$CE51)/'R2建設IOデータ'!AH$232","v":-3.2096494902274198E-6},{"$f":"+SUMIFS('R2建設IOデータ'!AI:AI,'R2建設IOデータ'!$A:$A,'R2建設io'!$CE51)/'R2建設IOデータ'!AI$232","v":-2.0454331613805857E-6},{"$f":"+SUMIFS('R2建設IOデータ'!AJ:AJ,'R2建設IOデータ'!$A:$A,'R2建設io'!$CE51)/'R2建設IOデータ'!AJ$232","v":-2.8762091891596499E-6},{"$f":"+SUMIFS('R2建設IOデータ'!AK:AK,'R2建設IOデータ'!$A:$A,'R2建設io'!$CE51)/'R2建設IOデータ'!AK$232","v":-2.7224919414238532E-6},{"$f":"+SUMIFS('R2建設IOデータ'!AL:AL,'R2建設IOデータ'!$A:$A,'R2建設io'!$CE51)/'R2建設IOデータ'!AL$232","v":-2.9182500318861733E-6},{"$f":"+SUMIFS('R2建設IOデータ'!AM:AM,'R2建設IOデータ'!$A:$A,'R2建設io'!$CE51)/'R2建設IOデータ'!AM$232","v":0},{"$f":"+SUMIFS('R2建設IOデータ'!AN:AN,'R2建設IOデータ'!$A:$A,'R2建設io'!$CE51)/'R2建設IOデータ'!AN$232","v":-9.9965649058828313E-6},{"$f":"+SUMIFS('R2建設IOデータ'!AO:AO,'R2建設IOデータ'!$A:$A,'R2建設io'!$CE51)/'R2建設IOデータ'!AO$232","v":-1.1467191255281957E-2},{"$f":"+SUMIFS('R2建設IOデータ'!AP:AP,'R2建設IOデータ'!$A:$A,'R2建設io'!$CE51)/'R2建設IOデータ'!AP$232","v":-2.5325507457926084E-3},{"$f":"+SUMIFS('R2建設IOデータ'!AQ:AQ,'R2建設IOデータ'!$A:$A,'R2建設io'!$CE51)/'R2建設IOデータ'!AQ$232","v":-2.6625997122546358E-3},{"$f":"+SUMIFS('R2建設IOデータ'!AR:AR,'R2建設IOデータ'!$A:$A,'R2建設io'!$CE51)/'R2建設IOデータ'!AR$232","v":-2.6695657135236686E-3},{"$f":"+SUMIFS('R2建設IOデータ'!AS:AS,'R2建設IOデータ'!$A:$A,'R2建設io'!$CE51)/'R2建設IOデータ'!AS$232","v":-2.7188081065195875E-3},{"$f":"+SUMIFS('R2建設IOデータ'!AT:AT,'R2建設IOデータ'!$A:$A,'R2建設io'!$CE51)/'R2建設IOデータ'!AT$232","v":-2.5776533551543006E-3},{"$f":"+SUMIFS('R2建設IOデータ'!AU:AU,'R2建設IOデータ'!$A:$A,'R2建設io'!$CE51)/'R2建設IOデータ'!AU$232","v":-2.8110027427192753E-3},{"$f":"+SUMIFS('R2建設IOデータ'!AV:AV,'R2建設IOデータ'!$A:$A,'R2建設io'!$CE51)/'R2建設IOデータ'!AV$232","v":-2.2368447164820586E-3},{"$f":"+SUMIFS('R2建設IOデータ'!AW:AW,'R2建設IOデータ'!$A:$A,'R2建設io'!$CE51)/'R2建設IOデータ'!AW$232","v":-2.9358902885385425E-3},{"$f":"+SUMIFS('R2建設IOデータ'!AX:AX,'R2建設IOデータ'!$A:$A,'R2建設io'!$CE51)/'R2建設IOデータ'!AX$232","v":-2.7048228366511134E-3},{"$f":"+SUMIFS('R2建設IOデータ'!AY:AY,'R2建設IOデータ'!$A:$A,'R2建設io'!$CE51)/'R2建設IOデータ'!AY$232","v":-2.9814487632508833E-3},{"$f":"+SUMIFS('R2建設IOデータ'!AZ:AZ,'R2建設IOデータ'!$A:$A,'R2建設io'!$CE51)/'R2建設IOデータ'!AZ$232","v":-4.516646026079988E-3},{"$f":"+SUMIFS('R2建設IOデータ'!BA:BA,'R2建設IOデータ'!$A:$A,'R2建設io'!$CE51)/'R2建設IOデータ'!BA$232","v":-2.4625056016859175E-3},{"$f":"+SUMIFS('R2建設IOデータ'!BB:BB,'R2建設IOデータ'!$A:$A,'R2建設io'!$CE51)/'R2建設IOデータ'!BB$232","v":-2.4556030515696351E-3},{"$f":"+SUMIFS('R2建設IOデータ'!BC:BC,'R2建設IOデータ'!$A:$A,'R2建設io'!$CE51)/'R2建設IOデータ'!BC$232","v":-2.4599548062576976E-3},{"$f":"+SUMIFS('R2建設IOデータ'!BD:BD,'R2建設IOデータ'!$A:$A,'R2建設io'!$CE51)/'R2建設IOデータ'!BD$232","v":-2.0885119032365528E-3},{"$f":"+SUMIFS('R2建設IOデータ'!BE:BE,'R2建設IOデータ'!$A:$A,'R2建設io'!$CE51)/'R2建設IOデータ'!BE$232","v":-3.3960532354290959E-3},{"$f":"+SUMIFS('R2建設IOデータ'!BF:BF,'R2建設IOデータ'!$A:$A,'R2建設io'!$CE51)/'R2建設IOデータ'!BF$232","v":-2.7178948668849217E-3},{"$f":"+SUMIFS('R2建設IOデータ'!BG:BG,'R2建設IOデータ'!$A:$A,'R2建設io'!$CE51)/'R2建設IOデータ'!BG$232","v":-2.5304183431092151E-3},{"$f":"+SUMIFS('R2建設IOデータ'!BH:BH,'R2建設IOデータ'!$A:$A,'R2建設io'!$CE51)/'R2建設IOデータ'!BH$232","v":-2.6034578654012285E-3},{"$f":"+SUMIFS('R2建設IOデータ'!BI:BI,'R2建設IOデータ'!$A:$A,'R2建設io'!$CE51)/'R2建設IOデータ'!BI$232","v":-2.1993348353180988E-3},{"$f":"+SUMIFS('R2建設IOデータ'!BJ:BJ,'R2建設IOデータ'!$A:$A,'R2建設io'!$CE51)/'R2建設IOデータ'!BJ$232","v":-2.2435201554955905E-3},{"$f":"+SUMIFS('R2建設IOデータ'!BK:BK,'R2建設IOデータ'!$A:$A,'R2建設io'!$CE51)/'R2建設IOデータ'!BK$232","v":-2.80284424262142E-3},{"$f":"+SUMIFS('R2建設IOデータ'!BL:BL,'R2建設IOデータ'!$A:$A,'R2建設io'!$CE51)/'R2建設IOデータ'!BL$232","v":-2.7830003292862986E-3},{"$f":"+SUMIFS('R2建設IOデータ'!BM:BM,'R2建設IOデータ'!$A:$A,'R2建設io'!$CE51)/'R2建設IOデータ'!BM$232","v":-2.8129806244830578E-3},{"$f":"+SUMIFS('R2建設IOデータ'!BN:BN,'R2建設IOデータ'!$A:$A,'R2建設io'!$CE51)/'R2建設IOデータ'!BN$232","v":-2.6799452655246617E-3},{"$f":"+SUMIFS('R2建設IOデータ'!BO:BO,'R2建設IOデータ'!$A:$A,'R2建設io'!$CE51)/'R2建設IOデータ'!BO$232","v":-2.667409825623059E-3},{"$f":"+SUMIFS('R2建設IOデータ'!BP:BP,'R2建設IOデータ'!$A:$A,'R2建設io'!$CE51)/'R2建設IOデータ'!BP$232","v":-2.770070398312275E-3},{"$f":"+SUMIFS('R2建設IOデータ'!BQ:BQ,'R2建設IOデータ'!$A:$A,'R2建設io'!$CE51)/'R2建設IOデータ'!BQ$232","v":-2.8081313717111286E-3},{"$f":"+SUMIFS('R2建設IOデータ'!BR:BR,'R2建設IOデータ'!$A:$A,'R2建設io'!$CE51)/'R2建設IOデータ'!BR$232","v":-2.644924777540482E-3},{"$f":"+SUMIFS('R2建設IOデータ'!BS:BS,'R2建設IOデータ'!$A:$A,'R2建設io'!$CE51)/'R2建設IOデータ'!BS$232","v":-2.8264859144552651E-3},{"$f":"+SUMIFS('R2建設IOデータ'!BT:BT,'R2建設IOデータ'!$A:$A,'R2建設io'!$CE51)/'R2建設IOデータ'!BT$232","v":-2.5975927259490215E-3},{"$f":"+SUMIFS('R2建設IOデータ'!BU:BU,'R2建設IOデータ'!$A:$A,'R2建設io'!$CE51)/'R2建設IOデータ'!BU$232","v":-2.7892868142276872E-3},{"$f":"+SUMIFS('R2建設IOデータ'!BV:BV,'R2建設IOデータ'!$A:$A,'R2建設io'!$CE51)/'R2建設IOデータ'!BV$232","v":-3.0599243996086525E-3},{"$f":"+SUMIFS('R2建設IOデータ'!BW:BW,'R2建設IOデータ'!$A:$A,'R2建設io'!$CE51)/'R2建設IOデータ'!BW$232","v":-5.3169375102487702E-4},{"$f":"+SUMIFS('R2建設IOデータ'!BX:BX,'R2建設IOデータ'!$A:$A,'R2建設io'!$CE51)/'R2建設IOデータ'!BX$232","v":-2.4071484386675834E-2},{"$f":"+SUMIFS('R2建設IOデータ'!BY:BY,'R2建設IOデータ'!$A:$A,'R2建設io'!$CE51)/'R2建設IOデータ'!BY$232","v":-4.7954625150399999E-2},{"$f":"+SUMIFS('R2建設IOデータ'!BZ:BZ,'R2建設IOデータ'!$A:$A,'R2建設io'!$CE51)/'R2建設IOデータ'!BZ$232","v":-1.7566294615173712E-3},{"$f":"+SUMIFS('R2建設IOデータ'!CA:CA,'R2建設IOデータ'!$A:$A,'R2建設io'!$CE51)/'R2建設IOデータ'!CA$232","v":-4.240668301042875E-3},{"$f":"+SUMIFS('R2建設IOデータ'!CB:CB,'R2建設IOデータ'!$A:$A,'R2建設io'!$CE51)/'R2建設IOデータ'!CB$232","v":-3.4718435024880118E-2},{"$f":"+SUMIFS('R2建設IOデータ'!CC:CC,'R2建設IOデータ'!$A:$A,'R2建設io'!$CE51)/'R2建設IOデータ'!CC$232","v":-2.7379620373006362E-2},{"$f":"+SUMIFS('R2建設IOデータ'!CD:CD,'R2建設IOデータ'!$A:$A,'R2建設io'!$CE51)/'R2建設IOデータ'!CD$232","v":-2.8790414531681591E-2}]
[0,null,"96","粗付加価値部門計",0,0,0,0,0,0,0,0,0,0,0,0,0,0,0,0,0,0,0,0,0,0,0,0,0,0,0,0,0,0,0,0,0,0,0,0,0,0,0,0,0,0,0,0,0,0,0,0,0,0,0,0,0,0,0,0,0,0,0,0,0,0,0,0,0,0,0,0,0,0,0,null,null,null,null,null,null,null,"96","粗付加価値部門計",{"$f":"+SUMIFS('R2建設IOデータ'!L:L,'R2建設IOデータ'!$A:$A,'R2建設io'!$CE52)/'R2建設IOデータ'!L$232","v":0.48769389962194609},{"$f":"+SUMIFS('R2建設IOデータ'!M:M,'R2建設IOデータ'!$A:$A,'R2建設io'!$CE52)/'R2建設IOデータ'!M$232","v":0.47314611488187613},{"$f":"+SUMIFS('R2建設IOデータ'!N:N,'R2建設IOデータ'!$A:$A,'R2建設io'!$CE52)/'R2建設IOデータ'!N$232","v":0.4650880108809986},{"$f":"+SUMIFS('R2建設IOデータ'!O:O,'R2建設IOデータ'!$A:$A,'R2建設io'!$CE52)/'R2建設IOデータ'!O$232","v":0.47373817375963634},{"$f":"+SUMIFS('R2建設IOデータ'!P:P,'R2建設IOデータ'!$A:$A,'R2建設io'!$CE52)/'R2建設IOデータ'!P$232","v":0.47528410699910767},{"$f":"+SUMIFS('R2建設IOデータ'!Q:Q,'R2建設IOデータ'!$A:$A,'R2建設io'!$CE52)/'R2建設IOデータ'!Q$232","v":0.40340376178710102},{"$f":"+SUMIFS('R2建設IOデータ'!R:R,'R2建設IOデータ'!$A:$A,'R2建設io'!$CE52)/'R2建設IOデータ'!R$232","v":0.4528419211173953},{"$f":"+SUMIFS('R2建設IOデータ'!S:S,'R2建設IOデータ'!$A:$A,'R2建設io'!$CE52)/'R2建設IOデータ'!S$232","v":0.47003500146952737},{"$f":"+SUMIFS('R2建設IOデータ'!T:T,'R2建設IOデータ'!$A:$A,'R2建設io'!$CE52)/'R2建設IOデータ'!T$232","v":0.48633199654438802},{"$f":"+SUMIFS('R2建設IOデータ'!U:U,'R2建設IOデータ'!$A:$A,'R2建設io'!$CE52)/'R2建設IOデータ'!U$232","v":0.48730200843912036},{"$f":"+SUMIFS('R2建設IOデータ'!V:V,'R2建設IOデータ'!$A:$A,'R2建設io'!$CE52)/'R2建設IOデータ'!V$232","v":0.41640444326496567},{"$f":"+SUMIFS('R2建設IOデータ'!W:W,'R2建設IOデータ'!$A:$A,'R2建設io'!$CE52)/'R2建設IOデータ'!W$232","v":0.40395897251059765},{"$f":"+SUMIFS('R2建設IOデータ'!X:X,'R2建設IOデータ'!$A:$A,'R2建設io'!$CE52)/'R2建設IOデータ'!X$232","v":0.42786056130948658},{"$f":"+SUMIFS('R2建設IOデータ'!Y:Y,'R2建設IOデータ'!$A:$A,'R2建設io'!$CE52)/'R2建設IOデータ'!Y$232","v":0.39409521961658012},{"$f":"+SUMIFS('R2建設IOデータ'!Z:Z,'R2建設IOデータ'!$A:$A,'R2建設io'!$CE52)/'R2建設IOデータ'!Z$232","v":0.33805862945364423},{"$f":"+SUMIFS('R2建設IOデータ'!AA:AA,'R2建設IOデータ'!$A:$A,'R2建設io'!$CE52)/'R2建設IOデータ'!AA$232","v":0.48157115891154156},{"$f":"+SUMIFS('R2建設IOデータ'!AB:AB,'R2建設IOデータ'!$A:$A,'R2建設io'!$CE52)/'R2建設IOデータ'!AB$232","v":0.47255794611165736},{"$f":"+SUMIFS('R2建設IOデータ'!AC:AC,'R2建設IOデータ'!$A:$A,'R2建設io'!$CE52)/'R2建設IOデータ'!AC$232","v":0.47266476605735369},{"$f":"+SUMIFS('R2建設IOデータ'!AD:AD,'R2建設IOデータ'!$A:$A,'R2建設io'!$CE52)/'R2建設IOデータ'!AD$232","v":0.47254445293091007},{"$f":"+SUMIFS('R2建設IOデータ'!AE:AE,'R2建設IOデータ'!$A:$A,'R2建設io'!$CE52)/'R2建設IOデータ'!AE$232","v":0.48218330823197164},{"$f":"+SUMIFS('R2建設IOデータ'!AF:AF,'R2建設IOデータ'!$A:$A,'R2建設io'!$CE52)/'R2建設IOデータ'!AF$232","v":0.47379011066564558},{"$f":"+SUMIFS('R2建設IOデータ'!AG:AG,'R2建設IOデータ'!$A:$A,'R2建設io'!$CE52)/'R2建設IOデータ'!AG$232","v":0.51064806426284959},{"$f":"+SUMIFS('R2建設IOデータ'!AH:AH,'R2建設IOデータ'!$A:$A,'R2建設io'!$CE52)/'R2建設IOデータ'!AH$232","v":0.50714708700236388},{"$f":"+SUMIFS('R2建設IOデータ'!AI:AI,'R2建設IOデータ'!$A:$A,'R2建設io'!$CE52)/'R2建設IOデータ'!AI$232","v":0.49919614476757745},{"$f":"+SUMIFS('R2建設IOデータ'!AJ:AJ,'R2建設IOデータ'!$A:$A,'R2建設io'!$CE52)/'R2建設IOデータ'!AJ$232","v":0.48038158256425556},{"$f":"+SUMIFS('R2建設IOデータ'!AK:AK,'R2建設IOデータ'!$A:$A,'R2建設io'!$CE52)/'R2建設IOデータ'!AK$232","v":0.49693719656589819},{"$f":"+SUMIFS('R2建設IOデータ'!AL:AL,'R2建設IOデータ'!$A:$A,'R2建設io'!$CE52)/'R2建設IOデータ'!AL$232","v":0.46728598798813953},{"$f":"+SUMIFS('R2建設IOデータ'!AM:AM,'R2建設IOデータ'!$A:$A,'R2建設io'!$CE52)/'R2建設IOデータ'!AM$232","v":0.45973722847569926},{"$f":"+SUMIFS('R2建設IOデータ'!AN:AN,'R2建設IOデータ'!$A:$A,'R2建設io'!$CE52)/'R2建設IOデータ'!AN$232","v":0.47979493321167577},{"$f":"+SUMIFS('R2建設IOデータ'!AO:AO,'R2建設IOデータ'!$A:$A,'R2建設io'!$CE52)/'R2建設IOデータ'!AO$232","v":0.51109285727728326},{"$f":"+SUMIFS('R2建設IOデータ'!AP:AP,'R2建設IOデータ'!$A:$A,'R2建設io'!$CE52)/'R2建設IOデータ'!AP$232","v":0.4990605847007995},{"$f":"+SUMIFS('R2建設IOデータ'!AQ:AQ,'R2建設IOデータ'!$A:$A,'R2建設io'!$CE52)/'R2建設IOデータ'!AQ$232","v":0.49384336151227415},{"$f":"+SUMIFS('R2建設IOデータ'!AR:AR,'R2建設IOデータ'!$A:$A,'R2建設io'!$CE52)/'R2建設IOデータ'!AR$232","v":0.49430221119918388},{"$f":"+SUMIFS('R2建設IOデータ'!AS:AS,'R2建設IOデータ'!$A:$A,'R2建設io'!$CE52)/'R2建設IOデータ'!AS$232","v":0.49601623669393274},{"$f":"+SUMIFS('R2建設IOデータ'!AT:AT,'R2建設IOデータ'!$A:$A,'R2建設io'!$CE52)/'R2建設IOデータ'!AT$232","v":0.49527524807849771},{"$f":"+SUMIFS('R2建設IOデータ'!AU:AU,'R2建設IOデータ'!$A:$A,'R2建設io'!$CE52)/'R2建設IOデータ'!AU$232","v":0.41405956594475868},{"$f":"+SUMIFS('R2建設IOデータ'!AV:AV,'R2建設IOデータ'!$A:$A,'R2建設io'!$CE52)/'R2建設IOデータ'!AV$232","v":0.45961063592729828},{"$f":"+SUMIFS('R2建設IOデータ'!AW:AW,'R2建設IOデータ'!$A:$A,'R2建設io'!$CE52)/'R2建設IOデータ'!AW$232","v":0.5151055698527387},{"$f":"+SUMIFS('R2建設IOデータ'!AX:AX,'R2建設IOデータ'!$A:$A,'R2建設io'!$CE52)/'R2建設IOデータ'!AX$232","v":0.46093797754640475},{"$f":"+SUMIFS('R2建設IOデータ'!AY:AY,'R2建設IOデータ'!$A:$A,'R2建設io'!$CE52)/'R2建設IOデータ'!AY$232","v":0.460136925795053},{"$f":"+SUMIFS('R2建設IOデータ'!AZ:AZ,'R2建設IOデータ'!$A:$A,'R2建設io'!$CE52)/'R2建設IOデータ'!AZ$232","v":0.4361477380345305},{"$f":"+SUMIFS('R2建設IOデータ'!BA:BA,'R2建設IOデータ'!$A:$A,'R2建設io'!$CE52)/'R2建設IOデータ'!BA$232","v":0.48709487847136812},{"$f":"+SUMIFS('R2建設IOデータ'!BB:BB,'R2建設IOデータ'!$A:$A,'R2建設io'!$CE52)/'R2建設IOデータ'!BB$232","v":0.48575907893206888},{"$f":"+SUMIFS('R2建設IOデータ'!BC:BC,'R2建設IOデータ'!$A:$A,'R2建設io'!$CE52)/'R2建設IOデータ'!BC$232","v":0.48717563587773433},{"$f":"+SUMIFS('R2建設IOデータ'!BD:BD,'R2建設IOデータ'!$A:$A,'R2建設io'!$CE52)/'R2建設IOデータ'!BD$232","v":0.45988263331881196},{"$f":"+SUMIFS('R2建設IOデータ'!BE:BE,'R2建設IOデータ'!$A:$A,'R2建設io'!$CE52)/'R2建設IOデータ'!BE$232","v":0.47319871500688387},{"$f":"+SUMIFS('R2建設IOデータ'!BF:BF,'R2建設IOデータ'!$A:$A,'R2建設io'!$CE52)/'R2建設IOデータ'!BF$232","v":0.54876768175921919},{"$f":"+SUMIFS('R2建設IOデータ'!BG:BG,'R2建設IOデータ'!$A:$A,'R2建設io'!$CE52)/'R2建設IOデータ'!BG$232","v":0.50023752969121138},{"$f":"+SUMIFS('R2建設IOデータ'!BH:BH,'R2建設IOデータ'!$A:$A,'R2建設io'!$CE52)/'R2建設IOデータ'!BH$232","v":0.49526052329503095},{"$f":"+SUMIFS('R2建設IOデータ'!BI:BI,'R2建設IOデータ'!$A:$A,'R2建設io'!$CE52)/'R2建設IOデータ'!BI$232","v":0.52279798304902902},{"$f":"+SUMIFS('R2建設IOデータ'!BJ:BJ,'R2建設IOデータ'!$A:$A,'R2建設io'!$CE52)/'R2建設IOデータ'!BJ$232","v":0.46623864024068734},{"$f":"+SUMIFS('R2建設IOデータ'!BK:BK,'R2建設IOデータ'!$A:$A,'R2建設io'!$CE52)/'R2建設IOデータ'!BK$232","v":0.49369684239693001},{"$f":"+SUMIFS('R2建設IOデータ'!BL:BL,'R2建設IOデータ'!$A:$A,'R2建設io'!$CE52)/'R2建設IOデータ'!BL$232","v":0.49641281525622366},{"$f":"+SUMIFS('R2建設IOデータ'!BM:BM,'R2建設IOデータ'!$A:$A,'R2建設io'!$CE52)/'R2建設IOデータ'!BM$232","v":0.52500589577359691},{"$f":"+SUMIFS('R2建設IOデータ'!BN:BN,'R2建設IOデータ'!$A:$A,'R2建設io'!$CE52)/'R2建設IOデータ'!BN$232","v":0.38106891206713489},{"$f":"+SUMIFS('R2建設IOデータ'!BO:BO,'R2建設IOデータ'!$A:$A,'R2建設io'!$CE52)/'R2建設IOデータ'!BO$232","v":0.43213745407391396},{"$f":"+SUMIFS('R2建設IOデータ'!BP:BP,'R2建設IOデータ'!$A:$A,'R2建設io'!$CE52)/'R2建設IOデータ'!BP$232","v":0.47243688229493913},{"$f":"+SUMIFS('R2建設IOデータ'!BQ:BQ,'R2建設IOデータ'!$A:$A,'R2建設io'!$CE52)/'R2建設IOデータ'!BQ$232","v":0.4860302772621321},{"$f":"+SUMIFS('R2建設IOデータ'!BR:BR,'R2建設IOデータ'!$A:$A,'R2建設io'!$CE52)/'R2建設IOデータ'!BR$232","v":0.48638032245864421},{"$f":"+SUMIFS('R2建設IOデータ'!BS:BS,'R2建設IOデータ'!$A:$A,'R2建設io'!$CE52)/'R2建設IOデータ'!BS$232","v":0.68641411367563732},{"$f":"+SUMIFS('R2建設IOデータ'!BT:BT,'R2建設IOデータ'!$A:$A,'R2建設io'!$CE52)/'R2建設IOデータ'!BT$232","v":0.51645405841715009},{"$f":"+SUMIFS('R2建設IOデータ'!BU:BU,'R2建設IOデータ'!$A:$A,'R2建設io'!$CE52)/'R2建設IOデータ'!BU$232","v":0.48779396468065572},{"$f":"+SUMIFS('R2建設IOデータ'!BV:BV,'R2建設IOデータ'!$A:$A,'R2建設io'!$CE52)/'R2建設IOデータ'!BV$232","v":0.46429912177193339},{"$f":"+SUMIFS('R2建設IOデータ'!BW:BW,'R2建設IOデータ'!$A:$A,'R2建設io'!$CE52)/'R2建設IOデータ'!BW$232","v":0.55168278587649133},{"$f":"+SUMIFS('R2建設IOデータ'!BX:BX,'R2建設IOデータ'!$A:$A,'R2建設io'!$CE52)/'R2建設IOデータ'!BX$232","v":0.52806704783702196},{"$f":"+SUMIFS('R2建設IOデータ'!BY:BY,'R2建設IOデータ'!$A:$A,'R2建設io'!$CE52)/'R2建設IOデータ'!BY$232","v":0.54441737353038178},{"$f":"+SUMIFS('R2建設IOデータ'!BZ:BZ,'R2建設IOデータ'!$A:$A,'R2建設io'!$CE52)/'R2建設IOデータ'!BZ$232","v":0.59417670074707563},{"$f":"+SUMIFS('R2建設IOデータ'!CA:CA,'R2建設IOデータ'!$A:$A,'R2建設io'!$CE52)/'R2建設IOデータ'!CA$232","v":0.57039217343856874},{"$f":"+SUMIFS('R2建設IOデータ'!CB:CB,'R2建設IOデータ'!$A:$A,'R2建設io'!$CE52)/'R2建設IOデータ'!CB$232","v":0.47421142309768094},{"$f":"+SUMIFS('R2建設IOデータ'!CC:CC,'R2建設IOデータ'!$A:$A,'R2建設io'!$CE52)/'R2建設IOデータ'!CC$232","v":0.52751699847063416},{"$f":"+SUMIFS('R2建設IOデータ'!CD:CD,'R2建設IOデータ'!$A:$A,'R2建設io'!$CE52)/'R2建設IOデータ'!CD$232","v":0.47885701661891034}]
[0,null,"97","国内生産額",0,0,0,0,0,0,0,0,0,0,0,0,0,0,0,0,0,0,0,0,0,0,0,0,0,0,0,0,0,0,0,0,0,0,0,0,0,0,0,0,0,0,0,0,0,0,0,0,0,0,0,0,0,0,0,0,0,0,0,0,0,0,0,0,0,0,0,0,0,0,0,null,null,null,null,null,null,null,"97","国内生産額",{"$f":"+SUMIFS('R2建設IOデータ'!L:L,'R2建設IOデータ'!$A:$A,'R2建設io'!$CE53)/'R2建設IOデータ'!L$232","v":1},{"$f":"+SUMIFS('R2建設IOデータ'!M:M,'R2建設IOデータ'!$A:$A,'R2建設io'!$CE53)/'R2建設IOデータ'!M$232","v":1},{"$f":"+SUMIFS('R2建設IOデータ'!N:N,'R2建設IOデータ'!$A:$A,'R2建設io'!$CE53)/'R2建設IOデータ'!N$232","v":1},{"$f":"+SUMIFS('R2建設IOデータ'!O:O,'R2建設IOデータ'!$A:$A,'R2建設io'!$CE53)/'R2建設IOデータ'!O$232","v":1},{"$f":"+SUMIFS('R2建設IOデータ'!P:P,'R2建設IOデータ'!$A:$A,'R2建設io'!$CE53)/'R2建設IOデータ'!P$232","v":1},{"$f":"+SUMIFS('R2建設IOデータ'!Q:Q,'R2建設IOデータ'!$A:$A,'R2建設io'!$CE53)/'R2建設IOデータ'!Q$232","v":1},{"$f":"+SUMIFS('R2建設IOデータ'!R:R,'R2建設IOデータ'!$A:$A,'R2建設io'!$CE53)/'R2建設IOデータ'!R$232","v":1},{"$f":"+SUMIFS('R2建設IOデータ'!S:S,'R2建設IOデータ'!$A:$A,'R2建設io'!$CE53)/'R2建設IOデータ'!S$232","v":1},{"$f":"+SUMIFS('R2建設IOデータ'!T:T,'R2建設IOデータ'!$A:$A,'R2建設io'!$CE53)/'R2建設IOデータ'!T$232","v":1},{"$f":"+SUMIFS('R2建設IOデータ'!U:U,'R2建設IOデータ'!$A:$A,'R2建設io'!$CE53)/'R2建設IOデータ'!U$232","v":1},{"$f":"+SUMIFS('R2建設IOデータ'!V:V,'R2建設IOデータ'!$A:$A,'R2建設io'!$CE53)/'R2建設IOデータ'!V$232","v":1},{"$f":"+SUMIFS('R2建設IOデータ'!W:W,'R2建設IOデータ'!$A:$A,'R2建設io'!$CE53)/'R2建設IOデータ'!W$232","v":1},{"$f":"+SUMIFS('R2建設IOデータ'!X:X,'R2建設IOデータ'!$A:$A,'R2建設io'!$CE53)/'R2建設IOデータ'!X$232","v":1},{"$f":"+SUMIFS('R2建設IOデータ'!Y:Y,'R2建設IOデータ'!$A:$A,'R2建設io'!$CE53)/'R2建設IOデータ'!Y$232","v":1},{"$f":"+SUMIFS('R2建設IOデータ'!Z:Z,'R2建設IOデータ'!$A:$A,'R2建設io'!$CE53)/'R2建設IOデータ'!Z$232","v":1},{"$f":"+SUMIFS('R2建設IOデータ'!AA:AA,'R2建設IOデータ'!$A:$A,'R2建設io'!$CE53)/'R2建設IOデータ'!AA$232","v":1},{"$f":"+SUMIFS('R2建設IOデータ'!AB:AB,'R2建設IOデータ'!$A:$A,'R2建設io'!$CE53)/'R2建設IOデータ'!AB$232","v":1},{"$f":"+SUMIFS('R2建設IOデータ'!AC:AC,'R2建設IOデータ'!$A:$A,'R2建設io'!$CE53)/'R2建設IOデータ'!AC$232","v":1},{"$f":"+SUMIFS('R2建設IOデータ'!AD:AD,'R2建設IOデータ'!$A:$A,'R2建設io'!$CE53)/'R2建設IOデータ'!AD$232","v":1},{"$f":"+SUMIFS('R2建設IOデータ'!AE:AE,'R2建設IOデータ'!$A:$A,'R2建設io'!$CE53)/'R2建設IOデータ'!AE$232","v":1},{"$f":"+SUMIFS('R2建設IOデータ'!AF:AF,'R2建設IOデータ'!$A:$A,'R2建設io'!$CE53)/'R2建設IOデータ'!AF$232","v":1},{"$f":"+SUMIFS('R2建設IOデータ'!AG:AG,'R2建設IOデータ'!$A:$A,'R2建設io'!$CE53)/'R2建設IOデータ'!AG$232","v":1},{"$f":"+SUMIFS('R2建設IOデータ'!AH:AH,'R2建設IOデータ'!$A:$A,'R2建設io'!$CE53)/'R2建設IOデータ'!AH$232","v":1},{"$f":"+SUMIFS('R2建設IOデータ'!AI:AI,'R2建設IOデータ'!$A:$A,'R2建設io'!$CE53)/'R2建設IOデータ'!AI$232","v":1},{"$f":"+SUMIFS('R2建設IOデータ'!AJ:AJ,'R2建設IOデータ'!$A:$A,'R2建設io'!$CE53)/'R2建設IOデータ'!AJ$232","v":1},{"$f":"+SUMIFS('R2建設IOデータ'!AK:AK,'R2建設IOデータ'!$A:$A,'R2建設io'!$CE53)/'R2建設IOデータ'!AK$232","v":1},{"$f":"+SUMIFS('R2建設IOデータ'!AL:AL,'R2建設IOデータ'!$A:$A,'R2建設io'!$CE53)/'R2建設IOデータ'!AL$232","v":1},{"$f":"+SUMIFS('R2建設IOデータ'!AM:AM,'R2建設IOデータ'!$A:$A,'R2建設io'!$CE53)/'R2建設IOデータ'!AM$232","v":1},{"$f":"+SUMIFS('R2建設IOデータ'!AN:AN,'R2建設IOデータ'!$A:$A,'R2建設io'!$CE53)/'R2建設IOデータ'!AN$232","v":1},{"$f":"+SUMIFS('R2建設IOデータ'!AO:AO,'R2建設IOデータ'!$A:$A,'R2建設io'!$CE53)/'R2建設IOデータ'!AO$232","v":1},{"$f":"+SUMIFS('R2建設IOデータ'!AP:AP,'R2建設IOデータ'!$A:$A,'R2建設io'!$CE53)/'R2建設IOデータ'!AP$232","v":1},{"$f":"+SUMIFS('R2建設IOデータ'!AQ:AQ,'R2建設IOデータ'!$A:$A,'R2建設io'!$CE53)/'R2建設IOデータ'!AQ$232","v":1},{"$f":"+SUMIFS('R2建設IOデータ'!AR:AR,'R2建設IOデータ'!$A:$A,'R2建設io'!$CE53)/'R2建設IOデータ'!AR$232","v":1},{"$f":"+SUMIFS('R2建設IOデータ'!AS:AS,'R2建設IOデータ'!$A:$A,'R2建設io'!$CE53)/'R2建設IOデータ'!AS$232","v":1},{"$f":"+SUMIFS('R2建設IOデータ'!AT:AT,'R2建設IOデータ'!$A:$A,'R2建設io'!$CE53)/'R2建設IOデータ'!AT$232","v":1},{"$f":"+SUMIFS('R2建設IOデータ'!AU:AU,'R2建設IOデータ'!$A:$A,'R2建設io'!$CE53)/'R2建設IOデータ'!AU$232","v":1},{"$f":"+SUMIFS('R2建設IOデータ'!AV:AV,'R2建設IOデータ'!$A:$A,'R2建設io'!$CE53)/'R2建設IOデータ'!AV$232","v":1},{"$f":"+SUMIFS('R2建設IOデータ'!AW:AW,'R2建設IOデータ'!$A:$A,'R2建設io'!$CE53)/'R2建設IOデータ'!AW$232","v":1},{"$f":"+SUMIFS('R2建設IOデータ'!AX:AX,'R2建設IOデータ'!$A:$A,'R2建設io'!$CE53)/'R2建設IOデータ'!AX$232","v":1},{"$f":"+SUMIFS('R2建設IOデータ'!AY:AY,'R2建設IOデータ'!$A:$A,'R2建設io'!$CE53)/'R2建設IOデータ'!AY$232","v":1},{"$f":"+SUMIFS('R2建設IOデータ'!AZ:AZ,'R2建設IOデータ'!$A:$A,'R2建設io'!$CE53)/'R2建設IOデータ'!AZ$232","v":1},{"$f":"+SUMIFS('R2建設IOデータ'!BA:BA,'R2建設IOデータ'!$A:$A,'R2建設io'!$CE53)/'R2建設IOデータ'!BA$232","v":1},{"$f":"+SUMIFS('R2建設IOデータ'!BB:BB,'R2建設IOデータ'!$A:$A,'R2建設io'!$CE53)/'R2建設IOデータ'!BB$232","v":1},{"$f":"+SUMIFS('R2建設IOデータ'!BC:BC,'R2建設IOデータ'!$A:$A,'R2建設io'!$CE53)/'R2建設IOデータ'!BC$232","v":1},{"$f":"+SUMIFS('R2建設IOデータ'!BD:BD,'R2建設IOデータ'!$A:$A,'R2建設io'!$CE53)/'R2建設IOデータ'!BD$232","v":1},{"$f":"+SUMIFS('R2建設IOデータ'!BE:BE,'R2建設IOデータ'!$A:$A,'R2建設io'!$CE53)/'R2建設IOデータ'!BE$232","v":1},{"$f":"+SUMIFS('R2建設IOデータ'!BF:BF,'R2建設IOデータ'!$A:$A,'R2建設io'!$CE53)/'R2建設IOデータ'!BF$232","v":1},{"$f":"+SUMIFS('R2建設IOデータ'!BG:BG,'R2建設IOデータ'!$A:$A,'R2建設io'!$CE53)/'R2建設IOデータ'!BG$232","v":1},{"$f":"+SUMIFS('R2建設IOデータ'!BH:BH,'R2建設IOデータ'!$A:$A,'R2建設io'!$CE53)/'R2建設IOデータ'!BH$232","v":1},{"$f":"+SUMIFS('R2建設IOデータ'!BI:BI,'R2建設IOデータ'!$A:$A,'R2建設io'!$CE53)/'R2建設IOデータ'!BI$232","v":1},{"$f":"+SUMIFS('R2建設IOデータ'!BJ:BJ,'R2建設IOデータ'!$A:$A,'R2建設io'!$CE53)/'R2建設IOデータ'!BJ$232","v":1},{"$f":"+SUMIFS('R2建設IOデータ'!BK:BK,'R2建設IOデータ'!$A:$A,'R2建設io'!$CE53)/'R2建設IOデータ'!BK$232","v":1},{"$f":"+SUMIFS('R2建設IOデータ'!BL:BL,'R2建設IOデータ'!$A:$A,'R2建設io'!$CE53)/'R2建設IOデータ'!BL$232","v":1},{"$f":"+SUMIFS('R2建設IOデータ'!BM:BM,'R2建設IOデータ'!$A:$A,'R2建設io'!$CE53)/'R2建設IOデータ'!BM$232","v":1},{"$f":"+SUMIFS('R2建設IOデータ'!BN:BN,'R2建設IOデータ'!$A:$A,'R2建設io'!$CE53)/'R2建設IOデータ'!BN$232","v":1},{"$f":"+SUMIFS('R2建設IOデータ'!BO:BO,'R2建設IOデータ'!$A:$A,'R2建設io'!$CE53)/'R2建設IOデータ'!BO$232","v":1},{"$f":"+SUMIFS('R2建設IOデータ'!BP:BP,'R2建設IOデータ'!$A:$A,'R2建設io'!$CE53)/'R2建設IOデータ'!BP$232","v":1},{"$f":"+SUMIFS('R2建設IOデータ'!BQ:BQ,'R2建設IOデータ'!$A:$A,'R2建設io'!$CE53)/'R2建設IOデータ'!BQ$232","v":1},{"$f":"+SUMIFS('R2建設IOデータ'!BR:BR,'R2建設IOデータ'!$A:$A,'R2建設io'!$CE53)/'R2建設IOデータ'!BR$232","v":1},{"$f":"+SUMIFS('R2建設IOデータ'!BS:BS,'R2建設IOデータ'!$A:$A,'R2建設io'!$CE53)/'R2建設IOデータ'!BS$232","v":1},{"$f":"+SUMIFS('R2建設IOデータ'!BT:BT,'R2建設IOデータ'!$A:$A,'R2建設io'!$CE53)/'R2建設IOデータ'!BT$232","v":1},{"$f":"+SUMIFS('R2建設IOデータ'!BU:BU,'R2建設IOデータ'!$A:$A,'R2建設io'!$CE53)/'R2建設IOデータ'!BU$232","v":1},{"$f":"+SUMIFS('R2建設IOデータ'!BV:BV,'R2建設IOデータ'!$A:$A,'R2建設io'!$CE53)/'R2建設IOデータ'!BV$232","v":1},{"$f":"+SUMIFS('R2建設IOデータ'!BW:BW,'R2建設IOデータ'!$A:$A,'R2建設io'!$CE53)/'R2建設IOデータ'!BW$232","v":1},{"$f":"+SUMIFS('R2建設IOデータ'!BX:BX,'R2建設IOデータ'!$A:$A,'R2建設io'!$CE53)/'R2建設IOデータ'!BX$232","v":1},{"$f":"+SUMIFS('R2建設IOデータ'!BY:BY,'R2建設IOデータ'!$A:$A,'R2建設io'!$CE53)/'R2建設IOデータ'!BY$232","v":1},{"$f":"+SUMIFS('R2建設IOデータ'!BZ:BZ,'R2建設IOデータ'!$A:$A,'R2建設io'!$CE53)/'R2建設IOデータ'!BZ$232","v":1},{"$f":"+SUMIFS('R2建設IOデータ'!CA:CA,'R2建設IOデータ'!$A:$A,'R2建設io'!$CE53)/'R2建設IOデータ'!CA$232","v":1},{"$f":"+SUMIFS('R2建設IOデータ'!CB:CB,'R2建設IOデータ'!$A:$A,'R2建設io'!$CE53)/'R2建設IOデータ'!CB$232","v":1},{"$f":"+SUMIFS('R2建設IOデータ'!CC:CC,'R2建設IOデータ'!$A:$A,'R2建設io'!$CE53)/'R2建設IOデータ'!CC$232","v":1},{"$f":"+SUMIFS('R2建設IOデータ'!CD:CD,'R2建設IOデータ'!$A:$A,'R2建設io'!$CE53)/'R2建設IOデータ'!CD$232","v":1}]
[]
[]
[{"$f":"SUM(E56:BW56)","v":0},null,null,"発生需要額",{"$f":"+TRANSPOSE('R2建設入力'!$C$12:$C$82)","v":0},0,0,0,0,0,0,0,0,0,0,0,0,0,0,0,0,0,0,0,0,0,0,0,0,0,0,0,0,0,0,0,0,0,0,0,0,0,0,0,0,0,0,0,0,0,0,0,0,0,0,0,0,0,0,0,0,0,0,0,0,0,0,0,0,0,0,0,0,0,0]

{"sheet":"R2建設計算","index":9,"n_rows":62,"n_cols":23,"rows_kept":62,"cut":false,"hidden":false,"merged":[]}
[]
[]
[]
[null,null,null,"直接効果",null,null,null,"１次波及",null,null,null,null,null,"直接＋１次",null,null,null,"２次効果"]
["13部門","37部門",null,"発生需要","粗付加価値誘発額","雇用者所得","雇用者誘発数","発生需要額","市内生産額","生産誘発額","粗付加価値額","雇用者所得","雇用者誘発数","生産誘発額","粗付加価値額","雇用者所得","雇用者誘発数","発生需要額","市内生産額","生産誘発額","粗付加価値額","雇用者所得","雇用者誘発数"]
["01","01","農林漁業",null,null,null,null,{"$f":"'R2建設io'!A8","v":0},{"$f":"H6*'R2係数一覧'!E6","v":0},{"$f":"MMULT('R2逆行列'!C5:AM41,'R2建設計算'!I6:I42)","v":0},{"$f":"J6*'R2係数一覧'!D6","v":0},{"$f":"J6*'R2係数一覧'!C6","v":0},{"$f":"J6*'R2雇用表'!O6","v":0},{"$f":"D6+J6","v":0},{"$f":"E6+K6","v":0},{"$f":"F6+L6","v":0},{"$f":"G6+M6","v":0},{"$f":"R$43*'R2係数一覧'!H6","v":0},{"$f":"R6*'R2係数一覧'!E6","v":0},{"$f":"MMULT('R2逆行列'!C5:AM41,S6:S42)","v":0},{"$f":"T6*'R2係数一覧'!D6","v":0},{"$f":"T6*'R2係数一覧'!C6","v":0},{"$f":"T6*'R2雇用表'!O6","v":0}]
["02","06","鉱業",null,null,null,null,{"$f":"'R2建設io'!A9","v":0},{"$f":"H7*'R2係数一覧'!E7","v":0},0,{"$f":"J7*'R2係数一覧'!D7","v":0},{"$f":"J7*'R2係数一覧'!C7","v":0},{"$f":"J7*'R2雇用表'!O7","v":0},{"$f":"D7+J7","v":0},{"$f":"E7+K7","v":0},{"$f":"F7+L7","v":0},{"$f":"G7+M7","v":0},{"$f":"R$43*'R2係数一覧'!H7","v":0},{"$f":"R7*'R2係数一覧'!E7","v":0},0,{"$f":"T7*'R2係数一覧'!D7","v":0},{"$f":"T7*'R2係数一覧'!C7","v":0},{"$f":"T7*'R2雇用表'!O7","v":0}]
["03","11","飲食料品",null,null,null,null,{"$f":"'R2建設io'!A10","v":0},{"$f":"H8*'R2係数一覧'!E8","v":0},0,{"$f":"J8*'R2係数一覧'!D8","v":0},{"$f":"J8*'R2係数一覧'!C8","v":0},{"$f":"J8*'R2雇用表'!O8","v":0},0,0,0,0,{"$f":"R$43*'R2係数一覧'!H8","v":0},{"$f":"R8*'R2係数一覧'!E8","v":0},0,{"$f":"T8*'R2係数一覧'!D8","v":0},{"$f":"T8*'R2係数一覧'!C8","v":0},{"$f":"T8*'R2雇用表'!O8","v":0}]
["03","15","繊維製品",null,null,null,null,{"$f":"'R2建設io'!A11","v":0},{"$f":"H9*'R2係数一覧'!E9","v":0},0,{"$f":"J9*'R2係数一覧'!D9","v":0},{"$f":"J9*'R2係数一覧'!C9","v":0},{"$f":"J9*'R2雇用表'!O9","v":0},0,0,0,0,{"$f":"R$43*'R2係数一覧'!H9","v":0},{"$f":"R9*'R2係数一覧'!E9","v":0},0,{"$f":"T9*'R2係数一覧'!D9","v":0},{"$f":"T9*'R2係数一覧'!C9","v":0},{"$f":"T9*'R2雇用表'!O9","v":0}]
["03","16","パルプ・紙・木製品",null,null,null,null,{"$f":"'R2建設io'!A12","v":0},{"$f":"H10*'R2係数一覧'!E10","v":0},0,{"$f":"J10*'R2係数一覧'!D10","v":0},{"$f":"J10*'R2係数一覧'!C10","v":0},{"$f":"J10*'R2雇用表'!O10","v":0},0,0,0,0,{"$f":"R$43*'R2係数一覧'!H10","v":0},{"$f":"R10*'R2係数一覧'!E10","v":0},0,{"$f":"T10*'R2係数一覧'!D10","v":0},{"$f":"T10*'R2係数一覧'!C10","v":0},{"$f":"T10*'R2雇用表'!O10","v":0}]
["03","20","化学製品",null,null,null,null,{"$f":"'R2建設io'!A13","v":0},{"$f":"H11*'R2係数一覧'!E11","v":0},0,{"$f":"J11*'R2係数一覧'!D11","v":0},{"$f":"J11*'R2係数一覧'!C11","v":0},{"$f":"J11*'R2雇用表'!O11","v":0},0,0,0,0,{"$f":"R$43*'R2係数一覧'!H11","v":0},{"$f":"R11*'R2係数一覧'!E11","v":0},0,{"$f":"T11*'R2係数一覧'!D11","v":0},{"$f":"T11*'R2係数一覧'!C11","v":0},{"$f":"T11*'R2雇用表'!O11","v":0}]
["03","21","石油・石炭製品",null,null,null,null,{"$f":"'R2建設io'!A14","v":0},{"$f":"H12*'R2係数一覧'!E12","v":0},0,{"$f":"J12*'R2係数一覧'!D12","v":0},{"$f":"J12*'R2係数一覧'!C12","v":0},{"$f":"J12*'R2雇用表'!O12","v":0},0,0,0,0,{"$f":"R$43*'R2係数一覧'!H12","v":0},{"$f":"R12*'R2係数一覧'!E12","v":0},0,{"$f":"T12*'R2係数一覧'!D12","v":0},{"$f":"T12*'R2係数一覧'!C12","v":0},{"$f":"T12*'R2雇用表'!O12","v":0}]
["03","22","プラスチック・ゴム製品",null,null,null,null,{"$f":"'R2建設io'!A15","v":0},{"$f":"H13*'R2係数一覧'!E13","v":0},0,{"$f":"J13*'R2係数一覧'!D13","v":0},{"$f":"J13*'R2係数一覧'!C13","v":0},{"$f":"J13*'R2雇用表'!O13","v":0},0,0,0,0,{"$f":"R$43*'R2係数一覧'!H13","v":0},{"$f":"R13*'R2係数一覧'!E13","v":0},0,{"$f":"T13*'R2係数一覧'!D13","v":0},{"$f":"T13*'R2係数一覧'!C13","v":0},{"$f":"T13*'R2雇用表'!O13","v":0}]
["03","25","窯業・土石製品",null,null,null,null,{"$f":"'R2建設io'!A16","v":0},{"$f":"H14*'R2係数一覧'!E14","v":0},0,{"$f":"J14*'R2係数一覧'!D14","v":0},{"$f":"J14*'R2係数一覧'!C14","v":0},{"$f":"J14*'R2雇用表'!O14","v":0},0,0,0,0,{"$f":"R$43*'R2係数一覧'!H14","v":0},{"$f":"R14*'R2係数一覧'!E14","v":0},0,{"$f":"T14*'R2係数一覧'!D14","v":0},{"$f":"T14*'R2係数一覧'!C14","v":0},{"$f":"T14*'R2雇用表'!O14","v":0}]
["03","26","鉄鋼",null,null,null,null,{"$f":"'R2建設io'!A17","v":0},{"$f":"H15*'R2係数一覧'!E15","v":0},0,{"$f":"J15*'R2係数一覧'!D15","v":0},{"$f":"J15*'R2係数一覧'!C15","v":0},{"$f":"J15*'R2雇用表'!O15","v":0},0,0,0,0,{"$f":"R$43*'R2係数一覧'!H15","v":0},{"$f":"R15*'R2係数一覧'!E15","v":0},0,{"$f":"T15*'R2係数一覧'!D15","v":0},{"$f":"T15*'R2係数一覧'!C15","v":0},{"$f":"T15*'R2雇用表'!O15","v":0}]
["03","27","非鉄金属",null,null,null,null,{"$f":"'R2建設io'!A18","v":0},{"$f":"H16*'R2係数一覧'!E16","v":0},0,{"$f":"J16*'R2係数一覧'!D16","v":0},{"$f":"J16*'R2係数一覧'!C16","v":0},{"$f":"J16*'R2雇用表'!O16","v":0},0,0,0,0,{"$f":"R$43*'R2係数一覧'!H16","v":0},{"$f":"R16*'R2係数一覧'!E16","v":0},0,{"$f":"T16*'R2係数一覧'!D16","v":0},{"$f":"T16*'R2係数一覧'!C16","v":0},{"$f":"T16*'R2雇用表'!O16","v":0}]
["03","28","金属製品",null,null,null,null,{"$f":"'R2建設io'!A19","v":0},{"$f":"H17*'R2係数一覧'!E17","v":0},0,{"$f":"J17*'R2係数一覧'!D17","v":0},{"$f":"J17*'R2係数一覧'!C17","v":0},{"$f":"J17*'R2雇用表'!O17","v":0},0,0,0,0,{"$f":"R$43*'R2係数一覧'!H17","v":0},{"$f":"R17*'R2係数一覧'!E17","v":0},0,{"$f":"T17*'R2係数一覧'!D17","v":0},{"$f":"T17*'R2係数一覧'!C17","v":0},{"$f":"T17*'R2雇用表'!O17","v":0}]
["03","29","はん用機械",null,null,null,null,{"$f":"'R2建設io'!A20","v":0},{"$f":"H18*'R2係数一覧'!E18","v":0},0,{"$f":"J18*'R2係数一覧'!D18","v":0},{"$f":"J18*'R2係数一覧'!C18","v":0},{"$f":"J18*'R2雇用表'!O18","v":0},0,0,0,0,{"$f":"R$43*'R2係数一覧'!H18","v":0},{"$f":"R18*'R2係数一覧'!E18","v":0},0,{"$f":"T18*'R2係数一覧'!D18","v":0},{"$f":"T18*'R2係数一覧'!C18","v":0},{"$f":"T18*'R2雇用表'!O18","v":0}]
["03","30","生産用機械",null,null,null,null,{"$f":"'R2建設io'!A21","v":0},{"$f":"H19*'R2係数一覧'!E19","v":0},0,{"$f":"J19*'R2係数一覧'!D19","v":0},{"$f":"J19*'R2係数一覧'!C19","v":0},{"$f":"J19*'R2雇用表'!O19","v":0},0,0,0,0,{"$f":"R$43*'R2係数一覧'!H19","v":0},{"$f":"R19*'R2係数一覧'!E19","v":0},0,{"$f":"T19*'R2係数一覧'!D19","v":0},{"$f":"T19*'R2係数一覧'!C19","v":0},{"$f":"T19*'R2雇用表'!O19","v":0}]
["03","31","業務用機械",null,null,null,null,{"$f":"'R2建設io'!A22","v":0},{"$f":"H20*'R2係数一覧'!E20","v":0},0,{"$f":"J20*'R2係数一覧'!D20","v":0},{"$f":"J20*'R2係数一覧'!C20","v":0},{"$f":"J20*'R2雇用表'!O20","v":0},0,0,0,0,{"$f":"R$43*'R2係数一覧'!H20","v":0},{"$f":"R20*'R2係数一覧'!E20","v":0},0,{"$f":"T20*'R2係数一覧'!D20","v":0},{"$f":"T20*'R2係数一覧'!C20","v":0},{"$f":"T20*'R2雇用表'!O20","v":0}]
["03","32","電子部品",null,null,null,null,{"$f":"'R2建設io'!A23","v":0},{"$f":"H21*'R2係数一覧'!E21","v":0},0,{"$f":"J21*'R2係数一覧'!D21","v":0},{"$f":"J21*'R2係数一覧'!C21","v":0},{"$f":"J21*'R2雇用表'!O21","v":0},0,0,0,0,{"$f":"R$43*'R2係数一覧'!H21","v":0},{"$f":"R21*'R2係数一覧'!E21","v":0},0,{"$f":"T21*'R2係数一覧'!D21","v":0},{"$f":"T21*'R2係数一覧'!C21","v":0},{"$f":"T21*'R2雇用表'!O21","v":0}]
["03","33","電気機械",null,null,null,null,{"$f":"'R2建設io'!A24","v":0},{"$f":"H22*'R2係数一覧'!E22","v":0},0,{"$f":"J22*'R2係数一覧'!D22","v":0},{"$f":"J22*'R2係数一覧'!C22","v":0},{"$f":"J22*'R2雇用表'!O22","v":0},0,0,0,0,{"$f":"R$43*'R2係数一覧'!H22","v":0},{"$f":"R22*'R2係数一覧'!E22","v":0},0,{"$f":"T22*'R2係数一覧'!D22","v":0},{"$f":"T22*'R2係数一覧'!C22","v":0},{"$f":"T22*'R2雇用表'!O22","v":0}]
["03","34","情報通信機器",null,null,null,null,{"$f":"'R2建設io'!A25","v":0},{"$f":"H23*'R2係数一覧'!E23","v":0},0,{"$f":"J23*'R2係数一覧'!D23","v":0},{"$f":"J23*'R2係数一覧'!C23","v":0},{"$f":"J23*'R2雇用表'!O23","v":0},0,0,0,0,{"$f":"R$43*'R2係数一覧'!H23","v":0},{"$f":"R23*'R2係数一覧'!E23","v":0},0,{"$f":"T23*'R2係数一覧'!D23","v":0},{"$f":"T23*'R2係数一覧'!C23","v":0},{"$f":"T23*'R2雇用表'!O23","v":0}]
["03","35","輸送機械",null,null,null,null,{"$f":"'R2建設io'!A26","v":0},{"$f":"H24*'R2係数一覧'!E24","v":0},0,{"$f":"J24*'R2係数一覧'!D24","v":0},{"$f":"J24*'R2係数一覧'!C24","v":0},{"$f":"J24*'R2雇用表'!O24","v":0},0,0,0,0,{"$f":"R$43*'R2係数一覧'!H24","v":0},{"$f":"R24*'R2係数一覧'!E24","v":0},0,{"$f":"T24*'R2係数一覧'!D24","v":0},{"$f":"T24*'R2係数一覧'!C24","v":0},{"$f":"T24*'R2雇用表'!O24","v":0}]
["03","39","その他の製造工業製品",null,null,null,null,{"$f":"'R2建設io'!A27","v":0},{"$f":"H25*'R2係数一覧'!E25","v":0},0,{"$f":"J25*'R2係数一覧'!D25","v":0},{"$f":"J25*'R2係数一覧'!C25","v":0},{"$f":"J25*'R2雇用表'!O25","v":0},0,0,0,0,{"$f":"R$43*'R2係数一覧'!H25","v":0},{"$f":"R25*'R2係数一覧'!E25","v":0},0,{"$f":"T25*'R2係数一覧'!D25","v":0},{"$f":"T25*'R2係数一覧'!C25","v":0},{"$f":"T25*'R2雇用表'!O25","v":0}]
["04","41","建設",{"$f":"'R2建設io'!A56","v":0},{"$f":"'R2建設io'!A52","v":0},{"$f":"'R2建設io'!A47","v":0},{"$f":"ROUND(D26*'R2雇用表'!O26,0)","v":0},{"$f":"'R2建設io'!A28","v":0},{"$f":"H26*'R2係数一覧'!E26","v":0},0,{"$f":"J26*'R2係数一覧'!D26","v":0},{"$f":"J26*'R2係数一覧'!C26","v":0},{"$f":"J26*'R2雇用表'!O26","v":0},0,0,0,0,{"$f":"R$43*'R2係数一覧'!H26","v":0},{"$f":"R26*'R2係数一覧'!E26","v":0},0,{"$f":"T26*'R2係数一覧'!D26","v":0},{"$f":"T26*'R2係数一覧'!C26","v":0},{"$f":"T26*'R2雇用表'!O26","v":0}]
["05","46","電気・ガス・熱供給",null,null,null,null,{"$f":"'R2建設io'!A29","v":0},{"$f":"H27*'R2係数一覧'!E27","v":0},0,{"$f":"J27*'R2係数一覧'!D27","v":0},{"$f":"J27*'R2係数一覧'!C27","v":0},{"$f":"J27*'R2雇用表'!O27","v":0},0,0,0,0,{"$f":"R$43*'R2係数一覧'!H27","v":0},{"$f":"R27*'R2係数一覧'!E27","v":0},0,{"$f":"T27*'R2係数一覧'!D27","v":0},{"$f":"T27*'R2係数一覧'!C27","v":0},{"$f":"T27*'R2雇用表'!O27","v":0}]
["05","47","水道",null,null,null,null,{"$f":"'R2建設io'!A30","v":0},{"$f":"H28*'R2係数一覧'!E28","v":0},0,{"$f":"J28*'R2係数一覧'!D28","v":0},{"$f":"J28*'R2係数一覧'!C28","v":0},{"$f":"J28*'R2雇用表'!O28","v":0},0,0,0,0,{"$f":"R$43*'R2係数一覧'!H28","v":0},{"$f":"R28*'R2係数一覧'!E28","v":0},0,{"$f":"T28*'R2係数一覧'!D28","v":0},{"$f":"T28*'R2係数一覧'!C28","v":0},{"$f":"T28*'R2雇用表'!O28","v":0}]
["12","48","廃棄物処理",null,null,null,null,{"$f":"'R2建設io'!A31","v":0},{"$f":"H29*'R2係数一覧'!E29","v":0},0,{"$f":"J29*'R2係数一覧'!D29","v":0},{"$f":"J29*'R2係数一覧'!C29","v":0},{"$f":"J29*'R2雇用表'!O29","v":0},0,0,0,0,{"$f":"R$43*'R2係数一覧'!H29","v":0},{"$f":"R29*'R2係数一覧'!E29","v":0},0,{"$f":"T29*'R2係数一覧'!D29","v":0},{"$f":"T29*'R2係数一覧'!C29","v":0},{"$f":"T29*'R2雇用表'!O29","v":0}]
["06","51","商業",null,null,null,null,{"$f":"'R2建設io'!A32","v":0},{"$f":"H30*'R2係数一覧'!E30","v":0},0,{"$f":"J30*'R2係数一覧'!D30","v":0},{"$f":"J30*'R2係数一覧'!C30","v":0},{"$f":"J30*'R2雇用表'!O30","v":0},0,0,0,0,{"$f":"R$43*'R2係数一覧'!H30","v":0},{"$f":"R30*'R2係数一覧'!E30","v":0},0,{"$f":"T30*'R2係数一覧'!D30","v":0},{"$f":"T30*'R2係数一覧'!C30","v":0},{"$f":"T30*'R2雇用表'!O30","v":0}]
["07","53","金融・保険",null,null,null,null,{"$f":"'R2建設io'!A33","v":0},{"$f":"H31*'R2係数一覧'!E31","v":0},0,{"$f":"J31*'R2係数一覧'!D31","v":0},{"$f":"J31*'R2係数一覧'!C31","v":0},{"$f":"J31*'R2雇用表'!O31","v":0},0,0,0,0,{"$f":"R$43*'R2係数一覧'!H31","v":0},{"$f":"R31*'R2係数一覧'!E31","v":0},0,{"$f":"T31*'R2係数一覧'!D31","v":0},{"$f":"T31*'R2係数一覧'!C31","v":0},{"$f":"T31*'R2雇用表'!O31","v":0}]
["08","55","不動産",null,null,null,null,{"$f":"'R2建設io'!A34","v":0},{"$f":"H32*'R2係数一覧'!E32","v":0},0,{"$f":"J32*'R2係数一覧'!D32","v":0},{"$f":"J32*'R2係数一覧'!C32","v":0},{"$f":"J32*'R2雇用表'!O32","v":0},0,0,0,0,{"$f":"R$43*'R2係数一覧'!H32","v":0},{"$f":"R32*'R2係数一覧'!E32","v":0},0,{"$f":"T32*'R2係数一覧'!D32","v":0},{"$f":"T32*'R2係数一覧'!C32","v":0},{"$f":"T32*'R2雇用表'!O32","v":0}]
["09","57","運輸・郵便",null,null,null,null,{"$f":"'R2建設io'!A35","v":0},{"$f":"H33*'R2係数一覧'!E33","v":0},0,{"$f":"J33*'R2係数一覧'!D33","v":0},{"$f":"J33*'R2係数一覧'!C33","v":0},{"$f":"J33*'R2雇用表'!O33","v":0},0,0,0,0,{"$f":"R$43*'R2係数一覧'!H33","v":0},{"$f":"R33*'R2係数一覧'!E33","v":0},0,{"$f":"T33*'R2係数一覧'!D33","v":0},{"$f":"T33*'R2係数一覧'!C33","v":0},{"$f":"T33*'R2雇用表'!O33","v":0}]
["10","59","情報通信",null,null,null,null,{"$f":"'R2建設io'!A36","v":0},{"$f":"H34*'R2係数一覧'!E34","v":0},0,{"$f":"J34*'R2係数一覧'!D34","v":0},{"$f":"J34*'R2係数一覧'!C34","v":0},{"$f":"J34*'R2雇用表'!O34","v":0},0,0,0,0,{"$f":"R$43*'R2係数一覧'!H34","v":0},{"$f":"R34*'R2係数一覧'!E34","v":0},0,{"$f":"T34*'R2係数一覧'!D34","v":0},{"$f":"T34*'R2係数一覧'!C34","v":0},{"$f":"T34*'R2雇用表'!O34","v":0}]
["11","61","公務",null,null,null,null,{"$f":"'R2建設io'!A37","v":0},{"$f":"H35*'R2係数一覧'!E35","v":0},0,{"$f":"J35*'R2係数一覧'!D35","v":0},{"$f":"J35*'R2係数一覧'!C35","v":0},{"$f":"J35*'R2雇用表'!O35","v":0},0,0,0,0,{"$f":"R$43*'R2係数一覧'!H35","v":0},{"$f":"R35*'R2係数一覧'!E35","v":0},0,{"$f":"T35*'R2係数一覧'!D35","v":0},{"$f":"T35*'R2係数一覧'!C35","v":0},{"$f":"T35*'R2雇用表'!O35","v":0}]
["12","63","教育・研究",null,null,null,null,{"$f":"'R2建設io'!A38","v":0},{"$f":"H36*'R2係数一覧'!E36","v":0},0,{"$f":"J36*'R2係数一覧'!D36","v":0},{"$f":"J36*'R2係数一覧'!C36","v":0},{"$f":"J36*'R2雇用表'!O36","v":0},0,0,0,0,{"$f":"R$43*'R2係数一覧'!H36","v":0},{"$f":"R36*'R2係数一覧'!E36","v":0},0,{"$f":"T36*'R2係数一覧'!D36","v":0},{"$f":"T36*'R2係数一覧'!C36","v":0},{"$f":"T36*'R2雇用表'!O36","v":0}]
["12","64","医療・福祉",null,null,null,null,{"$f":"'R2建設io'!A39","v":0},{"$f":"H37*'R2係数一覧'!E37","v":0},0,{"$f":"J37*'R2係数一覧'!D37","v":0},{"$f":"J37*'R2係数一覧'!C37","v":0},{"$f":"J37*'R2雇用表'!O37","v":0},0,0,0,0,{"$f":"R$43*'R2係数一覧'!H37","v":0},{"$f":"R37*'R2係数一覧'!E37","v":0},0,{"$f":"T37*'R2係数一覧'!D37","v":0},{"$f":"T37*'R2係数一覧'!C37","v":0},{"$f":"T37*'R2雇用表'!O37","v":0}]
["12","65","他に分類されない会員制団体",null,null,null,null,{"$f":"'R2建設io'!A40","v":0},{"$f":"H38*'R2係数一覧'!E38","v":0},0,{"$f":"J38*'R2係数一覧'!D38","v":0},{"$f":"J38*'R2係数一覧'!C38","v":0},{"$f":"J38*'R2雇用表'!O38","v":0},0,0,0,0,{"$f":"R$43*'R2係数一覧'!H38","v":0},{"$f":"R38*'R2係数一覧'!E38","v":0},0,{"$f":"T38*'R2係数一覧'!D38","v":0},{"$f":"T38*'R2係数一覧'!C38","v":0},{"$f":"T38*'R2雇用表'!O38","v":0}]
["12","66","対事業所サービス",null,null,null,null,{"$f":"'R2建設io'!A41","v":0},{"$f":"H39*'R2係数一覧'!E39","v":0},0,{"$f":"J39*'R2係数一覧'!D39","v":0},{"$f":"J39*'R2係数一覧'!C39","v":0},{"$f":"J39*'R2雇用表'!O39","v":0},0,0,0,0,{"$f":"R$43*'R2係数一覧'!H39","v":0},{"$f":"R39*'R2係数一覧'!E39","v":0},0,{"$f":"T39*'R2係数一覧'!D39","v":0},{"$f":"T39*'R2係数一覧'!C39","v":0},{"$f":"T39*'R2雇用表'!O39","v":0}]
["12","67","対個人サービス",null,null,null,null,{"$f":"'R2建設io'!A42","v":0},{"$f":"H40*'R2係数一覧'!E40","v":0},0,{"$f":"J40*'R2係数一覧'!D40","v":0},{"$f":"J40*'R2係数一覧'!C40","v":0},{"$f":"J40*'R2雇用表'!O40","v":0},0,0,0,0,{"$f":"R$43*'R2係数一覧'!H40","v":0},{"$f":"R40*'R2係数一覧'!E40","v":0},0,{"$f":"T40*'R2係数一覧'!D40","v":0},{"$f":"T40*'R2係数一覧'!C40","v":0},{"$f":"T40*'R2雇用表'!O40","v":0}]
["03","68","事務用品",null,null,null,null,{"$f":"'R2建設io'!A43","v":0},{"$f":"H41*'R2係数一覧'!E41","v":0},0,{"$f":"J41*'R2係数一覧'!D41","v":0},{"$f":"J41*'R2係数一覧'!C41","v":0},{"$f":"J41*'R2雇用表'!O41","v":0},0,0,0,0,{"$f":"R$43*'R2係数一覧'!H41","v":0},{"$f":"R41*'R2係数一覧'!E41","v":0},0,{"$f":"T41*'R2係数一覧'!D41","v":0},{"$f":"T41*'R2係数一覧'!C41","v":0},{"$f":"T41*'R2雇用表'!O41","v":0}]
["13","69","分類不明",null,null,null,null,{"$f":"'R2建設io'!A44","v":0},{"$f":"H42*'R2係数一覧'!E42","v":0},0,{"$f":"J42*'R2係数一覧'!D42","v":0},{"$f":"J42*'R2係数一覧'!C42","v":0},{"$f":"J42*'R2雇用表'!O42","v":0},0,0,0,0,{"$f":"R$43*'R2係数一覧'!H42","v":0},{"$f":"R42*'R2係数一覧'!E42","v":0},0,{"$f":"T42*'R2係数一覧'!D42","v":0},{"$f":"T42*'R2係数一覧'!C42","v":0},{"$f":"T42*'R2雇用表'!O42","v":0}]
[null,null,null,{"$f":"SUM(D6:D42)","v":0},0,0,0,0,0,0,0,0,0,0,0,0,0,{"$f":"P43*R45","v":0},{"$f":"SUM(S6:S42)","v":0},{"$f":"SUM(T6:T42)","v":0},{"$f":"SUM(U6:U42)","v":0},{"$f":"SUM(V6:V42)","v":0},{"$f":"SUM(W6:W42)","v":0}]
[]
[null,null,null,null,null,null,null,null,null,null,null,null,null,null,null,"消費転換率",null,{"$f":"'R2建設入力'!C8","v":0.55378261397054429}]
[]
[]
[]
[null,"01","農林水産業",{"$f":"SUMIF($A$6:$A$42,$B49,D$6:D$42)","v":0},0,0,0,0,{"$f":"SUMIF($A$6:$A$42,$B49,I$6:I$42)","v":0},0,0,0,0,0,0,0,0,0,0,0,0,0,0]
[null,"02","鉱業",0,0,0,0,0,{"$f":"SUMIF($A$6:$A$42,$B50,I$6:I$42)","v":0},0,0,0,0,0,0,0,0,0,0,0,0,0,0]
[null,"03","製造業",0,0,0,0,0,0,0,0,0,0,0,0,0,0,0,0,0,0,0,0]
[null,"04","建設",0,0,0,0,0,0,0,0,0,0,0,0,0,0,0,0,0,0,0,0]
[null,"05","電気・ガス・水道",0,0,0,0,0,0,0,0,0,0,0,0,0,0,0,0,0,0,0,0]
[null,"06","商業",0,0,0,0,0,0,0,0,0,0,0,0,0,0,0,0,0,0,0,0]
[null,"07","金融・保険",0,0,0,0,0,0,0,0,0,0,0,0,0,0,0,0,0,0,0,0]
[null,"08","不動産",0,0,0,0,0,0,0,0,0,0,0,0,0,0,0,0,0,0,0,0]
[null,"09","運輸・郵便",0,0,0,0,0,0,0,0,0,0,0,0,0,0,0,0,0,0,0,0]
[null,"10","情報通信",0,0,0,0,0,0,0,0,0,0,0,0,0,0,0,0,0,0,0,0]
[null,"11","公務",0,0,0,0,0,0,0,0,0,0,0,0,0,0,0,0,0,0,0,0]
[null,"12","サービス",0,0,0,0,0,0,0,0,0,0,0,0,0,0,0,0,0,0,0,0]
[null,"13","分類不明",0,0,0,0,0,0,0,0,0,0,0,0,0,0,0,0,0,0,0,0]
[null,null,null,{"$f":"SUM(D49:D61)","v":0},0,0,0,0,0,0,0,0,0,0,0,0,0,0,0,0,0,0,0]

{"sheet":"R2建設フロー","index":10,"n_rows":68,"n_cols":27,"rows_kept":68,"cut":false,"hidden":false,"merged":[[60,2,67,2],[62,4,62,7],[67,10,67,13],[67,22,67,25],[48,2,55,2],[50,4,50,7],[55,4,55,7],[55,10,55,13],[55,16,55,19],[30,4,30,7],[35,4,35,7],[40,4,40,7],[45,4,45,7],[55,22,55,25],[10,22,10,25],[25,16,25,19],[4,2,10,2],[5,4,5,7],[10,4,10,7],[10,10,10,13],[10,16,10,19],[15,4,15,7],[18,2,25,2],[20,4,20,7],[25,4,25,7],[25,10,25,13],[25,22,25,25]]}
[]
[null,"建設部門分析結果フローチャート"]
[]
[]
[null,null,"Ⅰ　直接効果",null,"Ⅰ①","発生需要額＝市内生産額"]
[null,null,null,null,{"$f":"'R2建設計算'!D43","v":0},null,null,null,"百万円"]
[null,null,null,null,null,null,null,null,null,null,null,null,null,"建設部門分析用産業連関表を利用"]
[]
[null,null,null,null,"Ⅰ①×産業別中間投入率＝Ⅰ①－Ⅰ②",null,null,null,null,null,"Ⅰ①×産業別粗付加価値率",null,null,null,null,null,"Ⅰ①×産業別雇用者所得率",null,null,null,null,null,"Ⅰ①×産業別雇用者誘発率"]
[null,null,null,null,"Ⅱ①",{"$f":"'R2建設計算'!H5","v":"発生需要額"},null,null,null,null,"Ⅰ②","粗付加価値誘発額",null,null,null,null,"Ⅰ③","うち雇用者所得",null,null,null,null,"Ⅰ④","雇用者誘発数"]
[null,null,null,null,{"$f":"'R2建設計算'!H43","v":0},null,null,null,"百万円",null,{"$f":"'R2建設計算'!E43","v":0},null,null,null,"百万円",null,{"$f":"'R2建設計算'!F43","v":0},null,null,null,"百万円",null,{"$f":"'R2建設計算'!G43","v":0},null,null,null,"人"]
[]
[]
[null,null,null,null,"Ⅱ①×産業別自給率"]
[null,null,null,null,"Ⅱ②",{"$f":"'R2建設計算'!I5","v":"市内生産額"}]
[null,null,null,null,{"$f":"'R2建設計算'!I43","v":0},null,null,null,"百万円"]
[]
[]
[null,null,"Ⅱ　１次効果",null,"逆行列係数表×Ⅱ②"]
[null,null,null,null,"Ⅱ③","生産誘発額"]
[null,null,null,null,{"$f":"'R2建設計算'!J43","v":0},null,null,null,"百万円"]
[]
[]
[null,null,null,null,"Ⅱ③－Ⅱ④",null,null,null,null,null,"Ⅱ③×産業別粗付加価値率",null,null,null,null,null,"Ⅱ③×産業別雇用者所得率",null,null,null,null,null,"Ⅱ③×産業別雇用者誘発率"]
[null,null,null,null,null,"原材料投入額",null,null,null,null,"Ⅱ④","粗付加価値額",null,null,null,null,"Ⅱ⑤","うち雇用者所得",null,null,null,null,"Ⅱ⑥","雇用者誘発数"]
[null,null,null,null,{"$f":"E21-K26","v":0},null,null,null,"百万円",null,{"$f":"'R2建設計算'!K43","v":0},null,null,null,"百万円",null,{"$f":"'R2建設計算'!L43","v":0},null,null,null,"百万円",null,{"$f":"'R2建設計算'!M43","v":0},null,null,null,"人"]
[]
[]
[null,null,null,null,"Ⅰ③＋Ⅱ⑤"]
[null,null,null,null,"α","ⅠとⅡの雇用者所得の合計"]
[null,null,null,null,{"$f":"'R2建設計算'!P43","v":0},null,null,null,"百万円"]
[]
[]
[]
[null,null,null,null,"β","消費性向",null,null,null,"家計調査利用"]
[null,null,null,null,{"$f":"'R2建設計算'!R45","v":0.55378261397054429}]
[]
[]
[null,null,null,null,"α×β"]
[null,null,null,null,"Ⅲ①",{"$f":"'R2建設計算'!R5","v":"発生需要額"}]
[null,null,null,null,{"$f":"'R2建設計算'!R43","v":0},null,null,null,"百万円"]
[]
[]
[null,null,null,null,"Ⅲ①×産業別自給率"]
[null,null,null,null,"Ⅲ②",{"$f":"'R2建設計算'!S5","v":"市内生産額"}]
[null,null,null,null,{"$f":"'R2建設計算'!S43","v":0},null,null,null,"百万円"]
[]
[]
[null,null,"Ⅲ　２次効果",null,"逆行列係数表×Ⅲ②"]
[null,null,null,null,"Ⅲ③","生産誘発額"]
[null,null,null,null,{"$f":"'R2建設計算'!T43","v":0},null,null,null,"百万円"]
[]
[]
[null,null,null,null,"Ⅲ③－Ⅲ④",null,null,null,null,null,"Ⅲ③×産業別粗付加価値率",null,null,null,null,null,"Ⅲ③×産業別雇用者所得率",null,null,null,null,null,"Ⅲ③×産業別雇用者誘発率"]
[null,null,null,null,null,"原材料投入額",null,null,null,null,"Ⅲ④","粗付加価値額",null,null,null,null,"Ⅲ⑤","雇用者所得",null,null,null,null,"Ⅲ⑥","雇用者誘発数"]
[null,null,null,null,{"$f":"E51-K56","v":0},null,null,null,"百万円",null,{"$f":"'R2建設計算'!U43","v":0},null,null,null,"百万円",null,{"$f":"'R2建設計算'!V43","v":0},null,null,null,"百万円",null,{"$f":"'R2建設計算'!W43","v":0},null,null,null,"人"]
[]
[]
[]
[]
[null,null,"合　　計",null,"Ⅰ①＋Ⅱ③＋Ⅲ③"]
[null,null,null,null,"③","生産誘発額"]
[null,null,null,null,{"$f":"E6+E21+E51","v":0},null,null,null,"百万円"]
[]
[]
[null,null,null,null,null,null,null,null,null,null,"Ⅰ②＋Ⅱ④＋Ⅲ④",null,null,null,null,null,null,null,null,null,null,null,"Ⅰ④＋Ⅱ⑥＋Ⅲ⑥"]
[null,null,null,null,null,null,null,null,null,null,"④","粗付加価値額",null,null,null,null,null,null,null,null,null,null,"⑥","雇用者誘発数"]
[null,null,null,null,null,null,null,null,null,null,{"$f":"K11+K26+K56","v":0},null,null,null,"百万円",null,null,null,null,null,null,null,{"$f":"W11+W26+W56","v":0},null,null,null,"人"]

{"sheet":"R2建設結果","index":11,"n_rows":21,"n_cols":5,"rows_kept":21,"cut":false,"hidden":false,"merged":[]}
["建設業の活動による市内波及の状況"]
[]
[null,"発生需要額",null,{"$f":"'R2建設計算'!D43","v":0},"百万円"]
[null,"直接効果","市内生産額",{"$f":"'R2建設計算'!D43","v":0},"百万円"]
[null,null,"粗付加価値額",{"$f":"'R2建設計算'!E43","v":0},"百万円"]
[null,null,"雇用者誘発数",{"$f":"'R2建設計算'!G43","v":0},"人"]
[null,"１次波及","生産誘発額",{"$f":"'R2建設計算'!J43","v":0},"百万円"]
[null,null,"粗付加価値誘発額",{"$f":"'R2建設計算'!K43","v":0},"百万円"]
[null,null,"雇用者誘発数",{"$f":"'R2建設計算'!M43","v":0},"人"]
[null,"直接効果","生産誘発額",{"$f":"SUM(D4,D7)","v":0},"百万円"]
[null,"＋１次波及","粗付加価値誘発額",{"$f":"SUM(D5,D8)","v":0},"百万円"]
[null,null,"雇用者誘発数",{"$f":"SUM(D6,D9)","v":0},"人"]
[null,null,"雇用者所得合計額",{"$f":"'R2建設計算'!P43","v":0},"百万円"]
[null,null,"消費転換率",{"$f":"'R2建設計算'!R45","v":0.55378261397054429}]
[null,null,"消費喚起額",{"$f":"'R2建設計算'!R43","v":0},"百万円"]
[null,"２次波及","生産誘発額",{"$f":"'R2建設計算'!T43","v":0},"百万円"]
[null,null,"粗付加価値誘発額",{"$f":"'R2建設計算'!U43","v":0},"百万円"]
[null,null,"雇用者誘発数",{"$f":"'R2建設計算'!W43","v":0},"人"]
[null,"直接効果","生産誘発額",{"$f":"D4+D7+D16","v":0},"百万円"]
[null,"＋１次波及","粗付加価値誘発額",{"$f":"D5+D8+D17","v":0},"百万円"]
[null,"＋２次波及","雇用者誘発数",{"$f":"D6+D9+D18","v":0},"人"]

{"sheet":"建設部門の定義","index":12,"n_rows":85,"n_cols":8,"rows_kept":85,"cut":false,"hidden":false,"merged":[[10,1,10,6]]}
[]
[]
[]
[]
[]
[null,"建設部門分類の定義"]
[null,null,"建設部門分析用産業連関表　第１部解説編より作成"]
[null,null,"https://www.e-stat.go.jp/stat-search/files?page=1&layout=datalist&toukei=00600920&tstat=000001077955&cycle=7&tclass1=000001138808&tclass2=000001138809&tclass3val=0"]
[]
[]
[null,"部門分類",null,null,null,null,null,"定義"]
[null,null,null,"72 建築補修",null,null,null,"建築物（住宅及び非住宅）に関する経常的な維持・修理工事"]
[null,null,null,"73 土木補修",null,null,null,"土木建設物（鉄道軌道、電気通信等の施設）に関する経常的な維持・修理工事"]
[null,"3 住宅建築"]
[null,null,"4 住宅建築（木造）",null,null,null,null,"建築基準法第2条に規定する主要構造部（以下「主要構造部」という。）が居住専用建築物、居住産業併用建築物（居住の用に供せられる部分をいう。以下同じ。）の新築、増築及び改築"]
[null,null,null,"5 木造在来住宅",null,null,null,"6以外の住宅"]
[null,null,null,"6 木造量産住宅",null,null,null,"プレハブ工法住宅及びツーバイフォー工法住宅"]
[null,null,"7 住宅建築（非木造）",null,null,null,null,"主要構造部が非木造の居住専用建築物、居住産業併用建築物の新築、増築及び改築"]
[null,null,null,"8 ＳＲＣ住宅",null,null,null,"主要構造部が鉄骨鉄筋コンクリート造りのもの"]
[null,null,null,"9 ＲＣ住宅",null,null,null,"主要構造部が鉄筋コンクリート造りのもの"]
[null,null,null,null,"10 ＲＣ在来住宅",null,null,"11以外の住宅"]
[null,null,null,null,"11 ＲＣ量産住宅",null,null,"プレハブ工法住宅"]
[null,null,null,"12 Ｓ住宅",null,null,null,"主要構造部が鉄骨造またはその他の金属で作られたもの"]
[null,null,null,null,"13 Ｓ在来住宅",null,null,"14以外の住宅"]
[null,null,null,null,"14 Ｓ量産住宅",null,null,"プレハブ工法住宅"]
[null,null,null,"15 ＣＢ住宅",null,null,null,"主要構造部がコンクリート・ブロック造及び他の分類に該当しないもの"]
[null,"16 非住宅建築"]
[null,null,"17 非住宅建築（木造）",null,null,null,null,"木造建築物のうち、4以外の建築物の新築、増築及び改築"]
[null,null,null,"18 木造工場",null,null,null,"工場、作業場及び倉庫"]
[null,null,null,"19 木造事務所",null,null,null,"事務所、店舗、学校、病院及び他に分類されないもの"]
[null,null,"20 非住宅建築（非木造）",null,null,null,null,"非木造の建築物のうち、7以外の建築物の新築、増築及び改築"]
[null,null,null,"21 ＳＲＣ工場",null,null,null,"主要構造部が鉄骨鉄筋コンクリート造の工場、作業場、及び倉庫"]
[null,null,null,"22 ＳＲＣ事務所",null,null,null,"主要構造部が鉄骨鉄筋コンクリート造の事務所、店舗、学校、病院及びその他21に該当しないもの"]
[null,null,null,"23 ＲＣ工場",null,null,null,"主要構造部が鉄筋コンクリート造の工場、作業場、倉庫"]
[null,null,null,"24 ＲＣ学校",null,null,null,"主要構造部が鉄筋コンクリート造の学校"]
[null,null,null,"25 ＲＣ事務所",null,null,null,"主要構造部が鉄筋コンクリート造の事務所、店舗、病院及びその他23、24に該当しないもの"]
[null,null,null,"26 Ｓ工場",null,null,null,"主要構造部が鉄骨またはその他の金属で作られた工場、作業場、倉庫"]
[null,null,null,"27 Ｓ事務所",null,null,null,"主要構造部が鉄骨またはその他の金属で作られた事務所、店舗、病院、学校及びその他26に該当しないもの"]
[null,null,null,"28 ＣＢ非住宅",null,null,null,"主要構造部が、コンクリートブロック造及び他の分類に該当しないもの"]
[null,null,null,"71 建築補修",null,null,null,"建築物（住宅及び非住宅）に関する機能や耐用年数の向上を伴う改装・改修工事"]
[null,"30 公共事業",null,null,null,null,null,"農林関係公共事業を除く公共事業"]
[null,null,"31 道路関係公共事業"]
[null,null,null,"32 道   路"]
[null,null,null,null,"33 一般道路"]
[null,null,null,null,null,"34 道路改良",null,"国及び地方公共団体の行う道路改良事業"]
[null,null,null,null,null,"35 道路舗装",null,"国及び地方公共団体の行う道路舗装新設事業"]
[null,null,null,null,null,"36 道路橋梁",null,"国及び地方公共団体の行う道路橋梁整備事業"]
[null,null,null,null,null,"37 道路補修",null,"国及び地方公共団体の行う道路補修事業"]
[null,null,null,null,null,"38 街路改良",null,"国及び地方公共団体の行う街路改良事業、街路補修事業"]
[null,null,null,null,null,"39 街路舗装",null,"国及び地方公共団体の行う街路舗装新設事業"]
[null,null,null,null,null,"40 街路橋梁",null,"国及び地方公共団体の行う街路橋梁整備事業"]
[null,null,null,null,"41 有料道路"]
[null,null,null,null,null,"42 高速有料道路",null,"43～46の高速道路株式会社の行う高速有料道路建設事業、補修修繕事業"]
[null,null,null,null,null,null,"43 東日本高速道路（株）\n　　中日本高速道路（株）\n　　西日本高速道路（株）"]
[null,null,null,null,null,null,"44 首都高速道路（株）"]
[null,null,null,null,null,null,"45 阪神高速道路（株）"]
[null,null,null,null,null,null,"46 本州四国連絡高速道路（株）"]
[null,null,null,null,null,"47 一般有料道路"]
[null,null,null,null,null,null,"48 東日本高速道路（株）\n　　中日本高速道路（株）\n　　西日本高速道路（株）","48の高速道路株式会社の行う一般有料道路建設事業、補修修繕事業"]
[null,null,null,null,null,null,"49 地方公社等","地方公共団体及び地方道路公社の行う一般有料道路建設事業、補修修繕事業"]
[null,null,null,"50 区画整理",null,null,null,"国及び地方公共団体の行う土地区画整理事業"]
[null,null,"51 河川・下水道・その他の公共事業"]
[null,null,null,"52 治水"]
[null,null,null,null,"53 河川改修",null,null,"国及び地方公共団体の行う河川事業"]
[null,null,null,null,"54 河川総合開発",null,null,"国及び地方公共団体の行う河川総合開発事業並びに独立行政法人水資源機構の行う事業"]
[null,null,null,null,"55 海岸",null,null,"国及び地方公共団体の行う海岸事業"]
[null,null,null,null,"56 砂防",null,null,"国及び地方公共団体の行う防砂事業及び地すべり対策事業"]
[null,null,null,"57 下水道",null,null,null,"地方公共団体及び地方公営企業の行う下水道事業の構築物の建設事業"]
[null,null,null,"58 港湾・漁港",null,null,null,"国及び地方公共団体の行う港湾事業、漁港事業、沿岸漁場整備事業及び離島電気事業"]
[null,null,null,"59 空港",null,null,null,"国、地方公共団体、成田国際空港株式会社、中部国際空港株式会社及び関西国際空港株式会社の行う空港整備事業"]
[null,null,null,"60 廃棄物処理施設",null,null,null,"地方公共団体の行う廃棄物処理事業"]
[null,null,null,"61 公園",null,null,null,"国及び地方公共団体の行う公園及び緑地保全事業"]
[null,null,null,"62 災害復旧",null,null,null,"国及び地方公共団体の行う31～59の事業の災害復旧事業及び鉱害復旧事業"]
[null,"63 農林関係公共事業",null,null,null,null,null,"国及び地方公共団体の行う農業土木事業、林道事業、治山事業及びこれらの事業の災害復旧事業"]
[null,"64 その他の土木建設"]
[null,null,"65 鉄道軌道建設",null,null,null,null,"JR、独立行政法人鉄道建設・運輸施設整備支援機構、公営鉄道、私鉄、東京地下鉄株式会社及び本州四国連絡高速道路株式会社の行う鉄道軌道に関する構築物の新設工事及び施設保全の取替補修工事"]
[null,null,"66 電力施設建設",null,null,null,null,"10電力株式会社、電源開発株式会社、地方公営企業　その他の電気事業者の行う電気事業及び日本原子力発電株式会社の発送配電施設に関する構築物の建設及び施設保全の取替補修工事"]
[null,null,"67 電気通信施設建設",null,null,null,null,"電気通信事業者、放送事業者の行う電気通信線路施設等に関する構築物の建設事業及び施設保全の取替補修工事"]
[null,null,"その他の土木建設"]
[null,null,null,"68 上・工業用水道",null,null,null,"地方公営企業等の行う上水道事業における建設事業、工業用水道事業及び簡易水道事業"]
[null,null,null,"69 土地造成",null,null,null,"独立行政法人都市再生機構、地方公共団体、港湾整備関係等及び民間の行う土地造成、臨海部土地造成事業等"]
[null,null,null,"70 その他の土木"]
[null,null,null,null,"（民間構築物）",null,null,"民間企業等が行う土木構築物の建設事業"]
[null,null,null,null,"（ガス）",null,null,"民間ガス会社及び地方公営企業の行うガス事業の貯槽の建設工事"]
[null,null,null,null,"（その他）",null,null,"駐車場建設事業及び上記以外のその他の土木"]

{"sheet":"R2建設IOデータ","index":13,"n_rows":232,"n_cols":82,"rows_kept":232,"cut":false,"hidden":false,"merged":[[2,53,2,63],[2,64,2,74],[2,75,2,81],[2,9,2,10],[2,31,2,41],[2,11,2,19],[2,20,2,30],[2,42,2,52]]}
[null,null,null,null,null,null,null,null,null,"第1表　基本分類建設部門取引額表(生産者価格)",null,null,null,null,null,null,null,null,null,null,"第1表　基本分類建設部門取引額表(生産者価格)",null,null,null,null,null,null,null,null,null,null,"第1表　基本分類建設部門取引額表(生産者価格)",null,null,null,null,null,null,null,null,null,null,"第1表　基本分類建設部門取引額表(生産者価格)",null,null,null,null,null,null,null,null,null,null,"第1表　基本分類建設部門取引額表(生産者価格)",null,null,null,null,null,null,null,null,null,null,"第1表　基本分類建設部門取引額表(生産者価格)",null,null,null,null,null,null,null,null,null,null,"第1表　基本分類建設部門取引額表(生産者価格)"]
[null,null,null,null,null,null,null,null,null,null,null,null,null,null,null,null,null,null,null,"（単位：100万円）",null,null,null,null,null,null,null,null,null,null,"（単位：100万円）",null,null,null,null,null,null,null,null,null,null,"（単位：100万円）",null,null,null,null,null,null,null,null,null,null,"（単位：100万円）",null,null,null,null,null,null,null,null,null,null,"（単位：100万円）",null,null,null,null,null,null,null,null,null,null,"（単位：100万円）",null,null,null,null,null,null,"（単位：100万円）"]
[null,null,null,null,null,null,null,null,null,"中間消費",null,"固定資本形成",null,null,null,null,null,null,null,null,"固定資本形成",null,null,null,null,null,null,null,null,null,null,"固定資本形成",null,null,null,null,null,null,null,null,null,null,"固定資本形成",null,null,null,null,null,null,null,null,null,null,"固定資本形成",null,null,null,null,null,null,null,null,null,null,"固定資本形成",null,null,null,null,null,null,null,null,null,null,"固定資本形成"]
[null,null,null,null,null,null,null,null,null,72,73,1,2,3,4,5,6,7,8,9,10,11,12,13,14,15,16,17,18,19,20,21,22,23,24,25,26,27,28,"71",29,30,31,32,33,34,35,36,37,38,39,40,41,42,43,44,45,46,47,48,49,50,51,52,53,54,55,56,57,58,59,60,61,62,63,64,65,66,67,68,69,70]
["37部門",null,null,null,null,null,null,null,null,"建 築 補 修","土 木 補 修","建      設","建　　　築","住宅建築","住宅建築\n（木造）","木造在来\n住宅","木造量産\n住宅","住宅建築\n（非木造）","ＳＲＣ住宅","Ｒ Ｃ 住 宅","Ｒ Ｃ 在 来\n住       宅","Ｒ Ｃ 量 産\n住       宅","Ｓ  住  宅","Ｓ在来住宅","Ｓ量産住宅","Ｃ Ｂ 住 宅","非住宅建築","非住宅建築\n（ 木 造 ）","木 造 工 場","木造事務所","非住宅建築\n（非木造）","ＳＲＣ工場","Ｓ  Ｒ  Ｃ\n事  務  所","Ｒ Ｃ 工 場","Ｒ Ｃ 学 校","ＲＣ事務所","Ｓ  工  場","Ｓ 事 務 所","ＣＢ非住宅","建 築 補 修","土    木","公 共 事 業","道 路 関 係\n公 共 事 業","道    路","一 般 道 路","道 路 改 良","道 路 舗 装","道 路 橋 梁","道 路 補 修","街 路 改 良","街 路 舗 装","街 路 橋 梁","有 料 道 路","高 速 有 料\n道         路","東日本高速\n道路 （株）、\n中日本高速\n道路 （株）、\n西日本高速\n道路 （株）","首 都 高 速\n道 路 （株）","阪 神 高 速\n道 路 （株）","本 州 四 国 \n連 絡 高 速\n道 路 （株）","一 般 有 料\n道         路","東日本高速\n道路 （株）、\n中日本高速\n道路 （株）、\n西日本高速\n道路 （株）","地 方 公 社 等","区 画 整 理","河川・下水\n道・その他\nの公共事業","治     水","河 川 改 修","河 川 総 合 開 発","海     岸","砂     防","下 水 道","港湾・漁港","空     港","廃棄物処理\n施設","公     園","災 害 復 旧","農 林 関 係\n公 共 事 業","そ の 他 の\n土 木 建 設","鉄 道 軌 道\n建         設","電 力 施 設\n建         設","電 気 通 信\n施 設 建 設","上・工業用\n水       道","土 地 造 成","そ の 他 の\n土        木"]
[{"$f":"+IF(OR(LEFT(F6,2)=\"19\",LEFT(F6,2)=\"23\"),\"39\",LEFT(F6,2))","v":"01"},null,"1",null,null,"0111-012","稲わら",null,null,47,36,158,0,0,0,0,0,0,0,0,0,0,0,0,0,0,0,0,0,0,0,0,0,0,0,0,0,0,0,158,0,0,0,0,0,0,0,0,0,0,0,0,0,0,0,0,0,0,0,0,0,0,0,0,0,0,0,0,0,0,0,0,0,0,0,0,0,0,0,0,0,0]
[{"$f":"+IF(OR(LEFT(F7,2)=\"19\",LEFT(F7,2)=\"23\"),\"39\",LEFT(F7,2))","v":"01"},null,"2",null,null,"0116-021","種苗",null,null,0,0,2715,0,0,0,0,0,0,0,0,0,0,0,0,0,0,0,0,0,0,0,0,0,0,0,0,0,0,0,0,2715,1703,858,858,849,1,0,0,848,0,0,0,9,0,0,0,0,0,9,8,1,0,604,384,89,295,0,0,0,0,0,0,220,0,241,1012,22,82,8,0,38,862]
["01",null,"3",null,null,"0116-031","花き・花木類",null,null,0,0,57809,21451,9527,1692,1621,71,7835,49,5287,5245,42,2499,888,1611,0,11924,459,115,344,11465,87,73,328,713,1986,3062,5057,159,0,36358,21037,14371,14256,7444,6693,16,20,565,147,3,0,6812,6610,6608,2,0,0,202,168,34,115,6287,4073,2229,416,1,1427,30,185,30,65,635,1269,379,15321,311,1302,52,143,575,12938]
["01",null,"4",null,null,"0151-011","育林",null,null,0,0,33,0,0,0,0,0,0,0,0,0,0,0,0,0,0,0,0,0,0,0,0,0,0,0,0,0,0,0,0,33,33,0,0,0,0,0,0,0,0,0,0,0,0,0,0,0,0,0,0,0,0,0,0,0,0,0,0,0,0,0,0,0,0,33,0,0,0,0,0,0,0]
["01",null,"5",null,null,"0152-011","素材",null,null,2,2,1601,186,169,169,166,3,0,0,0,0,0,0,0,0,0,17,13,2,11,4,0,0,0,0,1,1,2,0,9,1406,1140,27,18,13,5,0,0,2,6,0,0,5,5,5,0,0,0,0,0,0,9,28,21,7,0,0,14,0,3,0,2,2,0,1085,266,28,13,12,2,10,201]
["01",null,"6",null,null,"0153-011","特用林産物（狩猟業を含む。）",null,null,125,94,760,114,37,20,19,1,17,0,10,10,0,7,2,5,0,77,3,1,2,74,1,2,4,3,13,20,30,1,421,225,195,107,106,88,34,2,5,39,7,0,1,18,17,15,1,1,0,1,1,0,1,47,47,0,47,0,0,0,0,0,0,0,0,41,30,1,0,1,0,1,27]
["06",null,"7",null,null,"0611-013","天然ガス",null,null,1,1,130,14,8,5,5,0,3,0,2,2,0,1,0,1,0,6,1,0,1,5,0,0,0,0,1,1,3,0,5,111,82,42,41,34,13,1,2,15,3,0,0,7,6,6,0,0,0,1,1,0,1,40,16,11,1,1,3,7,5,1,3,1,7,0,29,0,0,0,10,4,15]
["06",null,"8",null,null,"0621-011","砂利・採石",null,null,477,360,124696,32727,19700,11341,11222,119,8359,65,5349,5252,97,2910,600,2310,35,13027,1769,470,1299,11258,98,205,540,476,2067,3863,3931,78,1606,90363,51827,18205,17645,15488,9907,123,237,4318,869,22,12,2157,1854,1850,2,0,2,303,252,51,560,27071,8420,5475,144,2544,257,2579,8309,1151,2365,455,3792,6551,38536,2681,6285,733,4752,6521,17564]
["06",null,"9",null,null,"0629-093","石灰石",null,null,0,0,142,0,0,0,0,0,0,0,0,0,0,0,0,0,0,0,0,0,0,0,0,0,0,0,0,0,0,0,0,142,92,50,50,49,0,0,0,49,0,0,0,1,0,0,0,0,0,1,1,0,0,42,0,0,0,0,0,0,1,0,0,39,2,0,50,11,7,12,0,9,11]
["06",null,"10",null,null,"0629-094","窯業原料鉱物（石灰石を除く。）",null,null,0,0,2595,0,0,0,0,0,0,0,0,0,0,0,0,0,0,0,0,0,0,0,0,0,0,0,0,0,0,0,0,2595,1623,559,559,548,548,0,0,0,0,0,0,11,0,0,0,0,0,11,9,2,0,1064,283,281,0,2,0,102,597,0,82,0,0,0,972,185,129,184,84,170,220]
["11",null,"11",null,null,"1131-021","有機質肥料（別掲を除く。）",null,null,0,0,1866,0,0,0,0,0,0,0,0,0,0,0,0,0,0,0,0,0,0,0,0,0,0,0,0,0,0,0,0,1866,1866,0,0,0,0,0,0,0,0,0,0,0,0,0,0,0,0,0,0,0,0,0,0,0,0,0,0,0,0,0,0,0,0,1866,0,0,0,0,0,0,0]
["15",null,"12",null,null,"1512-099","その他の織物",null,null,667,503,5542,3298,927,433,424,9,494,6,291,287,4,193,49,144,4,2371,96,15,81,2275,24,66,115,77,415,620,932,26,2244,0,0,0,0,0,0,0,0,0,0,0,0,0,0,0,0,0,0,0,0,0,0,0,0,0,0,0,0,0,0,0,0,0,0,0,0,0,0,0,0,0,0]
["15",null,"13",null,null,"1519-099","その他の繊維工業製品",null,null,7207,5438,45287,10985,6362,4216,4153,63,2146,19,1208,1198,10,896,210,686,23,4623,323,28,295,4300,52,119,226,209,741,1054,1866,33,24263,10039,7728,4414,4409,4176,193,9,61,3913,0,0,0,233,179,167,8,2,2,54,45,9,5,3298,1928,1630,3,108,187,173,104,48,60,292,693,16,2311,272,581,452,166,151,689]
["15",null,"14",null,null,"1521-011","織物製衣服",null,null,3049,2302,25939,10846,5411,3187,3094,93,2224,25,1311,1284,27,864,252,612,24,5435,497,49,448,4938,43,160,232,174,845,1416,1990,78,10267,4826,2948,2040,2039,1797,520,21,88,640,502,11,15,242,213,182,22,6,3,29,24,5,1,902,273,246,0,27,0,155,175,65,24,210,0,6,1878,282,387,176,216,140,677]
["15",null,"15",null,null,"1521-021","ニット製衣服",null,null,1125,849,9226,3279,2235,1650,1617,33,585,7,345,340,5,228,58,170,5,1044,75,11,64,969,10,28,49,33,177,264,397,11,3788,2159,1216,646,637,523,205,10,32,229,43,1,3,114,103,91,7,3,2,11,9,2,9,568,210,138,16,16,40,108,70,14,44,16,106,2,943,111,186,120,178,60,288]
["15",null,"16",null,null,"1522-099","その他の衣服・身の回り品",null,null,9,7,1505,28,13,9,9,0,4,0,2,2,0,2,1,1,0,15,2,0,2,13,0,1,1,1,2,3,5,0,33,1444,1107,254,254,215,81,3,14,99,16,1,1,39,34,28,4,1,1,5,4,1,0,852,191,175,0,16,0,109,339,65,18,130,0,1,337,24,53,21,46,33,160]
["15",null,"17",null,null,"1529-011","寝具",null,null,193,145,10321,9673,5251,3353,3261,92,1898,22,1128,1106,22,728,216,512,20,4422,394,39,355,4028,35,130,188,141,690,1155,1627,62,648,0,0,0,0,0,0,0,0,0,0,0,0,0,0,0,0,0,0,0,0,0,0,0,0,0,0,0,0,0,0,0,0,0,0,0,0,0,0,0,0,0,0]
["15",null,"18",null,null,"1529-021","じゅうたん・床敷物",null,null,455,344,44401,42868,19001,11277,10965,312,7724,96,5151,5151,0,2382,848,1534,95,23867,811,0,811,23056,71,829,149,494,7385,651,13404,73,1533,0,0,0,0,0,0,0,0,0,0,0,0,0,0,0,0,0,0,0,0,0,0,0,0,0,0,0,0,0,0,0,0,0,0,0,0,0,0,0,0,0,0]
["15",null,"19",null,null,"1529-099","その他の繊維既製品",null,null,320,241,90220,58237,16859,5861,5804,57,10998,128,6711,6664,47,3986,1164,2822,173,41378,1657,101,1556,39721,189,1160,910,1532,11417,5502,18887,124,1078,30905,16963,7314,7214,5936,2320,115,366,2600,493,13,29,1278,1157,1027,76,34,20,121,102,19,100,6623,2438,1605,183,182,468,1267,822,164,510,186,1236,3026,13942,1664,4009,1054,2447,823,3945]
["16",null,"20",null,null,"1611-011","製材",null,null,9919,7485,502407,453844,381378,348323,340606,7717,33055,220,12758,12400,358,19202,1204,17998,875,72466,42682,3504,39178,29784,180,885,990,2139,8029,4941,12407,213,33395,15168,7785,5719,5232,4750,1198,27,338,664,2500,9,14,482,429,410,17,0,2,53,44,9,487,1134,276,114,1,11,150,166,143,4,159,94,292,932,7383,1719,1893,909,470,179,2213]
["16",null,"21",null,null,"1611-011-2","製材・屑投入",null,null,0,0,199,0,0,0,0,0,0,0,0,0,0,0,0,0,0,0,0,0,0,0,0,0,0,0,0,0,0,0,0,199,186,63,62,51,20,1,3,23,4,0,0,11,10,9,1,0,0,1,1,0,1,37,13,8,1,1,3,7,5,1,3,1,7,86,13,0,0,0,4,1,8]
["16",null,"22",null,null,"1611-021","合板・集成材",null,null,20047,15127,355872,276690,212394,168972,159615,9357,43422,88,19056,18856,200,23989,1849,22140,289,64296,15092,2515,12577,49204,414,1249,2833,3483,15359,11351,14397,118,67493,11689,2178,1739,1738,126,10,0,9,107,0,0,0,1612,1610,1610,0,0,0,2,2,0,1,273,4,2,0,0,2,121,22,0,3,121,2,166,9511,1612,421,175,937,779,5587]
["16",null,"23",null,null,"1611-031","木材チップ",null,null,0,0,35,0,0,0,0,0,0,0,0,0,0,0,0,0,0,0,0,0,0,0,0,0,0,0,0,0,0,0,0,35,35,0,0,0,0,0,0,0,0,0,0,0,0,0,0,0,0,0,0,0,0,0,0,0,0,0,0,0,0,0,0,0,0,35,0,0,0,0,0,0,0]
["16",null,"24",null,null,"1619-099","その他の木製品",null,null,16188,12214,1039846,964081,857098,634660,614315,20345,222438,1107,78200,76186,2014,141320,15425,125895,1811,106983,15725,641,15084,91258,100,2870,821,8666,28378,3964,46297,162,54496,21269,9214,1598,1598,1570,1563,0,7,0,0,0,0,28,0,0,0,0,0,28,23,5,0,5099,411,375,0,36,0,1060,2343,4,4,1190,87,2517,12055,2133,1900,99,339,36,7548]
["16",null,"25",null,null,"1621-011","木製家具",null,null,26250,19808,185422,96432,74044,56259,55451,808,17785,168,8849,8699,150,8620,656,7964,148,22388,4413,18,4395,17975,48,513,200,592,7505,1447,7662,8,88373,617,205,102,101,84,32,2,5,37,7,0,1,17,16,14,1,1,0,1,1,0,1,101,37,24,3,3,7,19,13,2,8,3,19,2,412,91,107,54,54,18,88]
["16",null,"26",null,null,"1621-021","金属製家具",null,null,384,290,21669,19623,10190,7868,7868,0,2322,28,1947,1947,0,299,299,0,48,9433,325,2,323,9108,50,338,105,358,3545,935,3770,7,1293,753,285,135,133,109,42,2,7,48,9,0,1,24,21,18,1,1,1,3,2,1,2,148,55,36,4,4,11,28,19,4,11,4,27,2,468,107,111,65,63,21,101]
["16",null,"27",null,null,"1621-031","木製建具",null,null,32435,24475,261234,151860,128498,86518,85274,1244,41980,245,20793,20395,398,20786,3270,17516,156,23362,9488,86,9402,13874,87,347,220,1144,4587,1371,5809,309,109195,179,179,0,0,0,0,0,0,0,0,0,0,0,0,0,0,0,0,0,0,0,0,0,0,0,0,0,0,0,0,0,0,0,0,179,0,0,0,0,0,0,0]
["16",null,"28",null,null,"1621-099","その他の家具・装備品",null,null,5582,4212,39784,20612,13487,8421,8255,166,5066,58,2988,2945,43,1976,502,1474,44,7125,892,136,756,6233,66,182,315,212,1136,1699,2551,72,18792,380,154,73,72,59,23,1,4,26,5,0,0,13,12,10,1,1,0,1,1,0,1,80,29,19,2,2,6,16,10,2,6,2,15,1,226,48,56,33,30,10,49]
["16",null,"29",null,null,"1632-011","洋紙・和紙",null,null,29,22,730,632,594,455,451,4,139,1,75,74,1,62,12,50,1,38,16,0,16,22,0,0,0,0,10,0,12,0,98,0,0,0,0,0,0,0,0,0,0,0,0,0,0,0,0,0,0,0,0,0,0,0,0,0,0,0,0,0,0,0,0,0,0,0,0,0,0,0,0,0,0]
["16",null,"30",null,null,"1632-021","板紙",null,null,0,0,635,635,138,5,5,0,133,5,103,103,0,25,20,5,0,497,5,0,5,492,4,27,3,20,109,110,214,5,0,0,0,0,0,0,0,0,0,0,0,0,0,0,0,0,0,0,0,0,0,0,0,0,0,0,0,0,0,0,0,0,0,0,0,0,0,0,0,0,0,0,0]
["16",null,"31",null,null,"1633-021","塗工紙・建設用加工紙",null,null,13775,10394,185428,139029,121471,90564,89118,1446,30907,223,16106,15748,358,14222,2988,11234,356,17558,3359,131,3228,14199,28,320,172,228,3430,1628,8340,53,46377,22,12,0,0,0,0,0,0,0,0,0,0,0,0,0,0,0,0,0,0,0,0,10,4,3,0,0,1,2,1,0,1,0,2,2,10,2,2,6,0,0,0]
["16",null,"32",null,null,"1649-099","その他のパルプ・紙・紙加工品",null,null,3137,2367,11322,755,384,123,110,13,261,2,243,243,0,15,13,2,1,371,37,3,34,334,2,10,10,18,68,86,137,3,10563,4,4,0,0,0,0,0,0,0,0,0,0,0,0,0,0,0,0,0,0,0,0,0,0,0,0,0,0,0,0,0,0,0,0,4,0,0,0,0,0,0,0]
["39",null,"33",null,null,"1911-011","印刷・製版・製本",null,null,2535,1913,32437,16545,5782,2050,2010,40,3732,43,2201,2169,32,1455,369,1086,33,10763,187,28,159,10576,111,308,535,361,1928,2882,4329,122,8534,7358,5060,2102,2043,1562,660,28,120,636,111,3,4,481,418,355,37,3,23,63,35,28,59,2859,1101,537,412,29,123,57,140,35,20,2,1504,99,2298,401,492,207,407,136,655]
["20",null,"34",null,null,"2011-011","化学肥料",null,null,0,0,4778,0,0,0,0,0,0,0,0,0,0,0,0,0,0,0,0,0,0,0,0,0,0,0,0,0,0,0,0,4778,2939,1297,1272,896,693,8,37,139,19,0,0,376,355,123,160,72,0,21,18,3,25,1098,78,61,15,0,2,706,166,14,31,101,2,544,1839,782,156,99,360,18,424]
["20",null,"35",null,null,"2021-011","ソーダ工業製品",null,null,0,0,484,0,0,0,0,0,0,0,0,0,0,0,0,0,0,0,0,0,0,0,0,0,0,0,0,0,0,0,0,484,275,150,147,102,79,1,4,16,2,0,0,45,42,15,19,8,0,3,2,1,3,125,8,6,2,0,0,78,19,2,7,11,0,0,209,111,24,18,25,1,30]
["20",null,"36",null,null,"2029-011","無機顔料",null,null,17,13,945,277,184,142,142,0,42,1,33,33,0,7,7,0,1,93,5,1,4,88,1,1,5,2,14,28,37,0,57,611,386,335,329,231,178,2,10,36,5,0,0,98,92,32,41,19,0,6,5,1,6,51,3,2,1,0,0,30,7,1,5,5,0,0,225,89,47,19,31,2,37]
["20",null,"37",null,null,"2029-021","圧縮ガス・液化ガス",null,null,0,0,13282,3473,1244,209,205,4,1035,12,975,975,0,45,45,0,3,2229,55,8,47,2174,31,50,156,107,572,617,639,2,0,9809,5932,2771,2717,1912,1478,17,78,297,40,1,1,805,759,262,342,155,0,46,38,8,54,2019,138,107,27,1,3,1248,297,25,127,180,4,1142,3877,1270,491,182,868,42,1024]
["20",null,"38",null,null,"2029-099","その他の無機化学工業製品",null,null,1142,862,10819,1049,653,495,485,10,158,2,93,91,2,61,15,46,2,396,33,5,28,363,4,10,18,12,67,99,149,4,3846,5924,2792,688,678,558,218,10,34,245,47,2,2,120,108,96,7,3,2,12,10,2,10,1498,0,0,0,0,0,1033,0,0,465,0,0,606,3132,1733,622,418,122,41,196]
["20",null,"39",null,null,"2041-021","環式中間物・合成染料・有機顔料",null,null,21,17,99,27,25,23,23,0,2,0,1,1,0,1,0,1,0,2,2,0,2,0,0,0,0,0,0,0,0,0,72,0,0,0,0,0,0,0,0,0,0,0,0,0,0,0,0,0,0,0,0,0,0,0,0,0,0,0,0,0,0,0,0,0,0,0,0,0,0,0,0,0,0]
["20",null,"40",null,null,"2042-011","合成ゴム",null,null,0,0,2,0,0,0,0,0,0,0,0,0,0,0,0,0,0,0,0,0,0,0,0,0,0,0,0,0,0,0,0,2,2,0,0,0,0,0,0,0,0,0,0,0,0,0,0,0,0,0,0,0,0,0,0,0,0,0,0,0,0,0,0,0,0,2,0,0,0,0,0,0,0]
["20",null,"41",null,null,"2049-099","その他の有機化学工業製品",null,null,635,479,3904,1763,1572,1285,1262,23,287,0,0,0,0,287,0,287,0,191,191,51,140,0,0,0,0,0,0,0,0,0,2139,2,2,0,0,0,0,0,0,0,0,0,0,0,0,0,0,0,0,0,0,0,0,0,0,0,0,0,0,0,0,0,0,0,0,2,0,0,0,0,0,0,0]
["20",null,"42",null,null,"2081-012","石けん・合成洗剤",null,null,20,15,672,382,203,137,134,3,66,1,39,38,1,25,6,19,1,179,14,2,12,165,2,5,8,6,30,45,67,2,69,221,138,69,68,56,21,1,3,26,5,0,0,12,11,10,1,0,0,1,1,0,1,67,25,16,2,2,5,13,8,2,5,2,12,2,83,14,22,5,14,5,23]
["20",null,"43",null,null,"2081-013","界面活性剤（石けん・合成洗剤を除く。）",null,null,78,59,7345,5179,2682,1568,1537,31,1114,13,657,647,10,434,110,324,10,2497,256,39,217,2241,24,65,113,76,409,611,918,25,263,1903,1404,167,165,135,53,2,8,60,11,0,1,30,27,23,2,1,1,3,2,1,2,356,132,87,10,10,25,68,44,9,27,10,66,881,499,111,87,3,101,34,163]
["20",null,"44",null,null,"2083-011","塗料",null,null,19169,14465,209187,126457,75876,43958,42814,1144,31918,242,25877,25173,704,5549,3108,2441,250,50581,2919,199,2720,47662,581,1024,2797,1607,6597,17453,17377,226,64534,18196,15108,12082,12032,10069,328,27,1101,8539,72,1,1,1963,1703,680,441,578,4,260,216,44,50,2088,283,189,62,1,31,386,176,125,259,278,581,938,3088,674,266,117,120,32,1879]
["20",null,"45",null,null,"2089-011","ゼラチン・接着剤",null,null,131,99,35538,32331,23282,15817,15337,480,7465,40,2851,2773,78,4493,559,3934,81,9049,1071,67,1004,7978,38,215,172,334,1974,1101,4125,19,440,2767,1648,80,78,69,26,0,11,32,0,0,0,9,0,0,0,0,0,9,7,2,2,1521,762,517,0,245,0,330,206,0,11,5,207,47,1119,96,101,64,334,21,503]
["20",null,"46",null,null,"2089-099","他に分類されない化学最終製品",null,null,22,16,17782,1862,1341,932,914,18,409,5,241,238,3,160,41,119,3,521,72,11,61,449,5,13,23,16,82,122,183,5,73,15847,3632,1841,1834,178,66,0,29,83,0,0,0,1656,1602,1602,0,0,0,54,45,9,7,596,294,196,6,92,0,128,78,0,15,2,79,1195,12215,1105,1166,254,5559,1545,2586]
["21",null,"47",null,null,"2111-011","ガソリン",null,null,1572,1186,18466,8562,3312,1134,1112,22,2178,24,1286,1267,19,849,216,633,19,5250,171,26,145,5079,53,148,257,173,926,1385,2079,58,5292,4612,3757,2007,1993,1699,358,7,22,1270,40,1,1,294,269,258,5,5,1,25,21,4,14,1556,228,173,15,9,31,107,37,7,132,13,1032,194,855,94,167,45,75,181,293]
["21",null,"48",null,null,"2111-013","灯油",null,null,885,668,10663,6476,3362,2086,2036,50,1276,15,802,790,12,448,165,283,11,3114,252,25,227,2862,25,95,138,102,487,820,1159,36,2980,1207,1105,288,287,227,83,6,31,92,13,1,1,60,50,43,4,0,3,10,6,4,1,667,415,179,24,13,199,21,22,3,8,1,197,150,102,7,10,7,1,38,39]
["21",null,"49",null,null,"2111-014","軽油",null,null,3598,2715,151592,11633,3445,1240,1218,22,2205,24,1663,1653,10,511,215,296,7,8188,249,85,164,7939,91,136,529,256,1229,3155,2498,45,12112,127847,98421,43539,42877,33386,20644,282,1272,9765,1328,57,38,9491,8833,8687,87,20,39,658,547,111,662,35285,15548,12284,638,571,2055,2045,1877,378,2634,372,12431,19597,29426,4537,4720,608,1494,8374,9693]
["21",null,"50",null,null,"2111-015","Ａ重油",null,null,1721,1298,16286,6062,1823,443,435,8,1380,16,814,802,12,538,136,402,12,4239,59,9,50,4180,44,122,211,143,762,1139,1711,48,5794,4430,3145,60,60,50,10,0,16,23,1,0,0,10,7,6,1,0,0,3,2,1,0,3032,285,210,9,62,4,0,2683,1,0,0,63,53,1285,87,142,4,0,514,538]
["21",null,"51",null,null,"2111-016","Ｂ重油・Ｃ重油",null,null,42,32,267,108,23,8,8,0,15,0,10,10,0,5,1,4,0,85,0,0,0,85,1,3,4,3,15,23,35,1,142,17,14,9,9,8,2,0,4,2,0,0,0,1,1,1,0,0,0,0,0,0,0,4,0,0,0,0,0,0,0,0,0,0,4,1,3,1,0,0,0,1,1]
["21",null,"52",null,null,"2111-018","液化石油ガス",null,null,34,26,481,194,62,30,29,1,32,0,20,20,0,12,3,9,0,132,5,1,4,127,2,4,6,4,23,35,51,2,115,172,108,105,71,57,0,54,0,0,0,0,3,14,0,0,0,0,0,14,12,2,34,1,0,0,0,0,0,0,1,0,0,0,0,2,64,1,10,52,0,1,0]
["21",null,"53",null,null,"2111-019","その他の石油製品",null,null,547,413,39581,25890,8784,160,160,0,8624,81,7334,7334,0,1094,1058,36,115,17106,122,85,37,16984,251,532,861,1221,5098,3132,5802,87,1841,11850,9480,7146,6912,6098,1686,79,270,3543,420,79,21,814,704,628,64,0,12,110,91,19,234,2027,213,150,20,5,38,15,339,54,6,11,1389,307,2370,484,178,157,61,336,1154]
["21",null,"54",null,null,"2121-019","その他の石炭製品",null,null,99,74,331,0,0,0,0,0,0,0,0,0,0,0,0,0,0,0,0,0,0,0,0,0,0,0,0,0,0,0,331,0,0,0,0,0,0,0,0,0,0,0,0,0,0,0,0,0,0,0,0,0,0,0,0,0,0,0,0,0,0,0,0,0,0,0,0,0,0,0,0,0,0]
["21",null,"55",null,null,"2121-021","舗装材料",null,null,0,0,481896,25624,3103,3,0,3,3100,23,2122,2105,17,950,286,664,5,22521,328,261,67,22193,393,89,1558,328,1696,13716,4226,187,0,456272,356316,275532,271863,221408,42444,11088,1998,149547,14616,1704,11,50455,45369,42274,1406,1598,91,5086,4225,861,3669,72100,12275,9956,1077,829,413,26108,9783,8770,4358,9125,1681,8684,99956,1938,13199,1037,10876,6607,66299]
["22",null,"56",null,null,"2211-011","プラスチックフィルム・シート",null,null,6245,4712,170961,106054,42660,21497,21044,453,21163,145,13702,13191,511,7078,3196,3882,238,63394,2817,284,2533,60577,370,1406,1449,2691,13663,11741,29069,188,21023,43884,21045,7334,7302,5562,1462,427,142,3248,269,7,7,1740,1650,1634,6,1,9,90,75,15,32,12249,3978,3103,110,486,279,853,1384,80,174,2211,3569,1462,22839,3064,3607,975,723,2370,12100]
["22",null,"57",null,null,"2211-012","プラスチック板・管・棒",null,null,13393,10107,235145,94656,72129,45928,45151,777,26201,525,17169,17016,153,8296,2466,5830,211,22527,2041,100,1941,20486,165,765,626,748,3736,6182,8060,204,45091,95398,67394,20175,19173,12663,5743,1229,384,4768,441,96,2,6510,6189,6173,4,12,0,321,267,54,1002,42637,1487,246,156,251,834,33364,1175,9,5587,350,665,4582,28004,1926,3105,5142,7401,1593,8837]
["22",null,"58",null,null,"2211-013","プラスチック発泡製品",null,null,17733,13381,136351,55747,35516,24452,24163,289,11064,129,8964,8958,6,1791,1496,295,180,20231,565,22,543,19666,150,546,708,537,4378,5196,8073,78,59700,20904,10234,1694,1693,1620,1126,10,25,453,3,1,2,73,43,0,43,0,0,30,25,5,1,8205,3281,2882,280,31,88,318,1267,163,53,137,2986,335,10670,973,1971,1766,82,898,4980]
["22",null,"59",null,null,"2211-015","強化プラスチック製品",null,null,1650,1245,148234,97396,52053,27533,27010,523,24520,244,13458,13290,168,10627,1293,9334,191,45343,1632,145,1487,43711,214,1418,709,867,11931,10390,17869,313,5556,45282,32190,7046,6637,2270,2016,1,95,65,92,0,1,4367,4239,3288,951,0,0,128,106,22,409,20243,2242,1499,101,0,642,11292,992,297,1891,73,3456,4901,13092,1938,2513,2849,1773,614,3405]
["22",null,"60",null,null,"2211-017","プラスチック製日用雑貨・食卓用品",null,null,20,15,3844,3623,2735,1793,1685,108,942,8,396,372,24,518,71,447,20,888,34,3,31,854,7,28,37,30,152,232,335,33,69,152,93,37,36,33,15,1,3,14,0,0,0,3,2,1,1,0,0,1,1,0,1,55,0,0,0,0,0,0,0,0,0,0,55,1,59,10,13,4,24,8,0]
["22",null,"61",null,null,"2211-019","その他のプラスチック製品",null,null,8670,6542,105542,24585,17910,7825,7641,184,10085,84,4422,4302,120,5528,848,4680,51,6675,748,82,666,5927,45,153,188,172,608,2004,2707,50,29189,51768,29543,10817,10763,3222,722,25,266,1328,845,15,21,7541,7488,7457,22,6,3,53,44,9,54,15078,1443,1205,45,72,121,8258,1394,43,1411,1820,709,3648,22225,6158,5915,1755,2980,909,4508]
["22",null,"62",null,null,"2211-019-3","その他のプラスチック製品・屑発生",null,null,0,0,-680,0,0,0,0,0,0,0,0,0,0,0,0,0,0,0,0,0,0,0,0,0,0,0,0,0,0,0,0,-680,0,0,0,0,0,0,0,0,0,0,0,0,0,0,0,0,0,0,0,0,0,0,0,0,0,0,0,0,0,0,0,0,0,0,-680,0,-483,-197,0,0,0]
["22",null,"63",null,null,"2229-091","ゴム製・プラスチック製履物",null,null,152,115,1612,499,237,189,185,4,48,1,27,26,1,19,5,14,1,262,30,4,26,232,2,6,11,8,42,64,96,3,512,601,307,232,229,188,73,4,11,82,16,1,1,41,36,32,2,1,1,5,4,1,3,73,26,17,2,2,5,14,9,2,6,2,14,2,294,48,106,43,33,11,53]
["22",null,"64",null,null,"2229-099","他に分類されないゴム製品",null,null,681,513,88850,8478,3905,1250,1190,60,2655,25,1871,1863,8,742,314,428,17,4573,76,9,67,4497,34,171,60,250,1316,762,1873,31,2291,78081,46496,26756,26546,18424,212,1783,4674,11542,20,0,193,8122,7687,7466,1,0,220,435,361,74,210,18433,3608,2987,139,478,4,3084,10753,15,331,572,70,1307,31585,6878,1555,881,8834,1117,12320]
["39",null,"65",null,null,"2311-011","革製履物",null,null,27,20,438,42,21,13,13,0,8,0,5,5,0,3,1,2,0,21,5,1,4,16,0,1,1,1,3,4,6,0,91,305,51,37,36,29,12,1,2,12,2,0,0,7,6,5,1,0,0,1,1,0,1,13,6,5,0,0,1,2,2,0,1,0,2,1,254,12,2,2,81,27,130]
[{"$f":"+IF(OR(LEFT(F71,2)=\"19\",LEFT(F71,2)=\"23\"),\"39\",LEFT(F71,2))","v":"39"},null,"66",null,null,"2312-011","なめし革・革製品・毛皮（革製履物を除く。）",null,null,21,15,303,44,20,11,11,0,9,0,6,6,0,3,1,2,0,24,2,0,2,22,0,1,1,1,4,6,9,0,69,190,81,38,37,30,12,1,2,13,2,0,0,7,6,5,1,0,0,1,1,0,1,42,16,11,1,1,3,8,5,1,3,1,8,1,109,4,3,3,34,11,54]
["25",null,"67",null,null,"2511-011","板ガラス・安全ガラス",null,null,5881,4438,83525,63025,22744,12868,12839,29,9876,50,4138,4086,52,5607,662,4945,81,40281,1297,30,1267,38984,161,1229,457,1420,7184,3600,24605,328,19803,697,330,176,176,149,12,122,0,15,0,0,0,27,0,0,0,0,0,27,23,4,0,154,0,0,0,0,0,0,150,0,0,4,0,0,367,93,164,7,0,45,58]
["25",null,"68",null,null,"2511-021","ガラス繊維・同製品",null,null,262,198,33563,32681,20833,16905,16486,419,3928,30,1539,1309,230,2314,282,2032,45,11848,1339,86,1253,10509,109,381,306,288,1988,2989,4382,66,882,0,0,0,0,0,0,0,0,0,0,0,0,0,0,0,0,0,0,0,0,0,0,0,0,0,0,0,0,0,0,0,0,0,0,0,0,0,0,0,0,0,0]
["25",null,"69",null,null,"2511-099","他に分類されないガラス製品",null,null,106,80,2569,2206,878,686,686,0,192,2,164,164,0,23,23,0,3,1328,57,2,55,1271,2,55,8,114,233,60,788,11,357,6,6,0,0,0,0,0,0,0,0,0,0,0,0,0,0,0,0,0,0,0,0,0,0,0,0,0,0,0,0,0,0,0,0,6,0,0,0,0,0,0,0]
["25",null,"70",null,null,"2521-011","セメント",null,null,500,377,68103,13080,6676,5074,5036,38,1602,14,1055,1033,22,523,123,400,10,6404,1533,286,1247,4871,54,99,207,155,588,1660,2086,22,1681,53342,31517,21367,21331,20883,12106,5871,662,2043,191,1,9,448,77,64,12,1,0,371,308,63,36,5806,2752,1562,83,12,1095,475,911,568,716,266,118,4344,21825,3637,2844,291,1479,3099,10475]
["25",null,"71",null,null,"2521-021","生コンクリート",null,null,50432,38055,1184455,551002,259233,109722,107813,1909,149511,1476,116594,115709,885,30815,11926,18889,626,291769,14425,4511,9914,277344,3583,5066,26198,9451,50323,97952,84114,657,169786,463667,343895,143787,142956,86859,43116,777,13171,23870,5470,28,427,56097,53715,51704,1543,46,422,2382,1979,403,831,163227,76292,23059,4804,11638,36791,18349,25745,858,6721,536,34726,36881,119772,19022,19523,1964,14200,14713,50350]
["25",null,"72",null,null,"2521-031","セメント製品",null,null,55208,41659,1061198,343183,184488,108648,105514,3134,75840,302,48276,44041,4235,26845,6208,20637,417,158695,9506,859,8647,149189,2072,3121,6801,5265,17444,61394,52665,427,185867,532148,380726,152708,145983,133885,80851,849,2704,10180,38848,279,174,12098,10050,10015,23,2,10,2048,1701,347,6725,192268,75054,60613,2954,3845,7642,43725,15929,1011,8013,5513,43023,35750,151422,28156,13344,7075,36407,27726,38714]
["25",null,"73",null,null,"2531-011","建設用陶磁器",null,null,426,321,165524,162146,102814,74545,73491,1054,28269,219,13245,13071,174,14711,1587,13124,94,59332,5123,96,5027,54209,149,2545,535,3166,16352,5540,25165,757,1435,1943,1498,835,835,0,0,0,0,0,0,0,0,835,0,0,0,0,0,835,694,141,0,363,7,7,0,0,0,0,2,0,0,354,0,300,445,55,20,5,1,161,203]
["25",null,"74",null,null,"2531-012","工業用陶磁器",null,null,1646,1242,16695,254,18,9,9,0,9,1,5,5,0,3,3,0,0,236,5,0,5,231,1,6,4,7,39,56,111,7,5540,10901,1481,400,400,0,0,0,0,0,0,0,0,400,0,0,0,0,0,400,332,68,0,942,20,20,0,0,0,0,47,0,0,875,0,139,9420,20,9262,106,0,14,18]
["25",null,"75",null,null,"2531-013","日用陶磁器",null,null,64,48,541,326,326,192,188,4,134,1,79,78,1,53,14,39,1,0,0,0,0,0,0,0,0,0,0,0,0,0,215,0,0,0,0,0,0,0,0,0,0,0,0,0,0,0,0,0,0,0,0,0,0,0,0,0,0,0,0,0,0,0,0,0,0,0,0,0,0,0,0,0,0]
["25",null,"76",null,null,"2591-011","耐火物",null,null,26942,20330,138610,8103,259,0,0,0,259,3,153,151,2,101,26,75,2,7844,0,0,0,7844,82,228,397,268,1430,2138,3211,90,90702,39805,3186,942,929,765,299,15,47,334,64,2,4,164,149,132,10,5,2,15,13,2,13,2244,827,544,62,62,159,429,279,55,172,63,419,0,36619,159,5,65,12340,4154,19896]
["25",null,"77",null,null,"2591-099","その他の建設用土石製品",null,null,9410,7100,131976,78434,48672,34175,33904,271,14497,104,7918,7790,128,6261,1576,4685,214,29762,4395,305,4090,25367,131,599,664,826,5632,4242,13082,191,31678,21864,15593,3465,3311,3034,1843,19,64,238,861,6,3,277,230,229,1,0,0,47,39,8,154,11161,4177,3355,162,211,449,2555,893,55,584,543,2354,967,6271,3118,547,224,845,641,896]
["25",null,"78",null,null,"2599-011","炭素・黒鉛製品",null,null,0,0,12,0,0,0,0,0,0,0,0,0,0,0,0,0,0,0,0,0,0,0,0,0,0,0,0,0,0,0,0,12,12,12,12,10,4,0,1,4,1,0,0,2,2,2,0,0,0,0,0,0,0,0,0,0,0,0,0,0,0,0,0,0,0,0,0,0,0,0,0,0,0]
["25",null,"79",null,null,"2599-099","その他の窯業・土石製品",null,null,4615,3482,387091,151266,45342,21584,21215,369,23758,178,15573,15508,65,7835,3500,4335,172,105924,10949,3286,7663,94975,849,2182,2949,1894,10789,34895,40977,440,15535,220290,136277,50166,48133,47146,38166,1220,471,1825,5266,157,41,987,46,40,5,0,1,941,782,159,2033,63163,13009,7207,445,3826,1531,3811,34063,253,3520,1092,7415,22948,84013,10206,4790,431,7838,16511,44237]
["25",null,"80",null,null,"2599-099-2","その他の窯業・土石製品・屑投入",null,null,0,0,9788,0,0,0,0,0,0,0,0,0,0,0,0,0,0,0,0,0,0,0,0,0,0,0,0,0,0,0,0,9788,9365,8898,8776,7221,2822,139,445,3164,600,16,35,1555,1408,1249,92,42,25,147,124,23,122,467,172,113,13,13,33,89,58,12,36,13,87,0,423,0,0,0,143,48,232]
["26",null,"81",null,null,"2612-011-3","鉄屑・屑発生",null,null,-828,-625,-4412,0,0,0,0,0,0,0,0,0,0,0,0,0,0,0,0,0,0,0,0,0,0,0,0,0,0,0,-2788,-1624,-1047,-611,-603,-495,-194,-10,-31,-217,-41,0,-2,-108,-97,-86,-6,-3,-2,-11,-9,-2,-8,-435,-160,-105,-12,-12,-31,-83,-54,-12,-33,-12,-81,-1,-577,-317,-58,-92,-37,-13,-60]
["26",null,"82",null,null,"2621-011","熱間圧延鋼材",null,null,10411,7856,733032,390596,206957,39623,38892,731,167334,833,68070,67674,396,98221,3826,94395,210,183639,4940,1581,3359,178699,2082,3587,13251,7948,42715,54166,54549,401,35049,307387,158394,86559,86467,42762,22129,315,12929,6862,225,20,282,43705,42191,39868,2,2321,0,1514,1258,256,92,62665,11431,6969,3572,390,500,6444,15631,2176,25813,102,1068,9170,148993,66391,22333,1479,11056,3039,44695]
["26",null,"83",null,null,"2622-011","鋼管",null,null,5495,4147,259697,119607,62567,30717,30226,491,31850,670,25852,25681,171,5139,2938,2201,189,57040,2165,120,2045,54875,310,3078,1296,1856,11238,12977,23484,636,18500,121590,54256,14303,13705,9622,3247,11,1537,3126,1095,1,605,4083,3834,3834,0,0,0,249,207,42,598,26447,19606,16987,160,1546,913,2556,3171,70,168,40,836,13506,67334,4659,8265,1960,17340,131,34979]
["26",null,"84",null,null,"2623-011","冷間仕上鋼材",null,null,838,633,40609,2534,1007,269,266,3,738,17,569,565,4,145,86,59,7,1527,57,6,51,1470,6,52,34,63,307,292,679,37,2823,35252,15200,11106,11080,4088,2126,1,1909,0,0,0,52,6992,6838,6650,0,188,0,154,128,26,26,3990,1208,158,116,142,792,159,954,9,1121,9,530,104,20052,4513,3310,743,128,143,11215]
["26",null,"85",null,null,"2623-021","めっき鋼材",null,null,22273,16806,132463,38650,12326,2531,2471,60,9795,170,7154,7105,49,2417,1127,1290,54,26324,326,9,317,25998,321,1031,1149,937,4050,7553,10706,251,74985,18828,8663,2697,2685,2614,1968,0,646,0,0,0,0,71,2,2,0,0,0,69,57,12,12,3487,748,303,139,0,306,172,1260,0,1216,18,73,2479,10165,2145,3171,270,318,54,4207]
["26",null,"86",null,null,"2631-011","鋳鍛鋼",null,null,0,0,9435,1024,543,87,85,2,456,6,269,265,4,177,45,132,4,481,45,7,38,436,5,13,22,15,79,119,178,5,0,8411,4365,3455,3408,2806,1096,54,173,1229,233,7,14,602,545,485,35,16,9,57,48,9,47,828,305,200,23,23,59,159,103,20,64,23,154,82,4046,3166,164,126,200,67,323]
["26",null,"87",null,null,"2631-021","鋳鉄管",null,null,732,552,70150,6751,4906,3449,3408,41,1457,31,1047,1037,10,375,111,264,4,1845,245,9,236,1600,7,99,10,61,392,328,687,16,2462,60937,9146,1125,1125,1107,0,0,116,991,0,0,0,18,0,0,0,0,0,18,15,3,0,3823,368,368,0,0,0,2396,80,264,715,0,0,4198,51791,867,2312,89,48072,346,105]
["26",null,"88",null,null,"2631-031","鋳鉄品・鍛工品（鉄）",null,null,0,0,16,5,2,1,1,0,1,0,1,1,0,0,0,0,0,3,1,0,1,2,0,0,0,0,0,1,1,0,0,11,2,1,1,1,0,0,0,1,0,0,0,0,0,0,0,0,0,0,0,0,0,1,0,0,0,0,0,1,0,0,0,0,0,0,9,1,3,4,1,0,0]
["26",null,"89",null,null,"2699-011","鉄鋼シャースリット業",null,null,1068,805,10270,3670,1672,953,934,19,719,8,424,417,7,280,71,209,7,1998,158,24,134,1840,20,53,93,63,335,502,752,22,3594,3006,2836,2485,2451,2017,788,38,125,884,168,5,9,434,392,349,25,11,7,42,35,7,34,351,129,86,9,9,25,67,44,8,27,10,66,0,170,57,29,13,24,8,39]
["26",null,"90",null,null,"2699-099","その他の鉄鋼製品",null,null,797,602,8084,3339,2215,955,936,19,1260,14,743,732,11,492,125,367,11,1124,106,16,90,1018,11,30,52,34,186,277,416,12,2686,2059,1466,512,505,415,163,8,25,182,34,1,2,90,82,72,5,3,2,8,7,1,7,659,244,161,18,18,47,126,81,16,51,18,123,295,593,145,156,21,92,31,148]
["27",null,"91",null,null,"2711-021","鉛・亜鉛（再生を含む。）",null,null,0,0,2902,2902,0,0,0,0,0,0,0,0,0,0,0,0,0,2902,0,0,0,2902,30,84,147,99,529,791,1188,34,0,0,0,0,0,0,0,0,0,0,0,0,0,0,0,0,0,0,0,0,0,0,0,0,0,0,0,0,0,0,0,0,0,0,0,0,0,0,0,0,0,0,0]
["27",null,"92",null,null,"2712-011-3","非鉄金属屑・屑発生",null,null,0,0,-169,0,0,0,0,0,0,0,0,0,0,0,0,0,0,0,0,0,0,0,0,0,0,0,0,0,0,0,0,-169,-75,-19,-18,-15,-6,0,-1,-7,-1,0,0,-3,-3,-3,0,0,0,0,0,0,-1,-56,-22,-14,-2,-2,-4,-11,-7,0,-4,-2,-10,0,-94,-37,-1,0,-19,-6,-31]
["27",null,"93",null,null,"2721-011","電線・ケーブル",null,null,15956,12040,414147,113274,54203,25243,24994,249,28960,842,18845,18735,110,9032,4382,4650,241,59071,3585,275,3310,55486,286,1851,1724,1923,9361,17465,21782,1094,53716,247157,31519,16302,16021,14836,239,93,284,12979,1205,31,5,1185,0,0,0,0,0,1185,984,201,281,15009,5384,434,4931,19,0,3081,1341,93,3918,861,331,208,215638,66561,115683,18239,4282,1522,9351]
["27",null,"94",null,null,"2721-021","光ファイバケーブル",null,null,5510,4158,100613,39421,11998,4830,4735,95,7168,82,4228,4167,61,2795,710,2085,63,27423,547,83,464,26876,282,783,1358,916,4898,7325,11005,309,18550,42642,2512,1061,1061,0,0,0,0,0,0,0,0,1061,0,0,0,0,0,1061,882,179,0,1436,831,0,767,64,0,0,356,0,161,67,21,15,40130,1467,11815,23495,0,643,2710]
["27",null,"95",null,null,"2729-011","伸銅品",null,null,2762,2085,34607,24483,9389,2601,2573,28,6788,299,4787,4762,25,1668,1156,512,34,15094,457,18,439,14637,92,736,134,577,3314,3118,6459,207,9299,825,684,427,427,298,0,0,298,0,0,0,0,129,0,0,0,0,0,129,107,22,0,250,12,12,0,0,0,0,238,0,0,0,0,7,141,31,25,20,0,4,61]
["27",null,"96",null,null,"2729-021","アルミ圧延製品",null,null,0,0,7269,0,0,0,0,0,0,0,0,0,0,0,0,0,0,0,0,0,0,0,0,0,0,0,0,0,0,0,0,7269,4390,959,914,832,0,0,51,719,0,0,62,82,71,71,0,0,0,11,9,2,45,3141,342,296,11,35,0,1073,1126,0,220,52,328,290,2879,857,357,238,770,41,616]
["27",null,"97",null,null,"2729-099","その他の非鉄金属製品",null,null,3,2,11727,4467,2211,1501,1483,18,710,14,508,502,6,185,55,130,3,2256,245,9,236,2011,10,127,13,75,478,459,831,18,13,7247,4542,840,836,433,38,19,179,194,0,3,0,403,384,384,0,0,0,19,16,3,4,3193,1491,843,586,0,62,799,684,0,166,53,0,509,2705,689,301,229,529,60,897]
["28",null,"98",null,null,"2811-011","建設用金属製品",null,null,131660,99349,2507041,1112623,183169,17675,16461,1214,165494,3644,82761,82370,391,78148,54233,23915,941,929454,2953,229,2724,926501,12865,17629,41563,9297,40459,417133,383886,3669,443250,951168,385048,224242,221820,150923,35486,408,26255,57752,28975,76,1971,70897,67069,59143,4945,287,2694,3828,3180,648,2422,131755,62840,28553,12295,10610,11382,30040,20558,739,7564,4099,5915,29051,566120,51836,178292,22074,143088,5538,165292]
["28",null,"99",null,null,"2812-011","建築用金属製品",null,null,153926,116150,1781929,1210204,569140,277153,267015,10138,291987,1232,88231,86745,1486,201631,14072,187559,893,641064,49690,4661,45029,591374,5967,20756,21445,20675,116102,138967,263560,3902,518212,53513,29729,14040,14033,8126,7900,0,226,0,0,0,0,5907,5520,2233,3287,0,0,387,321,66,7,7695,3318,338,252,0,2728,1326,0,0,273,2599,179,7994,23784,1390,914,450,8404,785,11841]
["28",null,"100",null,null,"2891-011","ガス・石油機器・暖房・調理装置",null,null,54782,41338,344888,155565,69228,45508,45007,501,23720,742,15604,15556,48,7289,2450,4839,85,86337,2981,42,2939,83356,231,4283,314,3566,25796,6298,41147,1721,184431,4892,3736,242,238,195,76,4,12,86,16,0,1,43,38,33,3,1,1,5,4,1,4,2527,10,10,0,0,0,2400,0,0,90,27,0,967,1156,14,35,107,92,2,906]
["28",null,"101",null,null,"2899-011","ボルト・ナット・リベット・スプリング",null,null,75747,57158,383378,94249,48830,24746,24429,317,24084,196,11615,11514,101,12106,1733,10373,167,45419,3697,496,3201,41722,405,1219,1773,1490,7509,10964,18088,274,255015,34114,16413,9551,9474,8131,3394,6,1928,2368,388,0,47,1343,919,639,63,215,2,424,352,72,77,4489,2470,1322,239,15,894,734,937,34,156,54,104,2373,17701,5519,2658,3547,1452,282,4243]
["28",null,"102",null,null,"2899-021","金属製容器・製缶板金製品",null,null,9697,7317,48327,13189,2547,2047,2006,41,500,19,433,432,1,47,38,9,1,10642,873,133,740,9769,50,604,111,262,2355,2042,4195,150,32647,2491,2164,1237,1220,1004,392,19,62,441,83,2,5,216,195,173,13,5,4,21,17,4,17,779,287,188,22,22,55,149,97,19,60,22,145,148,327,42,18,23,83,28,133]
["28",null,"103",null,null,"2899-031","配管工事附属品",null,null,41281,31151,203065,49138,25476,13361,13205,156,12115,290,9193,9129,64,2584,1346,1238,48,23662,2379,77,2302,21283,114,1421,329,707,4797,4855,8838,222,138979,14948,9299,1189,1171,1145,8,1,49,1030,55,0,2,26,0,0,0,0,0,26,21,5,18,7802,944,872,61,11,0,5011,188,48,1031,231,349,308,5649,816,913,429,2671,51,769]
["28",null,"104",null,null,"2899-032","粉末や金製品",null,null,302,228,1806,355,200,54,53,1,146,2,87,86,1,56,14,42,1,155,1,0,1,154,2,5,7,6,28,42,62,2,1019,432,224,43,42,36,14,1,2,16,3,0,0,6,5,5,0,0,0,1,1,0,1,180,66,43,5,5,13,34,22,5,14,5,34,1,208,31,49,76,18,6,28]
["28",null,"105",null,null,"2899-033","刃物・道具類",null,null,139,105,21421,10288,4324,2341,2295,46,1983,22,1170,1153,17,774,197,577,17,5964,13,2,11,5951,62,173,301,203,1085,1622,2437,68,470,10663,5428,1970,1942,1868,1009,5,196,606,29,1,22,74,10,1,8,1,0,64,53,11,28,3444,945,801,24,20,100,713,1133,40,513,10,90,14,5235,980,1733,258,964,310,990]
["28",null,"106",null,null,"2899-099","その他の金属製品",null,null,23467,17708,309260,159013,93181,69576,66384,3192,23605,139,11661,10784,877,11646,2424,9222,159,65832,7387,646,6741,58445,556,1278,2074,2324,11608,15126,24865,614,79006,71241,49144,29160,29045,20417,14495,127,1326,4165,278,17,9,8628,8178,445,7707,26,0,450,374,76,115,16178,7810,4638,439,79,2654,2040,2654,195,430,208,2841,3806,22097,5044,3155,2958,2851,504,7585]
["29",null,"107",null,null,"2911-011","ボイラ",null,null,0,0,5603,5537,1368,67,65,2,1301,14,769,758,11,507,129,378,11,4169,12,2,10,4157,44,121,210,141,758,1133,1703,47,0,66,42,2,2,2,1,0,0,1,0,0,0,0,0,0,0,0,0,0,0,0,0,40,40,40,0,0,0,0,0,0,0,0,0,0,24,2,7,0,0,0,15]
["29",null,"108",null,null,"2911-021","タービン",null,null,0,0,4786,3874,0,0,0,0,0,0,0,0,0,0,0,0,0,3874,647,99,548,3227,34,94,163,110,588,880,1321,37,0,912,747,346,342,281,110,5,17,123,23,1,2,61,55,49,3,2,1,6,5,1,4,400,400,400,0,0,0,0,0,0,0,0,0,1,165,17,31,4,0,0,113]
["29",null,"109",null,null,"2911-031","原動機",null,null,0,0,9007,0,0,0,0,0,0,0,0,0,0,0,0,0,0,0,0,0,0,0,0,0,0,0,0,0,0,0,0,9007,7503,8,8,8,3,0,1,4,0,0,0,0,0,0,0,0,0,0,0,0,0,7494,3209,3086,1,93,29,4041,70,0,174,0,0,1,1504,146,217,9,62,2,1068]
["29",null,"110",null,null,"2912-011","ポンプ・圧縮機",null,null,0,0,160577,85696,33592,19723,19644,79,13869,481,10283,10000,283,3060,1566,1494,45,52104,3543,29,3514,48561,263,2573,890,2198,8247,14593,19375,422,0,74881,40400,1526,1511,1413,673,28,123,589,0,0,0,98,65,46,17,0,2,33,27,6,15,38324,4130,3856,243,2,29,29221,51,2,4166,15,739,550,34481,5069,4355,41,14289,156,10571]
["29",null,"111",null,null,"2913-011","運搬機械",null,null,0,0,119495,85098,15923,1572,1541,31,14351,1104,11769,11769,0,1388,1388,0,90,69175,121,0,121,69054,689,2996,4584,2217,9542,15171,33211,644,0,34397,13923,467,467,0,0,0,0,0,0,0,0,467,467,0,0,467,0,0,0,0,0,13456,311,295,0,15,1,8778,2508,0,1654,205,0,0,20474,1429,4180,1874,8298,71,4622]
["29",null,"112",null,null,"2914-011","冷凍機・温湿調整装置",null,null,0,0,129932,121406,10746,4330,4313,17,6416,294,3442,3327,115,2664,2027,637,16,110660,6891,30,6861,103769,916,4592,912,4649,19416,32938,38780,1566,0,8526,6673,239,236,193,76,3,12,83,17,1,1,43,39,34,3,1,1,4,3,1,3,6344,23,23,0,0,0,5864,106,0,221,130,0,90,1853,20,217,150,129,3,1334]
["29",null,"113",null,null,"2919-099","その他のはん用機械",null,null,2117,1597,20707,12639,2364,201,198,3,2163,76,1801,1797,4,280,143,137,6,10275,151,5,146,10124,52,945,276,201,1942,2333,4287,88,7127,941,811,371,371,371,166,7,29,169,0,0,0,0,0,0,0,0,0,0,0,0,0,328,273,198,0,58,17,0,43,0,12,0,0,112,130,16,19,15,28,9,43]
["30",null,"114",null,null,"3016-031","機械工具",null,null,327,247,3579,726,259,131,128,3,128,2,76,75,1,49,12,37,1,467,22,3,19,445,5,13,22,15,81,122,182,5,1103,1750,1649,1404,1385,1139,446,22,70,499,94,2,6,246,223,197,15,7,4,23,20,3,19,82,30,20,2,2,6,16,10,2,7,2,15,163,101,8,18,13,21,7,34]
["31",null,"115",null,null,"3113-011","計測機器",null,null,0,0,12056,11533,1753,991,977,14,762,62,409,405,4,288,193,95,3,9780,116,5,111,9664,113,434,26,339,1402,2529,4767,54,0,523,523,211,211,196,84,4,14,94,0,0,0,15,14,13,1,0,0,1,1,0,0,195,0,0,0,0,0,129,0,0,66,0,0,117,0,0,0,0,0,0,0]
["32",null,"116",null,null,"3299-011","記録メディア",null,null,0,0,13,6,0,0,0,0,0,0,0,0,0,0,0,0,0,6,0,0,0,6,0,0,0,0,1,2,3,0,0,7,6,4,4,3,2,0,0,1,0,0,0,1,1,1,0,0,0,0,0,0,0,1,1,1,0,0,0,0,0,0,0,0,0,1,1,0,0,0,0,0,1]
["32",null,"117",null,null,"3299-021","電子回路",null,null,0,0,2138,2138,1375,638,626,12,737,8,436,430,6,287,73,214,6,763,43,6,37,720,7,21,36,25,131,197,295,8,0,0,0,0,0,0,0,0,0,0,0,0,0,0,0,0,0,0,0,0,0,0,0,0,0,0,0,0,0,0,0,0,0,0,0,0,0,0,0,0,0,0,0]
["32",null,"118",null,null,"3299-099","その他の電子部品",null,null,647,488,20321,17380,10826,4293,4198,95,6533,115,4943,4914,29,1404,271,1133,71,6554,418,21,397,6136,8,141,54,438,1871,777,2703,144,2177,764,662,189,186,152,60,3,9,66,13,0,1,34,30,26,2,1,1,4,3,1,3,313,116,77,9,8,22,60,39,7,24,9,58,160,102,27,58,13,1,0,3]
["33",null,"119",null,null,"3311-011","発電機器",null,null,0,0,6442,3002,56,1,1,0,55,11,43,43,0,1,1,0,0,2946,10,0,10,2936,3,89,92,4,271,811,1353,313,0,3440,2247,64,64,63,28,1,5,29,0,0,0,1,0,0,0,0,0,1,1,0,0,2178,1340,1044,198,38,60,693,1,0,66,0,78,5,1193,65,725,9,267,20,107]
["33",null,"120",null,null,"3311-012","電動機",null,null,0,0,1274,0,0,0,0,0,0,0,0,0,0,0,0,0,0,0,0,0,0,0,0,0,0,0,0,0,0,0,0,1274,839,3,3,3,2,0,0,1,0,0,0,0,0,0,0,0,0,0,0,0,0,832,113,89,11,3,10,600,41,0,52,0,26,4,435,200,94,5,114,3,19]
["33",null,"121",null,null,"3311-021","変圧器・変成器",null,null,27,21,18511,13981,1069,121,118,3,948,11,559,551,8,370,94,276,8,12912,219,37,182,12693,46,329,241,403,1974,3574,5715,411,90,4440,1190,271,271,267,29,1,4,229,4,0,0,4,0,0,0,0,0,4,3,1,0,807,530,330,137,16,47,119,60,0,69,29,0,112,3250,580,1576,247,648,20,179]
["33",null,"122",null,null,"3311-031","開閉制御装置・配電盤",null,null,958,723,72394,27771,7146,3942,3904,38,3204,99,2224,2213,11,853,530,323,28,20625,2474,320,2154,18151,97,524,566,559,2746,6440,6807,412,3225,41398,12951,266,91,2,1,1,0,0,0,0,0,89,0,0,0,0,0,89,74,15,175,12461,2408,1707,682,19,0,6782,406,0,2083,111,671,224,28447,1357,7709,1344,14808,267,2962]
["33",null,"123",null,null,"3311-041","配線器具",null,null,9839,7424,55543,15278,7455,3855,3817,38,3600,88,2474,2454,20,1001,466,535,37,7823,302,16,286,7521,30,315,235,301,1680,2036,2794,130,33122,7143,3005,91,91,90,0,0,0,82,8,0,0,1,0,0,0,0,0,1,1,0,0,2865,340,1,339,0,0,1024,23,0,760,471,247,49,4138,326,992,172,1127,42,1479]
["33",null,"124",null,null,"3311-099","その他の産業用電気機器",null,null,3,2,3870,2455,58,1,1,0,57,1,33,32,1,22,5,17,1,2397,89,15,74,2308,17,33,87,41,200,1293,579,58,8,1407,6,1,1,1,1,0,0,0,0,0,0,0,0,0,0,0,0,0,0,0,0,3,1,1,0,0,0,1,0,0,0,0,1,2,1401,0,1401,0,0,0,0]
["33",null,"125",null,null,"3321-011","民生用エアコンディショナ",null,null,0,0,95731,95731,62459,35984,35748,236,26475,1237,11021,10368,653,14152,8014,6138,65,33272,5921,56,5865,27351,50,1698,85,1662,7218,1899,14254,485,0,0,0,0,0,0,0,0,0,0,0,0,0,0,0,0,0,0,0,0,0,0,0,0,0,0,0,0,0,0,0,0,0,0,0,0,0,0,0,0,0,0,0]
["33",null,"126",null,null,"3321-021","民生用電気機器（エアコンを除く。）",null,null,0,0,15371,15371,10268,6330,6205,125,3938,45,2322,2289,33,1536,390,1146,35,5103,1975,301,1674,3128,32,91,158,107,570,853,1281,36,0,0,0,0,0,0,0,0,0,0,0,0,0,0,0,0,0,0,0,0,0,0,0,0,0,0,0,0,0,0,0,0,0,0,0,0,0,0,0,0,0,0,0]
["33",null,"127",null,null,"3332-011","電気計測器",null,null,148,112,19090,5129,1191,189,188,1,1002,38,724,723,1,232,185,47,8,3938,121,11,110,3817,13,138,65,145,663,837,1850,106,496,13465,5818,127,127,0,0,0,0,0,0,0,0,127,0,0,0,0,0,127,105,22,0,5671,229,172,44,1,12,2935,9,0,2179,0,319,20,7647,232,1836,2120,2388,30,1041]
["33",null,"128",null,null,"3399-011","電球類",null,null,1721,1298,26083,19964,5624,3442,3400,42,2182,59,1160,1148,12,949,268,681,14,14340,926,43,883,13414,39,336,340,569,2416,3325,6213,176,5792,327,191,131,131,130,33,10,6,81,0,0,0,1,0,0,0,0,0,1,1,0,0,58,44,33,5,1,5,4,6,0,2,2,0,2,136,11,41,25,38,3,18]
["33",null,"129",null,null,"3399-021","電気照明器具",null,null,7790,5878,148042,93627,38232,26187,25864,323,12045,314,6202,6137,65,5456,1429,4027,73,55395,4986,260,4726,50409,167,1193,1465,2017,8569,14320,22028,650,26225,28190,12081,5867,5747,5592,247,19,39,4321,930,27,9,155,57,49,6,1,1,98,81,17,120,6013,1629,1128,313,6,182,987,1514,66,433,1296,88,201,16109,1787,6043,529,844,407,6499]
[{"$f":"+IF(OR(LEFT(F135,2)=\"19\",LEFT(F135,2)=\"23\"),\"39\",LEFT(F135,2))","v":"33"},null,"130",null,null,"3399-031","電池",null,null,528,398,8771,6443,1445,900,882,18,545,110,427,427,0,8,8,0,0,4998,286,0,286,4712,5,142,147,7,435,1301,2173,502,1778,550,537,79,79,0,0,0,0,0,0,0,0,79,0,0,0,0,0,79,65,14,0,89,83,0,83,0,0,0,6,0,0,0,0,369,13,3,2,7,0,0,1]
["33",null,"131",null,null,"3399-099","その他の電気機械器具",null,null,2438,1840,32074,20614,8432,2767,2712,55,5665,65,3342,3294,48,2209,561,1648,49,12182,580,89,491,11602,121,338,587,396,2115,3162,4750,133,8209,3251,2679,1568,1533,1380,342,16,88,523,378,14,19,153,131,110,14,5,2,22,18,4,35,1088,412,275,53,3,81,367,119,30,138,22,0,23,572,139,117,63,98,35,120]
["34",null,"132",null,null,"3411-011","有線電気通信機器",null,null,0,0,13305,5322,1007,26,26,0,981,32,823,818,5,122,85,37,4,4315,15,0,15,4300,14,337,57,296,868,806,1863,59,0,7983,3325,40,40,0,0,0,0,0,0,0,0,40,0,0,0,0,0,40,34,6,0,3285,1520,793,726,0,1,1466,0,251,26,22,0,0,4658,784,651,2894,192,85,52]
["34",null,"133",null,null,"3411-021","携帯電話機",null,null,1161,876,12712,2372,1478,406,398,8,1072,12,632,623,9,419,107,312,9,894,37,6,31,857,9,25,43,29,156,234,351,10,3909,6431,4408,2214,2183,1796,702,35,111,786,149,4,9,387,350,311,23,10,6,37,31,6,31,2156,795,523,60,59,153,412,267,53,166,61,402,38,2023,482,817,124,203,68,329]
["34",null,"134",null,null,"3411-031","無線電気通信機器（携帯電話機を除く。）",null,null,1,1,7529,476,121,0,0,0,121,2,71,70,1,47,12,35,1,355,0,0,0,355,4,11,18,13,64,97,144,4,2,7051,4361,38,38,38,0,0,0,38,0,0,0,0,0,0,0,0,0,0,0,0,0,4323,3615,578,3037,0,0,694,1,0,13,0,0,0,2690,442,547,1393,146,90,72]
["34",null,"135",null,null,"3411-041","ラジオ・テレビ受信機",null,null,0,0,669,0,0,0,0,0,0,0,0,0,0,0,0,0,0,0,0,0,0,0,0,0,0,0,0,0,0,0,0,669,249,88,87,72,28,1,4,33,6,0,0,15,14,12,1,1,0,1,1,0,1,161,60,40,4,4,12,31,20,4,12,4,30,0,420,152,75,8,62,21,102]
["34",null,"136",null,null,"3411-099","その他の電気通信機器",null,null,0,0,74849,28173,7447,2318,2272,46,5129,169,4050,4046,4,890,610,280,20,20726,736,8,728,19990,99,490,1181,606,3393,6249,7670,302,0,46676,23529,895,895,895,0,1,0,0,893,0,1,0,0,0,0,0,0,0,0,0,0,22633,5800,0,5800,0,0,8198,3200,0,5404,28,3,1,23147,2527,3559,10048,5852,58,1103]
["34",null,"137",null,null,"3412-011","ビデオ機器・デジタルカメラ",null,null,0,0,2238,0,0,0,0,0,0,0,0,0,0,0,0,0,0,0,0,0,0,0,0,0,0,0,0,0,0,0,0,2238,739,38,37,31,12,1,2,14,2,0,0,6,5,5,0,0,0,1,1,0,1,701,355,182,67,106,0,82,210,0,52,1,1,0,1499,675,242,148,182,61,191]
["34",null,"138",null,null,"3412-021","電気音響機器",null,null,0,0,7850,7483,3849,1655,1623,32,2194,33,1805,1802,3,351,179,172,5,3634,46,1,45,3588,7,98,38,123,981,654,1652,35,0,367,194,7,7,6,3,0,0,2,1,0,0,1,1,1,0,0,0,0,0,0,0,187,98,0,98,0,0,0,5,0,0,84,0,0,173,26,35,74,0,9,29]
["39",null,"139",null,null,"3919-021","時計",null,null,3,2,140,103,10,5,5,0,5,0,3,3,0,2,1,1,0,93,0,0,0,93,1,3,5,3,17,26,37,1,8,29,20,3,3,2,1,0,0,1,0,0,0,1,1,1,0,0,0,0,0,0,0,16,5,2,1,1,1,3,2,1,1,1,3,1,9,0,2,0,2,1,4]
["39",null,"140",null,null,"3919-051","畳・わら加工品",null,null,9357,7060,48327,16826,15737,12339,12168,171,3398,23,1701,1682,19,1628,325,1303,46,1089,251,7,244,838,1,22,8,11,302,33,454,7,31500,1,1,0,0,0,0,0,0,0,0,0,0,0,0,0,0,0,0,0,0,0,0,0,0,0,0,0,0,0,0,0,0,0,0,1,0,0,0,0,0,0,0]
["39",null,"141",null,null,"3919-099","その他の製造工業製品",null,null,4174,3149,102427,24025,16329,9191,9010,181,7138,81,4210,4150,60,2784,707,2077,63,7696,243,37,206,7453,78,217,377,254,1358,2032,3051,86,14052,64350,35346,23822,23411,19924,8825,82,395,9556,1004,24,38,3487,2977,2181,706,52,38,510,423,87,411,10131,4033,2916,268,359,490,1835,1228,349,544,1776,366,1393,29004,4400,6166,1408,7016,1480,8534]
["39",null,"142",null,null,"3921-011","再生資源回収・加工処理",null,null,0,0,2534,0,0,0,0,0,0,0,0,0,0,0,0,0,0,0,0,0,0,0,0,0,0,0,0,0,0,0,0,2534,2420,2216,2186,1799,703,35,111,788,149,4,9,387,350,311,23,10,6,37,31,6,30,141,52,34,4,4,10,27,18,3,11,4,26,63,114,0,0,0,39,13,62]
["41",null,"143",null,null,"4121-011","建設補修",null,null,4490,3388,51533,26356,12176,7733,7646,87,4443,58,3055,3030,25,1307,644,663,23,14180,781,76,705,13399,115,449,659,482,2280,3856,5449,109,15115,10062,6670,3788,3721,3217,1237,53,198,1434,289,4,2,504,435,378,34,13,10,69,57,12,67,2755,1608,457,42,57,1052,393,252,57,99,73,273,127,3392,547,1231,223,389,142,860]
["46",null,"144",null,null,"4611-001","電気",null,null,4664,3519,140415,75520,63639,28754,28063,691,34885,380,21798,21500,298,12497,3201,9296,210,11881,878,91,787,11003,96,303,660,394,1806,3172,4434,138,15701,49194,20192,9305,9104,7651,2942,121,526,3437,598,12,15,1453,1254,1070,121,30,33,199,154,45,201,9145,1051,555,66,68,362,1142,675,84,228,42,5923,1742,29002,4661,5455,1425,9445,1578,6438]
["46",null,"145",null,null,"4621-011","都市ガス",null,null,2457,1854,39093,21131,11934,4767,4654,113,7167,87,4541,4472,69,2479,930,1549,60,9197,443,41,402,8754,76,291,418,314,1490,2501,3550,114,8273,9689,5101,2802,2735,2317,884,36,150,1064,174,4,5,418,367,312,37,10,8,51,41,10,67,2200,441,342,39,40,20,932,104,53,153,28,489,99,4588,693,664,1779,792,110,550]
["46",null,"146",null,null,"4622-011","熱供給業",null,null,4,3,522,194,48,19,19,0,29,0,18,18,0,11,3,8,0,146,3,0,3,143,2,4,7,5,26,39,58,2,12,316,91,43,42,35,14,1,2,15,3,0,0,7,6,6,0,0,0,1,1,0,1,45,17,12,1,1,3,9,6,1,3,1,8,3,225,9,57,80,27,9,43]
["47",null,"147",null,null,"4711-011","上水道・簡易水道",null,null,1918,1448,41970,20717,11508,7312,7139,173,4196,39,2212,2144,68,1921,352,1569,24,9209,831,91,740,8378,74,245,479,302,1390,2403,3379,106,6459,14794,7575,2194,2140,1811,688,28,121,824,143,3,4,329,286,243,29,8,6,43,34,9,54,5366,639,541,35,45,18,999,424,57,291,24,2932,15,7219,1614,745,307,2961,373,1219]
["47",null,"148",null,null,"4711-031","下水道★★",null,null,1958,1477,12726,2203,1396,1313,1287,26,83,2,77,77,0,4,4,0,0,807,545,83,462,262,1,5,10,8,65,74,96,3,6592,3931,1501,829,811,693,263,11,45,316,56,1,1,118,102,87,10,3,2,16,13,3,18,582,143,108,11,13,11,268,38,14,48,11,60,90,2430,222,354,111,904,138,701]
["48",null,"149",null,null,"4811-011","廃棄物処理（公営）★★",null,null,220,166,24272,3576,2226,1193,1157,36,1033,9,570,559,11,451,58,393,3,1350,80,9,71,1270,10,26,109,38,194,374,504,15,741,19955,11836,4786,4214,4050,1109,74,209,1916,707,24,11,164,60,0,48,0,12,104,86,18,572,6846,2974,2515,13,48,398,2116,148,38,1198,94,278,204,8119,997,1407,337,2220,544,2614]
["48",null,"150",null,null,"4811-021","廃棄物処理",null,null,1950,1471,139930,22784,12184,6576,6377,199,5608,52,3089,3027,62,2450,317,2133,17,10600,627,69,558,9973,81,203,856,300,1525,2938,3950,120,6564,110582,56984,25724,24624,24138,7285,305,616,9506,6235,157,34,486,104,0,9,57,38,382,317,65,1100,22423,12230,11261,53,40,876,4085,1430,317,2314,703,1344,8837,53598,13506,11446,3884,7205,3026,14531]
["51",null,"151",null,null,"5111-011-6","卸売・商業マージン",null,null,173359,130815,2831498,1533239,895929,562446,548722,13724,333483,3269,180535,176565,3970,147548,28475,119073,2131,637310,55741,5542,50199,581569,5261,16871,24794,22294,115070,155691,237449,4139,583649,714610,440281,186578,182881,136704,68156,3450,10268,36255,17924,223,428,46177,42651,38604,3112,651,284,3526,2930,596,3697,211726,74168,43093,6170,6891,18014,52547,28128,2034,14825,6588,33436,41977,274329,45830,48600,15787,47843,23158,93111]
["51",null,"152",null,null,"5112-011-6","小売・商業マージン",null,null,13263,10008,254235,110232,54046,30800,29981,819,23246,298,13765,13565,200,8996,2291,6705,187,56186,3261,265,2996,52925,398,1436,1623,2083,11306,12463,22865,751,44651,99352,61087,34537,34135,25102,13510,164,705,9658,1002,28,35,9033,8447,7987,381,44,35,586,486,100,402,21034,9217,5857,1059,491,1810,2327,1917,429,1061,1950,4133,5516,38265,4162,6731,1268,4550,3003,18551]
["53",null,"153",null,null,"5311-011","公的金融（ＦＩＳＩＭ）",null,null,5114,3859,110686,45586,21188,13153,12893,260,8035,91,4740,4672,68,3134,796,2338,70,24398,1141,174,967,23257,244,677,1176,793,4239,6339,9522,267,17218,47882,28405,13013,12834,10561,4128,204,651,4626,877,24,51,2273,2058,1826,135,61,36,215,181,34,179,12816,4720,3107,354,352,907,2451,1591,316,986,360,2392,2576,19477,1730,5533,4484,2621,882,4227]
["53",null,"154",null,null,"5311-012","民間金融（ＦＩＳＩＭ）",null,null,7335,5535,260972,101284,47693,30701,30095,606,16992,193,10024,9880,144,6626,1683,4943,149,53591,3224,491,2733,50367,528,1467,2546,1718,9179,13729,20621,579,24694,134994,90660,34721,34243,28176,11013,544,1738,12340,2341,63,137,6067,5492,4873,360,162,97,575,484,91,478,37343,13753,9051,1033,1027,2642,7142,4635,921,2872,1050,6970,18596,44334,5839,9987,4455,8157,2746,13150]
["53",null,"155",null,null,"5311-013","公的金融（手数料）",null,null,377,284,15313,5786,2586,1698,1664,34,888,10,524,516,8,346,88,258,8,3200,741,113,628,2459,26,72,124,84,448,670,1007,28,1268,8259,3765,1700,1677,1379,539,27,85,603,115,3,7,298,270,239,18,8,5,28,24,4,23,1820,670,441,50,50,129,348,226,45,140,51,340,245,4494,563,825,2337,261,88,420]
["53",null,"156",null,null,"5311-014","民間金融（手数料）",null,null,3470,2619,257227,139112,67857,43536,42677,859,24321,277,14346,14139,207,9485,2409,7076,213,71255,5045,769,4276,66210,695,1928,3347,2258,12067,18047,27107,761,11683,106432,63984,26673,26306,21646,8460,418,1335,9481,1798,49,105,4660,4218,3743,276,125,74,442,372,70,367,34182,12588,8284,945,940,2419,6538,4243,843,2629,961,6380,3129,42448,8051,12977,6762,4971,1673,8014]
["53",null,"157",null,null,"5312-021","損害保険",null,null,8,6,63557,23735,11058,7547,7475,72,3511,45,2466,2451,15,985,525,460,15,12677,734,73,661,11943,104,392,602,431,2030,3456,4852,76,28,39794,16227,6822,6770,5815,2168,90,359,2604,571,11,12,955,834,715,79,24,16,121,100,21,52,7359,1942,1211,50,302,379,3141,497,204,541,174,860,2046,23567,5863,6786,2672,4741,545,2960]
["55",null,"158",null,null,"5511-011","不動産仲介・管理業",null,null,334,252,7765,4439,2704,2131,2089,42,573,7,337,332,5,224,57,167,5,1735,178,27,151,1557,16,45,79,53,284,424,638,18,1124,2202,1413,517,510,421,164,8,26,185,35,1,2,89,81,73,5,2,1,8,7,1,7,885,326,215,24,24,63,169,110,22,68,25,165,11,789,209,93,27,156,53,251]
["55",null,"159",null,null,"5511-021","不動産賃貸業",null,null,9479,7153,333633,256071,140483,89726,86524,3202,50757,576,29701,29048,653,19910,5852,14058,570,115588,8163,797,7366,107425,927,3541,5050,3783,18304,30661,43351,1808,31913,45649,24007,10575,10537,8874,3651,172,581,4407,62,1,0,1663,1461,1293,138,3,27,202,168,34,38,13121,8212,2744,151,71,5246,1259,1746,211,408,1008,277,311,21642,6826,2652,744,1525,2085,7810]
["57",null,"160",null,null,"5711-011","鉄道旅客輸送",null,null,4569,3447,97613,63129,30860,22411,21969,442,8449,96,4984,4912,72,3295,837,2458,74,32269,2892,441,2451,29377,308,855,1485,1002,5354,8008,12027,338,15381,19103,11650,7029,7025,5883,2402,97,408,2933,41,1,1,1142,1005,853,105,28,19,137,112,25,4,4457,281,175,4,77,25,2304,191,94,372,75,1140,164,7453,1314,1740,554,2960,151,734]
["57",null,"161",null,null,"5712-011-7","鉄道貨物輸送・国内貨物運賃",null,null,343,259,5682,2670,1255,671,656,15,584,8,365,360,5,207,59,148,4,1415,77,8,69,1338,14,35,69,39,313,343,499,26,1154,1858,1067,568,563,418,200,33,28,140,15,1,1,145,135,124,9,1,1,10,8,2,5,433,118,78,8,12,20,83,125,29,26,11,41,66,791,117,176,34,87,78,299]
["57",null,"162",null,null,"5721-011","バス",null,null,693,523,16874,10006,6113,3873,3797,76,2240,25,1321,1302,19,874,222,652,20,3893,262,40,222,3631,38,106,184,124,662,990,1485,42,2332,4536,1844,930,914,698,295,12,54,286,49,0,2,216,187,160,17,0,10,29,16,13,16,878,26,17,2,2,5,2,19,2,2,0,827,36,2692,338,770,117,497,167,803]
["57",null,"163",null,null,"5721-021","ハイヤー・タクシー",null,null,2499,1886,37236,16091,7911,4713,4552,161,3198,37,1961,1926,35,1170,404,766,30,8180,393,38,355,7787,67,259,377,278,1321,2228,3146,111,8414,12731,9552,6336,0,0,0,0,0,0,0,0,0,0,0,0,0,0,0,0,0,0,6336,3159,1582,1582,0,0,0,0,1577,0,0,0,0,57,3179,365,1285,367,0,261,901]
["57",null,"164",null,null,"5722-011","道路貨物輸送（自家輸送を除く。）",null,null,7312,5517,139785,80106,42753,27011,26400,611,15742,137,8443,8289,154,7081,1069,6012,81,37353,2311,346,1965,35042,379,865,1727,1198,6057,10664,13903,249,24617,35062,18725,9394,9265,7883,3047,124,703,3305,624,12,68,1382,1210,1053,121,16,20,172,143,29,129,8774,3549,2432,449,346,322,898,1218,250,255,277,2327,557,16337,3401,4223,3379,954,872,3508]
["57",null,"165",null,null,"5722-011-7","道路貨物輸送（自家輸送を除く。）・国内貨物運賃",null,null,48497,36595,1013929,490474,266559,170588,165904,4684,95971,923,48335,47454,881,46078,10378,35700,635,223915,17763,2163,15600,206152,2254,5117,9063,5960,29493,69201,83863,1201,163273,360182,206460,98227,96246,76557,36034,2585,4656,24335,8476,203,268,19689,17937,16146,1258,259,274,1752,1455,297,1981,86460,28434,16495,2312,4733,4894,14980,21190,1968,6323,2803,10762,21773,153722,19838,29690,5033,27869,13311,57981]
["57",null,"166",null,null,"5731-011","自家輸送（旅客自動車）",null,null,22870,17258,633285,350725,183837,71010,69609,1401,112827,1284,66554,65596,958,44001,11177,32824,988,166888,6507,991,5516,160381,1682,4670,8108,5470,29230,43716,65660,1845,76996,205564,160704,82149,82148,77711,30215,885,18385,28226,0,0,0,4437,0,0,0,0,0,4437,3686,751,1,71809,8692,8692,0,0,0,40051,6918,0,14821,1327,0,6746,44860,12308,4353,1530,17193,2157,7319]
["57",null,"167",null,null,"5732-011","自家輸送（貨物自動車）",null,null,28068,21180,427406,181313,121969,42673,41831,842,79296,902,46776,46102,674,30924,7855,23069,694,59344,4836,737,4099,54508,572,1587,2756,1859,9934,14858,22315,627,94493,151600,98948,57363,56948,48198,19071,883,3120,22853,2144,55,72,8750,7695,6790,738,29,138,1055,876,179,415,39723,23804,21031,2675,98,0,1895,2304,73,369,2927,8351,1862,52652,11058,6353,1364,2019,6502,25356]
["57",null,"168",null,null,"5742-011","沿海・内水面旅客輸送",null,null,41,31,1455,961,489,341,334,7,148,2,87,86,1,58,15,43,1,472,59,9,50,413,4,12,21,14,75,113,169,5,140,354,201,112,110,90,36,2,6,38,8,0,0,20,18,16,1,1,0,2,2,0,2,88,33,23,2,2,6,17,11,2,7,2,16,1,153,9,80,27,13,4,20]
["57",null,"169",null,null,"5742-012","沿海・内水面貨物輸送",null,null,0,0,11610,0,0,0,0,0,0,0,0,0,0,0,0,0,0,0,0,0,0,0,0,0,0,0,0,0,0,0,0,11610,4193,585,577,474,186,9,29,208,39,1,2,103,93,82,6,3,2,10,8,2,8,3597,1453,326,0,1127,0,0,1953,188,0,3,0,11,7417,2018,839,925,0,816,2819]
["57",null,"170",null,null,"5742-012-7","沿海・内水面貨物輸送・国内貨物運賃",null,null,1081,815,29514,11409,6500,4175,4070,105,2325,21,1292,1262,30,997,190,807,15,4909,476,70,406,4433,44,112,205,157,883,1264,1720,48,3638,14467,8824,4718,4649,4038,2086,530,157,995,256,9,5,611,529,479,36,12,2,82,68,14,69,3161,984,666,46,109,163,469,848,136,259,109,356,945,5643,920,801,140,705,696,2381]
["57",null,"171",null,null,"5743-011-7","港湾運送・国内貨物運賃",null,null,1191,899,34370,14430,8409,5344,5233,111,3065,31,1663,1635,28,1352,222,1130,19,6021,615,74,541,5406,53,146,258,190,1128,1529,2041,61,4010,15930,9379,5219,5138,4114,1665,288,191,1642,303,17,8,1024,930,868,30,30,2,94,78,16,81,3336,914,633,68,109,104,649,834,166,360,132,281,824,6551,1131,959,163,1293,522,2483]
["57",null,"172",null,null,"5751-011","国際航空輸送",null,null,0,0,328,42,20,13,13,0,7,0,4,4,0,3,1,2,0,22,3,0,3,19,0,1,1,1,3,5,8,0,0,286,259,32,32,28,10,1,2,13,2,0,0,4,4,4,0,0,0,0,0,0,0,223,81,53,6,6,16,43,28,6,17,6,42,4,27,3,11,5,3,1,4]
["57",null,"173",null,null,"5751-012","国内航空旅客輸送",null,null,633,477,8870,3421,2077,1028,1008,20,1049,12,619,610,9,409,104,305,9,1344,298,45,253,1046,11,30,53,36,191,285,428,12,2130,3319,922,543,534,409,173,7,32,167,29,0,1,125,109,93,10,0,6,16,9,7,9,364,12,8,1,1,2,2,7,2,0,0,341,15,2397,276,782,650,234,79,376]
["57",null,"174",null,null,"5751-013-7","国内航空貨物輸送・国内貨物運賃",null,null,13,10,147,80,46,29,28,1,17,0,10,10,0,7,2,5,0,34,2,0,2,32,0,1,1,1,8,7,13,1,45,22,12,6,6,4,2,0,0,2,0,0,0,2,2,2,0,0,0,0,0,0,0,6,1,1,0,0,0,2,2,0,0,0,1,0,10,1,3,0,1,1,4]
["57",null,"175",null,null,"5761-011-7","貨物利用運送・国内貨物運賃",null,null,2887,2178,58895,28122,15132,9636,9375,261,5496,56,2778,2726,52,2625,597,2028,37,12990,1006,115,891,11984,128,304,505,347,1886,3839,4873,102,9718,21055,11885,5860,5748,4626,2198,226,255,1457,464,12,14,1122,1018,915,74,15,14,104,86,18,112,4860,1498,949,121,237,191,864,1275,154,362,168,539,1165,9170,1210,1782,316,1561,813,3488]
["57",null,"176",null,null,"5771-011","倉庫",null,null,0,0,12,8,0,0,0,0,0,0,0,0,0,0,0,0,0,8,0,0,0,8,0,0,0,0,1,2,5,0,0,4,3,2,2,2,1,0,0,1,0,0,0,0,0,0,0,0,0,0,0,0,0,1,1,1,0,0,0,0,0,0,0,0,0,0,1,0,0,0,0,0,1]
["57",null,"177",null,null,"5771-011-7","倉庫・国内貨物運賃",null,null,7555,5701,150553,69107,38325,23794,23221,573,14531,181,8419,8297,122,5831,1365,4466,100,30782,2303,286,2017,28479,256,799,1268,949,6395,7270,11092,450,25433,56013,31390,13117,12828,10118,5810,201,555,2759,747,22,24,2710,2477,2307,125,31,14,233,193,40,289,15141,3828,2426,259,797,346,2389,5311,551,1168,334,1560,3132,24623,3867,4722,999,2982,2701,9352]
["57",null,"178",null,null,"5781-011","こん包",null,null,0,0,310,0,0,0,0,0,0,0,0,0,0,0,0,0,0,0,0,0,0,0,0,0,0,0,0,0,0,0,0,310,310,176,172,131,60,2,11,56,2,0,0,41,36,31,3,0,2,5,3,2,4,130,32,32,0,0,0,0,30,0,0,0,68,4,0,0,0,0,0,0,0]
["57",null,"179",null,null,"5791-011","郵便・信書便",null,null,2784,2101,28703,8240,4505,2556,2389,167,1949,17,975,938,37,925,195,730,32,3735,288,28,260,3447,30,111,167,121,577,977,1372,92,9371,11092,6418,3221,3172,2726,1055,45,171,1231,219,3,2,446,386,334,32,11,9,60,49,11,49,3153,1246,842,79,100,225,656,461,96,158,125,411,44,4674,674,1258,369,658,248,1467]
["59",null,"180",null,null,"5911-011","固定電気通信",null,null,4956,3739,102078,50332,27147,14826,13735,1091,12321,110,6054,5809,245,5948,1214,4734,209,23185,1659,163,1496,21526,183,698,1033,756,3600,6084,8570,602,16684,35062,19745,9125,9000,7701,2996,128,488,3485,591,8,5,1299,1126,973,95,31,27,173,139,34,125,10508,3400,2272,214,269,645,1618,1227,266,387,323,3287,112,15317,2219,4116,1211,2150,816,4805]
["59",null,"181",null,null,"5911-021","移動電気通信",null,null,9919,7485,204213,100743,54337,29676,29090,586,24661,281,14547,14338,209,9617,2443,7174,216,46406,3320,506,2814,43086,452,1255,2178,1469,7852,11744,17640,496,33393,70077,39420,18510,18244,15647,6072,260,986,7060,1241,18,10,2597,2250,1947,188,62,53,347,280,67,266,20788,6918,4618,427,550,1323,3410,2500,520,823,672,5945,122,30657,4414,8254,2417,4315,1625,9632]
["59",null,"182",null,null,"5911-031","電気通信に附帯するサービス",null,null,0,0,390,0,0,0,0,0,0,0,0,0,0,0,0,0,0,0,0,0,0,0,0,0,0,0,0,0,0,0,0,390,241,110,109,94,36,2,6,43,7,0,0,15,13,12,1,0,0,2,2,0,1,131,41,27,3,4,7,19,15,4,4,4,44,0,149,22,40,12,21,8,46]
["59",null,"183",null,null,"5921-011","公共放送",null,null,24,18,838,238,121,71,70,1,50,1,29,29,0,20,5,15,0,117,7,1,6,110,1,3,6,4,20,30,45,1,80,520,93,46,45,38,15,1,2,17,3,0,0,7,6,6,0,0,0,1,1,0,1,47,17,12,1,1,3,9,6,1,4,1,9,0,427,54,85,23,90,30,145]
["59",null,"184",null,null,"5931-011","ソフトウェア業",null,null,1719,1297,13338,2280,362,80,78,2,282,3,166,163,3,110,28,82,3,1918,118,18,100,1800,19,52,91,62,328,491,737,20,5787,5271,4052,1900,1867,1619,620,27,99,722,147,3,1,248,213,187,17,5,4,35,29,6,33,2150,838,554,47,69,168,483,305,49,121,91,263,2,1219,555,111,73,134,49,297]
["59",null,"185",null,null,"5931-012","情報処理・提供サービス",null,null,4481,3381,114218,50738,14956,4585,4495,90,10371,118,6118,6030,88,4044,1027,3017,91,35782,5094,776,4318,30688,322,894,1551,1047,5593,8365,12563,353,15084,48396,22619,11350,11153,9665,3706,160,593,4309,879,12,6,1488,1285,1119,100,38,28,203,169,34,197,11254,4377,2902,245,357,873,2534,1596,261,634,475,1377,15,25777,2535,4898,2694,4372,1594,9684]
["59",null,"186",null,null,"5941-011","インターネット附随サービス",null,null,386,291,7955,3924,2339,1247,1222,25,1092,12,644,635,9,426,108,318,10,1585,168,26,142,1417,15,41,72,48,258,386,581,16,1301,2730,1535,782,772,666,259,11,42,306,48,0,0,106,92,82,8,0,2,14,12,2,10,749,300,210,22,22,46,163,120,23,32,35,76,4,1195,176,316,94,168,65,376]
["59",null,"187",null,null,"5951-011","映像・音声・文字情報制作（新聞・出版を除く。）",null,null,218,165,5962,2775,1004,505,495,10,499,6,295,291,4,194,49,145,4,1771,182,28,154,1589,17,46,80,54,290,433,651,18,734,2453,1752,1159,1158,971,398,16,67,490,0,0,0,187,164,139,17,5,3,23,19,4,1,450,89,50,0,39,0,134,39,8,23,49,108,143,701,107,26,17,199,60,292]
["59",null,"188",null,null,"5951-021","新聞",null,null,564,425,12297,6005,3059,1773,1714,59,1286,15,755,739,16,502,152,350,14,2946,183,18,165,2763,24,92,132,98,469,788,1113,47,1899,4393,2856,1128,1127,944,387,16,65,476,0,0,0,183,161,135,17,6,3,22,18,4,1,1095,220,113,0,107,0,318,85,23,42,135,272,633,1537,277,439,84,269,80,388]
["59",null,"189",null,null,"5951-031","出版",null,null,3329,2513,73052,37968,18224,10625,9009,1616,7599,49,2667,2436,231,4691,515,4176,192,19744,1082,105,977,18662,154,597,864,638,3023,5098,7216,1072,11208,23876,14651,6898,6894,5782,2371,96,401,2914,0,0,0,1112,979,828,103,31,17,133,110,23,4,6458,1277,683,0,594,0,1876,535,171,315,735,1549,1295,9225,1744,1715,377,1959,586,2844]
["63",null,"190",null,null,"6312-041","その他の教育訓練機関",null,null,89,67,11129,7423,3501,2081,2034,47,1420,18,907,894,13,484,190,294,11,3922,107,10,97,3815,32,129,186,136,647,1092,1546,47,300,3406,1728,1178,1162,957,374,18,59,420,79,2,5,205,186,165,12,6,3,19,16,3,16,507,186,122,14,14,36,97,63,13,39,14,95,43,1678,184,409,119,328,110,528]
["64",null,"191",null,null,"6421-021","保健衛生",null,null,5,4,79,24,8,4,4,0,4,0,3,3,0,1,0,1,0,16,9,1,8,7,0,0,0,0,1,2,4,0,16,39,18,4,4,3,2,0,0,1,0,0,0,1,1,1,0,0,0,0,0,0,0,5,2,2,0,0,0,1,1,0,0,0,1,9,21,3,6,8,1,0,3]
["65",null,"192",null,null,"6599-011","会員制企業団体",null,null,4575,3452,57348,23019,3338,817,801,16,2521,29,1487,1466,21,983,250,733,22,19681,2772,422,2350,16909,177,492,855,577,3082,4609,6923,194,15402,18927,10307,3800,3734,3236,1241,54,198,1443,294,4,2,498,429,374,33,13,9,69,57,12,66,3601,1400,928,79,114,279,811,511,84,203,152,440,2906,8620,676,1349,299,1759,641,3896]
["66",null,"193",null,null,"6611-011","産業用機械器具（建設機械器具を除く。）賃貸業",null,null,1025,773,135791,79823,25165,12108,11869,239,13057,149,7702,7591,111,5092,1293,3799,114,54658,988,151,837,53670,563,1563,2713,1830,9781,14629,21974,617,3450,52518,31406,5127,5074,4147,1928,30,426,1714,43,1,5,927,829,546,263,6,14,98,81,17,53,24429,8727,5155,1372,241,1959,4272,2172,510,5785,492,2471,1850,21112,5367,4520,492,3368,1138,6227]
[{"$f":"+IF(OR(LEFT(F199,2)=\"19\",LEFT(F199,2)=\"23\"),\"39\",LEFT(F199,2))","v":"66"},null,"194",null,null,"6611-012","建設機械器具賃貸業",null,null,36442,27498,1596511,585640,215416,109427,107075,2352,105989,1493,76748,76093,655,27299,10489,16810,449,370224,9133,1842,7291,361091,4020,8578,20055,11970,55744,117606,140418,2700,122686,888185,425574,117952,115058,90553,45067,967,11199,28122,4637,114,447,24505,22320,15048,4013,2092,1167,2185,1815,370,2894,277504,110251,76247,5310,10404,18290,30307,53562,5785,39410,5535,32654,30118,462611,92327,110803,16954,50629,29439,162459]
["66",null,"195",null,null,"6611-013","電子計算機・同関連機器賃貸業",null,null,43,32,7495,2375,670,178,174,4,492,6,290,286,4,192,49,143,4,1705,157,24,133,1548,16,45,78,53,282,422,634,18,145,4975,3586,2509,2461,2106,827,37,132,981,125,2,2,355,309,272,27,4,6,46,38,8,48,1021,504,350,17,33,104,162,129,35,42,47,102,56,1389,344,426,80,96,81,362]
["66",null,"196",null,null,"6611-014","事務用機械器具（電算機等を除く。）賃貸業",null,null,110,83,3371,1424,595,197,193,4,398,5,235,232,3,155,39,116,3,829,49,7,42,780,8,23,39,27,142,213,319,9,368,1579,1412,718,706,539,239,10,43,235,12,0,0,167,146,124,13,1,8,21,12,9,12,685,372,314,16,9,33,32,122,9,12,7,131,9,167,22,48,10,3,19,65]
["66",null,"197",null,null,"6611-015","スポーツ・娯楽用品・その他の物品賃貸業",null,null,0,0,24069,0,0,0,0,0,0,0,0,0,0,0,0,0,0,0,0,0,0,0,0,0,0,0,0,0,0,0,0,24069,16057,9455,9177,8640,2718,112,509,2581,2658,33,29,537,394,314,72,0,8,143,119,24,278,4653,2950,2182,145,270,353,589,414,160,220,232,88,1949,8012,1474,3200,719,246,533,1840]
["66",null,"198",null,null,"6612-011","貸自動車業",null,null,0,0,899,0,0,0,0,0,0,0,0,0,0,0,0,0,0,0,0,0,0,0,0,0,0,0,0,0,0,0,0,899,899,430,352,272,107,5,20,106,32,1,1,80,69,59,6,0,4,11,6,5,78,469,81,45,13,6,17,17,51,8,6,0,306,0,0,0,0,0,0,0,0]
["66",null,"199",null,null,"6621-011","テレビ・ラジオ広告",null,null,23,18,21187,12933,8341,2180,926,1254,6161,22,1444,1202,242,4496,307,4189,199,4592,1627,122,1505,2965,22,95,145,99,434,757,1076,337,79,8175,4373,2259,2228,1834,717,35,113,804,152,4,9,394,357,317,23,11,6,37,31,6,31,2113,780,514,58,58,150,404,262,52,162,59,394,1,3802,462,1240,665,487,164,784]
["66",null,"200",null,null,"6621-012","新聞・雑誌・その他の広告",null,null,1468,1107,91787,74295,52828,10482,6495,3987,42346,208,11940,10431,1509,28945,2496,26449,1253,21467,951,79,872,20516,153,681,974,698,3158,5398,7724,1730,4941,12551,6893,3835,3772,3245,1255,54,202,1446,282,4,2,527,455,395,36,13,11,72,58,14,63,3055,1093,732,60,88,213,620,402,75,155,116,594,3,5658,757,1380,363,882,322,1954]
["66",null,"201",null,null,"6631-101","自動車整備",null,null,2218,1674,82112,53753,22504,12561,12425,136,9943,131,6849,6796,53,2912,1435,1477,51,31249,1464,144,1320,29785,257,1002,1449,1067,5078,8567,12122,243,7466,20893,9319,5960,5888,4474,1948,82,356,1881,200,0,7,1414,1228,1050,110,0,68,186,103,83,72,3098,1897,329,102,51,1415,61,158,72,23,50,837,261,11574,2580,3152,1015,1637,551,2639]
["66",null,"202",null,null,"6632-101","機械修理",null,null,22962,17327,260677,47501,13086,4396,4306,90,8690,128,6566,6526,40,1951,882,1069,45,34415,555,108,447,33860,394,821,2013,1169,4988,10840,13359,276,77306,135870,92945,9646,9382,9230,2345,99,415,2383,3725,111,152,152,137,125,9,0,3,15,11,4,264,83237,63940,37132,9168,10382,7258,3881,6988,685,2465,2782,2496,62,42925,4809,5983,219,11107,4675,16132]
["66",null,"203",null,null,"6699-011","法務・財務・会計サービス",null,null,2372,1790,48996,24099,9841,7535,7386,149,2306,26,1361,1341,20,899,228,671,20,14258,3367,513,2854,10891,114,317,551,371,1985,2969,4459,125,7988,16909,9575,5285,5227,4080,1706,72,305,1707,276,6,8,1147,996,850,88,7,51,151,88,63,58,4116,850,670,42,31,107,89,853,26,25,84,2189,174,7334,1031,1989,573,1045,381,2315]
["66",null,"204",null,null,"6699-021","土木建築サービス",null,null,83890,63302,3821358,1876562,959964,513290,512271,1019,446674,4660,295980,295439,541,125582,113502,12080,20452,916598,54393,6230,48163,862205,6101,20949,20405,32049,151416,132388,485171,13726,282427,1662369,1433355,638949,632816,585491,236533,10139,39930,263989,33008,727,1165,47325,43241,36714,5018,915,594,4084,3393,691,6133,666395,274528,163126,24239,14172,72991,71276,28598,1799,31312,10558,248324,128011,229014,29194,41030,13938,22264,27530,95058]
["66",null,"205",null,null,"6699-031","労働者派遣サービス",null,null,3805,2871,253282,22531,4148,1870,1833,37,2278,26,1343,1324,19,889,226,663,20,18383,1845,281,1564,16538,173,482,836,564,3014,4508,6771,190,12811,217940,37974,17176,16940,13939,5448,269,860,6105,1158,31,68,3001,2717,2411,178,80,48,284,239,45,236,20441,7528,4955,565,562,1446,3910,2537,504,1572,575,3815,357,179966,10873,54005,34811,27223,9163,43891]
["66",null,"206",null,null,"6699-041","建物サービス",null,null,232,175,7236,1507,279,154,151,3,125,1,75,74,1,48,12,36,1,1228,75,11,64,1153,12,34,58,39,210,314,473,13,782,4947,3736,1667,1644,1353,529,26,83,593,112,3,7,291,264,234,17,8,5,27,23,4,23,2054,756,498,57,56,145,393,255,51,158,58,383,15,1211,401,259,25,178,60,288]
["66",null,"207",null,null,"6699-051","警備業",null,null,215,162,60328,45925,19885,9073,8894,179,10812,123,6378,6286,92,4216,1071,3145,95,26040,743,113,630,25297,265,737,1279,863,4610,6895,10357,291,724,13679,7682,3652,3602,2963,1158,57,183,1298,246,7,14,639,578,513,38,17,10,61,51,10,50,3837,1413,931,106,105,271,734,476,95,295,108,716,193,5997,1039,1402,162,1151,387,1856]
["66",null,"208",null,null,"6699-099","その他の対事業所サービス",null,null,1234,931,320193,215431,87761,38000,37119,881,49761,713,37525,37279,246,11243,5555,5688,280,127670,5224,511,4713,122446,1224,3860,7027,4455,22492,32759,49421,1208,4155,100607,40126,18825,18499,16029,6147,266,983,7147,1457,20,9,2470,2132,1856,166,64,46,338,281,57,326,19861,7724,5124,431,630,1539,4469,2815,460,1119,837,2437,1440,60481,4419,8741,1518,12796,4665,28342]
["67",null,"209",null,null,"6731-011","洗濯業",null,null,60,45,1815,323,96,36,35,1,60,1,35,34,1,23,6,17,1,227,29,4,25,198,2,6,10,7,36,54,81,2,200,1292,1004,397,392,322,126,6,20,140,27,1,2,70,63,56,4,2,1,7,6,1,5,582,215,142,16,16,41,111,72,14,45,16,109,25,288,64,73,9,48,16,78]
["67",null,"210",null,null,"6799-011","写真業",null,null,38,29,2619,879,383,169,166,3,214,2,127,125,2,83,21,62,2,496,22,3,19,474,5,14,24,16,86,129,195,5,130,1610,974,319,319,268,111,5,18,134,0,0,0,51,45,40,4,0,1,6,5,1,0,651,49,49,0,0,0,380,58,0,142,22,0,4,636,62,50,6,290,51,177]
["67",null,"211",null,null,"6799-041","各種修理業（別掲を除く。）",null,null,262,197,13195,5655,2548,1106,1084,22,1442,16,850,838,12,563,143,420,13,3107,131,20,111,2976,31,87,150,101,542,811,1220,34,881,6659,3799,2674,2637,2171,848,42,134,951,180,5,11,466,422,375,28,12,7,44,37,7,37,1122,413,272,31,31,79,215,139,28,86,32,209,3,2860,396,297,15,730,246,1176]
["67",null,"212",null,null,"6799-099","その他の対個人サービス",null,null,89,67,3116,1192,490,249,244,5,241,3,142,140,2,94,24,70,2,702,34,5,29,668,7,19,34,23,122,182,273,8,301,1623,915,402,396,326,128,6,20,142,27,1,2,70,63,56,4,2,1,7,6,1,6,500,185,122,14,14,35,96,62,12,38,14,93,13,708,56,161,31,156,53,251]
["68",null,"213",null,null,"6811-000","事務用品",null,null,69,52,49924,17698,12080,10466,10259,207,1614,18,952,938,14,630,160,470,14,5618,1930,294,1636,3688,39,107,186,126,672,1005,1511,42,234,31992,28216,15810,15493,13076,5186,220,862,6144,642,11,11,2417,2112,1815,201,47,49,305,242,63,317,12292,3187,2325,184,246,432,1707,1155,265,365,375,5238,114,3776,1839,863,251,213,99,511]
["69",null,"214",null,null,"6911-000","分類不明",null,null,53336,40252,919698,446383,181221,84640,83236,1404,96581,1669,69284,68490,794,24999,11349,13650,629,265162,10129,1232,8897,255033,2688,6280,14960,6739,64221,65186,88843,6116,179548,293767,158726,84035,83375,54509,23958,708,5663,21673,2269,57,181,28866,27582,25795,1509,108,170,1284,1051,233,660,74658,18145,12061,1249,2541,2294,12702,28068,6493,3224,1106,4920,33,135041,20217,36036,7221,11349,11976,48242]
["70",null,"215",null,null,"7000-000","内生部門計",null,null,1576626,1189698,32566641,16217846,8416225,4852504,4734193,118311,3563721,39670,1980579,1949792,30787,1501540,421050,1080490,41932,7801621,504790,56601,448189,7296831,70088,202555,307107,244840,1264626,2032583,3103277,71755,5307915,11040880,6619982,2994244,2942617,2369206,978256,51486,190611,924571,211653,4889,7740,573411,521863,460925,42154,11479,7305,51548,42652,8896,51627,3084412,1137821,698903,109008,99845,230065,597773,411490,46819,244417,88144,557948,541326,4420898,698974,978386,279505,744300,285461,1434272]
["71",null,"216",null,null,"7111-001","宿泊・日当",null,null,4149,3131,100621,46536,23213,13442,13060,382,9771,114,6023,5919,104,3542,1243,2299,92,23323,1503,147,1356,21820,188,721,1063,778,3700,6251,8820,299,13968,40117,29488,16263,16253,13609,5557,225,943,6784,95,2,3,2644,2326,1973,244,65,44,318,260,58,10,12403,782,487,11,214,70,6413,531,262,1035,209,3171,822,10629,2068,2448,752,4128,210,1023]
["71",null,"217",null,null,"7111-002","交際費",null,null,22252,16791,375281,198335,99557,61239,60428,811,38318,482,26054,25826,228,11570,5409,6161,212,98778,7294,722,6572,91484,799,2993,4528,3278,15593,26428,37131,734,74914,102032,59591,29363,28904,24973,9624,413,1548,11260,2085,29,14,3931,3401,2953,276,101,71,530,440,90,459,28362,11301,7378,601,1080,2242,6103,4230,681,1505,1317,3225,1866,42441,6391,9831,3519,6194,2364,14142]
["71",null,"218",null,null,"7111-003","福利厚生費",null,null,10391,7841,295182,166306,81890,50899,50028,871,30991,387,20385,20148,237,10005,4221,5784,214,84416,5695,559,5136,78721,680,2610,3844,2814,13402,22636,31932,803,34980,93896,56444,23688,23375,20172,7579,321,1235,8974,1997,34,32,3203,2784,2403,244,82,55,419,348,71,313,30186,14022,9680,1276,1021,2045,5384,4104,823,1179,1632,3042,2570,37452,5787,10077,3066,4984,2048,11490]
["91",null,"219",null,null,"9111-000","賃金・俸給",null,null,908948,685878,19016441,8810375,4473088,2661797,2615741,46056,1811291,22119,1180708,1166970,13738,594814,183425,411389,13650,4337287,284328,32857,251471,4052959,37954,126359,182763,147929,706036,1199071,1619694,33153,3060086,7145980,3828662,1701077,1671577,1368484,526656,20437,93939,612126,109600,2375,3351,303093,272103,235864,23911,7090,5238,30990,24774,6216,29500,1713997,648033,429295,42435,42747,133556,316503,201724,58409,162771,50534,276023,413588,3317318,555953,880829,240798,449534,235686,954518]
["91",null,"220",null,null,"9112-000","社会保険料（雇用主負担）",null,null,102714,77506,2241537,1046827,529003,309110,303249,5861,219893,2715,144668,142963,1705,70982,30691,40291,1528,517824,25753,2520,23233,492071,4225,16396,24409,17680,83385,141430,199502,5044,345798,848912,442593,196749,195473,166454,61773,2502,10463,75774,15129,348,465,29019,25541,21662,2693,740,446,3478,2876,602,1276,198155,39102,28078,2289,3278,5457,58879,16171,3290,9501,5787,65425,47689,406319,75747,108710,28651,92108,17235,83868]
["91",null,"221",null,null,"9113-000","その他の給与及び手当",null,null,27199,20524,596495,277203,140082,81853,80580,1273,58229,781,39296,38907,389,17800,8349,9451,352,137121,6820,648,6172,130301,1101,4475,6317,4680,22138,37279,53020,1291,91567,227725,117197,52099,51510,44366,16839,712,2746,19965,3979,67,58,7144,6212,5356,549,184,123,932,774,158,589,52471,20069,13393,984,2175,3517,10319,7901,2271,2573,2181,7157,12627,110528,22992,28785,7587,12600,5635,32929]
["92",null,"222",null,null,"9211-000","営業余剰",null,null,145104,109493,2421849,1438063,721689,441040,429778,11262,280649,2790,140718,138860,1858,135374,28847,106527,1767,716374,44916,4276,40640,671458,5736,22671,31986,23891,114351,192038,272549,8236,488511,495275,287816,135656,133303,115507,44298,1916,7082,51508,10501,135,67,17796,15361,13368,1193,470,330,2435,2023,412,2353,132567,51552,34198,2858,4215,10281,29863,18793,3048,7482,5602,16227,19593,207459,34793,54938,13579,29095,10608,64446]
["93",null,"223",null,null,"9311-000","資本減耗引当",null,null,87423,65968,3151127,1144177,523599,312762,307835,4927,210837,2473,144409,143148,1261,62708,22675,40033,1247,620578,30444,4101,26343,590134,6220,15126,30894,20157,93313,189318,230521,4585,294319,1712631,1086160,463014,457217,332499,190197,5630,26730,90682,17157,753,1350,124718,117025,112142,2601,419,1863,7693,6391,1302,5797,529105,220274,174380,8074,12495,25325,69484,98277,26482,50422,7087,57079,94041,626471,135582,217164,43461,65781,37176,127307]
["94",null,"224",null,null,"9411-000","間接税（関税・輸入品商品税を除く。）",null,null,146007,110174,3062707,1436870,725563,436088,427531,8557,289475,3324,172933,170486,2447,110865,30015,80850,2353,711307,45512,4903,40609,665795,6205,20020,30212,22848,117222,193393,268980,6915,491549,1134288,720670,319245,314229,258468,102414,4474,18221,110701,21498,451,709,55761,50698,44362,4344,1234,758,5063,4185,878,5016,327443,122764,79740,9059,9225,24740,65596,40055,7639,25896,10074,55419,73982,413618,69529,123934,32446,56011,24291,107407]
["95",null,"225",null,null,"9511-000","（控除）経常補助金",null,null,-30,-23,-259165,-102,-59,-31,-30,-1,-28,-1,-16,-16,0,-11,-3,-8,0,-43,-2,0,-2,-41,-2,-1,-2,-1,-7,-11,-17,0,-102,-258961,-33468,-15751,-15534,-12781,-4996,-247,-789,-5598,-1062,-27,-62,-2753,-2492,-2211,-163,-74,-44,-261,-220,-41,-217,-17075,-6288,-4139,-472,-469,-1208,-3266,-2119,-422,-1313,-480,-3187,-642,-225493,-73574,-4235,-2759,-49147,-16542,-79236]
["96",null,"226",null,null,"9600-000","粗付加価値部門計",null,null,1454157,1097283,31002075,14564590,7317625,4368199,4288200,79999,2949426,35184,1875178,1853211,21967,1017649,314872,702777,21415,7246965,452263,50733,401530,6794702,63106,211370,316014,244054,1169133,2007833,2722132,61060,4895590,11541895,6595153,2921403,2876307,2331751,959941,36383,162118,982176,180979,4167,5987,544556,492959,437872,35892,10311,8884,51597,41851,9746,45096,3007614,1121611,772490,67115,75981,206025,565278,389667,102483,261051,83943,483581,666136,4946742,835268,1432481,371100,671288,318711,1317894]
["97",null,"227",null,null,"9700-000","国内生産額",null,null,3030783,2286981,63568716,30782436,15733850,9220703,9022393,198310,6513147,74854,3855757,3803003,52754,2519189,735922,1783267,63347,15048586,957053,107334,849719,14091533,133194,413925,623121,488894,2433759,4040416,5825409,132815,10203505,22582775,13215135,5915647,5818924,4700957,1938197,87869,352729,1906747,392632,9056,13727,1117967,1014822,898797,78046,21790,16189,103145,84503,18642,96723,6092026,2259432,1471393,176123,175826,436090,1163051,801157,149302,505468,172087,1041529,1207462,9367640,1534242,2410867,650605,1415588,604172,2752166]

{"sheet":"R2来訪者入力","index":14,"n_rows":60,"n_cols":8,"rows_kept":60,"cut":false,"hidden":false,"merged":[[48,2,48,3],[48,4,48,6],[35,2,35,3],[23,2,23,3],[35,6,35,7]]}
["来訪者　入力シート"]
["　A、B、C について、黄色のシートに数値を入力してください。"]
["　ただし、Cについては、省略可能です。"]
[]
[]
[]
[]
[]
[null,"消費転換率（0から1の間の値）",{"$f":"+消費転換率!$C$9","v":0.55378261397054429}]
[]
[]
[]
[]
[]
[]
[null,null,"宿泊客","日帰り客"]
[null,null,"（人）","（人）"]
[null,"延べ人数"]
[]
[]
[]
[]
[null,"分析者入力用の消費単価"]
[null,null,"消費単価"]
[null,null,"宿泊客","日帰り客"]
[null,null,"（円）","（円）"]
[null,"交通費"]
[null,"宿泊費"]
[null,"飲食費"]
[null,"買物費"]
[null,"観光費"]
[null,"その他"]
[null,"計",{"$f":"SUM(C27:C32)","v":0},{"$f":"SUM(D27:D32)","v":0}]
[]
[null,"デフォルトの消費単価",null,null,null,"＜参考＞代替的な消費単価"]
[null,null,"消費単価",null,null,null,"消費単価"]
[null,null,"宿泊客","日帰り客",null,null,"宿泊客","日帰り客"]
[null,null,"（円）","（円）",null,null,"（円）","（円）"]
[null,"交通費",1279,632,null,"交通費",{"$f":"'R2来訪者費目変換'!I54","v":23455.148548893834},{"$f":"'R2来訪者費目変換'!J54","v":7353.2047325763351}]
[null,"宿泊費",13152,0,null,"宿泊費",{"$f":"'R2来訪者費目変換'!I55","v":16953.266935519048},{"$f":"'R2来訪者費目変換'!J55","v":0}]
[null,"飲食費",6901,2125,null,"飲食費",{"$f":"'R2来訪者費目変換'!I56","v":9105.2802480993396},{"$f":"'R2来訪者費目変換'!J56","v":2730.3363869973068}]
[null,"買物費",4507,1694,null,"買物費",{"$f":"'R2来訪者費目変換'!I57","v":7914.8480966799589},{"$f":"'R2来訪者費目変換'!J57","v":3765.5292196390792}]
[null,"観光費",1195,1152,null,"観光費",{"$f":"'R2来訪者費目変換'!I58","v":3450.7487347352767},{"$f":"'R2来訪者費目変換'!J58","v":2128.6400731909216}]
[null,"その他",676,136,null,"その他",{"$f":"'R2来訪者費目変換'!I59","v":724.3501707930709},{"$f":"'R2来訪者費目変換'!J59","v":330.99967526965793}]
[null,"計",{"$f":"SUM(C39:C44)","v":27710},{"$f":"SUM(D39:D44)","v":5739},null,"計",{"$f":"SUM(G39:G44)","v":61603.642734720532},{"$f":"SUM(H39:H44)","v":16308.710087673302}]
[null,"神奈川県『令和6年度観光客実態調査』より取得しています。",null,null,null,"観光庁『旅行・観光消費動向調査』2024年データをもとに作成しています。"]
[]
[null,"計算用セル"]
[null,null,"消費単価",null,"消費金額計"]
[null,null,"宿泊客","日帰り客","宿泊客","日帰り客","計"]
[null,null,"（円）","（円）","（百万円）","（百万円）","（百万円）"]
[null,"交通費",{"$f":"IF(C27<>\"\",C27,C39)","v":1279},632,{"$f":"C52*$C$18/1000000","v":0},{"$f":"D52*$D$18/1000000","v":0},{"$f":"SUM(E52:F52)","v":0}]
[null,"宿泊費",13152,0,0,0,0]
[null,"飲食費",6901,2125,0,0,0]
[null,"買物費",4507,1694,0,0,0]
[null,"観光費",1195,1152,0,0,0]
[null,"その他",676,136,0,0,0]
[null,"計",{"$f":"SUM(C52:C57)","v":27710},{"$f":"SUM(D52:D57)","v":5739},{"$f":"SUM(E52:E57)","v":0},{"$f":"SUM(F52:F57)","v":0},0]
[]
[null,"消費単価は、消費総額÷延べ旅行者数　により算出。よって、上で入力する人数は、延べ人数である。"]

{"sheet":"R2来訪者費目変換","index":15,"n_rows":84,"n_cols":14,"rows_kept":84,"cut":false,"hidden":false,"merged":[]}
[null,null,null,"旅行・観光消費動向調査　2024年年間　集計表"]
[null,null,null,null,"第17表　宿泊の有無(2区分)，旅行目的(3区分)，",null,null,null,"第12表　宿泊の有無(2区分)，旅行目的(3区分)，年齢(9区分)"]
[null,null,null,null,"　　　　　旅行形態(2区分)，品目(小分類)別 旅行消費額 ─ 国内旅行",null,null,null,"　　　　　，男女(2区分)・旅行形態(2区分)別 延べ旅行者数 ─ 国内旅行"]
[]
[]
[null,null,null,null,null,null,null,null,"延べ旅行者数"]
[null,null,null,null,"単位：百万円","宿泊旅行","日帰り旅行",null,"宿泊旅行","日帰り旅行"]
[null,"IO37部門",null,"6区分","品目（小分類）",20332510.633000001,4821057.3289999999,null,293138.06300000002,246810.93700000001]
[]
[]
[null,null,null,null,null,null,null,null,"一人（一回）当たり消費"]
[null,null,null,null,"　旅行中",18058372.504000001,4025168.0180000002,null,{"$f":"F12/I$8*1000","v":61603.64273130917},16308.710087673304]
[null,"57","運輸・郵便　　　","交","　　参加費",1474894.469,157327.94200000001,null,5031.3986996632366,637.44315350174293]
[null,null,null,null,"　　交通費",5400702.3439999996,1657523.4080000001,null,18423.749849230597,6715.7615790745931]
[null,"57","運輸・郵便　　　","交","　　　航空（長距離移動）",1055482.2620000001,59879.197999999997,null,3600.6319042914602,242.61160679439419]
[null,"57","運輸・郵便　　　","交","　　　新幹線・鉄道（長距離移動）",1441744.6189999999,472261.08799999999,null,4918.3125665942598,1913.4528385992878]
[null,"57","運輸・郵便　　　","交","　　　長距離バス",89567.86,30065.241999999998,null,305.54837909261892,121.81486916845989]
[null,"57","運輸・郵便　　　","交","　　　航空（短距離移動）",236516.54300000001,13978.76,null,806.84350772966661,56.637522509790557]
[null,"57","運輸・郵便　　　","交","　　　鉄道･モノレール（短距離移動）",336560.86300000001,153907.014,null,1148.1308826141762,623.58263321207676]
[null,"57","運輸・郵便　　　","交","　　　近郊バス",36570.627,12049.962,null,124.75564116694051,48.82264192368428]
[null,"57","運輸・郵便　　　","交","　　　タクシー・ハイヤー",124706.818,27578.745999999999,null,425.42007927506836,111.74037234824807]
[null,"57","運輸・郵便　　　","交","　　　船舶",109466.29,9938.0519999999997,null,373.42912373682424,40.265849320931835]
[null,"66","対事業所サービス","交","　　　レンタカー・カーシェアリング",316989.30900000001,46873.684000000001,null,1081.3652302805863,189.91736982871225]
[null,"21","石油・石炭製品　　　","交","　　　ガソリン",844717.73400000005,473807.51899999997,null,2881.6378376628627,1919.7184888123493]
[null,"57","運輸・郵便　　　","交","　　　その他交通費",808379.41899999999,357184.14299999998,null,2757.674696786135,1447.1973865566581]
[null,"67","対個人サービス","宿","　　宿泊費　　",4969647.8310000002,"…",null,16953.266935519048,{"$error":"#VALUE!"}]
[null,"67","対個人サービス","飲","　　飲食費",2669104.2149999999,673876.88199999998,null,9105.2802480993396,2730.3363869973068]
[null,null,null,null,"　　買物代",2320143.2400000002,929373.79500000004,null,7914.8480966799589,3765.5292196390797]
[null,"11","飲食料品　　　　　　　","買","　　　菓子類",495900.87199999997,162760.72399999999,null,1691.6973078313611,659.45507106923708]
[null,"01","農林漁業","買","　　　農産物",103610.95299999999,78467.423999999999,null,353.45445057402861,317.92523035557372]
[null,"11","農林漁業","買","　　　水産物",108207.405,53387.326999999997,null,369.13461149533481,216.30859494690867]
[null,"11","飲食料品　　　　　　　","買","　　　その他食料品・飲料・酒・たばこ",305065.82799999998,120973.20299999999,null,1040.6899222773397,490.14522804554645]
[null,"15","繊維製品　","買","　　　衣類・帽子・ハンカチなど繊維製品",166349.24,97527.028000000006,null,567.47744833123215,395.14872876156215]
[null,"39","その他の製造工業製品","買","　　　靴・かばんなど皮革製品",62992.512000000002,36457.080999999998,null,214.89025121926932,147.71258293144442]
[null,"20","化学製品  　　　  　","買","　　　化粧品・医薬品・写真フィルムなど",28989.223000000002,14428.567999999999,null,98.892728918659728,58.460002524118288]
[null,"25","窯業・土石製品　　","買","　　　陶磁器・ガラス製品",32758.137999999999,13782.584000000001,null,111.74986170253842,55.842679289370388]
[null,"39","その他の製造工業製品","買","　　　その他土産代・買物代",1016269.069,351589.85600000003,null,3466.8615143301945,1424.5311017153183]
[null,null,null,null,"　　娯楽等サービス費・その他",1223880.406,607065.99100000004,null,4175.098905528348,2459.63974846058]
[null,"67","対個人サービス","観","　　　温泉・温浴施設・エステ・リラクゼーション",136595.68299999999,52722.847000000002,null,465.97729957709373,213.6163317592364]
[null,"67","対個人サービス","観","　　　テーマパーク・遊園地",451867.67599999998,201483.49100000001,null,1541.4841435995979,816.34749840927839]
[null,"63","教育・研究　　　　　","観","　　　美術館・博物館・資料館・動植物園・水族館など",135032.77100000001,47963.745999999999,null,460.64564123151757,194.33395692671431]
[null,"67","対個人サービス","観","　　　スキー場リフト",21394.417000000001,19347.871999999999,null,72.984097599089338,78.391469337519666]
[null,"67","対個人サービス","観","　　　スポーツ施設利用料",72303.794999999998,72076.744999999995,null,246.65440666434367,292.03221654638423]
[null,"67","対個人サービス","観","　　　スポーツ観戦",31331.511999999999,19904.795999999998,null,106.88312421577267,80.647949567972333]
[null,"67","対個人サービス","観","　　　舞台・音楽鑑賞",143299.04300000001,98405.826000000001,null,488.84488603583355,398.70934082633465]
[null,"67","対個人サービス","観","　　　展示会・コンベンション参加費",19720.902999999998,13466.328,null,67.275135812028594,54.56130981748187]
[null,"66","対事業所サービス","他","　　　レンタル料",13236.338,6528.2749999999996,null,45.153938265601482,26.450509362962304]
[null,"67","対個人サービス","他","　　　その他娯楽等サービス費",108545.16,41293.667999999998,null,370.28681601133457,167.30890657410373]
[null,"67","対個人サービス","他","　　　その他　",90553.107999999993,33872.396999999997,null,308.90941651613485,137.24025933259188]
[]
[]
[null,"●６費目に集計",null,null,null,null,null,null,"消費単価"]
[null,null,null,null,null,"宿泊旅行","日帰り旅行",null,"宿泊旅行","日帰り旅行"]
[null,null,null,"交","交通費",{"$f":"SUMIF($D$13:$D$49,$D54,F$13:F$49)","v":6875596.8130000001},1814851.3499999999,null,{"$f":"F54/I$8*1000","v":23455.148548893834},7353.2047325763351]
[null,null,null,"宿","宿泊費",4969647.8310000002,0,null,16953.266935519048,0]
[null,null,null,"飲","飲食費",2669104.2149999999,673876.88199999998,null,9105.2802480993396,2730.3363869973068]
[null,null,null,"買","土産代・買物代",2320143.2400000002,929373.79499999993,null,7914.8480966799589,3765.5292196390792]
[null,null,null,"観","入場料・施設利用料",1011545.7999999999,525371.65099999995,null,3450.7487347352767,2128.6400731909216]
[null,null,null,"他","その他",212334.606,81694.34,null,724.3501707930709,330.99967526965793]
[null,null,null,null,"合計",{"$f":"SUM(F54:F59)","v":18058372.504999999},{"$f":"SUM(G54:G59)","v":4025168.0179999997},null,{"$f":"SUM(I54:I59)","v":61603.642734720532},{"$f":"SUM(J54:J59)","v":16308.710087673302}]
[null,null,null,null,null,{"$f":"+F60-F12","v":9.999983012676239E-4},{"$f":"+G60-G12","v":0}]
[null,null,null,null,null,null,null,null,null,null,null,"買物代"]
[null,null,null,null,null,null,null,null,null,null,null,{"$f":"+'R2来訪者入力'!E55","v":0},{"$f":"+'R2来訪者入力'!F55","v":0}]
[null,"●買物代の内訳"]
[null,null,null,null,null,null,null,null,"構成比",null,null,"IO-37部門に配分"]
[null,null,null,null,null,"宿泊旅行","日帰り旅行",null,"宿泊旅行","日帰り旅行",null,"宿泊旅行","日帰り旅行","計"]
[null,"01","農林漁業","買",null,{"$f":"SUMIFS(F$13:F$49,$B$13:$B$49,$B67,$D$13:$D$49,$D67)","v":103610.95299999999},78467.423999999999,null,{"$f":"F67/F$73","v":4.465713634128899E-2},8.443042446661625E-2,null,{"$f":"L$63*I67","v":0},{"$f":"M$63*J67","v":0},{"$f":"SUM(L67:M67)","v":0}]
[null,"11","飲食料品　　　　　　　","買",null,909174.10499999998,337121.25399999996,null,0.39186119603546543,0.36274021907407011,null,{"$f":"L$63*I68","v":0},0,{"$f":"SUM(L68:M68)","v":0}]
[null,"15","繊維製品　","買",null,166349.24,97527.028000000006,null,7.1697831897654718E-2,0.10493843115083744,null,0,0,0]
[null,"20","化学製品  　　　  　","買",null,28989.223000000002,14428.567999999999,null,1.249458330857193E-2,1.5525042859638622E-2,null,0,0,0]
[null,"25","窯業・土石製品　　","買",null,32758.137999999999,13782.584000000001,null,1.4119015341483828E-2,1.4829968387477506E-2,null,0,0,0]
[null,"39","その他の製造工業製品","買",null,1079261.581,388046.93700000003,null,0.46517023707553501,0.41753591406136004,null,0,0,0]
[null,null,null,null,null,{"$f":"SUM(F67:F72)","v":2320143.2400000002},{"$f":"SUM(G67:G72)","v":929373.79500000004},null,{"$f":"SUM(I67:I72)","v":1},{"$f":"SUM(J67:J72)","v":1},null,{"$f":"SUM(L67:L72)","v":0},{"$f":"SUM(M67:M72)","v":0},{"$f":"SUM(N67:N72)","v":0}]
[null,null,null,null,null,{"$f":"+F73-F28","v":0},{"$f":"+G73-G28","v":0}]
[]
[null,null,null,null,null,null,null,null,null,null,null,"その他の支出"]
[null,null,null,null,null,null,null,null,null,null,null,{"$f":"+'R2来訪者入力'!E57","v":0},{"$f":"+'R2来訪者入力'!F57","v":0}]
[]
[null,"●その他の内訳",null,null,null,null,null,null,null,null,null,"IO-37部門に配分"]
[null,null,null,null,null,null,null,null,"宿泊旅行","日帰り旅行",null,"宿泊旅行","日帰り旅行","計"]
[null,"66","対事業所サービス","他",null,{"$f":"SUMIFS(F$13:F$49,$B$13:$B$49,$B81,$D$13:$D$49,$D81)","v":13236.338},{"$f":"SUMIFS(G$13:G$49,$B$13:$B$49,$B81,$D$13:$D$49,$D81)","v":6528.2749999999996},null,{"$f":"F81/F$83","v":6.2337167969690264E-2},{"$f":"G81/G$83","v":7.9910982817169462E-2},null,{"$f":"L$77*I81","v":0},{"$f":"M$77*J81","v":0},{"$f":"SUM(L81:M81)","v":0}]
[null,"67","対個人サービス","他",null,{"$f":"SUMIFS(F$13:F$49,$B$13:$B$49,$B82,$D$13:$D$49,$D82)","v":199098.26799999998},{"$f":"SUMIFS(G$13:G$49,$B$13:$B$49,$B82,$D$13:$D$49,$D82)","v":75166.065000000002},null,{"$f":"F82/F$83","v":0.93766283203030976},{"$f":"G82/G$83","v":0.92008901718283065},null,{"$f":"L$77*I82","v":0},{"$f":"M$77*J82","v":0},{"$f":"SUM(L82:M82)","v":0}]
[null,null,null,null,null,{"$f":"SUM(F81:F82)","v":212334.60599999997},{"$f":"SUM(G81:G82)","v":81694.34},null,{"$f":"SUM(I81:I82)","v":1},{"$f":"SUM(J81:J82)","v":1},null,{"$f":"SUM(L81:L82)","v":0},{"$f":"SUM(M81:M82)","v":0},{"$f":"SUM(N77:N82)","v":0}]
[null,null,null,null,null,{"$f":"+F83-SUM(F47:F49)","v":0},{"$f":"+G83-SUM(G47:G49)","v":0}]

{"sheet":"R2来訪者生産者価格","index":16,"n_rows":43,"n_cols":16,"rows_kept":43,"cut":false,"hidden":false,"merged":[]}
[]
[]
[null,null,null,null,null,null,null,null,null,null,"「鉱業」、「鉄鋼」については、家計消費支出はマイナス計上になるため、需要合計のマージンを適用"]
[null,null,null,null,null,null,null,null,"購入者価格"]
["37部門表",null,"交通費","宿泊費","飲食費","買物費","観光費","その他","計",null,"商業マージン率","運賃率",null,"商業マージン","運賃","生産者価格"]
["01","農林漁業",null,null,null,{"$f":"SUMIF('R2来訪者費目変換'!$B$67:$B$72,$A6,'R2来訪者費目変換'!$N$67:$N$72)","v":0},null,{"$f":"SUMIF('R2来訪者費目変換'!$B$81:$B$82,$A6,'R2来訪者費目変換'!$N$81:$N$82)","v":0},{"$f":"SUM(C6:H6)","v":0},null,0.44339940406078615,4.2585833204687569E-2,null,{"$f":"I6*K6","v":0},{"$f":"I6*L6","v":0},{"$f":"I6-N6-O6","v":0}]
["06","鉱業",null,null,null,{"$f":"SUMIF('R2来訪者費目変換'!$B$67:$B$72,$A7,'R2来訪者費目変換'!$N$67:$N$72)","v":0},null,{"$f":"SUMIF('R2来訪者費目変換'!$B$81:$B$82,$A7,'R2来訪者費目変換'!$N$81:$N$82)","v":0},{"$f":"SUM(C7:H7)","v":0},null,{"$f":"+'R2係数一覧'!I7","v":1.277017230258868E-2},{"$f":"+'R2係数一覧'!J7","v":7.5257662349945367E-2},null,{"$f":"I7*K7","v":0},{"$f":"I7*L7","v":0},{"$f":"I7-N7-O7","v":0}]
["11","飲食料品",null,null,null,{"$f":"SUMIF('R2来訪者費目変換'!$B$67:$B$72,$A8,'R2来訪者費目変換'!$N$67:$N$72)","v":0},null,{"$f":"SUMIF('R2来訪者費目変換'!$B$81:$B$82,$A8,'R2来訪者費目変換'!$N$81:$N$82)","v":0},0,null,0.37437888906128547,2.8480900533491917E-2,null,0,0,0]
["15","繊維製品",null,null,null,{"$f":"SUMIF('R2来訪者費目変換'!$B$67:$B$72,$A9,'R2来訪者費目変換'!$N$67:$N$72)","v":0},null,{"$f":"SUMIF('R2来訪者費目変換'!$B$81:$B$82,$A9,'R2来訪者費目変換'!$N$81:$N$82)","v":0},0,null,0.53972282677656147,2.8928488381405295E-2,null,0,0,0]
["16","パルプ・紙・木製品",null,null,null,{"$f":"SUMIF('R2来訪者費目変換'!$B$67:$B$72,$A10,'R2来訪者費目変換'!$N$67:$N$72)","v":0},null,{"$f":"SUMIF('R2来訪者費目変換'!$B$81:$B$82,$A10,'R2来訪者費目変換'!$N$81:$N$82)","v":0},0,null,0.61629578503747429,4.3142289676209596E-2,null,0,0,0]
["20","化学製品",null,null,null,{"$f":"SUMIF('R2来訪者費目変換'!$B$67:$B$72,$A11,'R2来訪者費目変換'!$N$67:$N$72)","v":0},null,{"$f":"SUMIF('R2来訪者費目変換'!$B$81:$B$82,$A11,'R2来訪者費目変換'!$N$81:$N$82)","v":0},0,null,0.60450205313556593,1.2070811026135712E-2,null,0,0,0]
["21","石油・石炭製品",null,null,null,{"$f":"SUMIF('R2来訪者費目変換'!$B$67:$B$72,$A12,'R2来訪者費目変換'!$N$67:$N$72)","v":0},null,{"$f":"SUMIF('R2来訪者費目変換'!$B$81:$B$82,$A12,'R2来訪者費目変換'!$N$81:$N$82)","v":0},0,null,0.32245901778563435,1.7258944097999329E-2,null,0,0,0]
["22","プラスチック・ゴム製品",null,null,null,{"$f":"SUMIF('R2来訪者費目変換'!$B$67:$B$72,$A13,'R2来訪者費目変換'!$N$67:$N$72)","v":0},null,{"$f":"SUMIF('R2来訪者費目変換'!$B$81:$B$82,$A13,'R2来訪者費目変換'!$N$81:$N$82)","v":0},0,null,0.50628881511594281,4.6819296731270138E-2,null,0,0,0]
["25","窯業・土石製品",null,null,null,{"$f":"SUMIF('R2来訪者費目変換'!$B$67:$B$72,$A14,'R2来訪者費目変換'!$N$67:$N$72)","v":0},null,{"$f":"SUMIF('R2来訪者費目変換'!$B$81:$B$82,$A14,'R2来訪者費目変換'!$N$81:$N$82)","v":0},0,null,0.55290948702713405,2.5109922756981578E-2,null,0,0,0]
["26","鉄鋼",null,null,null,{"$f":"SUMIF('R2来訪者費目変換'!$B$67:$B$72,$A15,'R2来訪者費目変換'!$N$67:$N$72)","v":0},null,{"$f":"SUMIF('R2来訪者費目変換'!$B$81:$B$82,$A15,'R2来訪者費目変換'!$N$81:$N$82)","v":0},0,null,{"$f":"+'R2係数一覧'!I15","v":4.4136684029070707E-2},{"$f":"+'R2係数一覧'!J15","v":3.225973311748552E-2},null,0,0,0]
["27","非鉄金属",null,null,null,{"$f":"SUMIF('R2来訪者費目変換'!$B$67:$B$72,$A16,'R2来訪者費目変換'!$N$67:$N$72)","v":0},null,{"$f":"SUMIF('R2来訪者費目変換'!$B$81:$B$82,$A16,'R2来訪者費目変換'!$N$81:$N$82)","v":0},0,null,0.57782332400720071,1.5670071789533044E-2,null,0,0,0]
["28","金属製品",null,null,null,{"$f":"SUMIF('R2来訪者費目変換'!$B$67:$B$72,$A17,'R2来訪者費目変換'!$N$67:$N$72)","v":0},null,{"$f":"SUMIF('R2来訪者費目変換'!$B$81:$B$82,$A17,'R2来訪者費目変換'!$N$81:$N$82)","v":0},0,null,0.51708803702856532,2.3062122414929831E-2,null,0,0,0]
["29","はん用機械",null,null,null,{"$f":"SUMIF('R2来訪者費目変換'!$B$67:$B$72,$A18,'R2来訪者費目変換'!$N$67:$N$72)","v":0},null,{"$f":"SUMIF('R2来訪者費目変換'!$B$81:$B$82,$A18,'R2来訪者費目変換'!$N$81:$N$82)","v":0},0,null,0.49161546801590172,9.4325984821105897E-3,null,0,0,0]
["30","生産用機械",null,null,null,{"$f":"SUMIF('R2来訪者費目変換'!$B$67:$B$72,$A19,'R2来訪者費目変換'!$N$67:$N$72)","v":0},null,{"$f":"SUMIF('R2来訪者費目変換'!$B$81:$B$82,$A19,'R2来訪者費目変換'!$N$81:$N$82)","v":0},0,null,0.72975051264524948,5.1691729323308276E-3,null,0,0,0]
["31","業務用機械",null,null,null,{"$f":"SUMIF('R2来訪者費目変換'!$B$67:$B$72,$A20,'R2来訪者費目変換'!$N$67:$N$72)","v":0},null,{"$f":"SUMIF('R2来訪者費目変換'!$B$81:$B$82,$A20,'R2来訪者費目変換'!$N$81:$N$82)","v":0},0,null,0.72611417163271741,5.6102613368558514E-3,null,0,0,0]
["32","電子部品",null,null,null,{"$f":"SUMIF('R2来訪者費目変換'!$B$67:$B$72,$A21,'R2来訪者費目変換'!$N$67:$N$72)","v":0},null,{"$f":"SUMIF('R2来訪者費目変換'!$B$81:$B$82,$A21,'R2来訪者費目変換'!$N$81:$N$82)","v":0},0,null,0.51190622734670987,9.9435120977117621E-3,null,0,0,0]
["33","電気機械",null,null,null,{"$f":"SUMIF('R2来訪者費目変換'!$B$67:$B$72,$A22,'R2来訪者費目変換'!$N$67:$N$72)","v":0},null,{"$f":"SUMIF('R2来訪者費目変換'!$B$81:$B$82,$A22,'R2来訪者費目変換'!$N$81:$N$82)","v":0},0,null,0.39712135314159908,7.7466403326890776E-3,null,0,0,0]
["34","情報通信機器",null,null,null,{"$f":"SUMIF('R2来訪者費目変換'!$B$67:$B$72,$A23,'R2来訪者費目変換'!$N$67:$N$72)","v":0},null,{"$f":"SUMIF('R2来訪者費目変換'!$B$81:$B$82,$A23,'R2来訪者費目変換'!$N$81:$N$82)","v":0},0,null,0.277694325607027,8.4118576062658362E-3,null,0,0,0]
["35","輸送機械",null,null,null,{"$f":"SUMIF('R2来訪者費目変換'!$B$67:$B$72,$A24,'R2来訪者費目変換'!$N$67:$N$72)","v":0},null,{"$f":"SUMIF('R2来訪者費目変換'!$B$81:$B$82,$A24,'R2来訪者費目変換'!$N$81:$N$82)","v":0},0,null,0.34811689677890412,1.7245825306075872E-2,null,0,0,0]
["39","その他の製造工業製品",null,null,null,{"$f":"SUMIF('R2来訪者費目変換'!$B$67:$B$72,$A25,'R2来訪者費目変換'!$N$67:$N$72)","v":0},null,{"$f":"SUMIF('R2来訪者費目変換'!$B$81:$B$82,$A25,'R2来訪者費目変換'!$N$81:$N$82)","v":0},0,null,0.53820361451074539,2.3579961351525444E-2,null,0,0,0]
["41","建設",null,null,null,{"$f":"SUMIF('R2来訪者費目変換'!$B$67:$B$72,$A26,'R2来訪者費目変換'!$N$67:$N$72)","v":0},null,{"$f":"SUMIF('R2来訪者費目変換'!$B$81:$B$82,$A26,'R2来訪者費目変換'!$N$81:$N$82)","v":0},0,null,0,0,null,0,0,0]
["46","電気・ガス・熱供給",null,null,null,{"$f":"SUMIF('R2来訪者費目変換'!$B$67:$B$72,$A27,'R2来訪者費目変換'!$N$67:$N$72)","v":0},null,{"$f":"SUMIF('R2来訪者費目変換'!$B$81:$B$82,$A27,'R2来訪者費目変換'!$N$81:$N$82)","v":0},0,null,0,0,null,0,0,0]
["47","水道",null,null,null,{"$f":"SUMIF('R2来訪者費目変換'!$B$67:$B$72,$A28,'R2来訪者費目変換'!$N$67:$N$72)","v":0},null,{"$f":"SUMIF('R2来訪者費目変換'!$B$81:$B$82,$A28,'R2来訪者費目変換'!$N$81:$N$82)","v":0},0,null,0,0,null,0,0,0]
["48","廃棄物処理",null,null,null,{"$f":"SUMIF('R2来訪者費目変換'!$B$67:$B$72,$A29,'R2来訪者費目変換'!$N$67:$N$72)","v":0},null,{"$f":"SUMIF('R2来訪者費目変換'!$B$81:$B$82,$A29,'R2来訪者費目変換'!$N$81:$N$82)","v":0},0,null,0,0,null,0,0,0]
["51","商業",null,null,null,{"$f":"SUMIF('R2来訪者費目変換'!$B$67:$B$72,$A30,'R2来訪者費目変換'!$N$67:$N$72)","v":0},null,{"$f":"SUMIF('R2来訪者費目変換'!$B$81:$B$82,$A30,'R2来訪者費目変換'!$N$81:$N$82)","v":0},0,null,null,0,null,0,0,{"$f":"I30+N43","v":0}]
["53","金融・保険",null,null,null,{"$f":"SUMIF('R2来訪者費目変換'!$B$67:$B$72,$A31,'R2来訪者費目変換'!$N$67:$N$72)","v":0},null,{"$f":"SUMIF('R2来訪者費目変換'!$B$81:$B$82,$A31,'R2来訪者費目変換'!$N$81:$N$82)","v":0},0,null,0,0,null,0,0,0]
["55","不動産",null,null,null,{"$f":"SUMIF('R2来訪者費目変換'!$B$67:$B$72,$A32,'R2来訪者費目変換'!$N$67:$N$72)","v":0},null,{"$f":"SUMIF('R2来訪者費目変換'!$B$81:$B$82,$A32,'R2来訪者費目変換'!$N$81:$N$82)","v":0},0,null,0,0,null,0,0,0]
["57","運輸・郵便",{"$f":"'R2来訪者入力'!G52","v":0},null,null,{"$f":"SUMIF('R2来訪者費目変換'!$B$67:$B$72,$A33,'R2来訪者費目変換'!$N$67:$N$72)","v":0},null,{"$f":"SUMIF('R2来訪者費目変換'!$B$81:$B$82,$A33,'R2来訪者費目変換'!$N$81:$N$82)","v":0},0,null,0,null,null,0,0,{"$f":"I33+O43","v":0}]
["59","情報通信",null,null,null,{"$f":"SUMIF('R2来訪者費目変換'!$B$67:$B$72,$A34,'R2来訪者費目変換'!$N$67:$N$72)","v":0},null,{"$f":"SUMIF('R2来訪者費目変換'!$B$81:$B$82,$A34,'R2来訪者費目変換'!$N$81:$N$82)","v":0},0,null,8.6450461126606398E-2,8.8370883316921459E-3,null,0,0,0]
["61","公務",null,null,null,{"$f":"SUMIF('R2来訪者費目変換'!$B$67:$B$72,$A35,'R2来訪者費目変換'!$N$67:$N$72)","v":0},null,{"$f":"SUMIF('R2来訪者費目変換'!$B$81:$B$82,$A35,'R2来訪者費目変換'!$N$81:$N$82)","v":0},0,null,0,0,null,0,0,0]
["63","教育・研究",null,null,null,{"$f":"SUMIF('R2来訪者費目変換'!$B$67:$B$72,$A36,'R2来訪者費目変換'!$N$67:$N$72)","v":0},null,{"$f":"SUMIF('R2来訪者費目変換'!$B$81:$B$82,$A36,'R2来訪者費目変換'!$N$81:$N$82)","v":0},0,null,0,0,null,0,0,0]
["64","医療・福祉",null,null,null,{"$f":"SUMIF('R2来訪者費目変換'!$B$67:$B$72,$A37,'R2来訪者費目変換'!$N$67:$N$72)","v":0},null,{"$f":"SUMIF('R2来訪者費目変換'!$B$81:$B$82,$A37,'R2来訪者費目変換'!$N$81:$N$82)","v":0},0,null,0,0,null,0,0,0]
["65","他に分類されない会員制団体",null,null,null,{"$f":"SUMIF('R2来訪者費目変換'!$B$67:$B$72,$A38,'R2来訪者費目変換'!$N$67:$N$72)","v":0},null,{"$f":"SUMIF('R2来訪者費目変換'!$B$81:$B$82,$A38,'R2来訪者費目変換'!$N$81:$N$82)","v":0},0,null,0,0,null,0,0,0]
["66","対事業所サービス",null,null,null,{"$f":"SUMIF('R2来訪者費目変換'!$B$67:$B$72,$A39,'R2来訪者費目変換'!$N$67:$N$72)","v":0},null,{"$f":"SUMIF('R2来訪者費目変換'!$B$81:$B$82,$A39,'R2来訪者費目変換'!$N$81:$N$82)","v":0},0,null,0,0,null,0,0,0]
["67","対個人サービス",null,{"$f":"'R2来訪者入力'!G53","v":0},{"$f":"'R2来訪者入力'!G54","v":0},{"$f":"SUMIF('R2来訪者費目変換'!$B$67:$B$72,$A40,'R2来訪者費目変換'!$N$67:$N$72)","v":0},{"$f":"'R2来訪者入力'!G56","v":0},{"$f":"SUMIF('R2来訪者費目変換'!$B$81:$B$82,$A40,'R2来訪者費目変換'!$N$81:$N$82)","v":0},0,null,0,0,null,0,0,0]
["68","事務用品",null,null,null,{"$f":"SUMIF('R2来訪者費目変換'!$B$67:$B$72,$A41,'R2来訪者費目変換'!$N$67:$N$72)","v":0},null,{"$f":"SUMIF('R2来訪者費目変換'!$B$81:$B$82,$A41,'R2来訪者費目変換'!$N$81:$N$82)","v":0},0,null,0,0,null,0,0,0]
["69","分類不明",null,null,null,{"$f":"SUMIF('R2来訪者費目変換'!$B$67:$B$72,$A42,'R2来訪者費目変換'!$N$67:$N$72)","v":0},null,{"$f":"SUMIF('R2来訪者費目変換'!$B$81:$B$82,$A42,'R2来訪者費目変換'!$N$81:$N$82)","v":0},0,null,2.9791459781529295E-2,6.7527308838133071E-2,null,0,0,0]
["70","内生部門計　　",{"$f":"SUM(C6:C42)","v":0},{"$f":"SUM(D6:D42)","v":0},0,{"$f":"SUM(F6:F42)","v":0},0,0,0,null,null,null,null,{"$f":"SUM(N6:N42)","v":0},{"$f":"SUM(O6:O42)","v":0},{"$f":"SUM(P6:P42)","v":0}]

{"sheet":"R2来訪者計算","index":17,"n_rows":62,"n_cols":24,"rows_kept":62,"cut":false,"hidden":false,"merged":[]}
[]
[]
[]
[null,null,null,"発生需要額","直接効果",null,null,null,"１次効果",null,null,null,null,null,"直接＋１次",null,null,null,"２次効果"]
["13部門","37部門",null,null,"市内生産額","粗付加価値額","雇用者所得","雇用者誘発数",null,"市内生産額","生産誘発額","粗付加価値額","雇用者所得","雇用者誘発数","生産誘発額","粗付加価値額","雇用者所得","雇用者誘発数","発生需要額","市内生産額","生産誘発額","粗付加価値額","雇用者所得","雇用者誘発数"]
["01","01","農林漁業",{"$f":"'R2来訪者生産者価格'!P6","v":0},{"$f":"D6*'R2係数一覧'!F6","v":0},{"$f":"E6*'R2係数一覧'!D6","v":0},{"$f":"E6*'R2係数一覧'!C6","v":0},{"$f":"ROUND(E6*'R2雇用表'!O6,0)","v":0},{"$f":"MMULT('R2投入'!C5:AM41,'R2来訪者計算'!E6:E42)","v":0},{"$f":"I6*'R2係数一覧'!E6","v":0},{"$f":"MMULT('R2逆行列'!C5:AM41,'R2来訪者計算'!J6:J42)","v":0},{"$f":"K6*'R2係数一覧'!D6","v":0},{"$f":"K6*'R2係数一覧'!C6","v":0},{"$f":"K6*'R2雇用表'!O6","v":0},{"$f":"MMULT('R2逆行列'!C5:AM41,E6:E42)","v":0},{"$f":"O6*'R2係数一覧'!D6","v":0},{"$f":"O6*'R2係数一覧'!C6","v":0},{"$f":"O6*'R2雇用表'!O6","v":0},{"$f":"S$43*'R2係数一覧'!H6","v":0},{"$f":"S6*'R2係数一覧'!E6","v":0},{"$f":"MMULT('R2逆行列'!C5:AM41,T6:T42)","v":0},{"$f":"U6*'R2係数一覧'!D6","v":0},{"$f":"U6*'R2係数一覧'!C6","v":0},{"$f":"U6*'R2雇用表'!O6","v":0}]
["02","06","鉱業",{"$f":"'R2来訪者生産者価格'!P7","v":0},{"$f":"D7*'R2係数一覧'!F7","v":0},{"$f":"E7*'R2係数一覧'!D7","v":0},{"$f":"E7*'R2係数一覧'!C7","v":0},{"$f":"ROUND(E7*'R2雇用表'!O7,0)","v":0},0,{"$f":"I7*'R2係数一覧'!E7","v":0},0,{"$f":"K7*'R2係数一覧'!D7","v":0},{"$f":"K7*'R2係数一覧'!C7","v":0},{"$f":"K7*'R2雇用表'!O7","v":0},0,{"$f":"O7*'R2係数一覧'!D7","v":0},{"$f":"O7*'R2係数一覧'!C7","v":0},{"$f":"O7*'R2雇用表'!O7","v":0},{"$f":"S$43*'R2係数一覧'!H7","v":0},{"$f":"S7*'R2係数一覧'!E7","v":0},0,{"$f":"U7*'R2係数一覧'!D7","v":0},{"$f":"U7*'R2係数一覧'!C7","v":0},{"$f":"U7*'R2雇用表'!O7","v":0}]
["03","11","飲食料品",{"$f":"'R2来訪者生産者価格'!P8","v":0},{"$f":"D8*'R2係数一覧'!F8","v":0},{"$f":"E8*'R2係数一覧'!D8","v":0},{"$f":"E8*'R2係数一覧'!C8","v":0},{"$f":"ROUND(E8*'R2雇用表'!O8,0)","v":0},0,{"$f":"I8*'R2係数一覧'!E8","v":0},0,{"$f":"K8*'R2係数一覧'!D8","v":0},{"$f":"K8*'R2係数一覧'!C8","v":0},{"$f":"K8*'R2雇用表'!O8","v":0},0,{"$f":"O8*'R2係数一覧'!D8","v":0},{"$f":"O8*'R2係数一覧'!C8","v":0},{"$f":"O8*'R2雇用表'!O8","v":0},{"$f":"S$43*'R2係数一覧'!H8","v":0},{"$f":"S8*'R2係数一覧'!E8","v":0},0,{"$f":"U8*'R2係数一覧'!D8","v":0},{"$f":"U8*'R2係数一覧'!C8","v":0},{"$f":"U8*'R2雇用表'!O8","v":0}]
["03","15","繊維製品",{"$f":"'R2来訪者生産者価格'!P9","v":0},{"$f":"D9*'R2係数一覧'!F9","v":0},{"$f":"E9*'R2係数一覧'!D9","v":0},{"$f":"E9*'R2係数一覧'!C9","v":0},{"$f":"ROUND(E9*'R2雇用表'!O9,0)","v":0},0,{"$f":"I9*'R2係数一覧'!E9","v":0},0,{"$f":"K9*'R2係数一覧'!D9","v":0},{"$f":"K9*'R2係数一覧'!C9","v":0},{"$f":"K9*'R2雇用表'!O9","v":0},0,{"$f":"O9*'R2係数一覧'!D9","v":0},{"$f":"O9*'R2係数一覧'!C9","v":0},{"$f":"O9*'R2雇用表'!O9","v":0},{"$f":"S$43*'R2係数一覧'!H9","v":0},{"$f":"S9*'R2係数一覧'!E9","v":0},0,{"$f":"U9*'R2係数一覧'!D9","v":0},{"$f":"U9*'R2係数一覧'!C9","v":0},{"$f":"U9*'R2雇用表'!O9","v":0}]
["03","16","パルプ・紙・木製品",{"$f":"'R2来訪者生産者価格'!P10","v":0},{"$f":"D10*'R2係数一覧'!F10","v":0},{"$f":"E10*'R2係数一覧'!D10","v":0},{"$f":"E10*'R2係数一覧'!C10","v":0},{"$f":"ROUND(E10*'R2雇用表'!O10,0)","v":0},0,{"$f":"I10*'R2係数一覧'!E10","v":0},0,{"$f":"K10*'R2係数一覧'!D10","v":0},{"$f":"K10*'R2係数一覧'!C10","v":0},{"$f":"K10*'R2雇用表'!O10","v":0},0,{"$f":"O10*'R2係数一覧'!D10","v":0},{"$f":"O10*'R2係数一覧'!C10","v":0},{"$f":"O10*'R2雇用表'!O10","v":0},{"$f":"S$43*'R2係数一覧'!H10","v":0},{"$f":"S10*'R2係数一覧'!E10","v":0},0,{"$f":"U10*'R2係数一覧'!D10","v":0},{"$f":"U10*'R2係数一覧'!C10","v":0},{"$f":"U10*'R2雇用表'!O10","v":0}]
["03","20","化学製品",{"$f":"'R2来訪者生産者価格'!P11","v":0},{"$f":"D11*'R2係数一覧'!F11","v":0},{"$f":"E11*'R2係数一覧'!D11","v":0},{"$f":"E11*'R2係数一覧'!C11","v":0},{"$f":"ROUND(E11*'R2雇用表'!O11,0)","v":0},0,{"$f":"I11*'R2係数一覧'!E11","v":0},0,{"$f":"K11*'R2係数一覧'!D11","v":0},{"$f":"K11*'R2係数一覧'!C11","v":0},{"$f":"K11*'R2雇用表'!O11","v":0},0,{"$f":"O11*'R2係数一覧'!D11","v":0},{"$f":"O11*'R2係数一覧'!C11","v":0},{"$f":"O11*'R2雇用表'!O11","v":0},{"$f":"S$43*'R2係数一覧'!H11","v":0},{"$f":"S11*'R2係数一覧'!E11","v":0},0,{"$f":"U11*'R2係数一覧'!D11","v":0},{"$f":"U11*'R2係数一覧'!C11","v":0},{"$f":"U11*'R2雇用表'!O11","v":0}]
["03","21","石油・石炭製品",{"$f":"'R2来訪者生産者価格'!P12","v":0},{"$f":"D12*'R2係数一覧'!F12","v":0},{"$f":"E12*'R2係数一覧'!D12","v":0},{"$f":"E12*'R2係数一覧'!C12","v":0},{"$f":"ROUND(E12*'R2雇用表'!O12,0)","v":0},0,{"$f":"I12*'R2係数一覧'!E12","v":0},0,{"$f":"K12*'R2係数一覧'!D12","v":0},{"$f":"K12*'R2係数一覧'!C12","v":0},{"$f":"K12*'R2雇用表'!O12","v":0},0,{"$f":"O12*'R2係数一覧'!D12","v":0},{"$f":"O12*'R2係数一覧'!C12","v":0},{"$f":"O12*'R2雇用表'!O12","v":0},{"$f":"S$43*'R2係数一覧'!H12","v":0},{"$f":"S12*'R2係数一覧'!E12","v":0},0,{"$f":"U12*'R2係数一覧'!D12","v":0},{"$f":"U12*'R2係数一覧'!C12","v":0},{"$f":"U12*'R2雇用表'!O12","v":0}]
["03","22","プラスチック・ゴム製品",{"$f":"'R2来訪者生産者価格'!P13","v":0},{"$f":"D13*'R2係数一覧'!F13","v":0},{"$f":"E13*'R2係数一覧'!D13","v":0},{"$f":"E13*'R2係数一覧'!C13","v":0},{"$f":"ROUND(E13*'R2雇用表'!O13,0)","v":0},0,{"$f":"I13*'R2係数一覧'!E13","v":0},0,{"$f":"K13*'R2係数一覧'!D13","v":0},{"$f":"K13*'R2係数一覧'!C13","v":0},{"$f":"K13*'R2雇用表'!O13","v":0},0,{"$f":"O13*'R2係数一覧'!D13","v":0},{"$f":"O13*'R2係数一覧'!C13","v":0},{"$f":"O13*'R2雇用表'!O13","v":0},{"$f":"S$43*'R2係数一覧'!H13","v":0},{"$f":"S13*'R2係数一覧'!E13","v":0},0,{"$f":"U13*'R2係数一覧'!D13","v":0},{"$f":"U13*'R2係数一覧'!C13","v":0},{"$f":"U13*'R2雇用表'!O13","v":0}]
["03","25","窯業・土石製品",{"$f":"'R2来訪者生産者価格'!P14","v":0},{"$f":"D14*'R2係数一覧'!F14","v":0},{"$f":"E14*'R2係数一覧'!D14","v":0},{"$f":"E14*'R2係数一覧'!C14","v":0},{"$f":"ROUND(E14*'R2雇用表'!O14,0)","v":0},0,{"$f":"I14*'R2係数一覧'!E14","v":0},0,{"$f":"K14*'R2係数一覧'!D14","v":0},{"$f":"K14*'R2係数一覧'!C14","v":0},{"$f":"K14*'R2雇用表'!O14","v":0},0,{"$f":"O14*'R2係数一覧'!D14","v":0},{"$f":"O14*'R2係数一覧'!C14","v":0},{"$f":"O14*'R2雇用表'!O14","v":0},{"$f":"S$43*'R2係数一覧'!H14","v":0},{"$f":"S14*'R2係数一覧'!E14","v":0},0,{"$f":"U14*'R2係数一覧'!D14","v":0},{"$f":"U14*'R2係数一覧'!C14","v":0},{"$f":"U14*'R2雇用表'!O14","v":0}]
["03","26","鉄鋼",{"$f":"'R2来訪者生産者価格'!P15","v":0},{"$f":"D15*'R2係数一覧'!F15","v":0},{"$f":"E15*'R2係数一覧'!D15","v":0},{"$f":"E15*'R2係数一覧'!C15","v":0},{"$f":"ROUND(E15*'R2雇用表'!O15,0)","v":0},0,{"$f":"I15*'R2係数一覧'!E15","v":0},0,{"$f":"K15*'R2係数一覧'!D15","v":0},{"$f":"K15*'R2係数一覧'!C15","v":0},{"$f":"K15*'R2雇用表'!O15","v":0},0,{"$f":"O15*'R2係数一覧'!D15","v":0},{"$f":"O15*'R2係数一覧'!C15","v":0},{"$f":"O15*'R2雇用表'!O15","v":0},{"$f":"S$43*'R2係数一覧'!H15","v":0},{"$f":"S15*'R2係数一覧'!E15","v":0},0,{"$f":"U15*'R2係数一覧'!D15","v":0},{"$f":"U15*'R2係数一覧'!C15","v":0},{"$f":"U15*'R2雇用表'!O15","v":0}]
["03","27","非鉄金属",{"$f":"'R2来訪者生産者価格'!P16","v":0},{"$f":"D16*'R2係数一覧'!F16","v":0},{"$f":"E16*'R2係数一覧'!D16","v":0},{"$f":"E16*'R2係数一覧'!C16","v":0},{"$f":"ROUND(E16*'R2雇用表'!O16,0)","v":0},0,{"$f":"I16*'R2係数一覧'!E16","v":0},0,{"$f":"K16*'R2係数一覧'!D16","v":0},{"$f":"K16*'R2係数一覧'!C16","v":0},{"$f":"K16*'R2雇用表'!O16","v":0},0,{"$f":"O16*'R2係数一覧'!D16","v":0},{"$f":"O16*'R2係数一覧'!C16","v":0},{"$f":"O16*'R2雇用表'!O16","v":0},{"$f":"S$43*'R2係数一覧'!H16","v":0},{"$f":"S16*'R2係数一覧'!E16","v":0},0,{"$f":"U16*'R2係数一覧'!D16","v":0},{"$f":"U16*'R2係数一覧'!C16","v":0},{"$f":"U16*'R2雇用表'!O16","v":0}]
["03","28","金属製品",{"$f":"'R2来訪者生産者価格'!P17","v":0},{"$f":"D17*'R2係数一覧'!F17","v":0},{"$f":"E17*'R2係数一覧'!D17","v":0},{"$f":"E17*'R2係数一覧'!C17","v":0},{"$f":"ROUND(E17*'R2雇用表'!O17,0)","v":0},0,{"$f":"I17*'R2係数一覧'!E17","v":0},0,{"$f":"K17*'R2係数一覧'!D17","v":0},{"$f":"K17*'R2係数一覧'!C17","v":0},{"$f":"K17*'R2雇用表'!O17","v":0},0,{"$f":"O17*'R2係数一覧'!D17","v":0},{"$f":"O17*'R2係数一覧'!C17","v":0},{"$f":"O17*'R2雇用表'!O17","v":0},{"$f":"S$43*'R2係数一覧'!H17","v":0},{"$f":"S17*'R2係数一覧'!E17","v":0},0,{"$f":"U17*'R2係数一覧'!D17","v":0},{"$f":"U17*'R2係数一覧'!C17","v":0},{"$f":"U17*'R2雇用表'!O17","v":0}]
["03","29","はん用機械",{"$f":"'R2来訪者生産者価格'!P18","v":0},{"$f":"D18*'R2係数一覧'!F18","v":0},{"$f":"E18*'R2係数一覧'!D18","v":0},{"$f":"E18*'R2係数一覧'!C18","v":0},{"$f":"ROUND(E18*'R2雇用表'!O18,0)","v":0},0,{"$f":"I18*'R2係数一覧'!E18","v":0},0,{"$f":"K18*'R2係数一覧'!D18","v":0},{"$f":"K18*'R2係数一覧'!C18","v":0},{"$f":"K18*'R2雇用表'!O18","v":0},0,{"$f":"O18*'R2係数一覧'!D18","v":0},{"$f":"O18*'R2係数一覧'!C18","v":0},{"$f":"O18*'R2雇用表'!O18","v":0},{"$f":"S$43*'R2係数一覧'!H18","v":0},{"$f":"S18*'R2係数一覧'!E18","v":0},0,{"$f":"U18*'R2係数一覧'!D18","v":0},{"$f":"U18*'R2係数一覧'!C18","v":0},{"$f":"U18*'R2雇用表'!O18","v":0}]
["03","30","生産用機械",{"$f":"'R2来訪者生産者価格'!P19","v":0},{"$f":"D19*'R2係数一覧'!F19","v":0},{"$f":"E19*'R2係数一覧'!D19","v":0},{"$f":"E19*'R2係数一覧'!C19","v":0},{"$f":"ROUND(E19*'R2雇用表'!O19,0)","v":0},0,{"$f":"I19*'R2係数一覧'!E19","v":0},0,{"$f":"K19*'R2係数一覧'!D19","v":0},{"$f":"K19*'R2係数一覧'!C19","v":0},{"$f":"K19*'R2雇用表'!O19","v":0},0,{"$f":"O19*'R2係数一覧'!D19","v":0},{"$f":"O19*'R2係数一覧'!C19","v":0},{"$f":"O19*'R2雇用表'!O19","v":0},{"$f":"S$43*'R2係数一覧'!H19","v":0},{"$f":"S19*'R2係数一覧'!E19","v":0},0,{"$f":"U19*'R2係数一覧'!D19","v":0},{"$f":"U19*'R2係数一覧'!C19","v":0},{"$f":"U19*'R2雇用表'!O19","v":0}]
["03","31","業務用機械",{"$f":"'R2来訪者生産者価格'!P20","v":0},{"$f":"D20*'R2係数一覧'!F20","v":0},{"$f":"E20*'R2係数一覧'!D20","v":0},{"$f":"E20*'R2係数一覧'!C20","v":0},{"$f":"ROUND(E20*'R2雇用表'!O20,0)","v":0},0,{"$f":"I20*'R2係数一覧'!E20","v":0},0,{"$f":"K20*'R2係数一覧'!D20","v":0},{"$f":"K20*'R2係数一覧'!C20","v":0},{"$f":"K20*'R2雇用表'!O20","v":0},0,{"$f":"O20*'R2係数一覧'!D20","v":0},{"$f":"O20*'R2係数一覧'!C20","v":0},{"$f":"O20*'R2雇用表'!O20","v":0},{"$f":"S$43*'R2係数一覧'!H20","v":0},{"$f":"S20*'R2係数一覧'!E20","v":0},0,{"$f":"U20*'R2係数一覧'!D20","v":0},{"$f":"U20*'R2係数一覧'!C20","v":0},{"$f":"U20*'R2雇用表'!O20","v":0}]
["03","32","電子部品",{"$f":"'R2来訪者生産者価格'!P21","v":0},{"$f":"D21*'R2係数一覧'!F21","v":0},{"$f":"E21*'R2係数一覧'!D21","v":0},{"$f":"E21*'R2係数一覧'!C21","v":0},{"$f":"ROUND(E21*'R2雇用表'!O21,0)","v":0},0,{"$f":"I21*'R2係数一覧'!E21","v":0},0,{"$f":"K21*'R2係数一覧'!D21","v":0},{"$f":"K21*'R2係数一覧'!C21","v":0},{"$f":"K21*'R2雇用表'!O21","v":0},0,{"$f":"O21*'R2係数一覧'!D21","v":0},{"$f":"O21*'R2係数一覧'!C21","v":0},{"$f":"O21*'R2雇用表'!O21","v":0},{"$f":"S$43*'R2係数一覧'!H21","v":0},{"$f":"S21*'R2係数一覧'!E21","v":0},0,{"$f":"U21*'R2係数一覧'!D21","v":0},{"$f":"U21*'R2係数一覧'!C21","v":0},{"$f":"U21*'R2雇用表'!O21","v":0}]
["03","33","電気機械",{"$f":"'R2来訪者生産者価格'!P22","v":0},{"$f":"D22*'R2係数一覧'!F22","v":0},{"$f":"E22*'R2係数一覧'!D22","v":0},{"$f":"E22*'R2係数一覧'!C22","v":0},{"$f":"ROUND(E22*'R2雇用表'!O22,0)","v":0},0,{"$f":"I22*'R2係数一覧'!E22","v":0},0,{"$f":"K22*'R2係数一覧'!D22","v":0},{"$f":"K22*'R2係数一覧'!C22","v":0},{"$f":"K22*'R2雇用表'!O22","v":0},0,{"$f":"O22*'R2係数一覧'!D22","v":0},{"$f":"O22*'R2係数一覧'!C22","v":0},{"$f":"O22*'R2雇用表'!O22","v":0},{"$f":"S$43*'R2係数一覧'!H22","v":0},{"$f":"S22*'R2係数一覧'!E22","v":0},0,{"$f":"U22*'R2係数一覧'!D22","v":0},{"$f":"U22*'R2係数一覧'!C22","v":0},{"$f":"U22*'R2雇用表'!O22","v":0}]
["03","34","情報通信機器",{"$f":"'R2来訪者生産者価格'!P23","v":0},{"$f":"D23*'R2係数一覧'!F23","v":0},{"$f":"E23*'R2係数一覧'!D23","v":0},{"$f":"E23*'R2係数一覧'!C23","v":0},{"$f":"ROUND(E23*'R2雇用表'!O23,0)","v":0},0,{"$f":"I23*'R2係数一覧'!E23","v":0},0,{"$f":"K23*'R2係数一覧'!D23","v":0},{"$f":"K23*'R2係数一覧'!C23","v":0},{"$f":"K23*'R2雇用表'!O23","v":0},0,{"$f":"O23*'R2係数一覧'!D23","v":0},{"$f":"O23*'R2係数一覧'!C23","v":0},{"$f":"O23*'R2雇用表'!O23","v":0},{"$f":"S$43*'R2係数一覧'!H23","v":0},{"$f":"S23*'R2係数一覧'!E23","v":0},0,{"$f":"U23*'R2係数一覧'!D23","v":0},{"$f":"U23*'R2係数一覧'!C23","v":0},{"$f":"U23*'R2雇用表'!O23","v":0}]
["03","35","輸送機械",{"$f":"'R2来訪者生産者価格'!P24","v":0},{"$f":"D24*'R2係数一覧'!F24","v":0},{"$f":"E24*'R2係数一覧'!D24","v":0},{"$f":"E24*'R2係数一覧'!C24","v":0},{"$f":"ROUND(E24*'R2雇用表'!O24,0)","v":0},0,{"$f":"I24*'R2係数一覧'!E24","v":0},0,{"$f":"K24*'R2係数一覧'!D24","v":0},{"$f":"K24*'R2係数一覧'!C24","v":0},{"$f":"K24*'R2雇用表'!O24","v":0},0,{"$f":"O24*'R2係数一覧'!D24","v":0},{"$f":"O24*'R2係数一覧'!C24","v":0},{"$f":"O24*'R2雇用表'!O24","v":0},{"$f":"S$43*'R2係数一覧'!H24","v":0},{"$f":"S24*'R2係数一覧'!E24","v":0},0,{"$f":"U24*'R2係数一覧'!D24","v":0},{"$f":"U24*'R2係数一覧'!C24","v":0},{"$f":"U24*'R2雇用表'!O24","v":0}]
["03","39","その他の製造工業製品",{"$f":"'R2来訪者生産者価格'!P25","v":0},{"$f":"D25*'R2係数一覧'!F25","v":0},{"$f":"E25*'R2係数一覧'!D25","v":0},{"$f":"E25*'R2係数一覧'!C25","v":0},{"$f":"ROUND(E25*'R2雇用表'!O25,0)","v":0},0,{"$f":"I25*'R2係数一覧'!E25","v":0},0,{"$f":"K25*'R2係数一覧'!D25","v":0},{"$f":"K25*'R2係数一覧'!C25","v":0},{"$f":"K25*'R2雇用表'!O25","v":0},0,{"$f":"O25*'R2係数一覧'!D25","v":0},{"$f":"O25*'R2係数一覧'!C25","v":0},{"$f":"O25*'R2雇用表'!O25","v":0},{"$f":"S$43*'R2係数一覧'!H25","v":0},{"$f":"S25*'R2係数一覧'!E25","v":0},0,{"$f":"U25*'R2係数一覧'!D25","v":0},{"$f":"U25*'R2係数一覧'!C25","v":0},{"$f":"U25*'R2雇用表'!O25","v":0}]
["04","41","建設",{"$f":"'R2来訪者生産者価格'!P26","v":0},{"$f":"D26*'R2係数一覧'!F26","v":0},{"$f":"E26*'R2係数一覧'!D26","v":0},{"$f":"E26*'R2係数一覧'!C26","v":0},{"$f":"ROUND(E26*'R2雇用表'!O26,0)","v":0},0,{"$f":"I26*'R2係数一覧'!E26","v":0},0,{"$f":"K26*'R2係数一覧'!D26","v":0},{"$f":"K26*'R2係数一覧'!C26","v":0},{"$f":"K26*'R2雇用表'!O26","v":0},0,{"$f":"O26*'R2係数一覧'!D26","v":0},{"$f":"O26*'R2係数一覧'!C26","v":0},{"$f":"O26*'R2雇用表'!O26","v":0},{"$f":"S$43*'R2係数一覧'!H26","v":0},{"$f":"S26*'R2係数一覧'!E26","v":0},0,{"$f":"U26*'R2係数一覧'!D26","v":0},{"$f":"U26*'R2係数一覧'!C26","v":0},{"$f":"U26*'R2雇用表'!O26","v":0}]
["05","46","電気・ガス・熱供給",{"$f":"'R2来訪者生産者価格'!P27","v":0},{"$f":"D27*'R2係数一覧'!F27","v":0},{"$f":"E27*'R2係数一覧'!D27","v":0},{"$f":"E27*'R2係数一覧'!C27","v":0},{"$f":"ROUND(E27*'R2雇用表'!O27,0)","v":0},0,{"$f":"I27*'R2係数一覧'!E27","v":0},0,{"$f":"K27*'R2係数一覧'!D27","v":0},{"$f":"K27*'R2係数一覧'!C27","v":0},{"$f":"K27*'R2雇用表'!O27","v":0},0,{"$f":"O27*'R2係数一覧'!D27","v":0},{"$f":"O27*'R2係数一覧'!C27","v":0},{"$f":"O27*'R2雇用表'!O27","v":0},{"$f":"S$43*'R2係数一覧'!H27","v":0},{"$f":"S27*'R2係数一覧'!E27","v":0},0,{"$f":"U27*'R2係数一覧'!D27","v":0},{"$f":"U27*'R2係数一覧'!C27","v":0},{"$f":"U27*'R2雇用表'!O27","v":0}]
["05","47","水道",{"$f":"'R2来訪者生産者価格'!P28","v":0},{"$f":"D28*'R2係数一覧'!F28","v":0},{"$f":"E28*'R2係数一覧'!D28","v":0},{"$f":"E28*'R2係数一覧'!C28","v":0},{"$f":"ROUND(E28*'R2雇用表'!O28,0)","v":0},0,{"$f":"I28*'R2係数一覧'!E28","v":0},0,{"$f":"K28*'R2係数一覧'!D28","v":0},{"$f":"K28*'R2係数一覧'!C28","v":0},{"$f":"K28*'R2雇用表'!O28","v":0},0,{"$f":"O28*'R2係数一覧'!D28","v":0},{"$f":"O28*'R2係数一覧'!C28","v":0},{"$f":"O28*'R2雇用表'!O28","v":0},{"$f":"S$43*'R2係数一覧'!H28","v":0},{"$f":"S28*'R2係数一覧'!E28","v":0},0,{"$f":"U28*'R2係数一覧'!D28","v":0},{"$f":"U28*'R2係数一覧'!C28","v":0},{"$f":"U28*'R2雇用表'!O28","v":0}]
["12","48","廃棄物処理",{"$f":"'R2来訪者生産者価格'!P29","v":0},{"$f":"D29*'R2係数一覧'!F29","v":0},{"$f":"E29*'R2係数一覧'!D29","v":0},{"$f":"E29*'R2係数一覧'!C29","v":0},{"$f":"ROUND(E29*'R2雇用表'!O29,0)","v":0},0,{"$f":"I29*'R2係数一覧'!E29","v":0},0,{"$f":"K29*'R2係数一覧'!D29","v":0},{"$f":"K29*'R2係数一覧'!C29","v":0},{"$f":"K29*'R2雇用表'!O29","v":0},0,{"$f":"O29*'R2係数一覧'!D29","v":0},{"$f":"O29*'R2係数一覧'!C29","v":0},{"$f":"O29*'R2雇用表'!O29","v":0},{"$f":"S$43*'R2係数一覧'!H29","v":0},{"$f":"S29*'R2係数一覧'!E29","v":0},0,{"$f":"U29*'R2係数一覧'!D29","v":0},{"$f":"U29*'R2係数一覧'!C29","v":0},{"$f":"U29*'R2雇用表'!O29","v":0}]
["06","51","商業",{"$f":"'R2来訪者生産者価格'!P30","v":0},{"$f":"D30*'R2係数一覧'!F30","v":0},{"$f":"E30*'R2係数一覧'!D30","v":0},{"$f":"E30*'R2係数一覧'!C30","v":0},{"$f":"ROUND(E30*'R2雇用表'!O30,0)","v":0},0,{"$f":"I30*'R2係数一覧'!E30","v":0},0,{"$f":"K30*'R2係数一覧'!D30","v":0},{"$f":"K30*'R2係数一覧'!C30","v":0},{"$f":"K30*'R2雇用表'!O30","v":0},0,{"$f":"O30*'R2係数一覧'!D30","v":0},{"$f":"O30*'R2係数一覧'!C30","v":0},{"$f":"O30*'R2雇用表'!O30","v":0},{"$f":"S$43*'R2係数一覧'!H30","v":0},{"$f":"S30*'R2係数一覧'!E30","v":0},0,{"$f":"U30*'R2係数一覧'!D30","v":0},{"$f":"U30*'R2係数一覧'!C30","v":0},{"$f":"U30*'R2雇用表'!O30","v":0}]
["07","53","金融・保険",{"$f":"'R2来訪者生産者価格'!P31","v":0},{"$f":"D31*'R2係数一覧'!F31","v":0},{"$f":"E31*'R2係数一覧'!D31","v":0},{"$f":"E31*'R2係数一覧'!C31","v":0},{"$f":"ROUND(E31*'R2雇用表'!O31,0)","v":0},0,{"$f":"I31*'R2係数一覧'!E31","v":0},0,{"$f":"K31*'R2係数一覧'!D31","v":0},{"$f":"K31*'R2係数一覧'!C31","v":0},{"$f":"K31*'R2雇用表'!O31","v":0},0,{"$f":"O31*'R2係数一覧'!D31","v":0},{"$f":"O31*'R2係数一覧'!C31","v":0},{"$f":"O31*'R2雇用表'!O31","v":0},{"$f":"S$43*'R2係数一覧'!H31","v":0},{"$f":"S31*'R2係数一覧'!E31","v":0},0,{"$f":"U31*'R2係数一覧'!D31","v":0},{"$f":"U31*'R2係数一覧'!C31","v":0},{"$f":"U31*'R2雇用表'!O31","v":0}]
["08","55","不動産",{"$f":"'R2来訪者生産者価格'!P32","v":0},{"$f":"D32*'R2係数一覧'!F32","v":0},{"$f":"E32*'R2係数一覧'!D32","v":0},{"$f":"E32*'R2係数一覧'!C32","v":0},{"$f":"ROUND(E32*'R2雇用表'!O32,0)","v":0},0,{"$f":"I32*'R2係数一覧'!E32","v":0},0,{"$f":"K32*'R2係数一覧'!D32","v":0},{"$f":"K32*'R2係数一覧'!C32","v":0},{"$f":"K32*'R2雇用表'!O32","v":0},0,{"$f":"O32*'R2係数一覧'!D32","v":0},{"$f":"O32*'R2係数一覧'!C32","v":0},{"$f":"O32*'R2雇用表'!O32","v":0},{"$f":"S$43*'R2係数一覧'!H32","v":0},{"$f":"S32*'R2係数一覧'!E32","v":0},0,{"$f":"U32*'R2係数一覧'!D32","v":0},{"$f":"U32*'R2係数一覧'!C32","v":0},{"$f":"U32*'R2雇用表'!O32","v":0}]
["09","57","運輸・郵便",{"$f":"'R2来訪者生産者価格'!P33","v":0},{"$f":"D33*'R2係数一覧'!F33","v":0},{"$f":"E33*'R2係数一覧'!D33","v":0},{"$f":"E33*'R2係数一覧'!C33","v":0},{"$f":"ROUND(E33*'R2雇用表'!O33,0)","v":0},0,{"$f":"I33*'R2係数一覧'!E33","v":0},0,{"$f":"K33*'R2係数一覧'!D33","v":0},{"$f":"K33*'R2係数一覧'!C33","v":0},{"$f":"K33*'R2雇用表'!O33","v":0},0,{"$f":"O33*'R2係数一覧'!D33","v":0},{"$f":"O33*'R2係数一覧'!C33","v":0},{"$f":"O33*'R2雇用表'!O33","v":0},{"$f":"S$43*'R2係数一覧'!H33","v":0},{"$f":"S33*'R2係数一覧'!E33","v":0},0,{"$f":"U33*'R2係数一覧'!D33","v":0},{"$f":"U33*'R2係数一覧'!C33","v":0},{"$f":"U33*'R2雇用表'!O33","v":0}]
["10","59","情報通信",{"$f":"'R2来訪者生産者価格'!P34","v":0},{"$f":"D34*'R2係数一覧'!F34","v":0},{"$f":"E34*'R2係数一覧'!D34","v":0},{"$f":"E34*'R2係数一覧'!C34","v":0},{"$f":"ROUND(E34*'R2雇用表'!O34,0)","v":0},0,{"$f":"I34*'R2係数一覧'!E34","v":0},0,{"$f":"K34*'R2係数一覧'!D34","v":0},{"$f":"K34*'R2係数一覧'!C34","v":0},{"$f":"K34*'R2雇用表'!O34","v":0},0,{"$f":"O34*'R2係数一覧'!D34","v":0},{"$f":"O34*'R2係数一覧'!C34","v":0},{"$f":"O34*'R2雇用表'!O34","v":0},{"$f":"S$43*'R2係数一覧'!H34","v":0},{"$f":"S34*'R2係数一覧'!E34","v":0},0,{"$f":"U34*'R2係数一覧'!D34","v":0},{"$f":"U34*'R2係数一覧'!C34","v":0},{"$f":"U34*'R2雇用表'!O34","v":0}]
["11","61","公務",{"$f":"'R2来訪者生産者価格'!P35","v":0},{"$f":"D35*'R2係数一覧'!F35","v":0},{"$f":"E35*'R2係数一覧'!D35","v":0},{"$f":"E35*'R2係数一覧'!C35","v":0},{"$f":"ROUND(E35*'R2雇用表'!O35,0)","v":0},0,{"$f":"I35*'R2係数一覧'!E35","v":0},0,{"$f":"K35*'R2係数一覧'!D35","v":0},{"$f":"K35*'R2係数一覧'!C35","v":0},{"$f":"K35*'R2雇用表'!O35","v":0},0,{"$f":"O35*'R2係数一覧'!D35","v":0},{"$f":"O35*'R2係数一覧'!C35","v":0},{"$f":"O35*'R2雇用表'!O35","v":0},{"$f":"S$43*'R2係数一覧'!H35","v":0},{"$f":"S35*'R2係数一覧'!E35","v":0},0,{"$f":"U35*'R2係数一覧'!D35","v":0},{"$f":"U35*'R2係数一覧'!C35","v":0},{"$f":"U35*'R2雇用表'!O35","v":0}]
["12","63","教育・研究",{"$f":"'R2来訪者生産者価格'!P36","v":0},{"$f":"D36*'R2係数一覧'!F36","v":0},{"$f":"E36*'R2係数一覧'!D36","v":0},{"$f":"E36*'R2係数一覧'!C36","v":0},{"$f":"ROUND(E36*'R2雇用表'!O36,0)","v":0},0,{"$f":"I36*'R2係数一覧'!E36","v":0},0,{"$f":"K36*'R2係数一覧'!D36","v":0},{"$f":"K36*'R2係数一覧'!C36","v":0},{"$f":"K36*'R2雇用表'!O36","v":0},0,{"$f":"O36*'R2係数一覧'!D36","v":0},{"$f":"O36*'R2係数一覧'!C36","v":0},{"$f":"O36*'R2雇用表'!O36","v":0},{"$f":"S$43*'R2係数一覧'!H36","v":0},{"$f":"S36*'R2係数一覧'!E36","v":0},0,{"$f":"U36*'R2係数一覧'!D36","v":0},{"$f":"U36*'R2係数一覧'!C36","v":0},{"$f":"U36*'R2雇用表'!O36","v":0}]
["12","64","医療・福祉",{"$f":"'R2来訪者生産者価格'!P37","v":0},{"$f":"D37*'R2係数一覧'!F37","v":0},{"$f":"E37*'R2係数一覧'!D37","v":0},{"$f":"E37*'R2係数一覧'!C37","v":0},{"$f":"ROUND(E37*'R2雇用表'!O37,0)","v":0},0,{"$f":"I37*'R2係数一覧'!E37","v":0},0,{"$f":"K37*'R2係数一覧'!D37","v":0},{"$f":"K37*'R2係数一覧'!C37","v":0},{"$f":"K37*'R2雇用表'!O37","v":0},0,{"$f":"O37*'R2係数一覧'!D37","v":0},{"$f":"O37*'R2係数一覧'!C37","v":0},{"$f":"O37*'R2雇用表'!O37","v":0},{"$f":"S$43*'R2係数一覧'!H37","v":0},{"$f":"S37*'R2係数一覧'!E37","v":0},0,{"$f":"U37*'R2係数一覧'!D37","v":0},{"$f":"U37*'R2係数一覧'!C37","v":0},{"$f":"U37*'R2雇用表'!O37","v":0}]
["12","65","他に分類されない会員制団体",{"$f":"'R2来訪者生産者価格'!P38","v":0},{"$f":"D38*'R2係数一覧'!F38","v":0},{"$f":"E38*'R2係数一覧'!D38","v":0},{"$f":"E38*'R2係数一覧'!C38","v":0},{"$f":"ROUND(E38*'R2雇用表'!O38,0)","v":0},0,{"$f":"I38*'R2係数一覧'!E38","v":0},0,{"$f":"K38*'R2係数一覧'!D38","v":0},{"$f":"K38*'R2係数一覧'!C38","v":0},{"$f":"K38*'R2雇用表'!O38","v":0},0,{"$f":"O38*'R2係数一覧'!D38","v":0},{"$f":"O38*'R2係数一覧'!C38","v":0},{"$f":"O38*'R2雇用表'!O38","v":0},{"$f":"S$43*'R2係数一覧'!H38","v":0},{"$f":"S38*'R2係数一覧'!E38","v":0},0,{"$f":"U38*'R2係数一覧'!D38","v":0},{"$f":"U38*'R2係数一覧'!C38","v":0},{"$f":"U38*'R2雇用表'!O38","v":0}]
["12","66","対事業所サービス",{"$f":"'R2来訪者生産者価格'!P39","v":0},{"$f":"D39*'R2係数一覧'!F39","v":0},{"$f":"E39*'R2係数一覧'!D39","v":0},{"$f":"E39*'R2係数一覧'!C39","v":0},{"$f":"ROUND(E39*'R2雇用表'!O39,0)","v":0},0,{"$f":"I39*'R2係数一覧'!E39","v":0},0,{"$f":"K39*'R2係数一覧'!D39","v":0},{"$f":"K39*'R2係数一覧'!C39","v":0},{"$f":"K39*'R2雇用表'!O39","v":0},0,{"$f":"O39*'R2係数一覧'!D39","v":0},{"$f":"O39*'R2係数一覧'!C39","v":0},{"$f":"O39*'R2雇用表'!O39","v":0},{"$f":"S$43*'R2係数一覧'!H39","v":0},{"$f":"S39*'R2係数一覧'!E39","v":0},0,{"$f":"U39*'R2係数一覧'!D39","v":0},{"$f":"U39*'R2係数一覧'!C39","v":0},{"$f":"U39*'R2雇用表'!O39","v":0}]
["12","67","対個人サービス",{"$f":"'R2来訪者生産者価格'!P40","v":0},{"$f":"D40*'R2係数一覧'!F40","v":0},{"$f":"E40*'R2係数一覧'!D40","v":0},{"$f":"E40*'R2係数一覧'!C40","v":0},{"$f":"ROUND(E40*'R2雇用表'!O40,0)","v":0},0,{"$f":"I40*'R2係数一覧'!E40","v":0},0,{"$f":"K40*'R2係数一覧'!D40","v":0},{"$f":"K40*'R2係数一覧'!C40","v":0},{"$f":"K40*'R2雇用表'!O40","v":0},0,{"$f":"O40*'R2係数一覧'!D40","v":0},{"$f":"O40*'R2係数一覧'!C40","v":0},{"$f":"O40*'R2雇用表'!O40","v":0},{"$f":"S$43*'R2係数一覧'!H40","v":0},{"$f":"S40*'R2係数一覧'!E40","v":0},0,{"$f":"U40*'R2係数一覧'!D40","v":0},{"$f":"U40*'R2係数一覧'!C40","v":0},{"$f":"U40*'R2雇用表'!O40","v":0}]
["03","68","事務用品",{"$f":"'R2来訪者生産者価格'!P41","v":0},{"$f":"D41*'R2係数一覧'!F41","v":0},{"$f":"E41*'R2係数一覧'!D41","v":0},{"$f":"E41*'R2係数一覧'!C41","v":0},{"$f":"ROUND(E41*'R2雇用表'!O41,0)","v":0},0,{"$f":"I41*'R2係数一覧'!E41","v":0},0,{"$f":"K41*'R2係数一覧'!D41","v":0},{"$f":"K41*'R2係数一覧'!C41","v":0},{"$f":"K41*'R2雇用表'!O41","v":0},0,{"$f":"O41*'R2係数一覧'!D41","v":0},{"$f":"O41*'R2係数一覧'!C41","v":0},{"$f":"O41*'R2雇用表'!O41","v":0},{"$f":"S$43*'R2係数一覧'!H41","v":0},{"$f":"S41*'R2係数一覧'!E41","v":0},0,{"$f":"U41*'R2係数一覧'!D41","v":0},{"$f":"U41*'R2係数一覧'!C41","v":0},{"$f":"U41*'R2雇用表'!O41","v":0}]
["13","69","分類不明",{"$f":"'R2来訪者生産者価格'!P42","v":0},{"$f":"D42*'R2係数一覧'!F42","v":0},{"$f":"E42*'R2係数一覧'!D42","v":0},{"$f":"E42*'R2係数一覧'!C42","v":0},{"$f":"ROUND(E42*'R2雇用表'!O42,0)","v":0},0,{"$f":"I42*'R2係数一覧'!E42","v":0},0,{"$f":"K42*'R2係数一覧'!D42","v":0},{"$f":"K42*'R2係数一覧'!C42","v":0},{"$f":"K42*'R2雇用表'!O42","v":0},0,{"$f":"O42*'R2係数一覧'!D42","v":0},{"$f":"O42*'R2係数一覧'!C42","v":0},{"$f":"O42*'R2雇用表'!O42","v":0},{"$f":"S$43*'R2係数一覧'!H42","v":0},{"$f":"S42*'R2係数一覧'!E42","v":0},0,{"$f":"U42*'R2係数一覧'!D42","v":0},{"$f":"U42*'R2係数一覧'!C42","v":0},{"$f":"U42*'R2雇用表'!O42","v":0}]
[null,null,null,{"$f":"SUM(D6:D42)","v":0},{"$f":"SUM(E6:E42)","v":0},0,0,0,0,0,0,0,0,0,0,0,0,0,{"$f":"Q43*S45","v":0},{"$f":"SUM(T6:T42)","v":0},{"$f":"SUM(U6:U42)","v":0},{"$f":"SUM(V6:V42)","v":0},{"$f":"SUM(W6:W42)","v":0},{"$f":"SUM(X6:X42)","v":0}]
[]
[null,null,null,null,null,null,null,null,null,null,null,null,null,null,null,null,"消費転換率",null,{"$f":"'R2来訪者入力'!C9","v":0.55378261397054429}]
[]
[]
[]
[null,"01","農林漁業",{"$f":"SUMIF($A$6:$A$42,$B49,D$6:D$42)","v":0},{"$f":"SUMIF($A$6:$A$42,$B49,E$6:E$42)","v":0},0,0,0,0,0,0,0,0,0,0,0,0,0,0,0,0,0,0,0]
[null,"02","鉱業",0,{"$f":"SUMIF($A$6:$A$42,$B50,E$6:E$42)","v":0},0,0,0,0,0,0,0,0,0,0,0,0,0,0,0,0,0,0,0]
[null,"03","製造業",0,0,0,0,0,0,0,0,0,0,0,0,0,0,0,0,0,0,0,0,0]
[null,"04","建設",0,0,0,0,0,0,0,0,0,0,0,0,0,0,0,0,0,0,0,0,0]
[null,"05","電気・ガス・水道",0,0,0,0,0,0,0,0,0,0,0,0,0,0,0,0,0,0,0,0,0]
[null,"06","商業",0,0,0,0,0,0,0,0,0,0,0,0,0,0,0,0,0,0,0,0,0]
[null,"07","金融・保険",0,0,0,0,0,0,0,0,0,0,0,0,0,0,0,0,0,0,0,0,0]
[null,"08","不動産",0,0,0,0,0,0,0,0,0,0,0,0,0,0,0,0,0,0,0,0,0]
[null,"09","運輸・郵便",0,0,0,0,0,0,0,0,0,0,0,0,0,0,0,0,0,0,0,0,0]
[null,"10","情報通信",0,0,0,0,0,0,0,0,0,0,0,0,0,0,0,0,0,0,0,0,0]
[null,"11","公務",0,0,0,0,0,0,0,0,0,0,0,0,0,0,0,0,0,0,0,0,0]
[null,"12","サービス",0,0,0,0,0,0,0,0,0,0,0,0,0,0,0,0,0,0,0,0,0]
[null,"13","分類不明",0,0,0,0,0,0,0,0,0,0,0,0,0,0,0,0,0,0,0,0,0]
[null,null,null,{"$f":"SUM(D49:D61)","v":0},{"$f":"SUM(E49:E61)","v":0},0,0,0,0,0,0,0,0,0,0,0,0,0,0,0,0,0,0,0]

{"sheet":"R2来訪者結果","index":18,"n_rows":21,"n_cols":5,"rows_kept":21,"cut":false,"hidden":false,"merged":[]}
["来訪者の消費活動による市内波及の状況"]
[]
[null,"発生需要額",null,{"$f":"'R2来訪者計算'!D43","v":0},"百万円"]
[null,"直接効果","市内生産額",{"$f":"'R2来訪者計算'!E43","v":0},"百万円"]
[null,null,"粗付加価値額",{"$f":"'R2来訪者計算'!F43","v":0},"百万円"]
[null,null,"雇用者誘発数",{"$f":"'R2来訪者計算'!H43","v":0},"人"]
[null,"１次波及","生産誘発額",{"$f":"'R2来訪者計算'!K43","v":0},"百万円"]
[null,null,"粗付加価値誘発額",{"$f":"'R2来訪者計算'!L43","v":0},"百万円"]
[null,null,"雇用者誘発数",{"$f":"'R2来訪者計算'!N43","v":0},"人"]
[null,"直接効果","生産誘発額",{"$f":"'R2来訪者計算'!O43","v":0},"百万円"]
[null,"＋１次波及","粗付加価値誘発額",{"$f":"'R2来訪者計算'!P43","v":0},"百万円"]
[null,null,"雇用者誘発数",{"$f":"'R2来訪者計算'!R43","v":0},"人"]
[null,null,"雇用者所得合計額",{"$f":"'R2来訪者計算'!Q43","v":0},"百万円"]
[null,null,"消費転換率",{"$f":"'R2来訪者計算'!S45","v":0.55378261397054429}]
[null,null,"消費喚起額",{"$f":"'R2来訪者計算'!S43","v":0},"百万円"]
[null,"２次波及","生産誘発額",{"$f":"'R2来訪者計算'!U43","v":0},"百万円"]
[null,null,"粗付加価値誘発額",{"$f":"'R2来訪者計算'!V43","v":0},"百万円"]
[null,null,"雇用者誘発数",{"$f":"'R2来訪者計算'!X43","v":0},"人"]
[null,"直接効果","生産誘発額",{"$f":"D4+D7+D16","v":0},"百万円"]
[null,"＋１次波及","粗付加価値誘発額",{"$f":"D5+D8+D17","v":0},"百万円"]
[null,"＋２次波及","雇用者誘発数",{"$f":"D6+D9+D18","v":0},"人"]

{"sheet":"R2業務入力","index":19,"n_rows":13,"n_cols":4,"rows_kept":13,"cut":false,"hidden":false,"merged":[]}
["業務　入力シート"]
[]
["　A、B について、黄色のシートに数値を入力してください"]
[]
[]
[]
[null,"消費転換率（0から1の間の値）",{"$f":"+消費転換率!$C$9","v":0.55378261397054429}]
[]
[]
[]
[]
[]
[null,"業務機能人数",null,"人"]

{"sheet":"R2業務ｺﾝﾊﾞｰﾀ","index":20,"n_rows":53,"n_cols":10,"rows_kept":53,"cut":false,"hidden":false,"merged":[]}
[null,null,null,null,null,"１-１（３）　令和２年（2020年）東京都産業連関表　地域内表　（取引基本表、統合大分類）"]
[null,null,null,null,null,"（単位：百万円）"]
["都内本社生産額","(百万円)",{"$f":"+H53","v":32427283}]
[null,null,null,null,null,null,null,"L10"]
["都内本社従業者数(雇用表)","(人)",915416,null,null,null,null,"本社投入ベクトル","本社投入係数","直接効果"]
[null,null,null,null,null,"A01","農林漁業",0,{"$f":"H6/H$53","v":0},{"$f":"$C$11*I6","v":0}]
["一人当たり生産額","(百万円)",{"$f":"C3/C5","v":35.423548419516372},null,null,"A06","鉱業",0,{"$f":"H7/H$53","v":0},{"$f":"$C$11*I7","v":0}]
[null,null,null,null,null,"A11","飲食料品",0,0,0]
["推計対象人数","(人)",{"$f":"'R2業務入力'!C13","v":0},null,null,"A15","繊維製品",11234,3.4643667186054408E-4,0]
[null,null,null,null,null,"A16","パルプ・紙・木製品",15652,4.8267997044340718E-4,0]
["業務生産額計","(百万円)",{"$f":"C7*C9","v":0},null,null,"A20","化学製品",3301,1.0179699606655297E-4,0]
[null,null,null,null,null,"A21","石油・石炭製品",69575,2.1455698277280891E-3,0]
[null,null,null,null,null,"A22","プラスチック・ゴム製品",337,1.0392483391223372E-5,0]
[null,null,null,null,null,"A25","窯業・土石製品",0,0,0]
[null,null,null,null,null,"A26","鉄鋼",0,0,0]
[null,null,null,null,null,"A27","非鉄金属",0,0,0]
[null,null,null,null,null,"A28","金属製品",2935,9.0510204015550736E-5,0]
[null,null,null,null,null,"A29","はん用機械",0,0,0]
[null,null,null,null,null,"A30","生産用機械",0,0,0]
[null,null,null,null,null,"A31","業務用機械",0,0,0]
[null,null,null,null,null,"A32","電子部品",0,0,0]
[null,null,null,null,null,"A33","電気機械",10098,3.1140444298093057E-4,0]
[null,null,null,null,null,"A34","情報通信機器",13285,4.0968588086766317E-4,0]
[null,null,null,null,null,"A35","輸送機械",0,0,0]
[null,null,null,null,null,"A39","その他の製造工業製品",87994,2.7135791796062594E-3,0]
[null,null,null,null,null,"A41","建設",109657,3.3816277484610721E-3,0]
[null,null,null,null,null,"A46","電気・ガス・熱供給",243215,7.5003200237281674E-3,0]
[null,null,null,null,null,"A47","水道",29908,9.2230977229883866E-4,0]
[null,null,null,null,null,"A48","廃棄物処理",36747,1.1332124248584132E-3,0]
[null,null,null,null,null,"A51","商業",0,0,0]
[null,null,null,null,null,"A53","金融・保険",764197,2.3566482581966551E-2,0]
[null,null,null,null,null,"A55","不動産",2080354,6.4154434400193194E-2,0]
[null,null,null,null,null,"A57","運輸・郵便",708736,2.185616352748394E-2,0]
[null,null,null,null,null,"A59","情報通信",2323370,7.1648617616221502E-2,0]
[null,null,null,null,null,"A61","公務",0,0,0]
[null,null,null,null,null,"A63","教育・研究",108099,3.3335817866701938E-3,0]
[null,null,null,null,null,"A64","医療・福祉",0,0,0]
[null,null,null,null,null,"A65","他に分類されない会員制団体",237403,7.3210882330166233E-3,0]
[null,null,null,null,null,"A66","対事業所サービス",4945575,0.15251277758916773,0]
[null,null,null,null,null,"A67","対個人サービス",18316,5.6483301422447266E-4,0]
[null,null,null,null,null,"A68","事務用品",136322,4.2039291420129157E-3,0]
[null,null,null,null,null,"A69","分類不明",0,0,0]
[null,null,null,null,null,"B10","本社",0,0,0]
[null,null,null,null,null,"F70","財・サービス内生部門計",11956309,0.36871140267903418,0]
[null,null,null,null,null,"F71","内生部門計",11956309,0.36871140267903418,0]
[null,null,null,null,null,"E71","家計外消費支出（行）",983875,3.0340963194480403E-2,0]
[null,null,null,null,null,"E91","雇用者所得",14820377,0.45703418938922513,0]
[null,null,null,null,null,"E92","営業余剰",0,0,0]
[null,null,null,null,null,"E93","資本減耗引当",3295330,0.10162214330445138,0]
[null,null,null,null,null,"E94","間接税（関税・輸入品商品税を除く。）",1371392,4.229130143280891E-2,0]
[null,null,null,null,null,"E95","（控除）経常補助金",0,0,0]
[null,null,null,null,null,"F96","粗付加価値部門計",20470974,0.63128859732096576,0]
[null,null,null,null,null,"F97","生産額",32427283,1,0]

{"sheet":"R2業務計算","index":21,"n_rows":62,"n_cols":24,"rows_kept":62,"cut":false,"hidden":false,"merged":[]}
[]
[]
[]
[null,null,null,"発生需要額","直接効果",null,null,null,"１次効果",null,null,null,null,null,"直接＋１次",null,null,null,"２次効果"]
["13部門","37部門",null,null,"市内生産額","粗付加価値額","雇用者所得","雇用者誘発数",null,"市内生産額","生産誘発額","粗付加価値額","雇用者所得","雇用者誘発数","生産誘発額","粗付加価値額","雇用者所得","雇用者誘発数","発生需要額","市内生産額","生産誘発額","粗付加価値額","雇用者所得","雇用者誘発数"]
["01","01","農林漁業",null,null,null,null,{"$f":"ROUND(E6*'R2雇用表'!O6,0)","v":0},{"$f":"'R2業務ｺﾝﾊﾞｰﾀ'!J6","v":0},{"$f":"I6*'R2係数一覧'!E6","v":0},{"$f":"MMULT('R2逆行列'!C5:AM41,'R2業務計算'!J6:J42)","v":0},{"$f":"K6*'R2係数一覧'!D6","v":0},{"$f":"K6*'R2係数一覧'!C6","v":0},{"$f":"K6*'R2雇用表'!O6","v":0},{"$f":"E6+K6","v":0},{"$f":"F6+L6","v":0},0,0,{"$f":"S$44*'R2係数一覧'!H6","v":0},{"$f":"S6*'R2係数一覧'!E6","v":0},{"$f":"MMULT('R2逆行列'!C5:AM41,T6:T42)","v":0},{"$f":"U6*'R2係数一覧'!D6","v":0},{"$f":"U6*'R2係数一覧'!C6","v":0},{"$f":"U6*'R2雇用表'!O6","v":0}]
["02","06","鉱業",null,null,null,null,{"$f":"ROUND(E7*'R2雇用表'!O7,0)","v":0},{"$f":"'R2業務ｺﾝﾊﾞｰﾀ'!J7","v":0},{"$f":"I7*'R2係数一覧'!E7","v":0},0,{"$f":"K7*'R2係数一覧'!D7","v":0},{"$f":"K7*'R2係数一覧'!C7","v":0},{"$f":"K7*'R2雇用表'!O7","v":0},{"$f":"E7+K7","v":0},0,0,0,{"$f":"S$44*'R2係数一覧'!H7","v":0},{"$f":"S7*'R2係数一覧'!E7","v":0},0,{"$f":"U7*'R2係数一覧'!D7","v":0},{"$f":"U7*'R2係数一覧'!C7","v":0},{"$f":"U7*'R2雇用表'!O7","v":0}]
["03","11","飲食料品",null,null,null,null,{"$f":"ROUND(E8*'R2雇用表'!O8,0)","v":0},{"$f":"'R2業務ｺﾝﾊﾞｰﾀ'!J8","v":0},{"$f":"I8*'R2係数一覧'!E8","v":0},0,{"$f":"K8*'R2係数一覧'!D8","v":0},{"$f":"K8*'R2係数一覧'!C8","v":0},{"$f":"K8*'R2雇用表'!O8","v":0},0,0,0,0,{"$f":"S$44*'R2係数一覧'!H8","v":0},{"$f":"S8*'R2係数一覧'!E8","v":0},0,{"$f":"U8*'R2係数一覧'!D8","v":0},{"$f":"U8*'R2係数一覧'!C8","v":0},{"$f":"U8*'R2雇用表'!O8","v":0}]
["03","15","繊維製品",null,null,null,null,{"$f":"ROUND(E9*'R2雇用表'!O9,0)","v":0},{"$f":"'R2業務ｺﾝﾊﾞｰﾀ'!J9","v":0},{"$f":"I9*'R2係数一覧'!E9","v":0},0,{"$f":"K9*'R2係数一覧'!D9","v":0},{"$f":"K9*'R2係数一覧'!C9","v":0},{"$f":"K9*'R2雇用表'!O9","v":0},0,0,0,0,{"$f":"S$44*'R2係数一覧'!H9","v":0},{"$f":"S9*'R2係数一覧'!E9","v":0},0,{"$f":"U9*'R2係数一覧'!D9","v":0},{"$f":"U9*'R2係数一覧'!C9","v":0},{"$f":"U9*'R2雇用表'!O9","v":0}]
["03","16","パルプ・紙・木製品",null,null,null,null,{"$f":"ROUND(E10*'R2雇用表'!O10,0)","v":0},{"$f":"'R2業務ｺﾝﾊﾞｰﾀ'!J10","v":0},{"$f":"I10*'R2係数一覧'!E10","v":0},0,{"$f":"K10*'R2係数一覧'!D10","v":0},{"$f":"K10*'R2係数一覧'!C10","v":0},{"$f":"K10*'R2雇用表'!O10","v":0},0,0,0,0,{"$f":"S$44*'R2係数一覧'!H10","v":0},{"$f":"S10*'R2係数一覧'!E10","v":0},0,{"$f":"U10*'R2係数一覧'!D10","v":0},{"$f":"U10*'R2係数一覧'!C10","v":0},{"$f":"U10*'R2雇用表'!O10","v":0}]
["03","20","化学製品",null,null,null,null,{"$f":"ROUND(E11*'R2雇用表'!O11,0)","v":0},{"$f":"'R2業務ｺﾝﾊﾞｰﾀ'!J11","v":0},{"$f":"I11*'R2係数一覧'!E11","v":0},0,{"$f":"K11*'R2係数一覧'!D11","v":0},{"$f":"K11*'R2係数一覧'!C11","v":0},{"$f":"K11*'R2雇用表'!O11","v":0},0,0,0,0,{"$f":"S$44*'R2係数一覧'!H11","v":0},{"$f":"S11*'R2係数一覧'!E11","v":0},0,{"$f":"U11*'R2係数一覧'!D11","v":0},{"$f":"U11*'R2係数一覧'!C11","v":0},{"$f":"U11*'R2雇用表'!O11","v":0}]
["03","21","石油・石炭製品",null,null,null,null,{"$f":"ROUND(E12*'R2雇用表'!O12,0)","v":0},{"$f":"'R2業務ｺﾝﾊﾞｰﾀ'!J12","v":0},{"$f":"I12*'R2係数一覧'!E12","v":0},0,{"$f":"K12*'R2係数一覧'!D12","v":0},{"$f":"K12*'R2係数一覧'!C12","v":0},{"$f":"K12*'R2雇用表'!O12","v":0},0,0,0,0,{"$f":"S$44*'R2係数一覧'!H12","v":0},{"$f":"S12*'R2係数一覧'!E12","v":0},0,{"$f":"U12*'R2係数一覧'!D12","v":0},{"$f":"U12*'R2係数一覧'!C12","v":0},{"$f":"U12*'R2雇用表'!O12","v":0}]
["03","22","プラスチック・ゴム製品",null,null,null,null,{"$f":"ROUND(E13*'R2雇用表'!O13,0)","v":0},{"$f":"'R2業務ｺﾝﾊﾞｰﾀ'!J13","v":0},{"$f":"I13*'R2係数一覧'!E13","v":0},0,{"$f":"K13*'R2係数一覧'!D13","v":0},{"$f":"K13*'R2係数一覧'!C13","v":0},{"$f":"K13*'R2雇用表'!O13","v":0},0,0,0,0,{"$f":"S$44*'R2係数一覧'!H13","v":0},{"$f":"S13*'R2係数一覧'!E13","v":0},0,{"$f":"U13*'R2係数一覧'!D13","v":0},{"$f":"U13*'R2係数一覧'!C13","v":0},{"$f":"U13*'R2雇用表'!O13","v":0}]
["03","25","窯業・土石製品",null,null,null,null,{"$f":"ROUND(E14*'R2雇用表'!O14,0)","v":0},{"$f":"'R2業務ｺﾝﾊﾞｰﾀ'!J14","v":0},{"$f":"I14*'R2係数一覧'!E14","v":0},0,{"$f":"K14*'R2係数一覧'!D14","v":0},{"$f":"K14*'R2係数一覧'!C14","v":0},{"$f":"K14*'R2雇用表'!O14","v":0},0,0,0,0,{"$f":"S$44*'R2係数一覧'!H14","v":0},{"$f":"S14*'R2係数一覧'!E14","v":0},0,{"$f":"U14*'R2係数一覧'!D14","v":0},{"$f":"U14*'R2係数一覧'!C14","v":0},{"$f":"U14*'R2雇用表'!O14","v":0}]
["03","26","鉄鋼",null,null,null,null,{"$f":"ROUND(E15*'R2雇用表'!O15,0)","v":0},{"$f":"'R2業務ｺﾝﾊﾞｰﾀ'!J15","v":0},{"$f":"I15*'R2係数一覧'!E15","v":0},0,{"$f":"K15*'R2係数一覧'!D15","v":0},{"$f":"K15*'R2係数一覧'!C15","v":0},{"$f":"K15*'R2雇用表'!O15","v":0},0,0,0,0,{"$f":"S$44*'R2係数一覧'!H15","v":0},{"$f":"S15*'R2係数一覧'!E15","v":0},0,{"$f":"U15*'R2係数一覧'!D15","v":0},{"$f":"U15*'R2係数一覧'!C15","v":0},{"$f":"U15*'R2雇用表'!O15","v":0}]
["03","27","非鉄金属",null,null,null,null,{"$f":"ROUND(E16*'R2雇用表'!O16,0)","v":0},{"$f":"'R2業務ｺﾝﾊﾞｰﾀ'!J16","v":0},{"$f":"I16*'R2係数一覧'!E16","v":0},0,{"$f":"K16*'R2係数一覧'!D16","v":0},{"$f":"K16*'R2係数一覧'!C16","v":0},{"$f":"K16*'R2雇用表'!O16","v":0},0,0,0,0,{"$f":"S$44*'R2係数一覧'!H16","v":0},{"$f":"S16*'R2係数一覧'!E16","v":0},0,{"$f":"U16*'R2係数一覧'!D16","v":0},{"$f":"U16*'R2係数一覧'!C16","v":0},{"$f":"U16*'R2雇用表'!O16","v":0}]
["03","28","金属製品",null,null,null,null,{"$f":"ROUND(E17*'R2雇用表'!O17,0)","v":0},{"$f":"'R2業務ｺﾝﾊﾞｰﾀ'!J17","v":0},{"$f":"I17*'R2係数一覧'!E17","v":0},0,{"$f":"K17*'R2係数一覧'!D17","v":0},{"$f":"K17*'R2係数一覧'!C17","v":0},{"$f":"K17*'R2雇用表'!O17","v":0},0,0,0,0,{"$f":"S$44*'R2係数一覧'!H17","v":0},{"$f":"S17*'R2係数一覧'!E17","v":0},0,{"$f":"U17*'R2係数一覧'!D17","v":0},{"$f":"U17*'R2係数一覧'!C17","v":0},{"$f":"U17*'R2雇用表'!O17","v":0}]
["03","29","はん用機械",null,null,null,null,{"$f":"ROUND(E18*'R2雇用表'!O18,0)","v":0},{"$f":"'R2業務ｺﾝﾊﾞｰﾀ'!J18","v":0},{"$f":"I18*'R2係数一覧'!E18","v":0},0,{"$f":"K18*'R2係数一覧'!D18","v":0},{"$f":"K18*'R2係数一覧'!C18","v":0},{"$f":"K18*'R2雇用表'!O18","v":0},0,0,0,0,{"$f":"S$44*'R2係数一覧'!H18","v":0},{"$f":"S18*'R2係数一覧'!E18","v":0},0,{"$f":"U18*'R2係数一覧'!D18","v":0},{"$f":"U18*'R2係数一覧'!C18","v":0},{"$f":"U18*'R2雇用表'!O18","v":0}]
["03","30","生産用機械",null,null,null,null,{"$f":"ROUND(E19*'R2雇用表'!O19,0)","v":0},{"$f":"'R2業務ｺﾝﾊﾞｰﾀ'!J19","v":0},{"$f":"I19*'R2係数一覧'!E19","v":0},0,{"$f":"K19*'R2係数一覧'!D19","v":0},{"$f":"K19*'R2係数一覧'!C19","v":0},{"$f":"K19*'R2雇用表'!O19","v":0},0,0,0,0,{"$f":"S$44*'R2係数一覧'!H19","v":0},{"$f":"S19*'R2係数一覧'!E19","v":0},0,{"$f":"U19*'R2係数一覧'!D19","v":0},{"$f":"U19*'R2係数一覧'!C19","v":0},{"$f":"U19*'R2雇用表'!O19","v":0}]
["03","31","業務用機械",null,null,null,null,{"$f":"ROUND(E20*'R2雇用表'!O20,0)","v":0},{"$f":"'R2業務ｺﾝﾊﾞｰﾀ'!J20","v":0},{"$f":"I20*'R2係数一覧'!E20","v":0},0,{"$f":"K20*'R2係数一覧'!D20","v":0},{"$f":"K20*'R2係数一覧'!C20","v":0},{"$f":"K20*'R2雇用表'!O20","v":0},0,0,0,0,{"$f":"S$44*'R2係数一覧'!H20","v":0},{"$f":"S20*'R2係数一覧'!E20","v":0},0,{"$f":"U20*'R2係数一覧'!D20","v":0},{"$f":"U20*'R2係数一覧'!C20","v":0},{"$f":"U20*'R2雇用表'!O20","v":0}]
["03","32","電子部品",null,null,null,null,{"$f":"ROUND(E21*'R2雇用表'!O21,0)","v":0},{"$f":"'R2業務ｺﾝﾊﾞｰﾀ'!J21","v":0},{"$f":"I21*'R2係数一覧'!E21","v":0},0,{"$f":"K21*'R2係数一覧'!D21","v":0},{"$f":"K21*'R2係数一覧'!C21","v":0},{"$f":"K21*'R2雇用表'!O21","v":0},0,0,0,0,{"$f":"S$44*'R2係数一覧'!H21","v":0},{"$f":"S21*'R2係数一覧'!E21","v":0},0,{"$f":"U21*'R2係数一覧'!D21","v":0},{"$f":"U21*'R2係数一覧'!C21","v":0},{"$f":"U21*'R2雇用表'!O21","v":0}]
["03","33","電気機械",null,null,null,null,{"$f":"ROUND(E22*'R2雇用表'!O22,0)","v":0},{"$f":"'R2業務ｺﾝﾊﾞｰﾀ'!J22","v":0},{"$f":"I22*'R2係数一覧'!E22","v":0},0,{"$f":"K22*'R2係数一覧'!D22","v":0},{"$f":"K22*'R2係数一覧'!C22","v":0},{"$f":"K22*'R2雇用表'!O22","v":0},0,{"$f":"F22+L22","v":0},{"$f":"G22+M22","v":0},{"$f":"H22+N22","v":0},{"$f":"S$44*'R2係数一覧'!H22","v":0},{"$f":"S22*'R2係数一覧'!E22","v":0},0,{"$f":"U22*'R2係数一覧'!D22","v":0},{"$f":"U22*'R2係数一覧'!C22","v":0},{"$f":"U22*'R2雇用表'!O22","v":0}]
["03","34","情報通信機器",null,null,null,null,{"$f":"ROUND(E23*'R2雇用表'!O23,0)","v":0},{"$f":"'R2業務ｺﾝﾊﾞｰﾀ'!J23","v":0},{"$f":"I23*'R2係数一覧'!E23","v":0},0,{"$f":"K23*'R2係数一覧'!D23","v":0},{"$f":"K23*'R2係数一覧'!C23","v":0},{"$f":"K23*'R2雇用表'!O23","v":0},0,0,0,0,{"$f":"S$44*'R2係数一覧'!H23","v":0},{"$f":"S23*'R2係数一覧'!E23","v":0},0,{"$f":"U23*'R2係数一覧'!D23","v":0},{"$f":"U23*'R2係数一覧'!C23","v":0},{"$f":"U23*'R2雇用表'!O23","v":0}]
["03","35","輸送機械",null,null,null,null,{"$f":"ROUND(E24*'R2雇用表'!O24,0)","v":0},{"$f":"'R2業務ｺﾝﾊﾞｰﾀ'!J24","v":0},{"$f":"I24*'R2係数一覧'!E24","v":0},0,{"$f":"K24*'R2係数一覧'!D24","v":0},{"$f":"K24*'R2係数一覧'!C24","v":0},{"$f":"K24*'R2雇用表'!O24","v":0},0,0,0,0,{"$f":"S$44*'R2係数一覧'!H24","v":0},{"$f":"S24*'R2係数一覧'!E24","v":0},0,{"$f":"U24*'R2係数一覧'!D24","v":0},{"$f":"U24*'R2係数一覧'!C24","v":0},{"$f":"U24*'R2雇用表'!O24","v":0}]
["03","39","その他の製造工業製品",null,null,null,null,{"$f":"ROUND(E25*'R2雇用表'!O25,0)","v":0},{"$f":"'R2業務ｺﾝﾊﾞｰﾀ'!J25","v":0},{"$f":"I25*'R2係数一覧'!E25","v":0},0,{"$f":"K25*'R2係数一覧'!D25","v":0},{"$f":"K25*'R2係数一覧'!C25","v":0},{"$f":"K25*'R2雇用表'!O25","v":0},0,0,0,0,{"$f":"S$44*'R2係数一覧'!H25","v":0},{"$f":"S25*'R2係数一覧'!E25","v":0},0,{"$f":"U25*'R2係数一覧'!D25","v":0},{"$f":"U25*'R2係数一覧'!C25","v":0},{"$f":"U25*'R2雇用表'!O25","v":0}]
["04","41","建設",null,null,null,null,{"$f":"ROUND(E26*'R2雇用表'!O26,0)","v":0},{"$f":"'R2業務ｺﾝﾊﾞｰﾀ'!J26","v":0},{"$f":"I26*'R2係数一覧'!E26","v":0},0,{"$f":"K26*'R2係数一覧'!D26","v":0},{"$f":"K26*'R2係数一覧'!C26","v":0},{"$f":"K26*'R2雇用表'!O26","v":0},0,0,0,0,{"$f":"S$44*'R2係数一覧'!H26","v":0},{"$f":"S26*'R2係数一覧'!E26","v":0},0,{"$f":"U26*'R2係数一覧'!D26","v":0},{"$f":"U26*'R2係数一覧'!C26","v":0},{"$f":"U26*'R2雇用表'!O26","v":0}]
["05","46","電気・ガス・熱供給",null,null,null,null,{"$f":"ROUND(E27*'R2雇用表'!O27,0)","v":0},{"$f":"'R2業務ｺﾝﾊﾞｰﾀ'!J27","v":0},{"$f":"I27*'R2係数一覧'!E27","v":0},0,{"$f":"K27*'R2係数一覧'!D27","v":0},{"$f":"K27*'R2係数一覧'!C27","v":0},{"$f":"K27*'R2雇用表'!O27","v":0},0,0,0,0,{"$f":"S$44*'R2係数一覧'!H27","v":0},{"$f":"S27*'R2係数一覧'!E27","v":0},0,{"$f":"U27*'R2係数一覧'!D27","v":0},{"$f":"U27*'R2係数一覧'!C27","v":0},{"$f":"U27*'R2雇用表'!O27","v":0}]
["05","47","水道",null,null,null,null,{"$f":"ROUND(E28*'R2雇用表'!O28,0)","v":0},{"$f":"'R2業務ｺﾝﾊﾞｰﾀ'!J28","v":0},{"$f":"I28*'R2係数一覧'!E28","v":0},0,{"$f":"K28*'R2係数一覧'!D28","v":0},{"$f":"K28*'R2係数一覧'!C28","v":0},{"$f":"K28*'R2雇用表'!O28","v":0},0,0,0,0,{"$f":"S$44*'R2係数一覧'!H28","v":0},{"$f":"S28*'R2係数一覧'!E28","v":0},0,{"$f":"U28*'R2係数一覧'!D28","v":0},{"$f":"U28*'R2係数一覧'!C28","v":0},{"$f":"U28*'R2雇用表'!O28","v":0}]
["12","48","廃棄物処理",null,null,null,null,{"$f":"ROUND(E29*'R2雇用表'!O29,0)","v":0},{"$f":"'R2業務ｺﾝﾊﾞｰﾀ'!J29","v":0},{"$f":"I29*'R2係数一覧'!E29","v":0},0,{"$f":"K29*'R2係数一覧'!D29","v":0},{"$f":"K29*'R2係数一覧'!C29","v":0},{"$f":"K29*'R2雇用表'!O29","v":0},0,0,0,0,{"$f":"S$44*'R2係数一覧'!H29","v":0},{"$f":"S29*'R2係数一覧'!E29","v":0},0,{"$f":"U29*'R2係数一覧'!D29","v":0},{"$f":"U29*'R2係数一覧'!C29","v":0},{"$f":"U29*'R2雇用表'!O29","v":0}]
["06","51","商業",null,null,null,null,{"$f":"ROUND(E30*'R2雇用表'!O30,0)","v":0},{"$f":"'R2業務ｺﾝﾊﾞｰﾀ'!J30","v":0},{"$f":"I30*'R2係数一覧'!E30","v":0},0,{"$f":"K30*'R2係数一覧'!D30","v":0},{"$f":"K30*'R2係数一覧'!C30","v":0},{"$f":"K30*'R2雇用表'!O30","v":0},0,0,0,0,{"$f":"S$44*'R2係数一覧'!H30","v":0},{"$f":"S30*'R2係数一覧'!E30","v":0},0,{"$f":"U30*'R2係数一覧'!D30","v":0},{"$f":"U30*'R2係数一覧'!C30","v":0},{"$f":"U30*'R2雇用表'!O30","v":0}]
["07","53","金融・保険",null,null,null,null,{"$f":"ROUND(E31*'R2雇用表'!O31,0)","v":0},{"$f":"'R2業務ｺﾝﾊﾞｰﾀ'!J31","v":0},{"$f":"I31*'R2係数一覧'!E31","v":0},0,{"$f":"K31*'R2係数一覧'!D31","v":0},{"$f":"K31*'R2係数一覧'!C31","v":0},{"$f":"K31*'R2雇用表'!O31","v":0},0,0,0,0,{"$f":"S$44*'R2係数一覧'!H31","v":0},{"$f":"S31*'R2係数一覧'!E31","v":0},0,{"$f":"U31*'R2係数一覧'!D31","v":0},{"$f":"U31*'R2係数一覧'!C31","v":0},{"$f":"U31*'R2雇用表'!O31","v":0}]
["08","55","不動産",null,null,null,null,{"$f":"ROUND(E32*'R2雇用表'!O32,0)","v":0},{"$f":"'R2業務ｺﾝﾊﾞｰﾀ'!J32","v":0},{"$f":"I32*'R2係数一覧'!E32","v":0},0,{"$f":"K32*'R2係数一覧'!D32","v":0},{"$f":"K32*'R2係数一覧'!C32","v":0},{"$f":"K32*'R2雇用表'!O32","v":0},0,0,0,0,{"$f":"S$44*'R2係数一覧'!H32","v":0},{"$f":"S32*'R2係数一覧'!E32","v":0},0,{"$f":"U32*'R2係数一覧'!D32","v":0},{"$f":"U32*'R2係数一覧'!C32","v":0},{"$f":"U32*'R2雇用表'!O32","v":0}]
["09","57","運輸・郵便",null,null,null,null,{"$f":"ROUND(E33*'R2雇用表'!O33,0)","v":0},{"$f":"'R2業務ｺﾝﾊﾞｰﾀ'!J33","v":0},{"$f":"I33*'R2係数一覧'!E33","v":0},0,{"$f":"K33*'R2係数一覧'!D33","v":0},{"$f":"K33*'R2係数一覧'!C33","v":0},{"$f":"K33*'R2雇用表'!O33","v":0},0,0,0,0,{"$f":"S$44*'R2係数一覧'!H33","v":0},{"$f":"S33*'R2係数一覧'!E33","v":0},0,{"$f":"U33*'R2係数一覧'!D33","v":0},{"$f":"U33*'R2係数一覧'!C33","v":0},{"$f":"U33*'R2雇用表'!O33","v":0}]
["10","59","情報通信",null,null,null,null,{"$f":"ROUND(E34*'R2雇用表'!O34,0)","v":0},{"$f":"'R2業務ｺﾝﾊﾞｰﾀ'!J34","v":0},{"$f":"I34*'R2係数一覧'!E34","v":0},0,{"$f":"K34*'R2係数一覧'!D34","v":0},{"$f":"K34*'R2係数一覧'!C34","v":0},{"$f":"K34*'R2雇用表'!O34","v":0},0,0,0,0,{"$f":"S$44*'R2係数一覧'!H34","v":0},{"$f":"S34*'R2係数一覧'!E34","v":0},0,{"$f":"U34*'R2係数一覧'!D34","v":0},{"$f":"U34*'R2係数一覧'!C34","v":0},{"$f":"U34*'R2雇用表'!O34","v":0}]
["11","61","公務",null,null,null,null,{"$f":"ROUND(E35*'R2雇用表'!O35,0)","v":0},{"$f":"'R2業務ｺﾝﾊﾞｰﾀ'!J35","v":0},{"$f":"I35*'R2係数一覧'!E35","v":0},0,{"$f":"K35*'R2係数一覧'!D35","v":0},{"$f":"K35*'R2係数一覧'!C35","v":0},{"$f":"K35*'R2雇用表'!O35","v":0},0,0,0,0,{"$f":"S$44*'R2係数一覧'!H35","v":0},{"$f":"S35*'R2係数一覧'!E35","v":0},0,{"$f":"U35*'R2係数一覧'!D35","v":0},{"$f":"U35*'R2係数一覧'!C35","v":0},{"$f":"U35*'R2雇用表'!O35","v":0}]
["12","63","教育・研究",null,null,null,null,{"$f":"ROUND(E36*'R2雇用表'!O36,0)","v":0},{"$f":"'R2業務ｺﾝﾊﾞｰﾀ'!J36","v":0},{"$f":"I36*'R2係数一覧'!E36","v":0},0,{"$f":"K36*'R2係数一覧'!D36","v":0},{"$f":"K36*'R2係数一覧'!C36","v":0},{"$f":"K36*'R2雇用表'!O36","v":0},0,0,0,0,{"$f":"S$44*'R2係数一覧'!H36","v":0},{"$f":"S36*'R2係数一覧'!E36","v":0},0,{"$f":"U36*'R2係数一覧'!D36","v":0},{"$f":"U36*'R2係数一覧'!C36","v":0},{"$f":"U36*'R2雇用表'!O36","v":0}]
["12","64","医療・福祉",null,null,null,null,{"$f":"ROUND(E37*'R2雇用表'!O37,0)","v":0},{"$f":"'R2業務ｺﾝﾊﾞｰﾀ'!J37","v":0},{"$f":"I37*'R2係数一覧'!E37","v":0},0,{"$f":"K37*'R2係数一覧'!D37","v":0},{"$f":"K37*'R2係数一覧'!C37","v":0},{"$f":"K37*'R2雇用表'!O37","v":0},0,0,0,0,{"$f":"S$44*'R2係数一覧'!H37","v":0},{"$f":"S37*'R2係数一覧'!E37","v":0},0,{"$f":"U37*'R2係数一覧'!D37","v":0},{"$f":"U37*'R2係数一覧'!C37","v":0},{"$f":"U37*'R2雇用表'!O37","v":0}]
["12","65","他に分類されない会員制団体",null,null,null,null,{"$f":"ROUND(E38*'R2雇用表'!O38,0)","v":0},{"$f":"'R2業務ｺﾝﾊﾞｰﾀ'!J38","v":0},{"$f":"I38*'R2係数一覧'!E38","v":0},0,{"$f":"K38*'R2係数一覧'!D38","v":0},{"$f":"K38*'R2係数一覧'!C38","v":0},{"$f":"K38*'R2雇用表'!O38","v":0},0,0,0,0,{"$f":"S$44*'R2係数一覧'!H38","v":0},{"$f":"S38*'R2係数一覧'!E38","v":0},0,{"$f":"U38*'R2係数一覧'!D38","v":0},{"$f":"U38*'R2係数一覧'!C38","v":0},{"$f":"U38*'R2雇用表'!O38","v":0}]
["12","66","対事業所サービス",null,null,null,null,{"$f":"ROUND(E39*'R2雇用表'!O39,0)","v":0},{"$f":"'R2業務ｺﾝﾊﾞｰﾀ'!J39","v":0},{"$f":"I39*'R2係数一覧'!E39","v":0},0,{"$f":"K39*'R2係数一覧'!D39","v":0},{"$f":"K39*'R2係数一覧'!C39","v":0},{"$f":"K39*'R2雇用表'!O39","v":0},0,0,0,0,{"$f":"S$44*'R2係数一覧'!H39","v":0},{"$f":"S39*'R2係数一覧'!E39","v":0},0,{"$f":"U39*'R2係数一覧'!D39","v":0},{"$f":"U39*'R2係数一覧'!C39","v":0},{"$f":"U39*'R2雇用表'!O39","v":0}]
["12","67","対個人サービス",null,null,null,null,{"$f":"ROUND(E40*'R2雇用表'!O40,0)","v":0},{"$f":"'R2業務ｺﾝﾊﾞｰﾀ'!J40","v":0},{"$f":"I40*'R2係数一覧'!E40","v":0},0,{"$f":"K40*'R2係数一覧'!D40","v":0},{"$f":"K40*'R2係数一覧'!C40","v":0},{"$f":"K40*'R2雇用表'!O40","v":0},0,0,0,0,{"$f":"S$44*'R2係数一覧'!H40","v":0},{"$f":"S40*'R2係数一覧'!E40","v":0},0,{"$f":"U40*'R2係数一覧'!D40","v":0},{"$f":"U40*'R2係数一覧'!C40","v":0},{"$f":"U40*'R2雇用表'!O40","v":0}]
["03","68","事務用品",null,null,null,null,{"$f":"ROUND(E41*'R2雇用表'!O41,0)","v":0},{"$f":"'R2業務ｺﾝﾊﾞｰﾀ'!J41","v":0},{"$f":"I41*'R2係数一覧'!E41","v":0},0,{"$f":"K41*'R2係数一覧'!D41","v":0},{"$f":"K41*'R2係数一覧'!C41","v":0},{"$f":"K41*'R2雇用表'!O41","v":0},0,0,0,0,{"$f":"S$44*'R2係数一覧'!H41","v":0},{"$f":"S41*'R2係数一覧'!E41","v":0},0,{"$f":"U41*'R2係数一覧'!D41","v":0},{"$f":"U41*'R2係数一覧'!C41","v":0},{"$f":"U41*'R2雇用表'!O41","v":0}]
["13","69","分類不明",null,null,null,null,{"$f":"ROUND(E42*'R2雇用表'!O42,0)","v":0},{"$f":"'R2業務ｺﾝﾊﾞｰﾀ'!J42","v":0},{"$f":"I42*'R2係数一覧'!E42","v":0},0,{"$f":"K42*'R2係数一覧'!D42","v":0},{"$f":"K42*'R2係数一覧'!C42","v":0},{"$f":"K42*'R2雇用表'!O42","v":0},0,0,0,0,{"$f":"S$44*'R2係数一覧'!H42","v":0},{"$f":"S42*'R2係数一覧'!E42","v":0},0,{"$f":"U42*'R2係数一覧'!D42","v":0},{"$f":"U42*'R2係数一覧'!C42","v":0},{"$f":"U42*'R2雇用表'!O42","v":0}]
[null,null,"業務",{"$f":"'R2業務ｺﾝﾊﾞｰﾀ'!J53","v":0},{"$f":"D43","v":0},{"$f":"'R2業務ｺﾝﾊﾞｰﾀ'!J52","v":0},{"$f":"'R2業務ｺﾝﾊﾞｰﾀ'!J47","v":0},{"$f":"'R2業務ｺﾝﾊﾞｰﾀ'!C9","v":0},null,null,null,null,null,null,0,0,0,0]
[null,null,"合計",{"$f":"SUM(D6:D43)","v":0},0,0,0,0,0,0,0,0,0,0,0,0,0,0,{"$f":"Q44*S45","v":0},{"$f":"SUM(T6:T42)","v":0},{"$f":"SUM(U6:U42)","v":0},{"$f":"SUM(V6:V42)","v":0},{"$f":"SUM(W6:W42)","v":0},{"$f":"SUM(X6:X42)","v":0}]
[null,null,null,null,null,null,null,null,null,null,null,null,null,null,null,null,"消費転換率",null,{"$f":"'R2業務入力'!C7","v":0.55378261397054429}]
[]
[]
[]
[null,"01","農林漁業",{"$f":"SUMIF($A$6:$A$42,$B49,D$6:D$42)","v":0},0,0,0,0,0,0,0,0,0,0,0,0,0,0,0,{"$f":"SUMIF($A$6:$A$42,$B49,T$6:T$42)","v":0},0,0,0,0]
[null,"02","鉱業",0,0,0,0,0,0,0,0,0,0,0,0,0,0,0,0,0,0,0,0,0]
[null,"03","製造業",0,0,0,0,0,0,0,0,0,0,0,0,0,0,0,0,0,0,0,0,0]
[null,"04","建設",0,0,0,0,0,0,0,0,0,0,0,0,0,0,0,0,0,0,0,0,0]
[null,"05","電気・ガス・水道",0,0,0,0,0,0,0,0,0,0,0,0,0,0,0,0,0,0,0,0,0]
[null,"06","商業",0,0,0,0,0,0,0,0,0,0,0,0,0,0,0,0,0,0,0,0,0]
[null,"07","金融・保険",0,0,0,0,0,0,0,0,0,0,0,0,0,0,0,0,0,0,0,0,0]
[null,"08","不動産",0,0,0,0,0,0,0,0,0,0,0,0,0,0,0,0,0,0,0,0,0]
[null,"09","運輸・郵便",0,0,0,0,0,0,0,0,0,0,0,0,0,0,0,0,0,0,0,0,0]
[null,"10","情報通信",0,0,0,0,0,0,0,0,0,0,0,0,0,0,0,0,0,0,0,0,0]
[null,"11","公務",0,0,0,0,0,0,0,0,0,0,0,0,0,0,0,0,0,0,0,0,0]
[null,"12","サービス",0,0,0,0,0,0,0,0,0,0,0,0,0,0,0,0,0,0,0,0,0]
[null,"13","分類不明",0,0,0,0,0,0,0,0,0,0,0,0,0,0,0,0,0,0,0,0,0]
[null,null,null,{"$f":"SUM(D49:D61)","v":0},{"$f":"SUM(E49:E61)","v":0},0,0,0,0,0,0,0,0,0,0,0,0,0,0,0,0,0,0,0]

{"sheet":"R2業務結果","index":22,"n_rows":21,"n_cols":5,"rows_kept":21,"cut":false,"hidden":false,"merged":[]}
["業務機能の集積による市内波及の状況"]
[]
[null,"発生需要額",null,{"$f":"'R2業務計算'!E44","v":0},"百万円"]
[null,"直接効果","市内生産額",{"$f":"'R2業務計算'!E44","v":0},"百万円"]
[null,null,"粗付加価値額",{"$f":"'R2業務計算'!F44","v":0},"百万円"]
[null,null,"雇用者誘発数",{"$f":"'R2業務計算'!H44","v":0},"人"]
[null,"１次波及","生産誘発額",{"$f":"'R2業務計算'!K44","v":0},"百万円"]
[null,null,"粗付加価値誘発額",{"$f":"'R2業務計算'!L44","v":0},"百万円"]
[null,null,"雇用者誘発数",{"$f":"'R2業務計算'!N44","v":0},"人"]
[null,"直接効果","生産誘発額",{"$f":"SUM(D4,D7)","v":0},"百万円"]
[null,"＋１次波及","粗付加価値誘発額",{"$f":"SUM(D5,D8)","v":0},"百万円"]
[null,null,"雇用者誘発数",{"$f":"SUM(D6,D9)","v":0},"人"]
[null,null,"雇用者所得合計額",{"$f":"'R2業務計算'!Q44","v":0},"百万円"]
[null,null,"消費転換率",{"$f":"'R2業務計算'!S45","v":0.55378261397054429}]
[null,null,"消費喚起額",{"$f":"'R2業務計算'!S44","v":0},"百万円"]
[null,"２次波及","生産誘発額",{"$f":"'R2業務計算'!U44","v":0},"百万円"]
[null,null,"粗付加価値誘発額",{"$f":"'R2業務計算'!V44","v":0},"百万円"]
[null,null,"雇用者誘発数",{"$f":"'R2業務計算'!X44","v":0},"人"]
[null,"直接効果","生産誘発額",{"$f":"D4+D7+D16","v":0},"百万円"]
[null,"＋１次波及","粗付加価値誘発額",{"$f":"D5+D8+D17","v":0},"百万円"]
[null,"＋２次波及","雇用者誘発数",{"$f":"D6+D9+D18","v":0},"人"]

{"sheet":"R2係数一覧","index":23,"n_rows":43,"n_cols":10,"rows_kept":43,"cut":false,"hidden":false,"merged":[]}
[]
[]
[]
[null,null,"雇用者所得率","粗付加価値率","自給率","自給率","民間消費ﾍﾞｸﾄﾙ",null,"全国表830000需要合計 より"]
["37部門表",null,null,null,null,"観光用","金額","構成比","商業マージン率","運賃率"]
["01","農林漁業",{"$f":"+TRANSPOSE('R2基本表'!$C$53:$AM$54)","v":0.21828804730395607},0.53421089680416722,{"$f":"+'R2基本表'!BJ5","v":1.6826828459129195E-2},{"$f":"E6","v":1.6826828459129195E-2},{"$f":"+'R2基本表'!AP5","v":129822},{"$f":"G6/$G$43","v":1.320764525922326E-2},0.23807384073994797,5.1045598561826597E-2]
["06","鉱業",0,0,{"$f":"+'R2基本表'!BJ6","v":-1.8980808990314291E-3},{"$f":"E7","v":-1.8980808990314291E-3},{"$f":"+'R2基本表'!AP6","v":-162},{"$f":"G7/$G$43","v":-1.6481324675279751E-5},1.277017230258868E-2,7.5257662349945367E-2]
["11","飲食料品",0.11886840540310933,0.31627587573981253,{"$f":"+'R2基本表'!BJ7","v":0.16169726376791749},0.16169726376791749,{"$f":"+'R2基本表'!AP7","v":981590},9.9863601777826244E-2,0.31897337124918018,3.4973973027581796E-2]
["15","繊維製品",0.41442155309033279,0.50301109350237716,{"$f":"+'R2基本表'!BJ8","v":4.1716595647353083E-3},4.1716595647353083E-3,{"$f":"+'R2基本表'!AP8","v":140359},1.427964351912093E-2,0.43288911114566253,3.1827546858595429E-2]
["16","パルプ・紙・木製品",0.21540485811069326,0.41530034247534087,{"$f":"+'R2基本表'!BJ9","v":4.9662886973984022E-2},4.9662886973984022E-2,{"$f":"+'R2基本表'!AP9","v":12850},1.3073149510947212E-3,0.22777404050280575,6.8733145769724793E-2]
["20","化学製品",0.1175197064913364,0.31276108830687638,{"$f":"+'R2基本表'!BJ10","v":4.8401463531126176E-2},4.8401463531126176E-2,{"$f":"+'R2基本表'!AP10","v":93461},9.5084017621995115E-3,0.21020511769673966,2.9859130577868397E-2]
["21","石油・石炭製品",1.4084716134515535E-2,0.4158597491349374,{"$f":"+'R2基本表'!BJ11","v":0.49403658547869245},0.49403658547869245,{"$f":"+'R2基本表'!AP11","v":69457},7.066317086240159E-3,0.18250341317981925,2.3246482054168363E-2]
["22","プラスチック・ゴム製品",0.29190315561644464,0.50168660273310228,{"$f":"+'R2基本表'!BJ12","v":2.7775989860030825E-2},2.7775989860030825E-2,{"$f":"+'R2基本表'!AP12","v":31621},3.2170121454137101E-3,0.18507748312665584,3.2260839046717366E-2]
["25","窯業・土石製品",0.19516801643901849,0.43758310165598935,{"$f":"+'R2基本表'!BJ13","v":0.23822718933980147},0.23822718933980147,{"$f":"+'R2基本表'!AP13","v":4038},4.1081227801715827E-4,0.17883609489207672,6.6271205902616259E-2]
["26","鉄鋼",0.11602297834732656,0.34190013256738844,{"$f":"+'R2基本表'!BJ14","v":1.6155807197486549E-3},1.6155807197486549E-3,{"$f":"+'R2基本表'!AP14","v":-1043},-1.0611124466862211E-4,4.4136684029070707E-2,3.225973311748552E-2]
["27","非鉄金属",0.15204525941371275,0.28627499080093216,{"$f":"+'R2基本表'!BJ15","v":-2.6575209420905743E-2},-2.6575209420905743E-2,{"$f":"+'R2基本表'!AP15","v":5881},5.9831278034148288E-4,8.3707677576120507E-2,3.2850726360672447E-2]
["28","金属製品",0.39991545598148931,0.54301733152379472,{"$f":"+'R2基本表'!BJ16","v":9.7012903174388154E-2},9.7012903174388154E-2,{"$f":"+'R2基本表'!AP16","v":8868},9.0219992111346199E-4,0.10045191089862339,4.5402979811794537E-2]
["29","はん用機械",0.32592250535242012,0.54220225851139747,{"$f":"+'R2基本表'!BJ17","v":0.12007310596917131},0.12007310596917131,{"$f":"+'R2基本表'!AP17","v":433},4.4051935706148966E-5,0.1236190709404834,1.5240610059349222E-2]
["30","生産用機械",0.3067430927540204,0.55385477057277854,{"$f":"+'R2基本表'!BJ18","v":7.701652534354031E-2},7.701652534354031E-2,{"$f":"+'R2基本表'!AP18","v":168},1.709174410769752E-5,0.13307505497583852,1.3002631979161372E-2]
["31","業務用機械",0.29356156701471414,0.46512404197933077,{"$f":"+'R2基本表'!BJ19","v":5.7480860716423554E-2},5.7480860716423554E-2,{"$f":"+'R2基本表'!AP19","v":3752},3.8171561840524463E-4,0.20693389562783926,1.5496284781023193E-2]
["32","電子部品",0.29457918419727414,0.33309507951721112,{"$f":"+'R2基本表'!BJ20","v":3.3296805686592768E-2},3.3296805686592768E-2,{"$f":"+'R2基本表'!AP20","v":1927},1.9604637437817336E-4,6.7976828865455044E-2,1.0993871975732818E-2]
["33","電気機械",0.29913274814136798,0.40193864044936423,{"$f":"+'R2基本表'!BJ21","v":5.0187929236279238E-2},5.0187929236279238E-2,{"$f":"+'R2基本表'!AP21","v":97123},9.880961089118491E-3,0.18806332509313817,1.1049325330265494E-2]
["34","情報通信機器",0.17299431615860666,0.33181734180125033,{"$f":"+'R2基本表'!BJ22","v":0.10277339127554996},0.10277339127554996,{"$f":"+'R2基本表'!AP22","v":114161},1.1614348804040813E-2,0.19346274473435593,8.7390249027079186E-3]
["35","輸送機械",0.16911332941867294,0.24891200402650784,{"$f":"+'R2基本表'!BJ23","v":0.13549477241524976},0.13549477241524976,{"$f":"+'R2基本表'!AP23","v":145885},1.4841839816377695E-2,9.5805722682401659E-2,1.8393509592828379E-2]
["39","その他の製造工業製品",0.27449350402584138,0.40944825784385913,{"$f":"+'R2基本表'!BJ24","v":9.5126356170162296E-2},9.5126356170162296E-2,{"$f":"+'R2基本表'!AP24","v":104973},1.067959317986507E-2,0.3102277989937019,4.8667963807104558E-2]
["41","建設",0.33992476057766291,0.48117300694126808,{"$f":"+'R2基本表'!BJ25","v":1},1,{"$f":"+'R2基本表'!AP25","v":0},0,0,0]
["46","電気・ガス・熱供給",6.8280167516417342E-2,0.40431691120071206,{"$f":"+'R2基本表'!BJ26","v":0.99985108287568891},0.99985108287568891,{"$f":"+'R2基本表'!AP26","v":225094},2.2900291953440868E-2,0,0]
["47","水道",0.11824671437633458,0.47050309576777721,{"$f":"+'R2基本表'!BJ27","v":0.99977252047315746},0.99977252047315746,{"$f":"+'R2基本表'!AP27","v":50482},5.1358656312189659E-3,0,0]
["48","廃棄物処理",0.37597489415434898,0.54475228403773301,{"$f":"+'R2基本表'!BJ28","v":0.80153727051537271},0.80153727051537271,{"$f":"+'R2基本表'!AP28","v":7454},7.583444082070079E-4,0,0]
["51","商業",0.50346187397142006,0.75135525238990264,{"$f":"+'R2基本表'!BJ29","v":0.56946022914076244},1,{"$f":"+'R2基本表'!AP29","v":1594309},0.16219953247975671,-33.737110570626754,0]
["53","金融・保険",0.3010953426430002,0.62096946254912355,{"$f":"+'R2基本表'!BJ30","v":0.46730383427631139},1,{"$f":"+'R2基本表'!AP30","v":512009},5.2090040528798218E-2,0,0]
["55","不動産",7.3087174230051982E-2,0.79154265995708584,{"$f":"+'R2基本表'!BJ31","v":0.99612891062631437},1,{"$f":"+'R2基本表'!AP31","v":2331145},0.2371627012972532,0,0]
["57","運輸・郵便",0.28628665196211045,0.50626589181422232,{"$f":"+'R2基本表'!BJ32","v":0.61533754568673715},1,{"$f":"+'R2基本表'!AP32","v":474095},4.8232800135350334E-2,0,-0.42498377757537048]
["59","情報通信",0.29554612682305936,0.62246187968092004,{"$f":"+'R2基本表'!BJ33","v":0.49897044610000185},1,{"$f":"+'R2基本表'!AP33","v":547925},5.5744011251250981E-2,3.4860271439561788E-2,4.8155258972889942E-3]
["61","公務",0.34465304631750321,0.72367546240986813,{"$f":"+'R2基本表'!BJ34","v":1},1,{"$f":"+'R2基本表'!AP34","v":29328},2.9837301856580531E-3,0,0]
["63","教育・研究",0.45982029309619338,0.64866198528541308,{"$f":"+'R2基本表'!BJ35","v":0.75638086401148674},1,{"$f":"+'R2基本表'!AP35","v":384327},3.9100111533803959E-2,0,1.4399715311367549E-5]
["64","医療・福祉",0.50519857751717023,0.58741595432402105,{"$f":"+'R2基本表'!BJ36","v":0.89457147062073727},1,{"$f":"+'R2基本表'!AP36","v":490722},4.9924374119152043E-2,0,0]
["65","他に分類されない会員制団体",0.53774908784731967,0.63647449359799468,{"$f":"+'R2基本表'!BJ37","v":0.7737522147561261},1,{"$f":"+'R2基本表'!AP37","v":88459},8.9995154287072325E-3,0,0]
["66","対事業所サービス",0.33955392449906574,0.60681896616241204,{"$f":"+'R2基本表'!BJ38","v":0.55909040631804485},1,{"$f":"+'R2基本表'!AP38","v":115035},1.1703266568029669E-2,0,0]
["67","対個人サービス",0.34049215575840658,0.54542008933473607,{"$f":"+'R2基本表'!BJ39","v":0.58770615177688246},1,{"$f":"+'R2基本表'!AP39","v":1033702},0.10516529802151871,2.4065710635694622E-5,9.92117042821471E-6]
["68","事務用品",0,0,{"$f":"+'R2基本表'!BJ40","v":1},1,{"$f":"+'R2基本表'!AP40","v":0},0,0,0]
["69","分類不明",7.4223736824891064E-3,0.64897500553908483,{"$f":"+'R2基本表'!BJ41","v":0.69789680161281531},1,{"$f":"+'R2基本表'!AP41","v":57},5.798984607968802E-6,1.5753233448746726E-2,3.6043000647173973E-2]
["70","内生部門計　　",null,null,null,null,{"$f":"+'R2基本表'!AP42","v":9829307}]

{"sheet":"R2雇用表","index":24,"n_rows":43,"n_cols":15,"rows_kept":43,"cut":false,"hidden":false,"merged":[]}
[null,null,"従業者総数","個人業主","家族従業者"]
[null,null,null,null,null,"有給役員・雇用者"]
[null,null,null,null,null,null,"有給役員","雇用者"]
[null,null,null,null,null,null,null,null,"常用雇用者",null,null,"臨時雇用"]
[null,null,null,null,null,null,null,null,null,"正社員・\n正職員","正社員・\n正職員以外",null,null,"市内生産額","就業係数"]
["01","農林漁業",12994,3711,1867,7416,664,6752,4288,3692,596,2464,null,{"$f":"+'R2基本表'!BF5","v":14206},{"$f":"IF(N6=0,0,C6/N6)","v":0.91468393636491618}]
["06","鉱業",0,0,0,0,0,0,0,0,0,0,null,{"$f":"+'R2基本表'!BF6","v":0},{"$f":"IF(N7=0,0,C7/N7)","v":0}]
["11","飲食料品",20944,1391,88,19465,691,18774,18530,8789,9741,244,null,{"$f":"+'R2基本表'!BF7","v":706260},2.9654801347945514E-2]
["15","繊維製品",2124,747,80,1297,265,1032,974,681,293,58,null,{"$f":"+'R2基本表'!BF8","v":6310},0.33660855784469096]
["16","パルプ・紙・木製品",4099,616,34,3449,384,3065,3000,2458,542,65,null,{"$f":"+'R2基本表'!BF9","v":107161},3.8250856188352104E-2]
["20","化学製品",7567,140,1,7426,217,7209,7201,6592,609,8,null,{"$f":"+'R2基本表'!BF10","v":137645},5.4974753895891605E-2]
["21","石油・石炭製品",1764,0,0,1764,30,1734,1734,1447,287,0,null,{"$f":"+'R2基本表'!BF11","v":808323},2.1822959386284938E-3]
["22","プラスチック・ゴム製品",5730,203,30,5497,420,5077,5044,3997,1047,33,null,{"$f":"+'R2基本表'!BF12","v":86861},6.5967465260588762E-2]
["25","窯業・土石製品",3762,246,4,3512,366,3146,3106,2606,500,40,null,{"$f":"+'R2基本表'!BF13","v":66184},5.6841532696724283E-2]
["26","鉄鋼",1376,14,0,1362,79,1283,1281,1176,105,2,null,{"$f":"+'R2基本表'!BF14","v":56575},2.4321696862571806E-2]
["27","非鉄金属",1549,72,16,1461,134,1327,1306,1191,115,21,null,{"$f":"+'R2基本表'!BF15","v":65224},2.3748926775420089E-2]
["28","金属製品",12112,734,127,11251,1689,9562,9378,7858,1520,184,null,{"$f":"+'R2基本表'!BF16","v":89894},0.13473646739493181]
["29","はん用機械",11565,231,94,11240,574,10666,10604,8933,1671,62,null,{"$f":"+'R2基本表'!BF17","v":119105},9.7099198186474125E-2]
["30","生産用機械",11929,432,81,11416,1193,10223,9884,8506,1378,339,null,{"$f":"+'R2基本表'!BF18","v":167831},7.1077452913943198E-2]
["31","業務用機械",7891,50,15,7826,404,7422,7410,6706,704,12,null,{"$f":"+'R2基本表'!BF19","v":74894},0.10536224530670013]
["32","電子部品",9722,216,22,9484,517,8967,8948,8062,886,19,null,{"$f":"+'R2基本表'!BF20","v":61559},0.15792979093227635]
["33","電気機械",9975,174,15,9786,790,8996,8907,7516,1391,89,null,{"$f":"+'R2基本表'!BF21","v":151859},6.568593234513595E-2]
["34","情報通信機器",10112,133,27,9952,290,9662,9630,8431,1199,32,null,{"$f":"+'R2基本表'!BF22","v":221857},4.5578908936837692E-2]
["35","輸送機械",20174,118,12,20044,753,19291,19176,16329,2847,115,null,{"$f":"+'R2基本表'!BF23","v":298025},6.7692307692307691E-2]
["39","その他の製造工業製品",11384,2145,314,8925,1317,7608,7488,5861,1627,120,null,{"$f":"+'R2基本表'!BF24","v":84206},0.1351922665843289]
["41","建設",124399,14405,2420,107574,21606,85968,83435,73385,10050,2533,null,{"$f":"+'R2基本表'!BF25","v":1692198},7.3513264996176567E-2]
["46","電気・ガス・熱供給",7269,0,0,7269,180,7089,7089,6310,779,0,null,{"$f":"+'R2基本表'!BF26","v":975188},7.4539473414357025E-3]
["47","水道",2033,0,0,2033,9,2024,2022,1674,348,2,null,{"$f":"+'R2基本表'!BF27","v":111927},1.8163624505257891E-2]
["48","廃棄物処理",11897,237,0,11660,562,11098,10896,8057,2839,202,null,{"$f":"+'R2基本表'!BF28","v":161556},7.3640100027235145E-2]
["51","商業",294447,9013,2325,283109,17343,265766,261664,137422,124242,4102,null,{"$f":"+'R2基本表'!BF29","v":2223940},0.13239880572317597]
["53","金融・保険",38047,463,46,37538,1661,35877,35774,28750,7024,103,null,{"$f":"+'R2基本表'!BF30","v":581188},6.5464187147704356E-2]
["55","不動産",49994,5856,1633,42505,13541,28964,28456,18240,10216,508,null,{"$f":"+'R2基本表'!BF31","v":3133231},1.5956053032795858E-2]
["57","運輸・郵便",96888,9762,2901,84225,3989,80236,78417,56625,21792,1819,null,{"$f":"+'R2基本表'!BF32","v":1519257},6.3773278648707882E-2]
["59","情報通信",95856,4883,258,90715,5455,85260,85002,75389,9613,258,null,{"$f":"+'R2基本表'!BF33","v":2202959},4.351238493317397E-2]
["61","公務",44810,0,0,44810,0,44810,44622,36818,7804,188,null,{"$f":"+'R2基本表'!BF34","v":777611},5.7625213635095179E-2]
["63","教育・研究",120578,149,16,120413,1044,119369,117942,82239,35703,1427,null,{"$f":"+'R2基本表'!BF35","v":1706334},7.0664946018774752E-2]
["64","医療・福祉",242614,5283,1630,235701,7939,227762,216358,120730,95628,11404,null,{"$f":"+'R2基本表'!BF36","v":1952361},0.12426697726496277]
["65","他に分類されない会員制団体",9538,213,83,9242,1896,7346,6955,4130,2825,391,null,{"$f":"+'R2基本表'!BF37","v":103327},9.2308883447695181E-2]
["66","対事業所サービス",269804,26246,2100,241458,14374,227084,215967,113501,102466,11117,null,{"$f":"+'R2基本表'!BF38","v":3300383},8.1749300005484207E-2]
["67","対個人サービス",203606,26868,3981,172757,8239,164518,154402,45469,108933,10116,null,{"$f":"+'R2基本表'!BF39","v":1129236},0.18030420567534156]
["68","事務用品",0,0,0,0,0,0,0,0,0,0,null,{"$f":"+'R2基本表'!BF40","v":40094},0]
["69","分類不明",413,9,1,403,10,393,383,142,241,10,null,{"$f":"+'R2基本表'!BF41","v":189562},2.1787067028201856E-3]
["部門計",null,1778966,114760,20221,1643985,108625,1535360,1487273,919712,567561,48087]

{"sheet":"R2基本表","index":25,"n_rows":54,"n_cols":62,"rows_kept":54,"cut":false,"hidden":false,"merged":[[2,58,3,58]]}
["生産者価格評価表（37部門分類）"]
[null,null,null,null,null,null,null,null,null,null,null,null,null,null,null,null,null,null,null,null,null,null,null,null,null,null,null,null,null,null,null,null,null,null,null,null,null,null,null,null,null,null,null,null,null,null,null,null,null,null,null,null,null,null,null,null,null,"（単位：百万円）"]
[null,null,"01","06","11","15","16","20","21","22","25","26","27","28","29","30","31","32","33","34","35","39","41","46","47","48","51","53","55","57","59","61","63","64","65","66","67","68","69","70","71","72","73","74","75","76","78","79","80","81","82","83","84","85","86","87","88","97","符号"]
[null,null,"農林漁業","鉱業","飲食料品","繊維製品","パルプ・紙・木製品","化学製品","石油・石炭製品","プラスチック・ゴム製品","窯業・土石製品","鉄鋼","非鉄金属","金属製品","はん用機械","生産用機械","業務用機械","電子部品","電気機械","情報通信機器","輸送機械","その他の製造工業製品","建設","電気・ガス・熱供給","水道","廃棄物処理","商業","金融・保険","不動産","運輸・郵便","情報通信","公務","教育・研究","医療・福祉","他に分類されない会員制団体","対事業所サービス","対個人サービス","事務用品","分類不明","内生部門計　　","家計外消費支出（列）","民間消費支出","一般政府消費支出","市内総固定資本形成（公的）","市内総固定資本形成（民間）","在庫純増","市内最終需要計","市内需要合計","移出計","輸出計","移輸出計","最終需要計","需要合計","（控除）移入計","（控除）輸入計","（控除）移輸入計","最終需要部門計","市内生産額",null,null,"移輸入率","自給率"]
["01","農林漁業",993,0,189214,10,959,95,0,200,0,0,4,0,0,0,0,0,0,0,1,557,1607,0,0,0,296,0,13,0,0,15,2544,3904,254,22,19091,0,0,219779,1465,129822,0,0,1746,2870,135903,355682,8132,89,8221,144124,363903,-285741,-63956,-349697,-205573,14206,"01",null,{"$f":"-BD5/AV5","v":0.9831731715408708},{"$f":"1-BI5","v":1.6826828459129195E-2}]
["06","鉱業",0,0,90,1,1,391,383858,5,2931,10,1469,8,3,3,3,7,3,0,19,41,2791,251813,0,0,4,0,2,8,0,4,113,10,2,7,-1,0,25,643621,-102,-162,0,0,-132,-5739,-6135,637486,1152,58,1210,-4925,638696,-5449,-633247,-638696,-643621,0,"06",null,{"$f":"-BD6/AV6","v":1.0018980808990314},{"$f":"1-BI6","v":-1.8980808990314291E-3}]
["11","飲食料品",618,0,135666,13,96,809,5,1,15,0,0,0,0,0,0,0,0,0,0,144,1,0,0,0,255,0,0,0,0,553,9781,13853,187,7,128315,0,735,291054,19026,981590,0,0,0,-6472,994144,1285198,493640,4807,498447,1492591,1783645,-863837,-213548,-1077385,415206,706260,"11",null,0.83830273623208251,0.16169726376791749]
["15","繊維製品",59,0,754,1284,306,86,17,210,236,36,836,87,87,356,114,218,134,526,624,317,6610,168,94,575,7780,641,161,2673,2071,3405,794,6848,1718,8192,4228,804,41,53090,2620,140359,0,19,6377,-1346,148029,201119,5319,152,5471,153500,206590,-59878,-140402,-200280,-46780,6310,"15",null,0.99582834043526469,4.1716595647353083E-3]
["16","パルプ・紙・木製品",698,0,7448,20,27702,1685,12,470,754,31,1058,298,84,128,325,290,686,1123,1082,6060,71418,4032,405,961,13170,2683,2053,8664,13948,958,15951,12600,1880,13467,5770,17338,115,235367,2033,12850,7,309,6677,-2284,19592,254959,91643,2856,94499,114091,349458,-196372,-45925,-242297,-128206,107161,"16",null,0.95033711302601598,4.9662886973984022E-2]
["20","化学製品",721,0,5905,355,3316,42090,1775,11897,1610,243,4983,696,231,625,575,636,1035,2212,4301,2880,8756,1697,975,3237,17,10,105,764,1436,706,26788,310780,210,15861,9922,373,697,468420,4430,93461,0,0,0,7370,105261,573681,87487,22391,109878,215139,683559,-391568,-154346,-545914,-330775,137645,"20",null,0.95159853646887382,4.8401463531126176E-2]
["21","石油・石炭製品",195,0,1459,13,160,16083,50418,85,1037,412,116,337,100,81,59,52,88,117,831,221,17096,35913,1320,2569,2620,251,1330,95201,1345,6088,5957,3688,307,7112,3989,0,1690,258340,341,69457,0,0,0,-3911,65887,324227,582557,65586,648143,714030,972370,-129879,-34168,-164047,549983,808323,"21",null,0.50596341452130755,0.49403658547869245]
["22","プラスチック・ゴム製品",270,0,8274,44,2687,2300,90,15568,678,53,1755,292,869,2997,2556,768,3212,10476,10154,4124,23600,0,4328,4290,10943,1717,2484,3959,11459,1311,11335,4457,647,18111,2809,1848,391,170856,533,31621,7,0,-15,-1029,31117,201973,78302,2949,81251,112368,283224,-158496,-37867,-196363,-83995,86861,"22",null,0.97222401013996917,2.7775989860030825E-2]
["25","窯業・土石製品",55,0,857,2,493,826,374,214,9382,177,8652,392,512,679,858,2819,1007,904,2254,294,86579,54,580,104,380,5,194,57,6,168,2973,1352,36,1238,1114,216,523,126330,214,4038,0,0,0,-303,3949,130279,21958,13190,35148,39097,165427,-87612,-11631,-99243,-60146,66184,"25",null,0.76177281066019853,0.23822718933980147]
["26","鉄鋼",1,0,0,1,2735,0,0,171,137,25996,304,17781,13186,10481,1741,572,6675,1890,22535,250,35354,0,3,0,0,0,0,393,0,20,0,7,1,302,43,1,473,141053,0,-1043,0,-661,-4294,-119,-6117,134936,48146,8211,56357,50240,191293,-127643,-7075,-134718,-84478,56575,"26",null,0.99838441928025135,1.6155807197486549E-3]
["27","非鉄金属",0,0,937,0,664,588,15,173,213,558,12307,3595,3643,3174,2875,4293,9155,9653,11072,960,13265,324,23,1,22,0,0,31,20,128,273,3115,19,879,409,39,414,82837,29,5881,0,0,-6957,580,-467,82370,39412,28001,67413,66946,149783,-51371,-33188,-84559,-17613,65224,"27",null,1.0265752094209057,-2.6575209420905743E-2]
["28","金属製品",44,0,5778,12,2646,1388,310,617,394,187,833,5290,3210,4437,2773,1628,4240,8095,7891,909,163635,616,82,32,4589,66,879,2117,641,2498,396,793,202,3171,3329,16,575,234319,687,8868,3,822,9289,-3042,16627,250946,64761,788,65549,82176,316495,-203993,-22608,-226601,-144425,89894,"28",null,0.90298709682561185,9.7012903174388154E-2]
["29","はん用機械",0,0,0,0,19,4,0,27,208,24,0,69,14726,5953,973,138,1593,569,5021,5,12316,0,1288,0,7,0,0,171,3,191,0,0,0,18701,18,0,0,62024,0,433,0,11470,81216,-10148,82971,144995,70338,31357,101695,184666,246690,-106249,-21336,-127585,57081,119105,"29",null,0.87992689403082869,0.12007310596917131]
["30","生産用機械",0,0,0,0,20,0,11,211,26,36,20,62,437,18741,145,144,436,274,614,2,98,10,35,0,5,0,0,79,3,13,0,0,0,28809,11,0,0,50242,0,168,0,1454,113806,-1861,113567,163809,104002,51213,155215,268782,319024,-122829,-28364,-151193,117589,167831,"30",null,0.92298347465645969,7.701652534354031E-2]
["31","業務用機械",0,0,0,0,0,0,0,0,0,0,0,0,199,853,3988,0,97,74,100,7,366,0,12,5,1445,5,0,26,135,2182,0,21942,0,9505,893,940,0,42774,50,3752,2,8980,73806,-2400,84190,126964,61040,6556,67596,151786,194560,-70661,-49005,-119666,32120,74894,"31",null,0.94251913928357645,5.7480860716423554E-2]
["32","電子部品",0,0,0,0,1,0,0,0,0,0,139,70,699,1495,9387,19073,29617,68272,2367,55,687,4,2,0,51,20,0,10,1349,1086,2953,2,0,29501,20,1286,0,168146,9,1927,0,0,0,565,2501,170647,51250,4627,55877,58378,226524,-106383,-58582,-164965,-106587,61559,"32",null,0.96670319431340723,3.3296805686592768E-2]
["33","電気機械",2,0,0,0,15,0,0,2,1,0,89,26,1411,2928,1578,503,9735,4335,12635,35,13809,3,28,0,343,1,70,296,208,1094,819,113,0,12876,143,0,44,63142,1563,97123,0,18349,77567,-3659,190943,254085,109809,29298,139107,330050,393192,-162821,-78512,-241333,88717,151859,"33",null,0.94981207076372076,5.0187929236279238E-2]
["34","情報通信機器",0,0,9,0,1,1,7,0,3,0,1,2,125,34,1,1,6,3883,689,1,2565,13,1,6,381,52,227,182,428,1118,252,31,5,4293,98,0,0,14416,785,114161,0,32190,88645,-2594,233187,247603,190657,5753,196410,429597,444013,-55419,-166737,-222156,207441,221857,"34",null,0.89722660872445004,0.10277339127554996]
["35","輸送機械",51,0,0,0,0,0,0,0,0,0,0,0,0,16,0,0,0,0,96199,0,0,0,0,0,0,0,0,31840,0,4762,119,0,0,33524,66,0,0,166577,0,145885,0,18067,146879,-3958,306873,473450,199193,34682,233875,540748,707325,-358202,-51098,-409300,131448,298025,"35",null,0.86450522758475024,0.13549477241524976]
["39","その他の製造工業製品",17,0,5075,143,420,518,62,365,545,221,410,86,83,292,386,106,663,940,601,3194,5121,9135,383,1139,10075,8603,249,2476,32765,5143,38805,6851,4223,16735,5820,5169,142,166961,4555,104973,0,2498,25875,-1434,136467,303428,53658,1684,55342,191809,358770,-178290,-96274,-274564,-82755,84206,"39",null,0.9048736438298377,9.5126356170162296E-2]
["41","建設",55,0,508,17,399,530,313,382,210,216,390,448,242,317,177,331,336,635,635,165,1486,24763,5356,630,6932,2248,41945,17833,5708,6801,13354,5843,117,5223,3237,0,2766,150548,0,0,0,514967,1026683,0,1541650,1692198,0,0,0,1541650,1692198,0,0,0,1541650,1692198,"41",null,0,1]
["46","電気・ガス・熱供給",194,0,9379,117,1536,6872,5073,2196,3238,2807,1768,1756,1137,1603,837,1759,1498,1352,4317,2029,4987,91356,6116,14589,50236,3854,16055,24828,9625,8851,18923,24154,426,22474,32634,0,564,379140,129,225094,0,0,0,0,225223,604363,369287,1628,370915,596138,975278,0,-90,-90,596048,975188,"46",null,1.4891712431105148E-4,0.99985108287568891]
["47","水道",5,0,1018,11,86,269,393,49,72,67,34,42,42,63,26,79,43,52,328,44,1310,977,7439,1611,4860,653,1410,7041,2055,2674,11860,7484,202,2406,8290,0,140,63135,59,50482,-3776,0,0,0,46765,109900,1682,370,2052,48817,111952,0,-25,-25,48792,111927,"47",null,2.2747952684258417E-4,0.99977252047315746]
["48","廃棄物処理",2,0,751,3,62,639,0,7,264,1,126,6,30,2,16,58,36,59,1548,37,3689,14934,307,0,2829,2574,83,23134,6778,26407,10682,9545,5,4139,22065,0,2381,133199,0,7454,22103,0,0,0,29557,162756,30897,204,31101,60658,193857,-32293,-8,-32301,28357,161556,"48",null,0.19846272948462729,0.80153727051537271]
["51","商業",1008,0,41994,478,8020,5285,5160,4279,2450,1848,3948,2435,3749,6090,3727,2429,7114,10642,17361,4603,85084,5800,2143,3716,17002,3095,5213,27181,18756,6998,40028,84830,3452,53167,73083,9576,771,572515,37131,1594309,246,15514,132831,4695,1784726,2357241,828397,53188,881585,2666311,3238826,-1012154,-2732,-1014886,1651425,2223940,"51",null,0.43053977085923756,0.56946022914076244]
["53","金融・保険",75,0,4280,113,1179,1309,3186,371,667,429,1240,967,955,1128,1091,458,1134,2719,3244,1642,17139,17225,2076,5521,32610,49464,252048,48079,9173,12247,11768,15179,2826,31412,13182,0,6561,552697,6,512009,0,0,0,0,512015,1064712,49992,33652,83644,595659,1148356,-497692,-69476,-567168,28491,581188,"53",null,0.53269616572368861,0.46730383427631139]
["55","不動産",8,0,2726,34,418,347,428,355,386,103,314,367,361,476,232,132,328,755,290,340,10288,8167,136,335,67481,10469,191010,38312,62426,2789,25386,38933,1697,32667,44633,0,3788,546917,0,2331145,176,0,166383,0,2497704,3044621,100080,316,100396,2598100,3145017,-11704,-82,-11786,2586314,3133231,"55",null,3.8710893736855919E-3,0.99612891062631437]
["57","運輸・郵便",1049,0,33099,132,4535,3656,15319,1452,6481,2103,2213,2313,2536,2726,1861,897,2794,4491,5837,15459,73920,36030,2630,16111,84385,20468,9740,217831,44703,24868,50444,32813,3955,51202,39110,2468,9663,829294,8336,474095,1855,1880,15722,2356,504244,1333538,464845,233836,698681,1202925,2032219,-397542,-115420,-512962,689963,1519257,"57",null,0.3846624543132629,0.61533754568673715]
["59","情報通信",71,0,2501,27,386,914,605,297,312,223,191,425,675,1572,454,359,1733,3040,1473,486,14385,11568,4106,2069,74958,32745,12106,14328,248297,21687,75779,24892,6165,157055,24413,0,8237,748534,4110,547925,248,33786,332071,-904,917236,1665770,1362894,8895,1371789,2289025,3037559,-740563,-94037,-834600,1454425,2202959,"59",null,0.50102955389999815,0.49897044610000185]
["61","公務",0,0,0,0,0,0,0,0,0,0,0,0,0,0,0,0,0,0,0,0,0,0,0,0,0,0,0,0,0,0,0,0,0,0,0,0,19239,19239,0,29328,729044,0,0,0,758372,777611,0,0,0,758372,777611,0,0,0,758372,777611,"61",null,0,1]
["63","教育・研究",0,0,111,0,4,49,6,14,14,11,1,28,53,63,26,104,169,589,81,5,305,598,12,52,411,126,6,2621,9902,82,2,186,0,2593,694,0,466,19384,1,384327,446219,65688,265569,0,1161804,1181188,773013,39893,812906,1974710,1994094,-248263,-39497,-287760,1686950,1706334,"63",null,0.24361913598851326,0.75638086401148674]
["64","医療・福祉",0,0,0,0,0,0,0,0,0,0,0,0,0,0,0,0,0,0,0,0,1,1,13,0,37,65,39,1239,449,13,28,27517,1,114,350,0,24,29891,14272,490722,1428796,0,0,0,1933790,1963681,195681,27,195708,2129498,2159389,-206891,-137,-207028,1922470,1952361,"64",null,0.10542852937926273,0.89457147062073727]
["65","他に分類されない会員制団体",45,0,517,8,68,106,138,35,83,28,297,16,161,70,38,21,50,43,82,87,1539,2063,897,396,1136,2149,858,2122,1197,1,5745,2086,0,6712,2354,0,45,31193,0,88459,0,0,0,0,88459,119652,10485,261,10746,99205,130398,-24302,-2769,-27071,72134,103327,"65",null,0.2262477852438739,0.7737522147561261]
["66","対事業所サービス",254,0,20784,270,3252,7497,4073,3437,3895,813,2676,2690,4143,6539,2994,3013,6775,8875,7276,4463,170671,60351,17514,13362,145632,69925,98090,165629,329651,67299,187952,86555,7081,684898,41741,0,5362,2245432,1787,115035,559,70840,730617,0,918838,3164270,1518947,12323,1531270,2450108,4695540,-1217972,-177185,-1395157,1054951,3300383,"66",null,0.44090959368195509,0.55909040631804485]
["67","対個人サービス",14,0,122,0,9,30,38,7,11,1,21,5,10,32,8,22,14,28,119,29,546,100,46,15,1138,160,2668,1332,9151,324,13029,44510,247,5624,14855,0,647,94912,107447,1033702,0,0,346,0,1141495,1236407,384464,18128,402592,1544087,1638999,-495999,-13764,-509763,1034324,1129236,"67",null,0.41229384822311749,0.58770615177688246]
["68","事務用品",5,0,533,9,101,67,16,13,63,17,110,37,78,150,54,113,106,232,293,94,1169,54,109,606,3602,1843,1279,3119,2472,2164,8374,4881,435,5722,2152,0,22,40094,0,0,0,0,0,0,0,40094,0,0,0,0,40094,0,0,0,0,40094,"68",null,0,1]
["69","分類不明",108,0,3098,19,361,161,472,174,907,581,247,454,749,773,181,31,309,1386,1969,189,25765,3134,806,1616,7339,6396,12828,6533,5541,225,6293,5759,1262,9927,4448,20,0,110061,0,57,0,0,0,0,57,110118,7466,105245,112711,112768,222829,-3483,-29784,-33267,79501,189562,"69",null,0.30210319838718463,0.69789680161281531]
["70","内生部門計　　",6617,0,482887,3136,62657,94595,472174,43284,37223,37232,46552,41080,54526,74877,40059,41054,90821,148241,223843,49728,877958,580903,59265,73548,552971,220288,653145,750109,831701,214873,599500,805513,37562,1297648,513328,40094,66541,10225533,211516,9829307,2625489,796172,3290707,-32767,16720424,26945957,8460586,822214,9282800,26003224,36228757,-8611551,-2492875,-11104426,14898798,25124331,"70"]
["71","家計外消費支出（行）",73,0,3617,82,1261,1082,1470,1321,595,151,305,790,886,1707,931,517,2070,1857,1654,691,20960,4334,935,2824,30908,15395,6943,13962,17491,6844,5554,15830,3628,28589,15880,0,379,211516]
["91","雇用者所得",3101,0,83952,2615,23083,16176,11385,25355,12917,6564,9917,35950,38819,51481,21986,18134,45426,38380,50400,23114,575220,66586,13235,60741,1119669,174993,228999,434943,651076,268006,784607,986330,55564,1120658,384496,0,1407,7445285]
["92","営業余剰",2043,0,48968,-169,11142,13422,67516,5576,7807,9424,3279,3090,12890,12503,1709,-3929,-1860,4287,-3279,2529,68508,111053,13644,8894,206354,123839,1027201,-9917,288941,0,47608,33696,-580,276531,32512,0,108899,2534131]
["93","資本減耗引当",2112,0,32353,375,4000,12344,20657,8839,5232,1898,4616,5807,11640,26764,12620,6252,21098,39606,25233,6654,76541,179375,24652,8722,187209,46513,995407,297972,316702,286511,251395,112713,4746,382282,119585,0,6664,3545089]
["94","間接税（関税・輸入品商品税を除く。）",395,0,55027,271,5018,26,239562,2486,2410,1306,556,3177,344,499,-2411,-469,-5696,-10514,175,1490,80317,33126,4278,6827,128414,8251,222481,41201,97067,1377,20469,22013,3537,194838,63438,0,6233,1227519]
["95","（控除）経常補助金",-135,0,-544,0,0,0,-4441,0,0,0,-1,0,0,0,0,0,0,0,-1,0,-7306,-189,-4082,0,-1585,-8091,-945,-9013,-19,0,-2799,-23734,-1130,-163,-3,0,-561,-64742]
["96","粗付加価値部門計",7589,0,223373,3174,44504,43050,336149,43577,28961,19343,18672,48814,64579,92954,34835,20505,61038,73616,74182,34478,814240,394285,52662,88008,1670969,360900,2480086,769148,1371258,562738,1106834,1146848,65765,2002735,615908,0,123021,14898798]
["97","市内生産額",14206,0,706260,6310,107161,137645,808323,86861,66184,56575,65224,89894,119105,167831,74894,61559,151859,221857,298025,84206,1692198,975188,111927,161556,2223940,581188,3133231,1519257,2202959,777611,1706334,1952361,103327,3300383,1129236,40094,189562,25124331]
[]
[]
[null,"雇用者所得率",{"$f":"IF(C$50=0,0,C44/C$50)","v":0.21828804730395607},{"$f":"IF(D$50=0,0,D44/D$50)","v":0},0.11886840540310933,0.41442155309033279,0.21540485811069326,0.1175197064913364,1.4084716134515535E-2,0.29190315561644464,0.19516801643901849,0.11602297834732656,0.15204525941371275,0.39991545598148931,0.32592250535242012,0.3067430927540204,0.29356156701471414,0.29457918419727414,0.29913274814136798,0.17299431615860666,0.16911332941867294,0.27449350402584138,0.33992476057766291,6.8280167516417342E-2,0.11824671437633458,0.37597489415434898,0.50346187397142006,0.3010953426430002,7.3087174230051982E-2,0.28628665196211045,0.29554612682305936,0.34465304631750321,0.45982029309619338,0.50519857751717023,0.53774908784731967,0.33955392449906574,0.34049215575840658,0,7.4223736824891064E-3]
[null,"粗付加価値率",{"$f":"IF(C$50=0,0,C49/C$50)","v":0.53421089680416722},{"$f":"IF(D$50=0,0,D49/D$50)","v":0},0.31627587573981253,0.50301109350237716,0.41530034247534087,0.31276108830687638,0.4158597491349374,0.50168660273310228,0.43758310165598935,0.34190013256738844,0.28627499080093216,0.54301733152379472,0.54220225851139747,0.55385477057277854,0.46512404197933077,0.33309507951721112,0.40193864044936423,0.33181734180125033,0.24891200402650784,0.40944825784385913,0.48117300694126808,0.40431691120071206,0.47050309576777721,0.54475228403773301,0.75135525238990264,0.62096946254912355,0.79154265995708584,0.50626589181422232,0.62246187968092004,0.72367546240986813,0.64866198528541308,0.58741595432402105,0.63647449359799468,0.60681896616241204,0.54542008933473607,0,0.64897500553908483]

{"sheet":"R2投入","index":26,"n_rows":50,"n_cols":40,"rows_kept":50,"cut":false,"hidden":false,"merged":[[2,39,3,39]]}
["投入係数表（37部門分類）"]
[]
[null,null,"01","06","11","15","16","20","21","22","25","26","27","28","29","30","31","32","33","34","35","39","41","46","47","48","51","53","55","57","59","61","63","64","65","66","67","68","69","符号"]
[null,null,"農林漁業","鉱業","飲食料品","繊維製品","パルプ・紙・木製品","化学製品","石油・石炭製品","プラスチック・ゴム製品","窯業・土石製品","鉄鋼","非鉄金属","金属製品","はん用機械","生産用機械","業務用機械","電子部品","電気機械","情報通信機器","輸送機械","その他の製造工業製品","建設","電気・ガス・熱供給","水道","廃棄物処理","商業","金融・保険","不動産","運輸・郵便","情報通信","公務","教育・研究","医療・福祉","他に分類されない会員制団体","対事業所サービス","対個人サービス","事務用品","分類不明"]
["01","農林漁業",6.9900042235675072E-2,0,0.26790983490499248,1.5847860538827259E-3,8.9491512770504197E-3,6.9018126339496534E-4,0,2.3025293284673213E-3,0,0,6.132711885195633E-5,0,0,0,0,0,0,0,3.3554232027514472E-6,6.6147305417666204E-3,9.4965246383697419E-4,0,0,0,1.3309711592938658E-4,0,4.1490716771281784E-6,0,0,1.92898505808174E-5,1.4909156120665708E-3,1.999630191342687E-3,2.4582151809304439E-3,6.6658930190829366E-6,1.6906120598351452E-2,0,0,"01"]
["06","鉱業",0,0,1.2743182397417381E-4,1.5847860538827259E-4,9.3317531564655057E-6,2.8406407788150677E-3,0.47488194694447639,5.7563233211683036E-5,4.4285627946331438E-2,1.7675651789659743E-4,2.2522384398380963E-2,8.8993703695463547E-5,2.5187859451744258E-5,1.7875124381073818E-5,4.0056613346863564E-5,1.1371204860377848E-4,1.9755167622597277E-5,0,6.3753040852277491E-5,4.8690117093793794E-4,1.6493341795700031E-3,0.25821995348589194,0,0,1.7986096747214404E-6,0,6.3831871955818129E-7,5.2657318676168678E-6,0,5.1439601548846407E-6,6.6223845976227404E-5,5.1220035638900797E-6,1.9356025046696409E-5,2.120965960617298E-6,-8.8555448108278518E-7,0,1.3188297232567708E-4,"06"]
["11","飲食料品",4.3502745318879349E-2,0,0.19209073145866962,2.0602218700475437E-3,8.9584830302068849E-4,5.8774383377529155E-3,6.1856460845478851E-6,1.1512646642336607E-5,2.2664087997098997E-4,0,0,0,0,0,0,0,0,0,0,1.7100919174405625E-3,5.9094739504478793E-7,0,0,0,1.1466136676349182E-4,0,0,0,0,7.1115249141280156E-4,5.7321720132166385E-3,7.0955115370569272E-3,1.8097883418661143E-3,2.120965960617298E-6,0.11362992324013758,0,3.8773593863749064E-3,"11"]
["15","繊維製品",4.1531747149091934E-3,0,1.0675955030725228E-3,0.203486529318542,2.8555164658784445E-3,6.2479567002070541E-4,2.1031196687462808E-5,2.4176557948906875E-3,3.5658165115435756E-3,6.3632346442775076E-4,1.2817367840058875E-2,9.6780652768816604E-4,7.3044792410058355E-4,2.121181426554093E-3,1.5221513071808155E-3,3.5413180850891015E-3,8.8239748714267845E-4,2.3708965685103468E-3,2.0937840785169031E-3,3.7645773460323493E-3,3.9061622812460481E-3,1.7227447425522053E-4,8.3983310550626747E-4,3.5591373888930154E-3,3.4982958173332013E-3,1.1029133430146528E-3,5.1384656924433594E-5,1.759412660267486E-3,9.4009920293568791E-4,4.3787960818455502E-3,4.6532507703650049E-4,3.5075480405519265E-3,1.6626825515112218E-2,2.4821361641967007E-3,3.7441243460180156E-3,2.0052875742006284E-2,2.1628807461411044E-4,"15"]
["16","パルプ・紙・木製品",4.9134168661129102E-2,0,1.0545691388440517E-2,3.1695721077654518E-3,0.2585082259404074,1.2241636092847542E-2,1.4845550602914923E-5,5.410943921898205E-3,1.1392481566541763E-2,5.4794520547945202E-4,1.622102293634245E-2,3.3150154626560169E-3,7.0526006464883921E-4,7.6267197359248292E-4,4.3394664459102195E-3,4.7109277278708228E-3,4.5173483297005776E-3,5.0618190996903414E-3,3.6305679053770658E-3,7.1966368192290339E-2,4.2204281059308665E-2,4.1345873821252927E-3,3.6184298694684927E-3,5.9484017925672834E-3,5.9219223540203422E-3,4.6164063951767758E-3,6.5523416562647313E-4,5.7027876126290681E-3,6.3314841538131212E-3,1.2319784570948714E-3,9.3481112138655148E-3,6.4537244905015006E-3,1.8194663543894627E-2,4.0804355130904506E-3,5.1096493558476707E-3,0.43243378061555343,6.0666167269811464E-4,"16"]
["20","化学製品",5.0753202872025907E-2,0,8.3609435618610707E-3,5.6259904912836764E-2,3.0944093466839614E-2,0.30578662501362197,2.1959043600144989E-3,0.1369659571038786,2.4326121116886257E-2,4.2951833848873175E-3,7.6398258309824607E-2,7.7424522215053283E-3,1.9394651777843079E-3,3.7239842460570455E-3,7.6775175581488501E-3,1.0331551844571874E-2,6.8155328297960609E-3,9.9703863299332451E-3,1.4431675195033973E-2,3.4201838348811249E-2,5.1743353910121631E-3,1.740177278637555E-3,8.7110348709426681E-3,2.0036396048429026E-2,7.6440911175661222E-6,1.7206136396484443E-5,3.3511732776804518E-5,5.0287739335741087E-4,6.5185053375936639E-4,9.0790896733713902E-4,1.5699153858506013E-2,0.15918162675857589,2.0323826299031233E-3,4.8058058716215664E-3,8.7864715613033949E-3,9.3031376265775428E-3,3.6768972684398772E-3,"20"]
["21","石油・石炭製品",1.3726594396733774E-2,0,2.0658114575368845E-3,2.0602218700475437E-3,1.4930805050344807E-3,0.11684405535980238,6.2373580858147051E-2,9.7857496459861156E-4,1.5668439501994438E-2,7.2823685373398141E-3,1.7784864467067338E-3,3.7488597681714017E-3,8.3959531505814196E-4,4.8262835828899312E-4,7.8778006248831679E-4,8.4471807534235448E-4,5.7948491692952017E-4,5.2736672721617978E-4,2.7883566814864524E-3,2.624516067738641E-3,1.0102836665685695E-2,3.6826745201950804E-2,1.1793401056045458E-2,1.5901606873158534E-2,1.1780893369425433E-3,4.3187402355175951E-4,4.2448194850619057E-4,6.2662867441124176E-2,6.1054245675929515E-4,7.8291073557344229E-3,3.4911101812423592E-3,1.8889949143626615E-3,2.9711498446678992E-3,2.1549014159871747E-3,3.5324768250392302E-3,0,8.9152889292157707E-3,"21"]
["22","プラスチック・ゴム製品",1.9006053780092919E-2,0,1.171523235069238E-2,6.9730586370839939E-3,2.5074420731422811E-2,1.6709651640088634E-2,1.1134162952186193E-4,0.17922888292789629,1.0244167774688747E-2,9.3680954485196642E-4,2.6907273396295842E-2,3.2482701848844196E-3,7.2960832878552536E-3,1.7857249256692746E-2,3.4128234571527756E-2,1.2475836189671697E-2,2.1151199467927484E-2,4.7219605421510255E-2,3.4070967200738191E-2,4.897513241336722E-2,1.3946358523056994E-2,0,3.8668060432246021E-2,2.6554259823219194E-2,4.9205464176191802E-3,2.9542936192763786E-3,7.9279184969126119E-4,2.6058790579868976E-3,5.2016401576243584E-3,1.6859329407634409E-3,6.642896408323341E-3,2.2828769884258087E-3,6.261674102606289E-3,5.4875449303914119E-3,2.4875225373615435E-3,4.6091684541327879E-2,2.0626496871735895E-3,"22"]
["25","窯業・土石製品",3.8716035477967055E-3,0,1.2134341460651884E-3,3.1695721077654518E-4,4.6005543061374944E-3,6.0009444585709618E-3,4.6268632712418177E-4,2.4637063814600337E-3,0.1417563157258552,3.1285903667697748E-3,0.13265055807678156,4.360691481077714E-3,4.2987280130976869E-3,4.0457364849163738E-3,1.145619141720298E-2,4.5793466430578793E-2,6.631151265318486E-3,4.0746967641318507E-3,7.5631238990017616E-3,3.4914376647744816E-3,5.1163634515582694E-2,5.5373938153463741E-5,5.1819489488684591E-3,6.43739632078041E-4,1.7086791909853684E-4,8.6030681982422217E-6,6.1916915797143585E-5,3.7518339556770182E-5,2.7236094725321714E-6,2.160463265051549E-4,1.7423318060825138E-3,6.9249488183793881E-4,3.484084508405354E-4,3.751079798920307E-4,9.8650769192622266E-4,5.3873397515837784E-3,2.7589917810531646E-3,"25"]
["26","鉄鋼",7.0392791778121921E-5,0,0,1.5847860538827259E-4,2.5522344882933156E-2,0,0,1.9686625758395596E-3,2.0699867037350418E-3,0.45949624392399468,4.6608610327486819E-3,0.19779963067612966,0.11070903824356661,6.2449726212678233E-2,2.3246187945629822E-2,9.2918988287658995E-3,4.3955247960278943E-2,8.5190009781075191E-3,7.5614461874003863E-2,2.9689095788898653E-3,2.0892354204413432E-2,0,2.6803184218285131E-5,0,0,0,0,2.5867907799667866E-4,0,2.57198007744232E-5,0,3.5854024947230557E-6,9.6780125233482044E-6,9.1504531443774862E-5,3.8078842686559764E-5,2.4941387738813788E-5,2.4952258364018104E-3,"26"]
["27","非鉄金属",0,0,1.3267068784866764E-3,0,6.1962840958930954E-3,4.2718587671183115E-3,1.8556938253643656E-5,1.9916878691242329E-3,3.2183004955880575E-3,9.8630136986301367E-3,0.18868821292775664,3.999154559814893E-2,3.0586457327568112E-2,1.8911881595176101E-2,3.8387587790744249E-2,6.9737974950860149E-2,6.0286186528292693E-2,4.3510008699297296E-2,3.7151245700864019E-2,1.1400612782937082E-2,7.8389171952691107E-3,3.3224362892078245E-4,2.0549107900685268E-4,6.1898041545965484E-6,9.8923532109679213E-6,0,0,2.0404710987015362E-5,9.0786982417739042E-6,1.646067249563085E-4,1.5999212346469097E-4,1.5955041101517599E-3,1.8388223794361589E-4,2.6633272562608644E-4,3.6219178276285913E-4,9.7271412181373776E-4,2.1839820217132125E-3,"27"]
["28","金属製品",3.0972828382373643E-3,0,8.1811230991419587E-3,1.9017432646592711E-3,2.4691818852007726E-2,1.0083911511496967E-2,3.8351005724196886E-4,7.1033029783216864E-3,5.9531004472380029E-3,3.3053468846663721E-3,1.2771372500919908E-2,5.8847086568625272E-2,2.6951009613366356E-2,2.6437308959608177E-2,3.7025662936950893E-2,2.6446173589564484E-2,2.7920636906604152E-2,3.6487467152264745E-2,2.6477644492911668E-2,1.079495522884355E-2,9.6699676988153863E-2,6.3167307226914197E-4,7.3262036863312697E-4,1.9807373294708955E-4,2.0634549493241724E-3,1.1356050021679732E-4,2.8054107724582067E-4,1.3934442954681137E-3,2.9097227864885363E-4,3.2124031167254578E-3,2.3207648678394733E-4,4.0617488261648335E-4,1.9549585297163373E-3,9.6079758015963604E-4,2.9480108675245917E-3,3.990622038210206E-4,3.0333083634905729E-3,"28"]
["29","はん用機械",0,0,0,0,1.7730330997284459E-4,2.9060263721893278E-5,0,3.1084145934308837E-4,3.1427535355977275E-3,4.2421564295183384E-4,0,7.6757069437337312E-4,0.12363880609546199,3.5470205146844146E-2,1.299169492883275E-2,2.2417518153316331E-3,1.0489994007599155E-2,2.564715109282105E-3,1.6847579901015014E-2,5.9378191577797307E-5,7.2781081173716082E-3,0,1.1507500424383751E-2,0,3.1475669307625205E-6,0,0,1.1255501867031056E-4,1.3618047362660857E-6,2.456240973957416E-4,0,0,0,5.6663120613577277E-3,1.5939980659490134E-5,0,0,"29"]
["30","生産用機械",0,0,0,0,1.8663506312931009E-4,0,1.3608421386005348E-5,2.4291684415330239E-3,3.9284419194971594E-4,6.3632346442775076E-4,3.0663559425978166E-4,6.8970120363984243E-4,3.6690315268040805E-3,0.11166590200856814,1.9360696450984058E-3,2.3392192855634431E-3,2.8710843611508045E-3,1.2350297714293441E-3,2.0602298464893884E-3,2.3751276631118921E-5,5.7912844714389213E-5,1.0254432991382175E-5,3.1270381587999324E-4,0,2.2482620934018004E-6,0,0,5.1999102192716571E-5,1.3618047362660857E-6,1.6717870503375081E-5,0,0,0,8.7289869084891062E-3,9.7410992919106365E-6,0,0,"30"]
["31","業務用機械",0,0,0,0,0,0,0,0,0,0,0,0,1.6707946769657024E-3,5.0824936990186559E-3,5.3248591342430637E-2,0,6.3875041979731203E-4,3.335481864444214E-4,3.3554232027514471E-4,8.3129468208916228E-5,2.1628674658639237E-4,0,1.0721273687314052E-4,3.0949020772982745E-5,6.4974774499312036E-4,8.6030681982422217E-6,0,1.711362856975482E-5,6.128121313197386E-5,2.8060302644895715E-3,0,1.1238700219887612E-2,0,2.8799687793810598E-3,7.9080015160692713E-4,2.3444904474484961E-2,0,"31"]
["32","電子部品",0,0,0,0,9.3317531564655057E-6,0,0,0,0,0,2.1311173801054828E-3,7.7869490733530598E-4,5.868771252256412E-3,8.9077703165684526E-3,0.1253371431623361,0.30983284328855243,0.19502959982615453,0.3077297538504532,7.9422867209126748E-3,6.5316010735577039E-4,4.0598086039576929E-4,4.1017731965528694E-6,1.7868789478856755E-5,0,2.2932273352698363E-5,3.4412272792968887E-5,0,6.5821648345210849E-6,6.1235819640764993E-4,1.3965851820511798E-3,1.7306107713964559E-3,1.024400712778016E-6,0,8.9386595434529873E-3,1.7711089621655702E-5,3.207462463211453E-2,0,"32"]
["33","電気機械",1.4078558355624384E-4,0,0,0,1.3997629734698258E-4,0,0,2.3025293284673214E-5,1.5109391998065998E-5,0,1.3645283944560284E-3,2.8922953701025653E-4,1.1846689895470384E-2,1.7446121395928046E-2,2.1069778620450237E-2,8.1710229211000834E-3,6.4105518935328162E-2,1.9539613354548201E-2,4.2395772166764531E-2,4.1564734104458114E-4,8.1603925781734768E-3,3.0763298974146523E-6,2.5016305270399457E-4,0,1.5423077960736352E-4,1.7206136396484443E-6,2.2341155184536345E-5,1.9483207910182411E-4,9.4418461714448619E-5,1.406873102360949E-3,4.799763703940729E-4,5.78786402719579E-5,0,3.9013653869869043E-3,1.2663429079483828E-4,0,2.3211403129319168E-4,"33"]
["34","情報通信機器",0,0,1.2743182397417382E-5,0,9.3317531564655057E-6,7.2650659304733195E-6,8.6599045183670392E-6,0,4.5328175994197992E-5,0,1.5331779712989082E-5,2.2248425923865887E-5,1.0494941438226775E-3,2.0258474298550326E-4,1.3352204448954523E-5,1.6244578371968356E-5,3.9510335245194553E-5,1.7502264972482275E-2,2.3118865866957471E-3,1.1875638315559461E-5,1.5157800682898809E-3,1.3330762888796827E-5,8.9343947394283776E-6,3.7138824927579292E-5,1.7131757151721719E-4,8.9471909261719097E-5,7.2449174669853583E-5,1.1979539998828375E-4,1.9428414237396158E-4,1.437736863290257E-3,1.4768503704433013E-4,1.5878211048059247E-5,4.8390062616741025E-5,1.3007581241328658E-3,8.6784339146112941E-5,0,0,"34"]
["35","輸送機械",3.590032380684218E-3,0,0,0,0,0,0,0,0,0,0,0,0,9.5333996699060365E-5,0,0,0,0,0.32278835668148648,0,0,0,0,0,0,0,0,2.0957612833115133E-2,0,6.1238845643901644E-3,6.9740156382044785E-5,0,0,1.0157608980533471E-2,5.8446595751463822E-5,0,0,"35"]
["39","その他の製造工業製品",1.1966774602280726E-3,0,7.1857389629881351E-3,2.2662440570522979E-2,3.9193363257155125E-3,3.7633041519851791E-3,7.6702011448393772E-5,4.2021160244528613E-3,8.2346186389459682E-3,3.906319045514803E-3,6.2860296823255245E-3,9.5668231472623307E-4,6.9686411149825784E-4,1.7398454397578517E-3,5.1539509172964454E-3,1.7219253074286457E-3,4.3658920445939983E-3,4.236963449429137E-3,2.0166093448536196E-3,3.7930788779896918E-2,3.026241610024359E-3,9.367424537627617E-3,3.4218731852010686E-3,7.0501869320854687E-3,4.5302481182046281E-3,1.4802439141895565E-2,7.9470680584993578E-5,1.6297440130274205E-3,1.4873177394586099E-2,6.613846769142926E-3,2.2741737549623931E-2,3.5090846416210935E-3,4.0870246886099471E-2,5.0706236215614974E-3,5.15392707990181E-3,0.12892203322192847,7.4909528280984582E-4,"39"]
["41","建設",3.8716035477967055E-3,0,7.1928185087644775E-4,2.694136291600634E-3,3.7233695094297365E-3,3.850484943150859E-3,3.8722144489269759E-4,4.3978310173725839E-3,3.1729723195938597E-3,3.8179407865665048E-3,5.9793940880657429E-3,4.9836474069459586E-3,2.0318206624407036E-3,1.8888048096001335E-3,2.3633401874649505E-3,5.3769554411215257E-3,2.2125787737308951E-3,2.8622040323271298E-3,2.1306937337471688E-3,1.9594803220673112E-3,8.7814782903655481E-4,2.5393052416559678E-2,4.785261822437839E-2,3.8995766173958255E-3,3.1169905662922562E-3,3.8679394619297027E-3,1.3387139345933958E-2,1.1737974549401451E-2,2.5910604782022725E-3,8.7460182533426103E-3,7.8261348598808907E-3,2.9927866823809737E-3,1.1323274652317401E-3,1.5825436017577355E-3,2.8665398552649756E-3,0,1.4591532058112913E-2,"41"]
["46","電気・ガス・熱供給",1.3656201604955653E-2,0,1.3279811967264181E-2,1.8541996830427891E-2,1.4333572848331016E-2,4.9925533074212651E-2,6.2759565173822838E-3,2.5281772026571187E-2,4.8924211289737701E-2,4.9615554573574902E-2,2.7106586532564699E-2,1.9534117961154247E-2,9.5461987322110736E-3,9.5512747942871103E-3,1.1175795123774935E-2,2.8574213356292337E-2,9.8644136995502413E-3,6.0940155144980773E-3,1.4485361966277997E-2,2.4095670142270147E-2,2.9470546590883574E-3,9.3680398036070991E-2,5.4642758226343957E-2,9.0303052811409046E-2,2.2588738904826568E-2,6.6312449672051039E-3,5.1241035212533006E-3,1.6342198851148949E-2,4.3691235288536917E-3,1.1382297832720987E-2,1.1089856968213727E-2,1.2371687408220099E-2,4.1228333349463357E-3,6.8095127141304512E-3,2.889918493565561E-2,0,2.9752798556672753E-3,"46"]
["47","水道",3.5196395889060961E-4,0,1.4413955200634327E-3,1.7432646592709985E-3,8.0253077145603347E-4,1.9543027352973228E-3,4.8619178224546374E-4,5.6411968547449376E-4,1.0878762238607518E-3,1.1842686699072029E-3,5.2128051024162884E-4,4.6721694440118362E-4,3.5263003232441961E-4,3.7537761200255018E-4,3.4715731567281759E-4,1.2833216913855001E-3,2.8315740259056096E-4,2.3438521209607992E-4,1.1005788105024747E-3,5.2252808588461634E-4,7.7414108750867218E-4,1.0018581032580384E-3,6.6462962466607697E-2,9.9717744930550405E-3,2.1853107547865499E-3,1.123560706690434E-3,4.5001469728851782E-4,4.6345022599862959E-3,9.3283624434226879E-4,3.4387373635403821E-3,6.9505735688323621E-3,3.8333074672153356E-3,1.9549585297163373E-3,7.2900630017788844E-4,7.3412466481762887E-3,0,7.385446450237917E-4,"47"]
["48","廃棄物処理",1.4078558355624384E-4,0,1.0633477756067172E-3,4.7543581616481777E-4,5.7856869570086129E-4,4.6423771295724505E-3,0,8.0588526496356246E-5,3.9888794874894237E-3,1.7675651789659743E-5,1.9318042438366246E-3,6.674527777159766E-5,2.5187859451744258E-4,1.1916749587382546E-5,2.1363527118327237E-4,9.4218554557416463E-4,2.3706201147116732E-4,2.6593706757055218E-4,5.1941951178592401E-3,4.3939861767570005E-4,2.1800049403202224E-3,1.531397022933014E-2,2.742859185004512E-3,0,1.2720666924467387E-3,4.4288595084550951E-3,2.6490226861664524E-5,1.5227180128181078E-2,3.0767708341371764E-3,3.3959138952509675E-2,6.2602046258235493E-3,4.8889524017330811E-3,4.8390062616741025E-5,1.2540968729992852E-3,1.9539759625091656E-2,0,1.2560534284297487E-2,"48"]
["51","商業",7.0955934112346894E-2,0,5.9459689066349505E-2,7.5752773375594301E-2,7.4840660314853355E-2,3.8395873442551492E-2,6.3835867592534172E-3,4.9262614982558343E-2,3.7018010395261695E-2,3.2664604507291209E-2,6.0529866306880904E-2,2.7087458562306717E-2,3.1476428361529744E-2,3.6286502493579849E-2,4.9763665981253508E-2,3.9458080865511135E-2,4.6846087489052342E-2,4.7967835137047735E-2,5.8253502222967872E-2,5.4663563166520199E-2,5.0280168159990736E-2,5.9475711350016613E-3,1.9146407926595013E-2,2.3001312238480773E-2,7.6449904224034819E-3,5.3252992147119352E-3,1.6637777425283996E-3,1.7890982236711761E-2,8.5140032111355683E-3,8.9993582909706788E-3,2.3458478820676375E-2,4.3449956232479547E-2,3.3408499230598007E-2,1.6109342461162839E-2,6.4718978140973188E-2,0.23883872898688083,4.0672708665238817E-3,"51"]
["53","金融・保険",5.2794593833591441E-3,0,6.0600911845495996E-3,1.7908082408874801E-2,1.100213697147283E-2,9.5099713029895751E-3,3.9414936850739124E-3,4.2711919043068808E-3,1.0077964462710021E-2,7.58285461776403E-3,1.9011406844106463E-2,1.0757113934189155E-2,8.0181352588052559E-3,6.7210467672837561E-3,1.4567255053809383E-2,7.4400168943615065E-3,7.4674533613417714E-3,1.2255642147870024E-2,1.0884992869725694E-2,1.9499798114148637E-2,1.012824740367262E-2,1.7663260827655795E-2,1.8547803479053313E-2,3.4173908737527542E-2,1.4663165373166542E-2,8.5108433071570649E-2,8.0443478313600242E-2,3.1646390307893922E-2,4.1639449485896011E-3,1.5749520004218049E-2,6.8966568092764958E-3,7.7746892096287523E-3,2.7350063390982029E-2,9.5176832507015089E-3,1.1673379169633274E-2,0,3.4611367257150694E-2,"53"]
["55","不動産",5.6314233422497537E-4,0,3.8597683572621981E-3,5.388272583201268E-3,3.9006728194025814E-3,2.5209778778742418E-3,5.2949130483729895E-4,4.0869895580294951E-3,5.8322253112534752E-3,1.8205921343349535E-3,4.8141788298785727E-3,4.0825861570293904E-3,3.0309390873598926E-3,2.8361864017970458E-3,3.0977114321574491E-3,2.1442843450998231E-3,2.1598983267373025E-3,3.4030929833180831E-3,9.7307272879791965E-4,4.0377170272902167E-3,6.0796668002207777E-3,8.3747954240618212E-3,1.2150776845622593E-3,2.0735843917898439E-3,3.0342994864969379E-2,1.8013104193479564E-2,6.0962629311404108E-2,2.521758991401718E-2,2.833734082204889E-2,3.5866262179933155E-3,1.4877509327013351E-2,1.9941496475293249E-2,1.6423587252121903E-2,9.8979421479264678E-3,3.9524953154167951E-2,0,1.9982907966786593E-2,"55"]
["57","運輸・郵便",7.3842038575249888E-2,0,4.6865177130235323E-2,2.0919175911251982E-2,4.2319500564571066E-2,2.6561081041810455E-2,1.8951582473837811E-2,1.6716362924672754E-2,9.7923969539465736E-2,3.7171895713654438E-2,3.3929228504844845E-2,2.5730304580950897E-2,2.129213718987448E-2,1.6242529687602411E-2,2.4848452479504367E-2,1.4571386799655615E-2,1.8398646112512265E-2,2.0242768990836438E-2,1.9585605234460197E-2,0.18358549272023372,4.3682831441710722E-2,3.6946722067949973E-2,2.3497458164696634E-2,9.9723934734704991E-2,3.7943919350342185E-2,3.5217519976324357E-2,3.108612164248343E-3,0.14337995480685625,2.0292252375100944E-2,3.1980000282917809E-2,2.9562793685175351E-2,1.6806830294192519E-2,3.8276539529842155E-2,1.5513957016503842E-2,3.463403575514773E-2,6.155534493939243E-2,5.0975406463320709E-2,"57"]
["59","情報通信",4.9978882162466567E-3,0,3.5411887973267634E-3,4.2789223454833599E-3,3.6020567183956851E-3,6.6402702604526137E-3,7.4846317623029413E-4,3.4192560527739721E-3,4.7141303033965912E-3,3.9416703490941229E-3,2.9283699251809151E-3,4.7277905088215005E-3,5.6672683766424582E-3,9.3665651756826805E-3,6.0619008198253528E-3,5.8318036355366398E-3,1.1411901829987027E-2,1.3702520091770825E-2,4.9425383776528818E-3,5.7715602213618978E-3,8.5007782777192734E-3,1.18623280844309E-2,3.6684624800092915E-2,1.2806704795860258E-2,3.3705045999442428E-2,5.6341493630288307E-2,3.8637432094856716E-3,9.4309257749018108E-3,0.11271067686688677,2.7889265969745797E-2,4.4410414373739257E-2,1.2749691271235186E-2,5.9664947206441686E-2,4.7586901277821392E-2,2.1619041546674034E-2,0,4.3452801721864089E-2,"59"]
["61","公務",0,0,0,0,0,0,0,0,0,0,0,0,0,0,0,0,0,0,0,0,0,0,0,0,0,0,0,0,0,0,0,0,0,0,0,0,0.10149186018294806,"61"]
["63","教育・研究",0,0,1.5716591623481438E-4,0,3.7327012625862023E-5,3.5598823059319266E-4,7.4227753014574617E-6,1.6117705299271249E-4,2.1153148797292397E-4,1.9443216968625718E-4,1.5331779712989082E-5,3.1147796293412241E-4,4.4498551698081526E-4,3.7537761200255018E-4,3.4715731567281759E-4,1.689436150684709E-3,1.1128744427396466E-3,2.6548632677805975E-3,2.7178927942286721E-4,5.9378191577797307E-5,1.802389554886603E-4,6.1321509288465403E-4,1.0721273687314052E-4,3.218698160390205E-4,1.84807144077628E-4,2.1679731859570398E-4,1.9149561586745439E-6,1.7251854031279763E-3,4.4948634995022607E-3,1.0545118317513513E-4,1.1721034686057946E-6,9.5269266288355487E-5,0,7.8566639084009344E-4,6.1457480987145289E-4,0,2.4582986041506208E-3,"63"]
["64","医療・福祉",0,0,0,0,0,0,0,0,0,0,0,0,0,0,0,0,0,0,0,0,5.9094739504478793E-7,1.0254432991382174E-6,1.161471316125689E-4,0,1.6637139491173322E-5,1.1183988657714888E-4,1.2447215031384535E-5,8.1553022299716248E-4,2.0381677552782417E-4,1.6717870503375081E-5,1.6409448560481126E-5,1.4094217206756332E-2,9.6780125233482044E-6,3.4541445644338855E-5,3.0994406837897483E-4,0,1.2660765343264999E-4,"64"]
["65","他に分類されない会員制団体",3.1676756300154864E-3,0,7.3202503327386519E-4,1.2678288431061807E-3,6.3455921463965439E-4,7.7009698863017182E-4,1.7072383193352162E-4,4.0294263248178124E-4,1.2540795358394778E-3,4.9491825011047281E-4,4.5535385747577581E-3,1.7798740739092709E-4,1.3517484572436085E-3,4.1708623555838909E-4,5.0738376906027188E-4,3.4113614581133547E-4,3.2925279370995462E-4,1.9381854077175838E-4,2.7514470262561866E-4,1.0331805334536732E-3,9.0946804097392854E-4,2.1154895261221427E-3,8.0141520812672552E-3,2.4511624452202333E-3,5.1080514762088906E-4,3.6975987116045065E-3,2.7383873069045979E-4,1.3967353778853743E-3,5.4336008977016819E-4,1.2859900387211602E-6,3.366867213570145E-3,1.0684499434274707E-3,0,2.0337033610947578E-3,2.0845952484688764E-3,0,2.3738935018621877E-4,"65"]
["66","対事業所サービス",1.7879769111642969E-2,0,2.9428255883102539E-2,4.2789223454833596E-2,3.0346861264825824E-2,5.4466199280758472E-2,5.0388273004727067E-3,3.9568966509710916E-2,5.885108183246706E-2,1.4370304904993372E-2,4.102784251195879E-2,2.9924132867599616E-2,3.4784433902858819E-2,3.8961812775947235E-2,3.9976500120169838E-2,4.8944914634740655E-2,4.4613753547698851E-2,4.0003245333705945E-2,2.4414059223219528E-2,5.3000973802341873E-2,0.100857582859689,6.1886528546290565E-2,0.15647698946634861,8.2708163113719077E-2,6.5483781037258201E-2,0.12031390875241746,3.1306341600731001E-2,0.10901973793768928,0.14964009770495049,8.6545843615895346E-2,0.11014959556569816,4.4333501847250587E-2,6.8530006677828645E-2,0.2075207634992666,3.6963929594876536E-2,0,2.8286259904411221E-2,"66"]
["67","対個人サービス",9.8549908489370679E-4,0,1.7274091694276895E-4,0,8.3985778408189553E-5,2.1795197791419957E-4,4.7010910242563925E-5,8.0588526496356246E-5,1.6620331197872597E-4,1.7675651789659743E-5,3.2196737397277076E-4,5.5621064809664717E-5,8.3959531505814201E-5,1.9066799339812073E-4,1.0681763559163618E-4,3.5738072418330384E-4,9.2190782238787291E-5,1.2620742189788919E-4,3.9929536112742221E-4,3.443935111512244E-4,3.2265727769445419E-4,1.0254432991382174E-4,4.1098215801370537E-4,9.2847062318948234E-5,5.1170445245824977E-4,2.7529818234375109E-4,8.5151717189061392E-4,8.7674435595820849E-4,4.15395838052365E-3,4.1666077254565588E-4,7.6356680462324493E-3,2.2798037862874744E-2,2.3904690932670066E-3,1.7040446517873834E-3,1.3154911816484774E-2,0,3.4131313237885231E-3,"67"]
["68","事務用品",3.5196395889060961E-4,0,7.5467957975816266E-4,1.4263074484944533E-3,9.42507068803016E-4,4.8675941734171237E-4,1.979406747055323E-5,1.4966440635037588E-4,9.518916958781579E-4,3.0048608042421566E-4,1.6864957684287992E-3,4.1159587959151888E-4,6.5488434574535075E-4,8.9375621905369088E-4,7.2101904024354422E-4,1.8356373560324242E-3,6.9801592266510379E-4,1.0457186385825104E-3,9.8313899840617408E-4,1.1163100016625895E-3,6.9081750480735709E-4,5.5373938153463741E-5,9.7384902659769317E-4,3.7510213176855083E-3,1.619648012086657E-3,3.1710909378720826E-3,4.0820482115745693E-4,2.0529772118871264E-3,1.1221271026832546E-3,2.7828824437925903E-3,4.9075972230524624E-3,2.500049939534748E-3,4.2099354476564689E-3,1.7337381752360256E-3,1.9057132432901537E-3,0,1.1605701564659584E-4,"68"]
["69","分類不明",7.6024215120371677E-3,0,4.3864865630221161E-3,3.0110935023771792E-3,3.3687628894840472E-3,1.1696756148062044E-3,5.8392499038132034E-4,2.0032005157665698E-3,1.370421854224586E-2,1.0269553689792311E-2,3.7869495891083038E-3,5.050392684717556E-3,6.2885689097854835E-3,4.6058237155233534E-3,2.4167490052607685E-3,5.0358192953101901E-4,2.0347822651275195E-3,6.2472673839455142E-3,6.6068282862175995E-3,2.2444956416407384E-3,1.5225759633328961E-2,3.2137392994991735E-3,7.2011221599792719E-3,1.0002723513828022E-2,3.2999991006951628E-3,1.1005044839191449E-2,4.0941762672461746E-3,4.3001282863926252E-3,2.5152533478834602E-3,2.8934775871226101E-4,3.688023563968133E-3,2.949761852444297E-3,1.2213651804465434E-2,3.0078327272925597E-3,3.9389463318562287E-3,4.9882775477627574E-4,0,"69"]
["70","内生部門計　　",0.46578910319583272,0,0.68372412426018747,0.49698890649762284,0.58469965752465913,0.68723891169312357,0.5841402508650626,0.49831339726689766,0.56241689834401065,0.65809986743261162,0.71372500919906778,0.45698266847620533,0.45779774148860247,0.44614522942722146,0.53487595802066923,0.66690492048278882,0.59806135955063577,0.66818265819874967,0.75108799597349218,0.59055174215614092,0.51882699305873192,0.59568308879928789,0.52949690423222284,0.45524771596226693,0.24864474761009739,0.3790305374508765,0.20845734004291416,0.49373410818577768,0.37753812031907991,0.27632453759013181,0.35133801471458692,0.41258404567597901,0.36352550640200526,0.39318103383758796,0.45457991066526393,1,0.35102499446091517,"70"]
["71","家計外消費支出（行）",5.1386737998029E-3,0,5.1213434146065188E-3,1.2995245641838352E-2,1.1767340730303001E-2,7.8608013367721316E-3,1.8185799488570783E-3,1.5208206214526657E-2,8.9900882388492687E-3,2.6690234202386212E-3,4.6761928124616709E-3,8.7881282399270254E-3,7.4388144914151379E-3,1.0170945772831003E-2,1.2430902341976661E-2,8.39844701830764E-3,1.3631065659592122E-2,8.3702565165850069E-3,5.5498699773508936E-3,8.2060660760515883E-3,1.2386257400138755E-2,4.4442712584650346E-3,8.3536590813655335E-3,1.7480006932580654E-2,1.389785695657257E-2,2.64888469823878E-2,2.2159234349462265E-3,9.1900185419583388E-3,7.9397755473433682E-3,8.80131582500762E-3,3.2549313323182918E-3,8.1081316416379955E-3,3.5111829434707288E-2,8.6623279782982766E-3,1.4062605159594628E-2,0,1.9993458604572645E-3]
["91","雇用者所得",0.21828804730395607,0,0.11886840540310933,0.41442155309033279,0.21540485811069326,0.1175197064913364,1.4084716134515535E-2,0.29190315561644464,0.19516801643901849,0.11602297834732656,0.15204525941371275,0.39991545598148931,0.32592250535242012,0.3067430927540204,0.29356156701471414,0.29457918419727414,0.29913274814136798,0.17299431615860666,0.16911332941867294,0.27449350402584138,0.33992476057766291,6.8280167516417342E-2,0.11824671437633458,0.37597489415434898,0.50346187397142006,0.3010953426430002,7.3087174230051982E-2,0.28628665196211045,0.29554612682305936,0.34465304631750321,0.45982029309619338,0.50519857751717023,0.53774908784731967,0.33955392449906574,0.34049215575840658,0,7.4223736824891064E-3]
["92","営業余剰",0.14381247360270308,0,6.93342395151927E-2,-2.6782884310618066E-2,0.10397439366933865,9.7511714918812886E-2,8.3526016208867002E-2,6.4194517677668914E-2,0.11795902332890125,0.16657534246575342,5.0272905678891207E-2,3.4373818052372794E-2,0.1082238361109945,7.4497560045521979E-2,2.2818917403263278E-2,-6.3824948423463673E-2,-1.2248203926010313E-2,1.9323257774151819E-2,-1.1002432681821994E-2,3.0033489300049877E-2,4.048462413972833E-2,0.11387855469919646,0.12190088182476078,5.5052118150981703E-2,9.278757520436702E-2,0.21307907252042368,0.32784081352444172,-6.5275328663945602E-3,0.13116040743381968,0,2.7900750966692336E-2,1.7259103208884012E-2,-5.6132472635419591E-3,8.3787548293637437E-2,2.8791147288963512E-2,0,0.57447695213175631]
["93","資本減耗引当",0.14866957623539351,0,4.5808908900404947E-2,5.9429477020602216E-2,3.7327012625862022E-2,8.9679973845762651E-2,2.5555378233701131E-2,0.10176028367161327,7.9052338933881305E-2,3.3548387096774192E-2,7.0771495155157613E-2,6.4598304669944595E-2,9.7728894672767727E-2,0.15946994297835324,0.16850482014580606,0.10156110398154616,0.13893150883385247,0.17852039827456426,8.4667393675027264E-2,7.9020497351732652E-2,4.5231704564123114E-2,0.18393889178291775,0.22025069911638837,5.3987471836391097E-2,8.4178979648731528E-2,8.0030902220968092E-2,0.3176934608396253,0.19613008200719168,0.14376209452831396,0.36845029198403828,0.14733047574507688,5.7731638769674257E-2,4.593184743581058E-2,0.11582958705095742,0.10589903262028487,0,3.5154725103132486E-2]
["94","間接税（関税・輸入品商品税を除く。）",2.7805152752358158E-2,0,7.7913233086965142E-2,4.2947702060221873E-2,4.6826737339143908E-2,1.8889171419230629E-4,0.29636914946129206,2.8620439552848806E-2,3.6413634715339052E-2,2.3084401237295625E-2,8.524469520421931E-3,3.534162458006096E-2,2.8882078838000083E-3,2.9732290220519453E-3,-3.2192164926429352E-2,-7.6187072564531588E-3,-3.7508478259438031E-2,-4.7390886922657388E-2,5.8719906048150322E-4,1.7694701090183597E-2,4.7463121927812227E-2,3.3968834727252588E-2,3.8221340695274601E-2,4.2257792963430636E-2,5.7741665692419758E-2,1.4196783140739314E-2,7.1006893523011871E-2,2.7119177334710323E-2,4.4062100111713381E-2,1.7708082833190375E-3,1.1995892949446006E-2,1.1275066445191233E-2,3.4231130295082603E-2,5.9034966547821872E-2,5.6177805170929726E-2,0,3.2881062660237811E-2]
["95","（控除）経常補助金",-9.5030268900464596E-3,0,-7.7025458046611729E-4,0,0,0,-5.4940908522954314E-3,0,0,0,-1.5331779712989082E-5,0,0,0,0,0,0,0,-3.3554232027514472E-6,0,-4.3174616681972205E-3,-1.9380878353712311E-4,-3.6470199326346639E-2,0,-7.1269908360837068E-4,-1.3921484958395562E-2,-3.0160559499124067E-4,-5.9325051653538541E-3,-8.6247633296852093E-6,0,-1.6403588043138095E-3,-1.2156563258536715E-2,-1.0936154151383472E-2,-4.9388207368659938E-5,-2.6566634432483555E-6,0,-2.9594538989881937E-3]
["96","粗付加価値部門計",0.53421089680416722,0,0.31627587573981253,0.50301109350237716,0.41530034247534087,0.31276108830687638,0.4158597491349374,0.50168660273310228,0.43758310165598935,0.34190013256738844,0.28627499080093216,0.54301733152379472,0.54220225851139747,0.55385477057277854,0.46512404197933077,0.33309507951721112,0.40193864044936423,0.33181734180125033,0.24891200402650784,0.40944825784385913,0.48117300694126808,0.40431691120071206,0.47050309576777721,0.54475228403773301,0.75135525238990264,0.62096946254912355,0.79154265995708584,0.50626589181422232,0.62246187968092004,0.72367546240986813,0.64866198528541308,0.58741595432402105,0.63647449359799468,0.60681896616241204,0.54542008933473607,0,0.64897500553908483]
["97","市内生産額",1,0,1,1,1,1,1,1,1,1,1,1,1,1,1,1,1,1,1,1,1,1,1,1,1,1,1,1,1,1,1,1,1,1,1,1,1]

{"sheet":"R2逆行列","index":27,"n_rows":43,"n_cols":42,"rows_kept":43,"cut":false,"hidden":false,"merged":[[2,39,3,39],[2,40,3,40],[2,41,3,41],[41,0,41,1],[42,0,42,1]]}
["逆行列係数表(I-(I-M)A)-1型（37部門分類）"]
[]
[null,null,"01","06","11","15","16","20","21","22","25","26","27","28","29","30","31","32","33","34","35","39","41","46","47","48","51","53","55","57","59","61","63","64","65","66","67","68","69","行和","感応度\n係数","符号"]
[null,null,"農林漁業","鉱業","飲食料品","繊維製品","パルプ・紙・木製品","化学製品","石油・石炭製品","プラスチック・ゴム製品","窯業・土石製品","鉄鋼","非鉄金属","金属製品","はん用機械","生産用機械","業務用機械","電子部品","電気機械","情報通信機器","輸送機械","その他の製造工業製品","建設","電気・ガス・熱供給","水道","廃棄物処理","商業","金融・保険","不動産","運輸・郵便","情報通信","公務","教育・研究","医療・福祉","他に分類されない会員制団体","対事業所サービス","対個人サービス","事務用品","分類不明"]
["01","農林漁業",1.0012114339015015,0,4.6586628250778256E-3,2.8887246524546091E-5,1.5381007927263687E-4,1.6773537705836024E-5,6.4746965239575788E-8,3.9446217003044618E-5,7.8234097669878471E-7,3.0150018606288556E-7,1.8506438790695161E-6,2.7054979291469763E-7,2.5404668840187047E-7,2.7229957174294726E-7,3.7043296796433254E-7,4.4933220883328733E-7,3.4659306973894053E-7,4.4901082643029496E-7,4.8135498361671222E-7,1.1417027119061407E-4,1.6728069251213304E-5,8.4853158647742358E-7,1.6268291502413672E-6,6.3840872627297902E-7,2.7711188210732595E-6,6.8832766091284657E-7,6.0257529014349553E-7,8.207632830248521E-7,1.5321125020173641E-6,1.3380247292793555E-6,3.1912359338124498E-5,4.5083754397363855E-5,4.4151495154566029E-5,9.1253682861465086E-7,3.7381036160872606E-4,5.1752655470536467E-6,4.255573864368957E-6,{"$f":"SUM(C5:AM5)","v":1.0067619730381323},{"$f":"+AN5/AVERAGE($AN$5:$AN$41)","v":0.83078548010202624},"01"]
["06","鉱業",-1.7366681626157874E-5,1,-1.1295723429698478E-5,-1.3631706746053445E-5,-1.1339930588094657E-5,-9.0652998520055484E-5,-9.3434286568607004E-4,-1.6722184811495382E-5,-1.2687818181591503E-4,-3.3292545820300381E-5,-6.48194429616704E-5,-1.4311565155599981E-5,-7.1941624798661619E-6,-6.926026981237075E-6,-8.6489042539325718E-6,-1.9402007642732636E-5,-7.4075047258140324E-6,-5.3905524151689106E-6,-1.1968183446125074E-5,-2.1910334738969929E-5,-1.3525499225922354E-5,-5.6241313720620722E-4,-4.1573611929308579E-5,-6.2171656214376063E-5,-1.5090042147145885E-5,-6.2975746141350858E-6,-4.0308245320771106E-6,-4.4017353754278707E-5,-4.6873680809235933E-6,-1.3432608901337033E-5,-1.0623213480083288E-5,-1.0616666051638596E-5,-5.9499049130941281E-6,-6.5962940905418463E-6,-2.1592602022149498E-5,-4.4929092800263474E-6,-1.0235709349548106E-5,{"$f":"SUM(C6:AM6)","v":0.99773915152036219},{"$f":"+AN6/AVERAGE($AN$5:$AN$41)","v":0.82333979849379613},"06"]
["11","飲食料品",7.2900653089587372E-3,0,1.0320979689510428,3.5236415318512407E-4,1.5990018702458385E-4,1.0024354474685753E-3,2.6428020832679309E-6,1.339823441499891E-5,5.3866270072989812E-5,7.8315697185384573E-6,1.5148403538659202E-5,5.6969781328175559E-6,6.7881019352072116E-6,7.1535177165791771E-6,5.8661859692331163E-6,9.2267351972765958E-6,5.9680399633330471E-6,9.8615920190464933E-6,1.1573855424895885E-5,2.9956751608410236E-4,1.6615397468272778E-5,7.6576142903712674E-6,1.7929448757539528E-5,1.2706020887573941E-5,3.0473640895910013E-5,1.5430915227457368E-5,1.4066072849270428E-5,2.0272959841529417E-5,5.9054410574678531E-5,1.2746955960854219E-4,1.0513972323296329E-3,1.4715183858479682E-3,3.4111494473911555E-4,2.8116320447912519E-5,1.9121367235786915E-2,1.2850322781250859E-5,7.0418238815713092E-4,1.0644095467204415,0.87835657283395263,"11"]
["15","繊維製品",1.9096386383143421E-5,0,6.033381821096071E-6,1.0008511763287404,1.3600569997790333E-5,4.0654842671740848E-6,3.7034018883411772E-7,1.1256799420964452E-5,1.737297779728871E-5,3.6334744789047553E-6,5.5590295179519439E-5,4.9190614418041073E-6,4.0435155651311393E-6,9.9218561565343774E-6,7.6288676810756992E-6,1.6294742334087125E-5,4.86132891812363E-6,1.1223861728882393E-5,1.0390325810477661E-5,1.8241671827562488E-5,1.8332674593853997E-5,2.6377433065595994E-6,7.2528952222733031E-6,1.7339045348977701E-5,1.5909550648606827E-5,6.8928593385143754E-6,1.1470218545705854E-6,1.0185939187386024E-5,5.905089681250896E-6,2.0279386469226037E-5,4.3707352310981482E-6,1.651547198222844E-5,7.1296248644059623E-5,1.2669865468962356E-5,1.7872359193311736E-5,8.6856914564767136E-5,4.3228070997433484E-6,1.0013895078775741,0.8263520925017015,"15"]
["16","パルプ・紙・木製品",2.5485737203082199E-3,0,6.2292030849657031E-4,2.5044408234303951E-4,1.0130822951938441,6.9857018287340102E-4,1.362037780276399E-5,3.273574960710426E-4,6.9856315474807647E-4,8.5679209727615582E-5,9.3778419941984879E-4,2.1772661053692409E-4,8.4062521716834321E-5,9.2540906591071371E-5,2.8007730242191476E-4,3.3607100220630427E-4,2.8462622361666773E-4,3.2383112063756896E-4,2.5763918371725207E-4,3.752589338108593E-3,2.2020838217911036E-3,3.3813375058552354E-4,4.1561159956947E-4,4.8752491789943292E-4,3.8844411720975839E-4,3.8515821849490687E-4,1.0237124505817247E-4,4.4867994244191634E-4,4.2223709845771112E-4,1.9883426568649632E-4,6.6328483968333826E-4,4.4147614702195949E-4,1.0781338204467836E-3,3.1222895677275646E-4,3.8667148129288868E-4,2.1875130061136772E-2,1.3251839604223946E-4,1.0551734948147784,0.87073493234475341,"16"]
["20","化学製品",2.5232610430022014E-3,0,4.5449163917115379E-4,2.7878279620742884E-3,1.5617196491041938E-3,1.0150618051603115,1.1501939412625488E-4,6.7789654652959958E-3,1.2733121060934059E-3,2.2819037219702176E-4,3.8020292989947545E-3,3.9397106580159671E-4,1.09864123785035E-4,2.0157017888849479E-4,4.0256186599332198E-4,5.4308326348810664E-4,3.5494268787125824E-4,5.1921294746247156E-4,7.6616760494745107E-4,1.7278227622467999E-3,3.0556001952573852E-4,1.3722946483904236E-4,5.2954997674128782E-4,1.0349909225906399E-3,2.5384056725320048E-5,4.0366971119875236E-5,1.5942527961756071E-5,8.8249294603480366E-5,7.655311551003216E-5,1.006291570499116E-4,8.1825334369064865E-4,7.9501384264738482E-3,1.3320132982845922E-4,2.8178348574852405E-4,4.8654835806874317E-4,5.3025476035950146E-4,2.2202557210442518E-4,1.0523824793737964,0.86843177115550918,"20"]
["21","石油・石炭製品",9.3336001026054702E-3,0,2.7170495781644755E-3,2.3309021932652642E-3,2.3614052929463382E-3,6.2461206782132163E-2,1.0324077326491761,2.0243999911632267E-3,1.199733644617079E-2,5.8168713929931028E-3,3.0987632063088169E-3,3.1115542785529072E-3,1.30007061912011E-3,1.0069839367353021E-3,1.4417995613822442E-3,1.7532686248650858E-3,1.1408300372553332E-3,1.1135281946033199E-3,2.5923954049991726E-3,6.2749235969239529E-3,6.685720558682013E-3,2.214503239496601E-2,9.0275628663860821E-3,1.2717501222131783E-2,2.1537650955985727E-3,1.5514444017041384E-3,6.5234196600922733E-4,3.6008192003226906E-2,1.2279199265629746E-3,5.5458663227236993E-3,3.1728834174033944E-3,2.4358510263186861E-3,2.7698779587303352E-3,1.9673715861036282E-3,3.8057031231450533E-3,1.8369831429106021E-3,6.6751338219410471E-3,1.2746637727239076,1.0518595087530007,"21"]
["22","プラスチック・ゴム製品",5.5727445881477281E-4,0,3.6044045803554256E-4,2.2112305246174764E-4,7.3107861441283194E-4,4.9875760195065822E-4,7.5149398366486476E-6,1.0050226290188893,3.2779160456049153E-4,4.1672136740844407E-5,7.8414271237751639E-4,1.0481944327908934E-4,2.2084922821781795E-4,5.1896085425922787E-4,9.7556063869801287E-4,3.7521475403382894E-4,6.1110093141088196E-4,1.3426735998097379E-3,1.0174456790871275E-3,1.407840972507066E-3,4.2254156510419848E-4,4.0385458666150945E-5,1.2140657505193373E-3,7.888889740874116E-4,1.6253495080900007E-4,1.2353778786788295E-4,4.0809726710573935E-5,1.2952274541383932E-4,1.8507480827858786E-4,9.9375867080932881E-5,2.3540352808613878E-4,9.8108581545797673E-5,2.1221620199748687E-4,1.9286401682015286E-4,1.2242005371500199E-4,1.3490480682825693E-3,9.8671001676969481E-5,1.0206423597860459,0.84223965107509935,"22"]
["25","窯業・土石製品",1.0467938109291119E-3,0,3.5332557183237928E-4,1.4895098900781332E-4,1.224773525358423E-3,1.5982057723851056E-3,1.3111949827570167E-4,7.0079745564552887E-4,1.0350538419327635,8.5267256956760365E-4,3.2663581227394559E-2,1.1345929400652056E-3,1.1024797826771678E-3,1.047040980120913E-3,2.9080976335844116E-3,1.1451266302432346E-2,1.7156427633461709E-3,1.1524512066276966E-3,1.9863585919175667E-3,9.3994970171223631E-4,1.2671999235003492E-2,3.9888657581141145E-4,2.0768177950463871E-3,3.0677431644697464E-4,1.2150064398174031E-4,9.6769833309605355E-5,2.1136083582689008E-4,2.3387132264418898E-4,7.3299476555542794E-5,2.082407978982816E-4,5.8623858490920375E-4,2.6490985915888024E-4,1.4637332781320609E-4,1.5808637088024944E-4,3.5071178613576171E-4,1.4089084318180116E-3,9.1133594396381053E-4,1.117438027392847,0.92211596477995417,"25"]
["26","鉄鋼",6.7379064373852819E-7,0,4.3663296167897378E-7,5.3766009288627845E-7,4.2844120304637297E-5,6.3945828437206987E-7,6.2431592479116949E-8,3.7190621094162258E-6,4.1362902475059518E-6,1.0007433180540899,8.4169643961794821E-6,3.2194034145755678E-4,1.8278550883923944E-4,1.0369355981639914E-4,3.9493833601924206E-5,1.6448039158195291E-5,7.2694724034535362E-5,1.5450518358368452E-5,1.2947248148227088E-4,5.6500181864081138E-6,3.7328258618352108E-5,1.1876858146924698E-6,2.4918795292729102E-6,4.8914781124339344E-7,3.3718013813263136E-7,3.4120758747564315E-7,5.9914023545352469E-7,1.5525190411421765E-6,2.7121715041173658E-7,7.2201641024061311E-7,4.9129925871708647E-7,2.8596490129676201E-7,3.3376733185029372E-7,7.9787153386878622E-7,4.58608220937285E-7,1.2295240860538071E-6,4.850364306749227E-6,1.0017461811416331,0.82664642122771259,"26"]
["27","非鉄金属",-4.1545257077404923E-6,0,-3.8820753917056318E-5,-3.0303555274807466E-6,-1.7100488528355853E-4,-1.1876204631906721E-4,-9.8659192832872814E-7,-5.6860850314201667E-5,-9.3048462138180609E-5,-2.6423627636421807E-4,0.99500256021833189,-1.0661869786010466E-3,-8.2714987984604423E-4,-5.1461690526017104E-4,-1.0349343043382969E-3,-1.8706271280723513E-3,-1.617310679058549E-3,-1.179512954432546E-3,-1.0384769708710259E-3,-3.0734092603407052E-4,-2.2266221778001472E-4,-1.7496016773308582E-5,-2.1992631818775394E-5,-5.1973331996963653E-6,-3.0196030993891928E-6,-3.5773386280125966E-6,-3.974069131110972E-6,-9.0207794317367515E-6,-3.318019637838069E-6,-9.7548230613399167E-6,-9.0734498711137984E-6,-4.664627625095378E-5,-8.5419372329092423E-6,-1.3443071687776231E-5,-1.3508872044848767E-5,-3.7616748611296027E-5,-6.3350941937875729E-5,0.98430330461412008,0.81225246422659603,"27"]
["28","金属製品",3.9309780575745302E-4,0,8.6615652399526567E-4,2.4809712721988222E-4,2.5110691534747979E-3,1.0805640282744204E-3,5.1067424829782244E-5,7.7341744993598765E-4,6.9504921047834525E-4,3.9697323381391209E-4,1.3597323642801557E-3,1.005812703500037,2.7124690915502608E-3,2.6561018306495345E-3,3.6907663104486055E-3,2.6943180675676011E-3,2.7973271982655555E-3,3.6487319087552799E-3,2.7651199654819001E-3,1.149223903597441E-3,9.4968926432609999E-3,3.5899546559563781E-4,6.2206826065631113E-4,1.3559574419895815E-4,2.6542352771843577E-4,8.5905160380583459E-5,1.7617723065450273E-4,3.1706829754596356E-4,8.9000045294608581E-5,4.2972396291068859E-4,1.4010564973785159E-4,1.1474569795260172E-4,2.4215480092065503E-4,1.5286809379050335E-4,3.8339004479114405E-4,1.6545134813149824E-4,5.0354518441016822E-4,1.0499810972563646,0.86645013751342936,"28"]
["29","はん用機械",2.2209485656354373E-5,0,2.3249534050945553E-5,3.0279909153534431E-5,4.776807356112422E-5,4.3287195312874259E-5,5.5835423854362778E-6,6.6808821346346663E-5,4.4093599409741684E-4,7.1463451211049376E-5,4.5800028558870284E-5,1.1817507133083455E-4,1.0150944127590509,4.3867123309054056E-3,1.6185792474704254E-3,3.1640179458834207E-4,1.313225892807385E-3,3.4432521948392548E-4,2.1727919810273916E-3,5.0109721741238603E-5,9.471108357590938E-4,6.431776667483042E-5,1.635373375201374E-3,7.1843008272570871E-5,4.3298557782810362E-5,6.8289330550512278E-5,3.2832010298590214E-5,1.0130093368768733E-4,7.8878263939216145E-5,9.1456413560892563E-5,7.4784974318755431E-5,3.6200882854709592E-5,4.2889485070614286E-5,7.9719177639790467E-4,4.3740301897684658E-5,1.4578164665234007E-5,4.5211067106640101E-5,1.0304014172017784,0.85029287856839231,"29"]
["30","生産用機械",1.3799598935152536E-5,0,1.7611334797145487E-5,2.2821952038971554E-5,3.2926174637002711E-5,2.924829251093537E-5,4.6919006070925351E-6,2.103068564143886E-4,6.5926647216527163E-5,6.0520104316845164E-5,4.8602735463228377E-5,7.0179885385905833E-5,3.0766024731795373E-4,1.0086961936398975,1.7365134645677441E-4,2.0946572708347778E-4,2.4808550225930548E-4,1.1969490688975261E-4,1.8380345517568028E-4,3.540926166190073E-5,5.3998575959087254E-5,3.5757591960662478E-5,1.079032714073376E-4,4.6430336788899213E-5,3.3623547193447881E-5,5.9191404713178982E-5,1.8187431537196341E-5,6.1787331164501485E-5,7.1192302762755491E-5,4.4405650496405255E-5,5.3494772892105039E-5,2.3982692395524289E-5,3.5781907283109226E-5,7.7206038145862584E-4,2.4579187015926213E-5,8.8910600269495976E-6,2.3312850180157818E-5,1.0120251798643016,0.83512870712793397,"30"]
["31","業務用機械",5.9772997520777977E-6,0,7.1189090458151432E-6,9.6148494244530978E-6,7.8146079520381365E-6,9.1145122220925606E-6,1.1679019187876585E-6,6.7438502092028212E-6,1.143742196950738E-5,4.2945572965969613E-6,1.0040398640636952E-5,5.5369003340121787E-6,1.0425011033880523E-4,3.0322981105749273E-4,1.0030779982719835,1.0062222059856369E-5,4.4998048878374735E-5,2.7441823717946222E-5,2.7387590279862441E-5,1.6574121841980221E-5,2.7167165158378069E-5,9.7279037564953272E-6,3.0186838205430136E-5,1.9681125269204579E-5,4.861026533199317E-5,2.0552562161900353E-5,5.7152829215557937E-6,1.9958870944506762E-5,2.3812890652684056E-5,1.7711782006902548E-4,2.1295950839953829E-5,6.6765162167900993E-4,1.6069456459319498E-5,1.9278693701949888E-4,5.6750119458681713E-5,1.3595670223330223E-3,2.3783708002745538E-5,1.0064112387491866,0.8304960522507232,"31"]
["32","電子部品",7.1716948138460453E-6,0,9.1233450542746671E-6,1.2273821422959716E-5,9.9885116581824652E-6,1.4070997317113162E-5,1.7344015697989993E-6,9.8802829957177769E-6,1.71973945345883E-5,5.6684029021494466E-6,8.4877108333481421E-5,3.4541355253360373E-5,2.1518429067853302E-4,3.2070241179412242E-4,4.2477765638521039E-3,1.0104405964313474,6.5945946306972276E-3,1.0389756643339547E-2,3.0544316946457808E-4,3.9037859955510901E-5,4.1436030094536984E-5,1.69285045300216E-5,4.0611440024028033E-5,2.5654400924040778E-5,1.8693477151028892E-5,3.2676617642460407E-5,9.3564262165030615E-6,3.0230983399983397E-5,5.6015036114590883E-5,7.3088147482128901E-5,8.8928614569733333E-5,1.6838907816894304E-5,2.1888763067988656E-5,3.498107950910222E-4,1.4478637478662821E-5,1.0892854174762222E-3,1.7253670358253346E-5,1.0347027951864227,0.85384239917979277,"32"]
["33","電気機械",1.5692256803413564E-5,0,7.0136236213257351E-6,9.1381483694255335E-6,1.5503364481941492E-5,1.1729341506077781E-5,1.6705178534089363E-6,1.0309154383077551E-5,1.5292355769219974E-5,6.5272113839254202E-6,7.94804569514242E-5,2.2543911705495202E-5,6.1302820634007258E-4,8.9654692773428991E-4,1.0751063946956643E-3,4.2669351929865395E-4,1.0032398218882055,9.9853884052813536E-4,2.2405036972753078E-3,3.5105615171236329E-5,4.2790599407906057E-4,2.3073737281481829E-5,6.1320106339102782E-5,1.8698481209866784E-5,2.0447202787120435E-5,2.0711465612019794E-5,1.286158104159664E-5,4.1003224837369738E-5,2.829286061731343E-5,9.0498113739060054E-5,4.4775282018831422E-5,1.3243749242561859E-5,1.2704181755111569E-5,2.3023368129842749E-4,1.6854004338806683E-5,7.0515670686455144E-6,3.3748082606449475E-5,1.0108236687479504,0.83413721359085335,"33"]
["34","情報通信機器",5.3483540931442842E-6,0,6.466579276201719E-6,6.4517419241287088E-6,6.7672446889831788E-6,8.5457444993169427E-6,2.0687862336899011E-6,5.88479993160171E-6,1.4450278472415451E-5,4.1532945733821459E-6,8.9814585844883331E-6,7.2888774326776307E-6,1.1451187177723901E-4,2.666673742211717E-5,7.277668275343654E-6,8.6762213066220449E-6,1.0137946451411458E-5,1.0018079169598737,2.5378092413639143E-4,1.1116313106178093E-5,1.6754963004085569E-4,1.3922402211639796E-5,2.7069155626372457E-5,1.6168070530612799E-5,2.6302072375666417E-5,2.3634689973723193E-5,1.4492080532487845E-5,2.8911807724930081E-5,3.67067082566293E-5,1.5936066750959024E-4,2.8685463730145572E-5,8.3520942985227315E-6,1.4321061692159711E-5,1.5445831702357994E-4,1.6527681116955547E-5,5.0119761265084998E-6,2.3837822776622223E-5,1.0030818035036064,0.82774858409733165,"34"]
["35","輸送機械",6.9512013729031488E-4,0,1.4404070054703413E-4,9.9584322285925189E-5,1.3210818469797353E-4,1.2838345756538137E-4,4.8235653742895486E-5,8.4793963811010452E-5,2.8819628405205391E-4,1.0709432143050351E-4,1.3440068399871012E-4,9.2242564917301322E-5,8.6887699473232614E-5,9.3963879521958378E-5,1.0138140714481886E-4,9.267869757772121E-5,9.1095905896971242E-5,9.224339937240146E-5,1.0458177964968565,4.4861786407115849E-4,2.0194951384022475E-4,1.6608641742458415E-4,2.4217767564684489E-4,3.1434159850426621E-4,1.5419951475631208E-4,2.0866846845569813E-4,5.1990845243671775E-5,3.3914909255990198E-3,2.0135620572643849E-4,1.0351951587349675E-3,1.9357332165658854E-4,9.4091511538381916E-5,1.6313891795138958E-4,1.6778896134777175E-3,1.4419565989728808E-4,1.5864116921808941E-4,2.5518230332688071E-4,1.0574330344452521,0.87259951679170844,"35"]
["39","その他の製造工業製品",2.0957179902398687E-4,0,7.8928017054958818E-4,2.2746531059960893E-3,4.7090189483388703E-4,4.9141098440382502E-4,2.806516797663962E-5,4.8136822348650136E-4,9.6289803442544016E-4,4.7042840124616434E-4,7.5848299829981997E-4,1.6124605689123072E-4,1.3439334145441364E-4,2.3848743804582751E-4,5.763182321564588E-4,2.8370876024933232E-4,4.9627888932327578E-4,4.932737387552922E-4,2.8931062831990032E-4,1.0037666474101608,4.0180604276775651E-4,1.0844255073773176E-3,6.0112396963403242E-4,9.3213950467413615E-4,5.5997631939220789E-4,1.6459706375272049E-3,1.1026185612601944E-4,3.3896512742105943E-4,1.6139433257040682E-3,7.8693722912140612E-4,2.3694606785192836E-3,4.6308325494482609E-4,4.0798838650308381E-3,6.5689440927089538E-4,6.6845923166438238E-4,1.241261349475919E-2,2.6582259796620702E-4,1.042368492327499,0.86016817433839077,"39"]
["41","建設",5.3892736726367614E-3,0,2.0682926241413243E-3,4.011736831600058E-3,5.072247604478811E-3,6.1316446306125339E-3,8.4776017469825036E-4,5.7068116237316523E-3,6.290029997844125E-3,5.9736276537431183E-3,7.7448710257211166E-3,6.1423058684001736E-3,2.8923191120041034E-3,2.7002380071300593E-3,3.3560856703079935E-3,6.845224531124996E-3,3.0753621656667493E-3,3.7555642957245125E-3,3.3587887836164982E-3,4.8043630205172935E-3,1.0021838435300583,2.9028596908759197E-2,5.3914195626826665E-2,8.4519361819817476E-3,4.9720453032459522E-3,5.4182276090274078E-3,1.4834168264934298E-2,1.46855246626224E-2,3.9666119129852621E-3,1.0126119024834731E-2,9.5125271708251767E-3,4.5090540669886145E-3,2.5195242838808498E-3,2.6639338048485414E-3,5.6006485587142786E-3,1.4365690507735724E-3,1.6888141273192603E-2,1.2768782145281996,1.0536868782274207,"41"]
["46","電気・ガス・熱供給",1.8017653084029757E-2,0,1.7460070287564286E-2,2.2823333388049732E-2,1.85080278275081E-2,5.8616718671884144E-2,7.6567013022678064E-3,2.9942092609138399E-2,5.9235104250286795E-2,5.6374598632142191E-2,3.4068204568554868E-2,2.2982399464632743E-2,1.20468527433994E-2,1.2050449500824683E-2,1.4398070403679354E-2,3.4062964408961845E-2,1.2754918297652483E-2,8.8150336606431078E-3,1.9107077934456717E-2,3.1081210028837361E-2,6.7303441596968661E-3,1.1065101325036573,6.75086729211926E-2,0.10333477539074033,2.6763857292552339E-2,9.9350594563548597E-3,6.8884083063041517E-3,2.3425927831955018E-2,7.2601632611391078E-3,1.7083151303011117E-2,1.5405084258855051E-2,1.6999793789066131E-2,6.9146918883714109E-3,9.7807113558821771E-3,3.6945599998548344E-2,5.5072730948152173E-3,7.8308722891622835E-3,1.964826000165818,1.6213851492013751,"46"]
["47","水道",8.482913427940356E-4,0,1.9397631738718288E-3,2.1614772735060708E-3,1.2214299461496447E-3,2.5090390941052672E-3,6.3782746986468491E-4,8.4670250903807879E-4,1.8379351265260619E-3,1.5762222915609047E-3,9.6782561168821718E-4,7.2153956798710276E-4,5.8227115544256223E-4,5.9358533793331468E-4,6.2767180808330611E-4,1.6434377832575688E-3,5.3265919077975332E-4,5.071157157385518E-4,1.5286144021319763E-3,1.4281879133138686E-3,1.226488217890921E-3,1.6281063511705341E-3,1.071667723947473,1.134639787256749E-2,2.6466252136472051E-3,1.6092216908745142E-3,6.5277535699478017E-4,5.8530163032273364E-3,1.3688623451365101E-3,4.2475726949095663E-3,7.8470641688449892E-3,4.5587411556339934E-3,2.4428876501695631E-3,1.0857486032971723E-3,8.5080973992053381E-3,6.3334834029256891E-4,1.6736877627763309E-3,1.1517079617878845,0.95039570185974132,"47"]
["48","廃棄物処理",1.1918208407733239E-3,0,1.6759456155275698E-3,1.0588881149235217E-3,1.2524651024473981E-3,4.9250175296779962E-3,2.9330297937970603E-4,7.4894336113604768E-4,5.2050133997873626E-3,1.2322681036026815E-3,2.6144176947460814E-3,7.1669279795004545E-4,7.0288061187118091E-4,4.6052315997747968E-4,7.3903406657960149E-4,1.5108847210397137E-3,6.7023914433828166E-4,7.2073531732803171E-4,4.9788363165923066E-3,2.5027658689303952E-3,2.5866361510997076E-3,1.4189243561120897E-2,3.9184433758639838E-3,1.0024978822410366,1.8929844829525446E-3,4.4791061241936164E-3,4.3662598461359487E-4,1.4053401707827491E-2,3.1542312281202219E-3,2.7945862890188012E-2,5.8378173651632732E-3,4.7637684781171152E-3,8.5213672352250566E-4,1.6131203794102883E-3,1.6837079422322692E-2,8.6463884178895065E-4,1.3684640993410529E-2,1.152808294697361,0.9513037025877713,"48"]
["51","商業",4.2337536000678716E-2,0,3.6364438394135147E-2,4.4583469220140698E-2,4.4563923867966301E-2,2.3944166997397931E-2,4.0593493710101838E-3,2.9342162893496476E-2,2.4074597825613067E-2,1.9736896450874321E-2,3.6772972514656652E-2,1.6457781208753863E-2,1.9122422176222488E-2,2.1893183192157103E-2,2.9715719190904148E-2,2.4291688422728497E-2,2.7952867673999886E-2,2.8780090720448896E-2,3.5955514527434486E-2,3.40939940693714E-2,3.0759744295191824E-2,5.9526216580667772E-3,1.5671208786541789E-2,1.6215288713624224E-2,1.0059197565119871,5.4166586431984038E-3,2.07272914928735E-3,1.3687160206678557E-2,7.0358020303298938E-3,7.4529775165617478E-3,1.6196950456496526E-2,2.7245390085835507E-2,2.1192219961311275E-2,1.149812573378014E-2,3.979373864198308E-2,0.13885823610042702,4.8226231409275082E-3,1.9138340063502188,1.5793062773349589,"51"]
["53","金融・保険",4.3879702250319407E-3,0,4.5692803919061727E-3,1.0168854511061622E-2,6.9605323423201646E-3,6.4663577057808329E-3,2.3922704053373992E-3,3.310862271421286E-3,7.9343756647923726E-3,5.2368150644104402E-3,1.1110573132203233E-2,6.374881381545074E-3,4.9410290020660379E-3,4.2418950546460046E-3,8.2631392592607076E-3,4.859668888260474E-3,4.6472908452660031E-3,7.1015601114074638E-3,6.7309824277118433E-3,1.2833429731133534E-2,6.8810425544727667E-3,1.1310940770898673E-2,1.2172116079524644E-2,1.9790149877241443E-2,9.6297013585775176E-3,1.0436906348032575,4.218634873231742E-2,1.948386877432487E-2,4.5402951807354194E-3,9.4514478699475688E-3,5.5248815709127179E-3,5.8720552945825148E-3,1.538943307692499E-2,6.4179527293995037E-3,9.3169361244849428E-3,2.3959967500153906E-3,1.9910471247863118E-2,1.3664960412110438,1.127639998389208,"53"]
["55","不動産",4.2740090208291497E-3,0,7.1050101661520549E-3,8.6393227352513542E-3,7.314434043419602E-3,5.5344191850500565E-3,1.2969221171064047E-3,6.5516444837837333E-3,1.0838419743774414E-2,4.43954769498446E-3,8.4703590619978238E-3,6.2489147110455822E-3,5.1084289696187828E-3,4.9294004843258559E-3,5.6742630413484591E-3,4.564487094646557E-3,4.502836067070316E-3,6.01306301628268E-3,3.5640585955304871E-3,1.0200937534108117E-2,9.937309872858088E-3,1.2250970395328806E-2,6.0640885543051934E-3,7.3359233076227782E-3,3.4804907106030396E-2,2.3208004793689702E-2,1.0663324129488689,3.1984562927748594E-2,3.4166152036300475E-2,6.443314217075005E-3,1.923503327516465E-2,2.4326030850564236E-2,2.114003376339476E-2,1.3965503832503934E-2,4.590667147636443E-2,6.2741247179824294E-3,2.4716779377006677E-2,1.5033623012191353,1.2405827838496637,"55"]
["57","運輸・郵便",5.2975660579275052E-2,0,3.5293427281227058E-2,1.7333371293021326E-2,3.1738866683926233E-2,2.2672768880988924E-2,1.3725672675093344E-2,1.3904922591519427E-2,7.2706561213008378E-2,2.8172260093326296E-2,2.8438122485512727E-2,1.9487986115080277E-2,1.6397308849771319E-2,1.2983138663555013E-2,1.9269618119302574E-2,1.3337594931074996E-2,1.4653874323887343E-2,1.606254685051416E-2,1.6730841790396404E-2,0.12779433484619671,3.344964032124146E-2,3.1205248390025503E-2,2.3745420960440283E-2,7.3122206739090131E-2,2.8173661267855473E-2,2.7920505673331285E-2,4.5120021224745012E-3,1.1016427129290625,1.7097654141831536E-2,2.5989013329655551E-2,2.3881516749088283E-2,1.4702170121389288E-2,2.9320884521566209E-2,1.3706561215988188E-2,2.8910962549721739E-2,4.7984946614682208E-2,3.9986400953775814E-2,2.1390303868678973,1.7651395607882781,"57"]
["59","情報通信",4.7301828849935839E-3,0,3.855655519497131E-3,4.6363753289731654E-3,4.0463962966072343E-3,5.9608985467822914E-3,8.4103486998129496E-4,3.6098502321690691E-3,5.6805675787286241E-3,3.7800716935003755E-3,4.1562036851749071E-3,4.0122653587163415E-3,4.5691266789685729E-3,6.5581693138501629E-3,5.1144183717275419E-3,5.0952444256596122E-3,7.8282386782409733E-3,9.1661713421984196E-3,4.5999779698019895E-3,6.3094514947412157E-3,7.6932765324347306E-3,9.2776608982405463E-3,2.566744623220861E-2,1.0941884387244426E-2,2.0014768941246337E-2,3.4040820297459466E-2,4.402095165633179E-3,9.125859988136609E-3,1.0629554859882111,1.7358749310894549E-2,2.6636689177780181E-2,9.029209887177295E-3,3.4266197033309485E-2,2.9392600857931227E-2,1.4358886984468066E-2,3.2687637017104572E-3,2.6611799171907799E-2,1.4395924948263068,1.1879595912391969,"59"]
["61","公務",5.9363109709167406E-4,0,3.6454929061300283E-4,2.6121067220687231E-4,2.9024300097524141E-4,1.4421756509835955E-4,5.4893132114973649E-5,1.8158435869926326E-4,1.0812486815741512E-3,7.7349278993429698E-4,3.5848092939184045E-4,3.9666006153186328E-4,4.8360133705191828E-4,3.6135009319242966E-4,2.1382834969627744E-4,8.9807221938348331E-5,1.8010338472151599E-4,4.8140431718111856E-4,5.320850712065519E-4,2.4991763987749479E-4,1.1451878205524966E-3,3.3364047937109123E-4,6.8531875444170548E-4,8.125466124407287E-4,2.9088764732230273E-4,8.7062821916045088E-4,3.6961736350864173E-4,4.2256305664794744E-4,2.4398016291183694E-4,1.000094626465708,3.3143073423654441E-4,2.6434191693988868E-4,9.2293478456115848E-4,2.7459974749289478E-4,3.6963392027852864E-4,1.0232587681765651E-4,0.10157576703840823,1.1162023395948975,0.92109626845851111,"61"]
["63","教育・研究",1.263008886607667E-4,0,2.1910200955235301E-4,8.3571660887642101E-5,1.2318469869597248E-4,3.8610222827743627E-4,3.5506474734918438E-5,1.960929653792762E-4,3.6467664376555018E-4,2.5190877969839153E-4,1.2155166338513722E-4,3.1304070022713972E-4,4.1489026314716232E-4,3.6310854140293898E-4,3.4952434640468335E-4,1.3742607861870586E-3,9.34517368665732E-4,2.1166751086017766E-3,2.9698845523966268E-4,2.9063346210685771E-4,2.8456776693553467E-4,6.3266975092276688E-4,3.3411287473274139E-4,4.8788420693818437E-4,2.957238147012139E-4,3.9884742297324272E-4,5.8041054396266078E-5,1.5493682316065193E-3,3.7110419744583864E-3,2.319745582290605E-4,1.0001919602426794,1.7234507659490562E-4,2.1357155942706115E-4,8.0944393063134366E-4,6.1494674159274815E-4,1.0867699856262088E-4,2.0466961793374175E-3,1.0205035094297401,0.84212507100253498,"63"]
["64","医療・福祉",4.2759613343331983E-5,0,2.9376984912991735E-5,1.7089072099225016E-5,2.6999070787129322E-5,2.0819466793643874E-5,1.0929654664955425E-5,1.3101803425113445E-5,5.9187301444026053E-5,2.4026004677081717E-5,2.5298172865757557E-5,1.7433931411294233E-5,1.5305189226020466E-5,1.3071714955975866E-5,1.7862684171171407E-5,1.3275746337541579E-5,1.4578564138094374E-5,1.6438438233423885E-5,1.6040290467387643E-5,9.9599398525371984E-5,3.1710166421374355E-5,2.9410589099779369E-5,1.4139835450251032E-4,6.2797639131789731E-5,4.3346320212150911E-5,1.370544265943578E-4,2.1988376958614429E-5,8.2216979051875623E-4,2.1440817548058961E-4,4.1348901154852357E-5,4.3472678564498692E-5,1.0127888625348553,4.2292282545964572E-5,5.2948233042502263E-5,3.1156933934215267E-4,3.903417900428834E-5,1.5506130035963081E-4,1.0154720663902685,0.83797309671953824,"64"]
["65","他に分類されない会員制団体",2.6270615787435574E-3,0,7.5355815693733876E-4,1.1643078075689425E-3,6.6179468847769017E-4,8.6552652467094442E-4,1.8658297599237516E-4,4.6616616070014808E-4,1.3277958303454598E-3,5.7609430756060608E-4,3.7502764171569655E-3,2.7259088053553681E-4,1.1737298287296852E-3,4.4289675667302266E-4,5.3840405617889273E-4,4.500346900678113E-4,3.8317002694144181E-4,2.8324391396888904E-4,3.6901806541130857E-4,1.145353666697248E-3,9.3330107086737175E-4,2.0306717899480982E-3,7.0765396465784754E-3,2.4076881531263179E-3,6.1886181009776714E-4,3.2181930205264458E-3,4.2494449647957546E-4,1.5180508620750506E-3,6.9869798625370953E-4,2.8457704306091892E-4,2.8963343380221432E-3,1.0429639271901804E-3,1.0002248757207639,1.8781008003327636E-3,1.9346748928075468E-3,1.7398652036687277E-4,4.2786306060178672E-4,1.0452279314724569,0.86252779914195532,"65"]
["66","対事業所サービス",1.9448386731640954E-2,0,2.5392406137141482E-2,3.3259891145273182E-2,2.6073344762180359E-2,4.2325106073115674E-2,5.1613583253898509E-3,3.0098736078130031E-2,4.9572586079688466E-2,1.5814384531258587E-2,3.4487958768054376E-2,2.3639649881403411E-2,2.6240408602903414E-2,2.8810709233096199E-2,3.0548653855844054E-2,3.680764233155695E-2,3.294126065574756E-2,3.0643311812985175E-2,2.165883322382426E-2,4.783630554039859E-2,7.0600288581504703E-2,5.0806670919177441E-2,0.11885401583394205,6.7042415079994741E-2,4.8828401032718217E-2,8.6846658257443338E-2,2.6587151314853133E-2,8.320225184685906E-2,0.10443717680088151,6.2690258121683717E-2,7.811675067981258E-2,3.4785256326532142E-2,5.2270737277581136E-2,1.1373423299539924,3.437864083481474E-2,1.1155368243132152E-2,3.3533506239641013E-2,2.662238811114197,2.1968940107692996,"66"]
["67","対個人サービス",6.7993016454159425E-4,0,1.8937178112974845E-4,8.4784383882418549E-5,1.3236458556610892E-4,2.2528940579418828E-4,4.795357197628975E-5,1.1693469561416485E-4,2.5023627751720055E-4,8.2715199141079396E-5,2.8827360958611799E-4,9.9128559755980462E-5,1.2114288721501965E-4,1.8743519294729124E-4,1.4026783815223272E-4,2.9480975447326657E-4,1.3821432234496902E-4,1.7353583827614015E-4,3.189694643692348E-4,3.6603989805029637E-4,3.4362530248947462E-4,1.8790194497609298E-4,5.0888373706516944E-4,2.3389555854119625E-4,4.4941807676012184E-4,3.9796577545391757E-4,5.9745769977701554E-4,7.3912537361018953E-4,2.7773983045685001E-3,3.8345653957931087E-4,4.7129947575443587E-3,1.3774408952693554E-2,1.6108545294344092E-3,1.2538386630222428E-3,1.0079393200538873,9.8299337644312048E-5,2.2028837668916809E-3,1.0421491258042723,0.85998715188502262,"67"]
["68","事務用品",6.2139311019855268E-4,0,9.9696129756656491E-4,1.6555165819231905E-3,1.1860363908449028E-3,7.22520468864773E-4,7.7532063249628898E-5,3.1448957111274259E-4,1.3401431289023335E-3,4.6252114984965235E-4,1.9714871635354249E-3,5.6265246892072589E-4,8.1534983302201935E-4,1.0529563520884802E-3,9.2349917248851234E-4,2.0424818858808709E-3,8.8569507550708782E-4,1.257889480038849E-3,1.2220497837316111E-3,1.6034458076727455E-3,1.0095119186164939E-3,3.6545509511132847E-4,1.4903131263462083E-3,4.1732056816792236E-3,1.8613515063518708E-3,3.619488312650943E-3,6.5099536610091827E-4,2.6076524146521566E-3,1.4958612296244256E-3,3.1328557113013463E-3,5.2397503917181575E-3,2.7711189934556072E-3,4.5140704742525593E-3,2.1080483195501745E-3,2.2761852860888033E-3,1.0004033060624913,7.3403267923723115E-4,1.0581678233546274,0.87320586861388427,"68"]
["69","分類不明",5.8490513034405072E-3,0,3.5919066805541891E-3,2.5737105590144566E-3,2.8597662950708824E-3,1.4209766658961084E-3,5.4086241020732029E-4,1.7891519415639972E-3,1.0653550734266815E-2,7.6212298064101671E-3,3.5321150754912449E-3,3.9082943284008036E-3,4.764927317128527E-3,3.5603849662530977E-3,2.1068522077616167E-3,8.8487117859957303E-4,1.7745598947232191E-3,4.7432800651534485E-3,5.2426378849241848E-3,2.4624402334039019E-3,1.1283543512634355E-2,3.2873619497137477E-3,6.7524504251509215E-3,8.0060273895467236E-3,2.8661179999849447E-3,8.5783058620766874E-3,3.6418424378307159E-3,4.1635167183480537E-3,2.4039382318152519E-3,9.3235522077730567E-4,3.2655893156269987E-3,2.6045627350152908E-3,9.0936828125673021E-3,2.7056332103668652E-3,3.6420055717988693E-3,1.0082175716673736E-3,1.0008267348269007,1.1449424553400862,0.94481276897898725,"69"]
["列和",null,{"$f":"SUM(C5:C41)","v":1.1900181518866417},{"$f":"SUM(D5:D41)","v":1},1.1849603893826246,1.1641853771626407,1.174415986833802,1.2658209885769427,1.0697535629926189,1.1436381502574602,1.310170489578357,1.160738444682365,1.2177144375396929,1.12289366813489,1.1219516455819887,1.1212876957296523,1.1415836409980828,1.1652622739030836,1.1312722467281779,1.1418633619906666,1.185988732222917,1.304865756813204,1.2209866000889589,1.303292629318288,1.432769526127051,1.3531429412894371,1.1941260008803138,1.2641617363343522,1.1761327151040379,1.3701857604847236,1.2617708004974069,1.2030570118478903,1.2344354907161981,1.1943148892807003,1.2123420680353558,1.2444681870211269,1.2836450345571837,1.2625985300555751,1.3075033678060035]
["影響力係数",null,{"$f":"+C42/AVERAGE($C$42:$AM$42)","v":0.9820094800181961},{"$f":"+D42/AVERAGE($C$42:$AM$42)","v":0.82520546301023145},0.97783578676927285,0.96069213319123781,0.96913448818180548,1.0445623949667049,0.88276648425616888,0.94373644929937206,1.0811598454748497,0.95784770567788691,1.0048646062441857,0.92661798932450912,0.92584062716757609,0.92529273212226315,0.94204105703472873,0.96158079426454923,0.93353203815195085,0.94227188432592757,0.97868438089892962,1.0767823510172361,1.0075648126556975,1.0754841976144198,1.182329240194623,1.1166209473857764,0.9853992994489954,1.0431931709516074,0.97055114172890822,1.1306847748908224,1.0412201576372531,0.99276921848964372,1.0186629106727225,0.98555517118889358,1.0004312975798972,1.0269419464722724,1.0592708950825453,1.0419032045905485,1.07895892201779]

{"sheet":"消費転換率","index":28,"n_rows":55,"n_cols":35,"rows_kept":55,"cut":false,"hidden":false,"merged":[]}
[null,null,null,null,null,null,null,null,null,null,"統計名：","家計調査 家計収支編 二人以上の世帯"]
[null,null,null,null,null,null,null,null,null,null,"表番号：","001"]
[null,null,null,null,null,null,null,null,null,null,"表題：","[用途分類] 用途分類（総数）"]
[null,null,null,null,null,null,null,null,null,null,"実施年月：","-","-"]
[null,"家計調査 家計収支編 二人以上の世帯",null,null,null,null,null,null,null,null,"市区町村時点（年月日）：","-"]
[null,"2020年","横浜市","全国"]
[null,"勤め先収入【円】",{"$f":"+SUMIFS(AD:AD,$P:$P,$B$6)","v":585217},{"$f":"+SUMIFS(U:U,$P:$P,$B$6)","v":536881},null,null,null,null,null,null,"***","調査又は集計していないもの"]
[null,"消費支出【円】",{"$f":"+SUMIFS(AG:AG,$P:$P,$B$6)","v":324083},{"$f":"+SUMIFS(X:X,$P:$P,$B$6)","v":305811},null,null,null,null,null,null,"-","該当数字がないもの"]
[null,"消費転換率",{"$f":"C8/C7","v":0.55378261397054429},{"$f":"D8/D7","v":0.56960667261460174},null,null,null,null,null,null,"X","数値が秘匿されているもの"]
[]
[null,null,null,null,null,null,null,null,null,null,null,null,null,null,null,null,"/地域区分 コード","00000","00000","00000","00000","00000","00000","00000","00000","00000",14003,14003,14003,14003,14003,14003,14003,14003,14003]
[null,null,null,null,null,null,null,null,null,null,null,null,null,null,null,null,"/地域区分","全国","全国","全国","全国","全国","全国","全国","全国","全国","14100 横浜市","14100 横浜市","14100 横浜市","14100 横浜市","14100 横浜市","14100 横浜市","14100 横浜市","14100 横浜市","14100 横浜市"]
[null,null,null,null,null,null,null,null,null,null,null,null,null,null,null,null,"/用途分類 コード","018","019","020","021","057","058","059",233,249,"018","019","020","021","057","058","059",233,249]
[null,null,null,null,null,null,null,null,null,null,"世帯区分（年次－二人以上の世帯） コード","世帯区分（年次－二人以上の世帯）","表章項目 コード","表章項目","時間軸（年次） コード","時間軸（年次）","/用途分類","受取【円】","実収入【円】","経常収入【円】","勤め先収入【円】","支払【円】","実支出【円】","消費支出【円】","可処分所得【円】","平均消費性向【％】","受取【円】","実収入【円】","経常収入【円】","勤め先収入【円】","支払【円】","実支出【円】","消費支出【円】","可処分所得【円】","平均消費性向【％】"]
[null,null,null,null,null,null,null,null,null,null,"04","二人以上の世帯のうち勤労者世帯（2000年～）","01","金額",1985000000,"1985年",null,"-","-","-","-","-","-","-","-","-","-","-","-","-","-","-","-","-","-"]
[null,null,null,null,null,null,null,null,null,null,"04","二人以上の世帯のうち勤労者世帯（2000年～）","01","金額",1986000000,"1986年",null,"-","-","-","-","-","-","-","-","-","-","-","-","-","-","-","-","-","-"]
[null,null,null,null,null,null,null,null,null,null,"04","二人以上の世帯のうち勤労者世帯（2000年～）","01","金額",1987000000,"1987年",null,"-","-","-","-","-","-","-","-","-","-","-","-","-","-","-","-","-","-"]
[null,null,null,null,null,null,null,null,null,null,"04","二人以上の世帯のうち勤労者世帯（2000年～）","01","金額",1988000000,"1988年",null,"-","-","-","-","-","-","-","-","-","-","-","-","-","-","-","-","-","-"]
[null,null,null,null,null,null,null,null,null,null,"04","二人以上の世帯のうち勤労者世帯（2000年～）","01","金額",1989000000,"1989年",null,"-","-","-","-","-","-","-","-","-","-","-","-","-","-","-","-","-","-"]
[null,null,null,null,null,null,null,null,null,null,"04","二人以上の世帯のうち勤労者世帯（2000年～）","01","金額",1990000000,"1990年",null,"-","-","-","-","-","-","-","-","-","-","-","-","-","-","-","-","-","-"]
[null,null,null,null,null,null,null,null,null,null,"04","二人以上の世帯のうち勤労者世帯（2000年～）","01","金額",1991000000,"1991年",null,"-","-","-","-","-","-","-","-","-","-","-","-","-","-","-","-","-","-"]
[null,null,null,null,null,null,null,null,null,null,"04","二人以上の世帯のうち勤労者世帯（2000年～）","01","金額",1992000000,"1992年",null,"-","-","-","-","-","-","-","-","-","-","-","-","-","-","-","-","-","-"]
[null,null,null,null,null,null,null,null,null,null,"04","二人以上の世帯のうち勤労者世帯（2000年～）","01","金額",1993000000,"1993年",null,"-","-","-","-","-","-","-","-","-","-","-","-","-","-","-","-","-","-"]
[null,null,null,null,null,null,null,null,null,null,"04","二人以上の世帯のうち勤労者世帯（2000年～）","01","金額",1994000000,"1994年",null,"-","-","-","-","-","-","-","-","-","-","-","-","-","-","-","-","-","-"]
[null,null,null,null,null,null,null,null,null,null,"04","二人以上の世帯のうち勤労者世帯（2000年～）","01","金額",1995000000,"1995年",null,"-","-","-","-","-","-","-","-","-","-","-","-","-","-","-","-","-","-"]
[null,null,null,null,null,null,null,null,null,null,"04","二人以上の世帯のうち勤労者世帯（2000年～）","01","金額",1996000000,"1996年",null,"-","-","-","-","-","-","-","-","-","-","-","-","-","-","-","-","-","-"]
[null,null,null,null,null,null,null,null,null,null,"04","二人以上の世帯のうち勤労者世帯（2000年～）","01","金額",1997000000,"1997年",null,"-","-","-","-","-","-","-","-","-","-","-","-","-","-","-","-","-","-"]
[null,null,null,null,null,null,null,null,null,null,"04","二人以上の世帯のうち勤労者世帯（2000年～）","01","金額",1998000000,"1998年",null,"-","-","-","-","-","-","-","-","-","-","-","-","-","-","-","-","-","-"]
[null,null,null,null,null,null,null,null,null,null,"04","二人以上の世帯のうち勤労者世帯（2000年～）","01","金額",1999000000,"1999年",null,"-","-","-","-","-","-","-","-","-","-","-","-","-","-","-","-","-","-"]
[null,null,null,null,null,null,null,null,null,null,"04","二人以上の世帯のうち勤労者世帯（2000年～）","01","金額",2000000000,"2000年",null,1047498,562754,552007,527818,1047498,430239,341896,474411,72.099999999999994,1252894,667749,650729,630454,1252894,502631,387986,553103,70.099999999999994]
[null,null,null,null,null,null,null,null,null,null,"04","二人以上の世帯のうち勤労者世帯（2000年～）","01","金額",2001000000,"2001年",null,1042451,552734,542114,515730,1042451,422941,336209,466003,72.099999999999994,1214470,589349,581892,558995,1214470,451038,349747,488058,71.7]
[null,null,null,null,null,null,null,null,null,null,"04","二人以上の世帯のうち勤労者世帯（2000年～）","01","金額",2002000000,"2002年",null,1014822,539924,528146,506126,1014822,417408,331199,453716,73,1058218,557385,549705,530767,1058218,430678,332255,458962,72.400000000000006]
[null,null,null,null,null,null,null,null,null,null,"04","二人以上の世帯のうち勤労者世帯（2000年～）","01","金額",2003000000,"2003年",null,995704,524810,514287,492964,995704,410709,326566,440667,74.099999999999994,1108229,564010,555313,534771,1108229,441233,345015,467792,73.8]
[null,null,null,null,null,null,null,null,null,null,"04","二人以上の世帯のうち勤労者世帯（2000年～）","01","金額",2004000000,"2004年",null,1009611,531690,522313,502248,1009611,417038,331636,446288,74.3,1300972,604631,591788,567358,1300972,487609,381113,498135,76.5]
[null,null,null,null,null,null,null,null,null,null,"04","二人以上の世帯のうち勤労者世帯（2000年～）","01","金額",2005000000,"2005年",null,998810,524585,514628,493829,998810,412928,329499,441156,74.7,1141810,592954,581393,567821,1141810,463748,359714,488920,73.599999999999994]
[null,null,null,null,null,null,null,null,null,null,"04","二人以上の世帯のうち勤労者世帯（2000年～）","01","金額",2006000000,"2006年",null,990162,525719,516469,495003,990162,404502,320231,441448,72.5,1121737,603562,591264,580108,1121737,454804,344298,493055,69.8]
[null,null,null,null,null,null,null,null,null,null,"04","二人以上の世帯のうち勤労者世帯（2000年～）","01","金額",2007000000,"2007年",null,1001977,528762,520246,497395,1001977,409716,323459,442504,73.099999999999994,1100136,548690,540014,513748,1100136,465603,364959,448046,81.5]
[null,null,null,null,null,null,null,null,null,null,"04","二人以上の世帯のうち勤労者世帯（2000年～）","01","金額",2008000000,"2008年",null,1007864,534235,525414,500738,1007864,416415,324929,442749,73.400000000000006,1180672,651399,638436,622810,1180672,469555,340501,522345,65.2]
[null,null,null,null,null,null,null,null,null,null,"04","二人以上の世帯のうち勤労者世帯（2000年～）","01","金額",2009000000,"2009年",null,986493,518226,507574,484940,986493,409374,319060,427912,74.599999999999994,1117117,600170,590751,574804,1117117,456063,345595,489702,70.599999999999994]
[null,null,null,null,null,null,null,null,null,null,"04","二人以上の世帯のうち勤労者世帯（2000年～）","01","金額",2010000000,"2010年",null,990742,520692,512635,485340,990742,409039,318315,429967,74,1065083,553717,545508,524806,1065083,447020,342654,449351,76.3]
[null,null,null,null,null,null,null,null,null,null,"04","二人以上の世帯のうち勤労者世帯（2000年～）","01","金額",2011000000,"2011年",null,963289,510149,502324,473115,963289,398448,308838,420538,73.400000000000006,1058778,563699,556117,533724,1058778,454704,342121,451115,75.8]
[null,null,null,null,null,null,null,null,null,null,"04","二人以上の世帯のうち勤労者世帯（2000年～）","01","金額",2012000000,"2012年",null,980650,518506,510058,479599,980650,407375,313874,425005,73.900000000000006,1047464,546900,538859,512889,1047464,439889,336547,443557,75.900000000000006]
[null,null,null,null,null,null,null,null,null,null,"04","二人以上の世帯のうち勤労者世帯（2000年～）","01","金額",2013000000,"2013年",null,997463,523589,515232,486587,997463,416626,319170,426132,74.900000000000006,1060581,540110,531065,506462,1060581,454789,346486,431807,80.2]
[null,null,null,null,null,null,null,null,null,null,"04","二人以上の世帯のうち勤労者世帯（2000年～）","01","金額",2014000000,"2014年",null,993842,519761,511665,483251,993842,414975,318755,423541,75.3,1044740,513534,507881,484622,1044740,424752,316454,405236,78.099999999999994]
[null,null,null,null,null,null,null,null,null,null,"04","二人以上の世帯のうち勤労者世帯（2000年～）","01","金額",2015000000,"2015年",null,999354,525669,516209,485595,999354,413778,315379,427270,73.8,1025947,513871,507094,486573,1025947,449763,338518,402625,84.1]
[null,null,null,null,null,null,null,null,null,null,"04","二人以上の世帯のうち勤労者世帯（2000年～）","01","金額",2016000000,"2016年",null,993957,526973,518863,487934,993957,407867,309591,428697,72.2,1117451,586015,579658,556978,1117451,478752,341761,449024,76.099999999999994]
[null,null,null,null,null,null,null,null,null,null,"04","二人以上の世帯のうち勤労者世帯（2000年～）","01","金額",2017000000,"2017年",null,1008859,533820,525884,493834,1008859,412462,313057,434415,72.099999999999994,1130064,558407,550018,527536,1130064,488367,362608,432648,83.8]
[null,null,null,null,null,null,null,null,null,null,"04","二人以上の世帯のうち勤労者世帯（2000年～）","01","金額",2018000000,"2018年",null,1046366,558718,549950,512604,1046366,418907,315314,455125,69.3,1046269,564239,555534,526062,1046269,423685,313447,454000,69]
[null,null,null,null,null,null,null,null,null,null,"04","二人以上の世帯のうち勤労者世帯（2000年～）","01","金額",2019000000,"2019年",null,1114844,586149,577067,536305,1114844,433357,323853,476645,67.900000000000006,1172166,611076,605723,560399,1172166,456921,340640,494795,68.8]
[null,null,null,null,null,null,null,null,null,null,"04","二人以上の世帯のうち勤労者世帯（2000年～）","01","金額",2020000000,"2020年",null,1171448,609535,579127,536881,1171448,416707,305811,498639,61.3,1372376,652156,630003,585217,1372376,452655,324083,523583,61.9]
[null,null,null,null,null,null,null,null,null,null,"04","二人以上の世帯のうち勤労者世帯（2000年～）","01","金額",2021000000,"2021年",null,1228279,605316,591462,550973,1228279,422103,309469,492681,62.8,1323916,615511,607154,564183,1323916,445348,325755,495918,65.7]
[null,null,null,null,null,null,null,null,null,null,"04","二人以上の世帯のうち勤労者世帯（2000年～）","01","金額",2022000000,"2022年",null,1243837,617654,604846,564011,1243837,437368,320627,500914,64,1368155,666560,655624,613399,1368155,465296,330698,531963,62.2]
[null,null,null,null,null,null,null,null,null,null,"04","二人以上の世帯のうち勤労者世帯（2000年～）","01","金額",2023000000,"2023年",null,1275832,608182,598050,554801,1275832,432269,318755,494668,64.400000000000006,1610018,672155,663282,624547,1610018,467085,340346,545417,62.4]
[null,null,null,null,null,null,null,null,null,null,"04","二人以上の世帯のうち勤労者世帯（2000年～）","01","金額",2024000000,"2024年",null,1344162,636155,625935,581108,1344162,438723,325137,522569,62.2,1933780,691153,684756,618960,1933780,474297,345750,562606,61.5]
[null,null,null,null,null,null,null,null,null,null,"04","二人以上の世帯のうち勤労者世帯（2000年～）","01","金額",2025000000,"2025年",null,1456848,653901,643280,593761,1456848,467790,346297,532408,65,1699508,700008,695166,646751,1699508,500595,366888,566301,64.8]