Workbook

Sheet 表紙
C2: 【注 意】
C3: ① このファイルは、特別管理産業廃棄物用の法定と自主管理の共通様式です。
C4: 「法定」「自主」は昨年度の実績により、自動入力されます。
C5: ② 様式４と様式５の両方を提出する場合は、先に様式５を入力してください。様式５の情報を様式４へ反映させることができます。
C7: 【手 順】
C8: ① 様式１及び様式５の情報を反映させることができます。
E9: 本ファイルは閉じ、2026form6.xlsmを開き、⑤又は⑥の「事業場情報等の反映」及び「⑦実績値等の反映」をクリックして下さい。
E10: （様式１又は５から反映→提出先、提出者情報、事業場情報、事業の種類、事業規模、様式５から反映→連絡先、令和7年度実績）
C11: ② 表紙シートの黄色、水色のセルで、入力されていないセルを入力あるいは選択してください。
C12: ③ 次に、廃棄物の種類ごとの処理フローを、シート「ア.特管廃油」から順番に各シートに記載してください。
C13: ④ 記載したデータに誤りがないか、別紙（一括表）などを見て再確認をお願いいたします。
C15: ＊ 印刷を行いたい場合は、本ファイルを閉じ、2026form6.xlsmを開き「印刷ボタン（様式４）」をクリックしてください。
C16: 提出に必要な表紙、別紙(一括表）および各フロー図が自動的にプリントされます。
C18: ※マクロが使用できない場合は、本ファイルのシート名「印刷用表紙」「別紙」及び該当する廃棄物のシートを 「ファイル」→「印刷」の手順で印刷をしてください。
C20: 【セル色の説明】
E21: ：セルの右上に▼がある場合、ポインタをそのセルにあわせると、説明文が表示されます
C22: 薄黄色 | E22: ：プルダウン・メニューから選択してください。セルを選択して右側に現れる▼をクリックすると選択肢のリストが出てきます。
C23: 薄水色 | E23: ：内容・データ等を入力してください
C24: 薄橙色 | E24: ：自動処理されるので、変更できません。
C25: 薄黄緑 | E25: ：他様式の情報を反映させることができます。
E26: 直接入力することも可能です。
A28: 14 | P28: ４ | Q28: 法定 | T28: 自主
A29: =+X261 -> 0 | C29: 様式第二号の十三（第八条の十七の二関係） | Q29: =IF($K$90+1E-24>=50,"〇","") -> 〇 | R29: =IF($K$90+1E-21<50,"〇","") | S29: =IF($K$90+1E-21<50,"〇","") | T29: =IF($K$90+1E-21<50,"〇","")
C30: （第１面）
C32: 特別管理産業廃棄物処理計画書
P35: 令和 ８年 ６月 １日
C37: 横浜市長 | G37: 殿
A39: 3 | J39: 提出者
J40: 住 所 | L40: 東京都千代田区内幸町1丁目1番3号
J41: 氏 名 | L41: 東京電力パワーグリッド株式会社 代表取締役社長 金子 禎則
L42: （法人にあっては、名称及び代表者の氏名）
M43: 電話番号 | O43: 03-6373-1111
A46: 4 | C46: 廃棄物の処理及び清掃に関する法律第12条の２第10項の規定に基づき、特別管理産業廃棄物の減量その他その処理に関する計画を作成したので、提出します。
C48: 事業場の名称 | F48: 東京電力パワーグリッド株式会社 旭資材置場 | P48: 自主管理事業登録番号
P49: 新規
C50: 事業場の所在地 | F50: 神奈川県横浜市鶴見区駒岡２－11－１ | N50: ＴＥＬ（連絡先）：
C52: 計画期間 | F52: 令和８ 年 ４ 月 １ 日 ～ 令和 ９年 ３ 月 31 日（ １ 年間）
C53: 当該事業場に関する事項
D54: ① | E54: 事業の種類 | F54: Ｆ－電気・ガス・熱供給・水道業 | L54: (具体的には） | N54: 33-電気業
D55: ② | E55: 事業の規模 | F55: 製造業 | J55: 製造品出荷額 | S55: 百万円
...

Sheet ｱ.特管廃油
R1: ↓ | S1: 注意：前年度の排出量のみでフロー図のデータ①がない場合にも、前年度データを該当欄に入力してください
B2: 特別管理産業廃棄物処理計画書
AO3: ４－２ | AR3: 法定 | AT3: 自主
AR4: =+表紙!Q29 -> 〇 | AT4: =+表紙!T29
B5: 別紙処理フロー | Y5: 事業場名称 | AD5: ： | AE5: =+表紙!F48 -> 東京電力パワーグリッド株式会社 旭資材置場
B6: 令和８年度発生する特別管理産業廃棄物ごとの目標量と処理計画
B7: フローに記載した特別管理産業廃棄物の種類 | D7: ア. 特管廃油
B8: ※ | C8: 本用紙は廃棄物の種類ごとに1枚の記載となります。異なる廃棄物の処理フローは別シートに記載してください。 | AG8: ⑧ | AH8: 自ら中間処理後に再生利用する量
B9: （単位：t/年） | F9: 有償物量 | AD9: ａ残さ物の自己処理 | AM9: ｔ
C11: 不要物等発生量 | F11: ① | G11: 当該事業場における排出量 | L11: Ａ 自己処理 | O11: ② | P11: 自ら直接再生利用する量 | AG11: ⑨ | AH11: 自ら中間処理後に自ら埋立処分又は海洋投入処分する量
F12: =+ROUND(O12,2)+ROUND(O15,2)+ROUND(O18,2)+ROUND(O24,2)+O27-ROUND(F15,2) -> 0 | H12: ｔ | S12: ｔ | AM12: ｔ
F14: ※１ | G14: 自社の他事業場からの搬入量 | O14: ③ | P14: 自ら直接埋立処分する量 | AG14: ※3 | AH14: 自ら中間処理後に自社の他事業場での処理量
H15: ｔ | S15: ｔ | AM15: ｔ | AR15: （目的別内訳）
O16: =+IF(X18=0,"",IF(X18-O18=X18,"エラー！：⑥残さ物量があるのに、④自ら中間処理した量がゼロになっています","")) | AR16: 再生利用前 委託量 | AU16: ｔ
O17: ④ | P17: 自ら中間処理する量 | X17: ⑥ | Y17: 自ら中間処理後の残さ量 | AD17: ｂ残さ物の委託処理 | AG17: ｂ | AH17: 自ら中間処理後の処理委託量 | AN17: ｂ-1 中間処理委託量 | AR17: 最終処分前 委託量 | AU17: ｔ
S18: ｔ | X18: =+ROUND(AG9,2)+ROUND(AG12,2)+ROUND(AG15,2)+AG18 -> 0 | AA18: ｔ | AG18: =+ROUND(AN18,2)+ROUND(AN21,2) -> 0 | AK18: ｔ | AN18: =+ROUND(AT16,2)+ROUND(AT17,2)+ROUND(AT18,2) -> 0 | AO18: ｔ | AR18: 下水等放流前委託量 | AU18: ｔ
B20: 注）右上のフローには、令和８年度の目標量を記載してください。下の表には、令和７年度実績を記載してください。なお、様式５をあわせて提出する場合には、先に様式５を入力し、データ反映・印刷ツールを使用するとこちらに数値が反映されます。 | O20: ⑤ | P20: ④のうち熱回収を行う量 | X20: ⑦ | Y20: 自ら中間処理により減量する量 | AN20: ｂ-2 最終処分委託量
S21: ｔ | X21: =+O18-X18 -> 0 | AA21: ｔ | AO21: ｔ
O22: =+IF(O21=0,"",IF(O18<O21,"エラー !：④の内数である⑤の量が④を超えています",""))
B23: 項 目 | F23: 令和７年度実績 | O23: ※２ | P23: 自社の他事業場での処理量 | AR23: ⑫ | AS23: ⑩のうち再生利用業者への処理委託量
B24: ① 排出量 | F24: 0 | H24: t | S24: ｔ | AR24: =+ROUND(AT16,2)+ROUND(Z28,2) -> 0 | AU24: ｔ
B25: ②＋⑧ 自ら再生利用を行った量 | F25: 0 | H25: t
B26: ⑤ 自ら熱回収を行った量 | F26: 0 | H26: t | L26: Ｂ 直接委託処理 | O26: Ｂ | P26: 直接処理委託量 | AK26: ⑩ | AL26: 直接及び自ら中間処理後の処理委託量 | AR26: ⑬ | AS26: ⑩のうち認定熱回収業者への処理委託量
B27: ⑦ 自ら中間処理により減量した量 | F27: 0 | H27: t | O27: =+Q30+ROUND(Q33,2) -> 0 | S27: ｔ | X27: （目的別内訳） | AK27: =+AG18+O27 -> 0 | AO27: ｔ | AU27: ｔ
B28: ③＋⑨ 自ら埋立処分又は海洋投入処分を行った量 | F28: 0 | H28: t | X28: 再生利用前委託量 | AE28: ｔ | AR28: =+IF(AR27=0,"",IF(AK27<(AR24+AR27+AR31),"エラー !：⑩の内数である（⑫+⑬＋⑭）の量が⑩を超えています",""))
B29: ⑩ 全処理委託量 | F29: 0 | H29: t | Q29: B-1 | R29: 中間処理委託量 | X29: 最終処分前委託量 | AE29: ｔ | AK29: ⑪ | AL29: ⑩のうち優良認定処理業者への処理委託量 | AR29: ⑭ | AS29: ⑩のうち認定熱回収業者以外の熱回収を行う業者への処理委託量
B30: ⑪ 優良認定処理業者への処理委託量 | F30: 0 | H30: t | Q30: =+ROUND(Z28,2)+ROUND(Z29,2)+ROUND(Z30,2) -> 0 | U30: ｔ | X30: 下水等放流前委託量 | AE30: ｔ | AO30: ｔ
B31: ⑫ 再生利用業者への処理委託量 | F31: 0 | H31: t | Z31: 【特別管理産業廃棄物の種類 （ア～チ）】 | AK31: =+IF(AK30=0,"",IF(AK27<AK30,"エラー !：⑩の内数である⑪の量が⑩を超えています","")) | AU31: ｔ
B32: ⑬ 認定熱回収業者への処理委託量 | F32: 0 | H32: t | Q32: B-2 | R32: 最終処分委託量 | Z32: ア. 特管廃油 イ. 特管廃酸 (pH2以下) ウ. 特管廃アルカリ (pH12.5以上) エ. 感染性廃棄物 | AF32: オ. 廃ＰＣＢ等 カ. ＰＣＢ汚染物 キ. ＰＣＢ処理物 ク. 指定下水汚泥 ケ. 有害鉱さい コ. 廃石綿等 | AJ32: サ. 有害ばいじん チ. 廃水銀等 シ. 有害燃え殻 ス. 有害廃油 セ. 有害汚泥 ソ. 有害廃酸 タ. 有害廃アルカリ | AR32: =+IF(AR31=0,"",IF(AK27<(AR24+AR27+AR31),"エラー !：⑩の内数である（⑫+⑬＋⑭）の量が⑩を超えています",""))
B33: ⑭ 認定熱回収業者以外の熱回収を行う業者への処理委託量 | F33: 0 | H33: t | U33: ｔ
C34: =+IF(F30=0,"",IF(F29<F30,"エラー !：上の表は、⑩の内数である⑪の量が⑩を超えています",""))
C35: =+IF(F31=0,"",IF(F29<F31,"エラー !：上の表は、⑩の内数である⑫の量が⑩を超えています",""))
C36: =+IF(F32=0,"",IF(F29<F32,"エラー !：上の表は、⑩の内数である⑬の量が⑩を超えています",""))
C37: =+IF(F33=0,"",IF(F29<F33,"エラー !：上の表は、⑩の内数である⑭の量が⑩を超えています",""))

Sheet ｲ.特管廃酸
R1: ↓ | S1: 注意：前年度の排出量のみでフロー図のデータ①がない場合にも、前年度データを該当欄に入力してください
B2: 特別管理産業廃棄物処理計画書
AO3: ４－２ | AR3: 法定 | AT3: 自主
AR4: =+表紙!Q29 -> 〇 | AT4: =+表紙!T29
B5: 別紙処理フロー | Y5: 事業場名称 | AD5: ： | AE5: =+表紙!F48 -> 東京電力パワーグリッド株式会社 旭資材置場
B6: 令和８年度発生する特別管理産業廃棄物ごとの目標量と処理計画
B7: フローに記載した特別管理産業廃棄物の種類 | D7: イ. 特管廃酸(pH2以下)
B8: ※ | C8: 本用紙は廃棄物の種類ごとに1枚の記載となります。異なる廃棄物の処理フローは別シートに記載してください。 | AG8: ⑧ | AH8: 自ら中間処理後に再生利用する量
B9: （単位：t/年） | F9: 有償物量 | AD9: ａ残さ物の自己処理 | AM9: ｔ
C11: 不要物等発生量 | F11: ① | G11: 当該事業場における排出量 | L11: Ａ 自己処理 | O11: ② | P11: 自ら直接再生利用する量 | AG11: ⑨ | AH11: 自ら中間処理後に自ら埋立処分又は海洋投入処分する量
F12: =+ROUND(O12,2)+ROUND(O15,2)+ROUND(O18,2)+ROUND(O24,2)+O27-ROUND(F15,2) -> 0 | H12: ｔ | S12: ｔ | AM12: ｔ
F14: ※１ | G14: 自社の他事業場からの搬入量 | O14: ③ | P14: 自ら直接埋立処分する量 | AG14: ※3 | AH14: 自ら中間処理後に自社の他事業場での処理量
H15: ｔ | S15: ｔ | AM15: ｔ | AR15: （目的別内訳）
O16: =+IF(X18=0,"",IF(X18-O18=X18,"エラー！：⑥残さ物量があるのに、④自ら中間処理した量がゼロになっています","")) | AR16: 再生利用前委託量 | AU16: ｔ
O17: ④ | P17: 自ら中間処理する量 | X17: ⑥ | Y17: 自ら中間処理後の残さ量 | AD17: ｂ残さ物の委託処理 | AG17: ｂ | AH17: 自ら中間処理後の処理委託量 | AN17: ｂ-1 中間処理委託量 | AR17: 最終処分前 委託量 | AU17: ｔ
S18: ｔ | X18: =+ROUND(AG9,2)+ROUND(AG12,2)+ROUND(AG15,2)+AG18 -> 0 | AA18: ｔ | AG18: =+ROUND(AN18,2)+ROUND(AN21,2) -> 0 | AK18: ｔ | AN18: =+ROUND(AT16,2)+ROUND(AT17,2)+ROUND(AT18,2) -> 0 | AO18: ｔ | AR18: 下水等放流前委託量 | AU18: ｔ
B20: 注）右上のフローには、令和８年度の目標量を記載してください。下の表には、令和７年度実績を記載してください。なお、様式５をあわせて提出する場合には、先に様式５を入力し、データ反映・印刷ツールを使用するとこちらに数値が反映されます。 | O20: ⑤ | P20: ④のうち熱回収を行う量 | X20: ⑦ | Y20: 自ら中間処理により減量する量 | AN20: ｂ-2 最終処分委託量
S21: ｔ | X21: =+O18-X18 -> 0 | AA21: ｔ | AO21: ｔ
O22: =+IF(O21=0,"",IF(O18<O21,"エラー !：④の内数である⑤の量が④を超えています",""))
B23: 項 目 | F23: 令和７年度実績 | O23: ※２ | P23: 自社の他事業場での処理量 | AR23: ⑫ | AS23: ⑩のうち再生利用業者への処理委託量
B24: ① 排出量 | F24: 0 | H24: t | S24: ｔ | AR24: =+ROUND(AT16,2)+ROUND(Z28,2) -> 0 | AU24: ｔ
B25: ②＋⑧ 自ら再生利用を行った量 | F25: 0 | H25: t
B26: ⑤ 自ら熱回収を行った量 | F26: 0 | H26: t | L26: Ｂ 直接委託処理 | O26: Ｂ | P26: 直接処理委託量 | AK26: ⑩ | AL26: 直接及び自ら中間処理後の処理委託量 | AR26: ⑬ | AS26: ⑩のうち認定熱回収業者への処理委託量
B27: ⑦ 自ら中間処理により減量した量 | F27: 0 | H27: t | O27: =+Q30+ROUND(Q33,2) -> 0 | S27: ｔ | X27: （目的別内訳） | AK27: =+AG18+O27 -> 0 | AO27: ｔ | AU27: ｔ
B28: ③＋⑨ 自ら埋立処分又は海洋投入処分を行った量 | F28: 0 | H28: t | X28: 再生利用前委託量 | AE28: ｔ | AR28: =+IF(AR27=0,"",IF(AK27<(AR24+AR27+AR31),"エラー !：⑩の内数である（⑫+⑬＋⑭）の量が⑩を超えています",""))
B29: ⑩ 全処理委託量 | F29: 0 | H29: t | Q29: B-1 | R29: 中間処理委託量 | X29: 最終処分前委託量 | AE29: ｔ | AK29: ⑪ | AL29: ⑩のうち優良認定処理業者への処理委託量 | AR29: ⑭ | AS29: ⑩のうち認定熱回収業者以外の熱回収を行う業者への処理委託量
B30: ⑪ 優良認定処理業者への処理委託量 | F30: 0 | H30: t | Q30: =+ROUND(Z28,2)+ROUND(Z29,2)+ROUND(Z30,2) -> 0 | U30: ｔ | X30: 下水等放流前委託量 | AE30: ｔ | AO30: ｔ
B31: ⑫ 再生利用業者への処理委託量 | F31: 0 | H31: t | Z31: 【特別管理産業廃棄物の種類 （ア～チ）】 | AK31: =+IF(AK30=0,"",IF(AK27<AK30,"エラー !：⑩の内数である⑪の量が⑩を超えています","")) | AU31: ｔ
B32: ⑬ 認定熱回収業者への処理委託量 | F32: 0 | H32: t | Q32: B-2 | R32: 最終処分委託量 | Z32: ア. 特管廃油 イ. 特管廃酸 (pH2以下) ウ. 特管廃アルカリ (pH12.5以上) エ. 感染性廃棄物 | AF32: オ. 廃ＰＣＢ等 カ. ＰＣＢ汚染物 キ. ＰＣＢ処理物 ク. 指定下水汚泥 ケ. 有害鉱さい コ. 廃石綿等 | AJ32: サ. 有害ばいじん チ. 廃水銀等 シ. 有害燃え殻 ス. 有害廃油 セ. 有害汚泥 ソ. 有害廃酸 タ. 有害廃アルカリ | AR32: =+IF(AR31=0,"",IF(AK27<(AR24+AR27+AR31),"エラー !：⑩の内数である（⑫+⑬＋⑭）の量が⑩を超えています",""))
B33: ⑭ 認定熱回収業者以外の熱回収を行う業者への処理委託量 | F33: 0 | H33: t | U33: ｔ
C34: =+IF(F30=0,"",IF(F29<F30,"エラー !：上の表は、⑩の内数である⑪の量が⑩を超えています",""))
C35: =+IF(F31=0,"",IF(F29<F31,"エラー !：上の表は、⑩の内数である⑫の量が⑩を超えています",""))
C36: =+IF(F32=0,"",IF(F29<F32,"エラー !：上の表は、⑩の内数である⑬の量が⑩を超えています",""))
C37: =+IF(F33=0,"",IF(F29<F33,"エラー !：上の表は、⑩の内数である⑭の量が⑩を超えています",""))

Sheet ｳ.特管廃ｱﾙｶﾘ
R1: ↓ | S1: 注意：前年度の排出量のみでフロー図のデータ①がない場合にも、前年度データを該当欄に入力してください
B2: 特別管理産業廃棄物処理計画書
AO3: ４－２ | AR3: 法定 | AT3: 自主
AR4: =+表紙!Q29 -> 〇 | AT4: =+表紙!T29
B5: 別紙処理フロー | Y5: 事業場名称 | AD5: ： | AE5: =+表紙!F48 -> 東京電力パワーグリッド株式会社 旭資材置場
B6: 令和８年度発生する特別管理産業廃棄物ごとの目標量と処理計画
B7: フローに記載した特別管理産業廃棄物の種類 | D7: ウ. 特管廃アルカリ (pH12.5以上)
B8: ※ | C8: 本用紙は廃棄物の種類ごとに1枚の記載となります。異なる廃棄物の処理フローは別シートに記載してください。 | AG8: ⑧ | AH8: 自ら中間処理後に再生利用する量
B9: （単位：t/年） | F9: 有償物量 | AD9: ａ残さ物の自己処理 | AM9: ｔ
C11: 不要物等発生量 | F11: ① | G11: 当該事業場における排出量 | L11: Ａ 自己処理 | O11: ② | P11: 自ら直接再生利用する量 | AG11: ⑨ | AH11: 自ら中間処理後に自ら埋立処分又は海洋投入処分する量
F12: =+ROUND(O12,2)+ROUND(O15,2)+ROUND(O18,2)+ROUND(O24,2)+O27-ROUND(F15,2) -> 0 | H12: ｔ | S12: ｔ | AM12: ｔ
F14: ※１ | G14: 自社の他事業場からの搬入量 | O14: ③ | P14: 自ら直接埋立処分する量 | AG14: ※3 | AH14: 自ら中間処理後に自社の他事業場での処理量
H15: ｔ | S15: ｔ | AM15: ｔ | AR15: （目的別内訳）
O16: =+IF(X18=0,"",IF(X18-O18=X18,"エラー！：⑥残さ物量があるのに、④自ら中間処理した量がゼロになっています","")) | AR16: 再生利用前委託量 | AU16: ｔ
O17: ④ | P17: 自ら中間処理する量 | X17: ⑥ | Y17: 自ら中間処理後の残さ量 | AD17: ｂ残さ物の委託処理 | AG17: ｂ | AH17: 自ら中間処理後の処理委託量 | AN17: ｂ-1 中間処理委託量 | AR17: 最終処分前 委託量 | AU17: ｔ
S18: ｔ | X18: =+ROUND(AG9,2)+ROUND(AG12,2)+ROUND(AG15,2)+AG18 -> 0 | AA18: ｔ | AG18: =+ROUND(AN18,2)+ROUND(AN21,2) -> 0 | AK18: ｔ | AN18: =+ROUND(AT16,2)+ROUND(AT17,2)+ROUND(AT18,2) -> 0 | AO18: ｔ | AR18: 下水等放流前委託量 | AU18: ｔ
B20: 注）右上のフローには、令和８年度の目標量を記載してください。下の表には、令和７年度実績を記載してください。なお、様式５をあわせて提出する場合には、先に様式５を入力し、データ反映・印刷ツールを使用するとこちらに数値が反映されます。 | O20: ⑤ | P20: ④のうち熱回収を行う量 | X20: ⑦ | Y20: 自ら中間処理により減量する量 | AN20: ｂ-2 最終処分委託量
S21: ｔ | X21: =+O18-X18 -> 0 | AA21: ｔ | AO21: ｔ
O22: =+IF(O21=0,"",IF(O18<O21,"エラー !：④の内数である⑤の量が④を超えています",""))
B23: 項 目 | F23: 令和７年度実績 | O23: ※２ | P23: 自社の他事業場での処理量 | AR23: ⑫ | AS23: ⑩のうち再生利用業者への処理委託量
B24: ① 排出量 | F24: 0 | H24: t | S24: ｔ | AR24: =+ROUND(AT16,2)+ROUND(Z28,2) -> 0 | AU24: ｔ
B25: ②＋⑧ 自ら再生利用を行った量 | F25: 0 | H25: t
B26: ⑤ 自ら熱回収を行った量 | F26: 0 | H26: t | L26: Ｂ 直接委託処理 | O26: Ｂ | P26: 直接処理委託量 | AK26: ⑩ | AL26: 直接及び自ら中間処理後の処理委託量 | AR26: ⑬ | AS26: ⑩のうち認定熱回収業者への処理委託量
B27: ⑦ 自ら中間処理により減量した量 | F27: 0 | H27: t | O27: =+Q30+ROUND(Q33,2) -> 0 | S27: ｔ | X27: （目的別内訳） | AK27: =+AG18+O27 -> 0 | AO27: ｔ | AU27: ｔ
B28: ③＋⑨ 自ら埋立処分又は海洋投入処分を行った量 | F28: 0 | H28: t | X28: 再生利用前委託量 | AE28: ｔ | AR28: =+IF(AR27=0,"",IF(AK27<(AR24+AR27+AR31),"エラー !：⑩の内数である（⑫+⑬＋⑭）の量が⑩を超えています",""))
B29: ⑩ 全処理委託量 | F29: 0 | H29: t | Q29: B-1 | R29: 中間処理委託量 | X29: 最終処分前委託量 | AE29: ｔ | AK29: ⑪ | AL29: ⑩のうち優良認定処理業者への処理委託量 | AR29: ⑭ | AS29: ⑩のうち認定熱回収業者以外の熱回収を行う業者への処理委託量
B30: ⑪ 優良認定処理業者への処理委託量 | F30: 0 | H30: t | Q30: =+ROUND(Z28,2)+ROUND(Z29,2)+ROUND(Z30,2) -> 0 | U30: ｔ | X30: 下水等放流前委託量 | AE30: ｔ | AO30: ｔ
B31: ⑫ 再生利用業者への処理委託量 | F31: 0 | H31: t | Z31: 【特別管理産業廃棄物の種類 （ア～チ）】 | AK31: =+IF(AK30=0,"",IF(AK27<AK30,"エラー !：⑩の内数である⑪の量が⑩を超えています","")) | AU31: ｔ
B32: ⑬ 認定熱回収業者への処理委託量 | F32: 0 | H32: t | Q32: B-2 | R32: 最終処分委託量 | Z32: ア. 特管廃油 イ. 特管廃酸 (pH2以下) ウ. 特管廃アルカリ (pH12.5以上) エ. 感染性廃棄物 | AF32: オ. 廃ＰＣＢ等 カ. ＰＣＢ汚染物 キ. ＰＣＢ処理物 ク. 指定下水汚泥 ケ. 有害鉱さい コ. 廃石綿等 | AJ32: サ. 有害ばいじん チ. 廃水銀等 シ. 有害燃え殻 ス. 有害廃油 セ. 有害汚泥 ソ. 有害廃酸 タ. 有害廃アルカリ | AR32: =+IF(AR31=0,"",IF(AK27<(AR24+AR27+AR31),"エラー !：⑩の内数である（⑫+⑬＋⑭）の量が⑩を超えています",""))
B33: ⑭ 認定熱回収業者以外の熱回収を行う業者への処理委託量 | F33: 0 | H33: t | U33: ｔ
C34: =+IF(F30=0,"",IF(F29<F30,"エラー !：上の表は、⑩の内数である⑪の量が⑩を超えています",""))
C35: =+IF(F31=0,"",IF(F29<F31,"エラー !：上の表は、⑩の内数である⑫の量が⑩を超えています",""))
C36: =+IF(F32=0,"",IF(F29<F32,"エラー !：上の表は、⑩の内数である⑬の量が⑩を超えています",""))
C37: =+IF(F33=0,"",IF(F29<F33,"エラー !：上の表は、⑩の内数である⑭の量が⑩を超えています",""))

Sheet ｴ.感染性廃棄物
R1: ↓ | S1: 注意：前年度の排出量のみでフロー図のデータ①がない場合にも、前年度データを該当欄に入力してください
B2: 特別管理産業廃棄物処理計画書
AO3: ４－２ | AR3: 法定 | AT3: 自主
AR4: =+表紙!Q29 -> 〇 | AT4: =+表紙!T29
B5: 別紙処理フロー | Y5: 事業場名称 | AD5: ： | AE5: =+表紙!F48 -> 東京電力パワーグリッド株式会社 旭資材置場
B6: 令和８年度発生する特別管理産業廃棄物ごとの目標量と処理計画
B7: フローに記載した特別管理産業廃棄物の種類 | D7: エ. 感染性廃棄物
B8: ※ | C8: 本用紙は廃棄物の種類ごとに1枚の記載となります。異なる廃棄物の処理フローは別シートに記載してください。 | AG8: ⑧ | AH8: 自ら中間処理後に再生利用する量
B9: （単位：t/年） | F9: 有償物量 | AD9: ａ残さ物の自己処理 | AM9: ｔ
C11: 不要物等発生量 | F11: ① | G11: 当該事業場における排出量 | L11: Ａ 自己処理 | O11: ② | P11: 自ら直接再生利用する量 | AG11: ⑨ | AH11: 自ら中間処理後に自ら埋立処分又は海洋投入処分する量
F12: =+ROUND(O12,2)+ROUND(O15,2)+ROUND(O18,2)+ROUND(O24,2)+O27-ROUND(F15,2) -> 0 | H12: ｔ | S12: ｔ | AM12: ｔ
F14: ※１ | G14: 自社の他事業場からの搬入量 | O14: ③ | P14: 自ら直接埋立処分する量 | AG14: ※3 | AH14: 自ら中間処理後に自社の他事業場での処理量
H15: ｔ | S15: ｔ | AM15: ｔ | AR15: （目的別内訳）
O16: =+IF(X18=0,"",IF(X18-O18=X18,"エラー！：⑥残さ物量があるのに、④自ら中間処理した量がゼロになっています","")) | AR16: 再生利用前委託量 | AU16: ｔ
O17: ④ | P17: 自ら中間処理する量 | X17: ⑥ | Y17: 自ら中間処理後の残さ量 | AD17: ｂ残さ物の委託処理 | AG17: ｂ | AH17: 自ら中間処理後の処理委託量 | AN17: ｂ-1 中間処理委託量 | AR17: 最終処分前 委託量 | AU17: ｔ
S18: ｔ | X18: =+ROUND(AG9,2)+ROUND(AG12,2)+ROUND(AG15,2)+AG18 -> 0 | AA18: ｔ | AG18: =+ROUND(AN18,2)+ROUND(AN21,2) -> 0 | AK18: ｔ | AN18: =+ROUND(AT16,2)+ROUND(AT17,2)+ROUND(AT18,2) -> 0 | AO18: ｔ | AR18: 下水等放流前委託量 | AU18: ｔ
B20: 注）右上のフローには、令和８年度の目標量を記載してください。下の表には、令和７年度実績を記載してください。なお、様式５をあわせて提出する場合には、先に様式５を入力し、データ反映・印刷ツールを使用するとこちらに数値が反映されます。 | O20: ⑤ | P20: ④のうち熱回収を行う量 | X20: ⑦ | Y20: 自ら中間処理により減量する量 | AN20: ｂ-2 最終処分委託量
S21: ｔ | X21: =+O18-X18 -> 0 | AA21: ｔ | AO21: ｔ
O22: =+IF(O21=0,"",IF(O18<O21,"エラー !：④の内数である⑤の量が④を超えています",""))
B23: 項 目 | F23: 令和７年度実績 | O23: ※２ | P23: 自社の他事業場での処理量 | AR23: ⑫ | AS23: ⑩のうち再生利用業者への処理委託量
B24: ① 排出量 | F24: 0 | H24: t | S24: ｔ | AR24: =+ROUND(AT16,2)+ROUND(Z28,2) -> 0 | AU24: ｔ
B25: ②＋⑧ 自ら再生利用を行った量 | F25: 0 | H25: t
B26: ⑤ 自ら熱回収を行った量 | F26: 0 | H26: t | L26: Ｂ 直接委託処理 | O26: Ｂ | P26: 直接処理委託量 | AK26: ⑩ | AL26: 直接及び自ら中間処理後の処理委託量 | AR26: ⑬ | AS26: ⑩のうち認定熱回収業者への処理委託量
B27: ⑦ 自ら中間処理により減量した量 | F27: 0 | H27: t | O27: =+Q30+ROUND(Q33,2) -> 0 | S27: ｔ | X27: （目的別内訳） | AK27: =+AG18+O27 -> 0 | AO27: ｔ | AU27: ｔ
B28: ③＋⑨ 自ら埋立処分又は海洋投入処分を行った量 | F28: 0 | H28: t | X28: 再生利用前委託量 | AE28: ｔ | AR28: =+IF(AR27=0,"",IF(AK27<(AR24+AR27+AR31),"エラー !：⑩の内数である（⑫+⑬＋⑭）の量が⑩を超えています",""))
B29: ⑩ 全処理委託量 | F29: 0 | H29: t | Q29: B-1 | R29: 中間処理委託量 | X29: 最終処分前委託量 | AE29: ｔ | AK29: ⑪ | AL29: ⑩のうち優良認定処理業者への処理委託量 | AR29: ⑭ | AS29: ⑩のうち認定熱回収業者以外の熱回収を行う業者への処理委託量
B30: ⑪ 優良認定処理業者への処理委託量 | F30: 0 | H30: t | Q30: =+ROUND(Z28,2)+ROUND(Z29,2)+ROUND(Z30,2) -> 0 | U30: ｔ | X30: 下水等放流前委託量 | AE30: ｔ | AO30: ｔ
B31: ⑫ 再生利用業者への処理委託量 | F31: 0 | H31: t | Z31: 【特別管理産業廃棄物の種類 （ア～チ）】 | AK31: =+IF(AK30=0,"",IF(AK27<AK30,"エラー !：⑩の内数である⑪の量が⑩を超えています","")) | AU31: ｔ
B32: ⑬ 認定熱回収業者への処理委託量 | F32: 0 | H32: t | Q32: B-2 | R32: 最終処分委託量 | Z32: ア. 特管廃油 イ. 特管廃酸 (pH2以下) ウ. 特管廃アルカリ (pH12.5以上) エ. 感染性廃棄物 | AF32: オ. 廃ＰＣＢ等 カ. ＰＣＢ汚染物 キ. ＰＣＢ処理物 ク. 指定下水汚泥 ケ. 有害鉱さい コ. 廃石綿等 | AJ32: サ. 有害ばいじん チ. 廃水銀等 シ. 有害燃え殻 ス. 有害廃油 セ. 有害汚泥 ソ. 有害廃酸 タ. 有害廃アルカリ | AR32: =+IF(AR31=0,"",IF(AK27<(AR24+AR27+AR31),"エラー !：⑩の内数である（⑫+⑬＋⑭）の量が⑩を超えています",""))
B33: ⑭ 認定熱回収業者以外の熱回収を行う業者への処理委託量 | F33: 0 | H33: t | U33: ｔ
C34: =+IF(F30=0,"",IF(F29<F30,"エラー !：上の表は、⑩の内数である⑪の量が⑩を超えています",""))
C35: =+IF(F31=0,"",IF(F29<F31,"エラー !：上の表は、⑩の内数である⑫の量が⑩を超えています",""))
C36: =+IF(F32=0,"",IF(F29<F32,"エラー !：上の表は、⑩の内数である⑬の量が⑩を超えています",""))
C37: =+IF(F33=0,"",IF(F29<F33,"エラー !：上の表は、⑩の内数である⑭の量が⑩を超えています",""))

Sheet ｵ.廃PCB等
R1: ↓ | S1: 注意：前年度の排出量のみでフロー図のデータ①がない場合にも、前年度データを該当欄に入力してください
B2: 特別管理産業廃棄物処理計画書
AO3: ４－２ | AR3: 法定 | AT3: 自主
AR4: =+表紙!Q29 -> 〇 | AT4: =+表紙!T29
B5: 別紙処理フロー | Y5: 事業場名称 | AD5: ： | AE5: =+表紙!F48 -> 東京電力パワーグリッド株式会社 旭資材置場
B6: 令和８年度発生する特別管理産業廃棄物ごとの目標量と処理計画
B7: フローに記載した特別管理産業廃棄物の種類 | D7: オ. 廃PCB等
B8: ※ | C8: 本用紙は廃棄物の種類ごとに1枚の記載となります。異なる廃棄物の処理フローは別シートに記載してください。 | AG8: ⑧ | AH8: 自ら中間処理後に再生利用する量
B9: （単位：t/年） | F9: 有償物量 | AD9: ａ残さ物の自己処理 | AM9: ｔ
C11: 不要物等発生量 | F11: ① | G11: 当該事業場における排出量 | L11: Ａ 自己処理 | O11: ② | P11: 自ら直接再生利用する量 | AG11: ⑨ | AH11: 自ら中間処理後に自ら埋立処分又は海洋投入処分する量
F12: =+ROUND(O12,2)+ROUND(O15,2)+ROUND(O18,2)+ROUND(O24,2)+O27-ROUND(F15,2) -> 0 | H12: ｔ | S12: ｔ | AM12: ｔ
F14: ※１ | G14: 自社の他事業場からの搬入量 | O14: ③ | P14: 自ら直接埋立処分する量 | AG14: ※3 | AH14: 自ら中間処理後に自社の他事業場での処理量
H15: ｔ | S15: ｔ | AM15: ｔ | AR15: （目的別内訳）
O16: =+IF(X18=0,"",IF(X18-O18=X18,"エラー！：⑥残さ物量があるのに、④自ら中間処理した量がゼロになっています","")) | AR16: 再生利用前委託量 | AU16: ｔ
O17: ④ | P17: 自ら中間処理する量 | X17: ⑥ | Y17: 自ら中間処理後の残さ量 | AD17: ｂ残さ物の委託処理 | AG17: ｂ | AH17: 自ら中間処理後の処理委託量 | AN17: ｂ-1 中間処理委託量 | AR17: 最終処分前 委託量 | AU17: ｔ
S18: ｔ | X18: =+ROUND(AG9,2)+ROUND(AG12,2)+ROUND(AG15,2)+AG18 -> 0 | AA18: ｔ | AG18: =+ROUND(AN18,2)+ROUND(AN21,2) -> 0 | AK18: ｔ | AN18: =+ROUND(AT16,2)+ROUND(AT17,2)+ROUND(AT18,2) -> 0 | AO18: ｔ | AR18: 下水等放流前委託量 | AU18: ｔ
B20: 注）右上のフローには、令和８年度の目標量を記載してください。下の表には、令和７年度実績を記載してください。なお、様式５をあわせて提出する場合には、先に様式５を入力し、データ反映・印刷ツールを使用するとこちらに数値が反映されます。 | O20: ⑤ | P20: ④のうち熱回収を行う量 | X20: ⑦ | Y20: 自ら中間処理により減量する量 | AN20: ｂ-2 最終処分委託量
S21: ｔ | X21: =+O18-X18 -> 0 | AA21: ｔ | AO21: ｔ
O22: =+IF(O21=0,"",IF(O18<O21,"エラー !：④の内数である⑤の量が④を超えています",""))
B23: 項 目 | F23: 令和７年度実績 | O23: ※２ | P23: 自社の他事業場での処理量 | AR23: ⑫ | AS23: ⑩のうち再生利用業者への処理委託量
B24: ① 排出量 | F24: 0 | H24: t | S24: ｔ | AR24: =+ROUND(AT16,2)+ROUND(Z28,2) -> 0 | AU24: ｔ
B25: ②＋⑧ 自ら再生利用を行った量 | F25: 0 | H25: t
B26: ⑤ 自ら熱回収を行った量 | F26: 0 | H26: t | L26: Ｂ 直接委託処理 | O26: Ｂ | P26: 直接処理委託量 | AK26: ⑩ | AL26: 直接及び自ら中間処理後の処理委託量 | AR26: ⑬ | AS26: ⑩のうち認定熱回収業者への処理委託量
B27: ⑦ 自ら中間処理により減量した量 | F27: 0 | H27: t | O27: =+Q30+ROUND(Q33,2) -> 0 | S27: ｔ | X27: （目的別内訳） | AK27: =+AG18+O27 -> 0 | AO27: ｔ | AU27: ｔ
B28: ③＋⑨ 自ら埋立処分又は海洋投入処分を行った量 | F28: 0 | H28: t | X28: 再生利用前委託量 | AE28: ｔ | AR28: =+IF(AR27=0,"",IF(AK27<(AR24+AR27+AR31),"エラー !：⑩の内数である（⑫+⑬＋⑭）の量が⑩を超えています",""))
B29: ⑩ 全処理委託量 | F29: 0 | H29: t | Q29: B-1 | R29: 中間処理委託量 | X29: 最終処分前委託量 | AE29: ｔ | AK29: ⑪ | AL29: ⑩のうち優良認定処理業者への処理委託量 | AR29: ⑭ | AS29: ⑩のうち認定熱回収業者以外の熱回収を行う業者への処理委託量
B30: ⑪ 優良認定処理業者への処理委託量 | F30: 0 | H30: t | Q30: =+ROUND(Z28,2)+ROUND(Z29,2)+ROUND(Z30,2) -> 0 | U30: ｔ | X30: 下水等放流前委託量 | AE30: ｔ | AO30: ｔ
B31: ⑫ 再生利用業者への処理委託量 | F31: 0 | H31: t | Z31: 【特別管理産業廃棄物の種類 （ア～チ）】 | AK31: =+IF(AK30=0,"",IF(AK27<AK30,"エラー !：⑩の内数である⑪の量が⑩を超えています","")) | AU31: ｔ
B32: ⑬ 認定熱回収業者への処理委託量 | F32: 0 | H32: t | Q32: B-2 | R32: 最終処分委託量 | Z32: ア. 特管廃油 イ. 特管廃酸 (pH2以下) ウ. 特管廃アルカリ (pH12.5以上) エ. 感染性廃棄物 | AF32: オ. 廃ＰＣＢ等 カ. ＰＣＢ汚染物 キ. ＰＣＢ処理物 ク. 指定下水汚泥 ケ. 有害鉱さい コ. 廃石綿等 | AJ32: サ. 有害ばいじん チ. 廃水銀等 シ. 有害燃え殻 ス. 有害廃油 セ. 有害汚泥 ソ. 有害廃酸 タ. 有害廃アルカリ | AR32: =+IF(AR31=0,"",IF(AK27<(AR24+AR27+AR31),"エラー !：⑩の内数である（⑫+⑬＋⑭）の量が⑩を超えています",""))
B33: ⑭ 認定熱回収業者以外の熱回収を行う業者への処理委託量 | F33: 0 | H33: t | U33: ｔ
C34: =+IF(F30=0,"",IF(F29<F30,"エラー !：上の表は、⑩の内数である⑪の量が⑩を超えています",""))
C35: =+IF(F31=0,"",IF(F29<F31,"エラー !：上の表は、⑩の内数である⑫の量が⑩を超えています",""))
C36: =+IF(F32=0,"",IF(F29<F32,"エラー !：上の表は、⑩の内数である⑬の量が⑩を超えています",""))
C37: =+IF(F33=0,"",IF(F29<F33,"エラー !：上の表は、⑩の内数である⑭の量が⑩を超えています",""))

Sheet ｶ.PCB汚染物
R1: ↓ | S1: 注意：前年度の排出量のみでフロー図のデータ①がない場合にも、前年度データを該当欄に入力してください
B2: 特別管理産業廃棄物処理計画書
AO3: ４－２ | AR3: 法定 | AT3: 自主
AR4: =+表紙!Q29 -> 〇 | AT4: =+表紙!T29
B5: 別紙処理フロー | Y5: 事業場名称 | AD5: ： | AE5: =+表紙!F48 -> 東京電力パワーグリッド株式会社 旭資材置場
B6: 令和８年度発生する特別管理産業廃棄物ごとの目標量と処理計画
B7: フローに記載した特別管理産業廃棄物の種類 | D7: カ. PCB汚染物
B8: ※ | C8: 本用紙は廃棄物の種類ごとに1枚の記載となります。異なる廃棄物の処理フローは別シートに記載してください。 | AG8: ⑧ | AH8: 自ら中間処理後に再生利用する量
B9: （単位：t/年） | F9: 有償物量 | AD9: ａ残さ物の自己処理 | AM9: ｔ
C11: 不要物等発生量 | F11: ① | G11: 当該事業場における排出量 | L11: Ａ 自己処理 | O11: ② | P11: 自ら直接再生利用する量 | AG11: ⑨ | AH11: 自ら中間処理後に自ら埋立処分又は海洋投入処分する量
F12: =+ROUND(O12,2)+ROUND(O15,2)+ROUND(O18,2)+ROUND(O24,2)+O27-ROUND(F15,2) -> 0 | H12: ｔ | S12: ｔ | AM12: ｔ
F14: ※１ | G14: 自社の他事業場からの搬入量 | O14: ③ | P14: 自ら直接埋立処分する量 | AG14: ※3 | AH14: 自ら中間処理後に自社の他事業場での処理量
H15: ｔ | S15: ｔ | AM15: ｔ | AR15: （目的別内訳）
O16: =+IF(X18=0,"",IF(X18-O18=X18,"エラー！：⑥残さ物量があるのに、④自ら中間処理した量がゼロになっています","")) | AR16: 再生利用前委託量 | AU16: ｔ
O17: ④ | P17: 自ら中間処理する量 | X17: ⑥ | Y17: 自ら中間処理後の残さ量 | AD17: ｂ残さ物の委託処理 | AG17: ｂ | AH17: 自ら中間処理後の処理委託量 | AN17: ｂ-1 中間処理委託量 | AR17: 最終処分前 委託量 | AU17: ｔ
S18: ｔ | X18: =+ROUND(AG9,2)+ROUND(AG12,2)+ROUND(AG15,2)+AG18 -> 0 | AA18: ｔ | AG18: =+ROUND(AN18,2)+ROUND(AN21,2) -> 0 | AK18: ｔ | AN18: =+ROUND(AT16,2)+ROUND(AT17,2)+ROUND(AT18,2) -> 0 | AO18: ｔ | AR18: 下水等放流前委託量 | AU18: ｔ
B20: 注）右上のフローには、令和８年度の目標量を記載してください。下の表には、令和７年度実績を記載してください。なお、様式５をあわせて提出する場合には、先に様式５を入力し、データ反映・印刷ツールを使用するとこちらに数値が反映されます。 | O20: ⑤ | P20: ④のうち熱回収を行う量 | X20: ⑦ | Y20: 自ら中間処理により減量する量 | AN20: ｂ-2 最終処分委託量
S21: ｔ | X21: =+O18-X18 -> 0 | AA21: ｔ | AO21: ｔ
O22: =+IF(O21=0,"",IF(O18<O21,"エラー !：④の内数である⑤の量が④を超えています",""))
B23: 項 目 | F23: 令和７年度実績 | O23: ※２ | P23: 自社の他事業場での処理量 | AR23: ⑫ | AS23: ⑩のうち再生利用業者への処理委託量
B24: ① 排出量 | F24: 392.85 | H24: t | S24: ｔ | AR24: =+ROUND(AT16,2)+ROUND(Z28,2) -> 0 | AU24: ｔ
B25: ②＋⑧ 自ら再生利用を行った量 | F25: 0 | H25: t
B26: ⑤ 自ら熱回収を行った量 | F26: 0 | H26: t | L26: Ｂ 直接委託処理 | O26: Ｂ | P26: 直接処理委託量 | AK26: ⑩ | AL26: 直接及び自ら中間処理後の処理委託量 | AR26: ⑬ | AS26: ⑩のうち認定熱回収業者への処理委託量
B27: ⑦ 自ら中間処理により減量した量 | F27: 0 | H27: t | O27: =+Q30+ROUND(Q33,2) -> 0 | S27: ｔ | X27: （目的別内訳） | AK27: =+AG18+O27 -> 0 | AO27: ｔ | AR27: 0 | AU27: ｔ
B28: ③＋⑨ 自ら埋立処分又は海洋投入処分を行った量 | F28: 0 | H28: t | X28: 再生利用前委託量 | Z28: 0 | AE28: ｔ | AR28: =+IF(AR27=0,"",IF(AK27<(AR24+AR27+AR31),"エラー !：⑩の内数である（⑫+⑬＋⑭）の量が⑩を超えています",""))
B29: ⑩ 全処理委託量 | F29: 372.35 | H29: t | Q29: B-1 | R29: 中間処理委託量 | X29: 最終処分前委託量 | AE29: ｔ | AK29: ⑪ | AL29: ⑩のうち優良認定処理業者への処理委託量 | AR29: ⑭ | AS29: ⑩のうち認定熱回収業者以外の熱回収を行う業者への処理委託量
B30: ⑪ 優良認定処理業者への処理委託量 | F30: 372.35 | H30: t | Q30: =+ROUND(Z28,2)+ROUND(Z29,2)+ROUND(Z30,2) -> 0 | U30: ｔ | X30: 下水等放流前委託量 | AE30: ｔ | AK30: 0 | AO30: ｔ
B31: ⑫ 再生利用業者への処理委託量 | F31: 372.35 | H31: t | Z31: 【特別管理産業廃棄物の種類 （ア～チ）】 | AK31: =+IF(AK30=0,"",IF(AK27<AK30,"エラー !：⑩の内数である⑪の量が⑩を超えています","")) | AU31: ｔ
B32: ⑬ 認定熱回収業者への処理委託量 | F32: 0 | H32: t | Q32: B-2 | R32: 最終処分委託量 | Z32: ア. 特管廃油 イ. 特管廃酸 (pH2以下) ウ. 特管廃アルカリ (pH12.5以上) エ. 感染性廃棄物 | AF32: オ. 廃ＰＣＢ等 カ. ＰＣＢ汚染物 キ. ＰＣＢ処理物 ク. 指定下水汚泥 ケ. 有害鉱さい コ. 廃石綿等 | AJ32: サ. 有害ばいじん チ. 廃水銀等 シ. 有害燃え殻 ス. 有害廃油 セ. 有害汚泥 ソ. 有害廃酸 タ. 有害廃アルカリ | AR32: =+IF(AR31=0,"",IF(AK27<(AR24+AR27+AR31),"エラー !：⑩の内数である（⑫+⑬＋⑭）の量が⑩を超えています",""))
B33: ⑭ 認定熱回収業者以外の熱回収を行う業者への処理委託量 | F33: 0 | H33: t | U33: ｔ
C34: =+IF(F30=0,"",IF(F29<F30,"エラー !：上の表は、⑩の内数である⑪の量が⑩を超えています",""))
C35: =+IF(F31=0,"",IF(F29<F31,"エラー !：上の表は、⑩の内数である⑫の量が⑩を超えています",""))
C36: =+IF(F32=0,"",IF(F29<F32,"エラー !：上の表は、⑩の内数である⑬の量が⑩を超えています",""))
C37: =+IF(F33=0,"",IF(F29<F33,"エラー !：上の表は、⑩の内数である⑭の量が⑩を超えています",""))

Sheet ｷ.PCB処理物
R1: ↓ | S1: 注意：前年度の排出量のみでフロー図のデータ①がない場合にも、前年度データを該当欄に入力してください
B2: 特別管理産業廃棄物処理計画書
AO3: ４－２ | AR3: 法定 | AT3: 自主
AR4: =+表紙!Q29 -> 〇 | AT4: =+表紙!T29
B5: 別紙処理フロー | Y5: 事業場名称 | AD5: ： | AE5: =+表紙!F48 -> 東京電力パワーグリッド株式会社 旭資材置場
B6: 令和８年度発生する特別管理産業廃棄物ごとの目標量と処理計画
B7: フローに記載した特別管理産業廃棄物の種類 | D7: キ. PCB処理物
B8: ※ | C8: 本用紙は廃棄物の種類ごとに1枚の記載となります。異なる廃棄物の処理フローは別シートに記載してください。 | AG8: ⑧ | AH8: 自ら中間処理後に再生利用する量
B9: （単位：t/年） | F9: 有償物量 | AD9: ａ残さ物の自己処理 | AM9: ｔ
C11: 不要物等発生量 | F11: ① | G11: 当該事業場における排出量 | L11: Ａ 自己処理 | O11: ② | P11: 自ら直接再生利用する量 | AG11: ⑨ | AH11: 自ら中間処理後に自ら埋立処分又は海洋投入処分する量
F12: =+ROUND(O12,2)+ROUND(O15,2)+ROUND(O18,2)+ROUND(O24,2)+O27-ROUND(F15,2) -> 0 | H12: ｔ | S12: ｔ | AM12: ｔ
F14: ※１ | G14: 自社の他事業場からの搬入量 | O14: ③ | P14: 自ら直接埋立処分する量 | AG14: ※3 | AH14: 自ら中間処理後に自社の他事業場での処理量
H15: ｔ | S15: ｔ | AM15: ｔ | AR15: （目的別内訳）
O16: =+IF(X18=0,"",IF(X18-O18=X18,"エラー！：⑥残さ物量があるのに、④自ら中間処理した量がゼロになっています","")) | AR16: 再生利用前委託量 | AU16: ｔ
O17: ④ | P17: 自ら中間処理する量 | X17: ⑥ | Y17: 自ら中間処理後の残さ量 | AD17: ｂ残さ物の委託処理 | AG17: ｂ | AH17: 自ら中間処理後の処理委託量 | AN17: ｂ-1 中間処理委託量 | AR17: 最終処分前 委託量 | AU17: ｔ
S18: ｔ | X18: =+ROUND(AG9,2)+ROUND(AG12,2)+ROUND(AG15,2)+AG18 -> 0 | AA18: ｔ | AG18: =+ROUND(AN18,2)+ROUND(AN21,2) -> 0 | AK18: ｔ | AN18: =+ROUND(AT16,2)+ROUND(AT17,2)+ROUND(AT18,2) -> 0 | AO18: ｔ | AR18: 下水等放流前委託量 | AU18: ｔ
B20: 注）右上のフローには、令和８年度の目標量を記載してください。下の表には、令和７年度実績を記載してください。なお、様式５をあわせて提出する場合には、先に様式５を入力し、データ反映・印刷ツールを使用するとこちらに数値が反映されます。 | O20: ⑤ | P20: ④のうち熱回収を行う量 | X20: ⑦ | Y20: 自ら中間処理により減量する量 | AN20: ｂ-2 最終処分委託量
S21: ｔ | X21: =+O18-X18 -> 0 | AA21: ｔ | AO21: ｔ
O22: =+IF(O21=0,"",IF(O18<O21,"エラー !：④の内数である⑤の量が④を超えています",""))
B23: 項 目 | F23: 令和７年度実績 | O23: ※２ | P23: 自社の他事業場での処理量 | AR23: ⑫ | AS23: ⑩のうち再生利用業者への処理委託量
B24: ① 排出量 | F24: 0 | H24: t | S24: ｔ | AR24: =+ROUND(AT16,2)+ROUND(Z28,2) -> 0 | AU24: ｔ
B25: ②＋⑧ 自ら再生利用を行った量 | F25: 0 | H25: t
B26: ⑤ 自ら熱回収を行った量 | F26: 0 | H26: t | L26: Ｂ 直接委託処理 | O26: Ｂ | P26: 直接処理委託量 | AK26: ⑩ | AL26: 直接及び自ら中間処理後の処理委託量 | AR26: ⑬ | AS26: ⑩のうち認定熱回収業者への処理委託量
B27: ⑦ 自ら中間処理により減量した量 | F27: 0 | H27: t | O27: =+Q30+ROUND(Q33,2) -> 0 | S27: ｔ | X27: （目的別内訳） | AK27: =+AG18+O27 -> 0 | AO27: ｔ | AU27: ｔ
B28: ③＋⑨ 自ら埋立処分又は海洋投入処分を行った量 | F28: 0 | H28: t | X28: 再生利用前委託量 | AE28: ｔ | AR28: =+IF(AR27=0,"",IF(AK27<(AR24+AR27+AR31),"エラー !：⑩の内数である（⑫+⑬＋⑭）の量が⑩を超えています",""))
B29: ⑩ 全処理委託量 | F29: 0 | H29: t | Q29: B-1 | R29: 中間処理委託量 | X29: 最終処分前委託量 | AE29: ｔ | AK29: ⑪ | AL29: ⑩のうち優良認定処理業者への処理委託量 | AR29: ⑭ | AS29: ⑩のうち認定熱回収業者以外の熱回収を行う業者への処理委託量
B30: ⑪ 優良認定処理業者への処理委託量 | F30: 0 | H30: t | Q30: =+ROUND(Z28,2)+ROUND(Z29,2)+ROUND(Z30,2) -> 0 | U30: ｔ | X30: 下水等放流前委託量 | AE30: ｔ | AO30: ｔ
B31: ⑫ 再生利用業者への処理委託量 | F31: 0 | H31: t | Z31: 【特別管理産業廃棄物の種類 （ア～チ）】 | AK31: =+IF(AK30=0,"",IF(AK27<AK30,"エラー !：⑩の内数である⑪の量が⑩を超えています","")) | AU31: ｔ
B32: ⑬ 認定熱回収業者への処理委託量 | F32: 0 | H32: t | Q32: B-2 | R32: 最終処分委託量 | Z32: ア. 特管廃油 イ. 特管廃酸 (pH2以下) ウ. 特管廃アルカリ (pH12.5以上) エ. 感染性廃棄物 | AF32: オ. 廃ＰＣＢ等 カ. ＰＣＢ汚染物 キ. ＰＣＢ処理物 ク. 指定下水汚泥 ケ. 有害鉱さい コ. 廃石綿等 | AJ32: サ. 有害ばいじん チ. 廃水銀等 シ. 有害燃え殻 ス. 有害廃油 セ. 有害汚泥 ソ. 有害廃酸 タ. 有害廃アルカリ | AR32: =+IF(AR31=0,"",IF(AK27<(AR24+AR27+AR31),"エラー !：⑩の内数である（⑫+⑬＋⑭）の量が⑩を超えています",""))
B33: ⑭ 認定熱回収業者以外の熱回収を行う業者への処理委託量 | F33: 0 | H33: t | U33: ｔ
C34: =+IF(F30=0,"",IF(F29<F30,"エラー !：上の表は、⑩の内数である⑪の量が⑩を超えています",""))
C35: =+IF(F31=0,"",IF(F29<F31,"エラー !：上の表は、⑩の内数である⑫の量が⑩を超えています",""))
C36: =+IF(F32=0,"",IF(F29<F32,"エラー !：上の表は、⑩の内数である⑬の量が⑩を超えています",""))
C37: =+IF(F33=0,"",IF(F29<F33,"エラー !：上の表は、⑩の内数である⑭の量が⑩を超えています",""))

Sheet ｸ.指定下水汚泥
R1: ↓ | S1: 注意：前年度の排出量のみでフロー図のデータ①がない場合にも、前年度データを該当欄に入力してください
B2: 特別管理産業廃棄物処理計画書
AO3: ４－２ | AR3: 法定 | AT3: 自主
AR4: =+表紙!Q29 -> 〇 | AT4: =+表紙!T29
B5: 別紙処理フロー | Y5: 事業場名称 | AD5: ： | AE5: =+表紙!F48 -> 東京電力パワーグリッド株式会社 旭資材置場
B6: 令和８年度発生する特別管理産業廃棄物ごとの目標量と処理計画
B7: フローに記載した特別管理産業廃棄物の種類 | D7: ク. 指定下水汚泥
B8: ※ | C8: 本用紙は廃棄物の種類ごとに1枚の記載となります。異なる廃棄物の処理フローは別シートに記載してください。 | AG8: ⑧ | AH8: 自ら中間処理後に再生利用する量
B9: （単位：t/年） | F9: 有償物量 | AD9: ａ残さ物の自己処理 | AM9: ｔ
C11: 不要物等発生量 | F11: ① | G11: 当該事業場における排出量 | L11: Ａ 自己処理 | O11: ② | P11: 自ら直接再生利用する量 | AG11: ⑨ | AH11: 自ら中間処理後に自ら埋立処分又は海洋投入処分する量
F12: =+ROUND(O12,2)+ROUND(O15,2)+ROUND(O18,2)+ROUND(O24,2)+O27-ROUND(F15,2) -> 0 | H12: ｔ | S12: ｔ | AM12: ｔ
F14: ※１ | G14: 自社の他事業場からの搬入量 | O14: ③ | P14: 自ら直接埋立処分する量 | AG14: ※3 | AH14: 自ら中間処理後に自社の他事業場での処理量
H15: ｔ | S15: ｔ | AM15: ｔ | AR15: （目的別内訳）
O16: =+IF(X18=0,"",IF(X18-O18=X18,"エラー！：⑥残さ物量があるのに、④自ら中間処理した量がゼロになっています","")) | AR16: 再生利用前委託量 | AU16: ｔ
O17: ④ | P17: 自ら中間処理する量 | X17: ⑥ | Y17: 自ら中間処理後の残さ量 | AD17: ｂ残さ物の委託処理 | AG17: ｂ | AH17: 自ら中間処理後の処理委託量 | AN17: ｂ-1 中間処理委託量 | AR17: 最終処分前 委託量 | AU17: ｔ
S18: ｔ | X18: =+ROUND(AG9,2)+ROUND(AG12,2)+ROUND(AG15,2)+AG18 -> 0 | AA18: ｔ | AG18: =+ROUND(AN18,2)+ROUND(AN21,2) -> 0 | AK18: ｔ | AN18: =+ROUND(AT16,2)+ROUND(AT17,2)+ROUND(AT18,2) -> 0 | AO18: ｔ | AR18: 下水等放流前委託量 | AU18: ｔ
B20: 注）右上のフローには、令和８年度の目標量を記載してください。下の表には、令和７年度実績を記載してください。なお、様式５をあわせて提出する場合には、先に様式５を入力し、データ反映・印刷ツールを使用するとこちらに数値が反映されます。 | O20: ⑤ | P20: ④のうち熱回収を行う量 | X20: ⑦ | Y20: 自ら中間処理により減量する量 | AN20: ｂ-2 最終処分委託量
S21: ｔ | X21: =+O18-X18 -> 0 | AA21: ｔ | AO21: ｔ
O22: =+IF(O21=0,"",IF(O18<O21,"エラー !：④の内数である⑤の量が④を超えています",""))
B23: 項 目 | F23: 令和７年度実績 | O23: ※２ | P23: 自社の他事業場での処理量 | AR23: ⑫ | AS23: ⑩のうち再生利用業者への処理委託量
B24: ① 排出量 | F24: 0 | H24: t | S24: ｔ | AR24: =+ROUND(AT16,2)+ROUND(Z28,2) -> 0 | AU24: ｔ
B25: ②＋⑧ 自ら再生利用を行った量 | F25: 0 | H25: t
B26: ⑤ 自ら熱回収を行った量 | F26: 0 | H26: t | L26: Ｂ 直接委託処理 | O26: Ｂ | P26: 直接処理委託量 | AK26: ⑩ | AL26: 直接及び自ら中間処理後の処理委託量 | AR26: ⑬ | AS26: ⑩のうち認定熱回収業者への処理委託量
B27: ⑦ 自ら中間処理により減量した量 | F27: 0 | H27: t | O27: =+Q30+ROUND(Q33,2) -> 0 | S27: ｔ | X27: （目的別内訳） | AK27: =+AG18+O27 -> 0 | AO27: ｔ | AU27: ｔ
B28: ③＋⑨ 自ら埋立処分又は海洋投入処分を行った量 | F28: 0 | H28: t | X28: 再生利用前委託量 | AE28: ｔ | AR28: =+IF(AR27=0,"",IF(AK27<(AR24+AR27+AR31),"エラー !：⑩の内数である（⑫+⑬＋⑭）の量が⑩を超えています",""))
B29: ⑩ 全処理委託量 | F29: 0 | H29: t | Q29: B-1 | R29: 中間処理委託量 | X29: 最終処分前委託量 | AE29: ｔ | AK29: ⑪ | AL29: ⑩のうち優良認定処理業者への処理委託量 | AR29: ⑭ | AS29: ⑩のうち認定熱回収業者以外の熱回収を行う業者への処理委託量
B30: ⑪ 優良認定処理業者への処理委託量 | F30: 0 | H30: t | Q30: =+ROUND(Z28,2)+ROUND(Z29,2)+ROUND(Z30,2) -> 0 | U30: ｔ | X30: 下水等放流前委託量 | AE30: ｔ | AO30: ｔ
B31: ⑫ 再生利用業者への処理委託量 | F31: 0 | H31: t | Z31: 【特別管理産業廃棄物の種類 （ア～チ）】 | AK31: =+IF(AK30=0,"",IF(AK27<AK30,"エラー !：⑩の内数である⑪の量が⑩を超えています","")) | AU31: ｔ
B32: ⑬ 認定熱回収業者への処理委託量 | F32: 0 | H32: t | Q32: B-2 | R32: 最終処分委託量 | Z32: ア. 特管廃油 イ. 特管廃酸 (pH2以下) ウ. 特管廃アルカリ (pH12.5以上) エ. 感染性廃棄物 | AF32: オ. 廃ＰＣＢ等 カ. ＰＣＢ汚染物 キ. ＰＣＢ処理物 ク. 指定下水汚泥 ケ. 有害鉱さい コ. 廃石綿等 | AJ32: サ. 有害ばいじん チ. 廃水銀等 シ. 有害燃え殻 ス. 有害廃油 セ. 有害汚泥 ソ. 有害廃酸 タ. 有害廃アルカリ | AR32: =+IF(AR31=0,"",IF(AK27<(AR24+AR27+AR31),"エラー !：⑩の内数である（⑫+⑬＋⑭）の量が⑩を超えています",""))
B33: ⑭ 認定熱回収業者以外の熱回収を行う業者への処理委託量 | F33: 0 | H33: t | U33: ｔ
C34: =+IF(F30=0,"",IF(F29<F30,"エラー !：上の表は、⑩の内数である⑪の量が⑩を超えています",""))
C35: =+IF(F31=0,"",IF(F29<F31,"エラー !：上の表は、⑩の内数である⑫の量が⑩を超えています",""))
C36: =+IF(F32=0,"",IF(F29<F32,"エラー !：上の表は、⑩の内数である⑬の量が⑩を超えています",""))
C37: =+IF(F33=0,"",IF(F29<F33,"エラー !：上の表は、⑩の内数である⑭の量が⑩を超えています",""))

Sheet ｹ.有害鉱さい
R1: ↓ | S1: 注意：前年度の排出量のみでフロー図のデータ①がない場合にも、前年度データを該当欄に入力してください
B2: 特別管理産業廃棄物処理計画書
AO3: ４－２ | AR3: 法定 | AT3: 自主
AR4: =+表紙!Q29 -> 〇 | AT4: =+表紙!T29
B5: 別紙処理フロー | Y5: 事業場名称 | AD5: ： | AE5: =+表紙!F48 -> 東京電力パワーグリッド株式会社 旭資材置場
B6: 令和８年度発生する特別管理産業廃棄物ごとの目標量と処理計画
B7: フローに記載した特別管理産業廃棄物の種類 | D7: ケ. 有害鉱さい
B8: ※ | C8: 本用紙は廃棄物の種類ごとに1枚の記載となります。異なる廃棄物の処理フローは別シートに記載してください。 | AG8: ⑧ | AH8: 自ら中間処理後に再生利用する量
B9: （単位：t/年） | F9: 有償物量 | AD9: ａ残さ物の自己処理 | AM9: ｔ
C11: 不要物等発生量 | F11: ① | G11: 当該事業場における排出量 | L11: Ａ 自己処理 | O11: ② | P11: 自ら直接再生利用する量 | AG11: ⑨ | AH11: 自ら中間処理後に自ら埋立処分又は海洋投入処分する量
F12: =+ROUND(O12,2)+ROUND(O15,2)+ROUND(O18,2)+ROUND(O24,2)+O27-ROUND(F15,2) -> 0 | H12: ｔ | S12: ｔ | AM12: ｔ
F14: ※１ | G14: 自社の他事業場からの搬入量 | O14: ③ | P14: 自ら直接埋立処分する量 | AG14: ※3 | AH14: 自ら中間処理後に自社の他事業場での処理量
H15: ｔ | S15: ｔ | AM15: ｔ | AR15: （目的別内訳）
O16: =+IF(X18=0,"",IF(X18-O18=X18,"エラー！：⑥残さ物量があるのに、④自ら中間処理した量がゼロになっています","")) | AR16: 再生利用前委託量 | AU16: ｔ
O17: ④ | P17: 自ら中間処理する量 | X17: ⑥ | Y17: 自ら中間処理後の残さ量 | AD17: ｂ残さ物の委託処理 | AG17: ｂ | AH17: 自ら中間処理後の処理委託量 | AN17: ｂ-1 中間処理委託量 | AR17: 最終処分前 委託量 | AU17: ｔ
S18: ｔ | X18: =+ROUND(AG9,2)+ROUND(AG12,2)+ROUND(AG15,2)+AG18 -> 0 | AA18: ｔ | AG18: =+ROUND(AN18,2)+ROUND(AN21,2) -> 0 | AK18: ｔ | AN18: =+ROUND(AT16,2)+ROUND(AT17,2)+ROUND(AT18,2) -> 0 | AO18: ｔ | AR18: 下水等放流前委託量 | AU18: ｔ
B20: 注）右上のフローには、令和８年度の目標量を記載してください。下の表には、令和７年度実績を記載してください。なお、様式５をあわせて提出する場合には、先に様式５を入力し、データ反映・印刷ツールを使用するとこちらに数値が反映されます。 | O20: ⑤ | P20: ④のうち熱回収を行う量 | X20: ⑦ | Y20: 自ら中間処理により減量する量 | AN20: ｂ-2 最終処分委託量
S21: ｔ | X21: =+O18-X18 -> 0 | AA21: ｔ | AO21: ｔ
O22: =+IF(O21=0,"",IF(O18<O21,"エラー !：④の内数である⑤の量が④を超えています",""))
B23: 項 目 | F23: 令和７年度実績 | O23: ※２ | P23: 自社の他事業場での処理量 | AR23: ⑫ | AS23: ⑩のうち再生利用業者への処理委託量
B24: ① 排出量 | F24: 0 | H24: t | S24: ｔ | AR24: =+ROUND(AT16,2)+ROUND(Z28,2) -> 0 | AU24: ｔ
B25: ②＋⑧ 自ら再生利用を行った量 | F25: 0 | H25: t
B26: ⑤ 自ら熱回収を行った量 | F26: 0 | H26: t | L26: Ｂ 直接委託処理 | O26: Ｂ | P26: 直接処理委託量 | AK26: ⑩ | AL26: 直接及び自ら中間処理後の処理委託量 | AR26: ⑬ | AS26: ⑩のうち認定熱回収業者への処理委託量
B27: ⑦ 自ら中間処理により減量した量 | F27: 0 | H27: t | O27: =+Q30+ROUND(Q33,2) -> 0 | S27: ｔ | X27: （目的別内訳） | AK27: =+AG18+O27 -> 0 | AO27: ｔ | AU27: ｔ
B28: ③＋⑨ 自ら埋立処分又は海洋投入処分を行った量 | F28: 0 | H28: t | X28: 再生利用前委託量 | AE28: ｔ | AR28: =+IF(AR27=0,"",IF(AK27<(AR24+AR27+AR31),"エラー !：⑩の内数である（⑫+⑬＋⑭）の量が⑩を超えています",""))
B29: ⑩ 全処理委託量 | F29: 0 | H29: t | Q29: B-1 | R29: 中間処理委託量 | X29: 最終処分前委託量 | AE29: ｔ | AK29: ⑪ | AL29: ⑩のうち優良認定処理業者への処理委託量 | AR29: ⑭ | AS29: ⑩のうち認定熱回収業者以外の熱回収を行う業者への処理委託量
B30: ⑪ 優良認定処理業者への処理委託量 | F30: 0 | H30: t | Q30: =+ROUND(Z28,2)+ROUND(Z29,2)+ROUND(Z30,2) -> 0 | U30: ｔ | X30: 下水等放流前委託量 | AE30: ｔ | AO30: ｔ
B31: ⑫ 再生利用業者への処理委託量 | F31: 0 | H31: t | Z31: 【特別管理産業廃棄物の種類 （ア～チ）】 | AK31: =+IF(AK30=0,"",IF(AK27<AK30,"エラー !：⑩の内数である⑪の量が⑩を超えています","")) | AU31: ｔ
B32: ⑬ 認定熱回収業者への処理委託量 | F32: 0 | H32: t | Q32: B-2 | R32: 最終処分委託量 | Z32: ア. 特管廃油 イ. 特管廃酸 (pH2以下) ウ. 特管廃アルカリ (pH12.5以上) エ. 感染性廃棄物 | AF32: オ. 廃ＰＣＢ等 カ. ＰＣＢ汚染物 キ. ＰＣＢ処理物 ク. 指定下水汚泥 ケ. 有害鉱さい コ. 廃石綿等 | AJ32: サ. 有害ばいじん チ. 廃水銀等 シ. 有害燃え殻 ス. 有害廃油 セ. 有害汚泥 ソ. 有害廃酸 タ. 有害廃アルカリ | AR32: =+IF(AR31=0,"",IF(AK27<(AR24+AR27+AR31),"エラー !：⑩の内数である（⑫+⑬＋⑭）の量が⑩を超えています",""))
B33: ⑭ 認定熱回収業者以外の熱回収を行う業者への処理委託量 | F33: 0 | H33: t | U33: ｔ
C34: =+IF(F30=0,"",IF(F29<F30,"エラー !：上の表は、⑩の内数である⑪の量が⑩を超えています",""))
C35: =+IF(F31=0,"",IF(F29<F31,"エラー !：上の表は、⑩の内数である⑫の量が⑩を超えています",""))
C36: =+IF(F32=0,"",IF(F29<F32,"エラー !：上の表は、⑩の内数である⑬の量が⑩を超えています",""))
C37: =+IF(F33=0,"",IF(F29<F33,"エラー !：上の表は、⑩の内数である⑭の量が⑩を超えています",""))

Sheet ｺ.廃石綿等
R1: ↓ | S1: 注意：前年度の排出量のみでフロー図のデータ①がない場合にも、前年度データを該当欄に入力してください
B2: 特別管理産業廃棄物処理計画書
AO3: ４－２ | AR3: 法定 | AT3: 自主
AR4: =+表紙!Q29 -> 〇 | AT4: =+表紙!T29
B5: 別紙処理フロー | Y5: 事業場名称 | AD5: ： | AE5: =+表紙!F48 -> 東京電力パワーグリッド株式会社 旭資材置場
B6: 令和８年度発生する特別管理産業廃棄物ごとの目標量と処理計画
B7: フローに記載した特別管理産業廃棄物の種類 | D7: コ. 廃石綿等
B8: ※ | C8: 本用紙は廃棄物の種類ごとに1枚の記載となります。異なる廃棄物の処理フローは別シートに記載してください。 | AG8: ⑧ | AH8: 自ら中間処理後に再生利用する量
B9: （単位：t/年） | F9: 有償物量 | AD9: ａ残さ物の自己処理 | AM9: ｔ
C11: 不要物等発生量 | F11: ① | G11: 当該事業場における排出量 | L11: Ａ 自己処理 | O11: ② | P11: 自ら直接再生利用する量 | AG11: ⑨ | AH11: 自ら中間処理後に自ら埋立処分又は海洋投入処分する量
F12: =+ROUND(O12,2)+ROUND(O15,2)+ROUND(O18,2)+ROUND(O24,2)+O27-ROUND(F15,2) -> 0 | H12: ｔ | S12: ｔ | AM12: ｔ
F14: ※１ | G14: 自社の他事業場からの搬入量 | O14: ③ | P14: 自ら直接埋立処分する量 | AG14: ※3 | AH14: 自ら中間処理後に自社の他事業場での処理量
H15: ｔ | S15: ｔ | AM15: ｔ | AR15: （目的別内訳）
O16: =+IF(X18=0,"",IF(X18-O18=X18,"エラー！：⑥残さ物量があるのに、④自ら中間処理した量がゼロになっています","")) | AR16: 再生利用前委託量 | AU16: ｔ
O17: ④ | P17: 自ら中間処理する量 | X17: ⑥ | Y17: 自ら中間処理後の残さ量 | AD17: ｂ残さ物の委託処理 | AG17: ｂ | AH17: 自ら中間処理後の処理委託量 | AN17: ｂ-1 中間処理委託量 | AR17: 最終処分前 委託量 | AU17: ｔ
S18: ｔ | X18: =+ROUND(AG9,2)+ROUND(AG12,2)+ROUND(AG15,2)+AG18 -> 0 | AA18: ｔ | AG18: =+ROUND(AN18,2)+ROUND(AN21,2) -> 0 | AK18: ｔ | AN18: =+ROUND(AT16,2)+ROUND(AT17,2)+ROUND(AT18,2) -> 0 | AO18: ｔ | AR18: 下水等放流前委託量 | AU18: ｔ
B20: 注）右上のフローには、令和８年度の目標量を記載してください。下の表には、令和７年度実績を記載してください。なお、様式５をあわせて提出する場合には、先に様式５を入力し、データ反映・印刷ツールを使用するとこちらに数値が反映されます。 | O20: ⑤ | P20: ④のうち熱回収を行う量 | X20: ⑦ | Y20: 自ら中間処理により減量する量 | AN20: ｂ-2 最終処分委託量
S21: ｔ | X21: =+O18-X18 -> 0 | AA21: ｔ | AO21: ｔ
O22: =+IF(O21=0,"",IF(O18<O21,"エラー !：④の内数である⑤の量が④を超えています",""))
B23: 項 目 | F23: 令和７年度実績 | O23: ※２ | P23: 自社の他事業場での処理量 | AR23: ⑫ | AS23: ⑩のうち再生利用業者への処理委託量
B24: ① 排出量 | F24: 0 | H24: t | S24: ｔ | AR24: =+ROUND(AT16,2)+ROUND(Z28,2) -> 0 | AU24: ｔ
B25: ②＋⑧ 自ら再生利用を行った量 | F25: 0 | H25: t
B26: ⑤ 自ら熱回収を行った量 | F26: 0 | H26: t | L26: Ｂ 直接委託処理 | O26: Ｂ | P26: 直接処理委託量 | AK26: ⑩ | AL26: 直接及び自ら中間処理後の処理委託量 | AR26: ⑬ | AS26: ⑩のうち認定熱回収業者への処理委託量
B27: ⑦ 自ら中間処理により減量した量 | F27: 0 | H27: t | O27: =+Q30+ROUND(Q33,2) -> 0 | S27: ｔ | X27: （目的別内訳） | AK27: =+AG18+O27 -> 0 | AO27: ｔ | AU27: ｔ
B28: ③＋⑨ 自ら埋立処分又は海洋投入処分を行った量 | F28: 0 | H28: t | X28: 再生利用前委託量 | AE28: ｔ | AR28: =+IF(AR27=0,"",IF(AK27<(AR24+AR27+AR31),"エラー !：⑩の内数である（⑫+⑬＋⑭）の量が⑩を超えています",""))
B29: ⑩ 全処理委託量 | F29: 0 | H29: t | Q29: B-1 | R29: 中間処理委託量 | X29: 最終処分前委託量 | AE29: ｔ | AK29: ⑪ | AL29: ⑩のうち優良認定処理業者への処理委託量 | AR29: ⑭ | AS29: ⑩のうち認定熱回収業者以外の熱回収を行う業者への処理委託量
B30: ⑪ 優良認定処理業者への処理委託量 | F30: 0 | H30: t | Q30: =+ROUND(Z28,2)+ROUND(Z29,2)+ROUND(Z30,2) -> 0 | U30: ｔ | X30: 下水等放流前委託量 | AE30: ｔ | AO30: ｔ
B31: ⑫ 再生利用業者への処理委託量 | F31: 0 | H31: t | Z31: 【特別管理産業廃棄物の種類 （ア～チ）】 | AK31: =+IF(AK30=0,"",IF(AK27<AK30,"エラー !：⑩の内数である⑪の量が⑩を超えています","")) | AU31: ｔ
B32: ⑬ 認定熱回収業者への処理委託量 | F32: 0 | H32: t | Q32: B-2 | R32: 最終処分委託量 | Z32: ア. 特管廃油 イ. 特管廃酸 (pH2以下) ウ. 特管廃アルカリ (pH12.5以上) エ. 感染性廃棄物 | AF32: オ. 廃ＰＣＢ等 カ. ＰＣＢ汚染物 キ. ＰＣＢ処理物 ク. 指定下水汚泥 ケ. 有害鉱さい コ. 廃石綿等 | AJ32: サ. 有害ばいじん チ. 廃水銀等 シ. 有害燃え殻 ス. 有害廃油 セ. 有害汚泥 ソ. 有害廃酸 タ. 有害廃アルカリ | AR32: =+IF(AR31=0,"",IF(AK27<(AR24+AR27+AR31),"エラー !：⑩の内数である（⑫+⑬＋⑭）の量が⑩を超えています",""))
B33: ⑭ 認定熱回収業者以外の熱回収を行う業者への処理委託量 | F33: 0 | H33: t | U33: ｔ
C34: =+IF(F30=0,"",IF(F29<F30,"エラー !：上の表は、⑩の内数である⑪の量が⑩を超えています",""))
C35: =+IF(F31=0,"",IF(F29<F31,"エラー !：上の表は、⑩の内数である⑫の量が⑩を超えています",""))
C36: =+IF(F32=0,"",IF(F29<F32,"エラー !：上の表は、⑩の内数である⑬の量が⑩を超えています",""))
C37: =+IF(F33=0,"",IF(F29<F33,"エラー !：上の表は、⑩の内数である⑭の量が⑩を超えています",""))

Sheet ｻ.有害ばいじん
R1: ↓ | S1: 注意：前年度の排出量のみでフロー図のデータ①がない場合にも、前年度データを該当欄に入力してください
B2: 特別管理産業廃棄物処理計画書
AO3: ４－２ | AR3: 法定 | AT3: 自主
AR4: =+表紙!Q29 -> 〇 | AT4: =+表紙!T29
B5: 別紙処理フロー | Y5: 事業場名称 | AD5: ： | AE5: =+表紙!F48 -> 東京電力パワーグリッド株式会社 旭資材置場
B6: 令和８年度発生する特別管理産業廃棄物ごとの目標量と処理計画
B7: フローに記載した特別管理産業廃棄物の種類 | D7: サ. 有害ばいじん
B8: ※ | C8: 本用紙は廃棄物の種類ごとに1枚の記載となります。異なる廃棄物の処理フローは別シートに記載してください。 | AG8: ⑧ | AH8: 自ら中間処理後に再生利用する量
B9: （単位：t/年） | F9: 有償物量 | AD9: ａ残さ物の自己処理 | AM9: ｔ
C11: 不要物等発生量 | F11: ① | G11: 当該事業場における排出量 | L11: Ａ 自己処理 | O11: ② | P11: 自ら直接再生利用する量 | AG11: ⑨ | AH11: 自ら中間処理後に自ら埋立処分又は海洋投入処分する量
F12: =+ROUND(O12,2)+ROUND(O15,2)+ROUND(O18,2)+ROUND(O24,2)+O27-ROUND(F15,2) -> 0 | H12: ｔ | S12: ｔ | AM12: ｔ
F14: ※１ | G14: 自社の他事業場からの搬入量 | O14: ③ | P14: 自ら直接埋立処分する量 | AG14: ※3 | AH14: 自ら中間処理後に自社の他事業場での処理量
H15: ｔ | S15: ｔ | AM15: ｔ | AR15: （目的別内訳）
O16: =+IF(X18=0,"",IF(X18-O18=X18,"エラー！：⑥残さ物量があるのに、④自ら中間処理した量がゼロになっています","")) | AR16: 再生利用前委託量 | AU16: ｔ
O17: ④ | P17: 自ら中間処理する量 | X17: ⑥ | Y17: 自ら中間処理後の残さ量 | AD17: ｂ残さ物の委託処理 | AG17: ｂ | AH17: 自ら中間処理後の処理委託量 | AN17: ｂ-1 中間処理委託量 | AR17: 最終処分前 委託量 | AU17: ｔ
S18: ｔ | X18: =+ROUND(AG9,2)+ROUND(AG12,2)+ROUND(AG15,2)+AG18 -> 0 | AA18: ｔ | AG18: =+ROUND(AN18,2)+ROUND(AN21,2) -> 0 | AK18: ｔ | AN18: =+ROUND(AT16,2)+ROUND(AT17,2)+ROUND(AT18,2) -> 0 | AO18: ｔ | AR18: 下水等放流前委託量 | AU18: ｔ
B20: 注）右上のフローには、令和８年度の目標量を記載してください。下の表には、令和７年度実績を記載してください。なお、様式５をあわせて提出する場合には、先に様式５を入力し、データ反映・印刷ツールを使用するとこちらに数値が反映されます。 | O20: ⑤ | P20: ④のうち熱回収を行う量 | X20: ⑦ | Y20: 自ら中間処理により減量する量 | AN20: ｂ-2 最終処分委託量
S21: ｔ | X21: =+O18-X18 -> 0 | AA21: ｔ | AO21: ｔ
O22: =+IF(O21=0,"",IF(O18<O21,"エラー !：④の内数である⑤の量が④を超えています",""))
B23: 項 目 | F23: 令和７年度実績 | O23: ※２ | P23: 自社の他事業場での処理量 | AR23: ⑫ | AS23: ⑩のうち再生利用業者への処理委託量
B24: ① 排出量 | F24: 0 | H24: t | S24: ｔ | AR24: =+ROUND(AT16,2)+ROUND(Z28,2) -> 0 | AU24: ｔ
B25: ②＋⑧ 自ら再生利用を行った量 | F25: 0 | H25: t
B26: ⑤ 自ら熱回収を行った量 | F26: 0 | H26: t | L26: Ｂ 直接委託処理 | O26: Ｂ | P26: 直接処理委託量 | AK26: ⑩ | AL26: 直接及び自ら中間処理後の処理委託量 | AR26: ⑬ | AS26: ⑩のうち認定熱回収業者への処理委託量
B27: ⑦ 自ら中間処理により減量した量 | F27: 0 | H27: t | O27: =+Q30+ROUND(Q33,2) -> 0 | S27: ｔ | X27: （目的別内訳） | AK27: =+AG18+O27 -> 0 | AO27: ｔ | AU27: ｔ
B28: ③＋⑨ 自ら埋立処分又は海洋投入処分を行った量 | F28: 0 | H28: t | X28: 再生利用前委託量 | AE28: ｔ | AR28: =+IF(AR27=0,"",IF(AK27<(AR24+AR27+AR31),"エラー !：⑩の内数である（⑫+⑬＋⑭）の量が⑩を超えています",""))
B29: ⑩ 全処理委託量 | F29: 0 | H29: t | Q29: B-1 | R29: 中間処理委託量 | X29: 最終処分前委託量 | AE29: ｔ | AK29: ⑪ | AL29: ⑩のうち優良認定処理業者への処理委託量 | AR29: ⑭ | AS29: ⑩のうち認定熱回収業者以外の熱回収を行う業者への処理委託量
B30: ⑪ 優良認定処理業者への処理委託量 | F30: 0 | H30: t | Q30: =+ROUND(Z28,2)+ROUND(Z29,2)+ROUND(Z30,2) -> 0 | U30: ｔ | X30: 下水等放流前委託量 | AE30: ｔ | AO30: ｔ
B31: ⑫ 再生利用業者への処理委託量 | F31: 0 | H31: t | Z31: 【特別管理産業廃棄物の種類 （ア～チ）】 | AK31: =+IF(AK30=0,"",IF(AK27<AK30,"エラー !：⑩の内数である⑪の量が⑩を超えています","")) | AU31: ｔ
B32: ⑬ 認定熱回収業者への処理委託量 | F32: 0 | H32: t | Q32: B-2 | R32: 最終処分委託量 | Z32: ア. 特管廃油 イ. 特管廃酸 (pH2以下) ウ. 特管廃アルカリ (pH12.5以上) エ. 感染性廃棄物 | AF32: オ. 廃ＰＣＢ等 カ. ＰＣＢ汚染物 キ. ＰＣＢ処理物 ク. 指定下水汚泥 ケ. 有害鉱さい コ. 廃石綿等 | AJ32: サ. 有害ばいじん チ. 廃水銀等 シ. 有害燃え殻 ス. 有害廃油 セ. 有害汚泥 ソ. 有害廃酸 タ. 有害廃アルカリ | AR32: =+IF(AR31=0,"",IF(AK27<(AR24+AR27+AR31),"エラー !：⑩の内数である（⑫+⑬＋⑭）の量が⑩を超えています",""))
B33: ⑭ 認定熱回収業者以外の熱回収を行う業者への処理委託量 | F33: 0 | H33: t | U33: ｔ
C34: =+IF(F30=0,"",IF(F29<F30,"エラー !：上の表は、⑩の内数である⑪の量が⑩を超えています",""))
C35: =+IF(F31=0,"",IF(F29<F31,"エラー !：上の表は、⑩の内数である⑫の量が⑩を超えています",""))
C36: =+IF(F32=0,"",IF(F29<F32,"エラー !：上の表は、⑩の内数である⑬の量が⑩を超えています",""))
C37: =+IF(F33=0,"",IF(F29<F33,"エラー !：上の表は、⑩の内数である⑭の量が⑩を超えています",""))

Sheet ｼ.有害燃え殻
R1: ↓ | S1: 注意：前年度の排出量のみでフロー図のデータ①がない場合にも、前年度データを該当欄に入力してください
B2: 特別管理産業廃棄物処理計画書
AO3: ４－２ | AR3: 法定 | AT3: 自主
AR4: =+表紙!Q29 -> 〇 | AT4: =+表紙!T29
B5: 別紙処理フロー | Y5: 事業場名称 | AD5: ： | AE5: =+表紙!F48 -> 東京電力パワーグリッド株式会社 旭資材置場
B6: 令和８年度発生する特別管理産業廃棄物ごとの目標量と処理計画
B7: フローに記載した特別管理産業廃棄物の種類 | D7: シ. 有害燃え殻
B8: ※ | C8: 本用紙は廃棄物の種類ごとに1枚の記載となります。異なる廃棄物の処理フローは別シートに記載してください。 | AG8: ⑧ | AH8: 自ら中間処理後に再生利用する量
B9: （単位：t/年） | F9: 有償物量 | AD9: ａ残さ物の自己処理 | AM9: ｔ
C11: 不要物等発生量 | F11: ① | G11: 当該事業場における排出量 | L11: Ａ 自己処理 | O11: ② | P11: 自ら直接再生利用する量 | AG11: ⑨ | AH11: 自ら中間処理後に自ら埋立処分又は海洋投入処分する量
F12: =+ROUND(O12,2)+ROUND(O15,2)+ROUND(O18,2)+ROUND(O24,2)+O27-ROUND(F15,2) -> 0 | H12: ｔ | S12: ｔ | AM12: ｔ
F14: ※１ | G14: 自社の他事業場からの搬入量 | O14: ③ | P14: 自ら直接埋立処分する量 | AG14: ※3 | AH14: 自ら中間処理後に自社の他事業場での処理量
H15: ｔ | S15: ｔ | AM15: ｔ | AR15: （目的別内訳）
O16: =+IF(X18=0,"",IF(X18-O18=X18,"エラー！：⑥残さ物量があるのに、④自ら中間処理した量がゼロになっています","")) | AR16: 再生利用前委託量 | AU16: ｔ
O17: ④ | P17: 自ら中間処理する量 | X17: ⑥ | Y17: 自ら中間処理後の残さ量 | AD17: ｂ残さ物の委託処理 | AG17: ｂ | AH17: 自ら中間処理後の処理委託量 | AN17: ｂ-1 中間処理委託量 | AR17: 最終処分前 委託量 | AU17: ｔ
S18: ｔ | X18: =+ROUND(AG9,2)+ROUND(AG12,2)+ROUND(AG15,2)+AG18 -> 0 | AA18: ｔ | AG18: =+ROUND(AN18,2)+ROUND(AN21,2) -> 0 | AK18: ｔ | AN18: =+ROUND(AT16,2)+ROUND(AT17,2)+ROUND(AT18,2) -> 0 | AO18: ｔ | AR18: 下水等放流前委託量 | AU18: ｔ
B20: 注）右上のフローには、令和８年度の目標量を記載してください。下の表には、令和７年度実績を記載してください。なお、様式５をあわせて提出する場合には、先に様式５を入力し、データ反映・印刷ツールを使用するとこちらに数値が反映されます。 | O20: ⑤ | P20: ④のうち熱回収を行う量 | X20: ⑦ | Y20: 自ら中間処理により減量する量 | AN20: ｂ-2 最終処分委託量
S21: ｔ | X21: =+O18-X18 -> 0 | AA21: ｔ | AO21: ｔ
O22: =+IF(O21=0,"",IF(O18<O21,"エラー !：④の内数である⑤の量が④を超えています",""))
B23: 項 目 | F23: 令和７年度実績 | O23: ※２ | P23: 自社の他事業場での処理量 | AR23: ⑫ | AS23: ⑩のうち再生利用業者への処理委託量
B24: ① 排出量 | F24: 0 | H24: t | S24: ｔ | AR24: =+ROUND(AT16,2)+ROUND(Z28,2) -> 0 | AU24: ｔ
B25: ②＋⑧ 自ら再生利用を行った量 | F25: 0 | H25: t
B26: ⑤ 自ら熱回収を行った量 | F26: 0 | H26: t | L26: Ｂ 直接委託処理 | O26: Ｂ | P26: 直接処理委託量 | AK26: ⑩ | AL26: 直接及び自ら中間処理後の処理委託量 | AR26: ⑬ | AS26: ⑩のうち認定熱回収業者への処理委託量
B27: ⑦ 自ら中間処理により減量した量 | F27: 0 | H27: t | O27: =+Q30+ROUND(Q33,2) -> 0 | S27: ｔ | X27: （目的別内訳） | AK27: =+AG18+O27 -> 0 | AO27: ｔ | AU27: ｔ
B28: ③＋⑨ 自ら埋立処分又は海洋投入処分を行った量 | F28: 0 | H28: t | X28: 再生利用前委託量 | AE28: ｔ | AR28: =+IF(AR27=0,"",IF(AK27<(AR24+AR27+AR31),"エラー !：⑩の内数である（⑫+⑬＋⑭）の量が⑩を超えています",""))
B29: ⑩ 全処理委託量 | F29: 0 | H29: t | Q29: B-1 | R29: 中間処理委託量 | X29: 最終処分前委託量 | AE29: ｔ | AK29: ⑪ | AL29: ⑩のうち優良認定処理業者への処理委託量 | AR29: ⑭ | AS29: ⑩のうち認定熱回収業者以外の熱回収を行う業者への処理委託量
B30: ⑪ 優良認定処理業者への処理委託量 | F30: 0 | H30: t | Q30: =+ROUND(Z28,2)+ROUND(Z29,2)+ROUND(Z30,2) -> 0 | U30: ｔ | X30: 下水等放流前委託量 | AE30: ｔ | AO30: ｔ
B31: ⑫ 再生利用業者への処理委託量 | F31: 0 | H31: t | Z31: 【特別管理産業廃棄物の種類 （ア～チ）】 | AK31: =+IF(AK30=0,"",IF(AK27<AK30,"エラー !：⑩の内数である⑪の量が⑩を超えています","")) | AU31: ｔ
B32: ⑬ 認定熱回収業者への処理委託量 | F32: 0 | H32: t | Q32: B-2 | R32: 最終処分委託量 | Z32: ア. 特管廃油 イ. 特管廃酸 (pH2以下) ウ. 特管廃アルカリ (pH12.5以上) エ. 感染性廃棄物 | AF32: オ. 廃ＰＣＢ等 カ. ＰＣＢ汚染物 キ. ＰＣＢ処理物 ク. 指定下水汚泥 ケ. 有害鉱さい コ. 廃石綿等 | AJ32: サ. 有害ばいじん チ. 廃水銀等 シ. 有害燃え殻 ス. 有害廃油 セ. 有害汚泥 ソ. 有害廃酸 タ. 有害廃アルカリ | AR32: =+IF(AR31=0,"",IF(AK27<(AR24+AR27+AR31),"エラー !：⑩の内数である（⑫+⑬＋⑭）の量が⑩を超えています",""))
B33: ⑭ 認定熱回収業者以外の熱回収を行う業者への処理委託量 | F33: 0 | H33: t | U33: ｔ
C34: =+IF(F30=0,"",IF(F29<F30,"エラー !：上の表は、⑩の内数である⑪の量が⑩を超えています",""))
C35: =+IF(F31=0,"",IF(F29<F31,"エラー !：上の表は、⑩の内数である⑫の量が⑩を超えています",""))
C36: =+IF(F32=0,"",IF(F29<F32,"エラー !：上の表は、⑩の内数である⑬の量が⑩を超えています",""))
C37: =+IF(F33=0,"",IF(F29<F33,"エラー !：上の表は、⑩の内数である⑭の量が⑩を超えています",""))

Sheet ｽ.有害廃油
R1: ↓ | S1: 注意：前年度の排出量のみでフロー図のデータ①がない場合にも、前年度データを該当欄に入力してください
B2: 特別管理産業廃棄物処理計画書
AO3: ４－２ | AR3: 法定 | AT3: 自主
AR4: =+表紙!Q29 -> 〇 | AT4: =+表紙!T29
B5: 別紙処理フロー | Y5: 事業場名称 | AD5: ： | AE5: =+表紙!F48 -> 東京電力パワーグリッド株式会社 旭資材置場
B6: 令和８年度発生する特別管理産業廃棄物ごとの目標量と処理計画
B7: フローに記載した特別管理産業廃棄物の種類 | D7: ス. 有害廃油
B8: ※ | C8: 本用紙は廃棄物の種類ごとに1枚の記載となります。異なる廃棄物の処理フローは別シートに記載してください。 | AG8: ⑧ | AH8: 自ら中間処理後に再生利用する量
B9: （単位：t/年） | F9: 有償物量 | AD9: ａ残さ物の自己処理 | AM9: ｔ
C11: 不要物等発生量 | F11: ① | G11: 当該事業場における排出量 | L11: Ａ 自己処理 | O11: ② | P11: 自ら直接再生利用する量 | AG11: ⑨ | AH11: 自ら中間処理後に自ら埋立処分又は海洋投入処分する量
F12: =+ROUND(O12,2)+ROUND(O15,2)+ROUND(O18,2)+ROUND(O24,2)+O27-ROUND(F15,2) -> 0 | H12: ｔ | S12: ｔ | AM12: ｔ
F14: ※１ | G14: 自社の他事業場からの搬入量 | O14: ③ | P14: 自ら直接埋立処分する量 | AG14: ※3 | AH14: 自ら中間処理後に自社の他事業場での処理量
H15: ｔ | S15: ｔ | AM15: ｔ | AR15: （目的別内訳）
O16: =+IF(X18=0,"",IF(X18-O18=X18,"エラー！：⑥残さ物量があるのに、④自ら中間処理した量がゼロになっています","")) | AR16: 再生利用前委託量 | AU16: ｔ
O17: ④ | P17: 自ら中間処理する量 | X17: ⑥ | Y17: 自ら中間処理後の残さ量 | AD17: ｂ残さ物の委託処理 | AG17: ｂ | AH17: 自ら中間処理後の処理委託量 | AN17: ｂ-1 中間処理委託量 | AR17: 最終処分前 委託量 | AU17: ｔ
S18: ｔ | X18: =+ROUND(AG9,2)+ROUND(AG12,2)+ROUND(AG15,2)+AG18 -> 0 | AA18: ｔ | AG18: =+ROUND(AN18,2)+ROUND(AN21,2) -> 0 | AK18: ｔ | AN18: =+ROUND(AT16,2)+ROUND(AT17,2)+ROUND(AT18,2) -> 0 | AO18: ｔ | AR18: 下水等放流前委託量 | AU18: ｔ
B20: 注）右上のフローには、令和８年度の目標量を記載してください。下の表には、令和７年度実績を記載してください。なお、様式５をあわせて提出する場合には、先に様式５を入力し、データ反映・印刷ツールを使用するとこちらに数値が反映されます。 | O20: ⑤ | P20: ④のうち熱回収を行う量 | X20: ⑦ | Y20: 自ら中間処理により減量する量 | AN20: ｂ-2 最終処分委託量
S21: ｔ | X21: =+O18-X18 -> 0 | AA21: ｔ | AO21: ｔ
O22: =+IF(O21=0,"",IF(O18<O21,"エラー !：④の内数である⑤の量が④を超えています",""))
B23: 項 目 | F23: 令和７年度実績 | O23: ※２ | P23: 自社の他事業場での処理量 | AR23: ⑫ | AS23: ⑩のうち再生利用業者への処理委託量
B24: ① 排出量 | F24: 0 | H24: t | S24: ｔ | AR24: =+ROUND(AT16,2)+ROUND(Z28,2) -> 0 | AU24: ｔ
B25: ②＋⑧ 自ら再生利用を行った量 | F25: 0 | H25: t
B26: ⑤ 自ら熱回収を行った量 | F26: 0 | H26: t | L26: Ｂ 直接委託処理 | O26: Ｂ | P26: 直接処理委託量 | AK26: ⑩ | AL26: 直接及び自ら中間処理後の処理委託量 | AR26: ⑬ | AS26: ⑩のうち認定熱回収業者への処理委託量
B27: ⑦ 自ら中間処理により減量した量 | F27: 0 | H27: t | O27: =+Q30+ROUND(Q33,2) -> 0 | S27: ｔ | X27: （目的別内訳） | AK27: =+AG18+O27 -> 0 | AO27: ｔ | AU27: ｔ
B28: ③＋⑨ 自ら埋立処分又は海洋投入処分を行った量 | F28: 0 | H28: t | X28: 再生利用前委託量 | AE28: ｔ | AR28: =+IF(AR27=0,"",IF(AK27<(AR24+AR27+AR31),"エラー !：⑩の内数である（⑫+⑬＋⑭）の量が⑩を超えています",""))
B29: ⑩ 全処理委託量 | F29: 0 | H29: t | Q29: B-1 | R29: 中間処理委託量 | X29: 最終処分前委託量 | AE29: ｔ | AK29: ⑪ | AL29: ⑩のうち優良認定処理業者への処理委託量 | AR29: ⑭ | AS29: ⑩のうち認定熱回収業者以外の熱回収を行う業者への処理委託量
B30: ⑪ 優良認定処理業者への処理委託量 | F30: 0 | H30: t | Q30: =+ROUND(Z28,2)+ROUND(Z29,2)+ROUND(Z30,2) -> 0 | U30: ｔ | X30: 下水等放流前委託量 | AE30: ｔ | AO30: ｔ
B31: ⑫ 再生利用業者への処理委託量 | F31: 0 | H31: t | Z31: 【特別管理産業廃棄物の種類 （ア～チ）】 | AK31: =+IF(AK30=0,"",IF(AK27<AK30,"エラー !：⑩の内数である⑪の量が⑩を超えています","")) | AU31: ｔ
B32: ⑬ 認定熱回収業者への処理委託量 | F32: 0 | H32: t | Q32: B-2 | R32: 最終処分委託量 | Z32: ア. 特管廃油 イ. 特管廃酸 (pH2以下) ウ. 特管廃アルカリ (pH12.5以上) エ. 感染性廃棄物 | AF32: オ. 廃ＰＣＢ等 カ. ＰＣＢ汚染物 キ. ＰＣＢ処理物 ク. 指定下水汚泥 ケ. 有害鉱さい コ. 廃石綿等 | AJ32: サ. 有害ばいじん チ. 廃水銀等 シ. 有害燃え殻 ス. 有害廃油 セ. 有害汚泥 ソ. 有害廃酸 タ. 有害廃アルカリ | AR32: =+IF(AR31=0,"",IF(AK27<(AR24+AR27+AR31),"エラー !：⑩の内数である（⑫+⑬＋⑭）の量が⑩を超えています",""))
B33: ⑭ 認定熱回収業者以外の熱回収を行う業者への処理委託量 | F33: 0 | H33: t | U33: ｔ
C34: =+IF(F30=0,"",IF(F29<F30,"エラー !：上の表は、⑩の内数である⑪の量が⑩を超えています",""))
C35: =+IF(F31=0,"",IF(F29<F31,"エラー !：上の表は、⑩の内数である⑫の量が⑩を超えています",""))
C36: =+IF(F32=0,"",IF(F29<F32,"エラー !：上の表は、⑩の内数である⑬の量が⑩を超えています",""))
C37: =+IF(F33=0,"",IF(F29<F33,"エラー !：上の表は、⑩の内数である⑭の量が⑩を超えています",""))

Sheet ｾ.有害汚泥
R1: ↓ | S1: 注意：前年度の排出量のみでフロー図のデータ①がない場合にも、前年度データを該当欄に入力してください
B2: 特別管理産業廃棄物処理計画書
AO3: ４－２ | AR3: 法定 | AT3: 自主
AR4: =+表紙!Q29 -> 〇 | AT4: =+表紙!T29
B5: 別紙処理フロー | Y5: 事業場名称 | AD5: ： | AE5: =+表紙!F48 -> 東京電力パワーグリッド株式会社 旭資材置場
B6: 令和８年度発生する特別管理産業廃棄物ごとの目標量と処理計画
B7: フローに記載した特別管理産業廃棄物の種類 | D7: セ. 有害汚泥
B8: ※ | C8: 本用紙は廃棄物の種類ごとに1枚の記載となります。異なる廃棄物の処理フローは別シートに記載してください。 | AG8: ⑧ | AH8: 自ら中間処理後に再生利用する量
B9: （単位：t/年） | F9: 有償物量 | AD9: ａ残さ物の自己処理 | AM9: ｔ
C11: 不要物等発生量 | F11: ① | G11: 当該事業場における排出量 | L11: Ａ 自己処理 | O11: ② | P11: 自ら直接再生利用する量 | AG11: ⑨ | AH11: 自ら中間処理後に自ら埋立処分又は海洋投入処分する量
F12: =+ROUND(O12,2)+ROUND(O15,2)+ROUND(O18,2)+ROUND(O24,2)+O27-ROUND(F15,2) -> 0 | H12: ｔ | S12: ｔ | AM12: ｔ
F14: ※１ | G14: 自社の他事業場からの搬入量 | O14: ③ | P14: 自ら直接埋立処分する量 | AG14: ※3 | AH14: 自ら中間処理後に自社の他事業場での処理量
H15: ｔ | S15: ｔ | AM15: ｔ | AR15: （目的別内訳）
O16: =+IF(X18=0,"",IF(X18-O18=X18,"エラー！：⑥残さ物量があるのに、④自ら中間処理した量がゼロになっています","")) | AR16: 再生利用前委託量 | AU16: ｔ
O17: ④ | P17: 自ら中間処理する量 | X17: ⑥ | Y17: 自ら中間処理後の残さ量 | AD17: ｂ残さ物の委託処理 | AG17: ｂ | AH17: 自ら中間処理後の処理委託量 | AN17: ｂ-1 中間処理委託量 | AR17: 最終処分前 委託量 | AU17: ｔ
S18: ｔ | X18: =+ROUND(AG9,2)+ROUND(AG12,2)+ROUND(AG15,2)+AG18 -> 0 | AA18: ｔ | AG18: =+ROUND(AN18,2)+ROUND(AN21,2) -> 0 | AK18: ｔ | AN18: =+ROUND(AT16,2)+ROUND(AT17,2)+ROUND(AT18,2) -> 0 | AO18: ｔ | AR18: 下水等放流前委託量 | AU18: ｔ
B20: 注）右上のフローには、令和８年度の目標量を記載してください。下の表には、令和７年度実績を記載してください。なお、様式５をあわせて提出する場合には、先に様式５を入力し、データ反映・印刷ツールを使用するとこちらに数値が反映されます。 | O20: ⑤ | P20: ④のうち熱回収を行う量 | X20: ⑦ | Y20: 自ら中間処理により減量する量 | AN20: ｂ-2 最終処分委託量
S21: ｔ | X21: =+O18-X18 -> 0 | AA21: ｔ | AO21: ｔ
O22: =+IF(O21=0,"",IF(O18<O21,"エラー !：④の内数である⑤の量が④を超えています",""))
B23: 項 目 | F23: 令和７年度実績 | O23: ※２ | P23: 自社の他事業場での処理量 | AR23: ⑫ | AS23: ⑩のうち再生利用業者への処理委託量
B24: ① 排出量 | F24: 0 | H24: t | S24: ｔ | AR24: =+ROUND(AT16,2)+ROUND(Z28,2) -> 0 | AU24: ｔ
B25: ②＋⑧ 自ら再生利用を行った量 | F25: 0 | H25: t
B26: ⑤ 自ら熱回収を行った量 | F26: 0 | H26: t | L26: Ｂ 直接委託処理 | O26: Ｂ | P26: 直接処理委託量 | AK26: ⑩ | AL26: 直接及び自ら中間処理後の処理委託量 | AR26: ⑬ | AS26: ⑩のうち認定熱回収業者への処理委託量
B27: ⑦ 自ら中間処理により減量した量 | F27: 0 | H27: t | O27: =+Q30+ROUND(Q33,2) -> 0 | S27: ｔ | X27: （目的別内訳） | AK27: =+AG18+O27 -> 0 | AO27: ｔ | AU27: ｔ
B28: ③＋⑨ 自ら埋立処分又は海洋投入処分を行った量 | F28: 0 | H28: t | X28: 再生利用前委託量 | AE28: ｔ | AR28: =+IF(AR27=0,"",IF(AK27<(AR24+AR27+AR31),"エラー !：⑩の内数である（⑫+⑬＋⑭）の量が⑩を超えています",""))
B29: ⑩ 全処理委託量 | F29: 0 | H29: t | Q29: B-1 | R29: 中間処理委託量 | X29: 最終処分前委託量 | AE29: ｔ | AK29: ⑪ | AL29: ⑩のうち優良認定処理業者への処理委託量 | AR29: ⑭ | AS29: ⑩のうち認定熱回収業者以外の熱回収を行う業者への処理委託量
B30: ⑪ 優良認定処理業者への処理委託量 | F30: 0 | H30: t | Q30: =+ROUND(Z28,2)+ROUND(Z29,2)+ROUND(Z30,2) -> 0 | U30: ｔ | X30: 下水等放流前委託量 | AE30: ｔ | AO30: ｔ
B31: ⑫ 再生利用業者への処理委託量 | F31: 0 | H31: t | Z31: 【特別管理産業廃棄物の種類 （ア～チ）】 | AK31: =+IF(AK30=0,"",IF(AK27<AK30,"エラー !：⑩の内数である⑪の量が⑩を超えています","")) | AU31: ｔ
B32: ⑬ 認定熱回収業者への処理委託量 | F32: 0 | H32: t | Q32: B-2 | R32: 最終処分委託量 | Z32: ア. 特管廃油 イ. 特管廃酸 (pH2以下) ウ. 特管廃アルカリ (pH12.5以上) エ. 感染性廃棄物 | AF32: オ. 廃ＰＣＢ等 カ. ＰＣＢ汚染物 キ. ＰＣＢ処理物 ク. 指定下水汚泥 ケ. 有害鉱さい コ. 廃石綿等 | AJ32: サ. 有害ばいじん チ. 廃水銀等 シ. 有害燃え殻 ス. 有害廃油 セ. 有害汚泥 ソ. 有害廃酸 タ. 有害廃アルカリ | AR32: =+IF(AR31=0,"",IF(AK27<(AR24+AR27+AR31),"エラー !：⑩の内数である（⑫+⑬＋⑭）の量が⑩を超えています",""))
B33: ⑭ 認定熱回収業者以外の熱回収を行う業者への処理委託量 | F33: 0 | H33: t | U33: ｔ
C34: =+IF(F30=0,"",IF(F29<F30,"エラー !：上の表は、⑩の内数である⑪の量が⑩を超えています",""))
C35: =+IF(F31=0,"",IF(F29<F31,"エラー !：上の表は、⑩の内数である⑫の量が⑩を超えています",""))
C36: =+IF(F32=0,"",IF(F29<F32,"エラー !：上の表は、⑩の内数である⑬の量が⑩を超えています",""))
C37: =+IF(F33=0,"",IF(F29<F33,"エラー !：上の表は、⑩の内数である⑭の量が⑩を超えています",""))

Sheet ｿ.有害廃酸
R1: ↓ | S1: 注意：前年度の排出量のみでフロー図のデータ①がない場合にも、前年度データを該当欄に入力してください
B2: 特別管理産業廃棄物処理計画書
AO3: ４－２ | AR3: 法定 | AT3: 自主
AR4: =+表紙!Q29 -> 〇 | AT4: =+表紙!T29
B5: 別紙処理フロー | Y5: 事業場名称 | AD5: ： | AE5: =+表紙!F48 -> 東京電力パワーグリッド株式会社 旭資材置場
B6: 令和８年度発生する特別管理産業廃棄物ごとの目標量と処理計画
B7: フローに記載した特別管理産業廃棄物の種類 | D7: ソ. 有害廃酸
B8: ※ | C8: 本用紙は廃棄物の種類ごとに1枚の記載となります。異なる廃棄物の処理フローは別シートに記載してください。 | AG8: ⑧ | AH8: 自ら中間処理後に再生利用する量
B9: （単位：t/年） | F9: 有償物量 | AD9: ａ残さ物の自己処理 | AM9: ｔ
C11: 不要物等発生量 | F11: ① | G11: 当該事業場における排出量 | L11: Ａ 自己処理 | O11: ② | P11: 自ら直接再生利用する量 | AG11: ⑨ | AH11: 自ら中間処理後に自ら埋立処分又は海洋投入処分する量
F12: =+ROUND(O12,2)+ROUND(O15,2)+ROUND(O18,2)+ROUND(O24,2)+O27-ROUND(F15,2) -> 0 | H12: ｔ | S12: ｔ | AM12: ｔ
F14: ※１ | G14: 自社の他事業場からの搬入量 | O14: ③ | P14: 自ら直接埋立処分する量 | AG14: ※3 | AH14: 自ら中間処理後に自社の他事業場での処理量
H15: ｔ | S15: ｔ | AM15: ｔ | AR15: （目的別内訳）
O16: =+IF(X18=0,"",IF(X18-O18=X18,"エラー！：⑥残さ物量があるのに、④自ら中間処理した量がゼロになっています","")) | AR16: 再生利用前委託量 | AU16: ｔ
O17: ④ | P17: 自ら中間処理する量 | X17: ⑥ | Y17: 自ら中間処理後の残さ量 | AD17: ｂ残さ物の委託処理 | AG17: ｂ | AH17: 自ら中間処理後の処理委託量 | AN17: ｂ-1 中間処理委託量 | AR17: 最終処分前 委託量 | AU17: ｔ
S18: ｔ | X18: =+ROUND(AG9,2)+ROUND(AG12,2)+ROUND(AG15,2)+AG18 -> 0 | AA18: ｔ | AG18: =+ROUND(AN18,2)+ROUND(AN21,2) -> 0 | AK18: ｔ | AN18: =+ROUND(AT16,2)+ROUND(AT17,2)+ROUND(AT18,2) -> 0 | AO18: ｔ | AR18: 下水等放流前委託量 | AU18: ｔ
B20: 注）右上のフローには、令和８年度の目標量を記載してください。下の表には、令和７年度実績を記載してください。なお、様式５をあわせて提出する場合には、先に様式５を入力し、データ反映・印刷ツールを使用するとこちらに数値が反映されます。 | O20: ⑤ | P20: ④のうち熱回収を行う量 | X20: ⑦ | Y20: 自ら中間処理により減量する量 | AN20: ｂ-2 最終処分委託量
S21: ｔ | X21: =+O18-X18 -> 0 | AA21: ｔ | AO21: ｔ
O22: =+IF(O21=0,"",IF(O18<O21,"エラー !：④の内数である⑤の量が④を超えています",""))
B23: 項 目 | F23: 令和７年度実績 | O23: ※２ | P23: 自社の他事業場での処理量 | AR23: ⑫ | AS23: ⑩のうち再生利用業者への処理委託量
B24: ① 排出量 | F24: 0 | H24: t | S24: ｔ | AR24: =+ROUND(AT16,2)+ROUND(Z28,2) -> 0 | AU24: ｔ
B25: ②＋⑧ 自ら再生利用を行った量 | F25: 0 | H25: t
B26: ⑤ 自ら熱回収を行った量 | F26: 0 | H26: t | L26: Ｂ 直接委託処理 | O26: Ｂ | P26: 直接処理委託量 | AK26: ⑩ | AL26: 直接及び自ら中間処理後の処理委託量 | AR26: ⑬ | AS26: ⑩のうち認定熱回収業者への処理委託量
B27: ⑦ 自ら中間処理により減量した量 | F27: 0 | H27: t | O27: =+Q30+ROUND(Q33,2) -> 0 | S27: ｔ | X27: （目的別内訳） | AK27: =+AG18+O27 -> 0 | AO27: ｔ | AU27: ｔ
B28: ③＋⑨ 自ら埋立処分又は海洋投入処分を行った量 | F28: 0 | H28: t | X28: 再生利用前委託量 | AE28: ｔ | AR28: =+IF(AR27=0,"",IF(AK27<(AR24+AR27+AR31),"エラー !：⑩の内数である（⑫+⑬＋⑭）の量が⑩を超えています",""))
B29: ⑩ 全処理委託量 | F29: 0 | H29: t | Q29: B-1 | R29: 中間処理委託量 | X29: 最終処分前委託量 | AE29: ｔ | AK29: ⑪ | AL29: ⑩のうち優良認定処理業者への処理委託量 | AR29: ⑭ | AS29: ⑩のうち認定熱回収業者以外の熱回収を行う業者への処理委託量
B30: ⑪ 優良認定処理業者への処理委託量 | F30: 0 | H30: t | Q30: =+ROUND(Z28,2)+ROUND(Z29,2)+ROUND(Z30,2) -> 0 | U30: ｔ | X30: 下水等放流前委託量 | AE30: ｔ | AO30: ｔ
B31: ⑫ 再生利用業者への処理委託量 | F31: 0 | H31: t | Z31: 【特別管理産業廃棄物の種類 （ア～チ）】 | AK31: =+IF(AK30=0,"",IF(AK27<AK30,"エラー !：⑩の内数である⑪の量が⑩を超えています","")) | AU31: ｔ
B32: ⑬ 認定熱回収業者への処理委託量 | F32: 0 | H32: t | Q32: B-2 | R32: 最終処分委託量 | Z32: ア. 特管廃油 イ. 特管廃酸 (pH2以下) ウ. 特管廃アルカリ (pH12.5以上) エ. 感染性廃棄物 | AF32: オ. 廃ＰＣＢ等 カ. ＰＣＢ汚染物 キ. ＰＣＢ処理物 ク. 指定下水汚泥 ケ. 有害鉱さい コ. 廃石綿等 | AJ32: サ. 有害ばいじん チ. 廃水銀等 シ. 有害燃え殻 ス. 有害廃油 セ. 有害汚泥 ソ. 有害廃酸 タ. 有害廃アルカリ | AR32: =+IF(AR31=0,"",IF(AK27<(AR24+AR27+AR31),"エラー !：⑩の内数である（⑫+⑬＋⑭）の量が⑩を超えています",""))
B33: ⑭ 認定熱回収業者以外の熱回収を行う業者への処理委託量 | F33: 0 | H33: t | U33: ｔ
C34: =+IF(F30=0,"",IF(F29<F30,"エラー !：上の表は、⑩の内数である⑪の量が⑩を超えています",""))
C35: =+IF(F31=0,"",IF(F29<F31,"エラー !：上の表は、⑩の内数である⑫の量が⑩を超えています",""))
C36: =+IF(F32=0,"",IF(F29<F32,"エラー !：上の表は、⑩の内数である⑬の量が⑩を超えています",""))
C37: =+IF(F33=0,"",IF(F29<F33,"エラー !：上の表は、⑩の内数である⑭の量が⑩を超えています",""))

Sheet ﾀ.有害廃ｱﾙｶﾘ
R1: ↓ | S1: 注意：前年度の排出量のみでフロー図のデータ①がない場合にも、前年度データを該当欄に入力してください
B2: 特別管理産業廃棄物処理計画書
AO3: ４－２ | AR3: 法定 | AT3: 自主
AR4: =+表紙!Q29 -> 〇 | AT4: =+表紙!T29
B5: 別紙処理フロー | Y5: 事業場名称 | AD5: ： | AE5: =+表紙!F48 -> 東京電力パワーグリッド株式会社 旭資材置場
B6: 令和８年度発生する特別管理産業廃棄物ごとの目標量と処理計画
B7: フローに記載した特別管理産業廃棄物の種類 | D7: タ. 有害廃ｱﾙｶﾘ
B8: ※ | C8: 本用紙は廃棄物の種類ごとに1枚の記載となります。異なる廃棄物の処理フローは別シートに記載してください。 | AG8: ⑧ | AH8: 自ら中間処理後に再生利用する量
B9: （単位：t/年） | F9: 有償物量 | AD9: ａ残さ物の自己処理 | AM9: ｔ
C11: 不要物等発生量 | F11: ① | G11: 当該事業場における排出量 | L11: Ａ 自己処理 | O11: ② | P11: 自ら直接再生利用する量 | AG11: ⑨ | AH11: 自ら中間処理後に自ら埋立処分又は海洋投入処分する量
F12: =+ROUND(O12,2)+ROUND(O15,2)+ROUND(O18,2)+ROUND(O24,2)+O27-ROUND(F15,2) -> 0 | H12: ｔ | S12: ｔ | AM12: ｔ
F14: ※１ | G14: 自社の他事業場からの搬入量 | O14: ③ | P14: 自ら直接埋立処分する量 | AG14: ※3 | AH14: 自ら中間処理後に自社の他事業場での処理量
H15: ｔ | S15: ｔ | AM15: ｔ | AR15: （目的別内訳）
O16: =+IF(X18=0,"",IF(X18-O18=X18,"エラー！：⑥残さ物量があるのに、④自ら中間処理した量がゼロになっています","")) | AR16: 再生利用前委託量 | AU16: ｔ
O17: ④ | P17: 自ら中間処理する量 | X17: ⑥ | Y17: 自ら中間処理後の残さ量 | AD17: ｂ残さ物の委託処理 | AG17: ｂ | AH17: 自ら中間処理後の処理委託量 | AN17: ｂ-1 中間処理委託量 | AR17: 最終処分前 委託量 | AU17: ｔ
S18: ｔ | X18: =+ROUND(AG9,2)+ROUND(AG12,2)+ROUND(AG15,2)+AG18 -> 0 | AA18: ｔ | AG18: =+ROUND(AN18,2)+ROUND(AN21,2) -> 0 | AK18: ｔ | AN18: =+ROUND(AT16,2)+ROUND(AT17,2)+ROUND(AT18,2) -> 0 | AO18: ｔ | AR18: 下水等放流前委託量 | AU18: ｔ
B20: 注）右上のフローには、令和８年度の目標量を記載してください。下の表には、令和７年度実績を記載してください。なお、様式５をあわせて提出する場合には、先に様式５を入力し、データ反映・印刷ツールを使用するとこちらに数値が反映されます。 | O20: ⑤ | P20: ④のうち熱回収を行う量 | X20: ⑦ | Y20: 自ら中間処理により減量する量 | AN20: ｂ-2 最終処分委託量
S21: ｔ | X21: =+O18-X18 -> 0 | AA21: ｔ | AO21: ｔ
O22: =+IF(O21=0,"",IF(O18<O21,"エラー !：④の内数である⑤の量が④を超えています",""))
B23: 項 目 | F23: 令和７年度実績 | O23: ※２ | P23: 自社の他事業場での処理量 | AR23: ⑫ | AS23: ⑩のうち再生利用業者への処理委託量
B24: ① 排出量 | F24: 0 | H24: t | S24: ｔ | AR24: =+ROUND(AT16,2)+ROUND(Z28,2) -> 0 | AU24: ｔ
B25: ②＋⑧ 自ら再生利用を行った量 | F25: 0 | H25: t
B26: ⑤ 自ら熱回収を行った量 | F26: 0 | H26: t | L26: Ｂ 直接委託処理 | O26: Ｂ | P26: 直接処理委託量 | AK26: ⑩ | AL26: 直接及び自ら中間処理後の処理委託量 | AR26: ⑬ | AS26: ⑩のうち認定熱回収業者への処理委託量
B27: ⑦ 自ら中間処理により減量した量 | F27: 0 | H27: t | O27: =+Q30+ROUND(Q33,2) -> 0 | S27: ｔ | X27: （目的別内訳） | AK27: =+AG18+O27 -> 0 | AO27: ｔ | AU27: ｔ
B28: ③＋⑨ 自ら埋立処分又は海洋投入処分を行った量 | F28: 0 | H28: t | X28: 再生利用前委託量 | AE28: ｔ | AR28: =+IF(AR27=0,"",IF(AK27<(AR24+AR27+AR31),"エラー !：⑩の内数である（⑫+⑬＋⑭）の量が⑩を超えています",""))
B29: ⑩ 全処理委託量 | F29: 0 | H29: t | Q29: B-1 | R29: 中間処理委託量 | X29: 最終処分前委託量 | AE29: ｔ | AK29: ⑪ | AL29: ⑩のうち優良認定処理業者への処理委託量 | AR29: ⑭ | AS29: ⑩のうち認定熱回収業者以外の熱回収を行う業者への処理委託量
B30: ⑪ 優良認定処理業者への処理委託量 | F30: 0 | H30: t | Q30: =+ROUND(Z28,2)+ROUND(Z29,2)+ROUND(Z30,2) -> 0 | U30: ｔ | X30: 下水等放流前委託量 | AE30: ｔ | AO30: ｔ
B31: ⑫ 再生利用業者への処理委託量 | F31: 0 | H31: t | Z31: 【特別管理産業廃棄物の種類 （ア～チ）】 | AK31: =+IF(AK30=0,"",IF(AK27<AK30,"エラー !：⑩の内数である⑪の量が⑩を超えています","")) | AU31: ｔ
B32: ⑬ 認定熱回収業者への処理委託量 | F32: 0 | H32: t | Q32: B-2 | R32: 最終処分委託量 | Z32: ア. 特管廃油 イ. 特管廃酸 (pH2以下) ウ. 特管廃アルカリ (pH12.5以上) エ. 感染性廃棄物 | AF32: オ. 廃ＰＣＢ等 カ. ＰＣＢ汚染物 キ. ＰＣＢ処理物 ク. 指定下水汚泥 ケ. 有害鉱さい コ. 廃石綿等 | AJ32: サ. 有害ばいじん チ. 廃水銀等 シ. 有害燃え殻 ス. 有害廃油 セ. 有害汚泥 ソ. 有害廃酸 タ. 有害廃アルカリ | AR32: =+IF(AR31=0,"",IF(AK27<(AR24+AR27+AR31),"エラー !：⑩の内数である（⑫+⑬＋⑭）の量が⑩を超えています",""))
B33: ⑭ 認定熱回収業者以外の熱回収を行う業者への処理委託量 | F33: 0 | H33: t | U33: ｔ
C34: =+IF(F30=0,"",IF(F29<F30,"エラー !：上の表は、⑩の内数である⑪の量が⑩を超えています",""))
C35: =+IF(F31=0,"",IF(F29<F31,"エラー !：上の表は、⑩の内数である⑫の量が⑩を超えています",""))
C36: =+IF(F32=0,"",IF(F29<F32,"エラー !：上の表は、⑩の内数である⑬の量が⑩を超えています",""))
C37: =+IF(F33=0,"",IF(F29<F33,"エラー !：上の表は、⑩の内数である⑭の量が⑩を超えています",""))

Sheet ﾁ.廃水銀等
R1: ↓ | S1: 注意：前年度の排出量のみでフロー図のデータ①がない場合にも、前年度データを該当欄に入力してください
B2: 特別管理産業廃棄物処理計画書
AO3: ４－２ | AR3: 法定 | AT3: 自主
AR4: =+表紙!Q29 -> 〇 | AT4: =+表紙!T29
B5: 別紙処理フロー | Y5: 事業場名称 | AD5: ： | AE5: =+表紙!F48 -> 東京電力パワーグリッド株式会社 旭資材置場
B6: 令和８年度発生する特別管理産業廃棄物ごとの目標量と処理計画
B7: フローに記載した特別管理産業廃棄物の種類 | D7: チ. 廃水銀等
B8: ※ | C8: 本用紙は廃棄物の種類ごとに1枚の記載となります。異なる廃棄物の処理フローは別シートに記載してください。 | AG8: ⑧ | AH8: 自ら中間処理後に再生利用する量
B9: （単位：t/年） | F9: 有償物量 | AD9: ａ残さ物の自己処理 | AM9: ｔ
C11: 不要物等発生量 | F11: ① | G11: 当該事業場における排出量 | L11: Ａ 自己処理 | O11: ② | P11: 自ら直接再生利用する量 | AG11: ⑨ | AH11: 自ら中間処理後に自ら埋立処分又は海洋投入処分する量
F12: =+ROUND(O12,2)+ROUND(O15,2)+ROUND(O18,2)+ROUND(O24,2)+O27-ROUND(F15,2) -> 0 | H12: ｔ | S12: ｔ | AM12: ｔ
F14: ※１ | G14: 自社の他事業場からの搬入量 | O14: ③ | P14: 自ら直接埋立処分する量 | AG14: ※3 | AH14: 自ら中間処理後に自社の他事業場での処理量
H15: ｔ | S15: ｔ | AM15: ｔ | AR15: （目的別内訳）
O16: =+IF(X18=0,"",IF(X18-O18=X18,"エラー！：⑥残さ物量があるのに、④自ら中間処理した量がゼロになっています","")) | AR16: 再生利用前委託量 | AU16: ｔ
O17: ④ | P17: 自ら中間処理する量 | X17: ⑥ | Y17: 自ら中間処理後の残さ量 | AD17: ｂ残さ物の委託処理 | AG17: ｂ | AH17: 自ら中間処理後の処理委託量 | AN17: ｂ-1 中間処理委託量 | AR17: 最終処分前 委託量 | AU17: ｔ
S18: ｔ | X18: =+ROUND(AG9,2)+ROUND(AG12,2)+ROUND(AG15,2)+AG18 -> 0 | AA18: ｔ | AG18: =+ROUND(AN18,2)+ROUND(AN21,2) -> 0 | AK18: ｔ | AN18: =+ROUND(AT16,2)+ROUND(AT17,2)+ROUND(AT18,2) -> 0 | AO18: ｔ | AR18: 下水等放流前委託量 | AU18: ｔ
B20: 注）右上のフローには、令和８年度の目標量を記載してください。下の表には、令和７年度実績を記載してください。なお、様式５をあわせて提出する場合には、先に様式５を入力し、データ反映・印刷ツールを使用するとこちらに数値が反映されます。 | O20: ⑤ | P20: ④のうち熱回収を行う量 | X20: ⑦ | Y20: 自ら中間処理により減量する量 | AN20: ｂ-2 最終処分委託量
S21: ｔ | X21: =+O18-X18 -> 0 | AA21: ｔ | AO21: ｔ
O22: =+IF(O21=0,"",IF(O18<O21,"エラー !：④の内数である⑤の量が④を超えています",""))
B23: 項 目 | F23: 令和７年度実績 | O23: ※２ | P23: 自社の他事業場での処理量 | AR23: ⑫ | AS23: ⑩のうち再生利用業者への処理委託量
B24: ① 排出量 | F24: 0 | H24: t | S24: ｔ | AR24: =+ROUND(AT16,2)+ROUND(Z28,2) -> 0 | AU24: ｔ
B25: ②＋⑧ 自ら再生利用を行った量 | F25: 0 | H25: t
B26: ⑤ 自ら熱回収を行った量 | F26: 0 | H26: t | L26: Ｂ 直接委託処理 | O26: Ｂ | P26: 直接処理委託量 | AK26: ⑩ | AL26: 直接及び自ら中間処理後の処理委託量 | AR26: ⑬ | AS26: ⑩のうち認定熱回収業者への処理委託量
B27: ⑦ 自ら中間処理により減量した量 | F27: 0 | H27: t | O27: =+Q30+ROUND(Q33,2) -> 0 | S27: ｔ | X27: （目的別内訳） | AK27: =+AG18+O27 -> 0 | AO27: ｔ | AU27: ｔ
B28: ③＋⑨ 自ら埋立処分又は海洋投入処分を行った量 | F28: 0 | H28: t | X28: 再生利用前委託量 | AE28: ｔ | AR28: =+IF(AR27=0,"",IF(AK27<(AR24+AR27+AR31),"エラー !：⑩の内数である（⑫+⑬＋⑭）の量が⑩を超えています",""))
B29: ⑩ 全処理委託量 | F29: 0 | H29: t | Q29: B-1 | R29: 中間処理委託量 | X29: 最終処分前委託量 | AE29: ｔ | AK29: ⑪ | AL29: ⑩のうち優良認定処理業者への処理委託量 | AR29: ⑭ | AS29: ⑩のうち認定熱回収業者以外の熱回収を行う業者への処理委託量
B30: ⑪ 優良認定処理業者への処理委託量 | F30: 0 | H30: t | Q30: =+ROUND(Z28,2)+ROUND(Z29,2)+ROUND(Z30,2) -> 0 | U30: ｔ | X30: 下水等放流前委託量 | AE30: ｔ | AO30: ｔ
B31: ⑫ 再生利用業者への処理委託量 | F31: 0 | H31: t | Z31: 【特別管理産業廃棄物の種類 （ア～チ）】 | AK31: =+IF(AK30=0,"",IF(AK27<AK30,"エラー !：⑩の内数である⑪の量が⑩を超えています","")) | AU31: ｔ
B32: ⑬ 認定熱回収業者への処理委託量 | F32: 0 | H32: t | Q32: B-2 | R32: 最終処分委託量 | Z32: ア. 特管廃油 イ. 特管廃酸 (pH2以下) ウ. 特管廃アルカリ (pH12.5以上) エ. 感染性廃棄物 | AF32: オ. 廃ＰＣＢ等 カ. ＰＣＢ汚染物 キ. ＰＣＢ処理物 ク. 指定下水汚泥 ケ. 有害鉱さい コ. 廃石綿等 | AJ32: サ. 有害ばいじん チ. 廃水銀等 シ. 有害燃え殻 ス. 有害廃油 セ. 有害汚泥 ソ. 有害廃酸 タ. 有害廃アルカリ | AR32: =+IF(AR31=0,"",IF(AK27<(AR24+AR27+AR31),"エラー !：⑩の内数である（⑫+⑬＋⑭）の量が⑩を超えています",""))
B33: ⑭ 認定熱回収業者以外の熱回収を行う業者への処理委託量 | F33: 0 | H33: t | U33: ｔ
C34: =+IF(F30=0,"",IF(F29<F30,"エラー !：上の表は、⑩の内数である⑪の量が⑩を超えています",""))
C35: =+IF(F31=0,"",IF(F29<F31,"エラー !：上の表は、⑩の内数である⑫の量が⑩を超えています",""))
