Workbook

Sheet 表紙
C2: 【注 意】
C3: ① このファイルは、特別管理産業廃棄物用の法定と自主管理の共通様式です。
C4: 「法定」「自主」は昨年度の実績により、自動入力されます。
C5: ② 様式４と様式５の両方を提出する場合は、先に様式５を入力してください。様式５の情報を様式４へ反映させることができます。
C7: 【手 順】
C8: ① 様式１及び様式５の情報を反映させることができます。
E9: 本ファイルは閉じ、2026form6.xlsmを開き、⑤又は⑥の「事業場情報等の反映」及び「⑦実績値等の反映」をクリックして下さい。
E10: （様式１又は５から反映→提出先、提出者情報、事業場情報、事業の種類、事業規模、様式５から反映→連絡先、令和7年度実績）
C11: ② 表紙シートの黄色、水色のセルで、入力されていないセルを入力あるいは選択してください。
C12: ③ 次に、廃棄物の種類ごとの処理フローを、シート「ア.特管廃油」から順番に各シートに記載してください。
C13: ④ 記載したデータに誤りがないか、別紙（一括表）などを見て再確認をお願いいたします。
C15: ＊ 印刷を行いたい場合は、本ファイルを閉じ、2026form6.xlsmを開き「印刷ボタン（様式４）」をクリックしてください。
C16: 提出に必要な表紙、別紙(一括表）および各フロー図が自動的にプリントされます。
C18: ※マクロが使用できない場合は、本ファイルのシート名「印刷用表紙」「別紙」及び該当する廃棄物のシートを 「ファイル」→「印刷」の手順で印刷をしてください。
C20: 【セル色の説明】
E21: ：セルの右上に▼がある場合、ポインタをそのセルにあわせると、説明文が表示されます
C22: 薄黄色 | E22: ：プルダウン・メニューから選択してください。セルを選択して右側に現れる▼をクリックすると選択肢のリストが出てきます。
C23: 薄水色 | E23: ：内容・データ等を入力してください
C24: 薄橙色 | E24: ：自動処理されるので、変更できません。
C25: 薄黄緑 | E25: ：他様式の情報を反映させることができます。
E26: 直接入力することも可能です。
A28: 14 | P28: ４ | Q28: 法定 | T28: 自主
A29: =+X261 -> 0 | C29: 様式第二号の十三（第八条の十七の二関係） | Q29: =IF($K$90+1E-24>=50,"〇","") -> 〇 | R29: =IF($K$90+1E-21<50,"〇","") | S29: =IF($K$90+1E-21<50,"〇","") | T29: =IF($K$90+1E-21<50,"〇","")
C30: （第１面）
C32: 特別管理産業廃棄物処理計画書
P35: 令和 ８年 ６月 １日
C37: 横浜市長 | G37: 殿
A39: 3 | J39: 提出者
J40: 住 所 | L40: 東京都千代田区内幸町1丁目1番3号
J41: 氏 名 | L41: 東京電力パワーグリッド株式会社 代表取締役社長 金子 禎則
L42: （法人にあっては、名称及び代表者の氏名）
M43: 電話番号 | O43: 03-6373-1111
A46: 4 | C46: 廃棄物の処理及び清掃に関する法律第12条の２第10項の規定に基づき、特別管理産業廃棄物の減量その他その処理に関する計画を作成したので、提出します。
C48: 事業場の名称 | F48: 東京電力パワーグリッド株式会社 旭資材置場 | P48: 自主管理事業登録番号
P49: 新規
C50: 事業場の所在地 | F50: 神奈川県横浜市鶴見区駒岡２－11－１ | N50: ＴＥＬ（連絡先）：
C52: 計画期間 | F52: 令和８ 年 ４ 月 １ 日 ～ 令和 ９年 ３ 月 31 日（ １ 年間）
C53: 当該事業場に関する事項
D54: ① | E54: 事業の種類 | F54: Ｆ－電気・ガス・熱供給・水道業 | L54: (具体的には） | N54: 33-電気業
D55: ② | E55: 事業の規模 | F55: 製造業 | J55: 製造品出荷額 | S55: 百万円
F56: 建設業 | J56: エリア内元請完成工事高 | S56: 百万円
D57: ※ 前年度実績を記入、医療機関は前年度末時点の病床数を記入。 | F57: 医療機関 | J57: 病床数 | S57: 床
F58: その他の業種 | J58: 売上高 | N58: 2294300 | S58: 百万円
F59: （上記項目に該当しない場合にはこちらに記載をしてください。）
D61: ③ | E61: 従業員数 | F61: 20,469人
F62: 処理委託先へ運搬し中間処分では焼却、最終処分では再生利用業者への委託
D63: ④ | E63: 特別管理産業廃棄物の一連の処理の工程
D68: ※ 特別管理産業廃棄物の種類ごとに記入
C74: （第２面）
C75: 特別管理産業廃棄物の処理に係る管理体制に関する事項
D76: （管理体制図）
D77: ○処理施設への搬出計画策定・指示 ･･･ 調達室資材環境グループ ○処理施設への搬出 ･･･ 調達室資材環境グループ ○処理委託先 ･･･ 杉田建材株式会社 群桐エコロ株式会社 エコシステム秋田株式会社 エコシステム山陽株式会社 オオノ開發株式会社
C87: 特別管理産業廃棄物の排出の抑制に関する事項
D88: ① | E88: 現状 | F88: 【前年度（令和７年度）実績】
A89: 5 | F89: 特別管理産業廃棄物の種類数 | K89: =+COUNTIF(別紙!G9:W9,">0") -> 1 | N89: 種類 | Q89: * 種類ごとの前年度排出量は、別紙のとおり。
A90: 6 | F90: ① 排出量 | K90: =+別紙!X9 -> 392.85 | P90: ｔ
V92: =+IF($F$54="Ｄ－建設業",IF($T$29="○","← （建設業の場合は行政区毎の排出量内訳も記入してください）",""),"")
F93: （これまでに実施した取組）
F94: 2025年度に全数処理完了
D103: ② | E103: 計画 | F103: 【（令和８年度）目標】
A104: 7 | F104: 特別管理産業廃棄物の種類数 | K104: =+COUNTIF(別紙!G19:W19,">0") -> 0 | N104: 種類 | Q104: * 種類ごとの本年度排出目標量は、別紙のとおり。
A105: 8 | F105: ① 排出量 | K105: =+別紙!X19 -> 0 | P105: ｔ
A107: 9 | V107: =+IF($F$54="Ｄ－建設業",IF($T$29="○","← （建設業の場合は行政区毎の排出量内訳も記入してください）",""),"")
F108: （今後実施する予定の取組）
C118: 特別管理産業廃棄物の分別に関する事項
D119: ① | E119: 現状 | F119: （分別している特別管理産業廃棄物の種類及び分別に関する取組）
D125: ② | E125: 計画 | F125: （今後分別する予定の特別管理産業廃棄物の種類及び分別に関する取組）
C131: （第３面）
C132: 自ら行う特別管理産業廃棄物の再生利用に関する事項
D133: ① | E133: 現状 | F133: 【前年度（令和７年度）実績】
F134: ②＋⑧ 自ら再生利用を行った特別管理産業廃棄物の量 | K134: =+別紙!X10 -> 0 | P134: ｔ | Q134: * 種類ごとの前年度自ら再生利用量は、別紙のとおり。
F135: （これまでに実施した取組）
D144: ② | E144: 計画 | F144: 【（令和８年度）目標】
F145: ②＋⑧ 自ら再生利用を行う特別管理産業廃棄物の量 | K145: =+別紙!X21+別紙!X28 -> 0 | P145: ｔ | Q145: * 種類ごとの本年度自ら再生利用量は、別紙のとおり。
F146: （今後実施する予定の取組）
C155: 自ら行う特別管理産業廃棄物の中間処理に関する事項
D156: ① | E156: 現状 | F156: 【前年度（令和７年度）実績】
F157: ⑤ 自ら熱回収を行った特別管理産業廃棄物の量 | K157: =+別紙!X11 -> 0 | P157: ｔ | Q157: * 種類ごとの前年度自ら熱回収を行った量は、別紙のとおり。
F158: ⑦ 自ら中間処理により減量した特別管理産業廃棄物の量 | K158: =+別紙!X12 -> 0 | P158: ｔ | Q158: * 種類ごとの前年度自ら中間処理により減量した量は、別紙のとおり。
F159: （これまでに実施した取組）
D168: ② | E168: 計画 | F168: 【（令和８年度）目標】
F169: ⑤ 自ら熱回収を行う特別管理産業廃棄物の量 | K169: =+別紙!X24 -> 0 | P169: ｔ | Q169: * 種類ごとの本年度自ら熱回収を行う量は、別紙のとおり。
F170: ⑦ 自ら中間処理により減量する特別管理産業廃棄物の量 | K170: =+別紙!X27 -> 0 | P170: ｔ | Q170: * 種類ごとの本年度自ら中間処理により減量する量は、別紙のとおり。
F171: （今後実施する予定の取組）
C180: （第４面）
C181: 自ら行う特別管理産業廃棄物の埋立処分に関する事項
D182: ① | E182: 現状 | F182: 【前年度（令和７年度）実績】
F183: ③＋⑨ 自ら埋立処分を行った特別管理産業廃棄物の量 | K183: =+別紙!X13 -> 0 | P183: ｔ | Q183: * 種類ごとの前年度自ら埋立処分を行った量は、別紙のとおり。
F184: （これまでに実施した取組）
D194: ② | E194: 計画 | F194: 【（令和８年度）目標】
F195: ③＋⑨ 自ら埋立処分を行う特別管理産業廃棄物の量 | K195: =+別紙!X22+別紙!X29 -> 0 | P195: ｔ | Q195: * 種類ごとの本年度自ら埋立処分を行う量は、別紙のとおり。
F196: （今後実施する予定の取組）
C206: 特別管理産業廃棄物の処理の委託に関する事項
D207: ① | E207: 現状 | F207: 【前年度（令和７年度）実績】
F208: ⑩ 全処理委託量 | K208: =+別紙!X14 -> 372.35 | P208: ｔ | Q208: * 種類ごとの前年度処理委託量は、別紙のとおり。
G209: ⑪ 優良認定処理業者への処理委託量 | K209: =+別紙!X15 -> 372.35 | P209: ｔ
G210: ⑫ 再生利用業者への処理委託量 | K210: =+別紙!X16 -> 372.35 | P210: ｔ
G211: ⑬ 認定熱回収業者への処理委託量 | K211: =+別紙!X17 -> 0 | P211: ｔ
G212: ⑭ 認定熱回収業者以外の熱回収を行う業者への処理委託量 | K212: =+別紙!X18 -> 0 | P212: ｔ
F213: （これまでに実施した取組）
...

Sheet ｱ.特管廃油
R1: ↓ | S1: 注意：前年度の排出量のみでフロー図のデータ①がない場合にも、前年度データを該当欄に入力してください
B2: 特別管理産業廃棄物処理計画書
AO3: ４－２ | AR3: 法定 | AT3: 自主
AR4: =+表紙!Q29 -> 〇 | AT4: =+表紙!T29
B5: 別紙処理フロー | Y5: 事業場名称 | AD5: ： | AE5: =+表紙!F48 -> 東京電力パワーグリッド株式会社 旭資材置場
B6: 令和８年度発生する特別管理産業廃棄物ごとの目標量と処理計画
B7: フローに記載した特別管理産業廃棄物の種類 | D7: ア. 特管廃油
B8: ※ | C8: 本用紙は廃棄物の種類ごとに1枚の記載となります。異なる廃棄物の処理フローは別シートに記載してください。 | AG8: ⑧ | AH8: 自ら中間処理後に再生利用する量
B9: （単位：t/年） | F9: 有償物量 | AD9: ａ残さ物の自己処理 | AM9: ｔ
C11: 不要物等発生量 | F11: ① | G11: 当該事業場における排出量 | L11: Ａ 自己処理 | O11: ② | P11: 自ら直接再生利用する量 | AG11: ⑨ | AH11: 自ら中間処理後に自ら埋立処分又は海洋投入処分する量
F12: =+ROUND(O12,2)+ROUND(O15,2)+ROUND(O18,2)+ROUND(O24,2)+O27-ROUND(F15,2) -> 0 | H12: ｔ | S12: ｔ | AM12: ｔ
F14: ※１ | G14: 自社の他事業場からの搬入量 | O14: ③ | P14: 自ら直接埋立処分する量 | AG14: ※3 | AH14: 自ら中間処理後に自社の他事業場での処理量
H15: ｔ | S15: ｔ | AM15: ｔ | AR15: （目的別内訳）
O16: =+IF(X18=0,"",IF(X18-O18=X18,"エラー！：⑥残さ物量があるのに、④自ら中間処理した量がゼロになっています","")) | AR16: 再生利用前 委託量 | AU16: ｔ
O17: ④ | P17: 自ら中間処理する量 | X17: ⑥ | Y17: 自ら中間処理後の残さ量 | AD17: ｂ残さ物の委託処理 | AG17: ｂ | AH17: 自ら中間処理後の処理委託量 | AN17: ｂ-1 中間処理委託量 | AR17: 最終処分前 委託量 | AU17: ｔ
S18: ｔ | X18: =+ROUND(AG9,2)+ROUND(AG12,2)+ROUND(AG15,2)+AG18 -> 0 | AA18: ｔ | AG18: =+ROUND(AN18,2)+ROUND(AN21,2) -> 0 | AK18: ｔ | AN18: =+ROUND(AT16,2)+ROUND(AT17,2)+ROUND(AT18,2) -> 0 | AO18: ｔ | AR18: 下水等放流前委託量 | AU18: ｔ
B20: 注）右上のフローには、令和８年度の目標量を記載してください。下の表には、令和７年度実績を記載してください。なお、様式５をあわせて提出する場合には、先に様式５を入力し、データ反映・印刷ツールを使用するとこちらに数値が反映されます。 | O20: ⑤ | P20: ④のうち熱回収を行う量 | X20: ⑦ | Y20: 自ら中間処理により減量する量 | AN20: ｂ-2 最終処分委託量
S21: ｔ | X21: =+O18-X18 -> 0 | AA21: ｔ | AO21: ｔ
O22: =+IF(O21=0,"",IF(O18<O21,"エラー !：④の内数である⑤の量が④を超えています",""))
B23: 項 目 | F23: 令和７年度実績 | O23: ※２ | P23: 自社の他事業場での処理量 | AR23: ⑫ | AS23: ⑩のうち再生利用業者への処理委託量
B24: ① 排出量 | F24: 0 | H24: t | S24: ｔ | AR24: =+ROUND(AT16,2)+ROUND(Z28,2) -> 0 | AU24: ｔ
B25: ②＋⑧ 自ら再生利用を行った量 | F25: 0 | H25: t
B26: ⑤ 自ら熱回収を行った量 | F26: 0 | H26: t | L26: Ｂ 直接委託処理 | O26: Ｂ | P26: 直接処理委託量 | AK26: ⑩ | AL26: 直接及び自ら中間処理後の処理委託量 | AR26: ⑬ | AS26: ⑩のうち認定熱回収業者への処理委託量
B27: ⑦ 自ら中間処理により減量した量 | F27: 0 | H27: t | O27: =+Q30+ROUND(Q33,2) -> 0 | S27: ｔ | X27: （目的別内訳） | AK27: =+AG18+O27 -> 0 | AO27: ｔ | AU27: ｔ
B28: ③＋⑨ 自ら埋立処分又は海洋投入処分を行った量 | F28: 0 | H28: t | X28: 再生利用前委託量 | AE28: ｔ | AR28: =+IF(AR27=0,"",IF(AK27<(AR24+AR27+AR31),"エラー !：⑩の内数である（⑫+⑬＋⑭）の量が⑩を超えています",""))
B29: ⑩ 全処理委託量 | F29: 0 | H29: t | Q29: B-1 | R29: 中間処理委託量 | X29: 最終処分前委託量 | AE29: ｔ | AK29: ⑪ | AL29: ⑩のうち優良認定処理業者への処理委託量 | AR29: ⑭ | AS29: ⑩のうち認定熱回収業者以外の熱回収を行う業者への処理委託量
B30: ⑪ 優良認定処理業者への処理委託量 | F30: 0 | H30: t | Q30: =+ROUND(Z28,2)+ROUND(Z29,2)+ROUND(Z30,2) -> 0 | U30: ｔ | X30: 下水等放流前委託量 | AE30: ｔ | AO30: ｔ
B31: ⑫ 再生利用業者への処理委託量 | F31: 0 | H31: t | Z31: 【特別管理産業廃棄物の種類 （ア～チ）】 | AK31: =+IF(AK30=0,"",IF(AK27<AK30,"エラー !：⑩の内数である⑪の量が⑩を超えています","")) | AU31: ｔ
B32: ⑬ 認定熱回収業者への処理委託量 | F32: 0 | H32: t | Q32: B-2 | R32: 最終処分委託量 | Z32: ア. 特管廃油 イ. 特管廃酸 (pH2以下) ウ. 特管廃アルカリ (pH12.5以上) エ. 感染性廃棄物 | AF32: オ. 廃ＰＣＢ等 カ. ＰＣＢ汚染物 キ. ＰＣＢ処理物 ク. 指定下水汚泥 ケ. 有害鉱さい コ. 廃石綿等 | AJ32: サ. 有害ばいじん チ. 廃水銀等 シ. 有害燃え殻 ス. 有害廃油 セ. 有害汚泥 ソ. 有害廃酸 タ. 有害廃アルカリ | AR32: =+IF(AR31=0,"",IF(AK27<(AR24+AR27+AR31),"エラー !：⑩の内数である（⑫+⑬＋⑭）の量が⑩を超えています",""))
B33: ⑭ 認定熱回収業者以外の熱回収を行う業者への処理委託量 | F33: 0 | H33: t | U33: ｔ
C34: =+IF(F30=0,"",IF(F29<F30,"エラー !：上の表は、⑩の内数である⑪の量が⑩を超えています",""))
C35: =+IF(F31=0,"",IF(F29<F31,"エラー !：上の表は、⑩の内数である⑫の量が⑩を超えています",""))
C36: =+IF(F32=0,"",IF(F29<F32,"エラー !：上の表は、⑩の内数である⑬の量が⑩を超えています",""))
C37: =+IF(F33=0,"",IF(F29<F33,"エラー !：上の表は、⑩の内数である⑭の量が⑩を超えています",""))

Sheet ｲ.特管廃酸
R1: ↓ | S1: 注意：前年度の排出量のみでフロー図のデータ①がない場合にも、前年度データを該当欄に入力してください
B2: 特別管理産業廃棄物処理計画書
AO3: ４－２ | AR3: 法定 | AT3: 自主
AR4: =+表紙!Q29 -> 〇 | AT4: =+表紙!T29
B5: 別紙処理フロー | Y5: 事業場名称 | AD5: ： | AE5: =+表紙!F48 -> 東京電力パワーグリッド株式会社 旭資材置場
B6: 令和８年度発生する特別管理産業廃棄物ごとの目標量と処理計画
B7: フローに記載した特別管理産業廃棄物の種類 | D7: イ. 特管廃酸(pH2以下)
B8: ※ | C8: 本用紙は廃棄物の種類ごとに1枚の記載となります。異なる廃棄物の処理フローは別シートに記載してください。 | AG8: ⑧ | AH8: 自ら中間処理後に再生利用する量
B9: （単位：t/年） | F9: 有償物量 | AD9: ａ残さ物の自己処理 | AM9: ｔ
C11: 不要物等発生量 | F11: ① | G11: 当該事業場における排出量 | L11: Ａ 自己処理 | O11: ② | P11: 自ら直接再生利用する量 | AG11: ⑨ | AH11: 自ら中間処理後に自ら埋立処分又は海洋投入処分する量
F12: =+ROUND(O12,2)+ROUND(O15,2)+ROUND(O18,2)+ROUND(O24,2)+O27-ROUND(F15,2) -> 0 | H12: ｔ | S12: ｔ | AM12: ｔ
F14: ※１ | G14: 自社の他事業場からの搬入量 | O14: ③ | P14: 自ら直接埋立処分する量 | AG14: ※3 | AH14: 自ら中間処理後に自社の他事業場での処理量
H15: ｔ | S15: ｔ | AM15: ｔ | AR15: （目的別内訳）
O16: =+IF(X18=0,"",IF(X18-O18=X18,"エラー！：⑥残さ物量があるのに、④自ら中間処理した量がゼロになっています","")) | AR16: 再生利用前委託量 | AU16: ｔ
O17: ④ | P17: 自ら中間処理する量 | X17: ⑥ | Y17: 自ら中間処理後の残さ量 | AD17: ｂ残さ物の委託処理 | AG17: ｂ | AH17: 自ら中間処理後の処理委託量 | AN17: ｂ-1 中間処理委託量 | AR17: 最終処分前 委託量 | AU17: ｔ
S18: ｔ | X18: =+ROUND(AG9,2)+ROUND(AG12,2)+ROUND(AG15,2)+AG18 -> 0 | AA18: ｔ | AG18: =+ROUND(AN18,2)+ROUND(AN21,2) -> 0 | AK18: ｔ | AN18: =+ROUND(AT16,2)+ROUND(AT17,2)+ROUND(AT18,2) -> 0 | AO18: ｔ | AR18: 下水等放流前委託量 | AU18: ｔ
B20: 注）右上のフローには、令和８年度の目標量を記載してください。下の表には、令和７年度実績を記載してください。なお、様式５をあわせて提出する場合には、先に様式５を入力し、データ反映・印刷ツールを使用するとこちらに数値が反映されます。 | O20: ⑤ | P20: ④のうち熱回収を行う量 | X20: ⑦ | Y20: 自ら中間処理により減量する量 | AN20: ｂ-2 最終処分委託量
S21: ｔ | X21: =+O18-X18 -> 0 | AA21: ｔ | AO21: ｔ
O22: =+IF(O21=0,"",IF(O18<O21,"エラー !：④の内数である⑤の量が④を超えています",""))
B23: 項 目 | F23: 令和７年度実績 | O23: ※２ | P23: 自社の他事業場での処理量 | AR23: ⑫ | AS23: ⑩のうち再生利用業者への処理委託量
B24: ① 排出量 | F24: 0 | H24: t | S24: ｔ | AR24: =+ROUND(AT16,2)+ROUND(Z28,2) -> 0 | AU24: ｔ
B25: ②＋⑧ 自ら再生利用を行った量 | F25: 0 | H25: t
B26: ⑤ 自ら熱回収を行った量 | F26: 0 | H26: t | L26: Ｂ 直接委託処理 | O26: Ｂ | P26: 直接処理委託量 | AK26: ⑩ | AL26: 直接及び自ら中間処理後の処理委託量 | AR26: ⑬ | AS26: ⑩のうち認定熱回収業者への処理委託量
B27: ⑦ 自ら中間処理により減量した量 | F27: 0 | H27: t | O27: =+Q30+ROUND(Q33,2) -> 0 | S27: ｔ | X27: （目的別内訳） | AK27: =+AG18+O27 -> 0 | AO27: ｔ | AU27: ｔ
B28: ③＋⑨ 自ら埋立処分又は海洋投入処分を行った量 | F28: 0 | H28: t | X28: 再生利用前委託量 | AE28: ｔ | AR28: =+IF(AR27=0,"",IF(AK27<(AR24+AR27+AR31),"エラー !：⑩の内数である（⑫+⑬＋⑭）の量が⑩を超えています",""))
B29: ⑩ 全処理委託量 | F29: 0 | H29: t | Q29: B-1 | R29: 中間処理委託量 | X29: 最終処分前委託量 | AE29: ｔ | AK29: ⑪ | AL29: ⑩のうち優良認定処理業者への処理委託量 | AR29: ⑭ | AS29: ⑩のうち認定熱回収業者以外の熱回収を行う業者への処理委託量
B30: ⑪ 優良認定処理業者への処理委託量 | F30: 0 | H30: t | Q30: =+ROUND(Z28,2)+ROUND(Z29,2)+ROUND(Z30,2) -> 0 | U30: ｔ | X30: 下水等放流前委託量 | AE30: ｔ | AO30: ｔ
B31: ⑫ 再生利用業者への処理委託量 | F31: 0 | H31: t | Z31: 【特別管理産業廃棄物の種類 （ア～チ）】 | AK31: =+IF(AK30=0,"",IF(AK27<AK30,"エラー !：⑩の内数である⑪の量が⑩を超えています","")) | AU31: ｔ
B32: ⑬ 認定熱回収業者への処理委託量 | F32: 0 | H32: t | Q32: B-2 | R32: 最終処分委託量 | Z32: ア. 特管廃油 イ. 特管廃酸 (pH2以下) ウ. 特管廃アルカリ (pH12.5以上) エ. 感染性廃棄物 | AF32: オ. 廃ＰＣＢ等 カ. ＰＣＢ汚染物 キ. ＰＣＢ処理物 ク. 指定下水汚泥 ケ. 有害鉱さい コ. 廃石綿等 | AJ32: サ. 有害ばいじん チ. 廃水銀等 シ. 有害燃え殻 ス. 有害廃油 セ. 有害汚泥 ソ. 有害廃酸 タ. 有害廃アルカリ | AR32: =+IF(AR31=0,"",IF(AK27<(AR24+AR27+AR31),"エラー !：⑩の内数である（⑫+⑬＋⑭）の量が⑩を超えています",""))
B33: ⑭ 認定熱回収業者以外の熱回収を行う業者への処理委託量 | F33: 0 | H33: t | U33: ｔ
C34: =+IF(F30=0,"",IF(F29<F30,"エラー !：上の表は、⑩の内数である⑪の量が⑩を超えています",""))
C35: =+IF(F31=0,"",IF(F29<F31,"エラー !：上の表は、⑩の内数である⑫の量が⑩を超えています",""))
C36: =+IF(F32=0,"",IF(F29<F32,"エラー !：上の表は、⑩の内数である⑬の量が⑩を超えています",""))
C37: =+IF(F33=0,"",IF(F29<F33,"エラー !：上の表は、⑩の内数である⑭の量が⑩を超えています",""))

Sheet ｳ.特管廃ｱﾙｶﾘ
R1: ↓ | S1: 注意：前年度の排出量のみでフロー図のデータ①がない場合にも、前年度データを該当欄に入力してください
B2: 特別管理産業廃棄物処理計画書
AO3: ４－２ | AR3: 法定 | AT3: 自主
AR4: =+表紙!Q29 -> 〇 | AT4: =+表紙!T29
B5: 別紙処理フロー | Y5: 事業場名称 | AD5: ： | AE5: =+表紙!F48 -> 東京電力パワーグリッド株式会社 旭資材置場
B6: 令和８年度発生する特別管理産業廃棄物ごとの目標量と処理計画
B7: フローに記載した特別管理産業廃棄物の種類 | D7: ウ. 特管廃アルカリ (pH12.5以上)
B8: ※ | C8: 本用紙は廃棄物の種類ごとに1枚の記載となります。異なる廃棄物の処理フローは別シートに記載してください。 | AG8: ⑧ | AH8: 自ら中間処理後に再生利用する量
B9: （単位：t/年） | F9: 有償物量 | AD9: ａ残さ物の自己処理 | AM9: ｔ
C11: 不要物等発生量 | F11: ① | G11: 当該事業場における排出量 | L11: Ａ 自己処理 | O11: ② | P11: 自ら直接再生利用する量 | AG11: ⑨ | AH11: 自ら中間処理後に自ら埋立処分又は海洋投入処分する量
F12: =+ROUND(O12,2)+ROUND(O15,2)+ROUND(O18,2)+ROUND(O24,2)+O27-ROUND(F15,2) -> 0 | H12: ｔ | S12: ｔ | AM12: ｔ
F14: ※１ | G14: 自社の他事業場からの搬入量 | O14: ③ | P14: 自ら直接埋立処分する量 | AG14: ※3 | AH14: 自ら中間処理後に自社の他事業場での処理量
H15: ｔ | S15: ｔ | AM15: ｔ | AR15: （目的別内訳）
O16: =+IF(X18=0,"",IF(X18-O18=X18,"エラー！：⑥残さ物量があるのに、④自ら中間処理した量がゼロになっています","")) | AR16: 再生利用前委託量 | AU16: ｔ
O17: ④ | P17: 自ら中間処理する量 | X17: ⑥ | Y17: 自ら中間処理後の残さ量 | AD17: ｂ残さ物の委託処理 | AG17: ｂ | AH17: 自ら中間処理後の処理委託量 | AN17: ｂ-1 中間処理委託量 | AR17: 最終処分前 委託量 | AU17: ｔ
S18: ｔ | X18: =+ROUND(AG9,2)+ROUND(AG12,2)+ROUND(AG15,2)+AG18 -> 0 | AA18: ｔ | AG18: =+ROUND(AN18,2)+ROUND(AN21,2) -> 0 | AK18: ｔ | AN18: =+ROUND(AT16,2)+ROUND(AT17,2)+ROUND(AT18,2) -> 0 | AO18: ｔ | AR18: 下水等放流前委託量 | AU18: ｔ
B20: 注）右上のフローには、令和８年度の目標量を記載してください。下の表には、令和７年度実績を記載してください。なお、様式５をあわせて提出する場合には、先に様式５を入力し、データ反映・印刷ツールを使用するとこちらに数値が反映されます。 | O20: ⑤ | P20: ④のうち熱回収を行う量 | X20: ⑦ | Y20: 自ら中間処理により減量する量 | AN20: ｂ-2 最終処分委託量
S21: ｔ | X21: =+O18-X18 -> 0 | AA21: ｔ | AO21: ｔ
O22: =+IF(O21=0,"",IF(O18<O21,"エラー !：④の内数である⑤の量が④を超えています",""))
B23: 項 目 | F23: 令和７年度実績 | O23: ※２ | P23: 自社の他事業場での処理量 | AR23: ⑫ | AS23: ⑩のうち再生利用業者への処理委託量
B24: ① 排出量 | F24: 0 | H24: t | S24: ｔ | AR24: =+ROUND(AT16,2)+ROUND(Z28,2) -> 0 | AU24: ｔ
B25: ②＋⑧ 自ら再生利用を行った量 | F25: 0 | H25: t
B26: ⑤ 自ら熱回収を行った量 | F26: 0 | H26: t | L26: Ｂ 直接委託処理 | O26: Ｂ | P26: 直接処理委託量 | AK26: ⑩ | AL26: 直接及び自ら中間処理後の処理委託量 | AR26: ⑬ | AS26: ⑩のうち認定熱回収業者への処理委託量
B27: ⑦ 自ら中間処理により減量した量 | F27: 0 | H27: t | O27: =+Q30+ROUND(Q33,2) -> 0 | S27: ｔ | X27: （目的別内訳） | AK27: =+AG18+O27 -> 0 | AO27: ｔ | AU27: ｔ
B28: ③＋⑨ 自ら埋立処分又は海洋投入処分を行った量 | F28: 0 | H28: t | X28: 再生利用前委託量 | AE28: ｔ | AR28: =+IF(AR27=0,"",IF(AK27<(AR24+AR27+AR31),"エラー !：⑩の内数である（⑫+⑬＋⑭）の量が⑩を超えています",""))
B29: ⑩ 全処理委託量 | F29: 0 | H29: t | Q29: B-1 | R29: 中間処理委託量 | X29: 最終処分前委託量 | AE29: ｔ | AK29: ⑪ | AL29: ⑩のうち優良認定処理業者への処理委託量 | AR29: ⑭ | AS29: ⑩のうち認定熱回収業者以外の熱回収を行う業者への処理委託量
B30: ⑪ 優良認定処理業者への処理委託量 | F30: 0 | H30: t | Q30: =+ROUND(Z28,2)+ROUND(Z29,2)+ROUND(Z30,2) -> 0 | U30: ｔ | X30: 下水等放流前委託量 | AE30: ｔ | AO30: ｔ
B31: ⑫ 再生利用業者への処理委託量 | F31: 0 | H31: t | Z31: 【特別管理産業廃棄物の種類 （ア～チ）】 | AK31: =+IF(AK30=0,"",IF(AK27<AK30,"エラー !：⑩の内数である⑪の量が⑩を超えています","")) | AU31: ｔ
B32: ⑬ 認定熱回収業者への処理委託量 | F32: 0 | H32: t | Q32: B-2 | R32: 最終処分委託量 | Z32: ア. 特管廃油 イ. 特管廃酸 (pH2以下) ウ. 特管廃アルカリ (pH12.5以上) エ. 感染性廃棄物 | AF32: オ. 廃ＰＣＢ等 カ. ＰＣＢ汚染物 キ. ＰＣＢ処理物 ク. 指定下水汚泥 ケ. 有害鉱さい コ. 廃石綿等 | AJ32: サ. 有害ばいじん チ. 廃水銀等 シ. 有害燃え殻 ス. 有害廃油 セ. 有害汚泥 ソ. 有害廃酸 タ. 有害廃アルカリ | AR32: =+IF(AR31=0,"",IF(AK27<(AR24+AR27+AR31),"エラー !：⑩の内数である（⑫+⑬＋⑭）の量が⑩を超えています",""))
B33: ⑭ 認定熱回収業者以外の熱回収を行う業者への処理委託量 | F33: 0 | H33: t | U33: ｔ
C34: =+IF(F30=0,"",IF(F29<F30,"エラー !：上の表は、⑩の内数である⑪の量が⑩を超えています",""))
C35: =+IF(F31=0,"",IF(F29<F31,"エラー !：上の表は、⑩の内数である⑫の量が⑩を超えています",""))
C36: =+IF(F32=0,"",IF(F29<F32,"エラー !：上の表は、⑩の内数である⑬の量が⑩を超えています",""))
C37: =+IF(F33=0,"",IF(F29<F33,"エラー !：上の表は、⑩の内数である⑭の量が⑩を超えています",""))

Sheet ｴ.感染性廃棄物
R1: ↓ | S1: 注意：前年度の排出量のみでフロー図のデータ①がない場合にも、前年度データを該当欄に入力してください
B2: 特別管理産業廃棄物処理計画書
AO3: ４－２ | AR3: 法定 | AT3: 自主
AR4: =+表紙!Q29 -> 〇 | AT4: =+表紙!T29
B5: 別紙処理フロー | Y5: 事業場名称 | AD5: ： | AE5: =+表紙!F48 -> 東京電力パワーグリッド株式会社 旭資材置場
B6: 令和８年度発生する特別管理産業廃棄物ごとの目標量と処理計画
B7: フローに記載した特別管理産業廃棄物の種類 | D7: エ. 感染性廃棄物
B8: ※ | C8: 本用紙は廃棄物の種類ごとに1枚の記載となります。異なる廃棄物の処理フローは別シートに記載してください。 | AG8: ⑧ | AH8: 自ら中間処理後に再生利用する量
B9: （単位：t/年） | F9: 有償物量 | AD9: ａ残さ物の自己処理 | AM9: ｔ
C11: 不要物等発生量 | F11: ① | G11: 当該事業場における排出量 | L11: Ａ 自己処理 | O11: ② | P11: 自ら直接再生利用する量 | AG11: ⑨ | AH11: 自ら中間処理後に自ら埋立処分又は海洋投入処分する量
F12: =+ROUND(O12,2)+ROUND(O15,2)+ROUND(O18,2)+ROUND(O24,2)+O27-ROUND(F15,2) -> 0 | H12: ｔ | S12: ｔ | AM12: ｔ
F14: ※１ | G14: 自社の他事業場からの搬入量 | O14: ③ | P14: 自ら直接埋立処分する量 | AG14: ※3 | AH14: 自ら中間処理後に自社の他事業場での処理量
H15: ｔ | S15: ｔ | AM15: ｔ | AR15: （目的別内訳）
O16: =+IF(X18=0,"",IF(X18-O18=X18,"エラー！：⑥残さ物量があるのに、④自ら中間処理した量がゼロになっています","")) | AR16: 再生利用前委託量 | AU16: ｔ
O17: ④ | P17: 自ら中間処理する量 | X17: ⑥ | Y17: 自ら中間処理後の残さ量 | AD17: ｂ残さ物の委託処理 | AG17: ｂ | AH17: 自ら中間処理後の処理委託量 | AN17: ｂ-1 中間処理委託量 | AR17: 最終処分前 委託量 | AU17: ｔ
S18: ｔ | X18: =+ROUND(AG9,2)+ROUND(AG12,2)+ROUND(AG15,2)+AG18 -> 0 | AA18: ｔ | AG18: =+ROUND(AN18,2)+ROUND(AN21,2) -> 0 | AK18: ｔ | AN18: =+ROUND(AT16,2)+ROUND(AT17,2)+ROUND(AT18,2) -> 0 | AO18: ｔ | AR18: 下水等放流前委託量 | AU18: ｔ
B20: 注）右上のフローには、令和８年度の目標量を記載してください。下の表には、令和７年度実績を記載してください。なお、様式５をあわせて提出する場合には、先に様式５を入力し、データ反映・印刷ツールを使用するとこちらに数値が反映されます。 | O20: ⑤ | P20: ④のうち熱回収を行う量 | X20: ⑦ | Y20: 自ら中間処理により減量する量 | AN20: ｂ-2 最終処分委託量
S21: ｔ | X21: =+O18-X18 -> 0 | AA21: ｔ | AO21: ｔ
O22: =+IF(O21=0,"",IF(O18<O21,"エラー !：④の内数である⑤の量が④を超えています",""))
B23: 項 目 | F23: 令和７年度実績 | O23: ※２ | P23: 自社の他事業場での処理量 | AR23: ⑫ | AS23: ⑩のうち再生利用業者への処理委託量
B24: ① 排出量 | F24: 0 | H24: t | S24: ｔ | AR24: =+ROUND(AT16,2)+ROUND(Z28,2) -> 0 | AU24: ｔ
B25: ②＋⑧ 自ら再生利用を行った量 | F25: 0 | H25: t
B26: ⑤ 自ら熱回収を行った量 | F26: 0 | H26: t | L26: Ｂ 直接委託処理 | O26: Ｂ | P26: 直接処理委託量 | AK26: ⑩ | AL26: 直接及び自ら中間処理後の処理委託量 | AR26: ⑬ | AS26: ⑩のうち認定熱回収業者への処理委託量
B27: ⑦ 自ら中間処理により減量した量 | F27: 0 | H27: t | O27: =+Q30+ROUND(Q33,2) -> 0 | S27: ｔ | X27: （目的別内訳） | AK27: =+AG18+O27 -> 0 | AO27: ｔ | AU27: ｔ
B28: ③＋⑨ 自ら埋立処分又は海洋投入処分を行った量 | F28: 0 | H28: t | X28: 再生利用前委託量 | AE28: ｔ | AR28: =+IF(AR27=0,"",IF(AK27<(AR24+AR27+AR31),"エラー !：⑩の内数である（⑫+⑬＋⑭）の量が⑩を超えています",""))
B29: ⑩ 全処理委託量 | F29: 0 | H29: t | Q29: B-1 | R29: 中間処理委託量 | X29: 最終処分前委託量 | AE29: ｔ | AK29: ⑪ | AL29: ⑩のうち優良認定処理業者への処理委託量 | AR29: ⑭ | AS29: ⑩のうち認定熱回収業者以外の熱回収を行う業者への処理委託量
B30: ⑪ 優良認定処理業者への処理委託量 | F30: 0 | H30: t | Q30: =+ROUND(Z28,2)+ROUND(Z29,2)+ROUND(Z30,2) -> 0 | U30: ｔ | X30: 下水等放流前委託量 | AE30: ｔ | AO30: ｔ
B31: ⑫ 再生利用業者への処理委託量 | F31: 0 | H31: t | Z31: 【特別管理産業廃棄物の種類 （ア～チ）】 | AK31: =+IF(AK30=0,"",IF(AK27<AK30,"エラー !：⑩の内数である⑪の量が⑩を超えています","")) | AU31: ｔ
B32: ⑬ 認定熱回収業者への処理委託量 | F32: 0 | H32: t | Q32: B-2 | R32: 最終処分委託量 | Z32: ア. 特管廃油 イ. 特管廃酸 (pH2以下) ウ. 特管廃アルカリ (pH12.5以上) エ. 感染性廃棄物 | AF32: オ. 廃ＰＣＢ等 カ. ＰＣＢ汚染物 キ. ＰＣＢ処理物 ク. 指定下水汚泥 ケ. 有害鉱さい コ. 廃石綿等 | AJ32: サ. 有害ばいじん チ. 廃水銀等 シ. 有害燃え殻 ス. 有害廃油 セ. 有害汚泥 ソ. 有害廃酸 タ. 有害廃アルカリ | AR32: =+IF(AR31=0,"",IF(AK27<(AR24+AR27+AR31),"エラー !：⑩の内数である（⑫+⑬＋⑭）の量が⑩を超えています",""))
B33: ⑭ 認定熱回収業者以外の熱回収を行う業者への処理委託量 | F33: 0 | H33: t | U33: ｔ
C34: =+IF(F30=0,"",IF(F29<F30,"エラー !：上の表は、⑩の内数である⑪の量が⑩を超えています",""))
C35: =+IF(F31=0,"",IF(F29<F31,"エラー !：上の表は、⑩の内数である⑫の量が⑩を超えています",""))
C36: =+IF(F32=0,"",IF(F29<F32,"エラー !：上の表は、⑩の内数である⑬の量が⑩を超えています",""))
C37: =+IF(F33=0,"",IF(F29<F33,"エラー !：上の表は、⑩の内数である⑭の量が⑩を超えています",""))

Sheet ｵ.廃PCB等
R1: ↓ | S1: 注意：前年度の排出量のみでフロー図のデータ①がない場合にも、前年度データを該当欄に入力してください
B2: 特別管理産業廃棄物処理計画書
AO3: ４－２ | AR3: 法定 | AT3: 自主
AR4: =+表紙!Q29 -> 〇 | AT4: =+表紙!T29
B5: 別紙処理フロー | Y5: 事業場名称 | AD5: ： | AE5: =+表紙!F48 -> 東京電力パワーグリッド株式会社 旭資材置場
B6: 令和８年度発生する特別管理産業廃棄物ごとの目標量と処理計画
B7: フローに記載した特別管理産業廃棄物の種類 | D7: オ. 廃PCB等
B8: ※ | C8: 本用紙は廃棄物の種類ごとに1枚の記載となります。異なる廃棄物の処理フローは別シートに記載してください。 | AG8: ⑧ | AH8: 自ら中間処理後に再生利用する量
B9: （単位：t/年） | F9: 有償物量 | AD9: ａ残さ物の自己処理 | AM9: ｔ
C11: 不要物等発生量 | F11: ① | G11: 当該事業場における排出量 | L11: Ａ 自己処理 | O11: ② | P11: 自ら直接再生利用する量 | AG11: ⑨ | AH11: 自ら中間処理後に自ら埋立処分又は海洋投入処分する量
F12: =+ROUND(O12,2)+ROUND(O15,2)+ROUND(O18,2)+ROUND(O24,2)+O27-ROUND(F15,2) -> 0 | H12: ｔ | S12: ｔ | AM12: ｔ
F14: ※１ | G14: 自社の他事業場からの搬入量 | O14: ③ | P14: 自ら直接埋立処分する量 | AG14: ※3 | AH14: 自ら中間処理後に自社の他事業場での処理量
H15: ｔ | S15: ｔ | AM15: ｔ | AR15: （目的別内訳）
O16: =+IF(X18=0,"",IF(X18-O18=X18,"エラー！：⑥残さ物量があるのに、④自ら中間処理した量がゼロになっています","")) | AR16: 再生利用前委託量 | AU16: ｔ
O17: ④ | P17: 自ら中間処理する量 | X17: ⑥ | Y17: 自ら中間処理後の残さ量 | AD17: ｂ残さ物の委託処理 | AG17: ｂ | AH17: 自ら中間処理後の処理委託量 | AN17: ｂ-1 中間処理委託量 | AR17: 最終処分前 委託量 | AU17: ｔ
S18: ｔ | X18: =+ROUND(AG9,2)+ROUND(AG12,2)+ROUND(AG15,2)+AG18 -> 0 | AA18: ｔ | AG18: =+ROUND(AN18,2)+ROUND(AN21,2) -> 0 | AK18: ｔ | AN18: =+ROUND(AT16,2)+ROUND(AT17,2)+ROUND(AT18,2) -> 0 | AO18: ｔ | AR18: 下水等放流前委託量 | AU18: ｔ
B20: 注）右上のフローには、令和８年度の目標量を記載してください。下の表には、令和７年度実績を記載してください。なお、様式５をあわせて提出する場合には、先に様式５を入力し、データ反映・印刷ツールを使用するとこちらに数値が反映されます。 | O20: ⑤ | P20: ④のうち熱回収を行う量 | X20: ⑦ | Y20: 自ら中間処理により減量する量 | AN20: ｂ-2 最終処分委託量
S21: ｔ | X21: =+O18-X18 -> 0 | AA21: ｔ | AO21: ｔ
O22: =+IF(O21=0,"",IF(O18<O21,"エラー !：④の内数である⑤の量が④を超えています",""))
B23: 項 目 | F23: 令和７年度実績 | O23: ※２ | P23: 自社の他事業場での処理量 | AR23: ⑫ | AS23: ⑩のうち再生利用業者への処理委託量
B24: ① 排出量 | F24: 0 | H24: t | S24: ｔ | AR24: =+ROUND(AT16,2)+ROUND(Z28,2) -> 0 | AU24: ｔ
B25: ②＋⑧ 自ら再生利用を行った量 | F25: 0 | H25: t
B26: ⑤ 自ら熱回収を行った量 | F26: 0 | H26: t | L26: Ｂ 直接委託処理 | O26: Ｂ | P26: 直接処理委託量 | AK26: ⑩ | AL26: 直接及び自ら中間処理後の処理委託量 | AR26: ⑬ | AS26: ⑩のうち認定熱回収業者への処理委託量
B27: ⑦ 自ら中間処理により減量した量 | F27: 0 | H27: t | O27: =+Q30+ROUND(Q33,2) -> 0 | S27: ｔ | X27: （目的別内訳） | AK27: =+AG18+O27 -> 0 | AO27: ｔ | AU27: ｔ
B28: ③＋⑨ 自ら埋立処分又は海洋投入処分を行った量 | F28: 0 | H28: t | X28: 再生利用前委託量 | AE28: ｔ | AR28: =+IF(AR27=0,"",IF(AK27<(AR24+AR27+AR31),"エラー !：⑩の内数である（⑫+⑬＋⑭）の量が⑩を超えています",""))
B29: ⑩ 全処理委託量 | F29: 0 | H29: t | Q29: B-1 | R29: 中間処理委託量 | X29: 最終処分前委託量 | AE29: ｔ | AK29: ⑪ | AL29: ⑩のうち優良認定処理業者への処理委託量 | AR29: ⑭ | AS29: ⑩のうち認定熱回収業者以外の熱回収を行う業者への処理委託量
B30: ⑪ 優良認定処理業者への処理委託量 | F30: 0 | H30: t | Q30: =+ROUND(Z28,2)+ROUND(Z29,2)+ROUND(Z30,2) -> 0 | U30: ｔ | X30: 下水等放流前委託量 | AE30: ｔ | AO30: ｔ
B31: ⑫ 再生利用業者への処理委託量 | F31: 0 | H31: t | Z31: 【特別管理産業廃棄物の種類 （ア～チ）】 | AK31: =+IF(AK30=0,"",IF(AK27<AK30,"エラー !：⑩の内数である⑪の量が⑩を超えています","")) | AU31: ｔ
B32: ⑬ 認定熱回収業者への処理委託量 | F32: 0 | H32: t | Q32: B-2 | R32: 最終処分委託量 | Z32: ア. 特管廃油 イ. 特管廃酸 (pH2以下) ウ. 特管廃アルカリ (pH12.5以上) エ. 感染性廃棄物 | AF32: オ. 廃ＰＣＢ等 カ. ＰＣＢ汚染物 キ. ＰＣＢ処理物 ク. 指定下水汚泥 ケ. 有害鉱さい コ. 廃石綿等 | AJ32: サ. 有害ばいじん チ. 廃水銀等 シ. 有害燃え殻 ス. 有害廃油 セ. 有害汚泥 ソ. 有害廃酸 タ. 有害廃アルカリ | AR32: =+IF(AR31=0,"",IF(AK27<(AR24+AR27+AR31),"エラー !：⑩の内数である（⑫+⑬＋⑭）の量が⑩を超えています",""))
B33: ⑭ 認定熱回収業者以外の熱回収を行う業者への処理委託量 | F33: 0 | H33: t | U33: ｔ
C34: =+IF(F30=0,"",IF(F29<F30,"エラー !：上の表は、⑩の内数である⑪の量が⑩を超えています",""))
C35: =+IF(F31=0,"",IF(F29<F31,"エラー !：上の表は、⑩の内数である⑫の量が⑩を超えています",""))
C36: =+IF(F32=0,"",IF(F29<F32,"エラー !：上の表は、⑩の内数である⑬の量が⑩を超えています",""))
C37: =+IF(F33=0,"",IF(F29<F33,"エラー !：上の表は、⑩の内数である⑭の量が⑩を超えています",""))

Sheet ｶ.PCB汚染物
R1: ↓ | S1: 注意：前年度の排出量のみでフロー図のデータ①がない場合にも、前年度データを該当欄に入力してください
B2: 特別管理産業廃棄物処理計画書
AO3: ４－２ | AR3: 法定 | AT3: 自主
AR4: =+表紙!Q29 -> 〇 | AT4: =+表紙!T29
B5: 別紙処理フロー | Y5: 事業場名称 | AD5: ： | AE5: =+表紙!F48 -> 東京電力パワーグリッド株式会社 旭資材置場
B6: 令和８年度発生する特別管理産業廃棄物ごとの目標量と処理計画
B7: フローに記載した特別管理産業廃棄物の種類 | D7: カ. PCB汚染物
B8: ※ | C8: 本用紙は廃棄物の種類ごとに1枚の記載となります。異なる廃棄物の処理フローは別シートに記載してください。 | AG8: ⑧ | AH8: 自ら中間処理後に再生利用する量
B9: （単位：t/年） | F9: 有償物量 | AD9: ａ残さ物の自己処理 | AM9: ｔ
C11: 不要物等発生量 | F11: ① | G11: 当該事業場における排出量 | L11: Ａ 自己処理 | O11: ② | P11: 自ら直接再生利用する量 | AG11: ⑨ | AH11: 自ら中間処理後に自ら埋立処分又は海洋投入処分する量
F12: =+ROUND(O12,2)+ROUND(O15,2)+ROUND(O18,2)+ROUND(O24,2)+O27-ROUND(F15,2) -> 0 | H12: ｔ | S12: ｔ | AM12: ｔ
F14: ※１ | G14: 自社の他事業場からの搬入量 | O14: ③ | P14: 自ら直接埋立処分する量 | AG14: ※3 | AH14: 自ら中間処理後に自社の他事業場での処理量
H15: ｔ | S15: ｔ | AM15: ｔ | AR15: （目的別内訳）
O16: =+IF(X18=0,"",IF(X18-O18=X18,"エラー！：⑥残さ物量があるのに、④自ら中間処理した量がゼロになっています","")) | AR16: 再生利用前委託量 | AU16: ｔ
O17: ④ | P17: 自ら中間処理する量 | X17: ⑥ | Y17: 自ら中間処理後の残さ量 | AD17: ｂ残さ物の委託処理 | AG17: ｂ | AH17: 自ら中間処理後の処理委託量 | AN17: ｂ-1 中間処理委託量 | AR17: 最終処分前 委託量 | AU17: ｔ
S18: ｔ | X18: =+ROUND(AG9,2)+ROUND(AG12,2)+ROUND(AG15,2)+AG18 -> 0 | AA18: ｔ | AG18: =+ROUND(AN18,2)+ROUND(AN21,2) -> 0 | AK18: ｔ | AN18: =+ROUND(AT16,2)+ROUND(AT17,2)+ROUND(AT18,2) -> 0 | AO18: ｔ | AR18: 下水等放流前委託量 | AU18: ｔ
B20: 注）右上のフローには、令和８年度の目標量を記載してください。下の表には、令和７年度実績を記載してください。なお、様式５をあわせて提出する場合には、先に様式５を入力し、データ反映・印刷ツールを使用するとこちらに数値が反映されます。 | O20: ⑤ | P20: ④のうち熱回収を行う量 | X20: ⑦ | Y20: 自ら中間処理により減量する量 | AN20: ｂ-2 最終処分委託量
S21: ｔ | X21: =+O18-X18 -> 0 | AA21: ｔ | AO21: ｔ
O22: =+IF(O21=0,"",IF(O18<O21,"エラー !：④の内数である⑤の量が④を超えています",""))
B23: 項 目 | F23: 令和７年度実績 | O23: ※２ | P23: 自社の他事業場での処理量 | AR23: ⑫ | AS23: ⑩のうち再生利用業者への処理委託量
B24: ① 排出量 | F24: 392.85 | H24: t | S24: ｔ | AR24: =+ROUND(AT16,2)+ROUND(Z28,2) -> 0 | AU24: ｔ
B25: ②＋⑧ 自ら再生利用を行った量 | F25: 0 | H25: t
B26: ⑤ 自ら熱回収を行った量 | F26: 0 | H26: t | L26: Ｂ 直接委託処理 | O26: Ｂ | P26: 直接処理委託量 | AK26: ⑩ | AL26: 直接及び自ら中間処理後の処理委託量 | AR26: ⑬ | AS26: ⑩のうち認定熱回収業者への処理委託量
B27: ⑦ 自ら中間処理により減量した量 | F27: 0 | H27: t | O27: =+Q30+ROUND(Q33,2) -> 0 | S27: ｔ | X27: （目的別内訳） | AK27: =+AG18+O27 -> 0 | AO27: ｔ | AR27: 0 | AU27: ｔ
B28: ③＋⑨ 自ら埋立処分又は海洋投入処分を行った量 | F28: 0 | H28: t | X28: 再生利用前委託量 | Z28: 0 | AE28: ｔ | AR28: =+IF(AR27=0,"",IF(AK27<(AR24+AR27+AR31),"エラー !：⑩の内数である（⑫+⑬＋⑭）の量が⑩を超えています",""))
B29: ⑩ 全処理委託量 | F29: 372.35 | H29: t | Q29: B-1 | R29: 中間処理委託量 | X29: 最終処分前委託量 | AE29: ｔ | AK29: ⑪ | AL29: ⑩のうち優良認定処理業者への処理委託量 | AR29: ⑭ | AS29: ⑩のうち認定熱回収業者以外の熱回収を行う業者への処理委託量
B30: ⑪ 優良認定処理業者への処理委託量 | F30: 372.35 | H30: t | Q30: =+ROUND(Z28,2)+ROUND(Z29,2)+ROUND(Z30,2) -> 0 | U30: ｔ | X30: 下水等放流前委託量 | AE30: ｔ | AK30: 0 | AO30: ｔ
B31: ⑫ 再生利用業者への処理委託量 | F31: 372.35 | H31: t | Z31: 【特別管理産業廃棄物の種類 （ア～チ）】 | AK31: =+IF(AK30=0,"",IF(AK27<AK30,"エラー !：⑩の内数である⑪の量が⑩を超えています","")) | AU31: ｔ
B32: ⑬ 認定熱回収業者への処理委託量 | F32: 0 | H32: t | Q32: B-2 | R32: 最終処分委託量 | Z32: ア. 特管廃油 イ. 特管廃酸 (pH2以下) ウ. 特管廃アルカリ (pH12.5以上) エ. 感染性廃棄物 | AF32: オ. 廃ＰＣＢ等 カ. ＰＣＢ汚染物 キ. ＰＣＢ処理物 ク. 指定下水汚泥 ケ. 有害鉱さい コ. 廃石綿等 | AJ32: サ. 有害ばいじん チ. 廃水銀等 シ. 有害燃え殻 ス. 有害廃油 セ. 有害汚泥 ソ. 有害廃酸 タ. 有害廃アルカリ | AR32: =+IF(AR31=0,"",IF(AK27<(AR24+AR27+AR31),"エラー !：⑩の内数である（⑫+⑬＋⑭）の量が⑩を超えています",""))
B33: ⑭ 認定熱回収業者以外の熱回収を行う業者への処理委託量 | F33: 0 | H33: t | U33: ｔ
C34: =+IF(F30=0,"",IF(F29<F30,"エラー !：上の表は、⑩の内数である⑪の量が⑩を超えています",""))
C35: =+IF(F31=0,"",IF(F29<F31,"エラー !：上の表は、⑩の内数である⑫の量が⑩を超えています",""))
C36: =+IF(F32=0,"",IF(F29<F32,"エラー !：上の表は、⑩の内数である⑬の量が⑩を超えています",""))
C37: =+IF(F33=0,"",IF(F29<F33,"エラー !：上の表は、⑩の内数である⑭の量が⑩を超えています",""))

Sheet ｷ.PCB処理物
R1: ↓ | S1: 注意：前年度の排出量のみでフロー図のデータ①がない場合にも、前年度データを該当欄に入力してください
B2: 特別管理産業廃棄物処理計画書
AO3: ４－２ | AR3: 法定 | AT3: 自主
AR4: =+表紙!Q29 -> 〇 | AT4: =+表紙!T29
B5: 別紙処理フロー | Y5: 事業場名称 | AD5: ： | AE5: =+表紙!F48 -> 東京電力パワーグリッド株式会社 旭資材置場
B6: 令和８年度発生する特別管理産業廃棄物ごとの目標量と処理計画
B7: フローに記載した特別管理産業廃棄物の種類 | D7: キ. PCB処理物
B8: ※ | C8: 本用紙は廃棄物の種類ごとに1枚の記載となります。異なる廃棄物の処理フローは別シートに記載してください。 | AG8: ⑧ | AH8: 自ら中間処理後に再生利用する量
B9: （単位：t/年） | F9: 有償物量 | AD9: ａ残さ物の自己処理 | AM9: ｔ
C11: 不要物等発生量 | F11: ① | G11: 当該事業場における排出量 | L11: Ａ 自己処理 | O11: ② | P11: 自ら直接再生利用する量 | AG11: ⑨ | AH11: 自ら中間処理後に自ら埋立処分又は海洋投入処分する量
F12: =+ROUND(O12,2)+ROUND(O15,2)+ROUND(O18,2)+ROUND(O24,2)+O27-ROUND(F15,2) -> 0 | H12: ｔ | S12: ｔ | AM12: ｔ
F14: ※１ | G14: 自社の他事業場からの搬入量 | O14: ③ | P14: 自ら直接埋立処分する量 | AG14: ※3 | AH14: 自ら中間処理後に自社の他事業場での処理量
H15: ｔ | S15: ｔ | AM15: ｔ | AR15: （目的別内訳）
O16: =+IF(X18=0,"",IF(X18-O18=X18,"エラー！：⑥残さ物量があるのに、④自ら中間処理した量がゼロになっています","")) | AR16: 再生利用前委託量 | AU16: ｔ
O17: ④ | P17: 自ら中間処理する量 | X17: ⑥ | Y17: 自ら中間処理後の残さ量 | AD17: ｂ残さ物の委託処理 | AG17: ｂ | AH17: 自ら中間処理後の処理委託量 | AN17: ｂ-1 中間処理委託量 | AR17: 最終処分前 委託量 | AU17: ｔ
S18: ｔ | X18: =+ROUND(AG9,2)+ROUND(AG12,2)+ROUND(AG15,2)+AG18 -> 0 | AA18: ｔ | AG18: =+ROUND(AN18,2)+ROUND(AN21,2) -> 0 | AK18: ｔ | AN18: =+ROUND(AT16,2)+ROUND(AT17,2)+ROUND(AT18,2) -> 0 | AO18: ｔ | AR18: 下水等放流前委託量 | AU18: ｔ
B20: 注）右上のフローには、令和８年度の目標量を記載してください。下の表には、令和７年度実績を記載してください。なお、様式５をあわせて提出する場合には、先に様式５を入力し、データ反映・印刷ツールを使用するとこちらに数値が反映されます。 | O20: ⑤ | P20: ④のうち熱回収を行う量 | X20: ⑦ | Y20: 自ら中間処理により減量する量 | AN20: ｂ-2 最終処分委託量
S21: ｔ | X21: =+O18-X18 -> 0 | AA21: ｔ | AO21: ｔ
O22: =+IF(O21=0,"",IF(O18<O21,"エラー !：④の内数である⑤の量が④を超えています",""))
B23: 項 目 | F23: 令和７年度実績 | O23: ※２ | P23: 自社の他事業場での処理量 | AR23: ⑫ | AS23: ⑩のうち再生利用業者への処理委託量
B24: ① 排出量 | F24: 0 | H24: t | S24: ｔ | AR24: =+ROUND(AT16,2)+ROUND(Z28,2) -> 0 | AU24: ｔ
B25: ②＋⑧ 自ら再生利用を行った量 | F25: 0 | H25: t
B26: ⑤ 自ら熱回収を行った量 | F26: 0 | H26: t | L26: Ｂ 直接委託処理 | O26: Ｂ | P26: 直接処理委託量 | AK26: ⑩ | AL26: 直接及び自ら中間処理後の処理委託量 | AR26: ⑬ | AS26: ⑩のうち認定熱回収業者への処理委託量
B27: ⑦ 自ら中間処理により減量した量 | F27: 0 | H27: t | O27: =+Q30+ROUND(Q33,2) -> 0 | S27: ｔ | X27: （目的別内訳） | AK27: =+AG18+O27 -> 0 | AO27: ｔ | AU27: ｔ
B28: ③＋⑨ 自ら埋立処分又は海洋投入処分を行った量 | F28: 0 | H28: t | X28: 再生利用前委託量 | AE28: ｔ | AR28: =+IF(AR27=0,"",IF(AK27<(AR24+AR27+AR31),"エラー !：⑩の内数である（⑫+⑬＋⑭）の量が⑩を超えています",""))
B29: ⑩ 全処理委託量 | F29: 0 | H29: t | Q29: B-1 | R29: 中間処理委託量 | X29: 最終処分前委託量 | AE29: ｔ | AK29: ⑪ | AL29: ⑩のうち優良認定処理業者への処理委託量 | AR29: ⑭ | AS29: ⑩のうち認定熱回収業者以外の熱回収を行う業者への処理委託量
B30: ⑪ 優良認定処理業者への処理委託量 | F30: 0 | H30: t | Q30: =+ROUND(Z28,2)+ROUND(Z29,2)+ROUND(Z30,2) -> 0 | U30: ｔ | X30: 下水等放流前委託量 | AE30: ｔ | AO30: ｔ
B31: ⑫ 再生利用業者への処理委託量 | F31: 0 | H31: t | Z31: 【特別管理産業廃棄物の種類 （ア～チ）】 | AK31: =+IF(AK30=0,"",IF(AK27<AK30,"エラー !：⑩の内数である⑪の量が⑩を超えています","")) | AU31: ｔ
B32: ⑬ 認定熱回収業者への処理委託量 | F32: 0 | H32: t | Q32: B-2 | R32: 最終処分委託量 | Z32: ア. 特管廃油 イ. 特管廃酸 (pH2以下) ウ. 特管廃アルカリ (pH12.5以上) エ. 感染性廃棄物 | AF32: オ. 廃ＰＣＢ等 カ. ＰＣＢ汚染物 キ. ＰＣＢ処理物 ク. 指定下水汚泥 ケ. 有害鉱さい コ. 廃石綿等 | AJ32: サ. 有害ばいじん チ. 廃水銀等 シ. 有害燃え殻 ス. 有害廃油 セ. 有害汚泥 ソ. 有害廃酸 タ. 有害廃アルカリ | AR32: =+IF(AR31=0,"",IF(AK27<(AR24+AR27+AR31),"エラー !：⑩の内数である（⑫+⑬＋⑭）の量が⑩を超えています",""))
B33: ⑭ 認定熱回収業者以外の熱回収を行う業者への処理委託量 | F33: 0 | H33: t | U33: ｔ
C34: =+IF(F30=0,"",IF(F29<F30,"エラー !：上の表は、⑩の内数である⑪の量が⑩を超えています",""))
C35: =+IF(F31=0,"",IF(F29<F31,"エラー !：上の表は、⑩の内数である⑫の量が⑩を超えています",""))
C36: =+IF(F32=0,"",IF(F29<F32,"エラー !：上の表は、⑩の内数である⑬の量が⑩を超えています",""))
C37: =+IF(F33=0,"",IF(F29<F33,"エラー !：上の表は、⑩の内数である⑭の量が⑩を超えています",""))

Sheet ｸ.指定下水汚泥
R1: ↓ | S1: 注意：前年度の排出量のみでフロー図のデータ①がない場合にも、前年度データを該当欄に入力してください
B2: 特別管理産業廃棄物処理計画書
AO3: ４－２ | AR3: 法定 | AT3: 自主
AR4: =+表紙!Q29 -> 〇 | AT4: =+表紙!T29
B5: 別紙処理フロー | Y5: 事業場名称 | AD5: ： | AE5: =+表紙!F48 -> 東京電力パワーグリッド株式会社 旭資材置場
B6: 令和８年度発生する特別管理産業廃棄物ごとの目標量と処理計画
B7: フローに記載した特別管理産業廃棄物の種類 | D7: ク. 指定下水汚泥
B8: ※ | C8: 本用紙は廃棄物の種類ごとに1枚の記載となります。異なる廃棄物の処理フローは別シートに記載してください。 | AG8: ⑧ | AH8: 自ら中間処理後に再生利用する量
B9: （単位：t/年） | F9: 有償物量 | AD9: ａ残さ物の自己処理 | AM9: ｔ
C11: 不要物等発生量 | F11: ① | G11: 当該事業場における排出量 | L11: Ａ 自己処理 | O11: ② | P11: 自ら直接再生利用する量 | AG11: ⑨ | AH11: 自ら中間処理後に自ら埋立処分又は海洋投入処分する量
F12: =+ROUND(O12,2)+ROUND(O15,2)+ROUND(O18,2)+ROUND(O24,2)+O27-ROUND(F15,2) -> 0 | H12: ｔ | S12: ｔ | AM12: ｔ
F14: ※１ | G14: 自社の他事業場からの搬入量 | O14: ③ | P14: 自ら直接埋立処分する量 | AG14: ※3 | AH14: 自ら中間処理後に自社の他事業場での処理量
H15: ｔ | S15: ｔ | AM15: ｔ | AR15: （目的別内訳）
O16: =+IF(X18=0,"",IF(X18-O18=X18,"エラー！：⑥残さ物量があるのに、④自ら中間処理した量がゼロになっています","")) | AR16: 再生利用前委託量 | AU16: ｔ
O17: ④ | P17: 自ら中間処理する量 | X17: ⑥ | Y17: 自ら中間処理後の残さ量 | AD17: ｂ残さ物の委託処理 | AG17: ｂ | AH17: 自ら中間処理後の処理委託量 | AN17: ｂ-1 中間処理委託量 | AR17: 最終処分前 委託量 | AU17: ｔ
S18: ｔ | X18: =+ROUND(AG9,2)+ROUND(AG12,2)+ROUND(AG15,2)+AG18 -> 0 | AA18: ｔ | AG18: =+ROUND(AN18,2)+ROUND(AN21,2) -> 0 | AK18: ｔ | AN18: =+ROUND(AT16,2)+ROUND(AT17,2)+ROUND(AT18,2) -> 0 | AO18: ｔ | AR18: 下水等放流前委託量 | AU18: ｔ
B20: 注）右上のフローには、令和８年度の目標量を記載してください。下の表には、令和７年度実績を記載してください。なお、様式５をあわせて提出する場合には、先に様式５を入力し、データ反映・印刷ツールを使用するとこちらに数値が反映されます。 | O20: ⑤ | P20: ④のうち熱回収を行う量 | X20: ⑦ | Y20: 自ら中間処理により減量する量 | AN20: ｂ-2 最終処分委託量
S21: ｔ | X21: =+O18-X18 -> 0 | AA21: ｔ | AO21: ｔ
O22: =+IF(O21=0,"",IF(O18<O21,"エラー !：④の内数である⑤の量が④を超えています",""))
B23: 項 目 | F23: 令和７年度実績 | O23: ※２ | P23: 自社の他事業場での処理量 | AR23: ⑫ | AS23: ⑩のうち再生利用業者への処理委託量
B24: ① 排出量 | F24: 0 | H24: t | S24: ｔ | AR24: =+ROUND(AT16,2)+ROUND(Z28,2) -> 0 | AU24: ｔ
B25: ②＋⑧ 自ら再生利用を行った量 | F25: 0 | H25: t
B26: ⑤ 自ら熱回収を行った量 | F26: 0 | H26: t | L26: Ｂ 直接委託処理 | O26: Ｂ | P26: 直接処理委託量 | AK26: ⑩ | AL26: 直接及び自ら中間処理後の処理委託量 | AR26: ⑬ | AS26: ⑩のうち認定熱回収業者への処理委託量
B27: ⑦ 自ら中間処理により減量した量 | F27: 0 | H27: t | O27: =+Q30+ROUND(Q33,2) -> 0 | S27: ｔ | X27: （目的別内訳） | AK27: =+AG18+O27 -> 0 | AO27: ｔ | AU27: ｔ
B28: ③＋⑨ 自ら埋立処分又は海洋投入処分を行った量 | F28: 0 | H28: t | X28: 再生利用前委託量 | AE28: ｔ | AR28: =+IF(AR27=0,"",IF(AK27<(AR24+AR27+AR31),"エラー !：⑩の内数である（⑫+⑬＋⑭）の量が⑩を超えています",""))
B29: ⑩ 全処理委託量 | F29: 0 | H29: t | Q29: B-1 | R29: 中間処理委託量 | X29: 最終処分前委託量 | AE29: ｔ | AK29: ⑪ | AL29: ⑩のうち優良認定処理業者への処理委託量 | AR29: ⑭ | AS29: ⑩のうち認定熱回収業者以外の熱回収を行う業者への処理委託量
B30: ⑪ 優良認定処理業者への処理委託量 | F30: 0 | H30: t | Q30: =+ROUND(Z28,2)+ROUND(Z29,2)+ROUND(Z30,2) -> 0 | U30: ｔ | X30: 下水等放流前委託量 | AE30: ｔ | AO30: ｔ
B31: ⑫ 再生利用業者への処理委託量 | F31: 0 | H31: t | Z31: 【特別管理産業廃棄物の種類 （ア～チ）】 | AK31: =+IF(AK30=0,"",IF(AK27<AK30,"エラー !：⑩の内数である⑪の量が⑩を超えています","")) | AU31: ｔ
B32: ⑬ 認定熱回収業者への処理委託量 | F32: 0 | H32: t | Q32: B-2 | R32: 最終処分委託量 | Z32: ア. 特管廃油 イ. 特管廃酸 (pH2以下) ウ. 特管廃アルカリ (pH12.5以上) エ. 感染性廃棄物 | AF32: オ. 廃ＰＣＢ等 カ. ＰＣＢ汚染物 キ. ＰＣＢ処理物 ク. 指定下水汚泥 ケ. 有害鉱さい コ. 廃石綿等 | AJ32: サ. 有害ばいじん チ. 廃水銀等 シ. 有害燃え殻 ス. 有害廃油 セ. 有害汚泥 ソ. 有害廃酸 タ. 有害廃アルカリ | AR32: =+IF(AR31=0,"",IF(AK27<(AR24+AR27+AR31),"エラー !：⑩の内数である（⑫+⑬＋⑭）の量が⑩を超えています",""))
B33: ⑭ 認定熱回収業者以外の熱回収を行う業者への処理委託量 | F33: 0 | H33: t | U33: ｔ
C34: =+IF(F30=0,"",IF(F29<F30,"エラー !：上の表は、⑩の内数である⑪の量が⑩を超えています",""))
C35: =+IF(F31=0,"",IF(F29<F31,"エラー !：上の表は、⑩の内数である⑫の量が⑩を超えています",""))
C36: =+IF(F32=0,"",IF(F29<F32,"エラー !：上の表は、⑩の内数である⑬の量が⑩を超えています",""))
C37: =+IF(F33=0,"",IF(F29<F33,"エラー !：上の表は、⑩の内数である⑭の量が⑩を超えています",""))

Sheet ｹ.有害鉱さい
R1: ↓ | S1: 注意：前年度の排出量のみでフロー図のデータ①がない場合にも、前年度データを該当欄に入力してください
B2: 特別管理産業廃棄物処理計画書
AO3: ４－２ | AR3: 法定 | AT3: 自主
AR4: =+表紙!Q29 -> 〇 | AT4: =+表紙!T29
B5: 別紙処理フロー | Y5: 事業場名称 | AD5: ： | AE5: =+表紙!F48 -> 東京電力パワーグリッド株式会社 旭資材置場
B6: 令和８年度発生する特別管理産業廃棄物ごとの目標量と処理計画
B7: フローに記載した特別管理産業廃棄物の種類 | D7: ケ. 有害鉱さい
B8: ※ | C8: 本用紙は廃棄物の種類ごとに1枚の記載となります。異なる廃棄物の処理フローは別シートに記載してください。 | AG8: ⑧ | AH8: 自ら中間処理後に再生利用する量
B9: （単位：t/年） | F9: 有償物量 | AD9: ａ残さ物の自己処理 | AM9: ｔ
C11: 不要物等発生量 | F11: ① | G11: 当該事業場における排出量 | L11: Ａ 自己処理 | O11: ② | P11: 自ら直接再生利用する量 | AG11: ⑨ | AH11: 自ら中間処理後に自ら埋立処分又は海洋投入処分する量
F12: =+ROUND(O12,2)+ROUND(O15,2)+ROUND(O18,2)+ROUND(O24,2)+O27-ROUND(F15,2) -> 0 | H12: ｔ | S12: ｔ | AM12: ｔ
F14: ※１ | G14: 自社の他事業場からの搬入量 | O14: ③ | P14: 自ら直接埋立処分する量 | AG14: ※3 | AH14: 自ら中間処理後に自社の他事業場での処理量
H15: ｔ | S15: ｔ | AM15: ｔ | AR15: （目的別内訳）
O16: =+IF(X18=0,"",IF(X18-O18=X18,"エラー！：⑥残さ物量があるのに、④自ら中間処理した量がゼロになっています","")) | AR16: 再生利用前委託量 | AU16: ｔ
O17: ④ | P17: 自ら中間処理する量 | X17: ⑥ | Y17: 自ら中間処理後の残さ量 | AD17: ｂ残さ物の委託処理 | AG17: ｂ | AH17: 自ら中間処理後の処理委託量 | AN17: ｂ-1 中間処理委託量 | AR17: 最終処分前 委託量 | AU17: ｔ
S18: ｔ | X18: =+ROUND(AG9,2)+ROUND(AG12,2)+ROUND(AG15,2)+AG18 -> 0 | AA18: ｔ | AG18: =+ROUND(AN18,2)+ROUND(AN21,2) -> 0 | AK18: ｔ | AN18: =+ROUND(AT16,2)+ROUND(AT17,2)+ROUND(AT18,2) -> 0 | AO18: ｔ | AR18: 下水等放流前委託量 | AU18: ｔ
B20: 注）右上のフローには、令和８年度の目標量を記載してください。下の表には、令和７年度実績を記載してください。なお、様式５をあわせて提出する場合には、先に様式５を入力し、データ反映・印刷ツールを使用するとこちらに数値が反映されます。 | O20: ⑤ | P20: ④のうち熱回収を行う量 | X20: ⑦ | Y20: 自ら中間処理により減量する量 | AN20: ｂ-2 最終処分委託量
S21: ｔ | X21: =+O18-X18 -> 0 | AA21: ｔ | AO21: ｔ
O22: =+IF(O21=0,"",IF(O18<O21,"エラー !：④の内数である⑤の量が④を超えています",""))
B23: 項 目 | F23: 令和７年度実績 | O23: ※２ | P23: 自社の他事業場での処理量 | AR23: ⑫ | AS23: ⑩のうち再生利用業者への処理委託量
B24: ① 排出量 | F24: 0 | H24: t | S24: ｔ | AR24: =+ROUND(AT16,2)+ROUND(Z28,2) -> 0 | AU24: ｔ
B25: ②＋⑧ 自ら再生利用を行った量 | F25: 0 | H25: t
B26: ⑤ 自ら熱回収を行った量 | F26: 0 | H26: t | L26: Ｂ 直接委託処理 | O26: Ｂ | P26: 直接処理委託量 | AK26: ⑩ | AL26: 直接及び自ら中間処理後の処理委託量 | AR26: ⑬ | AS26: ⑩のうち認定熱回収業者への処理委託量
B27: ⑦ 自ら中間処理により減量した量 | F27: 0 | H27: t | O27: =+Q30+ROUND(Q33,2) -> 0 | S27: ｔ | X27: （目的別内訳） | AK27: =+AG18+O27 -> 0 | AO27: ｔ | AU27: ｔ
B28: ③＋⑨ 自ら埋立処分又は海洋投入処分を行った量 | F28: 0 | H28: t | X28: 再生利用前委託量 | AE28: ｔ | AR28: =+IF(AR27=0,"",IF(AK27<(AR24+AR27+AR31),"エラー !：⑩の内数である（⑫+⑬＋⑭）の量が⑩を超えています",""))
B29: ⑩ 全処理委託量 | F29: 0 | H29: t | Q29: B-1 | R29: 中間処理委託量 | X29: 最終処分前委託量 | AE29: ｔ | AK29: ⑪ | AL29: ⑩のうち優良認定処理業者への処理委託量 | AR29: ⑭ | AS29: ⑩のうち認定熱回収業者以外の熱回収を行う業者への処理委託量
B30: ⑪ 優良認定処理業者への処理委託量 | F30: 0 | H30: t | Q30: =+ROUND(Z28,2)+ROUND(Z29,2)+ROUND(Z30,2) -> 0 | U30: ｔ | X30: 下水等放流前委託量 | AE30: ｔ | AO30: ｔ
B31: ⑫ 再生利用業者への処理委託量 | F31: 0 | H31: t | Z31: 【特別管理産業廃棄物の種類 （ア～チ）】 | AK31: =+IF(AK30=0,"",IF(AK27<AK30,"エラー !：⑩の内数である⑪の量が⑩を超えています","")) | AU31: ｔ
B32: ⑬ 認定熱回収業者への処理委託量 | F32: 0 | H32: t | Q32: B-2 | R32: 最終処分委託量 | Z32: ア. 特管廃油 イ. 特管廃酸 (pH2以下) ウ. 特管廃アルカリ (pH12.5以上) エ. 感染性廃棄物 | AF32: オ. 廃ＰＣＢ等 カ. ＰＣＢ汚染物 キ. ＰＣＢ処理物 ク. 指定下水汚泥 ケ. 有害鉱さい コ. 廃石綿等 | AJ32: サ. 有害ばいじん チ. 廃水銀等 シ. 有害燃え殻 ス. 有害廃油 セ. 有害汚泥 ソ. 有害廃酸 タ. 有害廃アルカリ | AR32: =+IF(AR31=0,"",IF(AK27<(AR24+AR27+AR31),"エラー !：⑩の内数である（⑫+⑬＋⑭）の量が⑩を超えています",""))
B33: ⑭ 認定熱回収業者以外の熱回収を行う業者への処理委託量 | F33: 0 | H33: t | U33: ｔ
C34: =+IF(F30=0,"",IF(F29<F30,"エラー !：上の表は、⑩の内数である⑪の量が⑩を超えています",""))
C35: =+IF(F31=0,"",IF(F29<F31,"エラー !：上の表は、⑩の内数である⑫の量が⑩を超えています",""))
C36: =+IF(F32=0,"",IF(F29<F32,"エラー !：上の表は、⑩の内数である⑬の量が⑩を超えています",""))
C37: =+IF(F33=0,"",IF(F29<F33,"エラー !：上の表は、⑩の内数である⑭の量が⑩を超えています",""))

Sheet ｺ.廃石綿等
R1: ↓ | S1: 注意：前年度の排出量のみでフロー図のデータ①がない場合にも、前年度データを該当欄に入力してください
B2: 特別管理産業廃棄物処理計画書
AO3: ４－２ | AR3: 法定 | AT3: 自主
AR4: =+表紙!Q29 -> 〇 | AT4: =+表紙!T29
B5: 別紙処理フロー | Y5: 事業場名称 | AD5: ： | AE5: =+表紙!F48 -> 東京電力パワーグリッド株式会社 旭資材置場
B6: 令和８年度発生する特別管理産業廃棄物ごとの目標量と処理計画
B7: フローに記載した特別管理産業廃棄物の種類 | D7: コ. 廃石綿等
B8: ※ | C8: 本用紙は廃棄物の種類ごとに1枚の記載となります。異なる廃棄物の処理フローは別シートに記載してください。 | AG8: ⑧ | AH8: 自ら中間処理後に再生利用する量
B9: （単位：t/年） | F9: 有償物量 | AD9: ａ残さ物の自己処理 | AM9: ｔ
C11: 不要物等発生量 | F11: ① | G11: 当該事業場における排出量 | L11: Ａ 自己処理 | O11: ② | P11: 自ら直接再生利用する量 | AG11: ⑨ | AH11: 自ら中間処理後に自ら埋立処分又は海洋投入処分する量
F12: =+ROUND(O12,2)+ROUND(O15,2)+ROUND(O18,2)+ROUND(O24,2)+O27-ROUND(F15,2) -> 0 | H12: ｔ | S12: ｔ | AM12: ｔ
F14: ※１ | G14: 自社の他事業場からの搬入量 | O14: ③ | P14: 自ら直接埋立処分する量 | AG14: ※3 | AH14: 自ら中間処理後に自社の他事業場での処理量
H15: ｔ | S15: ｔ | AM15: ｔ | AR15: （目的別内訳）
O16: =+IF(X18=0,"",IF(X18-O18=X18,"エラー！：⑥残さ物量があるのに、④自ら中間処理した量がゼロになっています","")) | AR16: 再生利用前委託量 | AU16: ｔ
O17: ④ | P17: 自ら中間処理する量 | X17: ⑥ | Y17: 自ら中間処理後の残さ量 | AD17: ｂ残さ物の委託処理 | AG17: ｂ | AH17: 自ら中間処理後の処理委託量 | AN17: ｂ-1 中間処理委託量 | AR17: 最終処分前 委託量 | AU17: ｔ
S18: ｔ | X18: =+ROUND(AG9,2)+ROUND(AG12,2)+ROUND(AG15,2)+AG18 -> 0 | AA18: ｔ | AG18: =+ROUND(AN18,2)+ROUND(AN21,2) -> 0 | AK18: ｔ | AN18: =+ROUND(AT16,2)+ROUND(AT17,2)+ROUND(AT18,2) -> 0 | AO18: ｔ | AR18: 下水等放流前委託量 | AU18: ｔ
B20: 注）右上のフローには、令和８年度の目標量を記載してください。下の表には、令和７年度実績を記載してください。なお、様式５をあわせて提出する場合には、先に様式５を入力し、データ反映・印刷ツールを使用するとこちらに数値が反映されます。 | O20: ⑤ | P20: ④のうち熱回収を行う量 | X20: ⑦ | Y20: 自ら中間処理により減量する量 | AN20: ｂ-2 最終処分委託量
S21: ｔ | X21: =+O18-X18 -> 0 | AA21: ｔ | AO21: ｔ
O22: =+IF(O21=0,"",IF(O18<O21,"エラー !：④の内数である⑤の量が④を超えています",""))
B23: 項 目 | F23: 令和７年度実績 | O23: ※２ | P23: 自社の他事業場での処理量 | AR23: ⑫ | AS23: ⑩のうち再生利用業者への処理委託量
B24: ① 排出量 | F24: 0 | H24: t | S24: ｔ | AR24: =+ROUND(AT16,2)+ROUND(Z28,2) -> 0 | AU24: ｔ
B25: ②＋⑧ 自ら再生利用を行った量 | F25: 0 | H25: t
B26: ⑤ 自ら熱回収を行った量 | F26: 0 | H26: t | L26: Ｂ 直接委託処理 | O26: Ｂ | P26: 直接処理委託量 | AK26: ⑩ | AL26: 直接及び自ら中間処理後の処理委託量 | AR26: ⑬ | AS26: ⑩のうち認定熱回収業者への処理委託量
B27: ⑦ 自ら中間処理により減量した量 | F27: 0 | H27: t | O27: =+Q30+ROUND(Q33,2) -> 0 | S27: ｔ | X27: （目的別内訳） | AK27: =+AG18+O27 -> 0 | AO27: ｔ | AU27: ｔ
B28: ③＋⑨ 自ら埋立処分又は海洋投入処分を行った量 | F28: 0 | H28: t | X28: 再生利用前委託量 | AE28: ｔ | AR28: =+IF(AR27=0,"",IF(AK27<(AR24+AR27+AR31),"エラー !：⑩の内数である（⑫+⑬＋⑭）の量が⑩を超えています",""))
B29: ⑩ 全処理委託量 | F29: 0 | H29: t | Q29: B-1 | R29: 中間処理委託量 | X29: 最終処分前委託量 | AE29: ｔ | AK29: ⑪ | AL29: ⑩のうち優良認定処理業者への処理委託量 | AR29: ⑭ | AS29: ⑩のうち認定熱回収業者以外の熱回収を行う業者への処理委託量
B30: ⑪ 優良認定処理業者への処理委託量 | F30: 0 | H30: t | Q30: =+ROUND(Z28,2)+ROUND(Z29,2)+ROUND(Z30,2) -> 0 | U30: ｔ | X30: 下水等放流前委託量 | AE30: ｔ | AO30: ｔ
B31: ⑫ 再生利用業者への処理委託量 | F31: 0 | H31: t | Z31: 【特別管理産業廃棄物の種類 （ア～チ）】 | AK31: =+IF(AK30=0,"",IF(AK27<AK30,"エラー !：⑩の内数である⑪の量が⑩を超えています","")) | AU31: ｔ
B32: ⑬ 認定熱回収業者への処理委託量 | F32: 0 | H32: t | Q32: B-2 | R32: 最終処分委託量 | Z32: ア. 特管廃油 イ. 特管廃酸 (pH2以下) ウ. 特管廃アルカリ (pH12.5以上) エ. 感染性廃棄物 | AF32: オ. 廃ＰＣＢ等 カ. ＰＣＢ汚染物 キ. ＰＣＢ処理物 ク. 指定下水汚泥 ケ. 有害鉱さい コ. 廃石綿等 | AJ32: サ. 有害ばいじん チ. 廃水銀等 シ. 有害燃え殻 ス. 有害廃油 セ. 有害汚泥 ソ. 有害廃酸 タ. 有害廃アルカリ | AR32: =+IF(AR31=0,"",IF(AK27<(AR24+AR27+AR31),"エラー !：⑩の内数である（⑫+⑬＋⑭）の量が⑩を超えています",""))
B33: ⑭ 認定熱回収業者以外の熱回収を行う業者への処理委託量 | F33: 0 | H33: t | U33: ｔ
C34: =+IF(F30=0,"",IF(F29<F30,"エラー !：上の表は、⑩の内数である⑪の量が⑩を超えています",""))
C35: =+IF(F31=0,"",IF(F29<F31,"エラー !：上の表は、⑩の内数である⑫の量が⑩を超えています",""))
C36: =+IF(F32=0,"",IF(F29<F32,"エラー !：上の表は、⑩の内数である⑬の量が⑩を超えています",""))
C37: =+IF(F33=0,"",IF(F29<F33,"エラー !：上の表は、⑩の内数である⑭の量が⑩を超えています",""))

Sheet ｻ.有害ばいじん
R1: ↓ | S1: 注意：前年度の排出量のみでフロー図のデータ①がない場合にも、前年度データを該当欄に入力してください
B2: 特別管理産業廃棄物処理計画書
AO3: ４－２ | AR3: 法定 | AT3: 自主
AR4: =+表紙!Q29 -> 〇 | AT4: =+表紙!T29
B5: 別紙処理フロー | Y5: 事業場名称 | AD5: ： | AE5: =+表紙!F48 -> 東京電力パワーグリッド株式会社 旭資材置場
B6: 令和８年度発生する特別管理産業廃棄物ごとの目標量と処理計画
B7: フローに記載した特別管理産業廃棄物の種類 | D7: サ. 有害ばいじん
B8: ※ | C8: 本用紙は廃棄物の種類ごとに1枚の記載となります。異なる廃棄物の処理フローは別シートに記載してください。 | AG8: ⑧ | AH8: 自ら中間処理後に再生利用する量
B9: （単位：t/年） | F9: 有償物量 | AD9: ａ残さ物の自己処理 | AM9: ｔ
C11: 不要物等発生量 | F11: ① | G11: 当該事業場における排出量 | L11: Ａ 自己処理 | O11: ② | P11: 自ら直接再生利用する量 | AG11: ⑨ | AH11: 自ら中間処理後に自ら埋立処分又は海洋投入処分する量
F12: =+ROUND(O12,2)+ROUND(O15,2)+ROUND(O18,2)+ROUND(O24,2)+O27-ROUND(F15,2) -> 0 | H12: ｔ | S12: ｔ | AM12: ｔ
F14: ※１ | G14: 自社の他事業場からの搬入量 | O14: ③ | P14: 自ら直接埋立処分する量 | AG14: ※3 | AH14: 自ら中間処理後に自社の他事業場での処理量
H15: ｔ | S15: ｔ | AM15: ｔ | AR15: （目的別内訳）
O16: =+IF(X18=0,"",IF(X18-O18=X18,"エラー！：⑥残さ物量があるのに、④自ら中間処理した量がゼロになっています","")) | AR16: 再生利用前委託量 | AU16: ｔ
O17: ④ | P17: 自ら中間処理する量 | X17: ⑥ | Y17: 自ら中間処理後の残さ量 | AD17: ｂ残さ物の委託処理 | AG17: ｂ | AH17: 自ら中間処理後の処理委託量 | AN17: ｂ-1 中間処理委託量 | AR17: 最終処分前 委託量 | AU17: ｔ
S18: ｔ | X18: =+ROUND(AG9,2)+ROUND(AG12,2)+ROUND(AG15,2)+AG18 -> 0 | AA18: ｔ | AG18: =+ROUND(AN18,2)+ROUND(AN21,2) -> 0 | AK18: ｔ | AN18: =+ROUND(AT16,2)+ROUND(AT17,2)+ROUND(AT18,2) -> 0 | AO18: ｔ | AR18: 下水等放流前委託量 | AU18: ｔ
B20: 注）右上のフローには、令和８年度の目標量を記載してください。下の表には、令和７年度実績を記載してください。なお、様式５をあわせて提出する場合には、先に様式５を入力し、データ反映・印刷ツールを使用するとこちらに数値が反映されます。 | O20: ⑤ | P20: ④のうち熱回収を行う量 | X20: ⑦ | Y20: 自ら中間処理により減量する量 | AN20: ｂ-2 最終処分委託量
S21: ｔ | X21: =+O18-X18 -> 0 | AA21: ｔ | AO21: ｔ
O22: =+IF(O21=0,"",IF(O18<O21,"エラー !：④の内数である⑤の量が④を超えています",""))
B23: 項 目 | F23: 令和７年度実績 | O23: ※２ | P23: 自社の他事業場での処理量 | AR23: ⑫ | AS23: ⑩のうち再生利用業者への処理委託量
B24: ① 排出量 | F24: 0 | H24: t | S24: ｔ | AR24: =+ROUND(AT16,2)+ROUND(Z28,2) -> 0 | AU24: ｔ
B25: ②＋⑧ 自ら再生利用を行った量 | F25: 0 | H25: t
B26: ⑤ 自ら熱回収を行った量 | F26: 0 | H26: t | L26: Ｂ 直接委託処理 | O26: Ｂ | P26: 直接処理委託量 | AK26: ⑩ | AL26: 直接及び自ら中間処理後の処理委託量 | AR26: ⑬ | AS26: ⑩のうち認定熱回収業者への処理委託量
B27: ⑦ 自ら中間処理により減量した量 | F27: 0 | H27: t | O27: =+Q30+ROUND(Q33,2) -> 0 | S27: ｔ | X27: （目的別内訳） | AK27: =+AG18+O27 -> 0 | AO27: ｔ | AU27: ｔ
B28: ③＋⑨ 自ら埋立処分又は海洋投入処分を行った量 | F28: 0 | H28: t | X28: 再生利用前委託量 | AE28: ｔ | AR28: =+IF(AR27=0,"",IF(AK27<(AR24+AR27+AR31),"エラー !：⑩の内数である（⑫+⑬＋⑭）の量が⑩を超えています",""))
B29: ⑩ 全処理委託量 | F29: 0 | H29: t | Q29: B-1 | R29: 中間処理委託量 | X29: 最終処分前委託量 | AE29: ｔ | AK29: ⑪ | AL29: ⑩のうち優良認定処理業者への処理委託量 | AR29: ⑭ | AS29: ⑩のうち認定熱回収業者以外の熱回収を行う業者への処理委託量
B30: ⑪ 優良認定処理業者への処理委託量 | F30: 0 | H30: t | Q30: =+ROUND(Z28,2)+ROUND(Z29,2)+ROUND(Z30,2) -> 0 | U30: ｔ | X30: 下水等放流前委託量 | AE30: ｔ | AO30: ｔ
B31: ⑫ 再生利用業者への処理委託量 | F31: 0 | H31: t | Z31: 【特別管理産業廃棄物の種類 （ア～チ）】 | AK31: =+IF(AK30=0,"",IF(AK27<AK30,"エラー !：⑩の内数である⑪の量が⑩を超えています","")) | AU31: ｔ
B32: ⑬ 認定熱回収業者への処理委託量 | F32: 0 | H32: t | Q32: B-2 | R32: 最終処分委託量 | Z32: ア. 特管廃油 イ. 特管廃酸 (pH2以下) ウ. 特管廃アルカリ (pH12.5以上) エ. 感染性廃棄物 | AF32: オ. 廃ＰＣＢ等 カ. ＰＣＢ汚染物 キ. ＰＣＢ処理物 ク. 指定下水汚泥 ケ. 有害鉱さい コ. 廃石綿等 | AJ32: サ. 有害ばいじん チ. 廃水銀等 シ. 有害燃え殻 ス. 有害廃油 セ. 有害汚泥 ソ. 有害廃酸 タ. 有害廃アルカリ | AR32: =+IF(AR31=0,"",IF(AK27<(AR24+AR27+AR31),"エラー !：⑩の内数である（⑫+⑬＋⑭）の量が⑩を超えています",""))
B33: ⑭ 認定熱回収業者以外の熱回収を行う業者への処理委託量 | F33: 0 | H33: t | U33: ｔ
C34: =+IF(F30=0,"",IF(F29<F30,"エラー !：上の表は、⑩の内数である⑪の量が⑩を超えています",""))
C35: =+IF(F31=0,"",IF(F29<F31,"エラー !：上の表は、⑩の内数である⑫の量が⑩を超えています",""))
C36: =+IF(F32=0,"",IF(F29<F32,"エラー !：上の表は、⑩の内数である⑬の量が⑩を超えています",""))
C37: =+IF(F33=0,"",IF(F29<F33,"エラー !：上の表は、⑩の内数である⑭の量が⑩を超えています",""))

Sheet ｼ.有害燃え殻
R1: ↓ | S1: 注意：前年度の排出量のみでフロー図のデータ①がない場合にも、前年度データを該当欄に入力してください
B2: 特別管理産業廃棄物処理計画書
AO3: ４－２ | AR3: 法定 | AT3: 自主
AR4: =+表紙!Q29 -> 〇 | AT4: =+表紙!T29
B5: 別紙処理フロー | Y5: 事業場名称 | AD5: ： | AE5: =+表紙!F48 -> 東京電力パワーグリッド株式会社 旭資材置場
B6: 令和８年度発生する特別管理産業廃棄物ごとの目標量と処理計画
B7: フローに記載した特別管理産業廃棄物の種類 | D7: シ. 有害燃え殻
B8: ※ | C8: 本用紙は廃棄物の種類ごとに1枚の記載となります。異なる廃棄物の処理フローは別シートに記載してください。 | AG8: ⑧ | AH8: 自ら中間処理後に再生利用する量
B9: （単位：t/年） | F9: 有償物量 | AD9: ａ残さ物の自己処理 | AM9: ｔ
C11: 不要物等発生量 | F11: ① | G11: 当該事業場における排出量 | L11: Ａ 自己処理 | O11: ② | P11: 自ら直接再生利用する量 | AG11: ⑨ | AH11: 自ら中間処理後に自ら埋立処分又は海洋投入処分する量
F12: =+ROUND(O12,2)+ROUND(O15,2)+ROUND(O18,2)+ROUND(O24,2)+O27-ROUND(F15,2) -> 0 | H12: ｔ | S12: ｔ | AM12: ｔ
F14: ※１ | G14: 自社の他事業場からの搬入量 | O14: ③ | P14: 自ら直接埋立処分する量 | AG14: ※3 | AH14: 自ら中間処理後に自社の他事業場での処理量
H15: ｔ | S15: ｔ | AM15: ｔ | AR15: （目的別内訳）
O16: =+IF(X18=0,"",IF(X18-O18=X18,"エラー！：⑥残さ物量があるのに、④自ら中間処理した量がゼロになっています","")) | AR16: 再生利用前委託量 | AU16: ｔ
O17: ④ | P17: 自ら中間処理する量 | X17: ⑥ | Y17: 自ら中間処理後の残さ量 | AD17: ｂ残さ物の委託処理 | AG17: ｂ | AH17: 自ら中間処理後の処理委託量 | AN17: ｂ-1 中間処理委託量 | AR17: 最終処分前 委託量 | AU17: ｔ
S18: ｔ | X18: =+ROUND(AG9,2)+ROUND(AG12,2)+ROUND(AG15,2)+AG18 -> 0 | AA18: ｔ | AG18: =+ROUND(AN18,2)+ROUND(AN21,2) -> 0 | AK18: ｔ | AN18: =+ROUND(AT16,2)+ROUND(AT17,2)+ROUND(AT18,2) -> 0 | AO18: ｔ | AR18: 下水等放流前委託量 | AU18: ｔ
B20: 注）右上のフローには、令和８年度の目標量を記載してください。下の表には、令和７年度実績を記載してください。なお、様式５をあわせて提出する場合には、先に様式５を入力し、データ反映・印刷ツールを使用するとこちらに数値が反映されます。 | O20: ⑤ | P20: ④のうち熱回収を行う量 | X20: ⑦ | Y20: 自ら中間処理により減量する量 | AN20: ｂ-2 最終処分委託量
S21: ｔ | X21: =+O18-X18 -> 0 | AA21: ｔ | AO21: ｔ
O22: =+IF(O21=0,"",IF(O18<O21,"エラー !：④の内数である⑤の量が④を超えています",""))
B23: 項 目 | F23: 令和７年度実績 | O23: ※２ | P23: 自社の他事業場での処理量 | AR23: ⑫ | AS23: ⑩のうち再生利用業者への処理委託量
B24: ① 排出量 | F24: 0 | H24: t | S24: ｔ | AR24: =+ROUND(AT16,2)+ROUND(Z28,2) -> 0 | AU24: ｔ
B25: ②＋⑧ 自ら再生利用を行った量 | F25: 0 | H25: t
B26: ⑤ 自ら熱回収を行った量 | F26: 0 | H26: t | L26: Ｂ 直接委託処理 | O26: Ｂ | P26: 直接処理委託量 | AK26: ⑩ | AL26: 直接及び自ら中間処理後の処理委託量 | AR26: ⑬ | AS26: ⑩のうち認定熱回収業者への処理委託量
B27: ⑦ 自ら中間処理により減量した量 | F27: 0 | H27: t | O27: =+Q30+ROUND(Q33,2) -> 0 | S27: ｔ | X27: （目的別内訳） | AK27: =+AG18+O27 -> 0 | AO27: ｔ | AU27: ｔ
B28: ③＋⑨ 自ら埋立処分又は海洋投入処分を行った量 | F28: 0 | H28: t | X28: 再生利用前委託量 | AE28: ｔ | AR28: =+IF(AR27=0,"",IF(AK27<(AR24+AR27+AR31),"エラー !：⑩の内数である（⑫+⑬＋⑭）の量が⑩を超えています",""))
B29: ⑩ 全処理委託量 | F29: 0 | H29: t | Q29: B-1 | R29: 中間処理委託量 | X29: 最終処分前委託量 | AE29: ｔ | AK29: ⑪ | AL29: ⑩のうち優良認定処理業者への処理委託量 | AR29: ⑭ | AS29: ⑩のうち認定熱回収業者以外の熱回収を行う業者への処理委託量
B30: ⑪ 優良認定処理業者への処理委託量 | F30: 0 | H30: t | Q30: =+ROUND(Z28,2)+ROUND(Z29,2)+ROUND(Z30,2) -> 0 | U30: ｔ | X30: 下水等放流前委託量 | AE30: ｔ | AO30: ｔ
B31: ⑫ 再生利用業者への処理委託量 | F31: 0 | H31: t | Z31: 【特別管理産業廃棄物の種類 （ア～チ）】 | AK31: =+IF(AK30=0,"",IF(AK27<AK30,"エラー !：⑩の内数である⑪の量が⑩を超えています","")) | AU31: ｔ
B32: ⑬ 認定熱回収業者への処理委託量 | F32: 0 | H32: t | Q32: B-2 | R32: 最終処分委託量 | Z32: ア. 特管廃油 イ. 特管廃酸 (pH2以下) ウ. 特管廃アルカリ (pH12.5以上) エ. 感染性廃棄物 | AF32: オ. 廃ＰＣＢ等 カ. ＰＣＢ汚染物 キ. ＰＣＢ処理物 ク. 指定下水汚泥 ケ. 有害鉱さい コ. 廃石綿等 | AJ32: サ. 有害ばいじん チ. 廃水銀等 シ. 有害燃え殻 ス. 有害廃油 セ. 有害汚泥 ソ. 有害廃酸 タ. 有害廃アルカリ | AR32: =+IF(AR31=0,"",IF(AK27<(AR24+AR27+AR31),"エラー !：⑩の内数である（⑫+⑬＋⑭）の量が⑩を超えています",""))
B33: ⑭ 認定熱回収業者以外の熱回収を行う業者への処理委託量 | F33: 0 | H33: t | U33: ｔ
C34: =+IF(F30=0,"",IF(F29<F30,"エラー !：上の表は、⑩の内数である⑪の量が⑩を超えています",""))
C35: =+IF(F31=0,"",IF(F29<F31,"エラー !：上の表は、⑩の内数である⑫の量が⑩を超えています",""))
C36: =+IF(F32=0,"",IF(F29<F32,"エラー !：上の表は、⑩の内数である⑬の量が⑩を超えています",""))
C37: =+IF(F33=0,"",IF(F29<F33,"エラー !：上の表は、⑩の内数である⑭の量が⑩を超えています",""))

Sheet ｽ.有害廃油
R1: ↓ | S1: 注意：前年度の排出量のみでフロー図のデータ①がない場合にも、前年度データを該当欄に入力してください
B2: 特別管理産業廃棄物処理計画書
AO3: ４－２ | AR3: 法定 | AT3: 自主
AR4: =+表紙!Q29 -> 〇 | AT4: =+表紙!T29
B5: 別紙処理フロー | Y5: 事業場名称 | AD5: ： | AE5: =+表紙!F48 -> 東京電力パワーグリッド株式会社 旭資材置場
B6: 令和８年度発生する特別管理産業廃棄物ごとの目標量と処理計画
B7: フローに記載した特別管理産業廃棄物の種類 | D7: ス. 有害廃油
B8: ※ | C8: 本用紙は廃棄物の種類ごとに1枚の記載となります。異なる廃棄物の処理フローは別シートに記載してください。 | AG8: ⑧ | AH8: 自ら中間処理後に再生利用する量
B9: （単位：t/年） | F9: 有償物量 | AD9: ａ残さ物の自己処理 | AM9: ｔ
C11: 不要物等発生量 | F11: ① | G11: 当該事業場における排出量 | L11: Ａ 自己処理 | O11: ② | P11: 自ら直接再生利用する量 | AG11: ⑨ | AH11: 自ら中間処理後に自ら埋立処分又は海洋投入処分する量
F12: =+ROUND(O12,2)+ROUND(O15,2)+ROUND(O18,2)+ROUND(O24,2)+O27-ROUND(F15,2) -> 0 | H12: ｔ | S12: ｔ | AM12: ｔ
F14: ※１ | G14: 自社の他事業場からの搬入量 | O14: ③ | P14: 自ら直接埋立処分する量 | AG14: ※3 | AH14: 自ら中間処理後に自社の他事業場での処理量
H15: ｔ | S15: ｔ | AM15: ｔ | AR15: （目的別内訳）
O16: =+IF(X18=0,"",IF(X18-O18=X18,"エラー！：⑥残さ物量があるのに、④自ら中間処理した量がゼロになっています","")) | AR16: 再生利用前委託量 | AU16: ｔ
O17: ④ | P17: 自ら中間処理する量 | X17: ⑥ | Y17: 自ら中間処理後の残さ量 | AD17: ｂ残さ物の委託処理 | AG17: ｂ | AH17: 自ら中間処理後の処理委託量 | AN17: ｂ-1 中間処理委託量 | AR17: 最終処分前 委託量 | AU17: ｔ
S18: ｔ | X18: =+ROUND(AG9,2)+ROUND(AG12,2)+ROUND(AG15,2)+AG18 -> 0 | AA18: ｔ | AG18: =+ROUND(AN18,2)+ROUND(AN21,2) -> 0 | AK18: ｔ | AN18: =+ROUND(AT16,2)+ROUND(AT17,2)+ROUND(AT18,2) -> 0 | AO18: ｔ | AR18: 下水等放流前委託量 | AU18: ｔ
B20: 注）右上のフローには、令和８年度の目標量を記載してください。下の表には、令和７年度実績を記載してください。なお、様式５をあわせて提出する場合には、先に様式５を入力し、データ反映・印刷ツールを使用するとこちらに数値が反映されます。 | O20: ⑤ | P20: ④のうち熱回収を行う量 | X20: ⑦ | Y20: 自ら中間処理により減量する量 | AN20: ｂ-2 最終処分委託量
S21: ｔ | X21: =+O18-X18 -> 0 | AA21: ｔ | AO21: ｔ
O22: =+IF(O21=0,"",IF(O18<O21,"エラー !：④の内数である⑤の量が④を超えています",""))
B23: 項 目 | F23: 令和７年度実績 | O23: ※２ | P23: 自社の他事業場での処理量 | AR23: ⑫ | AS23: ⑩のうち再生利用業者への処理委託量
B24: ① 排出量 | F24: 0 | H24: t | S24: ｔ | AR24: =+ROUND(AT16,2)+ROUND(Z28,2) -> 0 | AU24: ｔ
B25: ②＋⑧ 自ら再生利用を行った量 | F25: 0 | H25: t
B26: ⑤ 自ら熱回収を行った量 | F26: 0 | H26: t | L26: Ｂ 直接委託処理 | O26: Ｂ | P26: 直接処理委託量 | AK26: ⑩ | AL26: 直接及び自ら中間処理後の処理委託量 | AR26: ⑬ | AS26: ⑩のうち認定熱回収業者への処理委託量
B27: ⑦ 自ら中間処理により減量した量 | F27: 0 | H27: t | O27: =+Q30+ROUND(Q33,2) -> 0 | S27: ｔ | X27: （目的別内訳） | AK27: =+AG18+O27 -> 0 | AO27: ｔ | AU27: ｔ
B28: ③＋⑨ 自ら埋立処分又は海洋投入処分を行った量 | F28: 0 | H28: t | X28: 再生利用前委託量 | AE28: ｔ | AR28: =+IF(AR27=0,"",IF(AK27<(AR24+AR27+AR31),"エラー !：⑩の内数である（⑫+⑬＋⑭）の量が⑩を超えています",""))
B29: ⑩ 全処理委託量 | F29: 0 | H29: t | Q29: B-1 | R29: 中間処理委託量 | X29: 最終処分前委託量 | AE29: ｔ | AK29: ⑪ | AL29: ⑩のうち優良認定処理業者への処理委託量 | AR29: ⑭ | AS29: ⑩のうち認定熱回収業者以外の熱回収を行う業者への処理委託量
B30: ⑪ 優良認定処理業者への処理委託量 | F30: 0 | H30: t | Q30: =+ROUND(Z28,2)+ROUND(Z29,2)+ROUND(Z30,2) -> 0 | U30: ｔ | X30: 下水等放流前委託量 | AE30: ｔ | AO30: ｔ
B31: ⑫ 再生利用業者への処理委託量 | F31: 0 | H31: t | Z31: 【特別管理産業廃棄物の種類 （ア～チ）】 | AK31: =+IF(AK30=0,"",IF(AK27<AK30,"エラー !：⑩の内数である⑪の量が⑩を超えています","")) | AU31: ｔ
B32: ⑬ 認定熱回収業者への処理委託量 | F32: 0 | H32: t | Q32: B-2 | R32: 最終処分委託量 | Z32: ア. 特管廃油 イ. 特管廃酸 (pH2以下) ウ. 特管廃アルカリ (pH12.5以上) エ. 感染性廃棄物 | AF32: オ. 廃ＰＣＢ等 カ. ＰＣＢ汚染物 キ. ＰＣＢ処理物 ク. 指定下水汚泥 ケ. 有害鉱さい コ. 廃石綿等 | AJ32: サ. 有害ばいじん チ. 廃水銀等 シ. 有害燃え殻 ス. 有害廃油 セ. 有害汚泥 ソ. 有害廃酸 タ. 有害廃アルカリ | AR32: =+IF(AR31=0,"",IF(AK27<(AR24+AR27+AR31),"エラー !：⑩の内数である（⑫+⑬＋⑭）の量が⑩を超えています",""))
B33: ⑭ 認定熱回収業者以外の熱回収を行う業者への処理委託量 | F33: 0 | H33: t | U33: ｔ
C34: =+IF(F30=0,"",IF(F29<F30,"エラー !：上の表は、⑩の内数である⑪の量が⑩を超えています",""))
C35: =+IF(F31=0,"",IF(F29<F31,"エラー !：上の表は、⑩の内数である⑫の量が⑩を超えています",""))
C36: =+IF(F32=0,"",IF(F29<F32,"エラー !：上の表は、⑩の内数である⑬の量が⑩を超えています",""))
C37: =+IF(F33=0,"",IF(F29<F33,"エラー !：上の表は、⑩の内数である⑭の量が⑩を超えています",""))

Sheet ｾ.有害汚泥
R1: ↓ | S1: 注意：前年度の排出量のみでフロー図のデータ①がない場合にも、前年度データを該当欄に入力してください
B2: 特別管理産業廃棄物処理計画書
AO3: ４－２ | AR3: 法定 | AT3: 自主
AR4: =+表紙!Q29 -> 〇 | AT4: =+表紙!T29
B5: 別紙処理フロー | Y5: 事業場名称 | AD5: ： | AE5: =+表紙!F48 -> 東京電力パワーグリッド株式会社 旭資材置場
B6: 令和８年度発生する特別管理産業廃棄物ごとの目標量と処理計画
B7: フローに記載した特別管理産業廃棄物の種類 | D7: セ. 有害汚泥
B8: ※ | C8: 本用紙は廃棄物の種類ごとに1枚の記載となります。異なる廃棄物の処理フローは別シートに記載してください。 | AG8: ⑧ | AH8: 自ら中間処理後に再生利用する量
B9: （単位：t/年） | F9: 有償物量 | AD9: ａ残さ物の自己処理 | AM9: ｔ
C11: 不要物等発生量 | F11: ① | G11: 当該事業場における排出量 | L11: Ａ 自己処理 | O11: ② | P11: 自ら直接再生利用する量 | AG11: ⑨ | AH11: 自ら中間処理後に自ら埋立処分又は海洋投入処分する量
F12: =+ROUND(O12,2)+ROUND(O15,2)+ROUND(O18,2)+ROUND(O24,2)+O27-ROUND(F15,2) -> 0 | H12: ｔ | S12: ｔ | AM12: ｔ
F14: ※１ | G14: 自社の他事業場からの搬入量 | O14: ③ | P14: 自ら直接埋立処分する量 | AG14: ※3 | AH14: 自ら中間処理後に自社の他事業場での処理量
H15: ｔ | S15: ｔ | AM15: ｔ | AR15: （目的別内訳）
O16: =+IF(X18=0,"",IF(X18-O18=X18,"エラー！：⑥残さ物量があるのに、④自ら中間処理した量がゼロになっています","")) | AR16: 再生利用前委託量 | AU16: ｔ
O17: ④ | P17: 自ら中間処理する量 | X17: ⑥ | Y17: 自ら中間処理後の残さ量 | AD17: ｂ残さ物の委託処理 | AG17: ｂ | AH17: 自ら中間処理後の処理委託量 | AN17: ｂ-1 中間処理委託量 | AR17: 最終処分前 委託量 | AU17: ｔ
S18: ｔ | X18: =+ROUND(AG9,2)+ROUND(AG12,2)+ROUND(AG15,2)+AG18 -> 0 | AA18: ｔ | AG18: =+ROUND(AN18,2)+ROUND(AN21,2) -> 0 | AK18: ｔ | AN18: =+ROUND(AT16,2)+ROUND(AT17,2)+ROUND(AT18,2) -> 0 | AO18: ｔ | AR18: 下水等放流前委託量 | AU18: ｔ
B20: 注）右上のフローには、令和８年度の目標量を記載してください。下の表には、令和７年度実績を記載してください。なお、様式５をあわせて提出する場合には、先に様式５を入力し、データ反映・印刷ツールを使用するとこちらに数値が反映されます。 | O20: ⑤ | P20: ④のうち熱回収を行う量 | X20: ⑦ | Y20: 自ら中間処理により減量する量 | AN20: ｂ-2 最終処分委託量
S21: ｔ | X21: =+O18-X18 -> 0 | AA21: ｔ | AO21: ｔ
O22: =+IF(O21=0,"",IF(O18<O21,"エラー !：④の内数である⑤の量が④を超えています",""))
B23: 項 目 | F23: 令和７年度実績 | O23: ※２ | P23: 自社の他事業場での処理量 | AR23: ⑫ | AS23: ⑩のうち再生利用業者への処理委託量
B24: ① 排出量 | F24: 0 | H24: t | S24: ｔ | AR24: =+ROUND(AT16,2)+ROUND(Z28,2) -> 0 | AU24: ｔ
B25: ②＋⑧ 自ら再生利用を行った量 | F25: 0 | H25: t
B26: ⑤ 自ら熱回収を行った量 | F26: 0 | H26: t | L26: Ｂ 直接委託処理 | O26: Ｂ | P26: 直接処理委託量 | AK26: ⑩ | AL26: 直接及び自ら中間処理後の処理委託量 | AR26: ⑬ | AS26: ⑩のうち認定熱回収業者への処理委託量
B27: ⑦ 自ら中間処理により減量した量 | F27: 0 | H27: t | O27: =+Q30+ROUND(Q33,2) -> 0 | S27: ｔ | X27: （目的別内訳） | AK27: =+AG18+O27 -> 0 | AO27: ｔ | AU27: ｔ
B28: ③＋⑨ 自ら埋立処分又は海洋投入処分を行った量 | F28: 0 | H28: t | X28: 再生利用前委託量 | AE28: ｔ | AR28: =+IF(AR27=0,"",IF(AK27<(AR24+AR27+AR31),"エラー !：⑩の内数である（⑫+⑬＋⑭）の量が⑩を超えています",""))
B29: ⑩ 全処理委託量 | F29: 0 | H29: t | Q29: B-1 | R29: 中間処理委託量 | X29: 最終処分前委託量 | AE29: ｔ | AK29: ⑪ | AL29: ⑩のうち優良認定処理業者への処理委託量 | AR29: ⑭ | AS29: ⑩のうち認定熱回収業者以外の熱回収を行う業者への処理委託量
B30: ⑪ 優良認定処理業者への処理委託量 | F30: 0 | H30: t | Q30: =+ROUND(Z28,2)+ROUND(Z29,2)+ROUND(Z30,2) -> 0 | U30: ｔ | X30: 下水等放流前委託量 | AE30: ｔ | AO30: ｔ
B31: ⑫ 再生利用業者への処理委託量 | F31: 0 | H31: t | Z31: 【特別管理産業廃棄物の種類 （ア～チ）】 | AK31: =+IF(AK30=0,"",IF(AK27<AK30,"エラー !：⑩の内数である⑪の量が⑩を超えています","")) | AU31: ｔ
B32: ⑬ 認定熱回収業者への処理委託量 | F32: 0 | H32: t | Q32: B-2 | R32: 最終処分委託量 | Z32: ア. 特管廃油 イ. 特管廃酸 (pH2以下) ウ. 特管廃アルカリ (pH12.5以上) エ. 感染性廃棄物 | AF32: オ. 廃ＰＣＢ等 カ. ＰＣＢ汚染物 キ. ＰＣＢ処理物 ク. 指定下水汚泥 ケ. 有害鉱さい コ. 廃石綿等 | AJ32: サ. 有害ばいじん チ. 廃水銀等 シ. 有害燃え殻 ス. 有害廃油 セ. 有害汚泥 ソ. 有害廃酸 タ. 有害廃アルカリ | AR32: =+IF(AR31=0,"",IF(AK27<(AR24+AR27+AR31),"エラー !：⑩の内数である（⑫+⑬＋⑭）の量が⑩を超えています",""))
B33: ⑭ 認定熱回収業者以外の熱回収を行う業者への処理委託量 | F33: 0 | H33: t | U33: ｔ
C34: =+IF(F30=0,"",IF(F29<F30,"エラー !：上の表は、⑩の内数である⑪の量が⑩を超えています",""))
C35: =+IF(F31=0,"",IF(F29<F31,"エラー !：上の表は、⑩の内数である⑫の量が⑩を超えています",""))
C36: =+IF(F32=0,"",IF(F29<F32,"エラー !：上の表は、⑩の内数である⑬の量が⑩を超えています",""))
C37: =+IF(F33=0,"",IF(F29<F33,"エラー !：上の表は、⑩の内数である⑭の量が⑩を超えています",""))

Sheet ｿ.有害廃酸
R1: ↓ | S1: 注意：前年度の排出量のみでフロー図のデータ①がない場合にも、前年度データを該当欄に入力してください
B2: 特別管理産業廃棄物処理計画書
AO3: ４－２ | AR3: 法定 | AT3: 自主
AR4: =+表紙!Q29 -> 〇 | AT4: =+表紙!T29
B5: 別紙処理フロー | Y5: 事業場名称 | AD5: ： | AE5: =+表紙!F48 -> 東京電力パワーグリッド株式会社 旭資材置場
B6: 令和８年度発生する特別管理産業廃棄物ごとの目標量と処理計画
B7: フローに記載した特別管理産業廃棄物の種類 | D7: ソ. 有害廃酸
B8: ※ | C8: 本用紙は廃棄物の種類ごとに1枚の記載となります。異なる廃棄物の処理フローは別シートに記載してください。 | AG8: ⑧ | AH8: 自ら中間処理後に再生利用する量
B9: （単位：t/年） | F9: 有償物量 | AD9: ａ残さ物の自己処理 | AM9: ｔ
C11: 不要物等発生量 | F11: ① | G11: 当該事業場における排出量 | L11: Ａ 自己処理 | O11: ② | P11: 自ら直接再生利用する量 | AG11: ⑨ | AH11: 自ら中間処理後に自ら埋立処分又は海洋投入処分する量
F12: =+ROUND(O12,2)+ROUND(O15,2)+ROUND(O18,2)+ROUND(O24,2)+O27-ROUND(F15,2) -> 0 | H12: ｔ | S12: ｔ | AM12: ｔ
F14: ※１ | G14: 自社の他事業場からの搬入量 | O14: ③ | P14: 自ら直接埋立処分する量 | AG14: ※3 | AH14: 自ら中間処理後に自社の他事業場での処理量
H15: ｔ | S15: ｔ | AM15: ｔ | AR15: （目的別内訳）
O16: =+IF(X18=0,"",IF(X18-O18=X18,"エラー！：⑥残さ物量があるのに、④自ら中間処理した量がゼロになっています","")) | AR16: 再生利用前委託量 | AU16: ｔ
O17: ④ | P17: 自ら中間処理する量 | X17: ⑥ | Y17: 自ら中間処理後の残さ量 | AD17: ｂ残さ物の委託処理 | AG17: ｂ | AH17: 自ら中間処理後の処理委託量 | AN17: ｂ-1 中間処理委託量 | AR17: 最終処分前 委託量 | AU17: ｔ
S18: ｔ | X18: =+ROUND(AG9,2)+ROUND(AG12,2)+ROUND(AG15,2)+AG18 -> 0 | AA18: ｔ | AG18: =+ROUND(AN18,2)+ROUND(AN21,2) -> 0 | AK18: ｔ | AN18: =+ROUND(AT16,2)+ROUND(AT17,2)+ROUND(AT18,2) -> 0 | AO18: ｔ | AR18: 下水等放流前委託量 | AU18: ｔ
B20: 注）右上のフローには、令和８年度の目標量を記載してください。下の表には、令和７年度実績を記載してください。なお、様式５をあわせて提出する場合には、先に様式５を入力し、データ反映・印刷ツールを使用するとこちらに数値が反映されます。 | O20: ⑤ | P20: ④のうち熱回収を行う量 | X20: ⑦ | Y20: 自ら中間処理により減量する量 | AN20: ｂ-2 最終処分委託量
S21: ｔ | X21: =+O18-X18 -> 0 | AA21: ｔ | AO21: ｔ
O22: =+IF(O21=0,"",IF(O18<O21,"エラー !：④の内数である⑤の量が④を超えています",""))
B23: 項 目 | F23: 令和７年度実績 | O23: ※２ | P23: 自社の他事業場での処理量 | AR23: ⑫ | AS23: ⑩のうち再生利用業者への処理委託量
B24: ① 排出量 | F24: 0 | H24: t | S24: ｔ | AR24: =+ROUND(AT16,2)+ROUND(Z28,2) -> 0 | AU24: ｔ
B25: ②＋⑧ 自ら再生利用を行った量 | F25: 0 | H25: t
B26: ⑤ 自ら熱回収を行った量 | F26: 0 | H26: t | L26: Ｂ 直接委託処理 | O26: Ｂ | P26: 直接処理委託量 | AK26: ⑩ | AL26: 直接及び自ら中間処理後の処理委託量 | AR26: ⑬ | AS26: ⑩のうち認定熱回収業者への処理委託量
B27: ⑦ 自ら中間処理により減量した量 | F27: 0 | H27: t | O27: =+Q30+ROUND(Q33,2) -> 0 | S27: ｔ | X27: （目的別内訳） | AK27: =+AG18+O27 -> 0 | AO27: ｔ | AU27: ｔ
B28: ③＋⑨ 自ら埋立処分又は海洋投入処分を行った量 | F28: 0 | H28: t | X28: 再生利用前委託量 | AE28: ｔ | AR28: =+IF(AR27=0,"",IF(AK27<(AR24+AR27+AR31),"エラー !：⑩の内数である（⑫+⑬＋⑭）の量が⑩を超えています",""))
B29: ⑩ 全処理委託量 | F29: 0 | H29: t | Q29: B-1 | R29: 中間処理委託量 | X29: 最終処分前委託量 | AE29: ｔ | AK29: ⑪ | AL29: ⑩のうち優良認定処理業者への処理委託量 | AR29: ⑭ | AS29: ⑩のうち認定熱回収業者以外の熱回収を行う業者への処理委託量
B30: ⑪ 優良認定処理業者への処理委託量 | F30: 0 | H30: t | Q30: =+ROUND(Z28,2)+ROUND(Z29,2)+ROUND(Z30,2) -> 0 | U30: ｔ | X30: 下水等放流前委託量 | AE30: ｔ | AO30: ｔ
B31: ⑫ 再生利用業者への処理委託量 | F31: 0 | H31: t | Z31: 【特別管理産業廃棄物の種類 （ア～チ）】 | AK31: =+IF(AK30=0,"",IF(AK27<AK30,"エラー !：⑩の内数である⑪の量が⑩を超えています","")) | AU31: ｔ
B32: ⑬ 認定熱回収業者への処理委託量 | F32: 0 | H32: t | Q32: B-2 | R32: 最終処分委託量 | Z32: ア. 特管廃油 イ. 特管廃酸 (pH2以下) ウ. 特管廃アルカリ (pH12.5以上) エ. 感染性廃棄物 | AF32: オ. 廃ＰＣＢ等 カ. ＰＣＢ汚染物 キ. ＰＣＢ処理物 ク. 指定下水汚泥 ケ. 有害鉱さい コ. 廃石綿等 | AJ32: サ. 有害ばいじん チ. 廃水銀等 シ. 有害燃え殻 ス. 有害廃油 セ. 有害汚泥 ソ. 有害廃酸 タ. 有害廃アルカリ | AR32: =+IF(AR31=0,"",IF(AK27<(AR24+AR27+AR31),"エラー !：⑩の内数である（⑫+⑬＋⑭）の量が⑩を超えています",""))
B33: ⑭ 認定熱回収業者以外の熱回収を行う業者への処理委託量 | F33: 0 | H33: t | U33: ｔ
C34: =+IF(F30=0,"",IF(F29<F30,"エラー !：上の表は、⑩の内数である⑪の量が⑩を超えています",""))
C35: =+IF(F31=0,"",IF(F29<F31,"エラー !：上の表は、⑩の内数である⑫の量が⑩を超えています",""))
C36: =+IF(F32=0,"",IF(F29<F32,"エラー !：上の表は、⑩の内数である⑬の量が⑩を超えています",""))
C37: =+IF(F33=0,"",IF(F29<F33,"エラー !：上の表は、⑩の内数である⑭の量が⑩を超えています",""))

Sheet ﾀ.有害廃ｱﾙｶﾘ
R1: ↓ | S1: 注意：前年度の排出量のみでフロー図のデータ①がない場合にも、前年度データを該当欄に入力してください
B2: 特別管理産業廃棄物処理計画書
AO3: ４－２ | AR3: 法定 | AT3: 自主
AR4: =+表紙!Q29 -> 〇 | AT4: =+表紙!T29
B5: 別紙処理フロー | Y5: 事業場名称 | AD5: ： | AE5: =+表紙!F48 -> 東京電力パワーグリッド株式会社 旭資材置場
B6: 令和８年度発生する特別管理産業廃棄物ごとの目標量と処理計画
B7: フローに記載した特別管理産業廃棄物の種類 | D7: タ. 有害廃ｱﾙｶﾘ
B8: ※ | C8: 本用紙は廃棄物の種類ごとに1枚の記載となります。異なる廃棄物の処理フローは別シートに記載してください。 | AG8: ⑧ | AH8: 自ら中間処理後に再生利用する量
B9: （単位：t/年） | F9: 有償物量 | AD9: ａ残さ物の自己処理 | AM9: ｔ
C11: 不要物等発生量 | F11: ① | G11: 当該事業場における排出量 | L11: Ａ 自己処理 | O11: ② | P11: 自ら直接再生利用する量 | AG11: ⑨ | AH11: 自ら中間処理後に自ら埋立処分又は海洋投入処分する量
F12: =+ROUND(O12,2)+ROUND(O15,2)+ROUND(O18,2)+ROUND(O24,2)+O27-ROUND(F15,2) -> 0 | H12: ｔ | S12: ｔ | AM12: ｔ
F14: ※１ | G14: 自社の他事業場からの搬入量 | O14: ③ | P14: 自ら直接埋立処分する量 | AG14: ※3 | AH14: 自ら中間処理後に自社の他事業場での処理量
H15: ｔ | S15: ｔ | AM15: ｔ | AR15: （目的別内訳）
O16: =+IF(X18=0,"",IF(X18-O18=X18,"エラー！：⑥残さ物量があるのに、④自ら中間処理した量がゼロになっています","")) | AR16: 再生利用前委託量 | AU16: ｔ
O17: ④ | P17: 自ら中間処理する量 | X17: ⑥ | Y17: 自ら中間処理後の残さ量 | AD17: ｂ残さ物の委託処理 | AG17: ｂ | AH17: 自ら中間処理後の処理委託量 | AN17: ｂ-1 中間処理委託量 | AR17: 最終処分前 委託量 | AU17: ｔ
S18: ｔ | X18: =+ROUND(AG9,2)+ROUND(AG12,2)+ROUND(AG15,2)+AG18 -> 0 | AA18: ｔ | AG18: =+ROUND(AN18,2)+ROUND(AN21,2) -> 0 | AK18: ｔ | AN18: =+ROUND(AT16,2)+ROUND(AT17,2)+ROUND(AT18,2) -> 0 | AO18: ｔ | AR18: 下水等放流前委託量 | AU18: ｔ
B20: 注）右上のフローには、令和８年度の目標量を記載してください。下の表には、令和７年度実績を記載してください。なお、様式５をあわせて提出する場合には、先に様式５を入力し、データ反映・印刷ツールを使用するとこちらに数値が反映されます。 | O20: ⑤ | P20: ④のうち熱回収を行う量 | X20: ⑦ | Y20: 自ら中間処理により減量する量 | AN20: ｂ-2 最終処分委託量
S21: ｔ | X21: =+O18-X18 -> 0 | AA21: ｔ | AO21: ｔ
O22: =+IF(O21=0,"",IF(O18<O21,"エラー !：④の内数である⑤の量が④を超えています",""))
B23: 項 目 | F23: 令和７年度実績 | O23: ※２ | P23: 自社の他事業場での処理量 | AR23: ⑫ | AS23: ⑩のうち再生利用業者への処理委託量
B24: ① 排出量 | F24: 0 | H24: t | S24: ｔ | AR24: =+ROUND(AT16,2)+ROUND(Z28,2) -> 0 | AU24: ｔ
B25: ②＋⑧ 自ら再生利用を行った量 | F25: 0 | H25: t
B26: ⑤ 自ら熱回収を行った量 | F26: 0 | H26: t | L26: Ｂ 直接委託処理 | O26: Ｂ | P26: 直接処理委託量 | AK26: ⑩ | AL26: 直接及び自ら中間処理後の処理委託量 | AR26: ⑬ | AS26: ⑩のうち認定熱回収業者への処理委託量
B27: ⑦ 自ら中間処理により減量した量 | F27: 0 | H27: t | O27: =+Q30+ROUND(Q33,2) -> 0 | S27: ｔ | X27: （目的別内訳） | AK27: =+AG18+O27 -> 0 | AO27: ｔ | AU27: ｔ
B28: ③＋⑨ 自ら埋立処分又は海洋投入処分を行った量 | F28: 0 | H28: t | X28: 再生利用前委託量 | AE28: ｔ | AR28: =+IF(AR27=0,"",IF(AK27<(AR24+AR27+AR31),"エラー !：⑩の内数である（⑫+⑬＋⑭）の量が⑩を超えています",""))
B29: ⑩ 全処理委託量 | F29: 0 | H29: t | Q29: B-1 | R29: 中間処理委託量 | X29: 最終処分前委託量 | AE29: ｔ | AK29: ⑪ | AL29: ⑩のうち優良認定処理業者への処理委託量 | AR29: ⑭ | AS29: ⑩のうち認定熱回収業者以外の熱回収を行う業者への処理委託量
B30: ⑪ 優良認定処理業者への処理委託量 | F30: 0 | H30: t | Q30: =+ROUND(Z28,2)+ROUND(Z29,2)+ROUND(Z30,2) -> 0 | U30: ｔ | X30: 下水等放流前委託量 | AE30: ｔ | AO30: ｔ
B31: ⑫ 再生利用業者への処理委託量 | F31: 0 | H31: t | Z31: 【特別管理産業廃棄物の種類 （ア～チ）】 | AK31: =+IF(AK30=0,"",IF(AK27<AK30,"エラー !：⑩の内数である⑪の量が⑩を超えています","")) | AU31: ｔ
B32: ⑬ 認定熱回収業者への処理委託量 | F32: 0 | H32: t | Q32: B-2 | R32: 最終処分委託量 | Z32: ア. 特管廃油 イ. 特管廃酸 (pH2以下) ウ. 特管廃アルカリ (pH12.5以上) エ. 感染性廃棄物 | AF32: オ. 廃ＰＣＢ等 カ. ＰＣＢ汚染物 キ. ＰＣＢ処理物 ク. 指定下水汚泥 ケ. 有害鉱さい コ. 廃石綿等 | AJ32: サ. 有害ばいじん チ. 廃水銀等 シ. 有害燃え殻 ス. 有害廃油 セ. 有害汚泥 ソ. 有害廃酸 タ. 有害廃アルカリ | AR32: =+IF(AR31=0,"",IF(AK27<(AR24+AR27+AR31),"エラー !：⑩の内数である（⑫+⑬＋⑭）の量が⑩を超えています",""))
B33: ⑭ 認定熱回収業者以外の熱回収を行う業者への処理委託量 | F33: 0 | H33: t | U33: ｔ
C34: =+IF(F30=0,"",IF(F29<F30,"エラー !：上の表は、⑩の内数である⑪の量が⑩を超えています",""))
C35: =+IF(F31=0,"",IF(F29<F31,"エラー !：上の表は、⑩の内数である⑫の量が⑩を超えています",""))
C36: =+IF(F32=0,"",IF(F29<F32,"エラー !：上の表は、⑩の内数である⑬の量が⑩を超えています",""))
C37: =+IF(F33=0,"",IF(F29<F33,"エラー !：上の表は、⑩の内数である⑭の量が⑩を超えています",""))

Sheet ﾁ.廃水銀等
R1: ↓ | S1: 注意：前年度の排出量のみでフロー図のデータ①がない場合にも、前年度データを該当欄に入力してください
B2: 特別管理産業廃棄物処理計画書
AO3: ４－２ | AR3: 法定 | AT3: 自主
AR4: =+表紙!Q29 -> 〇 | AT4: =+表紙!T29
B5: 別紙処理フロー | Y5: 事業場名称 | AD5: ： | AE5: =+表紙!F48 -> 東京電力パワーグリッド株式会社 旭資材置場
B6: 令和８年度発生する特別管理産業廃棄物ごとの目標量と処理計画
B7: フローに記載した特別管理産業廃棄物の種類 | D7: チ. 廃水銀等
B8: ※ | C8: 本用紙は廃棄物の種類ごとに1枚の記載となります。異なる廃棄物の処理フローは別シートに記載してください。 | AG8: ⑧ | AH8: 自ら中間処理後に再生利用する量
B9: （単位：t/年） | F9: 有償物量 | AD9: ａ残さ物の自己処理 | AM9: ｔ
C11: 不要物等発生量 | F11: ① | G11: 当該事業場における排出量 | L11: Ａ 自己処理 | O11: ② | P11: 自ら直接再生利用する量 | AG11: ⑨ | AH11: 自ら中間処理後に自ら埋立処分又は海洋投入処分する量
F12: =+ROUND(O12,2)+ROUND(O15,2)+ROUND(O18,2)+ROUND(O24,2)+O27-ROUND(F15,2) -> 0 | H12: ｔ | S12: ｔ | AM12: ｔ
F14: ※１ | G14: 自社の他事業場からの搬入量 | O14: ③ | P14: 自ら直接埋立処分する量 | AG14: ※3 | AH14: 自ら中間処理後に自社の他事業場での処理量
H15: ｔ | S15: ｔ | AM15: ｔ | AR15: （目的別内訳）
O16: =+IF(X18=0,"",IF(X18-O18=X18,"エラー！：⑥残さ物量があるのに、④自ら中間処理した量がゼロになっています","")) | AR16: 再生利用前委託量 | AU16: ｔ
O17: ④ | P17: 自ら中間処理する量 | X17: ⑥ | Y17: 自ら中間処理後の残さ量 | AD17: ｂ残さ物の委託処理 | AG17: ｂ | AH17: 自ら中間処理後の処理委託量 | AN17: ｂ-1 中間処理委託量 | AR17: 最終処分前 委託量 | AU17: ｔ
S18: ｔ | X18: =+ROUND(AG9,2)+ROUND(AG12,2)+ROUND(AG15,2)+AG18 -> 0 | AA18: ｔ | AG18: =+ROUND(AN18,2)+ROUND(AN21,2) -> 0 | AK18: ｔ | AN18: =+ROUND(AT16,2)+ROUND(AT17,2)+ROUND(AT18,2) -> 0 | AO18: ｔ | AR18: 下水等放流前委託量 | AU18: ｔ
B20: 注）右上のフローには、令和８年度の目標量を記載してください。下の表には、令和７年度実績を記載してください。なお、様式５をあわせて提出する場合には、先に様式５を入力し、データ反映・印刷ツールを使用するとこちらに数値が反映されます。 | O20: ⑤ | P20: ④のうち熱回収を行う量 | X20: ⑦ | Y20: 自ら中間処理により減量する量 | AN20: ｂ-2 最終処分委託量
S21: ｔ | X21: =+O18-X18 -> 0 | AA21: ｔ | AO21: ｔ
O22: =+IF(O21=0,"",IF(O18<O21,"エラー !：④の内数である⑤の量が④を超えています",""))
B23: 項 目 | F23: 令和７年度実績 | O23: ※２ | P23: 自社の他事業場での処理量 | AR23: ⑫ | AS23: ⑩のうち再生利用業者への処理委託量
B24: ① 排出量 | F24: 0 | H24: t | S24: ｔ | AR24: =+ROUND(AT16,2)+ROUND(Z28,2) -> 0 | AU24: ｔ
B25: ②＋⑧ 自ら再生利用を行った量 | F25: 0 | H25: t
B26: ⑤ 自ら熱回収を行った量 | F26: 0 | H26: t | L26: Ｂ 直接委託処理 | O26: Ｂ | P26: 直接処理委託量 | AK26: ⑩ | AL26: 直接及び自ら中間処理後の処理委託量 | AR26: ⑬ | AS26: ⑩のうち認定熱回収業者への処理委託量
B27: ⑦ 自ら中間処理により減量した量 | F27: 0 | H27: t | O27: =+Q30+ROUND(Q33,2) -> 0 | S27: ｔ | X27: （目的別内訳） | AK27: =+AG18+O27 -> 0 | AO27: ｔ | AU27: ｔ
B28: ③＋⑨ 自ら埋立処分又は海洋投入処分を行った量 | F28: 0 | H28: t | X28: 再生利用前委託量 | AE28: ｔ | AR28: =+IF(AR27=0,"",IF(AK27<(AR24+AR27+AR31),"エラー !：⑩の内数である（⑫+⑬＋⑭）の量が⑩を超えています",""))
B29: ⑩ 全処理委託量 | F29: 0 | H29: t | Q29: B-1 | R29: 中間処理委託量 | X29: 最終処分前委託量 | AE29: ｔ | AK29: ⑪ | AL29: ⑩のうち優良認定処理業者への処理委託量 | AR29: ⑭ | AS29: ⑩のうち認定熱回収業者以外の熱回収を行う業者への処理委託量
B30: ⑪ 優良認定処理業者への処理委託量 | F30: 0 | H30: t | Q30: =+ROUND(Z28,2)+ROUND(Z29,2)+ROUND(Z30,2) -> 0 | U30: ｔ | X30: 下水等放流前委託量 | AE30: ｔ | AO30: ｔ
B31: ⑫ 再生利用業者への処理委託量 | F31: 0 | H31: t | Z31: 【特別管理産業廃棄物の種類 （ア～チ）】 | AK31: =+IF(AK30=0,"",IF(AK27<AK30,"エラー !：⑩の内数である⑪の量が⑩を超えています","")) | AU31: ｔ
B32: ⑬ 認定熱回収業者への処理委託量 | F32: 0 | H32: t | Q32: B-2 | R32: 最終処分委託量 | Z32: ア. 特管廃油 イ. 特管廃酸 (pH2以下) ウ. 特管廃アルカリ (pH12.5以上) エ. 感染性廃棄物 | AF32: オ. 廃ＰＣＢ等 カ. ＰＣＢ汚染物 キ. ＰＣＢ処理物 ク. 指定下水汚泥 ケ. 有害鉱さい コ. 廃石綿等 | AJ32: サ. 有害ばいじん チ. 廃水銀等 シ. 有害燃え殻 ス. 有害廃油 セ. 有害汚泥 ソ. 有害廃酸 タ. 有害廃アルカリ | AR32: =+IF(AR31=0,"",IF(AK27<(AR24+AR27+AR31),"エラー !：⑩の内数である（⑫+⑬＋⑭）の量が⑩を超えています",""))
B33: ⑭ 認定熱回収業者以外の熱回収を行う業者への処理委託量 | F33: 0 | H33: t | U33: ｔ
C34: =+IF(F30=0,"",IF(F29<F30,"エラー !：上の表は、⑩の内数である⑪の量が⑩を超えています",""))
C35: =+IF(F31=0,"",IF(F29<F31,"エラー !：上の表は、⑩の内数である⑫の量が⑩を超えています",""))
C36: =+IF(F32=0,"",IF(F29<F32,"エラー !：上の表は、⑩の内数である⑬の量が⑩を超えています",""))
C37: =+IF(F33=0,"",IF(F29<F33,"エラー !：上の表は、⑩の内数である⑭の量が⑩を超えています",""))

Sheet 別紙
C1: このページは、印刷用のページですので、一切入力できません。入力は各廃棄物のフローシート「ア.特管廃油～チ.廃水銀等」にしてください。
E2: は訂正が必要ですので、該当の処理フローを訂正してください。
B3: 特別管理産業廃棄物処理計画書
V4: ４－１ | W4: 法定 | X4: 自主
W5: =+表紙!Q29 -> 〇 | X5: =+表紙!T29
B6: 別紙一括表 | O6: 事業場名称： | P6: =+表紙!F48 -> 東京電力パワーグリッド株式会社 旭資材置場 | X6: （単位：トン）
G7: ア | H7: イ | I7: ウ | J7: エ | K7: オ | L7: カ | M7: キ | N7: ク | O7: ケ | P7: コ | Q7: サ | R7: シ | S7: ス | T7: セ | U7: ソ | V7: タ | W7: チ
G8: 特管廃油 | H8: 特管廃酸 (pH2以下) | I8: 特管廃ｱﾙｶﾘ (pH12.5以上) | J8: 感染性 廃棄物 | K8: 廃ＰＣＢ等 | L8: ＰＣＢ汚染物 | M8: ＰＣＢ処理物 | N8: 指定 下水汚泥 | O8: 有害鉱さい | P8: 廃石綿等 | Q8: 有害ばいじん | R8: 有害燃え殻 | S8: 有害廃油 | T8: 有害汚泥 | U8: 有害廃酸 | V8: 有害 廃アルカリ | W8: 廃水銀等 | X8: 合計
C9: ① 排出量 | G9: =IF(OR(ｱ.特管廃油!F24>0,ｱ.特管廃油!F24<0),ｱ.特管廃油!F24,IF(G$19>0,"0",0)) -> 0 | H9: =IF(OR(ｲ.特管廃酸!F24>0,ｲ.特管廃酸!F24<0),ｲ.特管廃酸!F24,IF(H$19>0,"0",0)) -> 0 | I9: =IF(OR(ｳ.特管廃ｱﾙｶﾘ!F24>0,ｳ.特管廃ｱﾙｶﾘ!F24<0),ｳ.特管廃ｱﾙｶﾘ!F24,IF(I$19>0,"0",0)) -> 0 | J9: =IF(OR(ｴ.感染性廃棄物!$F24>0,ｴ.感染性廃棄物!$F24<0),ｴ.感染性廃棄物!F24,IF(J$19>0,"0",0)) -> 0 | K9: =IF(OR(ｵ.廃PCB等!$F24>0,ｵ.廃PCB等!$F24<0),ｵ.廃PCB等!F24,IF(K$19>0,"0",0)) -> 0 | L9: =IF(OR(ｶ.PCB汚染物!F24>0,ｶ.PCB汚染物!F24<0),ｶ.PCB汚染物!F24,IF(L$19>0,"0",0)) -> 392.85 | M9: =IF(OR(ｷ.PCB処理物!F24>0,ｷ.PCB処理物!F24<0),ｷ.PCB処理物!F24,IF(M$19>0,"0",0)) -> 0 | N9: =IF(OR(ｸ.指定下水汚泥!F24>0,ｸ.指定下水汚泥!F24<0),ｸ.指定下水汚泥!F24,IF(N$19>0,"0",0)) -> 0 | O9: =IF(OR(ｹ.有害鉱さい!F24>0,ｹ.有害鉱さい!F24<0),ｹ.有害鉱さい!F24,IF(O$19>0,"0",0)) -> 0 | P9: =IF(OR(ｺ.廃石綿等!F24>0,ｺ.廃石綿等!F24<0),ｺ.廃石綿等!F24,IF(P$19>0,"0",0)) -> 0 | Q9: =IF(OR(ｻ.有害ばいじん!F24>0,ｻ.有害ばいじん!F24<0),ｻ.有害ばいじん!F24,IF(Q$19>0,"0",0)) -> 0 | R9: =IF(OR(ｼ.有害燃え殻!F24>0,ｼ.有害燃え殻!F24<0),ｼ.有害燃え殻!F24,IF(R$19>0,"0",0)) -> 0 | S9: =IF(OR(ｽ.有害廃油!F24>0,ｽ.有害廃油!F24<0),ｽ.有害廃油!F24,IF(S$19>0,"0",0)) -> 0 | T9: =IF(OR(ｾ.有害汚泥!F24>0,ｾ.有害汚泥!F24<0),ｾ.有害汚泥!F24,IF(T$19>0,"0",0)) -> 0 | U9: =IF(OR(ｿ.有害廃酸!F24>0,ｿ.有害廃酸!F24<0),ｿ.有害廃酸!F24,IF(U$19>0,"0",0)) -> 0 | V9: =IF(OR(ﾀ.有害廃ｱﾙｶﾘ!F24>0,ﾀ.有害廃ｱﾙｶﾘ!F24<0),ﾀ.有害廃ｱﾙｶﾘ!F24,IF(V$19>0,"0",0)) -> 0 | W9: =IF(OR(ﾁ.廃水銀等!F24>0,ﾁ.廃水銀等!F24<0),ﾁ.廃水銀等!F24,IF(W$19>0,"0",0)) -> 0 | X9: =IF(SUM(G9:W9)>0,SUM(G9:W9),IF(X$19>0,"0",0)) -> 392.85
B10: 令 | C10: ②＋⑧ 自ら再生利用を行った量 | G10: =IF(OR(ｱ.特管廃油!F25>0,ｱ.特管廃油!F25<0),ｱ.特管廃油!F25,IF(G$19>0,"0",0)) -> 0 | H10: =IF(OR(ｲ.特管廃酸!F25>0,ｲ.特管廃酸!F25<0),ｲ.特管廃酸!F25,IF(H$19>0,"0",0)) -> 0 | I10: =IF(OR(ｳ.特管廃ｱﾙｶﾘ!F25>0,ｳ.特管廃ｱﾙｶﾘ!F25<0),ｳ.特管廃ｱﾙｶﾘ!F25,IF(I$19>0,"0",0)) -> 0 | J10: =IF(OR(ｴ.感染性廃棄物!$F25>0,ｴ.感染性廃棄物!$F25<0),ｴ.感染性廃棄物!F25,IF(J$19>0,"0",0)) -> 0 | K10: =IF(OR(ｵ.廃PCB等!$F25>0,ｵ.廃PCB等!$F25<0),ｵ.廃PCB等!F25,IF(K$19>0,"0",0)) -> 0 | L10: =IF(OR(ｶ.PCB汚染物!F25>0,ｶ.PCB汚染物!F25<0),ｶ.PCB汚染物!F25,IF(L$19>0,"0",0)) -> 0 | M10: =IF(OR(ｷ.PCB処理物!F25>0,ｷ.PCB処理物!F25<0),ｷ.PCB処理物!F25,IF(M$19>0,"0",0)) -> 0 | N10: =IF(OR(ｸ.指定下水汚泥!F25>0,ｸ.指定下水汚泥!F25<0),ｸ.指定下水汚泥!F25,IF(N$19>0,"0",0)) -> 0 | O10: =IF(OR(ｹ.有害鉱さい!F25>0,ｹ.有害鉱さい!F25<0),ｹ.有害鉱さい!F25,IF(O$19>0,"0",0)) -> 0 | P10: =IF(OR(ｺ.廃石綿等!F25>0,ｺ.廃石綿等!F25<0),ｺ.廃石綿等!F25,IF(P$19>0,"0",0)) -> 0 | Q10: =IF(OR(ｻ.有害ばいじん!F25>0,ｻ.有害ばいじん!F25<0),ｻ.有害ばいじん!F25,IF(Q$19>0,"0",0)) -> 0 | R10: =IF(OR(ｼ.有害燃え殻!F25>0,ｼ.有害燃え殻!F25<0),ｼ.有害燃え殻!F25,IF(R$19>0,"0",0)) -> 0 | S10: =IF(OR(ｽ.有害廃油!F25>0,ｽ.有害廃油!F25<0),ｽ.有害廃油!F25,IF(S$19>0,"0",0)) -> 0 | T10: =IF(OR(ｾ.有害汚泥!F25>0,ｾ.有害汚泥!F25<0),ｾ.有害汚泥!F25,IF(T$19>0,"0",0)) -> 0 | U10: =IF(OR(ｿ.有害廃酸!F25>0,ｿ.有害廃酸!F25<0),ｿ.有害廃酸!F25,IF(U$19>0,"0",0)) -> 0 | V10: =IF(OR(ﾀ.有害廃ｱﾙｶﾘ!F25>0,ﾀ.有害廃ｱﾙｶﾘ!F25<0),ﾀ.有害廃ｱﾙｶﾘ!F25,IF(V$19>0,"0",0)) -> 0 | W10: =IF(OR(ﾁ.廃水銀等!F25>0,ﾁ.廃水銀等!F25<0),ﾁ.廃水銀等!F25,IF(W$19>0,"0",0)) -> 0 | X10: =IF(SUM(G10:W10)>0,SUM(G10:W10),IF(X$19>0,"0",0)) -> 0
B11: 和 | C11: ⑤ 自ら熱回収を行った量 | G11: =IF(OR(ｱ.特管廃油!F26>0,ｱ.特管廃油!F26<0),ｱ.特管廃油!F26,IF(G$19>0,"0",0)) -> 0 | H11: =IF(OR(ｲ.特管廃酸!F26>0,ｲ.特管廃酸!F26<0),ｲ.特管廃酸!F26,IF(H$19>0,"0",0)) -> 0 | I11: =IF(OR(ｳ.特管廃ｱﾙｶﾘ!F26>0,ｳ.特管廃ｱﾙｶﾘ!F26<0),ｳ.特管廃ｱﾙｶﾘ!F26,IF(I$19>0,"0",0)) -> 0 | J11: =IF(OR(ｴ.感染性廃棄物!$F26>0,ｴ.感染性廃棄物!$F26<0),ｴ.感染性廃棄物!F26,IF(J$19>0,"0",0)) -> 0 | K11: =IF(OR(ｵ.廃PCB等!$F26>0,ｵ.廃PCB等!$F26<0),ｵ.廃PCB等!F26,IF(K$19>0,"0",0)) -> 0 | L11: =IF(OR(ｶ.PCB汚染物!F26>0,ｶ.PCB汚染物!F26<0),ｶ.PCB汚染物!F26,IF(L$19>0,"0",0)) -> 0 | M11: =IF(OR(ｷ.PCB処理物!F26>0,ｷ.PCB処理物!F26<0),ｷ.PCB処理物!F26,IF(M$19>0,"0",0)) -> 0 | N11: =IF(OR(ｸ.指定下水汚泥!F26>0,ｸ.指定下水汚泥!F26<0),ｸ.指定下水汚泥!F26,IF(N$19>0,"0",0)) -> 0 | O11: =IF(OR(ｹ.有害鉱さい!F26>0,ｹ.有害鉱さい!F26<0),ｹ.有害鉱さい!F26,IF(O$19>0,"0",0)) -> 0 | P11: =IF(OR(ｺ.廃石綿等!F26>0,ｺ.廃石綿等!F26<0),ｺ.廃石綿等!F26,IF(P$19>0,"0",0)) -> 0 | Q11: =IF(OR(ｻ.有害ばいじん!F26>0,ｻ.有害ばいじん!F26<0),ｻ.有害ばいじん!F26,IF(Q$19>0,"0",0)) -> 0 | R11: =IF(OR(ｼ.有害燃え殻!F26>0,ｼ.有害燃え殻!F26<0),ｼ.有害燃え殻!F26,IF(R$19>0,"0",0)) -> 0 | S11: =IF(OR(ｽ.有害廃油!F26>0,ｽ.有害廃油!F26<0),ｽ.有害廃油!F26,IF(S$19>0,"0",0)) -> 0 | T11: =IF(OR(ｾ.有害汚泥!F26>0,ｾ.有害汚泥!F26<0),ｾ.有害汚泥!F26,IF(T$19>0,"0",0)) -> 0 | U11: =IF(OR(ｿ.有害廃酸!F26>0,ｿ.有害廃酸!F26<0),ｿ.有害廃酸!F26,IF(U$19>0,"0",0)) -> 0 | V11: =IF(OR(ﾀ.有害廃ｱﾙｶﾘ!F26>0,ﾀ.有害廃ｱﾙｶﾘ!F26<0),ﾀ.有害廃ｱﾙｶﾘ!F26,IF(V$19>0,"0",0)) -> 0 | W11: =IF(OR(ﾁ.廃水銀等!F26>0,ﾁ.廃水銀等!F26<0),ﾁ.廃水銀等!F26,IF(W$19>0,"0",0)) -> 0 | X11: =IF(SUM(G11:W11)>0,SUM(G11:W11),IF(X$19>0,"0",0)) -> 0
B12: 7 | C12: ⑦ 自ら中間処理により減量した量 | G12: =IF(OR(ｱ.特管廃油!F27>0,ｱ.特管廃油!F27<0),ｱ.特管廃油!F27,IF(G$19>0,"0",0)) -> 0 | H12: =IF(OR(ｲ.特管廃酸!F27>0,ｲ.特管廃酸!F27<0),ｲ.特管廃酸!F27,IF(H$19>0,"0",0)) -> 0 | I12: =IF(OR(ｳ.特管廃ｱﾙｶﾘ!F27>0,ｳ.特管廃ｱﾙｶﾘ!F27<0),ｳ.特管廃ｱﾙｶﾘ!F27,IF(I$19>0,"0",0)) -> 0 | J12: =IF(OR(ｴ.感染性廃棄物!$F27>0,ｴ.感染性廃棄物!$F27<0),ｴ.感染性廃棄物!F27,IF(J$19>0,"0",0)) -> 0 | K12: =IF(OR(ｵ.廃PCB等!$F27>0,ｵ.廃PCB等!$F27<0),ｵ.廃PCB等!F27,IF(K$19>0,"0",0)) -> 0 | L12: =IF(OR(ｶ.PCB汚染物!F27>0,ｶ.PCB汚染物!F27<0),ｶ.PCB汚染物!F27,IF(L$19>0,"0",0)) -> 0 | M12: =IF(OR(ｷ.PCB処理物!F27>0,ｷ.PCB処理物!F27<0),ｷ.PCB処理物!F27,IF(M$19>0,"0",0)) -> 0 | N12: =IF(OR(ｸ.指定下水汚泥!F27>0,ｸ.指定下水汚泥!F27<0),ｸ.指定下水汚泥!F27,IF(N$19>0,"0",0)) -> 0 | O12: =IF(OR(ｹ.有害鉱さい!F27>0,ｹ.有害鉱さい!F27<0),ｹ.有害鉱さい!F27,IF(O$19>0,"0",0)) -> 0 | P12: =IF(OR(ｺ.廃石綿等!F27>0,ｺ.廃石綿等!F27<0),ｺ.廃石綿等!F27,IF(P$19>0,"0",0)) -> 0 | Q12: =IF(OR(ｻ.有害ばいじん!F27>0,ｻ.有害ばいじん!F27<0),ｻ.有害ばいじん!F27,IF(Q$19>0,"0",0)) -> 0 | R12: =IF(OR(ｼ.有害燃え殻!F27>0,ｼ.有害燃え殻!F27<0),ｼ.有害燃え殻!F27,IF(R$19>0,"0",0)) -> 0 | S12: =IF(OR(ｽ.有害廃油!F27>0,ｽ.有害廃油!F27<0),ｽ.有害廃油!F27,IF(S$19>0,"0",0)) -> 0 | T12: =IF(OR(ｾ.有害汚泥!F27>0,ｾ.有害汚泥!F27<0),ｾ.有害汚泥!F27,IF(T$19>0,"0",0)) -> 0 | U12: =IF(OR(ｿ.有害廃酸!F27>0,ｿ.有害廃酸!F27<0),ｿ.有害廃酸!F27,IF(U$19>0,"0",0)) -> 0 | V12: =IF(OR(ﾀ.有害廃ｱﾙｶﾘ!F27>0,ﾀ.有害廃ｱﾙｶﾘ!F27<0),ﾀ.有害廃ｱﾙｶﾘ!F27,IF(V$19>0,"0",0)) -> 0 | W12: =IF(OR(ﾁ.廃水銀等!F27>0,ﾁ.廃水銀等!F27<0),ﾁ.廃水銀等!F27,IF(W$19>0,"0",0)) -> 0 | X12: =IF(SUM(G12:W12)>0,SUM(G12:W12),IF(X$19>0,"0",0)) -> 0
B13: 年 | C13: ③＋⑨ 自ら埋立処分又は海洋投入処分を行った量 | G13: =IF(OR(ｱ.特管廃油!F28>0,ｱ.特管廃油!F28<0),ｱ.特管廃油!F28,IF(G$19>0,"0",0)) -> 0 | H13: =IF(OR(ｲ.特管廃酸!F28>0,ｲ.特管廃酸!F28<0),ｲ.特管廃酸!F28,IF(H$19>0,"0",0)) -> 0 | I13: =IF(OR(ｳ.特管廃ｱﾙｶﾘ!F28>0,ｳ.特管廃ｱﾙｶﾘ!F28<0),ｳ.特管廃ｱﾙｶﾘ!F28,IF(I$19>0,"0",0)) -> 0 | J13: =IF(OR(ｴ.感染性廃棄物!$F28>0,ｴ.感染性廃棄物!$F28<0),ｴ.感染性廃棄物!F28,IF(J$19>0,"0",0)) -> 0 | K13: =IF(OR(ｵ.廃PCB等!$F28>0,ｵ.廃PCB等!$F28<0),ｵ.廃PCB等!F28,IF(K$19>0,"0",0)) -> 0 | L13: =IF(OR(ｶ.PCB汚染物!F28>0,ｶ.PCB汚染物!F28<0),ｶ.PCB汚染物!F28,IF(L$19>0,"0",0)) -> 0 | M13: =IF(OR(ｷ.PCB処理物!F28>0,ｷ.PCB処理物!F28<0),ｷ.PCB処理物!F28,IF(M$19>0,"0",0)) -> 0 | N13: =IF(OR(ｸ.指定下水汚泥!F28>0,ｸ.指定下水汚泥!F28<0),ｸ.指定下水汚泥!F28,IF(N$19>0,"0",0)) -> 0 | O13: =IF(OR(ｹ.有害鉱さい!F28>0,ｹ.有害鉱さい!F28<0),ｹ.有害鉱さい!F28,IF(O$19>0,"0",0)) -> 0 | P13: =IF(OR(ｺ.廃石綿等!F28>0,ｺ.廃石綿等!F28<0),ｺ.廃石綿等!F28,IF(P$19>0,"0",0)) -> 0 | Q13: =IF(OR(ｻ.有害ばいじん!F28>0,ｻ.有害ばいじん!F28<0),ｻ.有害ばいじん!F28,IF(Q$19>0,"0",0)) -> 0 | R13: =IF(OR(ｼ.有害燃え殻!F28>0,ｼ.有害燃え殻!F28<0),ｼ.有害燃え殻!F28,IF(R$19>0,"0",0)) -> 0 | S13: =IF(OR(ｽ.有害廃油!F28>0,ｽ.有害廃油!F28<0),ｽ.有害廃油!F28,IF(S$19>0,"0",0)) -> 0 | T13: =IF(OR(ｾ.有害汚泥!F28>0,ｾ.有害汚泥!F28<0),ｾ.有害汚泥!F28,IF(T$19>0,"0",0)) -> 0 | U13: =IF(OR(ｿ.有害廃酸!F28>0,ｿ.有害廃酸!F28<0),ｿ.有害廃酸!F28,IF(U$19>0,"0",0)) -> 0 | V13: =IF(OR(ﾀ.有害廃ｱﾙｶﾘ!F28>0,ﾀ.有害廃ｱﾙｶﾘ!F28<0),ﾀ.有害廃ｱﾙｶﾘ!F28,IF(V$19>0,"0",0)) -> 0 | W13: =IF(OR(ﾁ.廃水銀等!F28>0,ﾁ.廃水銀等!F28<0),ﾁ.廃水銀等!F28,IF(W$19>0,"0",0)) -> 0 | X13: =IF(SUM(G13:W13)>0,SUM(G13:W13),IF(X$19>0,"0",0)) -> 0
B14: 度 | C14: ⑩ 全処理委託量 | G14: =IF(OR(ｱ.特管廃油!F29>0,ｱ.特管廃油!F29<0),ｱ.特管廃油!F29,IF(G$19>0,"0",0)) -> 0 | H14: =IF(OR(ｲ.特管廃酸!F29>0,ｲ.特管廃酸!F29<0),ｲ.特管廃酸!F29,IF(H$19>0,"0",0)) -> 0 | I14: =IF(OR(ｳ.特管廃ｱﾙｶﾘ!F29>0,ｳ.特管廃ｱﾙｶﾘ!F29<0),ｳ.特管廃ｱﾙｶﾘ!F29,IF(I$19>0,"0",0)) -> 0 | J14: =IF(OR(ｴ.感染性廃棄物!$F29>0,ｴ.感染性廃棄物!$F29<0),ｴ.感染性廃棄物!F29,IF(J$19>0,"0",0)) -> 0 | K14: =IF(OR(ｵ.廃PCB等!$F29>0,ｵ.廃PCB等!$F29<0),ｵ.廃PCB等!F29,IF(K$19>0,"0",0)) -> 0 | L14: =IF(OR(ｶ.PCB汚染物!F29>0,ｶ.PCB汚染物!F29<0),ｶ.PCB汚染物!F29,IF(L$19>0,"0",0)) -> 372.35 | M14: =IF(OR(ｷ.PCB処理物!F29>0,ｷ.PCB処理物!F29<0),ｷ.PCB処理物!F29,IF(M$19>0,"0",0)) -> 0 | N14: =IF(OR(ｸ.指定下水汚泥!F29>0,ｸ.指定下水汚泥!F29<0),ｸ.指定下水汚泥!F29,IF(N$19>0,"0",0)) -> 0 | O14: =IF(OR(ｹ.有害鉱さい!F29>0,ｹ.有害鉱さい!F29<0),ｹ.有害鉱さい!F29,IF(O$19>0,"0",0)) -> 0 | P14: =IF(OR(ｺ.廃石綿等!F29>0,ｺ.廃石綿等!F29<0),ｺ.廃石綿等!F29,IF(P$19>0,"0",0)) -> 0 | Q14: =IF(OR(ｻ.有害ばいじん!F29>0,ｻ.有害ばいじん!F29<0),ｻ.有害ばいじん!F29,IF(Q$19>0,"0",0)) -> 0 | R14: =IF(OR(ｼ.有害燃え殻!F29>0,ｼ.有害燃え殻!F29<0),ｼ.有害燃え殻!F29,IF(R$19>0,"0",0)) -> 0 | S14: =IF(OR(ｽ.有害廃油!F29>0,ｽ.有害廃油!F29<0),ｽ.有害廃油!F29,IF(S$19>0,"0",0)) -> 0 | T14: =IF(OR(ｾ.有害汚泥!F29>0,ｾ.有害汚泥!F29<0),ｾ.有害汚泥!F29,IF(T$19>0,"0",0)) -> 0 | U14: =IF(OR(ｿ.有害廃酸!F29>0,ｿ.有害廃酸!F29<0),ｿ.有害廃酸!F29,IF(U$19>0,"0",0)) -> 0 | V14: =IF(OR(ﾀ.有害廃ｱﾙｶﾘ!F29>0,ﾀ.有害廃ｱﾙｶﾘ!F29<0),ﾀ.有害廃ｱﾙｶﾘ!F29,IF(V$19>0,"0",0)) -> 0 | W14: =IF(OR(ﾁ.廃水銀等!F29>0,ﾁ.廃水銀等!F29<0),ﾁ.廃水銀等!F29,IF(W$19>0,"0",0)) -> 0 | X14: =IF(SUM(G14:W14)>0,SUM(G14:W14),IF(X$19>0,"0",0)) -> 372.35
B15: 実 | C15: ⑪ 優良認定処理業者への処理委託量 | G15: =IF(OR(ｱ.特管廃油!F30>0,ｱ.特管廃油!F30<0),ｱ.特管廃油!F30,IF(G$19>0,"0",0)) -> 0 | H15: =IF(OR(ｲ.特管廃酸!F30>0,ｲ.特管廃酸!F30<0),ｲ.特管廃酸!F30,IF(H$19>0,"0",0)) -> 0 | I15: =IF(OR(ｳ.特管廃ｱﾙｶﾘ!F30>0,ｳ.特管廃ｱﾙｶﾘ!F30<0),ｳ.特管廃ｱﾙｶﾘ!F30,IF(I$19>0,"0",0)) -> 0 | J15: =IF(OR(ｴ.感染性廃棄物!$F30>0,ｴ.感染性廃棄物!$F30<0),ｴ.感染性廃棄物!F30,IF(J$19>0,"0",0)) -> 0 | K15: =IF(OR(ｵ.廃PCB等!$F30>0,ｵ.廃PCB等!$F30<0),ｵ.廃PCB等!F30,IF(K$19>0,"0",0)) -> 0 | L15: =IF(OR(ｶ.PCB汚染物!F30>0,ｶ.PCB汚染物!F30<0),ｶ.PCB汚染物!F30,IF(L$19>0,"0",0)) -> 372.35 | M15: =IF(OR(ｷ.PCB処理物!F30>0,ｷ.PCB処理物!F30<0),ｷ.PCB処理物!F30,IF(M$19>0,"0",0)) -> 0 | N15: =IF(OR(ｸ.指定下水汚泥!F30>0,ｸ.指定下水汚泥!F30<0),ｸ.指定下水汚泥!F30,IF(N$19>0,"0",0)) -> 0 | O15: =IF(OR(ｹ.有害鉱さい!F30>0,ｹ.有害鉱さい!F30<0),ｹ.有害鉱さい!F30,IF(O$19>0,"0",0)) -> 0 | P15: =IF(OR(ｺ.廃石綿等!F30>0,ｺ.廃石綿等!F30<0),ｺ.廃石綿等!F30,IF(P$19>0,"0",0)) -> 0 | Q15: =IF(OR(ｻ.有害ばいじん!F30>0,ｻ.有害ばいじん!F30<0),ｻ.有害ばいじん!F30,IF(Q$19>0,"0",0)) -> 0 | R15: =IF(OR(ｼ.有害燃え殻!F30>0,ｼ.有害燃え殻!F30<0),ｼ.有害燃え殻!F30,IF(R$19>0,"0",0)) -> 0 | S15: =IF(OR(ｽ.有害廃油!F30>0,ｽ.有害廃油!F30<0),ｽ.有害廃油!F30,IF(S$19>0,"0",0)) -> 0 | T15: =IF(OR(ｾ.有害汚泥!F30>0,ｾ.有害汚泥!F30<0),ｾ.有害汚泥!F30,IF(T$19>0,"0",0)) -> 0 | U15: =IF(OR(ｿ.有害廃酸!F30>0,ｿ.有害廃酸!F30<0),ｿ.有害廃酸!F30,IF(U$19>0,"0",0)) -> 0 | V15: =IF(OR(ﾀ.有害廃ｱﾙｶﾘ!F30>0,ﾀ.有害廃ｱﾙｶﾘ!F30<0),ﾀ.有害廃ｱﾙｶﾘ!F30,IF(V$19>0,"0",0)) -> 0 | W15: =IF(OR(ﾁ.廃水銀等!F30>0,ﾁ.廃水銀等!F30<0),ﾁ.廃水銀等!F30,IF(W$19>0,"0",0)) -> 0 | X15: =IF(SUM(G15:W15)>0,SUM(G15:W15),IF(X$19>0,"0",0)) -> 372.35
B16: 績 | C16: ⑫ 再生利用業者への処理委託量 | G16: =IF(OR(ｱ.特管廃油!F31>0,ｱ.特管廃油!F31<0),ｱ.特管廃油!F31,IF(G$19>0,"0",0)) -> 0 | H16: =IF(OR(ｲ.特管廃酸!F31>0,ｲ.特管廃酸!F31<0),ｲ.特管廃酸!F31,IF(H$19>0,"0",0)) -> 0 | I16: =IF(OR(ｳ.特管廃ｱﾙｶﾘ!F31>0,ｳ.特管廃ｱﾙｶﾘ!F31<0),ｳ.特管廃ｱﾙｶﾘ!F31,IF(I$19>0,"0",0)) -> 0 | J16: =IF(OR(ｴ.感染性廃棄物!$F31>0,ｴ.感染性廃棄物!$F31<0),ｴ.感染性廃棄物!F31,IF(J$19>0,"0",0)) -> 0 | K16: =IF(OR(ｵ.廃PCB等!$F31>0,ｵ.廃PCB等!$F31<0),ｵ.廃PCB等!F31,IF(K$19>0,"0",0)) -> 0 | L16: =IF(OR(ｶ.PCB汚染物!F31>0,ｶ.PCB汚染物!F31<0),ｶ.PCB汚染物!F31,IF(L$19>0,"0",0)) -> 372.35 | M16: =IF(OR(ｷ.PCB処理物!F31>0,ｷ.PCB処理物!F31<0),ｷ.PCB処理物!F31,IF(M$19>0,"0",0)) -> 0 | N16: =IF(OR(ｸ.指定下水汚泥!F31>0,ｸ.指定下水汚泥!F31<0),ｸ.指定下水汚泥!F31,IF(N$19>0,"0",0)) -> 0 | O16: =IF(OR(ｹ.有害鉱さい!F31>0,ｹ.有害鉱さい!F31<0),ｹ.有害鉱さい!F31,IF(O$19>0,"0",0)) -> 0 | P16: =IF(OR(ｺ.廃石綿等!F31>0,ｺ.廃石綿等!F31<0),ｺ.廃石綿等!F31,IF(P$19>0,"0",0)) -> 0 | Q16: =IF(OR(ｻ.有害ばいじん!F31>0,ｻ.有害ばいじん!F31<0),ｻ.有害ばいじん!F31,IF(Q$19>0,"0",0)) -> 0 | R16: =IF(OR(ｼ.有害燃え殻!F31>0,ｼ.有害燃え殻!F31<0),ｼ.有害燃え殻!F31,IF(R$19>0,"0",0)) -> 0 | S16: =IF(OR(ｽ.有害廃油!F31>0,ｽ.有害廃油!F31<0),ｽ.有害廃油!F31,IF(S$19>0,"0",0)) -> 0 | T16: =IF(OR(ｾ.有害汚泥!F31>0,ｾ.有害汚泥!F31<0),ｾ.有害汚泥!F31,IF(T$19>0,"0",0)) -> 0 | U16: =IF(OR(ｿ.有害廃酸!F31>0,ｿ.有害廃酸!F31<0),ｿ.有害廃酸!F31,IF(U$19>0,"0",0)) -> 0 | V16: =IF(OR(ﾀ.有害廃ｱﾙｶﾘ!F31>0,ﾀ.有害廃ｱﾙｶﾘ!F31<0),ﾀ.有害廃ｱﾙｶﾘ!F31,IF(V$19>0,"0",0)) -> 0 | W16: =IF(OR(ﾁ.廃水銀等!F31>0,ﾁ.廃水銀等!F31<0),ﾁ.廃水銀等!F31,IF(W$19>0,"0",0)) -> 0 | X16: =IF(SUM(G16:W16)>0,SUM(G16:W16),IF(X$19>0,"0",0)) -> 372.35
C17: ⑬ 認定熱回収業者への処理委託量 | G17: =IF(OR(ｱ.特管廃油!F32>0,ｱ.特管廃油!F32<0),ｱ.特管廃油!F32,IF(G$19>0,"0",0)) -> 0 | H17: =IF(OR(ｲ.特管廃酸!F32>0,ｲ.特管廃酸!F32<0),ｲ.特管廃酸!F32,IF(H$19>0,"0",0)) -> 0 | I17: =IF(OR(ｳ.特管廃ｱﾙｶﾘ!F32>0,ｳ.特管廃ｱﾙｶﾘ!F32<0),ｳ.特管廃ｱﾙｶﾘ!F32,IF(I$19>0,"0",0)) -> 0 | J17: =IF(OR(ｴ.感染性廃棄物!$F32>0,ｴ.感染性廃棄物!$F32<0),ｴ.感染性廃棄物!F32,IF(J$19>0,"0",0)) -> 0 | K17: =IF(OR(ｵ.廃PCB等!$F32>0,ｵ.廃PCB等!$F32<0),ｵ.廃PCB等!F32,IF(K$19>0,"0",0)) -> 0 | L17: =IF(OR(ｶ.PCB汚染物!F32>0,ｶ.PCB汚染物!F32<0),ｶ.PCB汚染物!F32,IF(L$19>0,"0",0)) -> 0 | M17: =IF(OR(ｷ.PCB処理物!F32>0,ｷ.PCB処理物!F32<0),ｷ.PCB処理物!F32,IF(M$19>0,"0",0)) -> 0 | N17: =IF(OR(ｸ.指定下水汚泥!F32>0,ｸ.指定下水汚泥!F32<0),ｸ.指定下水汚泥!F32,IF(N$19>0,"0",0)) -> 0 | O17: =IF(OR(ｹ.有害鉱さい!F32>0,ｹ.有害鉱さい!F32<0),ｹ.有害鉱さい!F32,IF(O$19>0,"0",0)) -> 0 | P17: =IF(OR(ｺ.廃石綿等!F32>0,ｺ.廃石綿等!F32<0),ｺ.廃石綿等!F32,IF(P$19>0,"0",0)) -> 0 | Q17: =IF(OR(ｻ.有害ばいじん!F32>0,ｻ.有害ばいじん!F32<0),ｻ.有害ばいじん!F32,IF(Q$19>0,"0",0)) -> 0 | R17: =IF(OR(ｼ.有害燃え殻!F32>0,ｼ.有害燃え殻!F32<0),ｼ.有害燃え殻!F32,IF(R$19>0,"0",0)) -> 0 | S17: =IF(OR(ｽ.有害廃油!F32>0,ｽ.有害廃油!F32<0),ｽ.有害廃油!F32,IF(S$19>0,"0",0)) -> 0 | T17: =IF(OR(ｾ.有害汚泥!F32>0,ｾ.有害汚泥!F32<0),ｾ.有害汚泥!F32,IF(T$19>0,"0",0)) -> 0 | U17: =IF(OR(ｿ.有害廃酸!F32>0,ｿ.有害廃酸!F32<0),ｿ.有害廃酸!F32,IF(U$19>0,"0",0)) -> 0 | V17: =IF(OR(ﾀ.有害廃ｱﾙｶﾘ!F32>0,ﾀ.有害廃ｱﾙｶﾘ!F32<0),ﾀ.有害廃ｱﾙｶﾘ!F32,IF(V$19>0,"0",0)) -> 0 | W17: =IF(OR(ﾁ.廃水銀等!F32>0,ﾁ.廃水銀等!F32<0),ﾁ.廃水銀等!F32,IF(W$19>0,"0",0)) -> 0 | X17: =IF(SUM(G17:W17)>0,SUM(G17:W17),IF(X$19>0,"0",0)) -> 0
C18: ⑭ | D18: 認定熱回収業者以外の熱回収を行う業者への処理委託量 | G18: =IF(OR(ｱ.特管廃油!F33>0,ｱ.特管廃油!F33<0),ｱ.特管廃油!F33,IF(G$19>0,"0",0)) -> 0 | H18: =IF(OR(ｲ.特管廃酸!F33>0,ｲ.特管廃酸!F33<0),ｲ.特管廃酸!F33,IF(H$19>0,"0",0)) -> 0 | I18: =IF(OR(ｳ.特管廃ｱﾙｶﾘ!F33>0,ｳ.特管廃ｱﾙｶﾘ!F33<0),ｳ.特管廃ｱﾙｶﾘ!F33,IF(I$19>0,"0",0)) -> 0 | J18: =IF(OR(ｴ.感染性廃棄物!$F33>0,ｴ.感染性廃棄物!$F33<0),ｴ.感染性廃棄物!F33,IF(J$19>0,"0",0)) -> 0 | K18: =IF(OR(ｵ.廃PCB等!$F33>0,ｵ.廃PCB等!$F33<0),ｵ.廃PCB等!F33,IF(K$19>0,"0",0)) -> 0 | L18: =IF(OR(ｶ.PCB汚染物!F33>0,ｶ.PCB汚染物!F33<0),ｶ.PCB汚染物!F33,IF(L$19>0,"0",0)) -> 0 | M18: =IF(OR(ｷ.PCB処理物!F33>0,ｷ.PCB処理物!F33<0),ｷ.PCB処理物!F33,IF(M$19>0,"0",0)) -> 0 | N18: =IF(OR(ｸ.指定下水汚泥!F33>0,ｸ.指定下水汚泥!F33<0),ｸ.指定下水汚泥!F33,IF(N$19>0,"0",0)) -> 0 | O18: =IF(OR(ｹ.有害鉱さい!F33>0,ｹ.有害鉱さい!F33<0),ｹ.有害鉱さい!F33,IF(O$19>0,"0",0)) -> 0 | P18: =IF(OR(ｺ.廃石綿等!F33>0,ｺ.廃石綿等!F33<0),ｺ.廃石綿等!F33,IF(P$19>0,"0",0)) -> 0 | Q18: =IF(OR(ｻ.有害ばいじん!F33>0,ｻ.有害ばいじん!F33<0),ｻ.有害ばいじん!F33,IF(Q$19>0,"0",0)) -> 0 | R18: =IF(OR(ｼ.有害燃え殻!F33>0,ｼ.有害燃え殻!F33<0),ｼ.有害燃え殻!F33,IF(R$19>0,"0",0)) -> 0 | S18: =IF(OR(ｽ.有害廃油!F33>0,ｽ.有害廃油!F33<0),ｽ.有害廃油!F33,IF(S$19>0,"0",0)) -> 0 | T18: =IF(OR(ｾ.有害汚泥!F33>0,ｾ.有害汚泥!F33<0),ｾ.有害汚泥!F33,IF(T$19>0,"0",0)) -> 0 | U18: =IF(OR(ｿ.有害廃酸!F33>0,ｿ.有害廃酸!F33<0),ｿ.有害廃酸!F33,IF(U$19>0,"0",0)) -> 0 | V18: =IF(OR(ﾀ.有害廃ｱﾙｶﾘ!F33>0,ﾀ.有害廃ｱﾙｶﾘ!F33<0),ﾀ.有害廃ｱﾙｶﾘ!F33,IF(V$19>0,"0",0)) -> 0 | W18: =IF(OR(ﾁ.廃水銀等!F33>0,ﾁ.廃水銀等!F33<0),ﾁ.廃水銀等!F33,IF(W$19>0,"0",0)) -> 0 | X18: =IF(SUM(G18:W18)>0,SUM(G18:W18),IF(X$19>0,"0",0)) -> 0
C19: ① | D19: 当該事業場における排出量 | G19: =+G37+G25+G23+G22+G21-G20 -> 0 | H19: =+H37+H25+H23+H22+H21-H20 -> 0 | I19: =+I37+I25+I23+I22+I21-I20 -> 0 | J19: =+J37+J25+J23+J22+J21-J20 -> 0 | K19: =+K37+K25+K23+K22+K21-K20 -> 0 | L19: =+L37+L25+L23+L22+L21-L20 -> 0 | M19: =+M37+M25+M23+M22+M21-M20 -> 0 | N19: =+N37+N25+N23+N22+N21-N20 -> 0 | ... W19: =+W37+W25+W23+W22+W21-W20 -> 0 | X19: =SUM(G19:W19) -> 0
C20: ※１ | D20: 自社の他事業場からの搬入量 | G20: =+ｱ.特管廃油!$F$15 -> 0 | H20: =+ｲ.特管廃酸!$F$15 -> 0 | I20: =+ｳ.特管廃ｱﾙｶﾘ!$F$15 -> 0 | J20: =+ｴ.感染性廃棄物!$F$15 -> 0 | K20: =+ｵ.廃PCB等!$F$15 -> 0 | L20: =+ｶ.PCB汚染物!$F$15 -> 0 | M20: =+ｷ.PCB処理物!$F$15 -> 0 | N20: =+ｸ.指定下水汚泥!$F$15 -> 0 | O20: =+ｹ.有害鉱さい!$F$15 -> 0 | P20: =+ｺ.廃石綿等!$F$15 -> 0 | Q20: =+ｻ.有害ばいじん!$F$15 -> 0 | R20: =+ｼ.有害燃え殻!$F$15 -> 0 | S20: =+ｽ.有害廃油!$F$15 -> 0 | T20: =+ｾ.有害汚泥!$F$15 -> 0 | U20: =+ｿ.有害廃酸!$F$15 -> 0 | V20: =+ﾀ.有害廃ｱﾙｶﾘ!$F$15 -> 0 | W20: =+ﾁ.廃水銀等!$F$15 -> 0 | X20: =SUM(G20:W20) -> 0
D21: ② | E21: 自ら直接再生利用する量 | G21: =+ｱ.特管廃油!$O$12 -> 0 | H21: =+ｲ.特管廃酸!$O$12 -> 0 | I21: =+ｳ.特管廃ｱﾙｶﾘ!$O$12 -> 0 | J21: =+ｴ.感染性廃棄物!$O$12 -> 0 | K21: =+ｵ.廃PCB等!$O$12 -> 0 | L21: =+ｶ.PCB汚染物!$O$12 -> 0 | M21: =+ｷ.PCB処理物!$O$12 -> 0 | N21: =+ｸ.指定下水汚泥!$O$12 -> 0 | O21: =+ｹ.有害鉱さい!$O$12 -> 0 | P21: =+ｺ.廃石綿等!$O$12 -> 0 | Q21: =+ｻ.有害ばいじん!$O$12 -> 0 | R21: =+ｼ.有害燃え殻!$O$12 -> 0 | S21: =+ｽ.有害廃油!$O$12 -> 0 | T21: =+ｾ.有害汚泥!$O$12 -> 0 | U21: =+ｿ.有害廃酸!$O$12 -> 0 | V21: =+ﾀ.有害廃ｱﾙｶﾘ!$O$12 -> 0 | W21: =+ﾁ.廃水銀等!$O$12 -> 0 | X21: =SUM(G21:W21) -> 0
D22: ③ | E22: 自ら直接埋立処分する量 | G22: =+ｱ.特管廃油!$O$15 -> 0 | H22: =+ｲ.特管廃酸!$O$15 -> 0 | I22: =+ｳ.特管廃ｱﾙｶﾘ!$O$15 -> 0 | J22: =+ｴ.感染性廃棄物!$O$15 -> 0 | K22: =+ｵ.廃PCB等!$O$15 -> 0 | L22: =+ｶ.PCB汚染物!$O$15 -> 0 | M22: =+ｷ.PCB処理物!$O$15 -> 0 | N22: =+ｸ.指定下水汚泥!$O$15 -> 0 | O22: =+ｹ.有害鉱さい!$O$15 -> 0 | P22: =+ｺ.廃石綿等!$O$15 -> 0 | Q22: =+ｻ.有害ばいじん!$O$15 -> 0 | R22: =+ｼ.有害燃え殻!$O$15 -> 0 | S22: =+ｽ.有害廃油!$O$15 -> 0 | T22: =+ｾ.有害汚泥!$O$15 -> 0 | U22: =+ｿ.有害廃酸!$O$15 -> 0 | V22: =+ﾀ.有害廃ｱﾙｶﾘ!$O$15 -> 0 | W22: =+ﾁ.廃水銀等!$O$15 -> 0 | X22: =SUM(G22:W22) -> 0
D23: ④ | E23: 自ら中間処理する量 | G23: =+ｱ.特管廃油!$O$18 -> 0 | H23: =+ｲ.特管廃酸!$O$18 -> 0 | I23: =+ｳ.特管廃ｱﾙｶﾘ!$O$18 -> 0 | J23: =+ｴ.感染性廃棄物!$O$18 -> 0 | K23: =+ｵ.廃PCB等!$O$18 -> 0 | L23: =+ｶ.PCB汚染物!$O$18 -> 0 | M23: =+ｷ.PCB処理物!$O$18 -> 0 | N23: =+ｸ.指定下水汚泥!$O$18 -> 0 | O23: =+ｹ.有害鉱さい!$O$18 -> 0 | P23: =+ｺ.廃石綿等!$O$18 -> 0 | Q23: =+ｻ.有害ばいじん!$O$18 -> 0 | R23: =+ｼ.有害燃え殻!$O$18 -> 0 | S23: =+ｽ.有害廃油!$O$18 -> 0 | T23: =+ｾ.有害汚泥!$O$18 -> 0 | U23: =+ｿ.有害廃酸!$O$18 -> 0 | V23: =+ﾀ.有害廃ｱﾙｶﾘ!$O$18 -> 0 | W23: =+ﾁ.廃水銀等!$O$18 -> 0 | X23: =SUM(G23:W23) -> 0
E24: ⑤ | F24: ④のうち熱回収を行う量 | G24: =+ｱ.特管廃油!$O$21 -> 0 | H24: =+ｲ.特管廃酸!$O$21 -> 0 | I24: =+ｳ.特管廃ｱﾙｶﾘ!$O$21 -> 0 | J24: =+ｴ.感染性廃棄物!$O$21 -> 0 | K24: =+ｵ.廃PCB等!$O$21 -> 0 | L24: =+ｶ.PCB汚染物!$O$21 -> 0 | M24: =+ｷ.PCB処理物!$O$21 -> 0 | N24: =+ｸ.指定下水汚泥!$O$21 -> 0 | O24: =+ｹ.有害鉱さい!$O$21 -> 0 | P24: =+ｺ.廃石綿等!$O$21 -> 0 | Q24: =+ｻ.有害ばいじん!$O$21 -> 0 | R24: =+ｼ.有害燃え殻!$O$21 -> 0 | S24: =+ｽ.有害廃油!$O$21 -> 0 | T24: =+ｾ.有害汚泥!$O$21 -> 0 | U24: =+ｿ.有害廃酸!$O$21 -> 0 | V24: =+ﾀ.有害廃ｱﾙｶﾘ!$O$21 -> 0 | W24: =+ﾁ.廃水銀等!$O$21 -> 0 | X24: =SUM(G24:W24) -> 0
D25: ※２ | E25: 自社の他事業場での処理量 | G25: =+ｱ.特管廃油!$O$24 -> 0 | H25: =+ｲ.特管廃酸!$O$24 -> 0 | I25: =+ｳ.特管廃ｱﾙｶﾘ!$O$24 -> 0 | J25: =+ｴ.感染性廃棄物!$O$24 -> 0 | K25: =+ｵ.廃PCB等!$O$24 -> 0 | L25: =+ｶ.PCB汚染物!$O$24 -> 0 | M25: =+ｷ.PCB処理物!$O$24 -> 0 | N25: =+ｸ.指定下水汚泥!$O$24 -> 0 | O25: =+ｹ.有害鉱さい!$O$24 -> 0 | P25: =+ｺ.廃石綿等!$O$24 -> 0 | Q25: =+ｻ.有害ばいじん!$O$24 -> 0 | R25: =+ｼ.有害燃え殻!$O$24 -> 0 | S25: =+ｽ.有害廃油!$O$24 -> 0 | T25: =+ｾ.有害汚泥!$O$24 -> 0 | U25: =+ｿ.有害廃酸!$O$24 -> 0 | V25: =+ﾀ.有害廃ｱﾙｶﾘ!$O$24 -> 0 | W25: =+ﾁ.廃水銀等!$O$24 -> 0 | X25: =SUM(G25:W25) -> 0
C26: Ａ自己処理 | D26: ⑥ | E26: 自ら中間処理後の残さ量 | G26: =+G28+G29+G30+G31 -> 0 | H26: =+H28+H29+H30+H31 -> 0 | I26: =+I28+I29+I30+I31 -> 0 | J26: =+J28+J29+J30+J31 -> 0 | K26: =+K28+K29+K30+K31 -> 0 | L26: =+L28+L29+L30+L31 -> 0 | M26: =+M28+M29+M30+M31 -> 0 | N26: =+N28+N29+N30+N31 -> 0 | ... W26: =+W28+W29+W30+W31 -> 0 | X26: =SUM(G26:W26) -> 0
D27: ⑦ | E27: 自ら中間処理により減量する量 | G27: =+G23-G26 -> 0 | H27: =+H23-H26 -> 0 | I27: =+I23-I26 -> 0 | J27: =+J23-J26 -> 0 | K27: =+K23-K26 -> 0 | L27: =+L23-L26 -> 0 | M27: =+M23-M26 -> 0 | N27: =+N23-N26 -> 0 | ... W27: =+W23-W26 -> 0 | X27: =SUM(G27:W27) -> 0
D28: ａ残さ物の自己処理 | E28: ⑧ | F28: 自ら中間処理後に再生利用する量 | G28: =+ｱ.特管廃油!$AG$9 -> 0 | H28: =+ｲ.特管廃酸!$AG$9 -> 0 | I28: =+ｳ.特管廃ｱﾙｶﾘ!$AG$9 -> 0 | J28: =+ｴ.感染性廃棄物!$AG$9 -> 0 | K28: =+ｵ.廃PCB等!$AG$9 -> 0 | L28: =+ｶ.PCB汚染物!$AG$9 -> 0 | M28: =+ｷ.PCB処理物!$AG$9 -> 0 | N28: =+ｸ.指定下水汚泥!$AG$9 -> 0 | O28: =+ｹ.有害鉱さい!$AG$9 -> 0 | P28: =+ｺ.廃石綿等!$AG$9 -> 0 | Q28: =+ｻ.有害ばいじん!$AG$9 -> 0 | R28: =+ｼ.有害燃え殻!$AG$9 -> 0 | S28: =+ｽ.有害廃油!$AG$9 -> 0 | T28: =+ｾ.有害汚泥!$AG$9 -> 0 | U28: =+ｿ.有害廃酸!$AG$9 -> 0 | V28: =+ﾀ.有害廃ｱﾙｶﾘ!$AG$9 -> 0 | W28: =+ﾁ.廃水銀等!$AG$9 -> 0 | X28: =SUM(G28:W28) -> 0
E29: ⑨ | F29: 自ら中間処理後に自ら埋立処分又は海洋投入処分する量 | G29: =+ｱ.特管廃油!$AG$12 -> 0 | H29: =+ｲ.特管廃酸!$AG$12 -> 0 | I29: =+ｳ.特管廃ｱﾙｶﾘ!$AG$12 -> 0 | J29: =+ｴ.感染性廃棄物!$AG$12 -> 0 | K29: =+ｵ.廃PCB等!$AG$12 -> 0 | L29: =+ｶ.PCB汚染物!$AG$12 -> 0 | M29: =+ｷ.PCB処理物!$AG$12 -> 0 | N29: =+ｸ.指定下水汚泥!$AG$12 -> 0 | O29: =+ｹ.有害鉱さい!$AG$12 -> 0 | P29: =+ｺ.廃石綿等!$AG$12 -> 0 | Q29: =+ｻ.有害ばいじん!$AG$12 -> 0 | R29: =+ｼ.有害燃え殻!$AG$12 -> 0 | S29: =+ｽ.有害廃油!$AG$12 -> 0 | T29: =+ｾ.有害汚泥!$AG$12 -> 0 | U29: =+ｿ.有害廃酸!$AG$12 -> 0 | V29: =+ﾀ.有害廃ｱﾙｶﾘ!$AG$12 -> 0 | W29: =+ﾁ.廃水銀等!$AG$12 -> 0 | X29: =SUM(G29:W29) -> 0
B30: 令 | E30: ※３ | F30: 自ら中間処理後に自社の他事業場での処理量 | G30: =+ｱ.特管廃油!$AG$15 -> 0 | H30: =+ｲ.特管廃酸!$AG$15 -> 0 | I30: =+ｳ.特管廃ｱﾙｶﾘ!$AG$15 -> 0 | J30: =+ｴ.感染性廃棄物!$AG$15 -> 0 | K30: =+ｵ.廃PCB等!$AG$15 -> 0 | L30: =+ｶ.PCB汚染物!$AG$15 -> 0 | M30: =+ｷ.PCB処理物!$AG$15 -> 0 | N30: =+ｸ.指定下水汚泥!$AG$15 -> 0 | O30: =+ｹ.有害鉱さい!$AG$15 -> 0 | P30: =+ｺ.廃石綿等!$AG$15 -> 0 | Q30: =+ｻ.有害ばいじん!$AG$15 -> 0 | R30: =+ｼ.有害燃え殻!$AG$15 -> 0 | S30: =+ｽ.有害廃油!$AG$15 -> 0 | T30: =+ｾ.有害汚泥!$AG$15 -> 0 | U30: =+ｿ.有害廃酸!$AG$15 -> 0 | V30: =+ﾀ.有害廃ｱﾙｶﾘ!$AG$15 -> 0 | W30: =+ﾁ.廃水銀等!$AG$15 -> 0 | X30: =SUM(G30:W30) -> 0
B31: 和 | D31: ｂ | E31: 自ら中間処理後の処理委託量 | G31: =+G32+G36 -> 0 | H31: =+H32+H36 -> 0 | I31: =+I32+I36 -> 0 | J31: =+J32+J36 -> 0 | K31: =+K32+K36 -> 0 | L31: =+L32+L36 -> 0 | M31: =+M32+M36 -> 0 | N31: =+N32+N36 -> 0 | ... W31: =+W32+W36 -> 0 | X31: =SUM(G31:W31) -> 0
B32: 8 | E32: ｂ-1 中間処理委託量 | G32: =SUM(G33:G35) -> 0 | H32: =SUM(H33:H35) -> 0 | I32: =SUM(I33:I35) -> 0 | J32: =SUM(J33:J35) -> 0 | K32: =SUM(K33:K35) -> 0 | L32: =SUM(L33:L35) -> 0 | M32: =SUM(M33:M35) -> 0 | N32: =SUM(N33:N35) -> 0 | ... W32: =SUM(W33:W35) -> 0 | X32: =SUM(G32:W32) -> 0
B33: 年 | F33: 再生利用前委託量 | G33: =+ｱ.特管廃油!$AT$16 -> 0 | H33: =+ｲ.特管廃酸!$AT$16 -> 0 | I33: =+ｳ.特管廃ｱﾙｶﾘ!$AT$16 -> 0 | J33: =+ｴ.感染性廃棄物!$AT$16 -> 0 | K33: =+ｵ.廃PCB等!$AT$16 -> 0 | L33: =+ｶ.PCB汚染物!$AT$16 -> 0 | M33: =+ｷ.PCB処理物!$AT$16 -> 0 | N33: =+ｸ.指定下水汚泥!$AT$16 -> 0 | O33: =+ｹ.有害鉱さい!$AT$16 -> 0 | P33: =+ｺ.廃石綿等!$AT$16 -> 0 | Q33: =+ｻ.有害ばいじん!$AT$16 -> 0 | R33: =+ｼ.有害燃え殻!$AT$16 -> 0 | S33: =+ｽ.有害廃油!$AT$16 -> 0 | T33: =+ｾ.有害汚泥!$AT$16 -> 0 | U33: =+ｿ.有害廃酸!$AT$16 -> 0 | V33: =+ﾀ.有害廃ｱﾙｶﾘ!$AT$16 -> 0 | W33: =+ﾁ.廃水銀等!$AT$16 -> 0 | X33: =SUM(G33:W33) -> 0
B34: 度 | F34: 最終処分前委託量 | G34: =+ｱ.特管廃油!$AT$17 -> 0 | H34: =+ｲ.特管廃酸!$AT$17 -> 0 | I34: =+ｳ.特管廃ｱﾙｶﾘ!$AT$17 -> 0 | J34: =+ｴ.感染性廃棄物!$AT$17 -> 0 | K34: =+ｵ.廃PCB等!$AT$17 -> 0 | L34: =+ｶ.PCB汚染物!$AT$17 -> 0 | M34: =+ｷ.PCB処理物!$AT$17 -> 0 | N34: =+ｸ.指定下水汚泥!$AT$17 -> 0 | O34: =+ｹ.有害鉱さい!$AT$17 -> 0 | P34: =+ｺ.廃石綿等!$AT$17 -> 0 | Q34: =+ｻ.有害ばいじん!$AT$17 -> 0 | R34: =+ｼ.有害燃え殻!$AT$17 -> 0 | S34: =+ｽ.有害廃油!$AT$17 -> 0 | T34: =+ｾ.有害汚泥!$AT$17 -> 0 | U34: =+ｿ.有害廃酸!$AT$17 -> 0 | V34: =+ﾀ.有害廃ｱﾙｶﾘ!$AT$17 -> 0 | W34: =+ﾁ.廃水銀等!$AT$17 -> 0 | X34: =SUM(G34:W34) -> 0
B35: 目 | F35: 下水等放流前委託量 | G35: =+ｱ.特管廃油!$AT$18 -> 0 | H35: =+ｲ.特管廃酸!$AT$18 -> 0 | I35: =+ｳ.特管廃ｱﾙｶﾘ!$AT$18 -> 0 | J35: =+ｴ.感染性廃棄物!$AT$18 -> 0 | K35: =+ｵ.廃PCB等!$AT$18 -> 0 | L35: =+ｶ.PCB汚染物!$AT$18 -> 0 | M35: =+ｷ.PCB処理物!$AT$18 -> 0 | N35: =+ｸ.指定下水汚泥!$AT$18 -> 0 | O35: =+ｹ.有害鉱さい!$AT$18 -> 0 | P35: =+ｺ.廃石綿等!$AT$18 -> 0 | Q35: =+ｻ.有害ばいじん!$AT$18 -> 0 | R35: =+ｼ.有害燃え殻!$AT$18 -> 0 | S35: =+ｽ.有害廃油!$AT$18 -> 0 | T35: =+ｾ.有害汚泥!$AT$18 -> 0 | U35: =+ｿ.有害廃酸!$AT$18 -> 0 | V35: =+ﾀ.有害廃ｱﾙｶﾘ!$AT$18 -> 0 | W35: =+ﾁ.廃水銀等!$AT$18 -> 0 | X35: =SUM(G35:W35) -> 0
B36: 標 | E36: ｂ-2 最終処分委託量 | G36: =+ｱ.特管廃油!$AN$21 -> 0 | H36: =+ｲ.特管廃酸!$AN$21 -> 0 | I36: =+ｳ.特管廃ｱﾙｶﾘ!$AN$21 -> 0 | J36: =+ｴ.感染性廃棄物!$AN$21 -> 0 | K36: =+ｵ.廃PCB等!$AN$21 -> 0 | L36: =+ｶ.PCB汚染物!$AN$21 -> 0 | M36: =+ｷ.PCB処理物!$AN$21 -> 0 | N36: =+ｸ.指定下水汚泥!$AN$21 -> 0 | O36: =+ｹ.有害鉱さい!$AN$21 -> 0 | P36: =+ｺ.廃石綿等!$AN$21 -> 0 | Q36: =+ｻ.有害ばいじん!$AN$21 -> 0 | R36: =+ｼ.有害燃え殻!$AN$21 -> 0 | S36: =+ｽ.有害廃油!$AN$21 -> 0 | T36: =+ｾ.有害汚泥!$AN$21 -> 0 | U36: =+ｿ.有害廃酸!$AN$21 -> 0 | V36: =+ﾀ.有害廃ｱﾙｶﾘ!$AN$21 -> 0 | W36: =+ﾁ.廃水銀等!$AN$21 -> 0 | X36: =SUM(G36:W36) -> 0
C37: Ｂ直接委託処理 | D37: Ｂ | E37: 直接処理委託量 | G37: =+G38+G42 -> 0 | H37: =+H38+H42 -> 0 | I37: =+I38+I42 -> 0 | J37: =+J38+J42 -> 0 | K37: =+K38+K42 -> 0 | L37: =+L38+L42 -> 0 | M37: =+M38+M42 -> 0 | N37: =+N38+N42 -> 0 | ... W37: =+W38+W42 -> 0 | X37: =SUM(G37:W37) -> 0
E38: Ｂ-1 中間処理委託量 | G38: =SUM(G39:G41) -> 0 | H38: =SUM(H39:H41) -> 0 | I38: =SUM(I39:I41) -> 0 | J38: =SUM(J39:J41) -> 0 | K38: =SUM(K39:K41) -> 0 | L38: =SUM(L39:L41) -> 0 | M38: =SUM(M39:M41) -> 0 | N38: =SUM(N39:N41) -> 0 | ... W38: =SUM(W39:W41) -> 0 | X38: =SUM(G38:W38) -> 0
F39: 再生利用前委託量 | G39: =+ｱ.特管廃油!$Z$28 -> 0 | H39: =+ｲ.特管廃酸!$Z$28 -> 0 | I39: =+ｳ.特管廃ｱﾙｶﾘ!$Z$28 -> 0 | J39: =+ｴ.感染性廃棄物!$Z$28 -> 0 | K39: =+ｵ.廃PCB等!$Z$28 -> 0 | L39: =+ｶ.PCB汚染物!$Z$28 -> 0 | M39: =+ｷ.PCB処理物!$Z$28 -> 0 | N39: =+ｸ.指定下水汚泥!$Z$28 -> 0 | O39: =+ｹ.有害鉱さい!$Z$28 -> 0 | P39: =+ｺ.廃石綿等!$Z$28 -> 0 | Q39: =+ｻ.有害ばいじん!$Z$28 -> 0 | R39: =+ｼ.有害燃え殻!$Z$28 -> 0 | S39: =+ｽ.有害廃油!$Z$28 -> 0 | T39: =+ｾ.有害汚泥!$Z$28 -> 0 | U39: =+ｿ.有害廃酸!$Z$28 -> 0 | V39: =+ﾀ.有害廃ｱﾙｶﾘ!$Z$28 -> 0 | W39: =+ﾁ.廃水銀等!$Z$28 -> 0 | X39: =SUM(G39:W39) -> 0
F40: 最終処分前委託量 | G40: =+ｱ.特管廃油!$Z$29 -> 0 | H40: =+ｲ.特管廃酸!$Z$29 -> 0 | I40: =+ｳ.特管廃ｱﾙｶﾘ!$Z$29 -> 0 | J40: =+ｴ.感染性廃棄物!$Z$29 -> 0 | K40: =+ｵ.廃PCB等!$Z$29 -> 0 | L40: =+ｶ.PCB汚染物!$Z$29 -> 0 | M40: =+ｷ.PCB処理物!$Z$29 -> 0 | N40: =+ｸ.指定下水汚泥!$Z$29 -> 0 | O40: =+ｹ.有害鉱さい!$Z$29 -> 0 | P40: =+ｺ.廃石綿等!$Z$29 -> 0 | Q40: =+ｻ.有害ばいじん!$Z$29 -> 0 | R40: =+ｼ.有害燃え殻!$Z$29 -> 0 | S40: =+ｽ.有害廃油!$Z$29 -> 0 | T40: =+ｾ.有害汚泥!$Z$29 -> 0 | U40: =+ｿ.有害廃酸!$Z$29 -> 0 | V40: =+ﾀ.有害廃ｱﾙｶﾘ!$Z$29 -> 0 | W40: =+ﾁ.廃水銀等!$Z$29 -> 0 | X40: =SUM(G40:W40) -> 0
F41: 下水等放流前委託量 | G41: =+ｱ.特管廃油!$Z$30 -> 0 | H41: =+ｲ.特管廃酸!$Z$30 -> 0 | I41: =+ｳ.特管廃ｱﾙｶﾘ!$Z$30 -> 0 | J41: =+ｴ.感染性廃棄物!$Z$30 -> 0 | K41: =+ｵ.廃PCB等!$Z$30 -> 0 | L41: =+ｶ.PCB汚染物!$Z$30 -> 0 | M41: =+ｷ.PCB処理物!$Z$30 -> 0 | N41: =+ｸ.指定下水汚泥!$Z$30 -> 0 | O41: =+ｹ.有害鉱さい!$Z$30 -> 0 | P41: =+ｺ.廃石綿等!$Z$30 -> 0 | Q41: =+ｻ.有害ばいじん!$Z$30 -> 0 | R41: =+ｼ.有害燃え殻!$Z$30 -> 0 | S41: =+ｽ.有害廃油!$Z$30 -> 0 | T41: =+ｾ.有害汚泥!$Z$30 -> 0 | U41: =+ｿ.有害廃酸!$Z$30 -> 0 | V41: =+ﾀ.有害廃ｱﾙｶﾘ!$Z$30 -> 0 | W41: =+ﾁ.廃水銀等!$Z$30 -> 0 | X41: =SUM(G41:W41) -> 0
E42: Ｂ-2 最終処分委託量 | G42: =+ｱ.特管廃油!$Q$33 -> 0 | H42: =+ｲ.特管廃酸!$Q$33 -> 0 | I42: =+ｳ.特管廃ｱﾙｶﾘ!$Q$33 -> 0 | J42: =+ｴ.感染性廃棄物!$Q$33 -> 0 | K42: =+ｵ.廃PCB等!$Q$33 -> 0 | L42: =+ｶ.PCB汚染物!$Q$33 -> 0 | M42: =+ｷ.PCB処理物!$Q$33 -> 0 | N42: =+ｸ.指定下水汚泥!$Q$33 -> 0 | O42: =+ｹ.有害鉱さい!$Q$33 -> 0 | P42: =+ｺ.廃石綿等!$Q$33 -> 0 | Q42: =+ｻ.有害ばいじん!$Q$33 -> 0 | R42: =+ｼ.有害燃え殻!$Q$33 -> 0 | S42: =+ｽ.有害廃油!$Q$33 -> 0 | T42: =+ｾ.有害汚泥!$Q$33 -> 0 | U42: =+ｿ.有害廃酸!$Q$33 -> 0 | V42: =+ﾀ.有害廃ｱﾙｶﾘ!$Q$33 -> 0 | W42: =+ﾁ.廃水銀等!$Q$33 -> 0 | X42: =SUM(G42:W42) -> 0
C43: ⑩ | D43: 直接及び自ら中間処理後の処理委託量 | G43: =+ｱ.特管廃油!$AK$27 -> 0 | H43: =+ｲ.特管廃酸!$AK$27 -> 0 | I43: =+ｳ.特管廃ｱﾙｶﾘ!$AK$27 -> 0 | J43: =+ｴ.感染性廃棄物!$AK$27 -> 0 | K43: =+ｵ.廃PCB等!$AK$27 -> 0 | L43: =+ｶ.PCB汚染物!$AK$27 -> 0 | M43: =+ｷ.PCB処理物!$AK$27 -> 0 | N43: =+ｸ.指定下水汚泥!$AK$27 -> 0 | O43: =+ｹ.有害鉱さい!$AK$27 -> 0 | P43: =+ｺ.廃石綿等!$AK$27 -> 0 | Q43: =+ｻ.有害ばいじん!$AK$27 -> 0 | R43: =+ｼ.有害燃え殻!$AK$27 -> 0 | S43: =+ｽ.有害廃油!$AK$27 -> 0 | T43: =+ｾ.有害汚泥!$AK$27 -> 0 | U43: =+ｿ.有害廃酸!$AK$27 -> 0 | V43: =+ﾀ.有害廃ｱﾙｶﾘ!$AK$27 -> 0 | W43: =+ﾁ.廃水銀等!$AK$27 -> 0 | X43: =SUM(G43:W43) -> 0
D44: ⑪ | E44: ⑩のうち優良認定処理業者への処理委託量 | G44: =+ｱ.特管廃油!$AK$30 -> 0 | H44: =+ｲ.特管廃酸!$AK$30 -> 0 | I44: =+ｳ.特管廃ｱﾙｶﾘ!$AK$30 -> 0 | J44: =+ｴ.感染性廃棄物!$AK$30 -> 0 | K44: =+ｵ.廃PCB等!$AK$30 -> 0 | L44: =+ｶ.PCB汚染物!$AK$30 -> 0 | M44: =+ｷ.PCB処理物!$AK$30 -> 0 | N44: =+ｸ.指定下水汚泥!$AK$30 -> 0 | O44: =+ｹ.有害鉱さい!$AK$30 -> 0 | P44: =+ｺ.廃石綿等!$AK$30 -> 0 | Q44: =+ｻ.有害ばいじん!$AK$30 -> 0 | R44: =+ｼ.有害燃え殻!$AK$30 -> 0 | S44: =+ｽ.有害廃油!$AK$30 -> 0 | T44: =+ｾ.有害汚泥!$AK$30 -> 0 | U44: =+ｿ.有害廃酸!$AK$30 -> 0 | V44: =+ﾀ.有害廃ｱﾙｶﾘ!$AK$30 -> 0 | W44: =+ﾁ.廃水銀等!$AK$30 -> 0 | X44: =SUM(G44:W44) -> 0
D45: ⑫ | E45: ⑩のうち再生利用業者への処理委託量 | G45: =+ｱ.特管廃油!$AR$24 -> 0 | H45: =+ｲ.特管廃酸!$AR$24 -> 0 | I45: =+ｳ.特管廃ｱﾙｶﾘ!$AR$24 -> 0 | J45: =+ｴ.感染性廃棄物!$AR$24 -> 0 | K45: =+ｵ.廃PCB等!$AR$24 -> 0 | L45: =+ｶ.PCB汚染物!$AR$24 -> 0 | M45: =+ｷ.PCB処理物!$AR$24 -> 0 | N45: =+ｸ.指定下水汚泥!$AR$24 -> 0 | O45: =+ｹ.有害鉱さい!$AR$24 -> 0 | P45: =+ｺ.廃石綿等!$AR$24 -> 0 | Q45: =+ｻ.有害ばいじん!$AR$24 -> 0 | R45: =+ｼ.有害燃え殻!$AR$24 -> 0 | S45: =+ｽ.有害廃油!$AR$24 -> 0 | T45: =+ｾ.有害汚泥!$AR$24 -> 0 | U45: =+ｿ.有害廃酸!$AR$24 -> 0 | V45: =+ﾀ.有害廃ｱﾙｶﾘ!$AR$24 -> 0 | W45: =+ﾁ.廃水銀等!$AR$24 -> 0 | X45: =SUM(G45:W45) -> 0
D46: ⑬ | E46: ⑩のうち認定熱回収業者への処理委託量 | G46: =+ｱ.特管廃油!$AR$27 -> 0 | H46: =+ｲ.特管廃酸!$AR$27 -> 0 | I46: =+ｳ.特管廃ｱﾙｶﾘ!$AR$27 -> 0 | J46: =+ｴ.感染性廃棄物!$AR$27 -> 0 | K46: =+ｵ.廃PCB等!$AR$27 -> 0 | L46: =+ｶ.PCB汚染物!$AR$27 -> 0 | M46: =+ｷ.PCB処理物!$AR$27 -> 0 | N46: =+ｸ.指定下水汚泥!$AR$27 -> 0 | O46: =+ｹ.有害鉱さい!$AR$27 -> 0 | P46: =+ｺ.廃石綿等!$AR$27 -> 0 | Q46: =+ｻ.有害ばいじん!$AR$27 -> 0 | R46: =+ｼ.有害燃え殻!$AR$27 -> 0 | S46: =+ｽ.有害廃油!$AR$27 -> 0 | T46: =+ｾ.有害汚泥!$AR$27 -> 0 | U46: =+ｿ.有害廃酸!$AR$27 -> 0 | V46: =+ﾀ.有害廃ｱﾙｶﾘ!$AR$27 -> 0 | W46: =+ﾁ.廃水銀等!$AR$27 -> 0 | X46: =SUM(G46:W46) -> 0
D47: ⑭ | E47: ⑩のうち認定熱回収業者以外の熱回収を行う業者への処理委託量 | G47: =+ｱ.特管廃油!$AR$31 -> 0 | H47: =+ｲ.特管廃酸!$AR$31 -> 0 | I47: =+ｳ.特管廃ｱﾙｶﾘ!$AR$31 -> 0 | J47: =+ｴ.感染性廃棄物!$AR$31 -> 0 | K47: =+ｵ.廃PCB等!$AR$31 -> 0 | L47: =+ｶ.PCB汚染物!$AR$31 -> 0 | M47: =+ｷ.PCB処理物!$AR$31 -> 0 | N47: =+ｸ.指定下水汚泥!$AR$31 -> 0 | O47: =+ｹ.有害鉱さい!$AR$31 -> 0 | P47: =+ｺ.廃石綿等!$AR$31 -> 0 | Q47: =+ｻ.有害ばいじん!$AR$31 -> 0 | R47: =+ｼ.有害燃え殻!$AR$31 -> 0 | S47: =+ｽ.有害廃油!$AR$31 -> 0 | T47: =+ｾ.有害汚泥!$AR$31 -> 0 | U47: =+ｿ.有害廃酸!$AR$31 -> 0 | V47: =+ﾀ.有害廃ｱﾙｶﾘ!$AR$31 -> 0 | W47: =+ﾁ.廃水銀等!$AR$31 -> 0 | X47: =SUM(G47:W47) -> 0
G48: ※この一括表には、特別管理産業廃棄物の種類ごとの処理フローに入力した量が表示されます。
G50: =IF(ｱ.特管廃油!$O$16="エラー！：⑥残さ物量があるのに、④自ら中間処理した量がゼロになっています",1,0) -> 0 | H50: =IF(ｲ.特管廃酸!$O$16="エラー！：⑥残さ物量があるのに、④自ら中間処理した量がゼロになっています",1,0) -> 0 | I50: =IF(ｳ.特管廃ｱﾙｶﾘ!$O$16="エラー！：⑥残さ物量があるのに、④自ら中間処理した量がゼロになっています",1,0) -> 0 | J50: =IF(ｴ.感染性廃棄物!$O$16="エラー！：⑥残さ物量があるのに、④自ら中間処理した量がゼロになっています",1,0) -> 0 | K50: =IF(ｵ.廃PCB等!$O$16="エラー！：⑥残さ物量があるのに、④自ら中間処理した量がゼロになっています",1,0) -> 0 | L50: =IF(ｶ.PCB汚染物!$O$16="エラー！：⑥残さ物量があるのに、④自ら中間処理した量がゼロになっています",1,0) -> 0 | M50: =IF(ｷ.PCB処理物!$O$16="エラー！：⑥残さ物量があるのに、④自ら中間処理した量がゼロになっています",1,0) -> 0 | N50: =IF(ｸ.指定下水汚泥!$O$16="エラー！：⑥残さ物量があるのに、④自ら中間処理した量がゼロになっています",1,0) -> 0 | O50: =IF(ｹ.有害鉱さい!$O$16="エラー！：⑥残さ物量があるのに、④自ら中間処理した量がゼロになっています",1,0) -> 0 | P50: =IF(ｺ.廃石綿等!$O$16="エラー！：⑥残さ物量があるのに、④自ら中間処理した量がゼロになっています",1,0) -> 0 | Q50: =IF(ｻ.有害ばいじん!$O$16="エラー！：⑥残さ物量があるのに、④自ら中間処理した量がゼロになっています",1,0) -> 0 | R50: =IF(ｼ.有害燃え殻!$O$16="エラー！：⑥残さ物量があるのに、④自ら中間処理した量がゼロになっています",1,0) -> 0 | S50: =IF(ｽ.有害廃油!$O$16="エラー！：⑥残さ物量があるのに、④自ら中間処理した量がゼロになっています",1,0) -> 0 | T50: =IF(ｾ.有害汚泥!$O$16="エラー！：⑥残さ物量があるのに、④自ら中間処理した量がゼロになっています",1,0) -> 0 | U50: =IF(ｿ.有害廃酸!$O$16="エラー！：⑥残さ物量があるのに、④自ら中間処理した量がゼロになっています",1,0) -> 0 | V50: =IF(ﾀ.有害廃ｱﾙｶﾘ!$O$16="エラー！：⑥残さ物量があるのに、④自ら中間処理した量がゼロになっています",1,0) -> 0
G51: =IF(ｱ.特管廃油!$O$22="エラー !：④の内数である⑤の量が④を超えています",1,0) -> 0 | H51: =IF(ｲ.特管廃酸!$O$22="エラー !：④の内数である⑤の量が④を超えています",1,0) -> 0 | I51: =IF(ｳ.特管廃ｱﾙｶﾘ!$O$22="エラー !：④の内数である⑤の量が④を超えています",1,0) -> 0 | J51: =IF(ｴ.感染性廃棄物!$O$22="エラー !：④の内数である⑤の量が④を超えています",1,0) -> 0 | K51: =IF(ｵ.廃PCB等!$O$22="エラー !：④の内数である⑤の量が④を超えています",1,0) -> 0 | L51: =IF(ｶ.PCB汚染物!$O$22="エラー !：④の内数である⑤の量が④を超えています",1,0) -> 0 | M51: =IF(ｷ.PCB処理物!$O$22="エラー !：④の内数である⑤の量が④を超えています",1,0) -> 0 | N51: =IF(ｸ.指定下水汚泥!$O$22="エラー !：④の内数である⑤の量が④を超えています",1,0) -> 0 | O51: =IF(ｹ.有害鉱さい!$O$22="エラー !：④の内数である⑤の量が④を超えています",1,0) -> 0 | P51: =IF(ｺ.廃石綿等!$O$22="エラー !：④の内数である⑤の量が④を超えています",1,0) -> 0 | Q51: =IF(ｻ.有害ばいじん!$O$22="エラー !：④の内数である⑤の量が④を超えています",1,0) -> 0 | R51: =IF(ｼ.有害燃え殻!$O$22="エラー !：④の内数である⑤の量が④を超えています",1,0) -> 0 | S51: =IF(ｽ.有害廃油!$O$22="エラー !：④の内数である⑤の量が④を超えています",1,0) -> 0 | T51: =IF(ｾ.有害汚泥!$O$22="エラー !：④の内数である⑤の量が④を超えています",1,0) -> 0 | U51: =IF(ｿ.有害廃酸!$O$22="エラー !：④の内数である⑤の量が④を超えています",1,0) -> 0 | V51: =IF(ﾀ.有害廃ｱﾙｶﾘ!$O$22="エラー !：④の内数である⑤の量が④を超えています",1,0) -> 0
G52: =IF(ｱ.特管廃油!$AK$31="エラー !：⑩の内数である⑪の量が⑩を超えています",1,0) -> 0 | H52: =IF(ｲ.特管廃酸!$AK$31="エラー !：⑩の内数である⑪の量が⑩を超えています",1,0) -> 0 | I52: =IF(ｳ.特管廃ｱﾙｶﾘ!$AK$31="エラー !：⑩の内数である⑪の量が⑩を超えています",1,0) -> 0 | J52: =IF(ｴ.感染性廃棄物!$AK$31="エラー !：⑩の内数である⑪の量が⑩を超えています",1,0) -> 0 | K52: =IF(ｵ.廃PCB等!$AK$31="エラー !：⑩の内数である⑪の量が⑩を超えています",1,0) -> 0 | L52: =IF(ｶ.PCB汚染物!$AK$31="エラー !：⑩の内数である⑪の量が⑩を超えています",1,0) -> 0 | M52: =IF(ｷ.PCB処理物!$AK$31="エラー !：⑩の内数である⑪の量が⑩を超えています",1,0) -> 0 | N52: =IF(ｸ.指定下水汚泥!$AK$31="エラー !：⑩の内数である⑪の量が⑩を超えています",1,0) -> 0 | O52: =IF(ｹ.有害鉱さい!$AK$31="エラー !：⑩の内数である⑪の量が⑩を超えています",1,0) -> 0 | P52: =IF(ｺ.廃石綿等!$AK$31="エラー !：⑩の内数である⑪の量が⑩を超えています",1,0) -> 0 | Q52: =IF(ｻ.有害ばいじん!$AK$31="エラー !：⑩の内数である⑪の量が⑩を超えています",1,0) -> 0 | R52: =IF(ｼ.有害燃え殻!$AK$31="エラー !：⑩の内数である⑪の量が⑩を超えています",1,0) -> 0 | S52: =IF(ｽ.有害廃油!$AK$31="エラー !：⑩の内数である⑪の量が⑩を超えています",1,0) -> 0 | T52: =IF(ｾ.有害汚泥!$AK$31="エラー !：⑩の内数である⑪の量が⑩を超えています",1,0) -> 0 | U52: =IF(ｿ.有害廃酸!$AK$31="エラー !：⑩の内数である⑪の量が⑩を超えています",1,0) -> 0 | V52: =IF(ﾀ.有害廃ｱﾙｶﾘ!$AK$31="エラー !：⑩の内数である⑪の量が⑩を超えています",1,0) -> 0
G53: =IF(ｱ.特管廃油!$AR$28="エラー !：⑩の内数である（⑫+⑬＋⑭）の量が⑩を超えています",1,0) -> 0 | H53: =IF(ｲ.特管廃酸!$AR$28="エラー !：⑩の内数である（⑫+⑬＋⑭）の量が⑩を超えています",1,0) -> 0 | I53: =IF(ｳ.特管廃ｱﾙｶﾘ!$AR$28="エラー !：⑩の内数である（⑫+⑬＋⑭）の量が⑩を超えています",1,0) -> 0 | J53: =IF(ｴ.感染性廃棄物!$AR$28="エラー !：⑩の内数である（⑫+⑬＋⑭）の量が⑩を超えています",1,0) -> 0 | K53: =IF(ｵ.廃PCB等!$AR$28="エラー !：⑩の内数である（⑫+⑬＋⑭）の量が⑩を超えています",1,0) -> 0 | L53: =IF(ｶ.PCB汚染物!$AR$28="エラー !：⑩の内数である（⑫+⑬＋⑭）の量が⑩を超えています",1,0) -> 0 | M53: =IF(ｷ.PCB処理物!$AR$28="エラー !：⑩の内数である（⑫+⑬＋⑭）の量が⑩を超えています",1,0) -> 0 | N53: =IF(ｸ.指定下水汚泥!$AR$28="エラー !：⑩の内数である（⑫+⑬＋⑭）の量が⑩を超えています",1,0) -> 0 | O53: =IF(ｹ.有害鉱さい!$AR$28="エラー !：⑩の内数である（⑫+⑬＋⑭）の量が⑩を超えています",1,0) -> 0 | P53: =IF(ｺ.廃石綿等!$AR$28="エラー !：⑩の内数である（⑫+⑬＋⑭）の量が⑩を超えています",1,0) -> 0 | Q53: =IF(ｻ.有害ばいじん!$AR$28="エラー !：⑩の内数である（⑫+⑬＋⑭）の量が⑩を超えています",1,0) -> 0 | R53: =IF(ｼ.有害燃え殻!$AR$28="エラー !：⑩の内数である（⑫+⑬＋⑭）の量が⑩を超えています",1,0) -> 0 | S53: =IF(ｽ.有害廃油!$AR$28="エラー !：⑩の内数である（⑫+⑬＋⑭）の量が⑩を超えています",1,0) -> 0 | T53: =IF(ｾ.有害汚泥!$AR$28="エラー !：⑩の内数である（⑫+⑬＋⑭）の量が⑩を超えています",1,0) -> 0 | U53: =IF(ｿ.有害廃酸!$AR$28="エラー !：⑩の内数である（⑫+⑬＋⑭）の量が⑩を超えています",1,0) -> 0 | V53: =IF(ﾀ.有害廃ｱﾙｶﾘ!$AR$28="エラー !：⑩の内数である（⑫+⑬＋⑭）の量が⑩を超えています",1,0) -> 0
G54: =IF(ｱ.特管廃油!$AR$32="エラー !：⑩の内数である（⑫+⑬＋⑭）の量が⑩を超えています",1,0) -> 0 | H54: =IF(ｲ.特管廃酸!$AR$32="エラー !：⑩の内数である（⑫+⑬＋⑭）の量が⑩を超えています",1,0) -> 0 | I54: =IF(ｳ.特管廃ｱﾙｶﾘ!$AR$32="エラー !：⑩の内数である（⑫+⑬＋⑭）の量が⑩を超えています",1,0) -> 0 | J54: =IF(ｴ.感染性廃棄物!$AR$32="エラー !：⑩の内数である（⑫+⑬＋⑭）の量が⑩を超えています",1,0) -> 0 | K54: =IF(ｵ.廃PCB等!$AR$32="エラー !：⑩の内数である（⑫+⑬＋⑭）の量が⑩を超えています",1,0) -> 0 | L54: =IF(ｶ.PCB汚染物!$AR$32="エラー !：⑩の内数である（⑫+⑬＋⑭）の量が⑩を超えています",1,0) -> 0 | M54: =IF(ｷ.PCB処理物!$AR$32="エラー !：⑩の内数である（⑫+⑬＋⑭）の量が⑩を超えています",1,0) -> 0 | N54: =IF(ｸ.指定下水汚泥!$AR$32="エラー !：⑩の内数である（⑫+⑬＋⑭）の量が⑩を超えています",1,0) -> 0 | O54: =IF(ｹ.有害鉱さい!$AR$32="エラー !：⑩の内数である（⑫+⑬＋⑭）の量が⑩を超えています",1,0) -> 0 | P54: =IF(ｺ.廃石綿等!$AR$32="エラー !：⑩の内数である（⑫+⑬＋⑭）の量が⑩を超えています",1,0) -> 0 | Q54: =IF(ｻ.有害ばいじん!$AR$32="エラー !：⑩の内数である（⑫+⑬＋⑭）の量が⑩を超えています",1,0) -> 0 | R54: =IF(ｼ.有害燃え殻!$AR$32="エラー !：⑩の内数である（⑫+⑬＋⑭）の量が⑩を超えています",1,0) -> 0 | S54: =IF(ｽ.有害廃油!$AR$32="エラー !：⑩の内数である（⑫+⑬＋⑭）の量が⑩を超えています",1,0) -> 0 | T54: =IF(ｾ.有害汚泥!$AR$32="エラー !：⑩の内数である（⑫+⑬＋⑭）の量が⑩を超えています",1,0) -> 0 | U54: =IF(ｿ.有害廃酸!$AR$32="エラー !：⑩の内数である（⑫+⑬＋⑭）の量が⑩を超えています",1,0) -> 0 | V54: =IF(ﾀ.有害廃ｱﾙｶﾘ!$AR$32="エラー !：⑩の内数である（⑫+⑬＋⑭）の量が⑩を超えています",1,0) -> 0
G55: =IF(G9="0",+G19+G20,+G9+G19+G20) -> 0 | H55: =IF(H9="0",+H19+H20,+H9+H19+H20) -> 0 | I55: =IF(I9="0",+I19+I20,+I9+I19+I20) -> 0 | J55: =IF(J9="0",+J19+J20,+J9+J19+J20) -> 0 | K55: =IF(K9="0",+K19+K20,+K9+K19+K20) -> 0 | L55: =IF(L9="0",+L19+L20,+L9+L19+L20) -> 392.85 | M55: =IF(M9="0",+M19+M20,+M9+M19+M20) -> 0 | N55: =IF(N9="0",+N19+N20,+N9+N19+N20) -> 0 | ... W55: =IF(W9="0",+W19+W20,+W9+W19+W20) -> 0

Sheet 印刷用表紙
C1: このページは、印刷用ページですので、入力できません。入力はシート「表紙」にしてください。
A4: 14 | P4: ４ | Q4: 法定 | T4: 自主
A5: =+#REF! -> #REF! | C5: 様式第二号の十三（第八条の十七の二関係） | Q5: =+表紙!Q29 -> 〇 | T5: =+表紙!T29
C6: （第１面）
C8: 特別管理産業廃棄物処理計画書
P11: =+表紙!P35 -> 令和 ８年 ６月 １日
C13: =+表紙!C37 -> 横浜市長 | G13: 殿
A15: 3 | J15: 提出者
J16: 住 所 | L16: =+表紙!L40 -> 東京都千代田区内幸町1丁目1番3号
J17: 氏 名 | L17: =+表紙!L41 -> 東京電力パワーグリッド株式会社 代表取締役社長 金子 禎則
L18: （法人にあっては、名称及び代表者の氏名）
M19: 電話番号 | O19: =IF(+表紙!O43="","",+表紙!O43) -> 03-6373-1111
A22: 4 | C22: 廃棄物の処理及び清掃に関する法律第12条の２第10項の規定に基づき、特別管理産業廃棄物の減量その他その処理に関する計画を作成したので、提出します。
C24: 事業場の名称 | F24: =+表紙!F48 -> 東京電力パワーグリッド株式会社 旭資材置場 | P24: 自主管理事業登録番号
P25: =表紙!P49 -> 新規
C26: 事業場の所在地 | F26: =+表紙!F50 -> 神奈川県横浜市鶴見区駒岡２－11－１ | N26: ＴＥＬ（連絡先）： | Q26: =IF(+表紙!Q50="","",+表紙!Q50)
N27: =IF(+表紙!N51="","",+表紙!N51)
C28: 計画期間 | F28: =+表紙!F52 -> 令和８ 年 ４ 月 １ 日 ～ 令和 ９年 ３ 月 31 日（ １ 年間）
C29: 当該事業場に関する事項
D30: ① | E30: 事業の種類 | F30: =+表紙!F54 -> Ｆ－電気・ガス・熱供給・水道業 | L30: (具体的には） | N30: =IF(COUNTA(表紙!N54)=1,+表紙!N54,"") -> 33-電気業
D31: ② | E31: 事業の規模 | F31: 製造業 | J31: 製造品出荷額 | N31: =IF(+表紙!N55="","",+表紙!N55) | S31: =+表紙!S55 -> 百万円
F32: 建設業 | J32: エリア内元請完成工事高 | N32: =IF(+表紙!N56="","",+表紙!N56) | S32: =+表紙!S56 -> 百万円
D33: ※ 前年度実績を記入、医療機関は前年度末時点の病床数を記入。 | F33: 医療機関 | J33: 病床数 | N33: =IF(+表紙!N57="","",+表紙!N57) | S33: =+表紙!S57 -> 床
F34: =+表紙!F58 -> その他の業種 | G34: =+表紙!G58 -> 0 | I34: =+表紙!I58 -> 0 | J34: =+表紙!J58 -> 売上高 | L34: =+表紙!L58 -> 0 | M34: =+表紙!M58 -> 0 | N34: =IF(+表紙!N58="","",+表紙!N58) -> 2294300 | S34: =+表紙!S58 -> 百万円
F35: （上記項目に該当しない場合にはこちらに記載をしてください。）
F36: =IF(+表紙!F60="","",+表紙!F60)
D37: ③ | E37: 従業員数 | F37: =IF(+表紙!F61="","",+表紙!F61) -> 20,469人
F38: =IF(COUNTA(表紙!F62)=1,+表紙!F62,"") -> 処理委託先へ運搬し中間処分では焼却、最終処分では再生利用業者への委託
D39: ④ | E39: 特別管理産業廃棄物の一連の処理の工程
D44: ※ 特別管理産業廃棄物の種類ごとに記入
C50: （第２面）
C51: 特別管理産業廃棄物の処理に係る管理体制に関する事項
D52: （管理体制図）
D53: =IF(COUNTA(表紙!D77)=1,+表紙!D77,"") -> ○処理施設への搬出計画策定・指示 ･･･ 調達室資材環境グループ ○処理施設への搬出 ･･･ 調達室資材環境グループ ○処理委託先 ･･･ 杉田建材株式会社 群桐エコロ株式会社 エコシステム秋田株式会社 エコシステム山陽株式会社 オオノ開發株式会社
C63: 特別管理産業廃棄物の排出の抑制に関する事項
D64: ① | E64: 現状 | F64: =表紙!F88 -> 【前年度（令和７年度）実績】
A65: 5 | F65: 特別管理産業廃棄物の種類数 | K65: =+表紙!K89 -> 1 | N65: 種類 | Q65: * 種類ごとの前年度排出量は、別紙のとおり。
A66: 6 | F66: ① 排出量 | K66: =+表紙!K90 -> 392.85 | P66: ｔ
F69: （これまでに実施した取組）
F70: =IF(COUNTA(表紙!F94)=1,+表紙!F94,"") -> 2025年度に全数処理完了
D79: ② | E79: 計画 | F79: =表紙!F103 -> 【（令和８年度）目標】
A80: 7 | F80: 特別管理産業廃棄物の種類数 | K80: =+表紙!K104 -> 0 | N80: 種類 | Q80: * 種類ごとの本年度排出目標量は、別紙のとおり。
A81: 8 | F81: ① 排出量 | K81: =+表紙!K105 -> 0 | P81: ｔ
A83: 9
F84: （今後実施する予定の取組）
F85: =IF(COUNTA(表紙!F109)=1,+表紙!F109,"")
C94: 特別管理産業廃棄物の分別に関する事項
D95: ① | E95: 現状 | F95: （分別している特別管理産業廃棄物の種類及び分別に関する取組）
F96: =IF(COUNTA(表紙!F120)=1,+表紙!F120,"")
D101: ② | E101: 計画 | F101: （今後分別する予定の特別管理産業廃棄物の種類及び分別に関する取組）
F102: =IF(COUNTA(表紙!F126)=1,+表紙!F126,"")
C107: （第３面）
C108: 自ら行う特別管理産業廃棄物の再生利用に関する事項
D109: ① | E109: 現状 | F109: =表紙!F133 -> 【前年度（令和７年度）実績】
F110: ②＋⑧ 自ら再生利用を行った特別管理産業廃棄物の量 | K110: =+表紙!K134 -> 0 | P110: ｔ | Q110: * 種類ごとの前年度自ら再生利用量は、別紙のとおり。
F111: （これまでに実施した取組）
F112: =IF(COUNTA(表紙!F136)=1,+表紙!F136,"")
D120: ② | E120: 計画 | F120: =表紙!F144 -> 【（令和８年度）目標】
F121: ②＋⑧ 自ら再生利用を行う特別管理産業廃棄物の量 | K121: =+表紙!K145 -> 0 | P121: ｔ | Q121: * 種類ごとの本年度自ら再生利用量は、別紙のとおり。
F122: （今後実施する予定の取組）
F123: =IF(COUNTA(表紙!F147)=1,+表紙!F147,"")
C131: 自ら行う特別管理産業廃棄物の中間処理に関する事項
D132: ① | E132: 現状 | F132: =表紙!F156 -> 【前年度（令和７年度）実績】
F133: ⑤ 自ら熱回収を行った特別管理産業廃棄物の量 | K133: =+表紙!K157 -> 0 | P133: ｔ | Q133: * 種類ごとの前年度自ら熱回収を行った量は、別紙のとおり。
F134: ⑦ 自ら中間処理により減量した特別管理産業廃棄物の量 | K134: =+表紙!K158 -> 0 | P134: ｔ | Q134: * 種類ごとの前年度自ら中間処理により減量した量は、別紙のとおり。
F135: （これまでに実施した取組）
F136: =IF(COUNTA(表紙!F160)=1,+表紙!F160,"")
D144: ② | E144: 計画 | F144: =表紙!F168 -> 【（令和８年度）目標】
F145: ⑤ 自ら熱回収を行う特別管理産業廃棄物の量 | K145: =+表紙!K169 -> 0 | P145: ｔ | Q145: * 種類ごとの本年度自ら熱回収を行う量は、別紙のとおり。
F146: ⑦ 自ら中間処理により減量する特別管理産業廃棄物の量 | K146: =+表紙!K170 -> 0 | P146: ｔ | Q146: * 種類ごとの本年度自ら中間処理により減量する量は、別紙のとおり。
F147: （今後実施する予定の取組）
F148: =IF(COUNTA(表紙!F172)=1,+表紙!F172,"")
C156: （第４面）
C157: 自ら行う特別管理産業廃棄物の埋立処分に関する事項
D158: ① | E158: 現状 | F158: =表紙!F182 -> 【前年度（令和７年度）実績】
F159: ③＋⑨ 自ら埋立処分を行った特別管理産業廃棄物の量 | K159: =+表紙!K183 -> 0 | P159: ｔ | Q159: * 種類ごとの前年度自ら埋立処分を行った量は、別紙のとおり。
F160: （これまでに実施した取組）
F161: =IF(COUNTA(表紙!F185)=1,+表紙!F185,"")
D170: ② | E170: 計画 | F170: =表紙!F194 -> 【（令和８年度）目標】
F171: ③＋⑨ 自ら埋立処分を行う特別管理産業廃棄物の量 | K171: =+表紙!K195 -> 0 | P171: ｔ | Q171: * 種類ごとの本年度自ら埋立処分を行う量は、別紙のとおり。
F172: （今後実施する予定の取組）
F173: =IF(COUNTA(表紙!F197)=1,+表紙!F197,"")
C182: 特別管理産業廃棄物の処理の委託に関する事項
D183: ① | E183: 現状 | F183: =表紙!F207 -> 【前年度（令和７年度）実績】
F184: ⑩ 全処理委託量 | K184: =+表紙!K208 -> 372.35 | P184: ｔ | Q184: * 種類ごとの前年度処理委託量は、別紙のとおり。
G185: ⑪ 優良認定処理業者への処理委託量 | K185: =+表紙!K209 -> 372.35 | P185: ｔ
G186: ⑫ 再生利用業者への処理委託量 | K186: =+表紙!K210 -> 372.35 | P186: ｔ
G187: ⑬ 認定熱回収業者への処理委託量 | K187: =+表紙!K211 -> 0 | P187: ｔ
G188: ⑭ 認定熱回収業者以外の熱回収を行う業者への処理委託量 | K188: =+表紙!K212 -> 0 | P188: ｔ
F189: （これまでに実施した取組）
F190: =IF(COUNTA(表紙!F214)=1,+表紙!F214,"")
C199: （第５面）
D200: ② | E200: 計画 | F200: =表紙!F224 -> 【（令和８年度）目標】
F201: ⑩ 全処理委託量 | K201: =+表紙!K225 -> 0 | P201: ｔ | Q201: * 種類ごとの本年度処理委託量は、別紙のとおり。
G202: ⑪ 優良認定処理業者への処理委託量 | K202: =+表紙!K226 -> 0 | P202: ｔ
G203: ⑫ 再生利用業者への処理委託量 | K203: =+表紙!K227 -> 0 | P203: ｔ
G204: ⑬ 認定熱回収業者への処理委託量 | K204: =+表紙!K228 -> 0 | P204: ｔ
G205: ⑭ 認定熱回収業者以外の熱回収を行う業者への処理委託量 | K205: =+表紙!K229 -> 0 | P205: ｔ
F206: （今後実施する予定の取組）
F207: =IF(COUNTA(表紙!F231)=1,+表紙!F231,"")
...
