Workbook

Sheet 表紙
C2: 【注 意】
C3: ① このファイルは、産業廃棄物用の法定と自主管理の共通様式です。
C4: 法定様式として提出する場合はN28セルの「○」を選択し、自主管理様式として提出する場合はO28セルの「○」を選択してください。
C5: ② 様式２と様式３の両方を提出する場合は、先に様式３を入力してください。様式３の情報を様式２へ反映させることができます。
C7: 【手 順】
C8: ① 様式１の情報を反映させることができます。
D9: 本ファイルは閉じ、2026form6.xlsmを開き、「④事業場情報等の反映」をクリックして下さい。
E10: （様式１から反映→提出先、提出者情報、事業場情報、事業の種類、事業規模）
C11: ② 表紙シートの黄色、水色のセルで、入力されていないセルを入力あるいは選択してください。
C12: ③ 次に、廃棄物の種類ごとの処理フローを、シート「ア.燃え殻」から順番に各シートに記載してください。
C13: ④ 記載したデータに誤りがないか、別紙（一括表）などを見て再確認をお願いいたします。
C15: ＊ 印刷を行いたい場合は、本ファイルを閉じ、2026form6.xlsmを開き「印刷ボタン（様式3）」をクリックしてください。
C16: 提出に必要な表紙、別紙(一括表）および各フロー図が自動的にプリントされます。
C17: ※マクロが使用できない場合は、本ファイルのシート名「印刷用表紙」「別紙」及び該当する廃棄物のシートを 「ファイル」→「印刷」の手順で印刷をしてください。
C19: 【セル色の説明】
E20: ：セルの右上に▼がある場合、ポインタをそのセルにあわせると、説明文が表示されます
C21: 薄黄色 | E21: ：プルダウン・メニューから選択してください。セルを選択して右側に現れる▼をクリックすると選択肢のリストが出てきます。
C22: 薄水色 | E22: ：内容・データ等を入力してください
C23: 薄橙色 | E23: ：自動処理されるので、変更できません。
C24: 薄黄緑 | E24: ：他様式の情報を反映させることができます。
E25: 直接入力することも可能です。
O26: 該当する欄に○印を記入してください。
A27: 14 | M27: ３ | N27: 法定 | O27: 自主
A28: =+R86 -> 0 | C28: 様式第二号の九（第八条の四の六関係） | N28: ○
C29: （第１面）
C31: 産業廃棄物処理計画実施状況報告書
L34: 令和 ８年 ６月 ２３日
C36: 横浜市長 | G36: 殿
A38: 3 | H38: 提出者
H39: 住 所 | J39: 〒467-0852 愛知県名古屋市瑞穂区明前町8番18号
H40: 氏 名 | J40: 株式会社ダイセキ環境ソリューション 代表取締役 山本 浩也
J41: （法人にあっては、名称及び代表者の氏名）
J42: 電話番号 | L42: 052-819-5310
A45: 4 | C45: 廃棄物の処理及び清掃に関する法律第12条第10項の規定に基づき、令和７年度の産業廃棄物処理計画の実施状況を報告します。
C47: 事業場の名称 | F47: 株式会社ダイセキ環境ソリューション 横浜恵比須リサイクルセンター | M47: 自主管理事業登録番号
M48: 2931
C49: 事業場の所在地 | F49: 横浜市神奈川区恵比須町5番地13 | L49: ＴＥＬ（連絡先）： | N49: 045-444-1431
C51: 当該事業場に関する事項
D52: ① | E52: 事業の種類 | F52: Ｒ－サービス業（他に分類されないもの） | J52: (具体的には） | L52: 廃棄物処理業 その他のサービス業
D53: ② | E53: 事業の規模 | F53: 製造業 | I53: 製造品出荷額 | N53: 百万円／年
...

Sheet ｱ.燃え殻
S1: ↓ | T1: 注意：本年度の目標量のみでフロー図の実績データがない場合にも、本年度目標データを該当欄に入力してください
B2: 産業廃棄物処理計画実施状況報告書
AP3: ３－２ | AS3: 法定 | AU3: 自主
AS4: =+表紙!N28 -> ○ | AU4: =+表紙!O28
B5: 別紙処理フロー | Z5: 事業場名称 | AE5: ： | AF5: =+表紙!F47 -> 株式会社ダイセキ環境ソリューション 横浜恵比須リサイクルセンター
B6: 令和７年度に発生した産業廃棄物ごとの量と処理計画の実施結果
B7: フローに記載した産業廃棄物の種類 | D7: ア. 燃え殻
B8: ※ | C8: 本用紙は廃棄物の種類ごとに1枚の記載となります。異なる廃棄物の処理フローは別シートに記載してください。 | AH8: ⑧ | AI8: 自ら中間処理した後再生利用した量
B9: （単位：t/年） | F9: 有償物量 | AE9: ａ残さ物の自己処理 | AN9: ｔ
C11: 不要物等発生量 | F11: ① | G11: 当該事業場における排出量 | M11: Ａ 自己処理 | P11: ② | Q11: 自ら直接再生利用した量 | AH11: ⑨ | AI11: 自ら中間処理した後自ら埋立処分又は海洋投入処分した量
F12: =+ROUND(P12,1)+ROUND(P15,1)+ROUND(P18,1)+ROUND(P24,1)+P27-ROUND(F15,1) -> 0 | I12: ｔ | T12: ｔ | AN12: ｔ
F14: ※１ | G14: 自社の他事業場からの搬入量 | P14: ③ | Q14: 自ら直接埋立処分又は海洋投入処分した量 | AH14: ※3 | AI14: 自ら中間処理した後自社の他事業場での処理量
I15: ｔ | T15: ｔ | AN15: ｔ | AS15: （目的別内訳）
P16: =+IF(Y18=0,"",IF(Y18-P18=Y18,"エラー！：⑥残さ物量があるのに、④自ら中間処理した量がゼロになっています","")) | AS16: 再生利用前 委託量 | AV16: ｔ
P17: ④ | Q17: 自ら中間処理した量 | Y17: ⑥ | Z17: 自ら中間処理した後の残さ量 | AE17: ｂ残さ物の委託処理 | AH17: ｂ | AI17: 自ら中間処理した後の処理委託量 | AO17: ｂ-1 中間処理委託量 | AS17: 最終処分前 委託量 | AV17: ｔ
T18: ｔ | Y18: =+ROUND(AH9,1)+ROUND(AH12,1)+ROUND(AH15,1)+AH18 -> 0 | AB18: ｔ | AH18: =+ROUND(AO18,1)+ROUND(AO21,1) -> 0 | AL18: ｔ | AO18: =+ROUND(AU16,1)+ROUND(AU17,1)+ROUND(AU18,1) -> 0 | AP18: ｔ | AS18: 下水等放流前委託量 | AV18: ｔ
AW19: （第2面）
P20: ⑤ | Q20: ④のうち熱回収を行った量 | Y20: ⑦ | Z20: 自ら中間処理により減量した量 | AO20: ｂ-2 最終処分委託量
B21: 注）右上のフローには、令和７年度の実績値を記載してください。下表の中央列には、令和７年度目標値を記載してください。下表の右列は、右上フローに記載された令和７年度実績値が自動的に計算されます。 | T21: ｔ | Y21: =+P18-Y18 -> 0 | AB21: ｔ | AP21: ｔ
P22: =+IF(P21=0,"",IF(P18<P21,"エラー !：④の内数である⑤の量が④を超えています",""))
B23: 項 目 | D23: 令和７年度 目標値 | H23: 令和７年度 実績値 | P23: ※２ | Q23: 自社の他事業場での処理量 | AS23: ⑫ | AT23: ⑩のうち再生利用業者への処理委託量
B24: ① 排出量 | D24: 0 | G24: t | H24: =+F12 -> 0 | J24: t | T24: ｔ | AS24: =+ROUND(AU16,1)+ROUND(AA28,1) -> 0 | AV24: ｔ
B25: ②＋⑧ 自ら再生利用を行った量 | D25: 0 | G25: t | H25: =+P12+AH9 -> 0 | J25: t
B26: ⑤ 自ら熱回収を行った量 | D26: 0 | G26: t | H26: =+P21 -> 0 | J26: t | M26: Ｂ 直接委託処理 | P26: Ｂ | Q26: 直接処理委託量 | AL26: ⑩ | AM26: 直接及び自ら中間処理した後の処理委託量 | AS26: ⑬ | AT26: ⑩のうち認定熱回収業者への処理委託量
B27: ⑦ 自ら中間処理により減量した量 | D27: 0 | G27: t | H27: =+Y21 -> 0 | J27: t | P27: =+R30+ROUND(R33,1) -> 0 | T27: ｔ | Y27: （目的別内訳） | AL27: =+AH18+P27 -> 0 | AP27: ｔ | AV27: ｔ
B28: ③＋⑨ 自ら埋立処分又は海洋投入処分を行った量 | D28: 0 | G28: t | H28: =+P15+AH12 -> 0 | J28: t | Y28: 再生利用前委託量 | AF28: ｔ | AS28: =+IF(AS27=0,"",IF(AL27<(AS24+AS27+AS31),"エラー !：⑩の内数である（⑫+⑬＋⑭）の量が⑩を超えています",""))
B29: ⑩ 全処理委託量 | D29: 0 | G29: t | H29: =+AL27 -> 0 | J29: t | R29: B-1 | S29: 中間処理委託量 | Y29: 最終処分前委託量 | AF29: ｔ | AL29: ⑪ | AM29: ⑩のうち優良認定処理業者への処理委託量 | AS29: ⑭ | AT29: ⑩のうち認定熱回収業者以外の熱回収を行う業者への処理委託量
B30: ⑪ 優良認定処理業者への処理委託量 | D30: 0 | G30: t | H30: =+AL30 -> 0 | J30: t | R30: =+ROUND(AA28,1)+ROUND(AA29,1)+ROUND(AA30,1) -> 0 | V30: ｔ | Y30: 下水等放流前委託量 | AF30: ｔ | AP30: ｔ
B31: ⑫ 再生利用業者への処理委託量 | D31: 0 | G31: t | H31: =+AS24 -> 0 | J31: t | AA31: 【産業廃棄物の種類 （ア～ト）】 | AL31: =+IF(AL30=0,"",IF(AL27<AL30,"エラー !：⑩の内数である⑪の量が⑩を超えています","")) | AV31: ｔ
B32: ⑬ 認定熱回収業者への処理委託量 | D32: 0 | G32: t | H32: =+AS27 -> 0 | J32: t | R32: B-2 | S32: 最終処分委託量 | AA32: ｱ. 燃え殻 ｲ. 汚泥 ｳ. 廃油 ｴ. 廃酸 ｵ. 廃アルカリ ｶ. 廃ﾌﾟﾗｽﾁｯｸ類 ｷ. 紙くず | AF32: ｸ. 木くず ｹ. 繊維くず ｺ. 動植物性残さ ｻ. 動物系固形不要物 ｼ. ゴムくず ｽ. 金属くず ｾ. ｶﾞﾗｽ・ｺﾝｸﾘｰﾄ・陶磁器くず | AL32: ｿ. 鉱さい ﾀ. がれき類 ﾁ. 動物のふん尿 ﾂ. 動物の死体 ﾃ. ばいじん ト. 混合廃棄物その他 | AS32: =+IF(AS31=0,"",IF(AL27<(AS24+AS27+AS31),"エラー !：⑩の内数である（⑫+⑬＋⑭）の量が⑩を超えています",""))
B33: ⑭ 認定熱回収業者以外の熱回収を行う業者への処理委託量 | D33: 0 | G33: t | H33: =+AS31 -> 0 | J33: t | V33: ｔ
C34: =+IF(D30=0,"",IF(D29<D30,"エラー !：上の表は、⑩の内数である⑪の量が⑩を超えています",""))
C35: =+IF(D31=0,"",IF(D29<D31,"エラー !：上の表は、⑩の内数である⑫の量が⑩を超えています",""))
C36: =+IF(D32=0,"",IF(D29<D32,"エラー !：上の表は、⑩の内数である⑬の量が⑩を超えています",""))
C37: =+IF(D33=0,"",IF(D29<D33,"エラー !：上の表は、⑩の内数である⑭の量が⑩を超えています",""))

Sheet ｲ.汚泥
S1: ↓ | T1: 注意：本年度の目標量のみでフロー図の実績データがない場合にも、本年度目標データを該当欄に入力してください
B2: 産業廃棄物処理計画実施状況報告書
AP3: ３－２ | AS3: 法定 | AU3: 自主
AS4: =+表紙!N28 -> ○ | AU4: =+表紙!O28
B5: 別紙処理フロー | Z5: 事業場名称 | AE5: ： | AF5: =+表紙!F47 -> 株式会社ダイセキ環境ソリューション 横浜恵比須リサイクルセンター
B6: 令和７年度に発生した産業廃棄物ごとの量と処理計画の実施結果
B7: フローに記載した産業廃棄物の種類 | D7: イ. 汚泥
B8: ※ | C8: 本用紙は廃棄物の種類ごとに1枚の記載となります。異なる廃棄物の処理フローは別シートに記載してください。 | AH8: ⑧ | AI8: 自ら中間処理した後再生利用した量
B9: （単位：t/年） | F9: 有償物量 | AE9: ａ残さ物の自己処理 | AN9: ｔ
C11: 不要物等発生量 | F11: ① | G11: 当該事業場における排出量 | M11: Ａ 自己処理 | P11: ② | Q11: 自ら直接再生利用した量 | AH11: ⑨ | AI11: 自ら中間処理した後自ら埋立処分又は海洋投入処分した量
F12: =+ROUND(P12,1)+ROUND(P15,1)+ROUND(P18,1)+ROUND(P24,1)+P27-ROUND(F15,1) -> 0 | I12: ｔ | T12: ｔ | AN12: ｔ
F14: ※１ | G14: 自社の他事業場からの搬入量 | P14: ③ | Q14: 自ら直接埋立処分又は海洋投入処分した量 | AH14: ※3 | AI14: 自ら中間処理した後自社の他事業場での処理量
I15: ｔ | T15: ｔ | AN15: ｔ | AS15: （目的別内訳）
P16: =+IF(Y18=0,"",IF(Y18-P18=Y18,"エラー！：⑥残さ物量があるのに、④自ら中間処理した量がゼロになっています","")) | AS16: 再生利用前委託量 | AV16: ｔ
P17: ④ | Q17: 自ら中間処理した量 | Y17: ⑥ | Z17: 自ら中間処理した後の残さ量 | AE17: ｂ残さ物の委託処理 | AH17: ｂ | AI17: 自ら中間処理した後の処理委託量 | AO17: ｂ-1 中間処理委託量 | AS17: 最終処分前 委託量 | AV17: ｔ
T18: ｔ | Y18: =+ROUND(AH9,1)+ROUND(AH12,1)+ROUND(AH15,1)+AH18 -> 0 | AB18: ｔ | AH18: =+ROUND(AO18,1)+ROUND(AO21,1) -> 0 | AL18: ｔ | AO18: =+ROUND(AU16,1)+ROUND(AU17,1)+ROUND(AU18,1) -> 0 | AP18: ｔ | AS18: 下水等放流前委託量 | AV18: ｔ
AW19: （第2面）
P20: ⑤ | Q20: ④のうち熱回収を行った量 | Y20: ⑦ | Z20: 自ら中間処理により減量した量 | AO20: ｂ-2 最終処分委託量
B21: 注）右上のフローには、令和７年度の実績値を記載してください。下表の中央列には、令和７年度目標値を記載してください。下表の右列は、右上フローに記載された令和７年度実績値が自動的に計算されます。 | T21: ｔ | Y21: =+P18-Y18 -> 0 | AB21: ｔ | AP21: ｔ
P22: =+IF(P21=0,"",IF(P18<P21,"エラー !：④の内数である⑤の量が④を超えています",""))
B23: 項 目 | D23: 令和７年度 目標値 | H23: 令和７年度 実績値 | P23: ※２ | Q23: 自社の他事業場での処理量 | AS23: ⑫ | AT23: ⑩のうち再生利用業者への処理委託量
B24: ① 排出量 | D24: 0 | G24: t | H24: =+F12 -> 0 | J24: t | T24: ｔ | AS24: =+ROUND(AU16,1)+ROUND(AA28,1) -> 0 | AV24: ｔ
B25: ②＋⑧ 自ら再生利用を行った量 | D25: 0 | G25: t | H25: =+P12+AH9 -> 0 | J25: t
B26: ⑤ 自ら熱回収を行った量 | D26: 0 | G26: t | H26: =+P21 -> 0 | J26: t | M26: Ｂ 直接委託処理 | P26: Ｂ | Q26: 直接処理委託量 | AL26: ⑩ | AM26: 直接及び自ら中間処理した後の処理委託量 | AS26: ⑬ | AT26: ⑩のうち認定熱回収業者への処理委託量
B27: ⑦ 自ら中間処理により減量した量 | D27: 0 | G27: t | H27: =+Y21 -> 0 | J27: t | P27: =+R30+ROUND(R33,1) -> 0 | T27: ｔ | Y27: （目的別内訳） | AL27: =+AH18+P27 -> 0 | AP27: ｔ | AV27: ｔ
B28: ③＋⑨ 自ら埋立処分又は海洋投入処分を行った量 | D28: 0 | G28: t | H28: =+P15+AH12 -> 0 | J28: t | Y28: 再生利用前委託量 | AF28: ｔ | AS28: =+IF(AS27=0,"",IF(AL27<(AS24+AS27+AS31),"エラー !：⑩の内数である（⑫+⑬＋⑭）の量が⑩を超えています",""))
B29: ⑩ 全処理委託量 | D29: 0 | G29: t | H29: =+AL27 -> 0 | J29: t | R29: B-1 | S29: 中間処理委託量 | Y29: 最終処分前委託量 | AF29: ｔ | AL29: ⑪ | AM29: ⑩のうち優良認定処理業者への処理委託量 | AS29: ⑭ | AT29: ⑩のうち認定熱回収業者以外の熱回収を行う業者への処理委託量
B30: ⑪ 優良認定処理業者への処理委託量 | D30: 0 | G30: t | H30: =+AL30 -> 0 | J30: t | R30: =+ROUND(AA28,1)+ROUND(AA29,1)+ROUND(AA30,1) -> 0 | V30: ｔ | Y30: 下水等放流前委託量 | AF30: ｔ | AP30: ｔ
B31: ⑫ 再生利用業者への処理委託量 | D31: 0 | G31: t | H31: =+AS24 -> 0 | J31: t | AA31: 【産業廃棄物の種類 （ア～ト）】 | AL31: =+IF(AL30=0,"",IF(AL27<AL30,"エラー !：⑩の内数である⑪の量が⑩を超えています","")) | AV31: ｔ
B32: ⑬ 認定熱回収業者への処理委託量 | D32: 0 | G32: t | H32: =+AS27 -> 0 | J32: t | R32: B-2 | S32: 最終処分委託量 | AA32: ｱ. 燃え殻 ｲ. 汚泥 ｳ. 廃油 ｴ. 廃酸 ｵ. 廃アルカリ ｶ. 廃ﾌﾟﾗｽﾁｯｸ類 ｷ. 紙くず | AF32: ｸ. 木くず ｹ. 繊維くず ｺ. 動植物性残さ ｻ. 動物系固形不要物 ｼ. ゴムくず ｽ. 金属くず ｾ. ｶﾞﾗｽ・ｺﾝｸﾘｰﾄ・陶磁器くず | AL32: ｿ. 鉱さい ﾀ. がれき類 ﾁ. 動物のふん尿 ﾂ. 動物の死体 ﾃ. ばいじん ト. 混合廃棄物その他 | AS32: =+IF(AS31=0,"",IF(AL27<(AS24+AS27+AS31),"エラー !：⑩の内数である（⑫+⑬＋⑭）の量が⑩を超えています",""))
B33: ⑭ 認定熱回収業者以外の熱回収を行う業者への処理委託量 | D33: 0 | G33: t | H33: =+AS31 -> 0 | J33: t | V33: ｔ
C34: =+IF(D30=0,"",IF(D29<D30,"エラー !：上の表は、⑩の内数である⑪の量が⑩を超えています",""))
C35: =+IF(D31=0,"",IF(D29<D31,"エラー !：上の表は、⑩の内数である⑫の量が⑩を超えています",""))
C36: =+IF(D32=0,"",IF(D29<D32,"エラー !：上の表は、⑩の内数である⑬の量が⑩を超えています",""))
C37: =+IF(D33=0,"",IF(D29<D33,"エラー !：上の表は、⑩の内数である⑭の量が⑩を超えています",""))

Sheet ｳ.廃油
S1: ↓ | T1: 注意：本年度の目標量のみでフロー図の実績データがない場合にも、本年度目標データを該当欄に入力してください
B2: 産業廃棄物処理計画実施状況報告書
AP3: ３－２ | AS3: 法定 | AU3: 自主
AS4: =+表紙!N28 -> ○ | AU4: =+表紙!O28
B5: 別紙処理フロー | Z5: 事業場名称 | AE5: ： | AF5: =+表紙!F47 -> 株式会社ダイセキ環境ソリューション 横浜恵比須リサイクルセンター
B6: 令和７年度に発生した産業廃棄物ごとの量と処理計画の実施結果
B7: フローに記載した産業廃棄物の種類 | D7: ウ. 廃油
B8: ※ | C8: 本用紙は廃棄物の種類ごとに1枚の記載となります。異なる廃棄物の処理フローは別シートに記載してください。 | AH8: ⑧ | AI8: 自ら中間処理した後再生利用した量
B9: （単位：t/年） | F9: 有償物量 | AE9: ａ残さ物の自己処理 | AN9: ｔ
C11: 不要物等発生量 | F11: ① | G11: 当該事業場における排出量 | M11: Ａ 自己処理 | P11: ② | Q11: 自ら直接再生利用した量 | AH11: ⑨ | AI11: 自ら中間処理した後自ら埋立処分又は海洋投入処分した量
F12: =+ROUND(P12,1)+ROUND(P15,1)+ROUND(P18,1)+ROUND(P24,1)+P27-ROUND(F15,1) -> 0.1 | I12: ｔ | T12: ｔ | AN12: ｔ
F14: ※１ | G14: 自社の他事業場からの搬入量 | P14: ③ | Q14: 自ら直接埋立処分又は海洋投入処分した量 | AH14: ※3 | AI14: 自ら中間処理した後自社の他事業場での処理量
I15: ｔ | T15: ｔ | AN15: ｔ | AS15: （目的別内訳）
P16: =+IF(Y18=0,"",IF(Y18-P18=Y18,"エラー！：⑥残さ物量があるのに、④自ら中間処理した量がゼロになっています","")) | AS16: 再生利用前委託量 | AV16: ｔ
P17: ④ | Q17: 自ら中間処理した量 | Y17: ⑥ | Z17: 自ら中間処理した後の残さ量 | AE17: ｂ残さ物の委託処理 | AH17: ｂ | AI17: 自ら中間処理した後の処理委託量 | AO17: ｂ-1 中間処理委託量 | AS17: 最終処分前 委託量 | AV17: ｔ
T18: ｔ | Y18: =+ROUND(AH9,1)+ROUND(AH12,1)+ROUND(AH15,1)+AH18 -> 0 | AB18: ｔ | AH18: =+ROUND(AO18,1)+ROUND(AO21,1) -> 0 | AL18: ｔ | AO18: =+ROUND(AU16,1)+ROUND(AU17,1)+ROUND(AU18,1) -> 0 | AP18: ｔ | AS18: 下水等放流前委託量 | AV18: ｔ
AW19: （第2面）
P20: ⑤ | Q20: ④のうち熱回収を行った量 | Y20: ⑦ | Z20: 自ら中間処理により減量した量 | AO20: ｂ-2 最終処分委託量
B21: 注）右上のフローには、令和７年度の実績値を記載してください。下表の中央列には、令和７年度目標値を記載してください。下表の右列は、右上フローに記載された令和７年度実績値が自動的に計算されます。 | T21: ｔ | Y21: =+P18-Y18 -> 0 | AB21: ｔ | AP21: ｔ
P22: =+IF(P21=0,"",IF(P18<P21,"エラー !：④の内数である⑤の量が④を超えています",""))
B23: 項 目 | D23: 令和７年度 目標値 | H23: 令和７年度 実績値 | P23: ※２ | Q23: 自社の他事業場での処理量 | AS23: ⑫ | AT23: ⑩のうち再生利用業者への処理委託量
B24: ① 排出量 | D24: 0 | G24: t | H24: =+F12 -> 0.1 | J24: t | T24: ｔ | AS24: =+ROUND(AU16,1)+ROUND(AA28,1) -> 0.1 | AV24: ｔ
B25: ②＋⑧ 自ら再生利用を行った量 | D25: 0 | G25: t | H25: =+P12+AH9 -> 0 | J25: t
B26: ⑤ 自ら熱回収を行った量 | D26: 0 | G26: t | H26: =+P21 -> 0 | J26: t | M26: Ｂ 直接委託処理 | P26: Ｂ | Q26: 直接処理委託量 | AL26: ⑩ | AM26: 直接及び自ら中間処理した後の処理委託量 | AS26: ⑬ | AT26: ⑩のうち認定熱回収業者への処理委託量
B27: ⑦ 自ら中間処理により減量した量 | D27: 0 | G27: t | H27: =+Y21 -> 0 | J27: t | P27: =+R30+ROUND(R33,1) -> 0.1 | T27: ｔ | Y27: （目的別内訳） | AL27: =+AH18+P27 -> 0.1 | AP27: ｔ | AV27: ｔ
B28: ③＋⑨ 自ら埋立処分又は海洋投入処分を行った量 | D28: 0 | G28: t | H28: =+P15+AH12 -> 0 | J28: t | Y28: 再生利用前委託量 | AA28: 0.1 | AF28: ｔ | AS28: =+IF(AS27=0,"",IF(AL27<(AS24+AS27+AS31),"エラー !：⑩の内数である（⑫+⑬＋⑭）の量が⑩を超えています",""))
B29: ⑩ 全処理委託量 | D29: 0 | G29: t | H29: =+AL27 -> 0.1 | J29: t | R29: B-1 | S29: 中間処理委託量 | Y29: 最終処分前委託量 | AF29: ｔ | AL29: ⑪ | AM29: ⑩のうち優良認定処理業者への処理委託量 | AS29: ⑭ | AT29: ⑩のうち認定熱回収業者以外の熱回収を行う業者への処理委託量
B30: ⑪ 優良認定処理業者への処理委託量 | D30: 0 | G30: t | H30: =+AL30 -> 0.1 | J30: t | R30: =+ROUND(AA28,1)+ROUND(AA29,1)+ROUND(AA30,1) -> 0.1 | V30: ｔ | Y30: 下水等放流前委託量 | AF30: ｔ | AL30: 0.1 | AP30: ｔ
B31: ⑫ 再生利用業者への処理委託量 | D31: 0 | G31: t | H31: =+AS24 -> 0.1 | J31: t | AA31: 【産業廃棄物の種類 （ア～ト）】 | AL31: =+IF(AL30=0,"",IF(AL27<AL30,"エラー !：⑩の内数である⑪の量が⑩を超えています","")) | AV31: ｔ
B32: ⑬ 認定熱回収業者への処理委託量 | D32: 0 | G32: t | H32: =+AS27 -> 0 | J32: t | R32: B-2 | S32: 最終処分委託量 | AA32: ｱ. 燃え殻 ｲ. 汚泥 ｳ. 廃油 ｴ. 廃酸 ｵ. 廃アルカリ ｶ. 廃ﾌﾟﾗｽﾁｯｸ類 ｷ. 紙くず | AF32: ｸ. 木くず ｹ. 繊維くず ｺ. 動植物性残さ ｻ. 動物系固形不要物 ｼ. ゴムくず ｽ. 金属くず ｾ. ｶﾞﾗｽ・ｺﾝｸﾘｰﾄ・陶磁器くず | AL32: ｿ. 鉱さい ﾀ. がれき類 ﾁ. 動物のふん尿 ﾂ. 動物の死体 ﾃ. ばいじん ト. 混合廃棄物その他 | AS32: =+IF(AS31=0,"",IF(AL27<(AS24+AS27+AS31),"エラー !：⑩の内数である（⑫+⑬＋⑭）の量が⑩を超えています",""))
B33: ⑭ 認定熱回収業者以外の熱回収を行う業者への処理委託量 | D33: 0 | G33: t | H33: =+AS31 -> 0 | J33: t | V33: ｔ
C34: =+IF(D30=0,"",IF(D29<D30,"エラー !：上の表は、⑩の内数である⑪の量が⑩を超えています",""))
C35: =+IF(D31=0,"",IF(D29<D31,"エラー !：上の表は、⑩の内数である⑫の量が⑩を超えています",""))
C36: =+IF(D32=0,"",IF(D29<D32,"エラー !：上の表は、⑩の内数である⑬の量が⑩を超えています",""))
C37: =+IF(D33=0,"",IF(D29<D33,"エラー !：上の表は、⑩の内数である⑭の量が⑩を超えています",""))

Sheet ｴ.廃酸
S1: ↓ | T1: 注意：本年度の目標量のみでフロー図の実績データがない場合にも、本年度目標データを該当欄に入力してください
B2: 産業廃棄物処理計画実施状況報告書
AP3: ３－２ | AS3: 法定 | AU3: 自主
AS4: =+表紙!N28 -> ○ | AU4: =+表紙!O28
B5: 別紙処理フロー | Z5: 事業場名称 | AE5: ： | AF5: =+表紙!F47 -> 株式会社ダイセキ環境ソリューション 横浜恵比須リサイクルセンター
B6: 令和７年度に発生した産業廃棄物ごとの量と処理計画の実施結果
B7: フローに記載した産業廃棄物の種類 | D7: エ. 廃酸
B8: ※ | C8: 本用紙は廃棄物の種類ごとに1枚の記載となります。異なる廃棄物の処理フローは別シートに記載してください。 | AH8: ⑧ | AI8: 自ら中間処理した後再生利用した量
B9: （単位：t/年） | F9: 有償物量 | AE9: ａ残さ物の自己処理 | AN9: ｔ
C11: 不要物等発生量 | F11: ① | G11: 当該事業場における排出量 | M11: Ａ 自己処理 | P11: ② | Q11: 自ら直接再生利用した量 | AH11: ⑨ | AI11: 自ら中間処理した後自ら埋立処分又は海洋投入処分した量
F12: =+ROUND(P12,1)+ROUND(P15,1)+ROUND(P18,1)+ROUND(P24,1)+P27-ROUND(F15,1) -> 0 | I12: ｔ | T12: ｔ | AN12: ｔ
F14: ※１ | G14: 自社の他事業場からの搬入量 | P14: ③ | Q14: 自ら直接埋立処分又は海洋投入処分した量 | AH14: ※3 | AI14: 自ら中間処理した後自社の他事業場での処理量
I15: ｔ | T15: ｔ | AN15: ｔ | AS15: （目的別内訳）
P16: =+IF(Y18=0,"",IF(Y18-P18=Y18,"エラー！：⑥残さ物量があるのに、④自ら中間処理した量がゼロになっています","")) | AS16: 再生利用前委託量 | AV16: ｔ
P17: ④ | Q17: 自ら中間処理した量 | Y17: ⑥ | Z17: 自ら中間処理した後の残さ量 | AE17: ｂ残さ物の委託処理 | AH17: ｂ | AI17: 自ら中間処理した後の処理委託量 | AO17: ｂ-1 中間処理委託量 | AS17: 最終処分前 委託量 | AV17: ｔ
T18: ｔ | Y18: =+ROUND(AH9,1)+ROUND(AH12,1)+ROUND(AH15,1)+AH18 -> 0 | AB18: ｔ | AH18: =+ROUND(AO18,1)+ROUND(AO21,1) -> 0 | AL18: ｔ | AO18: =+ROUND(AU16,1)+ROUND(AU17,1)+ROUND(AU18,1) -> 0 | AP18: ｔ | AS18: 下水等放流前委託量 | AV18: ｔ
AW19: （第2面）
P20: ⑤ | Q20: ④のうち熱回収を行った量 | Y20: ⑦ | Z20: 自ら中間処理により減量した量 | AO20: ｂ-2 最終処分委託量
B21: 注）右上のフローには、令和７年度の実績値を記載してください。下表の中央列には、令和７年度目標値を記載してください。下表の右列は、右上フローに記載された令和７年度実績値が自動的に計算されます。 | T21: ｔ | Y21: =+P18-Y18 -> 0 | AB21: ｔ | AP21: ｔ
P22: =+IF(P21=0,"",IF(P18<P21,"エラー !：④の内数である⑤の量が④を超えています",""))
B23: 項 目 | D23: 令和７年度 目標値 | H23: 令和７年度 実績値 | P23: ※２ | Q23: 自社の他事業場での処理量 | AS23: ⑫ | AT23: ⑩のうち再生利用業者への処理委託量
B24: ① 排出量 | D24: 0 | G24: t | H24: =+F12 -> 0 | J24: t | T24: ｔ | AS24: =+ROUND(AU16,1)+ROUND(AA28,1) -> 0 | AV24: ｔ
B25: ②＋⑧ 自ら再生利用を行った量 | D25: 0 | G25: t | H25: =+P12+AH9 -> 0 | J25: t
B26: ⑤ 自ら熱回収を行った量 | D26: 0 | G26: t | H26: =+P21 -> 0 | J26: t | M26: Ｂ 直接委託処理 | P26: Ｂ | Q26: 直接処理委託量 | AL26: ⑩ | AM26: 直接及び自ら中間処理した後の処理委託量 | AS26: ⑬ | AT26: ⑩のうち認定熱回収業者への処理委託量
B27: ⑦ 自ら中間処理により減量した量 | D27: 0 | G27: t | H27: =+Y21 -> 0 | J27: t | P27: =+R30+ROUND(R33,1) -> 0 | T27: ｔ | Y27: （目的別内訳） | AL27: =+AH18+P27 -> 0 | AP27: ｔ | AV27: ｔ
B28: ③＋⑨ 自ら埋立処分又は海洋投入処分を行った量 | D28: 0 | G28: t | H28: =+P15+AH12 -> 0 | J28: t | Y28: 再生利用前委託量 | AF28: ｔ | AS28: =+IF(AS27=0,"",IF(AL27<(AS24+AS27+AS31),"エラー !：⑩の内数である（⑫+⑬＋⑭）の量が⑩を超えています",""))
B29: ⑩ 全処理委託量 | D29: 0 | G29: t | H29: =+AL27 -> 0 | J29: t | R29: B-1 | S29: 中間処理委託量 | Y29: 最終処分前委託量 | AF29: ｔ | AL29: ⑪ | AM29: ⑩のうち優良認定処理業者への処理委託量 | AS29: ⑭ | AT29: ⑩のうち認定熱回収業者以外の熱回収を行う業者への処理委託量
B30: ⑪ 優良認定処理業者への処理委託量 | D30: 0 | G30: t | H30: =+AL30 -> 0 | J30: t | R30: =+ROUND(AA28,1)+ROUND(AA29,1)+ROUND(AA30,1) -> 0 | V30: ｔ | Y30: 下水等放流前委託量 | AF30: ｔ | AP30: ｔ
B31: ⑫ 再生利用業者への処理委託量 | D31: 0 | G31: t | H31: =+AS24 -> 0 | J31: t | AA31: 【産業廃棄物の種類 （ア～ト）】 | AL31: =+IF(AL30=0,"",IF(AL27<AL30,"エラー !：⑩の内数である⑪の量が⑩を超えています","")) | AV31: ｔ
B32: ⑬ 認定熱回収業者への処理委託量 | D32: 0 | G32: t | H32: =+AS27 -> 0 | J32: t | R32: B-2 | S32: 最終処分委託量 | AA32: ｱ. 燃え殻 ｲ. 汚泥 ｳ. 廃油 ｴ. 廃酸 ｵ. 廃アルカリ ｶ. 廃ﾌﾟﾗｽﾁｯｸ類 ｷ. 紙くず | AF32: ｸ. 木くず ｹ. 繊維くず ｺ. 動植物性残さ ｻ. 動物系固形不要物 ｼ. ゴムくず ｽ. 金属くず ｾ. ｶﾞﾗｽ・ｺﾝｸﾘｰﾄ・陶磁器くず | AL32: ｿ. 鉱さい ﾀ. がれき類 ﾁ. 動物のふん尿 ﾂ. 動物の死体 ﾃ. ばいじん ト. 混合廃棄物その他 | AS32: =+IF(AS31=0,"",IF(AL27<(AS24+AS27+AS31),"エラー !：⑩の内数である（⑫+⑬＋⑭）の量が⑩を超えています",""))
B33: ⑭ 認定熱回収業者以外の熱回収を行う業者への処理委託量 | D33: 0 | G33: t | H33: =+AS31 -> 0 | J33: t | V33: ｔ
C34: =+IF(D30=0,"",IF(D29<D30,"エラー !：上の表は、⑩の内数である⑪の量が⑩を超えています",""))
C35: =+IF(D31=0,"",IF(D29<D31,"エラー !：上の表は、⑩の内数である⑫の量が⑩を超えています",""))
C36: =+IF(D32=0,"",IF(D29<D32,"エラー !：上の表は、⑩の内数である⑬の量が⑩を超えています",""))
C37: =+IF(D33=0,"",IF(D29<D33,"エラー !：上の表は、⑩の内数である⑭の量が⑩を超えています",""))

Sheet ｶ.廃ﾌﾟﾗ類
S1: ↓ | T1: 注意：本年度の目標量のみでフロー図の実績データがない場合にも、本年度目標データを該当欄に入力してください
B2: 産業廃棄物処理計画実施状況報告書
AP3: ３－２ | AS3: 法定 | AU3: 自主
AS4: =+表紙!N28 -> ○ | AU4: =+表紙!O28
B5: 別紙処理フロー | Z5: 事業場名称 | AE5: ： | AF5: =+表紙!F47 -> 株式会社ダイセキ環境ソリューション 横浜恵比須リサイクルセンター
B6: 令和７年度に発生した産業廃棄物ごとの量と処理計画の実施結果 | AR6: =IF(SUM(AU7:AU10)>AH9,"下の表は、⑧の内数であるア～エの量が⑧を超えています","")
B7: フローに記載した産業廃棄物の種類 | D7: カ. 廃ﾌﾟﾗｽﾁｯｸ類 | AR7: ア マテリアル | AV7: t
B8: ※ | C8: 本用紙は廃棄物の種類ごとに1枚の記載となります。異なる廃棄物の処理フローは別シートに記載してください。 | AH8: ⑧ | AI8: 自ら中間処理した後再生利用した量 | AR8: イ ケミカル | AV8: t
B9: （単位：t/年） | F9: 有償物量 | AE9: ａ残さ物の自己処理 | AN9: ｔ | AR9: ウ 燃料化 | AV9: t
AR10: エ その他 | AV10: t
C11: 不要物等発生量 | F11: ① | G11: 当該事業場における排出量 | M11: Ａ 自己処理 | P11: ② | Q11: 自ら直接再生利用した量 | AH11: ⑨ | AI11: 自ら中間処理した後自ら埋立処分又は海洋投入処分した量
F12: =+ROUND(P12,1)+ROUND(P15,1)+ROUND(P18,1)+ROUND(P24,1)+P27-ROUND(F15,1) -> 171 | I12: ｔ | T12: ｔ | AN12: ｔ | AS12: （目的別内訳）
AS13: 再生利用前委託量 | AV13: ｔ
F14: ※１ | G14: 自社の他事業場からの搬入量 | P14: ③ | Q14: 自ら直接埋立処分又は海洋投入処分した量 | AH14: ※3 | AI14: 自ら中間処理した後自社の他事業場での処理量 | AS14: 最終処分前 委託量 | AV14: ｔ
I15: ｔ | T15: ｔ | AN15: ｔ | AS15: 下水等放流前委託量 | AV15: ｔ
P16: =+IF(Y18=0,"",IF(Y18-P18=Y18,"エラー！：⑥残さ物量があるのに、④自ら中間処理した量がゼロになっています",""))
P17: ④ | Q17: 自ら中間処理した量 | Y17: ⑥ | Z17: 自ら中間処理した後の残さ量 | AE17: ｂ残さ物の委託処理 | AH17: ｂ | AI17: 自ら中間処理した後の処理委託量 | AO17: ｂ-1 中間処理委託量 | AS17: =IF(SUM(AU18:AU21)>AS24,"下の表は、⑫の内数であるア～エの量が⑫を超えています","")
T18: ｔ | Y18: =+ROUND(AH9,1)+ROUND(AH12,1)+ROUND(AH15,1)+AH18 -> 0 | AB18: ｔ | AH18: =+ROUND(AO18,1)+ROUND(AO21,1) -> 0 | AL18: ｔ | AO18: =+ROUND(AU13,1)+ROUND(AU14,1)+ROUND(AU15,1) -> 0 | AP18: ｔ | AR18: ア マテリアル | AV18: t
AR19: イ ケミカル | AV19: t | AX19: （第2面）
P20: ⑤ | Q20: ④のうち熱回収を行った量 | Y20: ⑦ | Z20: 自ら中間処理により減量した量 | AO20: ｂ-2 最終処分委託量 | AR20: ウ 燃料化 | AV20: t
B21: 注）右上のフローには、令和７年度の実績値を記載してください。下表の中央列には、令和７年度目標値を記載してください。下表の右列は、右上フローに記載された令和７年度実績値が自動的に計算されます。 | T21: ｔ | Y21: =+P18-Y18 -> 0 | AB21: ｔ | AP21: ｔ | AR21: エ その他 | AV21: t
P22: =+IF(P21=0,"",IF(P18<P21,"エラー !：④の内数である⑤の量が④を超えています",""))
B23: 項 目 | D23: 令和７年度 目標値 | H23: 令和７年度 実績値 | P23: ※２ | Q23: 自社の他事業場での処理量 | AS23: ⑫ | AT23: ⑩のうち再生利用業者への処理委託量
B24: ① 排出量 | D24: 529.7 | G24: t | H24: =+F12 -> 171 | J24: t | T24: ｔ | AS24: =+ROUND(AU13,1)+ROUND(AA28,1) -> 0 | AV24: ｔ
B25: ②＋⑧ 自ら再生利用を行った量 | D25: 0 | G25: t | H25: =+P12+AH9 -> 0 | J25: t
B26: ⑤ 自ら熱回収を行った量 | D26: 0 | G26: t | H26: =+P21 -> 0 | J26: t | M26: Ｂ 直接委託処理 | P26: Ｂ | Q26: 直接処理委託量 | AL26: ⑩ | AM26: 直接及び自ら中間処理した後の処理委託量 | AS26: ⑬ | AT26: ⑩のうち認定熱回収業者への処理委託量
B27: ⑦ 自ら中間処理により減量した量 | D27: 0 | G27: t | H27: =+Y21 -> 0 | J27: t | P27: =+R30+ROUND(R33,1) -> 171 | T27: ｔ | Y27: （目的別内訳） | AL27: =+AH18+P27 -> 171 | AP27: ｔ | AV27: ｔ
B28: ③＋⑨ 自ら埋立処分又は海洋投入処分を行った量 | D28: 0 | G28: t | H28: =+P15+AH12 -> 0 | J28: t | Y28: 再生利用前委託量 | AF28: ｔ | AS28: =+IF(AS27=0,"",IF(AL27<(AS24+AS27+AS31),"エラー !：⑩の内数である（⑫+⑬＋⑭）の量が⑩を超えています",""))
B29: ⑩ 全処理委託量 | D29: 529.7 | G29: t | H29: =+AL27 -> 171 | J29: t | R29: B-1 | S29: 中間処理委託量 | Y29: 最終処分前委託量 | AA29: 171 | AF29: ｔ | AL29: ⑪ | AM29: ⑩のうち優良認定処理業者への処理委託量 | AS29: ⑭ | AT29: ⑩のうち認定熱回収業者以外の熱回収を行う業者への処理委託量
B30: ⑪ 優良認定処理業者への処理委託量 | D30: 264.9 | G30: t | H30: =+AL30 -> 0 | J30: t | R30: =+ROUND(AA28,1)+ROUND(AA29,1)+ROUND(AA30,1) -> 171 | V30: ｔ | Y30: 下水等放流前委託量 | AF30: ｔ | AP30: ｔ
B31: ⑫ 再生利用業者への処理委託量 | D31: 529.7 | G31: t | H31: =+AS24 -> 0 | J31: t | AA31: 【産業廃棄物の種類 （ア～ト）】 | AL31: =+IF(AL30=0,"",IF(AL27<AL30,"エラー !：⑩の内数である⑪の量が⑩を超えています","")) | AV31: ｔ
B32: ⑬ 認定熱回収業者への処理委託量 | D32: 0 | G32: t | H32: =+AS27 -> 0 | J32: t | R32: B-2 | S32: 最終処分委託量 | AA32: ｱ. 燃え殻 ｲ. 汚泥 ｳ. 廃油 ｴ. 廃酸 ｵ. 廃アルカリ ｶ. 廃ﾌﾟﾗｽﾁｯｸ類 ｷ. 紙くず | AF32: ｸ. 木くず ｹ. 繊維くず ｺ. 動植物性残さ ｻ. 動物系固形不要物 ｼ. ゴムくず ｽ. 金属くず ｾ. ｶﾞﾗｽ・ｺﾝｸﾘｰﾄ・陶磁器くず | AL32: ｿ. 鉱さい ﾀ. がれき類 ﾁ. 動物のふん尿 ﾂ. 動物の死体 ﾃ. ばいじん ト. 混合廃棄物その他 | AS32: =+IF(AS31=0,"",IF(AL27<(AS24+AS27+AS31),"エラー !：⑩の内数である（⑫+⑬＋⑭）の量が⑩を超えています",""))
B33: ⑭ 認定熱回収業者以外の熱回収を行う業者への処理委託量 | D33: 0 | G33: t | H33: =+AS31 -> 0 | J33: t | V33: ｔ
B35: 参考
B36: 排出量等のうち有効利用の割合 | H36: =IF(SUM(F12,F15)>0,SUM(P12,P21,AH9,AS24,AS27,AS31)/SUM(F12,F15)*100,"") -> 0 | J36: ％
C37: （内訳）サーマルリカバリーの割合 | H37: =IF(SUM(F12,F15)>0,SUM(P21,AS27,AS31,AU9,AU20)/SUM(F12,F15)*100,"") -> 0 | J37: ％
C39: =+IF(D30=0,"",IF(D29<D30,"エラー !：上の表は、⑩の内数である⑪の量が⑩を超えています",""))
C40: =+IF(D31=0,"",IF(D29<D31,"エラー !：上の表は、⑩の内数である⑫の量が⑩を超えています",""))
C41: =+IF(D32=0,"",IF(D29<D32,"エラー !：上の表は、⑩の内数である⑬の量が⑩を超えています",""))
C42: =+IF(D33=0,"",IF(D29<D33,"エラー !：上の表は、⑩の内数である⑭の量が⑩を超えています",""))

Sheet ｵ.廃ｱﾙｶﾘ
S1: ↓ | T1: 注意：本年度の目標量のみでフロー図の実績データがない場合にも、本年度目標データを該当欄に入力してください
B2: 産業廃棄物処理計画実施状況報告書
AP3: ３－２ | AS3: 法定 | AU3: 自主
AS4: =+表紙!N28 -> ○ | AU4: =+表紙!O28
B5: 別紙処理フロー | Z5: 事業場名称 | AE5: ： | AF5: =+表紙!F47 -> 株式会社ダイセキ環境ソリューション 横浜恵比須リサイクルセンター
B6: 令和７年度に発生した産業廃棄物ごとの量と処理計画の実施結果
B7: フローに記載した産業廃棄物の種類 | D7: オ. 廃アルカリ
B8: ※ | C8: 本用紙は廃棄物の種類ごとに1枚の記載となります。異なる廃棄物の処理フローは別シートに記載してください。 | AH8: ⑧ | AI8: 自ら中間処理した後再生利用した量
B9: （単位：t/年） | F9: 有償物量 | AE9: ａ残さ物の自己処理 | AN9: ｔ
C11: 不要物等発生量 | F11: ① | G11: 当該事業場における排出量 | M11: Ａ 自己処理 | P11: ② | Q11: 自ら直接再生利用した量 | AH11: ⑨ | AI11: 自ら中間処理した後自ら埋立処分又は海洋投入処分した量
F12: =+ROUND(P12,1)+ROUND(P15,1)+ROUND(P18,1)+ROUND(P24,1)+P27-ROUND(F15,1) -> 0 | I12: ｔ | T12: ｔ | AN12: ｔ
F14: ※１ | G14: 自社の他事業場からの搬入量 | P14: ③ | Q14: 自ら直接埋立処分又は海洋投入処分した量 | AH14: ※3 | AI14: 自ら中間処理した後自社の他事業場での処理量
I15: ｔ | T15: ｔ | AN15: ｔ | AS15: （目的別内訳）
P16: =+IF(Y18=0,"",IF(Y18-P18=Y18,"エラー！：⑥残さ物量があるのに、④自ら中間処理した量がゼロになっています","")) | AS16: 再生利用前委託量 | AV16: ｔ
P17: ④ | Q17: 自ら中間処理した量 | Y17: ⑥ | Z17: 自ら中間処理した後の残さ量 | AE17: ｂ残さ物の委託処理 | AH17: ｂ | AI17: 自ら中間処理した後の処理委託量 | AO17: ｂ-1 中間処理委託量 | AS17: 最終処分前 委託量 | AV17: ｔ
T18: ｔ | Y18: =+ROUND(AH9,1)+ROUND(AH12,1)+ROUND(AH15,1)+AH18 -> 0 | AB18: ｔ | AH18: =+ROUND(AO18,1)+ROUND(AO21,1) -> 0 | AL18: ｔ | AO18: =+ROUND(AU16,1)+ROUND(AU17,1)+ROUND(AU18,1) -> 0 | AP18: ｔ | AS18: 下水等放流前委託量 | AV18: ｔ
AW19: （第2面）
P20: ⑤ | Q20: ④のうち熱回収を行った量 | Y20: ⑦ | Z20: 自ら中間処理により減量した量 | AO20: ｂ-2 最終処分委託量
B21: 注）右上のフローには、令和７年度の実績値を記載してください。下表の中央列には、令和７年度目標値を記載してください。下表の右列は、右上フローに記載された令和７年度実績値が自動的に計算されます。 | T21: ｔ | Y21: =+P18-Y18 -> 0 | AB21: ｔ | AP21: ｔ
P22: =+IF(P21=0,"",IF(P18<P21,"エラー !：④の内数である⑤の量が④を超えています",""))
B23: 項 目 | D23: 令和７年度 目標値 | H23: 令和７年度 実績値 | P23: ※２ | Q23: 自社の他事業場での処理量 | AS23: ⑫ | AT23: ⑩のうち再生利用業者への処理委託量
B24: ① 排出量 | D24: 0 | G24: t | H24: =+F12 -> 0 | J24: t | T24: ｔ | AS24: =+ROUND(AU16,1)+ROUND(AA28,1) -> 0 | AV24: ｔ
B25: ②＋⑧ 自ら再生利用を行った量 | D25: 0 | G25: t | H25: =+P12+AH9 -> 0 | J25: t
B26: ⑤ 自ら熱回収を行った量 | D26: 0 | G26: t | H26: =+P21 -> 0 | J26: t | M26: Ｂ 直接委託処理 | P26: Ｂ | Q26: 直接処理委託量 | AL26: ⑩ | AM26: 直接及び自ら中間処理した後の処理委託量 | AS26: ⑬ | AT26: ⑩のうち認定熱回収業者への処理委託量
B27: ⑦ 自ら中間処理により減量した量 | D27: 0 | G27: t | H27: =+Y21 -> 0 | J27: t | P27: =+R30+ROUND(R33,1) -> 0 | T27: ｔ | Y27: （目的別内訳） | AL27: =+AH18+P27 -> 0 | AP27: ｔ | AV27: ｔ
B28: ③＋⑨ 自ら埋立処分又は海洋投入処分を行った量 | D28: 0 | G28: t | H28: =+P15+AH12 -> 0 | J28: t | Y28: 再生利用前委託量 | AF28: ｔ | AS28: =+IF(AS27=0,"",IF(AL27<(AS24+AS27+AS31),"エラー !：⑩の内数である（⑫+⑬＋⑭）の量が⑩を超えています",""))
B29: ⑩ 全処理委託量 | D29: 0 | G29: t | H29: =+AL27 -> 0 | J29: t | R29: B-1 | S29: 中間処理委託量 | Y29: 最終処分前委託量 | AF29: ｔ | AL29: ⑪ | AM29: ⑩のうち優良認定処理業者への処理委託量 | AS29: ⑭ | AT29: ⑩のうち認定熱回収業者以外の熱回収を行う業者への処理委託量
B30: ⑪ 優良認定処理業者への処理委託量 | D30: 0 | G30: t | H30: =+AL30 -> 0 | J30: t | R30: =+ROUND(AA28,1)+ROUND(AA29,1)+ROUND(AA30,1) -> 0 | V30: ｔ | Y30: 下水等放流前委託量 | AF30: ｔ | AP30: ｔ
B31: ⑫ 再生利用業者への処理委託量 | D31: 0 | G31: t | H31: =+AS24 -> 0 | J31: t | AA31: 【産業廃棄物の種類 （ア～ト）】 | AL31: =+IF(AL30=0,"",IF(AL27<AL30,"エラー !：⑩の内数である⑪の量が⑩を超えています","")) | AV31: ｔ
B32: ⑬ 認定熱回収業者への処理委託量 | D32: 0 | G32: t | H32: =+AS27 -> 0 | J32: t | R32: B-2 | S32: 最終処分委託量 | AA32: ｱ. 燃え殻 ｲ. 汚泥 ｳ. 廃油 ｴ. 廃酸 ｵ. 廃アルカリ ｶ. 廃ﾌﾟﾗｽﾁｯｸ類 ｷ. 紙くず | AF32: ｸ. 木くず ｹ. 繊維くず ｺ. 動植物性残さ ｻ. 動物系固形不要物 ｼ. ゴムくず ｽ. 金属くず ｾ. ｶﾞﾗｽ・ｺﾝｸﾘｰﾄ・陶磁器くず | AL32: ｿ. 鉱さい ﾀ. がれき類 ﾁ. 動物のふん尿 ﾂ. 動物の死体 ﾃ. ばいじん ト. 混合廃棄物その他 | AS32: =+IF(AS31=0,"",IF(AL27<(AS24+AS27+AS31),"エラー !：⑩の内数である（⑫+⑬＋⑭）の量が⑩を超えています",""))
B33: ⑭ 認定熱回収業者以外の熱回収を行う業者への処理委託量 | D33: 0 | G33: t | H33: =+AS31 -> 0 | J33: t | V33: ｔ
C34: =+IF(D30=0,"",IF(D29<D30,"エラー !：上の表は、⑩の内数である⑪の量が⑩を超えています",""))
C35: =+IF(D31=0,"",IF(D29<D31,"エラー !：上の表は、⑩の内数である⑫の量が⑩を超えています",""))
C36: =+IF(D32=0,"",IF(D29<D32,"エラー !：上の表は、⑩の内数である⑬の量が⑩を超えています",""))
C37: =+IF(D33=0,"",IF(D29<D33,"エラー !：上の表は、⑩の内数である⑭の量が⑩を超えています",""))

Sheet ｷ.紙くず
S1: ↓ | T1: 注意：本年度の目標量のみでフロー図の実績データがない場合にも、本年度目標データを該当欄に入力してください
B2: 産業廃棄物処理計画実施状況報告書
AP3: ３－２ | AS3: 法定 | AU3: 自主
AS4: =+表紙!N28 -> ○ | AU4: =+表紙!O28
B5: 別紙処理フロー | Z5: 事業場名称 | AE5: ： | AF5: =+表紙!F47 -> 株式会社ダイセキ環境ソリューション 横浜恵比須リサイクルセンター
B6: 令和７年度に発生した産業廃棄物ごとの量と処理計画の実施結果
B7: フローに記載した産業廃棄物の種類 | D7: キ. 紙くず | M7: 「紙くず」には業種指定があり、該当業種以外では一般廃棄物となり、報告対象外です。 【該当業種】パルプ、紙又は紙加工品の製造業、新聞業（新聞巻取紙を使用して印刷発行を行うもの）、出版業（印刷出版を行うもの）、製本業、印刷物加工業、建設業（工作物の新築､改築､除去に伴って生じたもの）
B8: ※ | C8: 本用紙は廃棄物の種類ごとに1枚の記載となります。異なる廃棄物の処理フローは別シートに記載してください。 | AH8: ⑧ | AI8: 自ら中間処理した後再生利用した量
B9: （単位：t/年） | F9: 有償物量 | AE9: ａ残さ物の自己処理 | AN9: ｔ
C11: 不要物等発生量 | F11: ① | G11: 当該事業場における排出量 | M11: Ａ 自己処理 | P11: ② | Q11: 自ら直接再生利用した量 | AH11: ⑨ | AI11: 自ら中間処理した後自ら埋立処分又は海洋投入処分した量
F12: =+ROUND(P12,1)+ROUND(P15,1)+ROUND(P18,1)+ROUND(P24,1)+P27-ROUND(F15,1) -> 0 | I12: ｔ | T12: ｔ | AN12: ｔ
F14: ※１ | G14: 自社の他事業場からの搬入量 | P14: ③ | Q14: 自ら直接埋立処分又は海洋投入処分した量 | AH14: ※3 | AI14: 自ら中間処理した後自社の他事業場での処理量
I15: ｔ | T15: ｔ | AN15: ｔ | AS15: （目的別内訳）
P16: =+IF(Y18=0,"",IF(Y18-P18=Y18,"エラー！：⑥残さ物量があるのに、④自ら中間処理した量がゼロになっています","")) | AS16: 再生利用前委託量 | AV16: ｔ
P17: ④ | Q17: 自ら中間処理した量 | Y17: ⑥ | Z17: 自ら中間処理した後の残さ量 | AE17: ｂ残さ物の委託処理 | AH17: ｂ | AI17: 自ら中間処理した後の処理委託量 | AO17: ｂ-1 中間処理委託量 | AS17: 最終処分前 委託量 | AV17: ｔ
T18: ｔ | Y18: =+ROUND(AH9,1)+ROUND(AH12,1)+ROUND(AH15,1)+AH18 -> 0 | AB18: ｔ | AH18: =+ROUND(AO18,1)+ROUND(AO21,1) -> 0 | AL18: ｔ | AO18: =+ROUND(AU16,1)+ROUND(AU17,1)+ROUND(AU18,1) -> 0 | AP18: ｔ | AS18: 下水等放流前委託量 | AV18: ｔ
AW19: （第2面）
P20: ⑤ | Q20: ④のうち熱回収を行った量 | Y20: ⑦ | Z20: 自ら中間処理により減量した量 | AO20: ｂ-2 最終処分委託量
B21: 注）右上のフローには、令和７年度の実績値を記載してください。下表の中央列には、令和７年度目標値を記載してください。下表の右列は、右上フローに記載された令和７年度実績値が自動的に計算されます。 | T21: ｔ | Y21: =+P18-Y18 -> 0 | AB21: ｔ | AP21: ｔ
P22: =+IF(P21=0,"",IF(P18<P21,"エラー !：④の内数である⑤の量が④を超えています",""))
B23: 項 目 | D23: 令和７年度 目標値 | H23: 令和７年度 実績値 | P23: ※２ | Q23: 自社の他事業場での処理量 | AS23: ⑫ | AT23: ⑩のうち再生利用業者への処理委託量
B24: ① 排出量 | D24: 0 | G24: t | H24: =+F12 -> 0 | J24: t | T24: ｔ | AS24: =+ROUND(AU16,1)+ROUND(AA28,1) -> 0 | AV24: ｔ
B25: ②＋⑧ 自ら再生利用を行った量 | D25: 0 | G25: t | H25: =+P12+AH9 -> 0 | J25: t
B26: ⑤ 自ら熱回収を行った量 | D26: 0 | G26: t | H26: =+P21 -> 0 | J26: t | M26: Ｂ 直接委託処理 | P26: Ｂ | Q26: 直接処理委託量 | AL26: ⑩ | AM26: 直接及び自ら中間処理した後の処理委託量 | AS26: ⑬ | AT26: ⑩のうち認定熱回収業者への処理委託量
B27: ⑦ 自ら中間処理により減量した量 | D27: 0 | G27: t | H27: =+Y21 -> 0 | J27: t | P27: =+R30+ROUND(R33,1) -> 0 | T27: ｔ | Y27: （目的別内訳） | AL27: =+AH18+P27 -> 0 | AP27: ｔ | AV27: ｔ
B28: ③＋⑨ 自ら埋立処分又は海洋投入処分を行った量 | D28: 0 | G28: t | H28: =+P15+AH12 -> 0 | J28: t | Y28: 再生利用前委託量 | AF28: ｔ | AS28: =+IF(AS27=0,"",IF(AL27<(AS24+AS27+AS31),"エラー !：⑩の内数である（⑫+⑬＋⑭）の量が⑩を超えています",""))
B29: ⑩ 全処理委託量 | D29: 0 | G29: t | H29: =+AL27 -> 0 | J29: t | R29: B-1 | S29: 中間処理委託量 | Y29: 最終処分前委託量 | AF29: ｔ | AL29: ⑪ | AM29: ⑩のうち優良認定処理業者への処理委託量 | AS29: ⑭ | AT29: ⑩のうち認定熱回収業者以外の熱回収を行う業者への処理委託量
B30: ⑪ 優良認定処理業者への処理委託量 | D30: 0 | G30: t | H30: =+AL30 -> 0 | J30: t | R30: =+ROUND(AA28,1)+ROUND(AA29,1)+ROUND(AA30,1) -> 0 | V30: ｔ | Y30: 下水等放流前委託量 | AF30: ｔ | AP30: ｔ
B31: ⑫ 再生利用業者への処理委託量 | D31: 0 | G31: t | H31: =+AS24 -> 0 | J31: t | AA31: 【産業廃棄物の種類 （ア～ト）】 | AL31: =+IF(AL30=0,"",IF(AL27<AL30,"エラー !：⑩の内数である⑪の量が⑩を超えています","")) | AV31: ｔ
B32: ⑬ 認定熱回収業者への処理委託量 | D32: 0 | G32: t | H32: =+AS27 -> 0 | J32: t | R32: B-2 | S32: 最終処分委託量 | AA32: ｱ. 燃え殻 ｲ. 汚泥 ｳ. 廃油 ｴ. 廃酸 ｵ. 廃アルカリ ｶ. 廃ﾌﾟﾗｽﾁｯｸ類 ｷ. 紙くず | AF32: ｸ. 木くず ｹ. 繊維くず ｺ. 動植物性残さ ｻ. 動物系固形不要物 ｼ. ゴムくず ｽ. 金属くず ｾ. ｶﾞﾗｽ・ｺﾝｸﾘｰﾄ・陶磁器くず | AL32: ｿ. 鉱さい ﾀ. がれき類 ﾁ. 動物のふん尿 ﾂ. 動物の死体 ﾃ. ばいじん ト. 混合廃棄物その他 | AS32: =+IF(AS31=0,"",IF(AL27<(AS24+AS27+AS31),"エラー !：⑩の内数である（⑫+⑬＋⑭）の量が⑩を超えています",""))
B33: ⑭ 認定熱回収業者以外の熱回収を行う業者への処理委託量 | D33: 0 | G33: t | H33: =+AS31 -> 0 | J33: t | V33: ｔ
C34: =+IF(D30=0,"",IF(D29<D30,"エラー !：上の表は、⑩の内数である⑪の量が⑩を超えています",""))
C35: =+IF(D31=0,"",IF(D29<D31,"エラー !：上の表は、⑩の内数である⑫の量が⑩を超えています",""))
C36: =+IF(D32=0,"",IF(D29<D32,"エラー !：上の表は、⑩の内数である⑬の量が⑩を超えています",""))
C37: =+IF(D33=0,"",IF(D29<D33,"エラー !：上の表は、⑩の内数である⑭の量が⑩を超えています",""))

Sheet ｸ.木くず
S1: ↓ | T1: 注意：本年度の目標量のみでフロー図の実績データがない場合にも、本年度目標データを該当欄に入力してください
B2: 産業廃棄物処理計画実施状況報告書
AP3: ３－２ | AS3: 法定 | AU3: 自主
AS4: =+表紙!N28 -> ○ | AU4: =+表紙!O28
B5: 別紙処理フロー | Z5: 事業場名称 | AE5: ： | AF5: =+表紙!F47 -> 株式会社ダイセキ環境ソリューション 横浜恵比須リサイクルセンター
B6: 令和７年度に発生した産業廃棄物ごとの量と処理計画の実施結果
B7: フローに記載した産業廃棄物の種類 | D7: ク. 木くず | M7: 「木くず」には業種指定等があり、該当業種以外では一般廃棄物となり、報告対象外です。 【該当業種】木材又は木製品の製造業（家具製造業を含む）、パルプ製造業、輸入木材の卸売業及び物品賃貸業に係るもの、建設業（工作物の新築､改築､除去に伴って生じたもの）。 【全業種対象】貨物の流通のために使用したパレット（パレットへの貨物の積付けのために使用したこん包用の木材を含む。）
B8: ※ | C8: 本用紙は廃棄物の種類ごとに1枚の記載となります。異なる廃棄物の処理フローは別シートに記載してください。 | AH8: ⑧ | AI8: 自ら中間処理した後再生利用した量
B9: （単位：t/年） | F9: 有償物量 | AE9: ａ残さ物の自己処理 | AN9: ｔ
C11: 不要物等発生量 | F11: ① | G11: 当該事業場における排出量 | M11: Ａ 自己処理 | P11: ② | Q11: 自ら直接再生利用した量 | AH11: ⑨ | AI11: 自ら中間処理した後自ら埋立処分又は海洋投入処分した量
F12: =+ROUND(P12,1)+ROUND(P15,1)+ROUND(P18,1)+ROUND(P24,1)+P27-ROUND(F15,1) -> 0 | I12: ｔ | T12: ｔ | AN12: ｔ
F14: ※１ | G14: 自社の他事業場からの搬入量 | P14: ③ | Q14: 自ら直接埋立処分又は海洋投入処分した量 | AH14: ※3 | AI14: 自ら中間処理した後自社の他事業場での処理量
I15: ｔ | T15: ｔ | AN15: ｔ | AS15: （目的別内訳）
P16: =+IF(Y18=0,"",IF(Y18-P18=Y18,"エラー！：⑥残さ物量があるのに、④自ら中間処理した量がゼロになっています","")) | AS16: 再生利用前委託量 | AV16: ｔ
P17: ④ | Q17: 自ら中間処理した量 | Y17: ⑥ | Z17: 自ら中間処理した後の残さ量 | AE17: ｂ残さ物の委託処理 | AH17: ｂ | AI17: 自ら中間処理した後の処理委託量 | AO17: ｂ-1 中間処理委託量 | AS17: 最終処分前 委託量 | AV17: ｔ
T18: ｔ | Y18: =+ROUND(AH9,1)+ROUND(AH12,1)+ROUND(AH15,1)+AH18 -> 0 | AB18: ｔ | AH18: =+ROUND(AO18,1)+ROUND(AO21,1) -> 0 | AL18: ｔ | AO18: =+ROUND(AU16,1)+ROUND(AU17,1)+ROUND(AU18,1) -> 0 | AP18: ｔ | AS18: 下水等放流前委託量 | AV18: ｔ
AW19: （第2面）
P20: ⑤ | Q20: ④のうち熱回収を行った量 | Y20: ⑦ | Z20: 自ら中間処理により減量した量 | AO20: ｂ-2 最終処分委託量
B21: 注）右上のフローには、令和７年度の実績値を記載してください。下表の中央列には、令和７年度目標値を記載してください。下表の右列は、右上フローに記載された令和７年度実績値が自動的に計算されます。 | T21: ｔ | Y21: =+P18-Y18 -> 0 | AB21: ｔ | AP21: ｔ
P22: =+IF(P21=0,"",IF(P18<P21,"エラー !：④の内数である⑤の量が④を超えています",""))
B23: 項 目 | D23: 令和７年度 目標値 | H23: 令和７年度 実績値 | P23: ※２ | Q23: 自社の他事業場での処理量 | AS23: ⑫ | AT23: ⑩のうち再生利用業者への処理委託量
B24: ① 排出量 | D24: 0 | G24: t | H24: =+F12 -> 0 | J24: t | T24: ｔ | AS24: =+ROUND(AU16,1)+ROUND(AA28,1) -> 0 | AV24: ｔ
B25: ②＋⑧ 自ら再生利用を行った量 | D25: 0 | G25: t | H25: =+P12+AH9 -> 0 | J25: t
B26: ⑤ 自ら熱回収を行った量 | D26: 0 | G26: t | H26: =+P21 -> 0 | J26: t | M26: Ｂ 直接委託処理 | P26: Ｂ | Q26: 直接処理委託量 | AL26: ⑩ | AM26: 直接及び自ら中間処理した後の処理委託量 | AS26: ⑬ | AT26: ⑩のうち認定熱回収業者への処理委託量
B27: ⑦ 自ら中間処理により減量した量 | D27: 0 | G27: t | H27: =+Y21 -> 0 | J27: t | P27: =+R30+ROUND(R33,1) -> 0 | T27: ｔ | Y27: （目的別内訳） | AL27: =+AH18+P27 -> 0 | AP27: ｔ | AV27: ｔ
B28: ③＋⑨ 自ら埋立処分又は海洋投入処分を行った量 | D28: 0 | G28: t | H28: =+P15+AH12 -> 0 | J28: t | Y28: 再生利用前委託量 | AF28: ｔ | AS28: =+IF(AS27=0,"",IF(AL27<(AS24+AS27+AS31),"エラー !：⑩の内数である（⑫+⑬＋⑭）の量が⑩を超えています",""))
B29: ⑩ 全処理委託量 | D29: 0 | G29: t | H29: =+AL27 -> 0 | J29: t | R29: B-1 | S29: 中間処理委託量 | Y29: 最終処分前委託量 | AF29: ｔ | AL29: ⑪ | AM29: ⑩のうち優良認定処理業者への処理委託量 | AS29: ⑭ | AT29: ⑩のうち認定熱回収業者以外の熱回収を行う業者への処理委託量
B30: ⑪ 優良認定処理業者への処理委託量 | D30: 0 | G30: t | H30: =+AL30 -> 0 | J30: t | R30: =+ROUND(AA28,1)+ROUND(AA29,1)+ROUND(AA30,1) -> 0 | V30: ｔ | Y30: 下水等放流前委託量 | AF30: ｔ | AP30: ｔ
B31: ⑫ 再生利用業者への処理委託量 | D31: 0 | G31: t | H31: =+AS24 -> 0 | J31: t | AA31: 【産業廃棄物の種類 （ア～ト）】 | AL31: =+IF(AL30=0,"",IF(AL27<AL30,"エラー !：⑩の内数である⑪の量が⑩を超えています","")) | AV31: ｔ
B32: ⑬ 認定熱回収業者への処理委託量 | D32: 0 | G32: t | H32: =+AS27 -> 0 | J32: t | R32: B-2 | S32: 最終処分委託量 | AA32: ｱ. 燃え殻 ｲ. 汚泥 ｳ. 廃油 ｴ. 廃酸 ｵ. 廃アルカリ ｶ. 廃ﾌﾟﾗｽﾁｯｸ類 ｷ. 紙くず | AF32: ｸ. 木くず ｹ. 繊維くず ｺ. 動植物性残さ ｻ. 動物系固形不要物 ｼ. ゴムくず ｽ. 金属くず ｾ. ｶﾞﾗｽ・ｺﾝｸﾘｰﾄ・陶磁器くず | AL32: ｿ. 鉱さい ﾀ. がれき類 ﾁ. 動物のふん尿 ﾂ. 動物の死体 ﾃ. ばいじん ト. 混合廃棄物その他 | AS32: =+IF(AS31=0,"",IF(AL27<(AS24+AS27+AS31),"エラー !：⑩の内数である（⑫+⑬＋⑭）の量が⑩を超えています",""))
B33: ⑭ 認定熱回収業者以外の熱回収を行う業者への処理委託量 | D33: 0 | G33: t | H33: =+AS31 -> 0 | J33: t | V33: ｔ
C34: =+IF(D30=0,"",IF(D29<D30,"エラー !：上の表は、⑩の内数である⑪の量が⑩を超えています",""))
C35: =+IF(D31=0,"",IF(D29<D31,"エラー !：上の表は、⑩の内数である⑫の量が⑩を超えています",""))
C36: =+IF(D32=0,"",IF(D29<D32,"エラー !：上の表は、⑩の内数である⑬の量が⑩を超えています",""))
C37: =+IF(D33=0,"",IF(D29<D33,"エラー !：上の表は、⑩の内数である⑭の量が⑩を超えています",""))

Sheet ｹ.繊維くず
S1: ↓ | T1: 注意：本年度の目標量のみでフロー図の実績データがない場合にも、本年度目標データを該当欄に入力してください
B2: 産業廃棄物処理計画実施状況報告書
AP3: ３－２ | AS3: 法定 | AU3: 自主
AS4: =+表紙!N28 -> ○ | AU4: =+表紙!O28
B5: 別紙処理フロー | Z5: 事業場名称 | AE5: ： | AF5: =+表紙!F47 -> 株式会社ダイセキ環境ソリューション 横浜恵比須リサイクルセンター
B6: 令和７年度に発生した産業廃棄物ごとの量と処理計画の実施結果
B7: フローに記載した産業廃棄物の種類 | D7: ケ. 繊維くず | M7: 「繊維くず」には業種指定があり、該当業種以外では一般廃棄物となり、報告対象外です。 【該当業種】繊維工業（衣服その他の繊維製品製造業を除く）、建設業（工作物の新築､改築､除去に伴って生じたもの）
B8: ※ | C8: 本用紙は廃棄物の種類ごとに1枚の記載となります。異なる廃棄物の処理フローは別シートに記載してください。 | AH8: ⑧ | AI8: 自ら中間処理した後再生利用した量
B9: （単位：t/年） | F9: 有償物量 | AE9: ａ残さ物の自己処理 | AN9: ｔ
C11: 不要物等発生量 | F11: ① | G11: 当該事業場における排出量 | M11: Ａ 自己処理 | P11: ② | Q11: 自ら直接再生利用した量 | AH11: ⑨ | AI11: 自ら中間処理した後自ら埋立処分又は海洋投入処分した量
F12: =+ROUND(P12,1)+ROUND(P15,1)+ROUND(P18,1)+ROUND(P24,1)+P27-ROUND(F15,1) -> 0 | I12: ｔ | T12: ｔ | AN12: ｔ
F14: ※１ | G14: 自社の他事業場からの搬入量 | P14: ③ | Q14: 自ら直接埋立処分又は海洋投入処分した量 | AH14: ※3 | AI14: 自ら中間処理した後自社の他事業場での処理量
I15: ｔ | T15: ｔ | AN15: ｔ | AS15: （目的別内訳）
P16: =+IF(Y18=0,"",IF(Y18-P18=Y18,"エラー！：⑥残さ物量があるのに、④自ら中間処理した量がゼロになっています","")) | AS16: 再生利用前委託量 | AV16: ｔ
P17: ④ | Q17: 自ら中間処理した量 | Y17: ⑥ | Z17: 自ら中間処理した後の残さ量 | AE17: ｂ残さ物の委託処理 | AH17: ｂ | AI17: 自ら中間処理した後の処理委託量 | AO17: ｂ-1 中間処理委託量 | AS17: 最終処分前 委託量 | AV17: ｔ
T18: ｔ | Y18: =+ROUND(AH9,1)+ROUND(AH12,1)+ROUND(AH15,1)+AH18 -> 0 | AB18: ｔ | AH18: =+ROUND(AO18,1)+ROUND(AO21,1) -> 0 | AL18: ｔ | AO18: =+ROUND(AU16,1)+ROUND(AU17,1)+ROUND(AU18,1) -> 0 | AP18: ｔ | AS18: 下水等放流前委託量 | AV18: ｔ
AW19: （第2面）
P20: ⑤ | Q20: ④のうち熱回収を行った量 | Y20: ⑦ | Z20: 自ら中間処理により減量した量 | AO20: ｂ-2 最終処分委託量
B21: 注）右上のフローには、令和７年度の実績値を記載してください。下表の中央列には、令和７年度目標値を記載してください。下表の右列は、右上フローに記載された令和７年度実績値が自動的に計算されます。 | T21: ｔ | Y21: =+P18-Y18 -> 0 | AB21: ｔ | AP21: ｔ
P22: =+IF(P21=0,"",IF(P18<P21,"エラー !：④の内数である⑤の量が④を超えています",""))
B23: 項 目 | D23: 令和７年度 目標値 | H23: 令和７年度 実績値 | P23: ※２ | Q23: 自社の他事業場での処理量 | AS23: ⑫ | AT23: ⑩のうち再生利用業者への処理委託量
B24: ① 排出量 | D24: 0 | G24: t | H24: =+F12 -> 0 | J24: t | T24: ｔ | AS24: =+ROUND(AU16,1)+ROUND(AA28,1) -> 0 | AV24: ｔ
B25: ②＋⑧ 自ら再生利用を行った量 | D25: 0 | G25: t | H25: =+P12+AH9 -> 0 | J25: t
B26: ⑤ 自ら熱回収を行った量 | D26: 0 | G26: t | H26: =+P21 -> 0 | J26: t | M26: Ｂ 直接委託処理 | P26: Ｂ | Q26: 直接処理委託量 | AL26: ⑩ | AM26: 直接及び自ら中間処理した後の処理委託量 | AS26: ⑬ | AT26: ⑩のうち認定熱回収業者への処理委託量
B27: ⑦ 自ら中間処理により減量した量 | D27: 0 | G27: t | H27: =+Y21 -> 0 | J27: t | P27: =+R30+ROUND(R33,1) -> 0 | T27: ｔ | Y27: （目的別内訳） | AL27: =+AH18+P27 -> 0 | AP27: ｔ | AV27: ｔ
B28: ③＋⑨ 自ら埋立処分又は海洋投入処分を行った量 | D28: 0 | G28: t | H28: =+P15+AH12 -> 0 | J28: t | Y28: 再生利用前委託量 | AF28: ｔ | AS28: =+IF(AS27=0,"",IF(AL27<(AS24+AS27+AS31),"エラー !：⑩の内数である（⑫+⑬＋⑭）の量が⑩を超えています",""))
B29: ⑩ 全処理委託量 | D29: 0 | G29: t | H29: =+AL27 -> 0 | J29: t | R29: B-1 | S29: 中間処理委託量 | Y29: 最終処分前委託量 | AF29: ｔ | AL29: ⑪ | AM29: ⑩のうち優良認定処理業者への処理委託量 | AS29: ⑭ | AT29: ⑩のうち認定熱回収業者以外の熱回収を行う業者への処理委託量
B30: ⑪ 優良認定処理業者への処理委託量 | D30: 0 | G30: t | H30: =+AL30 -> 0 | J30: t | R30: =+ROUND(AA28,1)+ROUND(AA29,1)+ROUND(AA30,1) -> 0 | V30: ｔ | Y30: 下水等放流前委託量 | AF30: ｔ | AP30: ｔ
B31: ⑫ 再生利用業者への処理委託量 | D31: 0 | G31: t | H31: =+AS24 -> 0 | J31: t | AA31: 【産業廃棄物の種類 （ア～ト）】 | AL31: =+IF(AL30=0,"",IF(AL27<AL30,"エラー !：⑩の内数である⑪の量が⑩を超えています","")) | AV31: ｔ
B32: ⑬ 認定熱回収業者への処理委託量 | D32: 0 | G32: t | H32: =+AS27 -> 0 | J32: t | R32: B-2 | S32: 最終処分委託量 | AA32: ｱ. 燃え殻 ｲ. 汚泥 ｳ. 廃油 ｴ. 廃酸 ｵ. 廃アルカリ ｶ. 廃ﾌﾟﾗｽﾁｯｸ類 ｷ. 紙くず | AF32: ｸ. 木くず ｹ. 繊維くず ｺ. 動植物性残さ ｻ. 動物系固形不要物 ｼ. ゴムくず ｽ. 金属くず ｾ. ｶﾞﾗｽ・ｺﾝｸﾘｰﾄ・陶磁器くず | AL32: ｿ. 鉱さい ﾀ. がれき類 ﾁ. 動物のふん尿 ﾂ. 動物の死体 ﾃ. ばいじん ト. 混合廃棄物その他 | AS32: =+IF(AS31=0,"",IF(AL27<(AS24+AS27+AS31),"エラー !：⑩の内数である（⑫+⑬＋⑭）の量が⑩を超えています",""))
B33: ⑭ 認定熱回収業者以外の熱回収を行う業者への処理委託量 | D33: 0 | G33: t | H33: =+AS31 -> 0 | J33: t | V33: ｔ
C34: =+IF(D30=0,"",IF(D29<D30,"エラー !：上の表は、⑩の内数である⑪の量が⑩を超えています",""))
C35: =+IF(D31=0,"",IF(D29<D31,"エラー !：上の表は、⑩の内数である⑫の量が⑩を超えています",""))
C36: =+IF(D32=0,"",IF(D29<D32,"エラー !：上の表は、⑩の内数である⑬の量が⑩を超えています",""))
C37: =+IF(D33=0,"",IF(D29<D33,"エラー !：上の表は、⑩の内数である⑭の量が⑩を超えています",""))

Sheet ｺ.動植物性残さ
S1: ↓ | T1: 注意：本年度の目標量のみでフロー図の実績データがない場合にも、本年度目標データを該当欄に入力してください
B2: 産業廃棄物処理計画実施状況報告書
AP3: ３－２ | AS3: 法定 | AU3: 自主
AS4: =+表紙!N28 -> ○ | AU4: =+表紙!O28
B5: 別紙処理フロー | Z5: 事業場名称 | AE5: ： | AF5: =+表紙!F47 -> 株式会社ダイセキ環境ソリューション 横浜恵比須リサイクルセンター
B6: 令和７年度に発生した産業廃棄物ごとの量と処理計画の実施結果
B7: フローに記載した産業廃棄物の種類 | D7: コ. 動植物性残さ | M7: 「動植物性残さ」には業種指定があり、該当業種以外では一般廃棄物となり、報告対象外です。 【該当業種】食料品製造業、医薬品製造業、香料製造業において原料として使用した動物又は植物の固形状の不要物
B8: ※ | C8: 本用紙は廃棄物の種類ごとに1枚の記載となります。異なる廃棄物の処理フローは別シートに記載してください。 | AH8: ⑧ | AI8: 自ら中間処理した後再生利用した量
B9: （単位：t/年） | F9: 有償物量 | AE9: ａ残さ物の自己処理 | AN9: ｔ
C11: 不要物等発生量 | F11: ① | G11: 当該事業場における排出量 | M11: Ａ 自己処理 | P11: ② | Q11: 自ら直接再生利用した量 | AH11: ⑨ | AI11: 自ら中間処理した後自ら埋立処分又は海洋投入処分した量
F12: =+ROUND(P12,1)+ROUND(P15,1)+ROUND(P18,1)+ROUND(P24,1)+P27-ROUND(F15,1) -> 0 | I12: ｔ | T12: ｔ | AN12: ｔ
F14: ※１ | G14: 自社の他事業場からの搬入量 | P14: ③ | Q14: 自ら直接埋立処分又は海洋投入処分した量 | AH14: ※3 | AI14: 自ら中間処理した後自社の他事業場での処理量
I15: ｔ | T15: ｔ | AN15: ｔ | AS15: （目的別内訳）
P16: =+IF(Y18=0,"",IF(Y18-P18=Y18,"エラー！：⑥残さ物量があるのに、④自ら中間処理した量がゼロになっています","")) | AS16: 再生利用前委託量 | AV16: ｔ
P17: ④ | Q17: 自ら中間処理した量 | Y17: ⑥ | Z17: 自ら中間処理した後の残さ量 | AE17: ｂ残さ物の委託処理 | AH17: ｂ | AI17: 自ら中間処理した後の処理委託量 | AO17: ｂ-1 中間処理委託量 | AS17: 最終処分前 委託量 | AV17: ｔ
T18: ｔ | Y18: =+ROUND(AH9,1)+ROUND(AH12,1)+ROUND(AH15,1)+AH18 -> 0 | AB18: ｔ | AH18: =+ROUND(AO18,1)+ROUND(AO21,1) -> 0 | AL18: ｔ | AO18: =+ROUND(AU16,1)+ROUND(AU17,1)+ROUND(AU18,1) -> 0 | AP18: ｔ | AS18: 下水等放流前委託量 | AV18: ｔ
AW19: （第2面）
P20: ⑤ | Q20: ④のうち熱回収を行った量 | Y20: ⑦ | Z20: 自ら中間処理により減量した量 | AO20: ｂ-2 最終処分委託量
B21: 注）右上のフローには、令和７年度の実績値を記載してください。下表の中央列には、令和７年度目標値を記載してください。下表の右列は、右上フローに記載された令和７年度実績値が自動的に計算されます。 | T21: ｔ | Y21: =+P18-Y18 -> 0 | AB21: ｔ | AP21: ｔ
P22: =+IF(P21=0,"",IF(P18<P21,"エラー !：④の内数である⑤の量が④を超えています",""))
B23: 項 目 | D23: 令和７年度 目標値 | H23: 令和７年度 実績値 | P23: ※２ | Q23: 自社の他事業場での処理量 | AS23: ⑫ | AT23: ⑩のうち再生利用業者への処理委託量
B24: ① 排出量 | D24: 0 | G24: t | H24: =+F12 -> 0 | J24: t | T24: ｔ | AS24: =+ROUND(AU16,1)+ROUND(AA28,1) -> 0 | AV24: ｔ
B25: ②＋⑧ 自ら再生利用を行った量 | D25: 0 | G25: t | H25: =+P12+AH9 -> 0 | J25: t
B26: ⑤ 自ら熱回収を行った量 | D26: 0 | G26: t | H26: =+P21 -> 0 | J26: t | M26: Ｂ 直接委託処理 | P26: Ｂ | Q26: 直接処理委託量 | AL26: ⑩ | AM26: 直接及び自ら中間処理した後の処理委託量 | AS26: ⑬ | AT26: ⑩のうち認定熱回収業者への処理委託量
B27: ⑦ 自ら中間処理により減量した量 | D27: 0 | G27: t | H27: =+Y21 -> 0 | J27: t | P27: =+R30+ROUND(R33,1) -> 0 | T27: ｔ | Y27: （目的別内訳） | AL27: =+AH18+P27 -> 0 | AP27: ｔ | AV27: ｔ
B28: ③＋⑨ 自ら埋立処分又は海洋投入処分を行った量 | D28: 0 | G28: t | H28: =+P15+AH12 -> 0 | J28: t | Y28: 再生利用前委託量 | AF28: ｔ | AS28: =+IF(AS27=0,"",IF(AL27<(AS24+AS27+AS31),"エラー !：⑩の内数である（⑫+⑬＋⑭）の量が⑩を超えています",""))
B29: ⑩ 全処理委託量 | D29: 0 | G29: t | H29: =+AL27 -> 0 | J29: t | R29: B-1 | S29: 中間処理委託量 | Y29: 最終処分前委託量 | AF29: ｔ | AL29: ⑪ | AM29: ⑩のうち優良認定処理業者への処理委託量 | AS29: ⑭ | AT29: ⑩のうち認定熱回収業者以外の熱回収を行う業者への処理委託量
B30: ⑪ 優良認定処理業者への処理委託量 | D30: 0 | G30: t | H30: =+AL30 -> 0 | J30: t | R30: =+ROUND(AA28,1)+ROUND(AA29,1)+ROUND(AA30,1) -> 0 | V30: ｔ | Y30: 下水等放流前委託量 | AF30: ｔ | AP30: ｔ
B31: ⑫ 再生利用業者への処理委託量 | D31: 0 | G31: t | H31: =+AS24 -> 0 | J31: t | AA31: 【産業廃棄物の種類 （ア～ト）】 | AL31: =+IF(AL30=0,"",IF(AL27<AL30,"エラー !：⑩の内数である⑪の量が⑩を超えています","")) | AV31: ｔ
B32: ⑬ 認定熱回収業者への処理委託量 | D32: 0 | G32: t | H32: =+AS27 -> 0 | J32: t | R32: B-2 | S32: 最終処分委託量 | AA32: ｱ. 燃え殻 ｲ. 汚泥 ｳ. 廃油 ｴ. 廃酸 ｵ. 廃アルカリ ｶ. 廃ﾌﾟﾗｽﾁｯｸ類 ｷ. 紙くず | AF32: ｸ. 木くず ｹ. 繊維くず ｺ. 動植物性残さ ｻ. 動物系固形不要物 ｼ. ゴムくず ｽ. 金属くず ｾ. ｶﾞﾗｽ・ｺﾝｸﾘｰﾄ・陶磁器くず | AL32: ｿ. 鉱さい ﾀ. がれき類 ﾁ. 動物のふん尿 ﾂ. 動物の死体 ﾃ. ばいじん ト. 混合廃棄物その他 | AS32: =+IF(AS31=0,"",IF(AL27<(AS24+AS27+AS31),"エラー !：⑩の内数である（⑫+⑬＋⑭）の量が⑩を超えています",""))
B33: ⑭ 認定熱回収業者以外の熱回収を行う業者への処理委託量 | D33: 0 | G33: t | H33: =+AS31 -> 0 | J33: t | V33: ｔ
C34: =+IF(D30=0,"",IF(D29<D30,"エラー !：上の表は、⑩の内数である⑪の量が⑩を超えています",""))
C35: =+IF(D31=0,"",IF(D29<D31,"エラー !：上の表は、⑩の内数である⑫の量が⑩を超えています",""))
C36: =+IF(D32=0,"",IF(D29<D32,"エラー !：上の表は、⑩の内数である⑬の量が⑩を超えています",""))
C37: =+IF(D33=0,"",IF(D29<D33,"エラー !：上の表は、⑩の内数である⑭の量が⑩を超えています",""))

Sheet ｻ.動物系固形不要物
S1: ↓ | T1: 注意：本年度の目標量のみでフロー図の実績データがない場合にも、本年度目標データを該当欄に入力してください
B2: 産業廃棄物処理計画実施状況報告書
AP3: ３－２ | AS3: 法定 | AU3: 自主
AS4: =+表紙!N28 -> ○ | AU4: =+表紙!O28
B5: 別紙処理フロー | Z5: 事業場名称 | AE5: ： | AF5: =+表紙!F47 -> 株式会社ダイセキ環境ソリューション 横浜恵比須リサイクルセンター
B6: 令和７年度に発生した産業廃棄物ごとの量と処理計画の実施結果
B7: フローに記載した産業廃棄物の種類 | D7: サ. 動物系固形不要物 | M7: 「動物系固形不要物」には業種指定があり、該当業種以外では一般廃棄物となり、報告対象外です。 【該当業種】と畜場においてとさつし、又は解体した獣畜及び食鳥処理場において食鳥処理をした食鳥に係る固形状の不要物
B8: ※ | C8: 本用紙は廃棄物の種類ごとに1枚の記載となります。異なる廃棄物の処理フローは別シートに記載してください。 | AH8: ⑧ | AI8: 自ら中間処理した後再生利用した量
B9: （単位：t/年） | F9: 有償物量 | AE9: ａ残さ物の自己処理 | AN9: ｔ
C11: 不要物等発生量 | F11: ① | G11: 当該事業場における排出量 | M11: Ａ 自己処理 | P11: ② | Q11: 自ら直接再生利用した量 | AH11: ⑨ | AI11: 自ら中間処理した後自ら埋立処分又は海洋投入処分した量
F12: =+ROUND(P12,1)+ROUND(P15,1)+ROUND(P18,1)+ROUND(P24,1)+P27-ROUND(F15,1) -> 0 | I12: ｔ | T12: ｔ | AN12: ｔ
F14: ※１ | G14: 自社の他事業場からの搬入量 | P14: ③ | Q14: 自ら直接埋立処分又は海洋投入処分した量 | AH14: ※3 | AI14: 自ら中間処理した後自社の他事業場での処理量
I15: ｔ | T15: ｔ | AN15: ｔ | AS15: （目的別内訳）
P16: =+IF(Y18=0,"",IF(Y18-P18=Y18,"エラー！：⑥残さ物量があるのに、④自ら中間処理した量がゼロになっています","")) | AS16: 再生利用前委託量 | AV16: ｔ
P17: ④ | Q17: 自ら中間処理した量 | Y17: ⑥ | Z17: 自ら中間処理した後の残さ量 | AE17: ｂ残さ物の委託処理 | AH17: ｂ | AI17: 自ら中間処理した後の処理委託量 | AO17: ｂ-1 中間処理委託量 | AS17: 最終処分前 委託量 | AV17: ｔ
T18: ｔ | Y18: =+ROUND(AH9,1)+ROUND(AH12,1)+ROUND(AH15,1)+AH18 -> 0 | AB18: ｔ | AH18: =+ROUND(AO18,1)+ROUND(AO21,1) -> 0 | AL18: ｔ | AO18: =+ROUND(AU16,1)+ROUND(AU17,1)+ROUND(AU18,1) -> 0 | AP18: ｔ | AS18: 下水等放流前委託量 | AV18: ｔ
AW19: （第2面）
P20: ⑤ | Q20: ④のうち熱回収を行った量 | Y20: ⑦ | Z20: 自ら中間処理により減量した量 | AO20: ｂ-2 最終処分委託量
B21: 注）右上のフローには、令和７年度の実績値を記載してください。下表の中央列には、令和７年度目標値を記載してください。下表の右列は、右上フローに記載された令和７年度実績値が自動的に計算されます。 | T21: ｔ | Y21: =+P18-Y18 -> 0 | AB21: ｔ | AP21: ｔ
P22: =+IF(P21=0,"",IF(P18<P21,"エラー !：④の内数である⑤の量が④を超えています",""))
B23: 項 目 | D23: 令和７年度 目標値 | H23: 令和７年度 実績値 | P23: ※２ | Q23: 自社の他事業場での処理量 | AS23: ⑫ | AT23: ⑩のうち再生利用業者への処理委託量
B24: ① 排出量 | D24: 0 | G24: t | H24: =+F12 -> 0 | J24: t | T24: ｔ | AS24: =+ROUND(AU16,1)+ROUND(AA28,1) -> 0 | AV24: ｔ
B25: ②＋⑧ 自ら再生利用を行った量 | D25: 0 | G25: t | H25: =+P12+AH9 -> 0 | J25: t
B26: ⑤ 自ら熱回収を行った量 | D26: 0 | G26: t | H26: =+P21 -> 0 | J26: t | M26: Ｂ 直接委託処理 | P26: Ｂ | Q26: 直接処理委託量 | AL26: ⑩ | AM26: 直接及び自ら中間処理した後の処理委託量 | AS26: ⑬ | AT26: ⑩のうち認定熱回収業者への処理委託量
B27: ⑦ 自ら中間処理により減量した量 | D27: 0 | G27: t | H27: =+Y21 -> 0 | J27: t | P27: =+R30+ROUND(R33,1) -> 0 | T27: ｔ | Y27: （目的別内訳） | AL27: =+AH18+P27 -> 0 | AP27: ｔ | AV27: ｔ
B28: ③＋⑨ 自ら埋立処分又は海洋投入処分を行った量 | D28: 0 | G28: t | H28: =+P15+AH12 -> 0 | J28: t | Y28: 再生利用前委託量 | AF28: ｔ | AS28: =+IF(AS27=0,"",IF(AL27<(AS24+AS27+AS31),"エラー !：⑩の内数である（⑫+⑬＋⑭）の量が⑩を超えています",""))
B29: ⑩ 全処理委託量 | D29: 0 | G29: t | H29: =+AL27 -> 0 | J29: t | R29: B-1 | S29: 中間処理委託量 | Y29: 最終処分前委託量 | AF29: ｔ | AL29: ⑪ | AM29: ⑩のうち優良認定処理業者への処理委託量 | AS29: ⑭ | AT29: ⑩のうち認定熱回収業者以外の熱回収を行う業者への処理委託量
B30: ⑪ 優良認定処理業者への処理委託量 | D30: 0 | G30: t | H30: =+AL30 -> 0 | J30: t | R30: =+ROUND(AA28,1)+ROUND(AA29,1)+ROUND(AA30,1) -> 0 | V30: ｔ | Y30: 下水等放流前委託量 | AF30: ｔ | AP30: ｔ
B31: ⑫ 再生利用業者への処理委託量 | D31: 0 | G31: t | H31: =+AS24 -> 0 | J31: t | AA31: 【産業廃棄物の種類 （ア～ト）】 | AL31: =+IF(AL30=0,"",IF(AL27<AL30,"エラー !：⑩の内数である⑪の量が⑩を超えています","")) | AV31: ｔ
B32: ⑬ 認定熱回収業者への処理委託量 | D32: 0 | G32: t | H32: =+AS27 -> 0 | J32: t | R32: B-2 | S32: 最終処分委託量 | AA32: ｱ. 燃え殻 ｲ. 汚泥 ｳ. 廃油 ｴ. 廃酸 ｵ. 廃アルカリ ｶ. 廃ﾌﾟﾗｽﾁｯｸ類 ｷ. 紙くず | AF32: ｸ. 木くず ｹ. 繊維くず ｺ. 動植物性残さ ｻ. 動物系固形不要物 ｼ. ゴムくず ｽ. 金属くず ｾ. ｶﾞﾗｽ・ｺﾝｸﾘｰﾄ・陶磁器くず | AL32: ｿ. 鉱さい ﾀ. がれき類 ﾁ. 動物のふん尿 ﾂ. 動物の死体 ﾃ. ばいじん ト. 混合廃棄物その他 | AS32: =+IF(AS31=0,"",IF(AL27<(AS24+AS27+AS31),"エラー !：⑩の内数である（⑫+⑬＋⑭）の量が⑩を超えています",""))
B33: ⑭ 認定熱回収業者以外の熱回収を行う業者への処理委託量 | D33: 0 | G33: t | H33: =+AS31 -> 0 | J33: t | V33: ｔ
C34: =+IF(D30=0,"",IF(D29<D30,"エラー !：上の表は、⑩の内数である⑪の量が⑩を超えています",""))
C35: =+IF(D31=0,"",IF(D29<D31,"エラー !：上の表は、⑩の内数である⑫の量が⑩を超えています",""))
C36: =+IF(D32=0,"",IF(D29<D32,"エラー !：上の表は、⑩の内数である⑬の量が⑩を超えています",""))
C37: =+IF(D33=0,"",IF(D29<D33,"エラー !：上の表は、⑩の内数である⑭の量が⑩を超えています",""))

Sheet ｼ.ｺﾞﾑくず
S1: ↓ | T1: 注意：本年度の目標量のみでフロー図の実績データがない場合にも、本年度目標データを該当欄に入力してください
B2: 産業廃棄物処理計画実施状況報告書
AP3: ３－２ | AS3: 法定 | AU3: 自主
AS4: =+表紙!N28 -> ○ | AU4: =+表紙!O28
B5: 別紙処理フロー | Z5: 事業場名称 | AE5: ： | AF5: =+表紙!F47 -> 株式会社ダイセキ環境ソリューション 横浜恵比須リサイクルセンター
B6: 令和７年度に発生した産業廃棄物ごとの量と処理計画の実施結果
B7: フローに記載した産業廃棄物の種類 | D7: シ. ゴムくず
B8: ※ | C8: 本用紙は廃棄物の種類ごとに1枚の記載となります。異なる廃棄物の処理フローは別シートに記載してください。 | AH8: ⑧ | AI8: 自ら中間処理した後再生利用した量
B9: （単位：t/年） | F9: 有償物量 | AE9: ａ残さ物の自己処理 | AN9: ｔ
C11: 不要物等発生量 | F11: ① | G11: 当該事業場における排出量 | M11: Ａ 自己処理 | P11: ② | Q11: 自ら直接再生利用した量 | AH11: ⑨ | AI11: 自ら中間処理した後自ら埋立処分又は海洋投入処分した量
F12: =+ROUND(P12,1)+ROUND(P15,1)+ROUND(P18,1)+ROUND(P24,1)+P27-ROUND(F15,1) -> 0 | I12: ｔ | T12: ｔ | AN12: ｔ
F14: ※１ | G14: 自社の他事業場からの搬入量 | P14: ③ | Q14: 自ら直接埋立処分又は海洋投入処分した量 | AH14: ※3 | AI14: 自ら中間処理した後自社の他事業場での処理量
I15: ｔ | T15: ｔ | AN15: ｔ | AS15: （目的別内訳）
P16: =+IF(Y18=0,"",IF(Y18-P18=Y18,"エラー！：⑥残さ物量があるのに、④自ら中間処理した量がゼロになっています","")) | AS16: 再生利用前委託量 | AV16: ｔ
P17: ④ | Q17: 自ら中間処理した量 | Y17: ⑥ | Z17: 自ら中間処理した後の残さ量 | AE17: ｂ残さ物の委託処理 | AH17: ｂ | AI17: 自ら中間処理した後の処理委託量 | AO17: ｂ-1 中間処理委託量 | AS17: 最終処分前 委託量 | AV17: ｔ
T18: ｔ | Y18: =+ROUND(AH9,1)+ROUND(AH12,1)+ROUND(AH15,1)+AH18 -> 0 | AB18: ｔ | AH18: =+ROUND(AO18,1)+ROUND(AO21,1) -> 0 | AL18: ｔ | AO18: =+ROUND(AU16,1)+ROUND(AU17,1)+ROUND(AU18,1) -> 0 | AP18: ｔ | AS18: 下水等放流前委託量 | AV18: ｔ
AW19: （第2面）
P20: ⑤ | Q20: ④のうち熱回収を行った量 | Y20: ⑦ | Z20: 自ら中間処理により減量した量 | AO20: ｂ-2 最終処分委託量
B21: 注）右上のフローには、令和７年度の実績値を記載してください。下表の中央列には、令和７年度目標値を記載してください。下表の右列は、右上フローに記載された令和７年度実績値が自動的に計算されます。 | T21: ｔ | Y21: =+P18-Y18 -> 0 | AB21: ｔ | AP21: ｔ
P22: =+IF(P21=0,"",IF(P18<P21,"エラー !：④の内数である⑤の量が④を超えています",""))
B23: 項 目 | D23: 令和７年度 目標値 | H23: 令和７年度 実績値 | P23: ※２ | Q23: 自社の他事業場での処理量 | AS23: ⑫ | AT23: ⑩のうち再生利用業者への処理委託量
B24: ① 排出量 | D24: 0 | G24: t | H24: =+F12 -> 0 | J24: t | T24: ｔ | AS24: =+ROUND(AU16,1)+ROUND(AA28,1) -> 0 | AV24: ｔ
B25: ②＋⑧ 自ら再生利用を行った量 | D25: 0 | G25: t | H25: =+P12+AH9 -> 0 | J25: t
B26: ⑤ 自ら熱回収を行った量 | D26: 0 | G26: t | H26: =+P21 -> 0 | J26: t | M26: Ｂ 直接委託処理 | P26: Ｂ | Q26: 直接処理委託量 | AL26: ⑩ | AM26: 直接及び自ら中間処理した後の処理委託量 | AS26: ⑬ | AT26: ⑩のうち認定熱回収業者への処理委託量
B27: ⑦ 自ら中間処理により減量した量 | D27: 0 | G27: t | H27: =+Y21 -> 0 | J27: t | P27: =+R30+ROUND(R33,1) -> 0 | T27: ｔ | Y27: （目的別内訳） | AL27: =+AH18+P27 -> 0 | AP27: ｔ | AV27: ｔ
B28: ③＋⑨ 自ら埋立処分又は海洋投入処分を行った量 | D28: 0 | G28: t | H28: =+P15+AH12 -> 0 | J28: t | Y28: 再生利用前委託量 | AF28: ｔ | AS28: =+IF(AS27=0,"",IF(AL27<(AS24+AS27+AS31),"エラー !：⑩の内数である（⑫+⑬＋⑭）の量が⑩を超えています",""))
B29: ⑩ 全処理委託量 | D29: 0 | G29: t | H29: =+AL27 -> 0 | J29: t | R29: B-1 | S29: 中間処理委託量 | Y29: 最終処分前委託量 | AF29: ｔ | AL29: ⑪ | AM29: ⑩のうち優良認定処理業者への処理委託量 | AS29: ⑭ | AT29: ⑩のうち認定熱回収業者以外の熱回収を行う業者への処理委託量
B30: ⑪ 優良認定処理業者への処理委託量 | D30: 0 | G30: t | H30: =+AL30 -> 0 | J30: t | R30: =+ROUND(AA28,1)+ROUND(AA29,1)+ROUND(AA30,1) -> 0 | V30: ｔ | Y30: 下水等放流前委託量 | AF30: ｔ | AP30: ｔ
B31: ⑫ 再生利用業者への処理委託量 | D31: 0 | G31: t | H31: =+AS24 -> 0 | J31: t | AA31: 【産業廃棄物の種類 （ア～ト）】 | AL31: =+IF(AL30=0,"",IF(AL27<AL30,"エラー !：⑩の内数である⑪の量が⑩を超えています","")) | AV31: ｔ
B32: ⑬ 認定熱回収業者への処理委託量 | D32: 0 | G32: t | H32: =+AS27 -> 0 | J32: t | R32: B-2 | S32: 最終処分委託量 | AA32: ｱ. 燃え殻 ｲ. 汚泥 ｳ. 廃油 ｴ. 廃酸 ｵ. 廃アルカリ ｶ. 廃ﾌﾟﾗｽﾁｯｸ類 ｷ. 紙くず | AF32: ｸ. 木くず ｹ. 繊維くず ｺ. 動植物性残さ ｻ. 動物系固形不要物 ｼ. ゴムくず ｽ. 金属くず ｾ. ｶﾞﾗｽ・ｺﾝｸﾘｰﾄ・陶磁器くず | AL32: ｿ. 鉱さい ﾀ. がれき類 ﾁ. 動物のふん尿 ﾂ. 動物の死体 ﾃ. ばいじん ト. 混合廃棄物その他 | AS32: =+IF(AS31=0,"",IF(AL27<(AS24+AS27+AS31),"エラー !：⑩の内数である（⑫+⑬＋⑭）の量が⑩を超えています",""))
B33: ⑭ 認定熱回収業者以外の熱回収を行う業者への処理委託量 | D33: 0 | G33: t | H33: =+AS31 -> 0 | J33: t | V33: ｔ
C34: =+IF(D30=0,"",IF(D29<D30,"エラー !：上の表は、⑩の内数である⑪の量が⑩を超えています",""))
C35: =+IF(D31=0,"",IF(D29<D31,"エラー !：上の表は、⑩の内数である⑫の量が⑩を超えています",""))
C36: =+IF(D32=0,"",IF(D29<D32,"エラー !：上の表は、⑩の内数である⑬の量が⑩を超えています",""))
C37: =+IF(D33=0,"",IF(D29<D33,"エラー !：上の表は、⑩の内数である⑭の量が⑩を超えています",""))

Sheet ｽ.金属くず
S1: ↓ | T1: 注意：本年度の目標量のみでフロー図の実績データがない場合にも、本年度目標データを該当欄に入力してください
B2: 産業廃棄物処理計画実施状況報告書
AP3: ３－２ | AS3: 法定 | AU3: 自主
AS4: =+表紙!N28 -> ○ | AU4: =+表紙!O28
B5: 別紙処理フロー | Z5: 事業場名称 | AE5: ： | AF5: =+表紙!F47 -> 株式会社ダイセキ環境ソリューション 横浜恵比須リサイクルセンター
B6: 令和７年度に発生した産業廃棄物ごとの量と処理計画の実施結果
B7: フローに記載した産業廃棄物の種類 | D7: ス. 金属くず
B8: ※ | C8: 本用紙は廃棄物の種類ごとに1枚の記載となります。異なる廃棄物の処理フローは別シートに記載してください。 | AH8: ⑧ | AI8: 自ら中間処理した後再生利用した量
B9: （単位：t/年） | F9: 有償物量 | AE9: ａ残さ物の自己処理 | AN9: ｔ
C11: 不要物等発生量 | F11: ① | G11: 当該事業場における排出量 | M11: Ａ 自己処理 | P11: ② | Q11: 自ら直接再生利用した量 | AH11: ⑨ | AI11: 自ら中間処理した後自ら埋立処分又は海洋投入処分した量
F12: =+ROUND(P12,1)+ROUND(P15,1)+ROUND(P18,1)+ROUND(P24,1)+P27-ROUND(F15,1) -> 0 | I12: ｔ | T12: ｔ | AN12: ｔ
F14: ※１ | G14: 自社の他事業場からの搬入量 | P14: ③ | Q14: 自ら直接埋立処分又は海洋投入処分した量 | AH14: ※3 | AI14: 自ら中間処理した後自社の他事業場での処理量
I15: ｔ | T15: ｔ | AN15: ｔ | AS15: （目的別内訳）
P16: =+IF(Y18=0,"",IF(Y18-P18=Y18,"エラー！：⑥残さ物量があるのに、④自ら中間処理した量がゼロになっています","")) | AS16: 再生利用前委託量 | AV16: ｔ
P17: ④ | Q17: 自ら中間処理した量 | Y17: ⑥ | Z17: 自ら中間処理した後の残さ量 | AE17: ｂ残さ物の委託処理 | AH17: ｂ | AI17: 自ら中間処理した後の処理委託量 | AO17: ｂ-1 中間処理委託量 | AS17: 最終処分前 委託量 | AV17: ｔ
T18: ｔ | Y18: =+ROUND(AH9,1)+ROUND(AH12,1)+ROUND(AH15,1)+AH18 -> 0 | AB18: ｔ | AH18: =+ROUND(AO18,1)+ROUND(AO21,1) -> 0 | AL18: ｔ | AO18: =+ROUND(AU16,1)+ROUND(AU17,1)+ROUND(AU18,1) -> 0 | AP18: ｔ | AS18: 下水等放流前委託量 | AV18: ｔ
AW19: （第2面）
P20: ⑤ | Q20: ④のうち熱回収を行った量 | Y20: ⑦ | Z20: 自ら中間処理により減量した量 | AO20: ｂ-2 最終処分委託量
B21: 注）右上のフローには、令和７年度の実績値を記載してください。下表の中央列には、令和７年度目標値を記載してください。下表の右列は、右上フローに記載された令和７年度実績値が自動的に計算されます。 | T21: ｔ | Y21: =+P18-Y18 -> 0 | AB21: ｔ | AP21: ｔ
P22: =+IF(P21=0,"",IF(P18<P21,"エラー !：④の内数である⑤の量が④を超えています",""))
B23: 項 目 | D23: 令和７年度 目標値 | H23: 令和７年度 実績値 | P23: ※２ | Q23: 自社の他事業場での処理量 | AS23: ⑫ | AT23: ⑩のうち再生利用業者への処理委託量
B24: ① 排出量 | D24: 0 | G24: t | H24: =+F12 -> 0 | J24: t | T24: ｔ | AS24: =+ROUND(AU16,1)+ROUND(AA28,1) -> 0 | AV24: ｔ
B25: ②＋⑧ 自ら再生利用を行った量 | D25: 0 | G25: t | H25: =+P12+AH9 -> 0 | J25: t
B26: ⑤ 自ら熱回収を行った量 | D26: 0 | G26: t | H26: =+P21 -> 0 | J26: t | M26: Ｂ 直接委託処理 | P26: Ｂ | Q26: 直接処理委託量 | AL26: ⑩ | AM26: 直接及び自ら中間処理した後の処理委託量 | AS26: ⑬ | AT26: ⑩のうち認定熱回収業者への処理委託量
B27: ⑦ 自ら中間処理により減量した量 | D27: 0 | G27: t | H27: =+Y21 -> 0 | J27: t | P27: =+R30+ROUND(R33,1) -> 0 | T27: ｔ | Y27: （目的別内訳） | AL27: =+AH18+P27 -> 0 | AP27: ｔ | AV27: ｔ
B28: ③＋⑨ 自ら埋立処分又は海洋投入処分を行った量 | D28: 0 | G28: t | H28: =+P15+AH12 -> 0 | J28: t | Y28: 再生利用前委託量 | AF28: ｔ | AS28: =+IF(AS27=0,"",IF(AL27<(AS24+AS27+AS31),"エラー !：⑩の内数である（⑫+⑬＋⑭）の量が⑩を超えています",""))
B29: ⑩ 全処理委託量 | D29: 0 | G29: t | H29: =+AL27 -> 0 | J29: t | R29: B-1 | S29: 中間処理委託量 | Y29: 最終処分前委託量 | AF29: ｔ | AL29: ⑪ | AM29: ⑩のうち優良認定処理業者への処理委託量 | AS29: ⑭ | AT29: ⑩のうち認定熱回収業者以外の熱回収を行う業者への処理委託量
B30: ⑪ 優良認定処理業者への処理委託量 | D30: 0 | G30: t | H30: =+AL30 -> 0 | J30: t | R30: =+ROUND(AA28,1)+ROUND(AA29,1)+ROUND(AA30,1) -> 0 | V30: ｔ | Y30: 下水等放流前委託量 | AF30: ｔ | AP30: ｔ
B31: ⑫ 再生利用業者への処理委託量 | D31: 0 | G31: t | H31: =+AS24 -> 0 | J31: t | AA31: 【産業廃棄物の種類 （ア～ト）】 | AL31: =+IF(AL30=0,"",IF(AL27<AL30,"エラー !：⑩の内数である⑪の量が⑩を超えています","")) | AV31: ｔ
B32: ⑬ 認定熱回収業者への処理委託量 | D32: 0 | G32: t | H32: =+AS27 -> 0 | J32: t | R32: B-2 | S32: 最終処分委託量 | AA32: ｱ. 燃え殻 ｲ. 汚泥 ｳ. 廃油 ｴ. 廃酸 ｵ. 廃アルカリ ｶ. 廃ﾌﾟﾗｽﾁｯｸ類 ｷ. 紙くず | AF32: ｸ. 木くず ｹ. 繊維くず ｺ. 動植物性残さ ｻ. 動物系固形不要物 ｼ. ゴムくず ｽ. 金属くず ｾ. ｶﾞﾗｽ・ｺﾝｸﾘｰﾄ・陶磁器くず | AL32: ｿ. 鉱さい ﾀ. がれき類 ﾁ. 動物のふん尿 ﾂ. 動物の死体 ﾃ. ばいじん ト. 混合廃棄物その他 | AS32: =+IF(AS31=0,"",IF(AL27<(AS24+AS27+AS31),"エラー !：⑩の内数である（⑫+⑬＋⑭）の量が⑩を超えています",""))
B33: ⑭ 認定熱回収業者以外の熱回収を行う業者への処理委託量 | D33: 0 | G33: t | H33: =+AS31 -> 0 | J33: t | V33: ｔ
C34: =+IF(D30=0,"",IF(D29<D30,"エラー !：上の表は、⑩の内数である⑪の量が⑩を超えています",""))
C35: =+IF(D31=0,"",IF(D29<D31,"エラー !：上の表は、⑩の内数である⑫の量が⑩を超えています",""))
C36: =+IF(D32=0,"",IF(D29<D32,"エラー !：上の表は、⑩の内数である⑬の量が⑩を超えています",""))
C37: =+IF(D33=0,"",IF(D29<D33,"エラー !：上の表は、⑩の内数である⑭の量が⑩を超えています",""))

Sheet ｾ.ｶﾞﾗｽ･ｺﾝｸﾘ･陶磁器くず
S1: ↓ | T1: 注意：本年度の目標量のみでフロー図の実績データがない場合にも、本年度目標データを該当欄に入力してください
B2: 産業廃棄物処理計画実施状況報告書
AP3: ３－２ | AS3: 法定 | AU3: 自主
AS4: =+表紙!N28 -> ○ | AU4: =+表紙!O28
B5: 別紙処理フロー | Z5: 事業場名称 | AE5: ： | AF5: =+表紙!F47 -> 株式会社ダイセキ環境ソリューション 横浜恵比須リサイクルセンター
B6: 令和７年度に発生した産業廃棄物ごとの量と処理計画の実施結果
B7: フローに記載した産業廃棄物の種類 | D7: セ. ｶﾞﾗｽ・ｺﾝｸﾘｰﾄ・陶磁器くず
B8: ※ | C8: 本用紙は廃棄物の種類ごとに1枚の記載となります。異なる廃棄物の処理フローは別シートに記載してください。 | AH8: ⑧ | AI8: 自ら中間処理した後再生利用した量
B9: （単位：t/年） | F9: 有償物量 | AE9: ａ残さ物の自己処理 | AN9: ｔ
C11: 不要物等発生量 | F11: ① | G11: 当該事業場における排出量 | M11: Ａ 自己処理 | P11: ② | Q11: 自ら直接再生利用した量 | AH11: ⑨ | AI11: 自ら中間処理した後自ら埋立処分又は海洋投入処分した量
F12: =+ROUND(P12,1)+ROUND(P15,1)+ROUND(P18,1)+ROUND(P24,1)+P27-ROUND(F15,1) -> 0 | I12: ｔ | T12: ｔ | AN12: ｔ
F14: ※１ | G14: 自社の他事業場からの搬入量 | P14: ③ | Q14: 自ら直接埋立処分又は海洋投入処分した量 | AH14: ※3 | AI14: 自ら中間処理した後自社の他事業場での処理量
I15: ｔ | T15: ｔ | AN15: ｔ | AS15: （目的別内訳）
P16: =+IF(Y18=0,"",IF(Y18-P18=Y18,"エラー！：⑥残さ物量があるのに、④自ら中間処理した量がゼロになっています","")) | AS16: 再生利用前委託量 | AV16: ｔ
P17: ④ | Q17: 自ら中間処理した量 | Y17: ⑥ | Z17: 自ら中間処理した後の残さ量 | AE17: ｂ残さ物の委託処理 | AH17: ｂ | AI17: 自ら中間処理した後の処理委託量 | AO17: ｂ-1 中間処理委託量 | AS17: 最終処分前 委託量 | AV17: ｔ
T18: ｔ | Y18: =+ROUND(AH9,1)+ROUND(AH12,1)+ROUND(AH15,1)+AH18 -> 0 | AB18: ｔ | AH18: =+ROUND(AO18,1)+ROUND(AO21,1) -> 0 | AL18: ｔ | AO18: =+ROUND(AU16,1)+ROUND(AU17,1)+ROUND(AU18,1) -> 0 | AP18: ｔ | AS18: 下水等放流前委託量 | AV18: ｔ
AW19: （第2面）
P20: ⑤ | Q20: ④のうち熱回収を行った量 | Y20: ⑦ | Z20: 自ら中間処理により減量した量 | AO20: ｂ-2 最終処分委託量
B21: 注）右上のフローには、令和７年度の実績値を記載してください。下表の中央列には、令和７年度目標値を記載してください。下表の右列は、右上フローに記載された令和７年度実績値が自動的に計算されます。 | T21: ｔ | Y21: =+P18-Y18 -> 0 | AB21: ｔ | AP21: ｔ
P22: =+IF(P21=0,"",IF(P18<P21,"エラー !：④の内数である⑤の量が④を超えています",""))
B23: 項 目 | D23: 令和７年度 目標値 | H23: 令和７年度 実績値 | P23: ※２ | Q23: 自社の他事業場での処理量 | AS23: ⑫ | AT23: ⑩のうち再生利用業者への処理委託量
B24: ① 排出量 | D24: 0 | G24: t | H24: =+F12 -> 0 | J24: t | T24: ｔ | AS24: =+ROUND(AU16,1)+ROUND(AA28,1) -> 0 | AV24: ｔ
B25: ②＋⑧ 自ら再生利用を行った量 | D25: 0 | G25: t | H25: =+P12+AH9 -> 0 | J25: t
B26: ⑤ 自ら熱回収を行った量 | D26: 0 | G26: t | H26: =+P21 -> 0 | J26: t | M26: Ｂ 直接委託処理 | P26: Ｂ | Q26: 直接処理委託量 | AL26: ⑩ | AM26: 直接及び自ら中間処理した後の処理委託量 | AS26: ⑬ | AT26: ⑩のうち認定熱回収業者への処理委託量
B27: ⑦ 自ら中間処理により減量した量 | D27: 0 | G27: t | H27: =+Y21 -> 0 | J27: t | P27: =+R30+ROUND(R33,1) -> 0 | T27: ｔ | Y27: （目的別内訳） | AL27: =+AH18+P27 -> 0 | AP27: ｔ | AV27: ｔ
B28: ③＋⑨ 自ら埋立処分又は海洋投入処分を行った量 | D28: 0 | G28: t | H28: =+P15+AH12 -> 0 | J28: t | Y28: 再生利用前委託量 | AF28: ｔ | AS28: =+IF(AS27=0,"",IF(AL27<(AS24+AS27+AS31),"エラー !：⑩の内数である（⑫+⑬＋⑭）の量が⑩を超えています",""))
B29: ⑩ 全処理委託量 | D29: 0 | G29: t | H29: =+AL27 -> 0 | J29: t | R29: B-1 | S29: 中間処理委託量 | Y29: 最終処分前委託量 | AF29: ｔ | AL29: ⑪ | AM29: ⑩のうち優良認定処理業者への処理委託量 | AS29: ⑭ | AT29: ⑩のうち認定熱回収業者以外の熱回収を行う業者への処理委託量
B30: ⑪ 優良認定処理業者への処理委託量 | D30: 0 | G30: t | H30: =+AL30 -> 0 | J30: t | R30: =+ROUND(AA28,1)+ROUND(AA29,1)+ROUND(AA30,1) -> 0 | V30: ｔ | Y30: 下水等放流前委託量 | AF30: ｔ | AP30: ｔ
B31: ⑫ 再生利用業者への処理委託量 | D31: 0 | G31: t | H31: =+AS24 -> 0 | J31: t | AA31: 【産業廃棄物の種類 （ア～ト）】 | AL31: =+IF(AL30=0,"",IF(AL27<AL30,"エラー !：⑩の内数である⑪の量が⑩を超えています","")) | AV31: ｔ
B32: ⑬ 認定熱回収業者への処理委託量 | D32: 0 | G32: t | H32: =+AS27 -> 0 | J32: t | R32: B-2 | S32: 最終処分委託量 | AA32: ｱ. 燃え殻 ｲ. 汚泥 ｳ. 廃油 ｴ. 廃酸 ｵ. 廃アルカリ ｶ. 廃ﾌﾟﾗｽﾁｯｸ類 ｷ. 紙くず | AF32: ｸ. 木くず ｹ. 繊維くず ｺ. 動植物性残さ ｻ. 動物系固形不要物 ｼ. ゴムくず ｽ. 金属くず ｾ. ｶﾞﾗｽ・ｺﾝｸﾘｰﾄ・陶磁器くず | AL32: ｿ. 鉱さい ﾀ. がれき類 ﾁ. 動物のふん尿 ﾂ. 動物の死体 ﾃ. ばいじん ト. 混合廃棄物その他 | AS32: =+IF(AS31=0,"",IF(AL27<(AS24+AS27+AS31),"エラー !：⑩の内数である（⑫+⑬＋⑭）の量が⑩を超えています",""))
B33: ⑭ 認定熱回収業者以外の熱回収を行う業者への処理委託量 | D33: 0 | G33: t | H33: =+AS31 -> 0 | J33: t | V33: ｔ
C34: =+IF(D30=0,"",IF(D29<D30,"エラー !：上の表は、⑩の内数である⑪の量が⑩を超えています",""))
C35: =+IF(D31=0,"",IF(D29<D31,"エラー !：上の表は、⑩の内数である⑫の量が⑩を超えています",""))
C36: =+IF(D32=0,"",IF(D29<D32,"エラー !：上の表は、⑩の内数である⑬の量が⑩を超えています",""))
C37: =+IF(D33=0,"",IF(D29<D33,"エラー !：上の表は、⑩の内数である⑭の量が⑩を超えています",""))

Sheet ｿ.鉱さい
S1: ↓ | T1: 注意：本年度の目標量のみでフロー図の実績データがない場合にも、本年度目標データを該当欄に入力してください
B2: 産業廃棄物処理計画実施状況報告書
AP3: ３－２ | AS3: 法定 | AU3: 自主
AS4: =+表紙!N28 -> ○ | AU4: =+表紙!O28
B5: 別紙処理フロー | Z5: 事業場名称 | AE5: ： | AF5: =+表紙!F47 -> 株式会社ダイセキ環境ソリューション 横浜恵比須リサイクルセンター
B6: 令和７年度に発生した産業廃棄物ごとの量と処理計画の実施結果
B7: フローに記載した産業廃棄物の種類 | D7: ソ. 鉱さい
B8: ※ | C8: 本用紙は廃棄物の種類ごとに1枚の記載となります。異なる廃棄物の処理フローは別シートに記載してください。 | AH8: ⑧ | AI8: 自ら中間処理した後再生利用した量
B9: （単位：t/年） | F9: 有償物量 | AE9: ａ残さ物の自己処理 | AN9: ｔ
C11: 不要物等発生量 | F11: ① | G11: 当該事業場における排出量 | M11: Ａ 自己処理 | P11: ② | Q11: 自ら直接再生利用した量 | AH11: ⑨ | AI11: 自ら中間処理した後自ら埋立処分又は海洋投入処分した量
F12: =+ROUND(P12,1)+ROUND(P15,1)+ROUND(P18,1)+ROUND(P24,1)+P27-ROUND(F15,1) -> 0 | I12: ｔ | T12: ｔ | AN12: ｔ
F14: ※１ | G14: 自社の他事業場からの搬入量 | P14: ③ | Q14: 自ら直接埋立処分又は海洋投入処分した量 | AH14: ※3 | AI14: 自ら中間処理した後自社の他事業場での処理量
I15: ｔ | T15: ｔ | AN15: ｔ | AS15: （目的別内訳）
P16: =+IF(Y18=0,"",IF(Y18-P18=Y18,"エラー！：⑥残さ物量があるのに、④自ら中間処理した量がゼロになっています","")) | AS16: 再生利用前委託量 | AV16: ｔ
P17: ④ | Q17: 自ら中間処理した量 | Y17: ⑥ | Z17: 自ら中間処理した後の残さ量 | AE17: ｂ残さ物の委託処理 | AH17: ｂ | AI17: 自ら中間処理した後の処理委託量 | AO17: ｂ-1 中間処理委託量 | AS17: 最終処分前 委託量 | AV17: ｔ
T18: ｔ | Y18: =+ROUND(AH9,1)+ROUND(AH12,1)+ROUND(AH15,1)+AH18 -> 0 | AB18: ｔ | AH18: =+ROUND(AO18,1)+ROUND(AO21,1) -> 0 | AL18: ｔ | AO18: =+ROUND(AU16,1)+ROUND(AU17,1)+ROUND(AU18,1) -> 0 | AP18: ｔ | AS18: 下水等放流前委託量 | AV18: ｔ
AW19: （第2面）
P20: ⑤ | Q20: ④のうち熱回収を行った量 | Y20: ⑦ | Z20: 自ら中間処理により減量した量 | AO20: ｂ-2 最終処分委託量
B21: 注）右上のフローには、令和７年度の実績値を記載してください。下表の中央列には、令和７年度目標値を記載してください。下表の右列は、右上フローに記載された令和７年度実績値が自動的に計算されます。 | T21: ｔ | Y21: =+P18-Y18 -> 0 | AB21: ｔ | AP21: ｔ
P22: =+IF(P21=0,"",IF(P18<P21,"エラー !：④の内数である⑤の量が④を超えています",""))
B23: 項 目 | D23: 令和７年度 目標値 | H23: 令和７年度 実績値 | P23: ※２ | Q23: 自社の他事業場での処理量 | AS23: ⑫ | AT23: ⑩のうち再生利用業者への処理委託量
B24: ① 排出量 | D24: 0 | G24: t | H24: =+F12 -> 0 | J24: t | T24: ｔ | AS24: =+ROUND(AU16,1)+ROUND(AA28,1) -> 0 | AV24: ｔ
B25: ②＋⑧ 自ら再生利用を行った量 | D25: 0 | G25: t | H25: =+P12+AH9 -> 0 | J25: t
B26: ⑤ 自ら熱回収を行った量 | D26: 0 | G26: t | H26: =+P21 -> 0 | J26: t | M26: Ｂ 直接委託処理 | P26: Ｂ | Q26: 直接処理委託量 | AL26: ⑩ | AM26: 直接及び自ら中間処理した後の処理委託量 | AS26: ⑬ | AT26: ⑩のうち認定熱回収業者への処理委託量
B27: ⑦ 自ら中間処理により減量した量 | D27: 0 | G27: t | H27: =+Y21 -> 0 | J27: t | P27: =+R30+ROUND(R33,1) -> 0 | T27: ｔ | Y27: （目的別内訳） | AL27: =+AH18+P27 -> 0 | AP27: ｔ | AV27: ｔ
B28: ③＋⑨ 自ら埋立処分又は海洋投入処分を行った量 | D28: 0 | G28: t | H28: =+P15+AH12 -> 0 | J28: t | Y28: 再生利用前委託量 | AF28: ｔ | AS28: =+IF(AS27=0,"",IF(AL27<(AS24+AS27+AS31),"エラー !：⑩の内数である（⑫+⑬＋⑭）の量が⑩を超えています",""))
B29: ⑩ 全処理委託量 | D29: 0 | G29: t | H29: =+AL27 -> 0 | J29: t | R29: B-1 | S29: 中間処理委託量 | Y29: 最終処分前委託量 | AF29: ｔ | AL29: ⑪ | AM29: ⑩のうち優良認定処理業者への処理委託量 | AS29: ⑭ | AT29: ⑩のうち認定熱回収業者以外の熱回収を行う業者への処理委託量
B30: ⑪ 優良認定処理業者への処理委託量 | D30: 0 | G30: t | H30: =+AL30 -> 0 | J30: t | R30: =+ROUND(AA28,1)+ROUND(AA29,1)+ROUND(AA30,1) -> 0 | V30: ｔ | Y30: 下水等放流前委託量 | AF30: ｔ | AP30: ｔ
B31: ⑫ 再生利用業者への処理委託量 | D31: 0 | G31: t | H31: =+AS24 -> 0 | J31: t | AA31: 【産業廃棄物の種類 （ア～ト）】 | AL31: =+IF(AL30=0,"",IF(AL27<AL30,"エラー !：⑩の内数である⑪の量が⑩を超えています","")) | AV31: ｔ
B32: ⑬ 認定熱回収業者への処理委託量 | D32: 0 | G32: t | H32: =+AS27 -> 0 | J32: t | R32: B-2 | S32: 最終処分委託量 | AA32: ｱ. 燃え殻 ｲ. 汚泥 ｳ. 廃油 ｴ. 廃酸 ｵ. 廃アルカリ ｶ. 廃ﾌﾟﾗｽﾁｯｸ類 ｷ. 紙くず | AF32: ｸ. 木くず ｹ. 繊維くず ｺ. 動植物性残さ ｻ. 動物系固形不要物 ｼ. ゴムくず ｽ. 金属くず ｾ. ｶﾞﾗｽ・ｺﾝｸﾘｰﾄ・陶磁器くず | AL32: ｿ. 鉱さい ﾀ. がれき類 ﾁ. 動物のふん尿 ﾂ. 動物の死体 ﾃ. ばいじん ト. 混合廃棄物その他 | AS32: =+IF(AS31=0,"",IF(AL27<(AS24+AS27+AS31),"エラー !：⑩の内数である（⑫+⑬＋⑭）の量が⑩を超えています",""))
B33: ⑭ 認定熱回収業者以外の熱回収を行う業者への処理委託量 | D33: 0 | G33: t | H33: =+AS31 -> 0 | J33: t | V33: ｔ
C34: =+IF(D30=0,"",IF(D29<D30,"エラー !：上の表は、⑩の内数である⑪の量が⑩を超えています",""))
C35: =+IF(D31=0,"",IF(D29<D31,"エラー !：上の表は、⑩の内数である⑫の量が⑩を超えています",""))
C36: =+IF(D32=0,"",IF(D29<D32,"エラー !：上の表は、⑩の内数である⑬の量が⑩を超えています",""))
C37: =+IF(D33=0,"",IF(D29<D33,"エラー !：上の表は、⑩の内数である⑭の量が⑩を超えています",""))

Sheet ﾀ.がれき類
S1: ↓ | T1: 注意：本年度の目標量のみでフロー図の実績データがない場合にも、本年度目標データを該当欄に入力してください
B2: 産業廃棄物処理計画実施状況報告書
AP3: ３－２ | AS3: 法定 | AU3: 自主
AS4: =+表紙!N28 -> ○ | AU4: =+表紙!O28
B5: 別紙処理フロー | Z5: 事業場名称 | AE5: ： | AF5: =+表紙!F47 -> 株式会社ダイセキ環境ソリューション 横浜恵比須リサイクルセンター
B6: 令和７年度に発生した産業廃棄物ごとの量と処理計画の実施結果
B7: フローに記載した産業廃棄物の種類 | D7: タ. がれき類
B8: ※ | C8: 本用紙は廃棄物の種類ごとに1枚の記載となります。異なる廃棄物の処理フローは別シートに記載してください。 | AH8: ⑧ | AI8: 自ら中間処理した後再生利用した量
B9: （単位：t/年） | F9: 有償物量 | AE9: ａ残さ物の自己処理 | AN9: ｔ
C11: 不要物等発生量 | F11: ① | G11: 当該事業場における排出量 | M11: Ａ 自己処理 | P11: ② | Q11: 自ら直接再生利用した量 | AH11: ⑨ | AI11: 自ら中間処理した後自ら埋立処分又は海洋投入処分した量
