Workbook

Sheet 表紙
C2: 【注 意】
C3: ① このファイルは、産業廃棄物用の法定と自主管理の共通様式です。
C4: 法定様式として提出する場合はN28セルの「○」を選択し、自主管理様式として提出する場合はO28セルの「○」を選択してください。
C5: ② 様式２と様式３の両方を提出する場合は、先に様式３を入力してください。様式３の情報を様式２へ反映させることができます。
C7: 【手 順】
C8: ① 様式１の情報を反映させることができます。
D9: 本ファイルは閉じ、2026form6.xlsmを開き、「④事業場情報等の反映」をクリックして下さい。
E10: （様式１から反映→提出先、提出者情報、事業場情報、事業の種類、事業規模）
C11: ② 表紙シートの黄色、水色のセルで、入力されていないセルを入力あるいは選択してください。
C12: ③ 次に、廃棄物の種類ごとの処理フローを、シート「ア.燃え殻」から順番に各シートに記載してください。
C13: ④ 記載したデータに誤りがないか、別紙（一括表）などを見て再確認をお願いいたします。
C15: ＊ 印刷を行いたい場合は、本ファイルを閉じ、2026form6.xlsmを開き「印刷ボタン（様式3）」をクリックしてください。
C16: 提出に必要な表紙、別紙(一括表）および各フロー図が自動的にプリントされます。
C17: ※マクロが使用できない場合は、本ファイルのシート名「印刷用表紙」「別紙」及び該当する廃棄物のシートを 「ファイル」→「印刷」の手順で印刷をしてください。
C19: 【セル色の説明】
E20: ：セルの右上に▼がある場合、ポインタをそのセルにあわせると、説明文が表示されます
C21: 薄黄色 | E21: ：プルダウン・メニューから選択してください。セルを選択して右側に現れる▼をクリックすると選択肢のリストが出てきます。
C22: 薄水色 | E22: ：内容・データ等を入力してください
C23: 薄橙色 | E23: ：自動処理されるので、変更できません。
C24: 薄黄緑 | E24: ：他様式の情報を反映させることができます。
E25: 直接入力することも可能です。
O26: 該当する欄に○印を記入してください。
A27: 14 | M27: ３ | N27: 法定 | O27: 自主
A28: =+R86 -> 0 | C28: 様式第二号の九（第八条の四の六関係） | N28: ○
C29: （第１面）
C31: 産業廃棄物処理計画実施状況報告書
L34: 令和 ８年 ６月 ２３日
C36: 横浜市長 | G36: 殿
A38: 3 | H38: 提出者
H39: 住 所 | J39: 〒467-0852 愛知県名古屋市瑞穂区明前町8番18号
H40: 氏 名 | J40: 株式会社ダイセキ環境ソリューション 代表取締役 山本 浩也
J41: （法人にあっては、名称及び代表者の氏名）
J42: 電話番号 | L42: 052-819-5310
A45: 4 | C45: 廃棄物の処理及び清掃に関する法律第12条第10項の規定に基づき、令和７年度の産業廃棄物処理計画の実施状況を報告します。
C47: 事業場の名称 | F47: 株式会社ダイセキ環境ソリューション 横浜恵比須リサイクルセンター | M47: 自主管理事業登録番号
M48: 2931
C49: 事業場の所在地 | F49: 横浜市神奈川区恵比須町5番地13 | L49: ＴＥＬ（連絡先）： | N49: 045-444-1431
C51: 当該事業場に関する事項
D52: ① | E52: 事業の種類 | F52: Ｒ－サービス業（他に分類されないもの） | J52: (具体的には） | L52: 廃棄物処理業 その他のサービス業
D53: ② | E53: 事業の規模 | F53: 製造業 | I53: 製造品出荷額 | N53: 百万円／年
F54: 建設業 | I54: エリア内元請完成工事高 | N54: 百万円／年
D55: ※ 前年度実績を記入、医療機関は前年度末時点の病床数を記入。 | F55: 医療機関 | I55: 病床数 | N55: 床
F56: その他の業種 | I56: 売上高 | L56: 2173 | N56: 百万円／年
F57: （上記項目に該当しない場合にはこちらに記載をしてください。）
D59: ③ | E59: 従業員数 | F59: 8
C60: 産業廃棄物処理計画における計画期間 | F60: 令和 ７ 年 ４ 月 １ 日 ～ 令和 ８ 年 ３ 月 31 日（ １ 年間）
C61: 産業廃棄物処理計画における目標値
D62: 項目 | H62: 目標値 | J62: 項目 | M62: 目標値
D63: 排出量 | H63: =+別紙!AA9 -> 7846.2 | I63: ｔ | J63: 全処理委託量 | M63: =+別紙!AA14 -> 7846.2 | O63: ｔ
D64: 自ら再生利用を行う産業廃棄物の量 | H64: =+別紙!AA10 -> 0 | I64: ｔ | J64: 優良認定処理業者への処理委託量 | M64: =+別紙!AA15 -> 5002.7 | O64: ｔ
D65: 自ら熱回収を行う産業廃棄物の量 | H65: =+別紙!AA11 -> 0 | I65: ｔ | J65: 再生利用業者への処理委託量 | M65: =+別紙!AA16 -> 7846.2 | O65: ｔ
D66: 自ら中間処理により減量する産業廃棄物の量 | H66: =+別紙!AA12 -> 0 | I66: ｔ | J66: 認定熱回収業者への処理委託量 | M66: =+別紙!AA17 -> 0 | O66: ｔ
D67: 自ら埋立処分又は海洋投入処分を行う産業廃棄物の量 | H67: =+別紙!AA13 -> 0 | I67: ｔ | J67: 認定熱回収業者以外の熱回収を行う業者への処理委託量 | M67: =+別紙!AA18 -> 0 | O67: ｔ
C68: ※ 事務処理欄
C70: （第３面）
C71: 備考
A72: 11
C73: 1 | D73: 当該年度（令和８年度）の６月30日までに提出してください。
C74: 2 | D74: 「当該事業場において現に行っている事業に関する事項」の欄は、以下に従って記入してください。
D75: (1) ①欄には、日本標準産業分類（中分類）の区分を記入してください。
D76: (2) ②欄には、製造業の場合における製造品出荷額（前年度実績）、建設業の場合における元請完成工事高 （前年度実績）、医療機関の場合における病床数（前年度末時点）等の業種に応じ事業規模が分かるよう な前年度の実績を記入してください。
C77: 3 | D77: 「産業廃棄物処理計画における目標値」の欄には、前年度（令和７年度）提出の産業廃棄物処理計画に記載した目標量を記入してください。
C78: 4 | D78: 第２面（様式３-２）には、前年度（令和７年度）の産業廃棄物処理実績に関して①～⑭の欄のそれぞれに、(1)から(14)に掲げる量を記入してください。
D79: (1) | E79: ①欄 当該事業場において生じた産業廃棄物の量
D80: (2) | E80: ②欄 (1)の量のうち、中間処理をせず直接自ら再生利用した量 | Q80: 神奈川県知事
D81: (3) | E81: ③欄 (1)の量のうち、中間処理をせず直接自ら埋立処分した量又は海洋投入処分した量 | Q81: 横浜市長
D82: (4) | E82: ④欄 (1)の量のうち、自ら中間処理をした産業廃棄物の当該中間処理前の量 | Q82: 川崎市長
D83: (5) | E83: ⑤欄 (4)の量のうち、熱回収を行った量 | Q83: 相模原市長
D84: (6) | E84: ⑥欄 自ら中間処理をした後の量 | Q84: 横須賀市長
D85: (7) | E85: ⑦欄 (4)の量から(6)の量を差し引いた量
D86: (8) | E86: ⑧欄 (6)の量のうち、自ら利用し、又は他人に売却した量
D87: (9) | E87: ⑨欄 (6)の量のうち、自ら埋立処分及び海洋投入処分した量
D88: (10) | E88: ⑩欄 中間処理及び最終処分を委託した量
D89: (11) | E89: ⑪欄 (10)の量のうち、優良認定処理業者（廃棄物の処理及び清掃に関する法律施行令第６条の11第２号に該当する者）への処理委託量
D90: (12) | E90: ⑫欄 (10)の量のうち、処理業者への再生利用委託量
D91: (13) | E91: ⑬欄 (10)の量のうち、認定熱回収施設設置者（廃棄物の処理及び清掃に関する法律第15条の３の３第１項の認定を受けた者）である処理業者への焼却処理委託量
D92: (14) | E92: ⑭欄 (10)の量のうち、認定熱回収施設設置者以外の熱回収を行っている処理業者への焼却処理委託量
C93: 5 | D93: 第２面（様式３-２）の左下の表には、項目ごとに、産業廃棄物処理計画に記載したそれぞれの実績値を記入してください。
C94: 6 | D94: 第１面の※欄には、何も記入しないでください。
Q95: フロー様式 | R95: 産業廃棄物処理計画書
Q96: フローアラビア数字 | R96: 3－１
Q98: Ａ－農業、林業
Q99: Ｂ－漁業
Q100: Ｃ－鉱業、採石業、砂利採取業
Q101: Ｄ－建設業
Q102: Ｅ09－食料品製造業
Q103: Ｅ10－飲料・たばこ・飼料製造業
Q104: Ｅ11－繊維工業
Q105: Ｅ12－木材・木製品製造業（家具を除く）
Q106: Ｅ13－家具・装備品製造業
Q107: Ｅ14－パルプ・紙・紙加工品製造業
Q108: Ｅ15－印刷・同関連業
Q109: Ｅ16－化学工業
... Q143: ○

Sheet ｱ.燃え殻
S1: ↓ | T1: 注意：本年度の目標量のみでフロー図の実績データがない場合にも、本年度目標データを該当欄に入力してください
B2: 産業廃棄物処理計画実施状況報告書
AP3: ３－２ | AS3: 法定 | AU3: 自主
AS4: =+表紙!N28 -> ○ | AU4: =+表紙!O28
B5: 別紙処理フロー | Z5: 事業場名称 | AE5: ： | AF5: =+表紙!F47 -> 株式会社ダイセキ環境ソリューション 横浜恵比須リサイクルセンター
B6: 令和７年度に発生した産業廃棄物ごとの量と処理計画の実施結果
B7: フローに記載した産業廃棄物の種類 | D7: ア. 燃え殻
B8: ※ | C8: 本用紙は廃棄物の種類ごとに1枚の記載となります。異なる廃棄物の処理フローは別シートに記載してください。 | AH8: ⑧ | AI8: 自ら中間処理した後再生利用した量
B9: （単位：t/年） | F9: 有償物量 | AE9: ａ残さ物の自己処理 | AN9: ｔ
C11: 不要物等発生量 | F11: ① | G11: 当該事業場における排出量 | M11: Ａ 自己処理 | P11: ② | Q11: 自ら直接再生利用した量 | AH11: ⑨ | AI11: 自ら中間処理した後自ら埋立処分又は海洋投入処分した量
F12: =+ROUND(P12,1)+ROUND(P15,1)+ROUND(P18,1)+ROUND(P24,1)+P27-ROUND(F15,1) -> 0 | I12: ｔ | T12: ｔ | AN12: ｔ
F14: ※１ | G14: 自社の他事業場からの搬入量 | P14: ③ | Q14: 自ら直接埋立処分又は海洋投入処分した量 | AH14: ※3 | AI14: 自ら中間処理した後自社の他事業場での処理量
I15: ｔ | T15: ｔ | AN15: ｔ | AS15: （目的別内訳）
P16: =+IF(Y18=0,"",IF(Y18-P18=Y18,"エラー！：⑥残さ物量があるのに、④自ら中間処理した量がゼロになっています","")) | AS16: 再生利用前 委託量 | AV16: ｔ
P17: ④ | Q17: 自ら中間処理した量 | Y17: ⑥ | Z17: 自ら中間処理した後の残さ量 | AE17: ｂ残さ物の委託処理 | AH17: ｂ | AI17: 自ら中間処理した後の処理委託量 | AO17: ｂ-1 中間処理委託量 | AS17: 最終処分前 委託量 | AV17: ｔ
T18: ｔ | Y18: =+ROUND(AH9,1)+ROUND(AH12,1)+ROUND(AH15,1)+AH18 -> 0 | AB18: ｔ | AH18: =+ROUND(AO18,1)+ROUND(AO21,1) -> 0 | AL18: ｔ | AO18: =+ROUND(AU16,1)+ROUND(AU17,1)+ROUND(AU18,1) -> 0 | AP18: ｔ | AS18: 下水等放流前委託量 | AV18: ｔ
AW19: （第2面）
P20: ⑤ | Q20: ④のうち熱回収を行った量 | Y20: ⑦ | Z20: 自ら中間処理により減量した量 | AO20: ｂ-2 最終処分委託量
B21: 注）右上のフローには、令和７年度の実績値を記載してください。下表の中央列には、令和７年度目標値を記載してください。下表の右列は、右上フローに記載された令和７年度実績値が自動的に計算されます。 | T21: ｔ | Y21: =+P18-Y18 -> 0 | AB21: ｔ | AP21: ｔ
P22: =+IF(P21=0,"",IF(P18<P21,"エラー !：④の内数である⑤の量が④を超えています",""))
B23: 項 目 | D23: 令和７年度 目標値 | H23: 令和７年度 実績値 | P23: ※２ | Q23: 自社の他事業場での処理量 | AS23: ⑫ | AT23: ⑩のうち再生利用業者への処理委託量
B24: ① 排出量 | D24: 0 | G24: t | H24: =+F12 -> 0 | J24: t | T24: ｔ | AS24: =+ROUND(AU16,1)+ROUND(AA28,1) -> 0 | AV24: ｔ
B25: ②＋⑧ 自ら再生利用を行った量 | D25: 0 | G25: t | H25: =+P12+AH9 -> 0 | J25: t
B26: ⑤ 自ら熱回収を行った量 | D26: 0 | G26: t | H26: =+P21 -> 0 | J26: t | M26: Ｂ 直接委託処理 | P26: Ｂ | Q26: 直接処理委託量 | AL26: ⑩ | AM26: 直接及び自ら中間処理した後の処理委託量 | AS26: ⑬ | AT26: ⑩のうち認定熱回収業者への処理委託量
B27: ⑦ 自ら中間処理により減量した量 | D27: 0 | G27: t | H27: =+Y21 -> 0 | J27: t | P27: =+R30+ROUND(R33,1) -> 0 | T27: ｔ | Y27: （目的別内訳） | AL27: =+AH18+P27 -> 0 | AP27: ｔ | AV27: ｔ
B28: ③＋⑨ 自ら埋立処分又は海洋投入処分を行った量 | D28: 0 | G28: t | H28: =+P15+AH12 -> 0 | J28: t | Y28: 再生利用前委託量 | AF28: ｔ | AS28: =+IF(AS27=0,"",IF(AL27<(AS24+AS27+AS31),"エラー !：⑩の内数である（⑫+⑬＋⑭）の量が⑩を超えています",""))
B29: ⑩ 全処理委託量 | D29: 0 | G29: t | H29: =+AL27 -> 0 | J29: t | R29: B-1 | S29: 中間処理委託量 | Y29: 最終処分前委託量 | AF29: ｔ | AL29: ⑪ | AM29: ⑩のうち優良認定処理業者への処理委託量 | AS29: ⑭ | AT29: ⑩のうち認定熱回収業者以外の熱回収を行う業者への処理委託量
B30: ⑪ 優良認定処理業者への処理委託量 | D30: 0 | G30: t | H30: =+AL30 -> 0 | J30: t | R30: =+ROUND(AA28,1)+ROUND(AA29,1)+ROUND(AA30,1) -> 0 | V30: ｔ | Y30: 下水等放流前委託量 | AF30: ｔ | AP30: ｔ
B31: ⑫ 再生利用業者への処理委託量 | D31: 0 | G31: t | H31: =+AS24 -> 0 | J31: t | AA31: 【産業廃棄物の種類 （ア～ト）】 | AL31: =+IF(AL30=0,"",IF(AL27<AL30,"エラー !：⑩の内数である⑪の量が⑩を超えています","")) | AV31: ｔ
B32: ⑬ 認定熱回収業者への処理委託量 | D32: 0 | G32: t | H32: =+AS27 -> 0 | J32: t | R32: B-2 | S32: 最終処分委託量 | AA32: ｱ. 燃え殻 ｲ. 汚泥 ｳ. 廃油 ｴ. 廃酸 ｵ. 廃アルカリ ｶ. 廃ﾌﾟﾗｽﾁｯｸ類 ｷ. 紙くず | AF32: ｸ. 木くず ｹ. 繊維くず ｺ. 動植物性残さ ｻ. 動物系固形不要物 ｼ. ゴムくず ｽ. 金属くず ｾ. ｶﾞﾗｽ・ｺﾝｸﾘｰﾄ・陶磁器くず | AL32: ｿ. 鉱さい ﾀ. がれき類 ﾁ. 動物のふん尿 ﾂ. 動物の死体 ﾃ. ばいじん ト. 混合廃棄物その他 | AS32: =+IF(AS31=0,"",IF(AL27<(AS24+AS27+AS31),"エラー !：⑩の内数である（⑫+⑬＋⑭）の量が⑩を超えています",""))
B33: ⑭ 認定熱回収業者以外の熱回収を行う業者への処理委託量 | D33: 0 | G33: t | H33: =+AS31 -> 0 | J33: t | V33: ｔ
C34: =+IF(D30=0,"",IF(D29<D30,"エラー !：上の表は、⑩の内数である⑪の量が⑩を超えています",""))
C35: =+IF(D31=0,"",IF(D29<D31,"エラー !：上の表は、⑩の内数である⑫の量が⑩を超えています",""))
C36: =+IF(D32=0,"",IF(D29<D32,"エラー !：上の表は、⑩の内数である⑬の量が⑩を超えています",""))
C37: =+IF(D33=0,"",IF(D29<D33,"エラー !：上の表は、⑩の内数である⑭の量が⑩を超えています",""))

Sheet ｲ.汚泥
S1: ↓ | T1: 注意：本年度の目標量のみでフロー図の実績データがない場合にも、本年度目標データを該当欄に入力してください
B2: 産業廃棄物処理計画実施状況報告書
AP3: ３－２ | AS3: 法定 | AU3: 自主
AS4: =+表紙!N28 -> ○ | AU4: =+表紙!O28
B5: 別紙処理フロー | Z5: 事業場名称 | AE5: ： | AF5: =+表紙!F47 -> 株式会社ダイセキ環境ソリューション 横浜恵比須リサイクルセンター
B6: 令和７年度に発生した産業廃棄物ごとの量と処理計画の実施結果
B7: フローに記載した産業廃棄物の種類 | D7: イ. 汚泥
B8: ※ | C8: 本用紙は廃棄物の種類ごとに1枚の記載となります。異なる廃棄物の処理フローは別シートに記載してください。 | AH8: ⑧ | AI8: 自ら中間処理した後再生利用した量
B9: （単位：t/年） | F9: 有償物量 | AE9: ａ残さ物の自己処理 | AN9: ｔ
C11: 不要物等発生量 | F11: ① | G11: 当該事業場における排出量 | M11: Ａ 自己処理 | P11: ② | Q11: 自ら直接再生利用した量 | AH11: ⑨ | AI11: 自ら中間処理した後自ら埋立処分又は海洋投入処分した量
F12: =+ROUND(P12,1)+ROUND(P15,1)+ROUND(P18,1)+ROUND(P24,1)+P27-ROUND(F15,1) -> 0 | I12: ｔ | T12: ｔ | AN12: ｔ
F14: ※１ | G14: 自社の他事業場からの搬入量 | P14: ③ | Q14: 自ら直接埋立処分又は海洋投入処分した量 | AH14: ※3 | AI14: 自ら中間処理した後自社の他事業場での処理量
I15: ｔ | T15: ｔ | AN15: ｔ | AS15: （目的別内訳）
P16: =+IF(Y18=0,"",IF(Y18-P18=Y18,"エラー！：⑥残さ物量があるのに、④自ら中間処理した量がゼロになっています","")) | AS16: 再生利用前委託量 | AV16: ｔ
P17: ④ | Q17: 自ら中間処理した量 | Y17: ⑥ | Z17: 自ら中間処理した後の残さ量 | AE17: ｂ残さ物の委託処理 | AH17: ｂ | AI17: 自ら中間処理した後の処理委託量 | AO17: ｂ-1 中間処理委託量 | AS17: 最終処分前 委託量 | AV17: ｔ
T18: ｔ | Y18: =+ROUND(AH9,1)+ROUND(AH12,1)+ROUND(AH15,1)+AH18 -> 0 | AB18: ｔ | AH18: =+ROUND(AO18,1)+ROUND(AO21,1) -> 0 | AL18: ｔ | AO18: =+ROUND(AU16,1)+ROUND(AU17,1)+ROUND(AU18,1) -> 0 | AP18: ｔ | AS18: 下水等放流前委託量 | AV18: ｔ
AW19: （第2面）
P20: ⑤ | Q20: ④のうち熱回収を行った量 | Y20: ⑦ | Z20: 自ら中間処理により減量した量 | AO20: ｂ-2 最終処分委託量
B21: 注）右上のフローには、令和７年度の実績値を記載してください。下表の中央列には、令和７年度目標値を記載してください。下表の右列は、右上フローに記載された令和７年度実績値が自動的に計算されます。 | T21: ｔ | Y21: =+P18-Y18 -> 0 | AB21: ｔ | AP21: ｔ
P22: =+IF(P21=0,"",IF(P18<P21,"エラー !：④の内数である⑤の量が④を超えています",""))
B23: 項 目 | D23: 令和７年度 目標値 | H23: 令和７年度 実績値 | P23: ※２ | Q23: 自社の他事業場での処理量 | AS23: ⑫ | AT23: ⑩のうち再生利用業者への処理委託量
B24: ① 排出量 | D24: 0 | G24: t | H24: =+F12 -> 0 | J24: t | T24: ｔ | AS24: =+ROUND(AU16,1)+ROUND(AA28,1) -> 0 | AV24: ｔ
B25: ②＋⑧ 自ら再生利用を行った量 | D25: 0 | G25: t | H25: =+P12+AH9 -> 0 | J25: t
B26: ⑤ 自ら熱回収を行った量 | D26: 0 | G26: t | H26: =+P21 -> 0 | J26: t | M26: Ｂ 直接委託処理 | P26: Ｂ | Q26: 直接処理委託量 | AL26: ⑩ | AM26: 直接及び自ら中間処理した後の処理委託量 | AS26: ⑬ | AT26: ⑩のうち認定熱回収業者への処理委託量
B27: ⑦ 自ら中間処理により減量した量 | D27: 0 | G27: t | H27: =+Y21 -> 0 | J27: t | P27: =+R30+ROUND(R33,1) -> 0 | T27: ｔ | Y27: （目的別内訳） | AL27: =+AH18+P27 -> 0 | AP27: ｔ | AV27: ｔ
B28: ③＋⑨ 自ら埋立処分又は海洋投入処分を行った量 | D28: 0 | G28: t | H28: =+P15+AH12 -> 0 | J28: t | Y28: 再生利用前委託量 | AF28: ｔ | AS28: =+IF(AS27=0,"",IF(AL27<(AS24+AS27+AS31),"エラー !：⑩の内数である（⑫+⑬＋⑭）の量が⑩を超えています",""))
B29: ⑩ 全処理委託量 | D29: 0 | G29: t | H29: =+AL27 -> 0 | J29: t | R29: B-1 | S29: 中間処理委託量 | Y29: 最終処分前委託量 | AF29: ｔ | AL29: ⑪ | AM29: ⑩のうち優良認定処理業者への処理委託量 | AS29: ⑭ | AT29: ⑩のうち認定熱回収業者以外の熱回収を行う業者への処理委託量
B30: ⑪ 優良認定処理業者への処理委託量 | D30: 0 | G30: t | H30: =+AL30 -> 0 | J30: t | R30: =+ROUND(AA28,1)+ROUND(AA29,1)+ROUND(AA30,1) -> 0 | V30: ｔ | Y30: 下水等放流前委託量 | AF30: ｔ | AP30: ｔ
B31: ⑫ 再生利用業者への処理委託量 | D31: 0 | G31: t | H31: =+AS24 -> 0 | J31: t | AA31: 【産業廃棄物の種類 （ア～ト）】 | AL31: =+IF(AL30=0,"",IF(AL27<AL30,"エラー !：⑩の内数である⑪の量が⑩を超えています","")) | AV31: ｔ
B32: ⑬ 認定熱回収業者への処理委託量 | D32: 0 | G32: t | H32: =+AS27 -> 0 | J32: t | R32: B-2 | S32: 最終処分委託量 | AA32: ｱ. 燃え殻 ｲ. 汚泥 ｳ. 廃油 ｴ. 廃酸 ｵ. 廃アルカリ ｶ. 廃ﾌﾟﾗｽﾁｯｸ類 ｷ. 紙くず | AF32: ｸ. 木くず ｹ. 繊維くず ｺ. 動植物性残さ ｻ. 動物系固形不要物 ｼ. ゴムくず ｽ. 金属くず ｾ. ｶﾞﾗｽ・ｺﾝｸﾘｰﾄ・陶磁器くず | AL32: ｿ. 鉱さい ﾀ. がれき類 ﾁ. 動物のふん尿 ﾂ. 動物の死体 ﾃ. ばいじん ト. 混合廃棄物その他 | AS32: =+IF(AS31=0,"",IF(AL27<(AS24+AS27+AS31),"エラー !：⑩の内数である（⑫+⑬＋⑭）の量が⑩を超えています",""))
B33: ⑭ 認定熱回収業者以外の熱回収を行う業者への処理委託量 | D33: 0 | G33: t | H33: =+AS31 -> 0 | J33: t | V33: ｔ
C34: =+IF(D30=0,"",IF(D29<D30,"エラー !：上の表は、⑩の内数である⑪の量が⑩を超えています",""))
C35: =+IF(D31=0,"",IF(D29<D31,"エラー !：上の表は、⑩の内数である⑫の量が⑩を超えています",""))
C36: =+IF(D32=0,"",IF(D29<D32,"エラー !：上の表は、⑩の内数である⑬の量が⑩を超えています",""))
C37: =+IF(D33=0,"",IF(D29<D33,"エラー !：上の表は、⑩の内数である⑭の量が⑩を超えています",""))

Sheet ｳ.廃油
S1: ↓ | T1: 注意：本年度の目標量のみでフロー図の実績データがない場合にも、本年度目標データを該当欄に入力してください
B2: 産業廃棄物処理計画実施状況報告書
AP3: ３－２ | AS3: 法定 | AU3: 自主
AS4: =+表紙!N28 -> ○ | AU4: =+表紙!O28
B5: 別紙処理フロー | Z5: 事業場名称 | AE5: ： | AF5: =+表紙!F47 -> 株式会社ダイセキ環境ソリューション 横浜恵比須リサイクルセンター
B6: 令和７年度に発生した産業廃棄物ごとの量と処理計画の実施結果
B7: フローに記載した産業廃棄物の種類 | D7: ウ. 廃油
B8: ※ | C8: 本用紙は廃棄物の種類ごとに1枚の記載となります。異なる廃棄物の処理フローは別シートに記載してください。 | AH8: ⑧ | AI8: 自ら中間処理した後再生利用した量
B9: （単位：t/年） | F9: 有償物量 | AE9: ａ残さ物の自己処理 | AN9: ｔ
C11: 不要物等発生量 | F11: ① | G11: 当該事業場における排出量 | M11: Ａ 自己処理 | P11: ② | Q11: 自ら直接再生利用した量 | AH11: ⑨ | AI11: 自ら中間処理した後自ら埋立処分又は海洋投入処分した量
F12: =+ROUND(P12,1)+ROUND(P15,1)+ROUND(P18,1)+ROUND(P24,1)+P27-ROUND(F15,1) -> 0.1 | I12: ｔ | T12: ｔ | AN12: ｔ
F14: ※１ | G14: 自社の他事業場からの搬入量 | P14: ③ | Q14: 自ら直接埋立処分又は海洋投入処分した量 | AH14: ※3 | AI14: 自ら中間処理した後自社の他事業場での処理量
I15: ｔ | T15: ｔ | AN15: ｔ | AS15: （目的別内訳）
P16: =+IF(Y18=0,"",IF(Y18-P18=Y18,"エラー！：⑥残さ物量があるのに、④自ら中間処理した量がゼロになっています","")) | AS16: 再生利用前委託量 | AV16: ｔ
P17: ④ | Q17: 自ら中間処理した量 | Y17: ⑥ | Z17: 自ら中間処理した後の残さ量 | AE17: ｂ残さ物の委託処理 | AH17: ｂ | AI17: 自ら中間処理した後の処理委託量 | AO17: ｂ-1 中間処理委託量 | AS17: 最終処分前 委託量 | AV17: ｔ
T18: ｔ | Y18: =+ROUND(AH9,1)+ROUND(AH12,1)+ROUND(AH15,1)+AH18 -> 0 | AB18: ｔ | AH18: =+ROUND(AO18,1)+ROUND(AO21,1) -> 0 | AL18: ｔ | AO18: =+ROUND(AU16,1)+ROUND(AU17,1)+ROUND(AU18,1) -> 0 | AP18: ｔ | AS18: 下水等放流前委託量 | AV18: ｔ
AW19: （第2面）
P20: ⑤ | Q20: ④のうち熱回収を行った量 | Y20: ⑦ | Z20: 自ら中間処理により減量した量 | AO20: ｂ-2 最終処分委託量
B21: 注）右上のフローには、令和７年度の実績値を記載してください。下表の中央列には、令和７年度目標値を記載してください。下表の右列は、右上フローに記載された令和７年度実績値が自動的に計算されます。 | T21: ｔ | Y21: =+P18-Y18 -> 0 | AB21: ｔ | AP21: ｔ
P22: =+IF(P21=0,"",IF(P18<P21,"エラー !：④の内数である⑤の量が④を超えています",""))
B23: 項 目 | D23: 令和７年度 目標値 | H23: 令和７年度 実績値 | P23: ※２ | Q23: 自社の他事業場での処理量 | AS23: ⑫ | AT23: ⑩のうち再生利用業者への処理委託量
B24: ① 排出量 | D24: 0 | G24: t | H24: =+F12 -> 0.1 | J24: t | T24: ｔ | AS24: =+ROUND(AU16,1)+ROUND(AA28,1) -> 0.1 | AV24: ｔ
B25: ②＋⑧ 自ら再生利用を行った量 | D25: 0 | G25: t | H25: =+P12+AH9 -> 0 | J25: t
B26: ⑤ 自ら熱回収を行った量 | D26: 0 | G26: t | H26: =+P21 -> 0 | J26: t | M26: Ｂ 直接委託処理 | P26: Ｂ | Q26: 直接処理委託量 | AL26: ⑩ | AM26: 直接及び自ら中間処理した後の処理委託量 | AS26: ⑬ | AT26: ⑩のうち認定熱回収業者への処理委託量
B27: ⑦ 自ら中間処理により減量した量 | D27: 0 | G27: t | H27: =+Y21 -> 0 | J27: t | P27: =+R30+ROUND(R33,1) -> 0.1 | T27: ｔ | Y27: （目的別内訳） | AL27: =+AH18+P27 -> 0.1 | AP27: ｔ | AV27: ｔ
B28: ③＋⑨ 自ら埋立処分又は海洋投入処分を行った量 | D28: 0 | G28: t | H28: =+P15+AH12 -> 0 | J28: t | Y28: 再生利用前委託量 | AA28: 0.1 | AF28: ｔ | AS28: =+IF(AS27=0,"",IF(AL27<(AS24+AS27+AS31),"エラー !：⑩の内数である（⑫+⑬＋⑭）の量が⑩を超えています",""))
B29: ⑩ 全処理委託量 | D29: 0 | G29: t | H29: =+AL27 -> 0.1 | J29: t | R29: B-1 | S29: 中間処理委託量 | Y29: 最終処分前委託量 | AF29: ｔ | AL29: ⑪ | AM29: ⑩のうち優良認定処理業者への処理委託量 | AS29: ⑭ | AT29: ⑩のうち認定熱回収業者以外の熱回収を行う業者への処理委託量
B30: ⑪ 優良認定処理業者への処理委託量 | D30: 0 | G30: t | H30: =+AL30 -> 0.1 | J30: t | R30: =+ROUND(AA28,1)+ROUND(AA29,1)+ROUND(AA30,1) -> 0.1 | V30: ｔ | Y30: 下水等放流前委託量 | AF30: ｔ | AL30: 0.1 | AP30: ｔ
B31: ⑫ 再生利用業者への処理委託量 | D31: 0 | G31: t | H31: =+AS24 -> 0.1 | J31: t | AA31: 【産業廃棄物の種類 （ア～ト）】 | AL31: =+IF(AL30=0,"",IF(AL27<AL30,"エラー !：⑩の内数である⑪の量が⑩を超えています","")) | AV31: ｔ
B32: ⑬ 認定熱回収業者への処理委託量 | D32: 0 | G32: t | H32: =+AS27 -> 0 | J32: t | R32: B-2 | S32: 最終処分委託量 | AA32: ｱ. 燃え殻 ｲ. 汚泥 ｳ. 廃油 ｴ. 廃酸 ｵ. 廃アルカリ ｶ. 廃ﾌﾟﾗｽﾁｯｸ類 ｷ. 紙くず | AF32: ｸ. 木くず ｹ. 繊維くず ｺ. 動植物性残さ ｻ. 動物系固形不要物 ｼ. ゴムくず ｽ. 金属くず ｾ. ｶﾞﾗｽ・ｺﾝｸﾘｰﾄ・陶磁器くず | AL32: ｿ. 鉱さい ﾀ. がれき類 ﾁ. 動物のふん尿 ﾂ. 動物の死体 ﾃ. ばいじん ト. 混合廃棄物その他 | AS32: =+IF(AS31=0,"",IF(AL27<(AS24+AS27+AS31),"エラー !：⑩の内数である（⑫+⑬＋⑭）の量が⑩を超えています",""))
B33: ⑭ 認定熱回収業者以外の熱回収を行う業者への処理委託量 | D33: 0 | G33: t | H33: =+AS31 -> 0 | J33: t | V33: ｔ
C34: =+IF(D30=0,"",IF(D29<D30,"エラー !：上の表は、⑩の内数である⑪の量が⑩を超えています",""))
C35: =+IF(D31=0,"",IF(D29<D31,"エラー !：上の表は、⑩の内数である⑫の量が⑩を超えています",""))
C36: =+IF(D32=0,"",IF(D29<D32,"エラー !：上の表は、⑩の内数である⑬の量が⑩を超えています",""))
C37: =+IF(D33=0,"",IF(D29<D33,"エラー !：上の表は、⑩の内数である⑭の量が⑩を超えています",""))

Sheet ｴ.廃酸
S1: ↓ | T1: 注意：本年度の目標量のみでフロー図の実績データがない場合にも、本年度目標データを該当欄に入力してください
B2: 産業廃棄物処理計画実施状況報告書
AP3: ３－２ | AS3: 法定 | AU3: 自主
AS4: =+表紙!N28 -> ○ | AU4: =+表紙!O28
B5: 別紙処理フロー | Z5: 事業場名称 | AE5: ： | AF5: =+表紙!F47 -> 株式会社ダイセキ環境ソリューション 横浜恵比須リサイクルセンター
B6: 令和７年度に発生した産業廃棄物ごとの量と処理計画の実施結果
B7: フローに記載した産業廃棄物の種類 | D7: エ. 廃酸
B8: ※ | C8: 本用紙は廃棄物の種類ごとに1枚の記載となります。異なる廃棄物の処理フローは別シートに記載してください。 | AH8: ⑧ | AI8: 自ら中間処理した後再生利用した量
B9: （単位：t/年） | F9: 有償物量 | AE9: ａ残さ物の自己処理 | AN9: ｔ
C11: 不要物等発生量 | F11: ① | G11: 当該事業場における排出量 | M11: Ａ 自己処理 | P11: ② | Q11: 自ら直接再生利用した量 | AH11: ⑨ | AI11: 自ら中間処理した後自ら埋立処分又は海洋投入処分した量
F12: =+ROUND(P12,1)+ROUND(P15,1)+ROUND(P18,1)+ROUND(P24,1)+P27-ROUND(F15,1) -> 0 | I12: ｔ | T12: ｔ | AN12: ｔ
F14: ※１ | G14: 自社の他事業場からの搬入量 | P14: ③ | Q14: 自ら直接埋立処分又は海洋投入処分した量 | AH14: ※3 | AI14: 自ら中間処理した後自社の他事業場での処理量
I15: ｔ | T15: ｔ | AN15: ｔ | AS15: （目的別内訳）
P16: =+IF(Y18=0,"",IF(Y18-P18=Y18,"エラー！：⑥残さ物量があるのに、④自ら中間処理した量がゼロになっています","")) | AS16: 再生利用前委託量 | AV16: ｔ
P17: ④ | Q17: 自ら中間処理した量 | Y17: ⑥ | Z17: 自ら中間処理した後の残さ量 | AE17: ｂ残さ物の委託処理 | AH17: ｂ | AI17: 自ら中間処理した後の処理委託量 | AO17: ｂ-1 中間処理委託量 | AS17: 最終処分前 委託量 | AV17: ｔ
T18: ｔ | Y18: =+ROUND(AH9,1)+ROUND(AH12,1)+ROUND(AH15,1)+AH18 -> 0 | AB18: ｔ | AH18: =+ROUND(AO18,1)+ROUND(AO21,1) -> 0 | AL18: ｔ | AO18: =+ROUND(AU16,1)+ROUND(AU17,1)+ROUND(AU18,1) -> 0 | AP18: ｔ | AS18: 下水等放流前委託量 | AV18: ｔ
AW19: （第2面）
P20: ⑤ | Q20: ④のうち熱回収を行った量 | Y20: ⑦ | Z20: 自ら中間処理により減量した量 | AO20: ｂ-2 最終処分委託量
B21: 注）右上のフローには、令和７年度の実績値を記載してください。下表の中央列には、令和７年度目標値を記載してください。下表の右列は、右上フローに記載された令和７年度実績値が自動的に計算されます。 | T21: ｔ | Y21: =+P18-Y18 -> 0 | AB21: ｔ | AP21: ｔ
P22: =+IF(P21=0,"",IF(P18<P21,"エラー !：④の内数である⑤の量が④を超えています",""))
B23: 項 目 | D23: 令和７年度 目標値 | H23: 令和７年度 実績値 | P23: ※２ | Q23: 自社の他事業場での処理量 | AS23: ⑫ | AT23: ⑩のうち再生利用業者への処理委託量
B24: ① 排出量 | D24: 0 | G24: t | H24: =+F12 -> 0 | J24: t | T24: ｔ | AS24: =+ROUND(AU16,1)+ROUND(AA28,1) -> 0 | AV24: ｔ
B25: ②＋⑧ 自ら再生利用を行った量 | D25: 0 | G25: t | H25: =+P12+AH9 -> 0 | J25: t
B26: ⑤ 自ら熱回収を行った量 | D26: 0 | G26: t | H26: =+P21 -> 0 | J26: t | M26: Ｂ 直接委託処理 | P26: Ｂ | Q26: 直接処理委託量 | AL26: ⑩ | AM26: 直接及び自ら中間処理した後の処理委託量 | AS26: ⑬ | AT26: ⑩のうち認定熱回収業者への処理委託量
B27: ⑦ 自ら中間処理により減量した量 | D27: 0 | G27: t | H27: =+Y21 -> 0 | J27: t | P27: =+R30+ROUND(R33,1) -> 0 | T27: ｔ | Y27: （目的別内訳） | AL27: =+AH18+P27 -> 0 | AP27: ｔ | AV27: ｔ
B28: ③＋⑨ 自ら埋立処分又は海洋投入処分を行った量 | D28: 0 | G28: t | H28: =+P15+AH12 -> 0 | J28: t | Y28: 再生利用前委託量 | AF28: ｔ | AS28: =+IF(AS27=0,"",IF(AL27<(AS24+AS27+AS31),"エラー !：⑩の内数である（⑫+⑬＋⑭）の量が⑩を超えています",""))
B29: ⑩ 全処理委託量 | D29: 0 | G29: t | H29: =+AL27 -> 0 | J29: t | R29: B-1 | S29: 中間処理委託量 | Y29: 最終処分前委託量 | AF29: ｔ | AL29: ⑪ | AM29: ⑩のうち優良認定処理業者への処理委託量 | AS29: ⑭ | AT29: ⑩のうち認定熱回収業者以外の熱回収を行う業者への処理委託量
B30: ⑪ 優良認定処理業者への処理委託量 | D30: 0 | G30: t | H30: =+AL30 -> 0 | J30: t | R30: =+ROUND(AA28,1)+ROUND(AA29,1)+ROUND(AA30,1) -> 0 | V30: ｔ | Y30: 下水等放流前委託量 | AF30: ｔ | AP30: ｔ
B31: ⑫ 再生利用業者への処理委託量 | D31: 0 | G31: t | H31: =+AS24 -> 0 | J31: t | AA31: 【産業廃棄物の種類 （ア～ト）】 | AL31: =+IF(AL30=0,"",IF(AL27<AL30,"エラー !：⑩の内数である⑪の量が⑩を超えています","")) | AV31: ｔ
B32: ⑬ 認定熱回収業者への処理委託量 | D32: 0 | G32: t | H32: =+AS27 -> 0 | J32: t | R32: B-2 | S32: 最終処分委託量 | AA32: ｱ. 燃え殻 ｲ. 汚泥 ｳ. 廃油 ｴ. 廃酸 ｵ. 廃アルカリ ｶ. 廃ﾌﾟﾗｽﾁｯｸ類 ｷ. 紙くず | AF32: ｸ. 木くず ｹ. 繊維くず ｺ. 動植物性残さ ｻ. 動物系固形不要物 ｼ. ゴムくず ｽ. 金属くず ｾ. ｶﾞﾗｽ・ｺﾝｸﾘｰﾄ・陶磁器くず | AL32: ｿ. 鉱さい ﾀ. がれき類 ﾁ. 動物のふん尿 ﾂ. 動物の死体 ﾃ. ばいじん ト. 混合廃棄物その他 | AS32: =+IF(AS31=0,"",IF(AL27<(AS24+AS27+AS31),"エラー !：⑩の内数である（⑫+⑬＋⑭）の量が⑩を超えています",""))
B33: ⑭ 認定熱回収業者以外の熱回収を行う業者への処理委託量 | D33: 0 | G33: t | H33: =+AS31 -> 0 | J33: t | V33: ｔ
C34: =+IF(D30=0,"",IF(D29<D30,"エラー !：上の表は、⑩の内数である⑪の量が⑩を超えています",""))
C35: =+IF(D31=0,"",IF(D29<D31,"エラー !：上の表は、⑩の内数である⑫の量が⑩を超えています",""))
C36: =+IF(D32=0,"",IF(D29<D32,"エラー !：上の表は、⑩の内数である⑬の量が⑩を超えています",""))
C37: =+IF(D33=0,"",IF(D29<D33,"エラー !：上の表は、⑩の内数である⑭の量が⑩を超えています",""))

Sheet ｶ.廃ﾌﾟﾗ類
S1: ↓ | T1: 注意：本年度の目標量のみでフロー図の実績データがない場合にも、本年度目標データを該当欄に入力してください
B2: 産業廃棄物処理計画実施状況報告書
AP3: ３－２ | AS3: 法定 | AU3: 自主
AS4: =+表紙!N28 -> ○ | AU4: =+表紙!O28
B5: 別紙処理フロー | Z5: 事業場名称 | AE5: ： | AF5: =+表紙!F47 -> 株式会社ダイセキ環境ソリューション 横浜恵比須リサイクルセンター
B6: 令和７年度に発生した産業廃棄物ごとの量と処理計画の実施結果 | AR6: =IF(SUM(AU7:AU10)>AH9,"下の表は、⑧の内数であるア～エの量が⑧を超えています","")
B7: フローに記載した産業廃棄物の種類 | D7: カ. 廃ﾌﾟﾗｽﾁｯｸ類 | AR7: ア マテリアル | AV7: t
B8: ※ | C8: 本用紙は廃棄物の種類ごとに1枚の記載となります。異なる廃棄物の処理フローは別シートに記載してください。 | AH8: ⑧ | AI8: 自ら中間処理した後再生利用した量 | AR8: イ ケミカル | AV8: t
B9: （単位：t/年） | F9: 有償物量 | AE9: ａ残さ物の自己処理 | AN9: ｔ | AR9: ウ 燃料化 | AV9: t
AR10: エ その他 | AV10: t
C11: 不要物等発生量 | F11: ① | G11: 当該事業場における排出量 | M11: Ａ 自己処理 | P11: ② | Q11: 自ら直接再生利用した量 | AH11: ⑨ | AI11: 自ら中間処理した後自ら埋立処分又は海洋投入処分した量
F12: =+ROUND(P12,1)+ROUND(P15,1)+ROUND(P18,1)+ROUND(P24,1)+P27-ROUND(F15,1) -> 171 | I12: ｔ | T12: ｔ | AN12: ｔ | AS12: （目的別内訳）
AS13: 再生利用前委託量 | AV13: ｔ
F14: ※１ | G14: 自社の他事業場からの搬入量 | P14: ③ | Q14: 自ら直接埋立処分又は海洋投入処分した量 | AH14: ※3 | AI14: 自ら中間処理した後自社の他事業場での処理量 | AS14: 最終処分前 委託量 | AV14: ｔ
I15: ｔ | T15: ｔ | AN15: ｔ | AS15: 下水等放流前委託量 | AV15: ｔ
P16: =+IF(Y18=0,"",IF(Y18-P18=Y18,"エラー！：⑥残さ物量があるのに、④自ら中間処理した量がゼロになっています",""))
P17: ④ | Q17: 自ら中間処理した量 | Y17: ⑥ | Z17: 自ら中間処理した後の残さ量 | AE17: ｂ残さ物の委託処理 | AH17: ｂ | AI17: 自ら中間処理した後の処理委託量 | AO17: ｂ-1 中間処理委託量 | AS17: =IF(SUM(AU18:AU21)>AS24,"下の表は、⑫の内数であるア～エの量が⑫を超えています","")
T18: ｔ | Y18: =+ROUND(AH9,1)+ROUND(AH12,1)+ROUND(AH15,1)+AH18 -> 0 | AB18: ｔ | AH18: =+ROUND(AO18,1)+ROUND(AO21,1) -> 0 | AL18: ｔ | AO18: =+ROUND(AU13,1)+ROUND(AU14,1)+ROUND(AU15,1) -> 0 | AP18: ｔ | AR18: ア マテリアル | AV18: t
AR19: イ ケミカル | AV19: t | AX19: （第2面）
P20: ⑤ | Q20: ④のうち熱回収を行った量 | Y20: ⑦ | Z20: 自ら中間処理により減量した量 | AO20: ｂ-2 最終処分委託量 | AR20: ウ 燃料化 | AV20: t
B21: 注）右上のフローには、令和７年度の実績値を記載してください。下表の中央列には、令和７年度目標値を記載してください。下表の右列は、右上フローに記載された令和７年度実績値が自動的に計算されます。 | T21: ｔ | Y21: =+P18-Y18 -> 0 | AB21: ｔ | AP21: ｔ | AR21: エ その他 | AV21: t
P22: =+IF(P21=0,"",IF(P18<P21,"エラー !：④の内数である⑤の量が④を超えています",""))
B23: 項 目 | D23: 令和７年度 目標値 | H23: 令和７年度 実績値 | P23: ※２ | Q23: 自社の他事業場での処理量 | AS23: ⑫ | AT23: ⑩のうち再生利用業者への処理委託量
B24: ① 排出量 | D24: 529.7 | G24: t | H24: =+F12 -> 171 | J24: t | T24: ｔ | AS24: =+ROUND(AU13,1)+ROUND(AA28,1) -> 0 | AV24: ｔ
B25: ②＋⑧ 自ら再生利用を行った量 | D25: 0 | G25: t | H25: =+P12+AH9 -> 0 | J25: t
B26: ⑤ 自ら熱回収を行った量 | D26: 0 | G26: t | H26: =+P21 -> 0 | J26: t | M26: Ｂ 直接委託処理 | P26: Ｂ | Q26: 直接処理委託量 | AL26: ⑩ | AM26: 直接及び自ら中間処理した後の処理委託量 | AS26: ⑬ | AT26: ⑩のうち認定熱回収業者への処理委託量
B27: ⑦ 自ら中間処理により減量した量 | D27: 0 | G27: t | H27: =+Y21 -> 0 | J27: t | P27: =+R30+ROUND(R33,1) -> 171 | T27: ｔ | Y27: （目的別内訳） | AL27: =+AH18+P27 -> 171 | AP27: ｔ | AV27: ｔ
B28: ③＋⑨ 自ら埋立処分又は海洋投入処分を行った量 | D28: 0 | G28: t | H28: =+P15+AH12 -> 0 | J28: t | Y28: 再生利用前委託量 | AF28: ｔ | AS28: =+IF(AS27=0,"",IF(AL27<(AS24+AS27+AS31),"エラー !：⑩の内数である（⑫+⑬＋⑭）の量が⑩を超えています",""))
B29: ⑩ 全処理委託量 | D29: 529.7 | G29: t | H29: =+AL27 -> 171 | J29: t | R29: B-1 | S29: 中間処理委託量 | Y29: 最終処分前委託量 | AA29: 171 | AF29: ｔ | AL29: ⑪ | AM29: ⑩のうち優良認定処理業者への処理委託量 | AS29: ⑭ | AT29: ⑩のうち認定熱回収業者以外の熱回収を行う業者への処理委託量
B30: ⑪ 優良認定処理業者への処理委託量 | D30: 264.9 | G30: t | H30: =+AL30 -> 0 | J30: t | R30: =+ROUND(AA28,1)+ROUND(AA29,1)+ROUND(AA30,1) -> 171 | V30: ｔ | Y30: 下水等放流前委託量 | AF30: ｔ | AP30: ｔ
B31: ⑫ 再生利用業者への処理委託量 | D31: 529.7 | G31: t | H31: =+AS24 -> 0 | J31: t | AA31: 【産業廃棄物の種類 （ア～ト）】 | AL31: =+IF(AL30=0,"",IF(AL27<AL30,"エラー !：⑩の内数である⑪の量が⑩を超えています","")) | AV31: ｔ
B32: ⑬ 認定熱回収業者への処理委託量 | D32: 0 | G32: t | H32: =+AS27 -> 0 | J32: t | R32: B-2 | S32: 最終処分委託量 | AA32: ｱ. 燃え殻 ｲ. 汚泥 ｳ. 廃油 ｴ. 廃酸 ｵ. 廃アルカリ ｶ. 廃ﾌﾟﾗｽﾁｯｸ類 ｷ. 紙くず | AF32: ｸ. 木くず ｹ. 繊維くず ｺ. 動植物性残さ ｻ. 動物系固形不要物 ｼ. ゴムくず ｽ. 金属くず ｾ. ｶﾞﾗｽ・ｺﾝｸﾘｰﾄ・陶磁器くず | AL32: ｿ. 鉱さい ﾀ. がれき類 ﾁ. 動物のふん尿 ﾂ. 動物の死体 ﾃ. ばいじん ト. 混合廃棄物その他 | AS32: =+IF(AS31=0,"",IF(AL27<(AS24+AS27+AS31),"エラー !：⑩の内数である（⑫+⑬＋⑭）の量が⑩を超えています",""))
B33: ⑭ 認定熱回収業者以外の熱回収を行う業者への処理委託量 | D33: 0 | G33: t | H33: =+AS31 -> 0 | J33: t | V33: ｔ
B35: 参考
B36: 排出量等のうち有効利用の割合 | H36: =IF(SUM(F12,F15)>0,SUM(P12,P21,AH9,AS24,AS27,AS31)/SUM(F12,F15)*100,"") -> 0 | J36: ％
C37: （内訳）サーマルリカバリーの割合 | H37: =IF(SUM(F12,F15)>0,SUM(P21,AS27,AS31,AU9,AU20)/SUM(F12,F15)*100,"") -> 0 | J37: ％
C39: =+IF(D30=0,"",IF(D29<D30,"エラー !：上の表は、⑩の内数である⑪の量が⑩を超えています",""))
C40: =+IF(D31=0,"",IF(D29<D31,"エラー !：上の表は、⑩の内数である⑫の量が⑩を超えています",""))
C41: =+IF(D32=0,"",IF(D29<D32,"エラー !：上の表は、⑩の内数である⑬の量が⑩を超えています",""))
C42: =+IF(D33=0,"",IF(D29<D33,"エラー !：上の表は、⑩の内数である⑭の量が⑩を超えています",""))

Sheet ｵ.廃ｱﾙｶﾘ
S1: ↓ | T1: 注意：本年度の目標量のみでフロー図の実績データがない場合にも、本年度目標データを該当欄に入力してください
B2: 産業廃棄物処理計画実施状況報告書
AP3: ３－２ | AS3: 法定 | AU3: 自主
AS4: =+表紙!N28 -> ○ | AU4: =+表紙!O28
B5: 別紙処理フロー | Z5: 事業場名称 | AE5: ： | AF5: =+表紙!F47 -> 株式会社ダイセキ環境ソリューション 横浜恵比須リサイクルセンター
B6: 令和７年度に発生した産業廃棄物ごとの量と処理計画の実施結果
B7: フローに記載した産業廃棄物の種類 | D7: オ. 廃アルカリ
B8: ※ | C8: 本用紙は廃棄物の種類ごとに1枚の記載となります。異なる廃棄物の処理フローは別シートに記載してください。 | AH8: ⑧ | AI8: 自ら中間処理した後再生利用した量
B9: （単位：t/年） | F9: 有償物量 | AE9: ａ残さ物の自己処理 | AN9: ｔ
C11: 不要物等発生量 | F11: ① | G11: 当該事業場における排出量 | M11: Ａ 自己処理 | P11: ② | Q11: 自ら直接再生利用した量 | AH11: ⑨ | AI11: 自ら中間処理した後自ら埋立処分又は海洋投入処分した量
F12: =+ROUND(P12,1)+ROUND(P15,1)+ROUND(P18,1)+ROUND(P24,1)+P27-ROUND(F15,1) -> 0 | I12: ｔ | T12: ｔ | AN12: ｔ
F14: ※１ | G14: 自社の他事業場からの搬入量 | P14: ③ | Q14: 自ら直接埋立処分又は海洋投入処分した量 | AH14: ※3 | AI14: 自ら中間処理した後自社の他事業場での処理量
I15: ｔ | T15: ｔ | AN15: ｔ | AS15: （目的別内訳）
P16: =+IF(Y18=0,"",IF(Y18-P18=Y18,"エラー！：⑥残さ物量があるのに、④自ら中間処理した量がゼロになっています","")) | AS16: 再生利用前委託量 | AV16: ｔ
P17: ④ | Q17: 自ら中間処理した量 | Y17: ⑥ | Z17: 自ら中間処理した後の残さ量 | AE17: ｂ残さ物の委託処理 | AH17: ｂ | AI17: 自ら中間処理した後の処理委託量 | AO17: ｂ-1 中間処理委託量 | AS17: 最終処分前 委託量 | AV17: ｔ
T18: ｔ | Y18: =+ROUND(AH9,1)+ROUND(AH12,1)+ROUND(AH15,1)+AH18 -> 0 | AB18: ｔ | AH18: =+ROUND(AO18,1)+ROUND(AO21,1) -> 0 | AL18: ｔ | AO18: =+ROUND(AU16,1)+ROUND(AU17,1)+ROUND(AU18,1) -> 0 | AP18: ｔ | AS18: 下水等放流前委託量 | AV18: ｔ
AW19: （第2面）
P20: ⑤ | Q20: ④のうち熱回収を行った量 | Y20: ⑦ | Z20: 自ら中間処理により減量した量 | AO20: ｂ-2 最終処分委託量
B21: 注）右上のフローには、令和７年度の実績値を記載してください。下表の中央列には、令和７年度目標値を記載してください。下表の右列は、右上フローに記載された令和７年度実績値が自動的に計算されます。 | T21: ｔ | Y21: =+P18-Y18 -> 0 | AB21: ｔ | AP21: ｔ
P22: =+IF(P21=0,"",IF(P18<P21,"エラー !：④の内数である⑤の量が④を超えています",""))
B23: 項 目 | D23: 令和７年度 目標値 | H23: 令和７年度 実績値 | P23: ※２ | Q23: 自社の他事業場での処理量 | AS23: ⑫ | AT23: ⑩のうち再生利用業者への処理委託量
B24: ① 排出量 | D24: 0 | G24: t | H24: =+F12 -> 0 | J24: t | T24: ｔ | AS24: =+ROUND(AU16,1)+ROUND(AA28,1) -> 0 | AV24: ｔ
B25: ②＋⑧ 自ら再生利用を行った量 | D25: 0 | G25: t | H25: =+P12+AH9 -> 0 | J25: t
B26: ⑤ 自ら熱回収を行った量 | D26: 0 | G26: t | H26: =+P21 -> 0 | J26: t | M26: Ｂ 直接委託処理 | P26: Ｂ | Q26: 直接処理委託量 | AL26: ⑩ | AM26: 直接及び自ら中間処理した後の処理委託量 | AS26: ⑬ | AT26: ⑩のうち認定熱回収業者への処理委託量
B27: ⑦ 自ら中間処理により減量した量 | D27: 0 | G27: t | H27: =+Y21 -> 0 | J27: t | P27: =+R30+ROUND(R33,1) -> 0 | T27: ｔ | Y27: （目的別内訳） | AL27: =+AH18+P27 -> 0 | AP27: ｔ | AV27: ｔ
B28: ③＋⑨ 自ら埋立処分又は海洋投入処分を行った量 | D28: 0 | G28: t | H28: =+P15+AH12 -> 0 | J28: t | Y28: 再生利用前委託量 | AF28: ｔ | AS28: =+IF(AS27=0,"",IF(AL27<(AS24+AS27+AS31),"エラー !：⑩の内数である（⑫+⑬＋⑭）の量が⑩を超えています",""))
B29: ⑩ 全処理委託量 | D29: 0 | G29: t | H29: =+AL27 -> 0 | J29: t | R29: B-1 | S29: 中間処理委託量 | Y29: 最終処分前委託量 | AF29: ｔ | AL29: ⑪ | AM29: ⑩のうち優良認定処理業者への処理委託量 | AS29: ⑭ | AT29: ⑩のうち認定熱回収業者以外の熱回収を行う業者への処理委託量
B30: ⑪ 優良認定処理業者への処理委託量 | D30: 0 | G30: t | H30: =+AL30 -> 0 | J30: t | R30: =+ROUND(AA28,1)+ROUND(AA29,1)+ROUND(AA30,1) -> 0 | V30: ｔ | Y30: 下水等放流前委託量 | AF30: ｔ | AP30: ｔ
B31: ⑫ 再生利用業者への処理委託量 | D31: 0 | G31: t | H31: =+AS24 -> 0 | J31: t | AA31: 【産業廃棄物の種類 （ア～ト）】 | AL31: =+IF(AL30=0,"",IF(AL27<AL30,"エラー !：⑩の内数である⑪の量が⑩を超えています","")) | AV31: ｔ
B32: ⑬ 認定熱回収業者への処理委託量 | D32: 0 | G32: t | H32: =+AS27 -> 0 | J32: t | R32: B-2 | S32: 最終処分委託量 | AA32: ｱ. 燃え殻 ｲ. 汚泥 ｳ. 廃油 ｴ. 廃酸 ｵ. 廃アルカリ ｶ. 廃ﾌﾟﾗｽﾁｯｸ類 ｷ. 紙くず | AF32: ｸ. 木くず ｹ. 繊維くず ｺ. 動植物性残さ ｻ. 動物系固形不要物 ｼ. ゴムくず ｽ. 金属くず ｾ. ｶﾞﾗｽ・ｺﾝｸﾘｰﾄ・陶磁器くず | AL32: ｿ. 鉱さい ﾀ. がれき類 ﾁ. 動物のふん尿 ﾂ. 動物の死体 ﾃ. ばいじん ト. 混合廃棄物その他 | AS32: =+IF(AS31=0,"",IF(AL27<(AS24+AS27+AS31),"エラー !：⑩の内数である（⑫+⑬＋⑭）の量が⑩を超えています",""))
B33: ⑭ 認定熱回収業者以外の熱回収を行う業者への処理委託量 | D33: 0 | G33: t | H33: =+AS31 -> 0 | J33: t | V33: ｔ
C34: =+IF(D30=0,"",IF(D29<D30,"エラー !：上の表は、⑩の内数である⑪の量が⑩を超えています",""))
C35: =+IF(D31=0,"",IF(D29<D31,"エラー !：上の表は、⑩の内数である⑫の量が⑩を超えています",""))
C36: =+IF(D32=0,"",IF(D29<D32,"エラー !：上の表は、⑩の内数である⑬の量が⑩を超えています",""))
C37: =+IF(D33=0,"",IF(D29<D33,"エラー !：上の表は、⑩の内数である⑭の量が⑩を超えています",""))

Sheet ｷ.紙くず
S1: ↓ | T1: 注意：本年度の目標量のみでフロー図の実績データがない場合にも、本年度目標データを該当欄に入力してください
B2: 産業廃棄物処理計画実施状況報告書
AP3: ３－２ | AS3: 法定 | AU3: 自主
AS4: =+表紙!N28 -> ○ | AU4: =+表紙!O28
B5: 別紙処理フロー | Z5: 事業場名称 | AE5: ： | AF5: =+表紙!F47 -> 株式会社ダイセキ環境ソリューション 横浜恵比須リサイクルセンター
B6: 令和７年度に発生した産業廃棄物ごとの量と処理計画の実施結果
B7: フローに記載した産業廃棄物の種類 | D7: キ. 紙くず | M7: 「紙くず」には業種指定があり、該当業種以外では一般廃棄物となり、報告対象外です。 【該当業種】パルプ、紙又は紙加工品の製造業、新聞業（新聞巻取紙を使用して印刷発行を行うもの）、出版業（印刷出版を行うもの）、製本業、印刷物加工業、建設業（工作物の新築､改築､除去に伴って生じたもの）
B8: ※ | C8: 本用紙は廃棄物の種類ごとに1枚の記載となります。異なる廃棄物の処理フローは別シートに記載してください。 | AH8: ⑧ | AI8: 自ら中間処理した後再生利用した量
B9: （単位：t/年） | F9: 有償物量 | AE9: ａ残さ物の自己処理 | AN9: ｔ
C11: 不要物等発生量 | F11: ① | G11: 当該事業場における排出量 | M11: Ａ 自己処理 | P11: ② | Q11: 自ら直接再生利用した量 | AH11: ⑨ | AI11: 自ら中間処理した後自ら埋立処分又は海洋投入処分した量
F12: =+ROUND(P12,1)+ROUND(P15,1)+ROUND(P18,1)+ROUND(P24,1)+P27-ROUND(F15,1) -> 0 | I12: ｔ | T12: ｔ | AN12: ｔ
F14: ※１ | G14: 自社の他事業場からの搬入量 | P14: ③ | Q14: 自ら直接埋立処分又は海洋投入処分した量 | AH14: ※3 | AI14: 自ら中間処理した後自社の他事業場での処理量
I15: ｔ | T15: ｔ | AN15: ｔ | AS15: （目的別内訳）
P16: =+IF(Y18=0,"",IF(Y18-P18=Y18,"エラー！：⑥残さ物量があるのに、④自ら中間処理した量がゼロになっています","")) | AS16: 再生利用前委託量 | AV16: ｔ
P17: ④ | Q17: 自ら中間処理した量 | Y17: ⑥ | Z17: 自ら中間処理した後の残さ量 | AE17: ｂ残さ物の委託処理 | AH17: ｂ | AI17: 自ら中間処理した後の処理委託量 | AO17: ｂ-1 中間処理委託量 | AS17: 最終処分前 委託量 | AV17: ｔ
T18: ｔ | Y18: =+ROUND(AH9,1)+ROUND(AH12,1)+ROUND(AH15,1)+AH18 -> 0 | AB18: ｔ | AH18: =+ROUND(AO18,1)+ROUND(AO21,1) -> 0 | AL18: ｔ | AO18: =+ROUND(AU16,1)+ROUND(AU17,1)+ROUND(AU18,1) -> 0 | AP18: ｔ | AS18: 下水等放流前委託量 | AV18: ｔ
AW19: （第2面）
P20: ⑤ | Q20: ④のうち熱回収を行った量 | Y20: ⑦ | Z20: 自ら中間処理により減量した量 | AO20: ｂ-2 最終処分委託量
B21: 注）右上のフローには、令和７年度の実績値を記載してください。下表の中央列には、令和７年度目標値を記載してください。下表の右列は、右上フローに記載された令和７年度実績値が自動的に計算されます。 | T21: ｔ | Y21: =+P18-Y18 -> 0 | AB21: ｔ | AP21: ｔ
P22: =+IF(P21=0,"",IF(P18<P21,"エラー !：④の内数である⑤の量が④を超えています",""))
B23: 項 目 | D23: 令和７年度 目標値 | H23: 令和７年度 実績値 | P23: ※２ | Q23: 自社の他事業場での処理量 | AS23: ⑫ | AT23: ⑩のうち再生利用業者への処理委託量
B24: ① 排出量 | D24: 0 | G24: t | H24: =+F12 -> 0 | J24: t | T24: ｔ | AS24: =+ROUND(AU16,1)+ROUND(AA28,1) -> 0 | AV24: ｔ
B25: ②＋⑧ 自ら再生利用を行った量 | D25: 0 | G25: t | H25: =+P12+AH9 -> 0 | J25: t
B26: ⑤ 自ら熱回収を行った量 | D26: 0 | G26: t | H26: =+P21 -> 0 | J26: t | M26: Ｂ 直接委託処理 | P26: Ｂ | Q26: 直接処理委託量 | AL26: ⑩ | AM26: 直接及び自ら中間処理した後の処理委託量 | AS26: ⑬ | AT26: ⑩のうち認定熱回収業者への処理委託量
B27: ⑦ 自ら中間処理により減量した量 | D27: 0 | G27: t | H27: =+Y21 -> 0 | J27: t | P27: =+R30+ROUND(R33,1) -> 0 | T27: ｔ | Y27: （目的別内訳） | AL27: =+AH18+P27 -> 0 | AP27: ｔ | AV27: ｔ
B28: ③＋⑨ 自ら埋立処分又は海洋投入処分を行った量 | D28: 0 | G28: t | H28: =+P15+AH12 -> 0 | J28: t | Y28: 再生利用前委託量 | AF28: ｔ | AS28: =+IF(AS27=0,"",IF(AL27<(AS24+AS27+AS31),"エラー !：⑩の内数である（⑫+⑬＋⑭）の量が⑩を超えています",""))
B29: ⑩ 全処理委託量 | D29: 0 | G29: t | H29: =+AL27 -> 0 | J29: t | R29: B-1 | S29: 中間処理委託量 | Y29: 最終処分前委託量 | AF29: ｔ | AL29: ⑪ | AM29: ⑩のうち優良認定処理業者への処理委託量 | AS29: ⑭ | AT29: ⑩のうち認定熱回収業者以外の熱回収を行う業者への処理委託量
B30: ⑪ 優良認定処理業者への処理委託量 | D30: 0 | G30: t | H30: =+AL30 -> 0 | J30: t | R30: =+ROUND(AA28,1)+ROUND(AA29,1)+ROUND(AA30,1) -> 0 | V30: ｔ | Y30: 下水等放流前委託量 | AF30: ｔ | AP30: ｔ
B31: ⑫ 再生利用業者への処理委託量 | D31: 0 | G31: t | H31: =+AS24 -> 0 | J31: t | AA31: 【産業廃棄物の種類 （ア～ト）】 | AL31: =+IF(AL30=0,"",IF(AL27<AL30,"エラー !：⑩の内数である⑪の量が⑩を超えています","")) | AV31: ｔ
B32: ⑬ 認定熱回収業者への処理委託量 | D32: 0 | G32: t | H32: =+AS27 -> 0 | J32: t | R32: B-2 | S32: 最終処分委託量 | AA32: ｱ. 燃え殻 ｲ. 汚泥 ｳ. 廃油 ｴ. 廃酸 ｵ. 廃アルカリ ｶ. 廃ﾌﾟﾗｽﾁｯｸ類 ｷ. 紙くず | AF32: ｸ. 木くず ｹ. 繊維くず ｺ. 動植物性残さ ｻ. 動物系固形不要物 ｼ. ゴムくず ｽ. 金属くず ｾ. ｶﾞﾗｽ・ｺﾝｸﾘｰﾄ・陶磁器くず | AL32: ｿ. 鉱さい ﾀ. がれき類 ﾁ. 動物のふん尿 ﾂ. 動物の死体 ﾃ. ばいじん ト. 混合廃棄物その他 | AS32: =+IF(AS31=0,"",IF(AL27<(AS24+AS27+AS31),"エラー !：⑩の内数である（⑫+⑬＋⑭）の量が⑩を超えています",""))
B33: ⑭ 認定熱回収業者以外の熱回収を行う業者への処理委託量 | D33: 0 | G33: t | H33: =+AS31 -> 0 | J33: t | V33: ｔ
C34: =+IF(D30=0,"",IF(D29<D30,"エラー !：上の表は、⑩の内数である⑪の量が⑩を超えています",""))
C35: =+IF(D31=0,"",IF(D29<D31,"エラー !：上の表は、⑩の内数である⑫の量が⑩を超えています",""))
C36: =+IF(D32=0,"",IF(D29<D32,"エラー !：上の表は、⑩の内数である⑬の量が⑩を超えています",""))
C37: =+IF(D33=0,"",IF(D29<D33,"エラー !：上の表は、⑩の内数である⑭の量が⑩を超えています",""))

Sheet ｸ.木くず
S1: ↓ | T1: 注意：本年度の目標量のみでフロー図の実績データがない場合にも、本年度目標データを該当欄に入力してください
B2: 産業廃棄物処理計画実施状況報告書
AP3: ３－２ | AS3: 法定 | AU3: 自主
AS4: =+表紙!N28 -> ○ | AU4: =+表紙!O28
B5: 別紙処理フロー | Z5: 事業場名称 | AE5: ： | AF5: =+表紙!F47 -> 株式会社ダイセキ環境ソリューション 横浜恵比須リサイクルセンター
B6: 令和７年度に発生した産業廃棄物ごとの量と処理計画の実施結果
B7: フローに記載した産業廃棄物の種類 | D7: ク. 木くず | M7: 「木くず」には業種指定等があり、該当業種以外では一般廃棄物となり、報告対象外です。 【該当業種】木材又は木製品の製造業（家具製造業を含む）、パルプ製造業、輸入木材の卸売業及び物品賃貸業に係るもの、建設業（工作物の新築､改築､除去に伴って生じたもの）。 【全業種対象】貨物の流通のために使用したパレット（パレットへの貨物の積付けのために使用したこん包用の木材を含む。）
B8: ※ | C8: 本用紙は廃棄物の種類ごとに1枚の記載となります。異なる廃棄物の処理フローは別シートに記載してください。 | AH8: ⑧ | AI8: 自ら中間処理した後再生利用した量
B9: （単位：t/年） | F9: 有償物量 | AE9: ａ残さ物の自己処理 | AN9: ｔ
C11: 不要物等発生量 | F11: ① | G11: 当該事業場における排出量 | M11: Ａ 自己処理 | P11: ② | Q11: 自ら直接再生利用した量 | AH11: ⑨ | AI11: 自ら中間処理した後自ら埋立処分又は海洋投入処分した量
F12: =+ROUND(P12,1)+ROUND(P15,1)+ROUND(P18,1)+ROUND(P24,1)+P27-ROUND(F15,1) -> 0 | I12: ｔ | T12: ｔ | AN12: ｔ
F14: ※１ | G14: 自社の他事業場からの搬入量 | P14: ③ | Q14: 自ら直接埋立処分又は海洋投入処分した量 | AH14: ※3 | AI14: 自ら中間処理した後自社の他事業場での処理量
I15: ｔ | T15: ｔ | AN15: ｔ | AS15: （目的別内訳）
P16: =+IF(Y18=0,"",IF(Y18-P18=Y18,"エラー！：⑥残さ物量があるのに、④自ら中間処理した量がゼロになっています","")) | AS16: 再生利用前委託量 | AV16: ｔ
P17: ④ | Q17: 自ら中間処理した量 | Y17: ⑥ | Z17: 自ら中間処理した後の残さ量 | AE17: ｂ残さ物の委託処理 | AH17: ｂ | AI17: 自ら中間処理した後の処理委託量 | AO17: ｂ-1 中間処理委託量 | AS17: 最終処分前 委託量 | AV17: ｔ
T18: ｔ | Y18: =+ROUND(AH9,1)+ROUND(AH12,1)+ROUND(AH15,1)+AH18 -> 0 | AB18: ｔ | AH18: =+ROUND(AO18,1)+ROUND(AO21,1) -> 0 | AL18: ｔ | AO18: =+ROUND(AU16,1)+ROUND(AU17,1)+ROUND(AU18,1) -> 0 | AP18: ｔ | AS18: 下水等放流前委託量 | AV18: ｔ
AW19: （第2面）
P20: ⑤ | Q20: ④のうち熱回収を行った量 | Y20: ⑦ | Z20: 自ら中間処理により減量した量 | AO20: ｂ-2 最終処分委託量
B21: 注）右上のフローには、令和７年度の実績値を記載してください。下表の中央列には、令和７年度目標値を記載してください。下表の右列は、右上フローに記載された令和７年度実績値が自動的に計算されます。 | T21: ｔ | Y21: =+P18-Y18 -> 0 | AB21: ｔ | AP21: ｔ
P22: =+IF(P21=0,"",IF(P18<P21,"エラー !：④の内数である⑤の量が④を超えています",""))
B23: 項 目 | D23: 令和７年度 目標値 | H23: 令和７年度 実績値 | P23: ※２ | Q23: 自社の他事業場での処理量 | AS23: ⑫ | AT23: ⑩のうち再生利用業者への処理委託量
B24: ① 排出量 | D24: 0 | G24: t | H24: =+F12 -> 0 | J24: t | T24: ｔ | AS24: =+ROUND(AU16,1)+ROUND(AA28,1) -> 0 | AV24: ｔ
B25: ②＋⑧ 自ら再生利用を行った量 | D25: 0 | G25: t | H25: =+P12+AH9 -> 0 | J25: t
B26: ⑤ 自ら熱回収を行った量 | D26: 0 | G26: t | H26: =+P21 -> 0 | J26: t | M26: Ｂ 直接委託処理 | P26: Ｂ | Q26: 直接処理委託量 | AL26: ⑩ | AM26: 直接及び自ら中間処理した後の処理委託量 | AS26: ⑬ | AT26: ⑩のうち認定熱回収業者への処理委託量
B27: ⑦ 自ら中間処理により減量した量 | D27: 0 | G27: t | H27: =+Y21 -> 0 | J27: t | P27: =+R30+ROUND(R33,1) -> 0 | T27: ｔ | Y27: （目的別内訳） | AL27: =+AH18+P27 -> 0 | AP27: ｔ | AV27: ｔ
B28: ③＋⑨ 自ら埋立処分又は海洋投入処分を行った量 | D28: 0 | G28: t | H28: =+P15+AH12 -> 0 | J28: t | Y28: 再生利用前委託量 | AF28: ｔ | AS28: =+IF(AS27=0,"",IF(AL27<(AS24+AS27+AS31),"エラー !：⑩の内数である（⑫+⑬＋⑭）の量が⑩を超えています",""))
B29: ⑩ 全処理委託量 | D29: 0 | G29: t | H29: =+AL27 -> 0 | J29: t | R29: B-1 | S29: 中間処理委託量 | Y29: 最終処分前委託量 | AF29: ｔ | AL29: ⑪ | AM29: ⑩のうち優良認定処理業者への処理委託量 | AS29: ⑭ | AT29: ⑩のうち認定熱回収業者以外の熱回収を行う業者への処理委託量
B30: ⑪ 優良認定処理業者への処理委託量 | D30: 0 | G30: t | H30: =+AL30 -> 0 | J30: t | R30: =+ROUND(AA28,1)+ROUND(AA29,1)+ROUND(AA30,1) -> 0 | V30: ｔ | Y30: 下水等放流前委託量 | AF30: ｔ | AP30: ｔ
B31: ⑫ 再生利用業者への処理委託量 | D31: 0 | G31: t | H31: =+AS24 -> 0 | J31: t | AA31: 【産業廃棄物の種類 （ア～ト）】 | AL31: =+IF(AL30=0,"",IF(AL27<AL30,"エラー !：⑩の内数である⑪の量が⑩を超えています","")) | AV31: ｔ
B32: ⑬ 認定熱回収業者への処理委託量 | D32: 0 | G32: t | H32: =+AS27 -> 0 | J32: t | R32: B-2 | S32: 最終処分委託量 | AA32: ｱ. 燃え殻 ｲ. 汚泥 ｳ. 廃油 ｴ. 廃酸 ｵ. 廃アルカリ ｶ. 廃ﾌﾟﾗｽﾁｯｸ類 ｷ. 紙くず | AF32: ｸ. 木くず ｹ. 繊維くず ｺ. 動植物性残さ ｻ. 動物系固形不要物 ｼ. ゴムくず ｽ. 金属くず ｾ. ｶﾞﾗｽ・ｺﾝｸﾘｰﾄ・陶磁器くず | AL32: ｿ. 鉱さい ﾀ. がれき類 ﾁ. 動物のふん尿 ﾂ. 動物の死体 ﾃ. ばいじん ト. 混合廃棄物その他 | AS32: =+IF(AS31=0,"",IF(AL27<(AS24+AS27+AS31),"エラー !：⑩の内数である（⑫+⑬＋⑭）の量が⑩を超えています",""))
B33: ⑭ 認定熱回収業者以外の熱回収を行う業者への処理委託量 | D33: 0 | G33: t | H33: =+AS31 -> 0 | J33: t | V33: ｔ
C34: =+IF(D30=0,"",IF(D29<D30,"エラー !：上の表は、⑩の内数である⑪の量が⑩を超えています",""))
C35: =+IF(D31=0,"",IF(D29<D31,"エラー !：上の表は、⑩の内数である⑫の量が⑩を超えています",""))
C36: =+IF(D32=0,"",IF(D29<D32,"エラー !：上の表は、⑩の内数である⑬の量が⑩を超えています",""))
C37: =+IF(D33=0,"",IF(D29<D33,"エラー !：上の表は、⑩の内数である⑭の量が⑩を超えています",""))

Sheet ｹ.繊維くず
S1: ↓ | T1: 注意：本年度の目標量のみでフロー図の実績データがない場合にも、本年度目標データを該当欄に入力してください
B2: 産業廃棄物処理計画実施状況報告書
AP3: ３－２ | AS3: 法定 | AU3: 自主
AS4: =+表紙!N28 -> ○ | AU4: =+表紙!O28
B5: 別紙処理フロー | Z5: 事業場名称 | AE5: ： | AF5: =+表紙!F47 -> 株式会社ダイセキ環境ソリューション 横浜恵比須リサイクルセンター
B6: 令和７年度に発生した産業廃棄物ごとの量と処理計画の実施結果
B7: フローに記載した産業廃棄物の種類 | D7: ケ. 繊維くず | M7: 「繊維くず」には業種指定があり、該当業種以外では一般廃棄物となり、報告対象外です。 【該当業種】繊維工業（衣服その他の繊維製品製造業を除く）、建設業（工作物の新築､改築､除去に伴って生じたもの）
B8: ※ | C8: 本用紙は廃棄物の種類ごとに1枚の記載となります。異なる廃棄物の処理フローは別シートに記載してください。 | AH8: ⑧ | AI8: 自ら中間処理した後再生利用した量
B9: （単位：t/年） | F9: 有償物量 | AE9: ａ残さ物の自己処理 | AN9: ｔ
C11: 不要物等発生量 | F11: ① | G11: 当該事業場における排出量 | M11: Ａ 自己処理 | P11: ② | Q11: 自ら直接再生利用した量 | AH11: ⑨ | AI11: 自ら中間処理した後自ら埋立処分又は海洋投入処分した量
F12: =+ROUND(P12,1)+ROUND(P15,1)+ROUND(P18,1)+ROUND(P24,1)+P27-ROUND(F15,1) -> 0 | I12: ｔ | T12: ｔ | AN12: ｔ
F14: ※１ | G14: 自社の他事業場からの搬入量 | P14: ③ | Q14: 自ら直接埋立処分又は海洋投入処分した量 | AH14: ※3 | AI14: 自ら中間処理した後自社の他事業場での処理量
I15: ｔ | T15: ｔ | AN15: ｔ | AS15: （目的別内訳）
P16: =+IF(Y18=0,"",IF(Y18-P18=Y18,"エラー！：⑥残さ物量があるのに、④自ら中間処理した量がゼロになっています","")) | AS16: 再生利用前委託量 | AV16: ｔ
P17: ④ | Q17: 自ら中間処理した量 | Y17: ⑥ | Z17: 自ら中間処理した後の残さ量 | AE17: ｂ残さ物の委託処理 | AH17: ｂ | AI17: 自ら中間処理した後の処理委託量 | AO17: ｂ-1 中間処理委託量 | AS17: 最終処分前 委託量 | AV17: ｔ
T18: ｔ | Y18: =+ROUND(AH9,1)+ROUND(AH12,1)+ROUND(AH15,1)+AH18 -> 0 | AB18: ｔ | AH18: =+ROUND(AO18,1)+ROUND(AO21,1) -> 0 | AL18: ｔ | AO18: =+ROUND(AU16,1)+ROUND(AU17,1)+ROUND(AU18,1) -> 0 | AP18: ｔ | AS18: 下水等放流前委託量 | AV18: ｔ
AW19: （第2面）
P20: ⑤ | Q20: ④のうち熱回収を行った量 | Y20: ⑦ | Z20: 自ら中間処理により減量した量 | AO20: ｂ-2 最終処分委託量
B21: 注）右上のフローには、令和７年度の実績値を記載してください。下表の中央列には、令和７年度目標値を記載してください。下表の右列は、右上フローに記載された令和７年度実績値が自動的に計算されます。 | T21: ｔ | Y21: =+P18-Y18 -> 0 | AB21: ｔ | AP21: ｔ
P22: =+IF(P21=0,"",IF(P18<P21,"エラー !：④の内数である⑤の量が④を超えています",""))
B23: 項 目 | D23: 令和７年度 目標値 | H23: 令和７年度 実績値 | P23: ※２ | Q23: 自社の他事業場での処理量 | AS23: ⑫ | AT23: ⑩のうち再生利用業者への処理委託量
B24: ① 排出量 | D24: 0 | G24: t | H24: =+F12 -> 0 | J24: t | T24: ｔ | AS24: =+ROUND(AU16,1)+ROUND(AA28,1) -> 0 | AV24: ｔ
B25: ②＋⑧ 自ら再生利用を行った量 | D25: 0 | G25: t | H25: =+P12+AH9 -> 0 | J25: t
B26: ⑤ 自ら熱回収を行った量 | D26: 0 | G26: t | H26: =+P21 -> 0 | J26: t | M26: Ｂ 直接委託処理 | P26: Ｂ | Q26: 直接処理委託量 | AL26: ⑩ | AM26: 直接及び自ら中間処理した後の処理委託量 | AS26: ⑬ | AT26: ⑩のうち認定熱回収業者への処理委託量
B27: ⑦ 自ら中間処理により減量した量 | D27: 0 | G27: t | H27: =+Y21 -> 0 | J27: t | P27: =+R30+ROUND(R33,1) -> 0 | T27: ｔ | Y27: （目的別内訳） | AL27: =+AH18+P27 -> 0 | AP27: ｔ | AV27: ｔ
B28: ③＋⑨ 自ら埋立処分又は海洋投入処分を行った量 | D28: 0 | G28: t | H28: =+P15+AH12 -> 0 | J28: t | Y28: 再生利用前委託量 | AF28: ｔ | AS28: =+IF(AS27=0,"",IF(AL27<(AS24+AS27+AS31),"エラー !：⑩の内数である（⑫+⑬＋⑭）の量が⑩を超えています",""))
B29: ⑩ 全処理委託量 | D29: 0 | G29: t | H29: =+AL27 -> 0 | J29: t | R29: B-1 | S29: 中間処理委託量 | Y29: 最終処分前委託量 | AF29: ｔ | AL29: ⑪ | AM29: ⑩のうち優良認定処理業者への処理委託量 | AS29: ⑭ | AT29: ⑩のうち認定熱回収業者以外の熱回収を行う業者への処理委託量
B30: ⑪ 優良認定処理業者への処理委託量 | D30: 0 | G30: t | H30: =+AL30 -> 0 | J30: t | R30: =+ROUND(AA28,1)+ROUND(AA29,1)+ROUND(AA30,1) -> 0 | V30: ｔ | Y30: 下水等放流前委託量 | AF30: ｔ | AP30: ｔ
B31: ⑫ 再生利用業者への処理委託量 | D31: 0 | G31: t | H31: =+AS24 -> 0 | J31: t | AA31: 【産業廃棄物の種類 （ア～ト）】 | AL31: =+IF(AL30=0,"",IF(AL27<AL30,"エラー !：⑩の内数である⑪の量が⑩を超えています","")) | AV31: ｔ
B32: ⑬ 認定熱回収業者への処理委託量 | D32: 0 | G32: t | H32: =+AS27 -> 0 | J32: t | R32: B-2 | S32: 最終処分委託量 | AA32: ｱ. 燃え殻 ｲ. 汚泥 ｳ. 廃油 ｴ. 廃酸 ｵ. 廃アルカリ ｶ. 廃ﾌﾟﾗｽﾁｯｸ類 ｷ. 紙くず | AF32: ｸ. 木くず ｹ. 繊維くず ｺ. 動植物性残さ ｻ. 動物系固形不要物 ｼ. ゴムくず ｽ. 金属くず ｾ. ｶﾞﾗｽ・ｺﾝｸﾘｰﾄ・陶磁器くず | AL32: ｿ. 鉱さい ﾀ. がれき類 ﾁ. 動物のふん尿 ﾂ. 動物の死体 ﾃ. ばいじん ト. 混合廃棄物その他 | AS32: =+IF(AS31=0,"",IF(AL27<(AS24+AS27+AS31),"エラー !：⑩の内数である（⑫+⑬＋⑭）の量が⑩を超えています",""))
B33: ⑭ 認定熱回収業者以外の熱回収を行う業者への処理委託量 | D33: 0 | G33: t | H33: =+AS31 -> 0 | J33: t | V33: ｔ
C34: =+IF(D30=0,"",IF(D29<D30,"エラー !：上の表は、⑩の内数である⑪の量が⑩を超えています",""))
C35: =+IF(D31=0,"",IF(D29<D31,"エラー !：上の表は、⑩の内数である⑫の量が⑩を超えています",""))
C36: =+IF(D32=0,"",IF(D29<D32,"エラー !：上の表は、⑩の内数である⑬の量が⑩を超えています",""))
C37: =+IF(D33=0,"",IF(D29<D33,"エラー !：上の表は、⑩の内数である⑭の量が⑩を超えています",""))

Sheet ｺ.動植物性残さ
S1: ↓ | T1: 注意：本年度の目標量のみでフロー図の実績データがない場合にも、本年度目標データを該当欄に入力してください
B2: 産業廃棄物処理計画実施状況報告書
AP3: ３－２ | AS3: 法定 | AU3: 自主
AS4: =+表紙!N28 -> ○ | AU4: =+表紙!O28
B5: 別紙処理フロー | Z5: 事業場名称 | AE5: ： | AF5: =+表紙!F47 -> 株式会社ダイセキ環境ソリューション 横浜恵比須リサイクルセンター
B6: 令和７年度に発生した産業廃棄物ごとの量と処理計画の実施結果
B7: フローに記載した産業廃棄物の種類 | D7: コ. 動植物性残さ | M7: 「動植物性残さ」には業種指定があり、該当業種以外では一般廃棄物となり、報告対象外です。 【該当業種】食料品製造業、医薬品製造業、香料製造業において原料として使用した動物又は植物の固形状の不要物
B8: ※ | C8: 本用紙は廃棄物の種類ごとに1枚の記載となります。異なる廃棄物の処理フローは別シートに記載してください。 | AH8: ⑧ | AI8: 自ら中間処理した後再生利用した量
B9: （単位：t/年） | F9: 有償物量 | AE9: ａ残さ物の自己処理 | AN9: ｔ
C11: 不要物等発生量 | F11: ① | G11: 当該事業場における排出量 | M11: Ａ 自己処理 | P11: ② | Q11: 自ら直接再生利用した量 | AH11: ⑨ | AI11: 自ら中間処理した後自ら埋立処分又は海洋投入処分した量
F12: =+ROUND(P12,1)+ROUND(P15,1)+ROUND(P18,1)+ROUND(P24,1)+P27-ROUND(F15,1) -> 0 | I12: ｔ | T12: ｔ | AN12: ｔ
F14: ※１ | G14: 自社の他事業場からの搬入量 | P14: ③ | Q14: 自ら直接埋立処分又は海洋投入処分した量 | AH14: ※3 | AI14: 自ら中間処理した後自社の他事業場での処理量
I15: ｔ | T15: ｔ | AN15: ｔ | AS15: （目的別内訳）
P16: =+IF(Y18=0,"",IF(Y18-P18=Y18,"エラー！：⑥残さ物量があるのに、④自ら中間処理した量がゼロになっています","")) | AS16: 再生利用前委託量 | AV16: ｔ
P17: ④ | Q17: 自ら中間処理した量 | Y17: ⑥ | Z17: 自ら中間処理した後の残さ量 | AE17: ｂ残さ物の委託処理 | AH17: ｂ | AI17: 自ら中間処理した後の処理委託量 | AO17: ｂ-1 中間処理委託量 | AS17: 最終処分前 委託量 | AV17: ｔ
T18: ｔ | Y18: =+ROUND(AH9,1)+ROUND(AH12,1)+ROUND(AH15,1)+AH18 -> 0 | AB18: ｔ | AH18: =+ROUND(AO18,1)+ROUND(AO21,1) -> 0 | AL18: ｔ | AO18: =+ROUND(AU16,1)+ROUND(AU17,1)+ROUND(AU18,1) -> 0 | AP18: ｔ | AS18: 下水等放流前委託量 | AV18: ｔ
AW19: （第2面）
P20: ⑤ | Q20: ④のうち熱回収を行った量 | Y20: ⑦ | Z20: 自ら中間処理により減量した量 | AO20: ｂ-2 最終処分委託量
B21: 注）右上のフローには、令和７年度の実績値を記載してください。下表の中央列には、令和７年度目標値を記載してください。下表の右列は、右上フローに記載された令和７年度実績値が自動的に計算されます。 | T21: ｔ | Y21: =+P18-Y18 -> 0 | AB21: ｔ | AP21: ｔ
P22: =+IF(P21=0,"",IF(P18<P21,"エラー !：④の内数である⑤の量が④を超えています",""))
B23: 項 目 | D23: 令和７年度 目標値 | H23: 令和７年度 実績値 | P23: ※２ | Q23: 自社の他事業場での処理量 | AS23: ⑫ | AT23: ⑩のうち再生利用業者への処理委託量
B24: ① 排出量 | D24: 0 | G24: t | H24: =+F12 -> 0 | J24: t | T24: ｔ | AS24: =+ROUND(AU16,1)+ROUND(AA28,1) -> 0 | AV24: ｔ
B25: ②＋⑧ 自ら再生利用を行った量 | D25: 0 | G25: t | H25: =+P12+AH9 -> 0 | J25: t
B26: ⑤ 自ら熱回収を行った量 | D26: 0 | G26: t | H26: =+P21 -> 0 | J26: t | M26: Ｂ 直接委託処理 | P26: Ｂ | Q26: 直接処理委託量 | AL26: ⑩ | AM26: 直接及び自ら中間処理した後の処理委託量 | AS26: ⑬ | AT26: ⑩のうち認定熱回収業者への処理委託量
B27: ⑦ 自ら中間処理により減量した量 | D27: 0 | G27: t | H27: =+Y21 -> 0 | J27: t | P27: =+R30+ROUND(R33,1) -> 0 | T27: ｔ | Y27: （目的別内訳） | AL27: =+AH18+P27 -> 0 | AP27: ｔ | AV27: ｔ
B28: ③＋⑨ 自ら埋立処分又は海洋投入処分を行った量 | D28: 0 | G28: t | H28: =+P15+AH12 -> 0 | J28: t | Y28: 再生利用前委託量 | AF28: ｔ | AS28: =+IF(AS27=0,"",IF(AL27<(AS24+AS27+AS31),"エラー !：⑩の内数である（⑫+⑬＋⑭）の量が⑩を超えています",""))
B29: ⑩ 全処理委託量 | D29: 0 | G29: t | H29: =+AL27 -> 0 | J29: t | R29: B-1 | S29: 中間処理委託量 | Y29: 最終処分前委託量 | AF29: ｔ | AL29: ⑪ | AM29: ⑩のうち優良認定処理業者への処理委託量 | AS29: ⑭ | AT29: ⑩のうち認定熱回収業者以外の熱回収を行う業者への処理委託量
B30: ⑪ 優良認定処理業者への処理委託量 | D30: 0 | G30: t | H30: =+AL30 -> 0 | J30: t | R30: =+ROUND(AA28,1)+ROUND(AA29,1)+ROUND(AA30,1) -> 0 | V30: ｔ | Y30: 下水等放流前委託量 | AF30: ｔ | AP30: ｔ
B31: ⑫ 再生利用業者への処理委託量 | D31: 0 | G31: t | H31: =+AS24 -> 0 | J31: t | AA31: 【産業廃棄物の種類 （ア～ト）】 | AL31: =+IF(AL30=0,"",IF(AL27<AL30,"エラー !：⑩の内数である⑪の量が⑩を超えています","")) | AV31: ｔ
B32: ⑬ 認定熱回収業者への処理委託量 | D32: 0 | G32: t | H32: =+AS27 -> 0 | J32: t | R32: B-2 | S32: 最終処分委託量 | AA32: ｱ. 燃え殻 ｲ. 汚泥 ｳ. 廃油 ｴ. 廃酸 ｵ. 廃アルカリ ｶ. 廃ﾌﾟﾗｽﾁｯｸ類 ｷ. 紙くず | AF32: ｸ. 木くず ｹ. 繊維くず ｺ. 動植物性残さ ｻ. 動物系固形不要物 ｼ. ゴムくず ｽ. 金属くず ｾ. ｶﾞﾗｽ・ｺﾝｸﾘｰﾄ・陶磁器くず | AL32: ｿ. 鉱さい ﾀ. がれき類 ﾁ. 動物のふん尿 ﾂ. 動物の死体 ﾃ. ばいじん ト. 混合廃棄物その他 | AS32: =+IF(AS31=0,"",IF(AL27<(AS24+AS27+AS31),"エラー !：⑩の内数である（⑫+⑬＋⑭）の量が⑩を超えています",""))
B33: ⑭ 認定熱回収業者以外の熱回収を行う業者への処理委託量 | D33: 0 | G33: t | H33: =+AS31 -> 0 | J33: t | V33: ｔ
C34: =+IF(D30=0,"",IF(D29<D30,"エラー !：上の表は、⑩の内数である⑪の量が⑩を超えています",""))
C35: =+IF(D31=0,"",IF(D29<D31,"エラー !：上の表は、⑩の内数である⑫の量が⑩を超えています",""))
C36: =+IF(D32=0,"",IF(D29<D32,"エラー !：上の表は、⑩の内数である⑬の量が⑩を超えています",""))
C37: =+IF(D33=0,"",IF(D29<D33,"エラー !：上の表は、⑩の内数である⑭の量が⑩を超えています",""))

Sheet ｻ.動物系固形不要物
S1: ↓ | T1: 注意：本年度の目標量のみでフロー図の実績データがない場合にも、本年度目標データを該当欄に入力してください
B2: 産業廃棄物処理計画実施状況報告書
AP3: ３－２ | AS3: 法定 | AU3: 自主
AS4: =+表紙!N28 -> ○ | AU4: =+表紙!O28
B5: 別紙処理フロー | Z5: 事業場名称 | AE5: ： | AF5: =+表紙!F47 -> 株式会社ダイセキ環境ソリューション 横浜恵比須リサイクルセンター
B6: 令和７年度に発生した産業廃棄物ごとの量と処理計画の実施結果
B7: フローに記載した産業廃棄物の種類 | D7: サ. 動物系固形不要物 | M7: 「動物系固形不要物」には業種指定があり、該当業種以外では一般廃棄物となり、報告対象外です。 【該当業種】と畜場においてとさつし、又は解体した獣畜及び食鳥処理場において食鳥処理をした食鳥に係る固形状の不要物
B8: ※ | C8: 本用紙は廃棄物の種類ごとに1枚の記載となります。異なる廃棄物の処理フローは別シートに記載してください。 | AH8: ⑧ | AI8: 自ら中間処理した後再生利用した量
B9: （単位：t/年） | F9: 有償物量 | AE9: ａ残さ物の自己処理 | AN9: ｔ
C11: 不要物等発生量 | F11: ① | G11: 当該事業場における排出量 | M11: Ａ 自己処理 | P11: ② | Q11: 自ら直接再生利用した量 | AH11: ⑨ | AI11: 自ら中間処理した後自ら埋立処分又は海洋投入処分した量
F12: =+ROUND(P12,1)+ROUND(P15,1)+ROUND(P18,1)+ROUND(P24,1)+P27-ROUND(F15,1) -> 0 | I12: ｔ | T12: ｔ | AN12: ｔ
F14: ※１ | G14: 自社の他事業場からの搬入量 | P14: ③ | Q14: 自ら直接埋立処分又は海洋投入処分した量 | AH14: ※3 | AI14: 自ら中間処理した後自社の他事業場での処理量
I15: ｔ | T15: ｔ | AN15: ｔ | AS15: （目的別内訳）
P16: =+IF(Y18=0,"",IF(Y18-P18=Y18,"エラー！：⑥残さ物量があるのに、④自ら中間処理した量がゼロになっています","")) | AS16: 再生利用前委託量 | AV16: ｔ
P17: ④ | Q17: 自ら中間処理した量 | Y17: ⑥ | Z17: 自ら中間処理した後の残さ量 | AE17: ｂ残さ物の委託処理 | AH17: ｂ | AI17: 自ら中間処理した後の処理委託量 | AO17: ｂ-1 中間処理委託量 | AS17: 最終処分前 委託量 | AV17: ｔ
T18: ｔ | Y18: =+ROUND(AH9,1)+ROUND(AH12,1)+ROUND(AH15,1)+AH18 -> 0 | AB18: ｔ | AH18: =+ROUND(AO18,1)+ROUND(AO21,1) -> 0 | AL18: ｔ | AO18: =+ROUND(AU16,1)+ROUND(AU17,1)+ROUND(AU18,1) -> 0 | AP18: ｔ | AS18: 下水等放流前委託量 | AV18: ｔ
AW19: （第2面）
P20: ⑤ | Q20: ④のうち熱回収を行った量 | Y20: ⑦ | Z20: 自ら中間処理により減量した量 | AO20: ｂ-2 最終処分委託量
B21: 注）右上のフローには、令和７年度の実績値を記載してください。下表の中央列には、令和７年度目標値を記載してください。下表の右列は、右上フローに記載された令和７年度実績値が自動的に計算されます。 | T21: ｔ | Y21: =+P18-Y18 -> 0 | AB21: ｔ | AP21: ｔ
P22: =+IF(P21=0,"",IF(P18<P21,"エラー !：④の内数である⑤の量が④を超えています",""))
B23: 項 目 | D23: 令和７年度 目標値 | H23: 令和７年度 実績値 | P23: ※２ | Q23: 自社の他事業場での処理量 | AS23: ⑫ | AT23: ⑩のうち再生利用業者への処理委託量
B24: ① 排出量 | D24: 0 | G24: t | H24: =+F12 -> 0 | J24: t | T24: ｔ | AS24: =+ROUND(AU16,1)+ROUND(AA28,1) -> 0 | AV24: ｔ
B25: ②＋⑧ 自ら再生利用を行った量 | D25: 0 | G25: t | H25: =+P12+AH9 -> 0 | J25: t
B26: ⑤ 自ら熱回収を行った量 | D26: 0 | G26: t | H26: =+P21 -> 0 | J26: t | M26: Ｂ 直接委託処理 | P26: Ｂ | Q26: 直接処理委託量 | AL26: ⑩ | AM26: 直接及び自ら中間処理した後の処理委託量 | AS26: ⑬ | AT26: ⑩のうち認定熱回収業者への処理委託量
B27: ⑦ 自ら中間処理により減量した量 | D27: 0 | G27: t | H27: =+Y21 -> 0 | J27: t | P27: =+R30+ROUND(R33,1) -> 0 | T27: ｔ | Y27: （目的別内訳） | AL27: =+AH18+P27 -> 0 | AP27: ｔ | AV27: ｔ
B28: ③＋⑨ 自ら埋立処分又は海洋投入処分を行った量 | D28: 0 | G28: t | H28: =+P15+AH12 -> 0 | J28: t | Y28: 再生利用前委託量 | AF28: ｔ | AS28: =+IF(AS27=0,"",IF(AL27<(AS24+AS27+AS31),"エラー !：⑩の内数である（⑫+⑬＋⑭）の量が⑩を超えています",""))
B29: ⑩ 全処理委託量 | D29: 0 | G29: t | H29: =+AL27 -> 0 | J29: t | R29: B-1 | S29: 中間処理委託量 | Y29: 最終処分前委託量 | AF29: ｔ | AL29: ⑪ | AM29: ⑩のうち優良認定処理業者への処理委託量 | AS29: ⑭ | AT29: ⑩のうち認定熱回収業者以外の熱回収を行う業者への処理委託量
B30: ⑪ 優良認定処理業者への処理委託量 | D30: 0 | G30: t | H30: =+AL30 -> 0 | J30: t | R30: =+ROUND(AA28,1)+ROUND(AA29,1)+ROUND(AA30,1) -> 0 | V30: ｔ | Y30: 下水等放流前委託量 | AF30: ｔ | AP30: ｔ
B31: ⑫ 再生利用業者への処理委託量 | D31: 0 | G31: t | H31: =+AS24 -> 0 | J31: t | AA31: 【産業廃棄物の種類 （ア～ト）】 | AL31: =+IF(AL30=0,"",IF(AL27<AL30,"エラー !：⑩の内数である⑪の量が⑩を超えています","")) | AV31: ｔ
B32: ⑬ 認定熱回収業者への処理委託量 | D32: 0 | G32: t | H32: =+AS27 -> 0 | J32: t | R32: B-2 | S32: 最終処分委託量 | AA32: ｱ. 燃え殻 ｲ. 汚泥 ｳ. 廃油 ｴ. 廃酸 ｵ. 廃アルカリ ｶ. 廃ﾌﾟﾗｽﾁｯｸ類 ｷ. 紙くず | AF32: ｸ. 木くず ｹ. 繊維くず ｺ. 動植物性残さ ｻ. 動物系固形不要物 ｼ. ゴムくず ｽ. 金属くず ｾ. ｶﾞﾗｽ・ｺﾝｸﾘｰﾄ・陶磁器くず | AL32: ｿ. 鉱さい ﾀ. がれき類 ﾁ. 動物のふん尿 ﾂ. 動物の死体 ﾃ. ばいじん ト. 混合廃棄物その他 | AS32: =+IF(AS31=0,"",IF(AL27<(AS24+AS27+AS31),"エラー !：⑩の内数である（⑫+⑬＋⑭）の量が⑩を超えています",""))
B33: ⑭ 認定熱回収業者以外の熱回収を行う業者への処理委託量 | D33: 0 | G33: t | H33: =+AS31 -> 0 | J33: t | V33: ｔ
C34: =+IF(D30=0,"",IF(D29<D30,"エラー !：上の表は、⑩の内数である⑪の量が⑩を超えています",""))
C35: =+IF(D31=0,"",IF(D29<D31,"エラー !：上の表は、⑩の内数である⑫の量が⑩を超えています",""))
C36: =+IF(D32=0,"",IF(D29<D32,"エラー !：上の表は、⑩の内数である⑬の量が⑩を超えています",""))
C37: =+IF(D33=0,"",IF(D29<D33,"エラー !：上の表は、⑩の内数である⑭の量が⑩を超えています",""))

Sheet ｼ.ｺﾞﾑくず
S1: ↓ | T1: 注意：本年度の目標量のみでフロー図の実績データがない場合にも、本年度目標データを該当欄に入力してください
B2: 産業廃棄物処理計画実施状況報告書
AP3: ３－２ | AS3: 法定 | AU3: 自主
AS4: =+表紙!N28 -> ○ | AU4: =+表紙!O28
B5: 別紙処理フロー | Z5: 事業場名称 | AE5: ： | AF5: =+表紙!F47 -> 株式会社ダイセキ環境ソリューション 横浜恵比須リサイクルセンター
B6: 令和７年度に発生した産業廃棄物ごとの量と処理計画の実施結果
B7: フローに記載した産業廃棄物の種類 | D7: シ. ゴムくず
B8: ※ | C8: 本用紙は廃棄物の種類ごとに1枚の記載となります。異なる廃棄物の処理フローは別シートに記載してください。 | AH8: ⑧ | AI8: 自ら中間処理した後再生利用した量
B9: （単位：t/年） | F9: 有償物量 | AE9: ａ残さ物の自己処理 | AN9: ｔ
C11: 不要物等発生量 | F11: ① | G11: 当該事業場における排出量 | M11: Ａ 自己処理 | P11: ② | Q11: 自ら直接再生利用した量 | AH11: ⑨ | AI11: 自ら中間処理した後自ら埋立処分又は海洋投入処分した量
F12: =+ROUND(P12,1)+ROUND(P15,1)+ROUND(P18,1)+ROUND(P24,1)+P27-ROUND(F15,1) -> 0 | I12: ｔ | T12: ｔ | AN12: ｔ
F14: ※１ | G14: 自社の他事業場からの搬入量 | P14: ③ | Q14: 自ら直接埋立処分又は海洋投入処分した量 | AH14: ※3 | AI14: 自ら中間処理した後自社の他事業場での処理量
I15: ｔ | T15: ｔ | AN15: ｔ | AS15: （目的別内訳）
P16: =+IF(Y18=0,"",IF(Y18-P18=Y18,"エラー！：⑥残さ物量があるのに、④自ら中間処理した量がゼロになっています","")) | AS16: 再生利用前委託量 | AV16: ｔ
P17: ④ | Q17: 自ら中間処理した量 | Y17: ⑥ | Z17: 自ら中間処理した後の残さ量 | AE17: ｂ残さ物の委託処理 | AH17: ｂ | AI17: 自ら中間処理した後の処理委託量 | AO17: ｂ-1 中間処理委託量 | AS17: 最終処分前 委託量 | AV17: ｔ
T18: ｔ | Y18: =+ROUND(AH9,1)+ROUND(AH12,1)+ROUND(AH15,1)+AH18 -> 0 | AB18: ｔ | AH18: =+ROUND(AO18,1)+ROUND(AO21,1) -> 0 | AL18: ｔ | AO18: =+ROUND(AU16,1)+ROUND(AU17,1)+ROUND(AU18,1) -> 0 | AP18: ｔ | AS18: 下水等放流前委託量 | AV18: ｔ
AW19: （第2面）
P20: ⑤ | Q20: ④のうち熱回収を行った量 | Y20: ⑦ | Z20: 自ら中間処理により減量した量 | AO20: ｂ-2 最終処分委託量
B21: 注）右上のフローには、令和７年度の実績値を記載してください。下表の中央列には、令和７年度目標値を記載してください。下表の右列は、右上フローに記載された令和７年度実績値が自動的に計算されます。 | T21: ｔ | Y21: =+P18-Y18 -> 0 | AB21: ｔ | AP21: ｔ
P22: =+IF(P21=0,"",IF(P18<P21,"エラー !：④の内数である⑤の量が④を超えています",""))
B23: 項 目 | D23: 令和７年度 目標値 | H23: 令和７年度 実績値 | P23: ※２ | Q23: 自社の他事業場での処理量 | AS23: ⑫ | AT23: ⑩のうち再生利用業者への処理委託量
B24: ① 排出量 | D24: 0 | G24: t | H24: =+F12 -> 0 | J24: t | T24: ｔ | AS24: =+ROUND(AU16,1)+ROUND(AA28,1) -> 0 | AV24: ｔ
B25: ②＋⑧ 自ら再生利用を行った量 | D25: 0 | G25: t | H25: =+P12+AH9 -> 0 | J25: t
B26: ⑤ 自ら熱回収を行った量 | D26: 0 | G26: t | H26: =+P21 -> 0 | J26: t | M26: Ｂ 直接委託処理 | P26: Ｂ | Q26: 直接処理委託量 | AL26: ⑩ | AM26: 直接及び自ら中間処理した後の処理委託量 | AS26: ⑬ | AT26: ⑩のうち認定熱回収業者への処理委託量
B27: ⑦ 自ら中間処理により減量した量 | D27: 0 | G27: t | H27: =+Y21 -> 0 | J27: t | P27: =+R30+ROUND(R33,1) -> 0 | T27: ｔ | Y27: （目的別内訳） | AL27: =+AH18+P27 -> 0 | AP27: ｔ | AV27: ｔ
B28: ③＋⑨ 自ら埋立処分又は海洋投入処分を行った量 | D28: 0 | G28: t | H28: =+P15+AH12 -> 0 | J28: t | Y28: 再生利用前委託量 | AF28: ｔ | AS28: =+IF(AS27=0,"",IF(AL27<(AS24+AS27+AS31),"エラー !：⑩の内数である（⑫+⑬＋⑭）の量が⑩を超えています",""))
B29: ⑩ 全処理委託量 | D29: 0 | G29: t | H29: =+AL27 -> 0 | J29: t | R29: B-1 | S29: 中間処理委託量 | Y29: 最終処分前委託量 | AF29: ｔ | AL29: ⑪ | AM29: ⑩のうち優良認定処理業者への処理委託量 | AS29: ⑭ | AT29: ⑩のうち認定熱回収業者以外の熱回収を行う業者への処理委託量
B30: ⑪ 優良認定処理業者への処理委託量 | D30: 0 | G30: t | H30: =+AL30 -> 0 | J30: t | R30: =+ROUND(AA28,1)+ROUND(AA29,1)+ROUND(AA30,1) -> 0 | V30: ｔ | Y30: 下水等放流前委託量 | AF30: ｔ | AP30: ｔ
B31: ⑫ 再生利用業者への処理委託量 | D31: 0 | G31: t | H31: =+AS24 -> 0 | J31: t | AA31: 【産業廃棄物の種類 （ア～ト）】 | AL31: =+IF(AL30=0,"",IF(AL27<AL30,"エラー !：⑩の内数である⑪の量が⑩を超えています","")) | AV31: ｔ
B32: ⑬ 認定熱回収業者への処理委託量 | D32: 0 | G32: t | H32: =+AS27 -> 0 | J32: t | R32: B-2 | S32: 最終処分委託量 | AA32: ｱ. 燃え殻 ｲ. 汚泥 ｳ. 廃油 ｴ. 廃酸 ｵ. 廃アルカリ ｶ. 廃ﾌﾟﾗｽﾁｯｸ類 ｷ. 紙くず | AF32: ｸ. 木くず ｹ. 繊維くず ｺ. 動植物性残さ ｻ. 動物系固形不要物 ｼ. ゴムくず ｽ. 金属くず ｾ. ｶﾞﾗｽ・ｺﾝｸﾘｰﾄ・陶磁器くず | AL32: ｿ. 鉱さい ﾀ. がれき類 ﾁ. 動物のふん尿 ﾂ. 動物の死体 ﾃ. ばいじん ト. 混合廃棄物その他 | AS32: =+IF(AS31=0,"",IF(AL27<(AS24+AS27+AS31),"エラー !：⑩の内数である（⑫+⑬＋⑭）の量が⑩を超えています",""))
B33: ⑭ 認定熱回収業者以外の熱回収を行う業者への処理委託量 | D33: 0 | G33: t | H33: =+AS31 -> 0 | J33: t | V33: ｔ
C34: =+IF(D30=0,"",IF(D29<D30,"エラー !：上の表は、⑩の内数である⑪の量が⑩を超えています",""))
C35: =+IF(D31=0,"",IF(D29<D31,"エラー !：上の表は、⑩の内数である⑫の量が⑩を超えています",""))
C36: =+IF(D32=0,"",IF(D29<D32,"エラー !：上の表は、⑩の内数である⑬の量が⑩を超えています",""))
C37: =+IF(D33=0,"",IF(D29<D33,"エラー !：上の表は、⑩の内数である⑭の量が⑩を超えています",""))

Sheet ｽ.金属くず
S1: ↓ | T1: 注意：本年度の目標量のみでフロー図の実績データがない場合にも、本年度目標データを該当欄に入力してください
B2: 産業廃棄物処理計画実施状況報告書
AP3: ３－２ | AS3: 法定 | AU3: 自主
AS4: =+表紙!N28 -> ○ | AU4: =+表紙!O28
B5: 別紙処理フロー | Z5: 事業場名称 | AE5: ： | AF5: =+表紙!F47 -> 株式会社ダイセキ環境ソリューション 横浜恵比須リサイクルセンター
B6: 令和７年度に発生した産業廃棄物ごとの量と処理計画の実施結果
B7: フローに記載した産業廃棄物の種類 | D7: ス. 金属くず
B8: ※ | C8: 本用紙は廃棄物の種類ごとに1枚の記載となります。異なる廃棄物の処理フローは別シートに記載してください。 | AH8: ⑧ | AI8: 自ら中間処理した後再生利用した量
B9: （単位：t/年） | F9: 有償物量 | AE9: ａ残さ物の自己処理 | AN9: ｔ
C11: 不要物等発生量 | F11: ① | G11: 当該事業場における排出量 | M11: Ａ 自己処理 | P11: ② | Q11: 自ら直接再生利用した量 | AH11: ⑨ | AI11: 自ら中間処理した後自ら埋立処分又は海洋投入処分した量
F12: =+ROUND(P12,1)+ROUND(P15,1)+ROUND(P18,1)+ROUND(P24,1)+P27-ROUND(F15,1) -> 0 | I12: ｔ | T12: ｔ | AN12: ｔ
F14: ※１ | G14: 自社の他事業場からの搬入量 | P14: ③ | Q14: 自ら直接埋立処分又は海洋投入処分した量 | AH14: ※3 | AI14: 自ら中間処理した後自社の他事業場での処理量
I15: ｔ | T15: ｔ | AN15: ｔ | AS15: （目的別内訳）
P16: =+IF(Y18=0,"",IF(Y18-P18=Y18,"エラー！：⑥残さ物量があるのに、④自ら中間処理した量がゼロになっています","")) | AS16: 再生利用前委託量 | AV16: ｔ
P17: ④ | Q17: 自ら中間処理した量 | Y17: ⑥ | Z17: 自ら中間処理した後の残さ量 | AE17: ｂ残さ物の委託処理 | AH17: ｂ | AI17: 自ら中間処理した後の処理委託量 | AO17: ｂ-1 中間処理委託量 | AS17: 最終処分前 委託量 | AV17: ｔ
T18: ｔ | Y18: =+ROUND(AH9,1)+ROUND(AH12,1)+ROUND(AH15,1)+AH18 -> 0 | AB18: ｔ | AH18: =+ROUND(AO18,1)+ROUND(AO21,1) -> 0 | AL18: ｔ | AO18: =+ROUND(AU16,1)+ROUND(AU17,1)+ROUND(AU18,1) -> 0 | AP18: ｔ | AS18: 下水等放流前委託量 | AV18: ｔ
AW19: （第2面）
P20: ⑤ | Q20: ④のうち熱回収を行った量 | Y20: ⑦ | Z20: 自ら中間処理により減量した量 | AO20: ｂ-2 最終処分委託量
B21: 注）右上のフローには、令和７年度の実績値を記載してください。下表の中央列には、令和７年度目標値を記載してください。下表の右列は、右上フローに記載された令和７年度実績値が自動的に計算されます。 | T21: ｔ | Y21: =+P18-Y18 -> 0 | AB21: ｔ | AP21: ｔ
P22: =+IF(P21=0,"",IF(P18<P21,"エラー !：④の内数である⑤の量が④を超えています",""))
B23: 項 目 | D23: 令和７年度 目標値 | H23: 令和７年度 実績値 | P23: ※２ | Q23: 自社の他事業場での処理量 | AS23: ⑫ | AT23: ⑩のうち再生利用業者への処理委託量
B24: ① 排出量 | D24: 0 | G24: t | H24: =+F12 -> 0 | J24: t | T24: ｔ | AS24: =+ROUND(AU16,1)+ROUND(AA28,1) -> 0 | AV24: ｔ
B25: ②＋⑧ 自ら再生利用を行った量 | D25: 0 | G25: t | H25: =+P12+AH9 -> 0 | J25: t
B26: ⑤ 自ら熱回収を行った量 | D26: 0 | G26: t | H26: =+P21 -> 0 | J26: t | M26: Ｂ 直接委託処理 | P26: Ｂ | Q26: 直接処理委託量 | AL26: ⑩ | AM26: 直接及び自ら中間処理した後の処理委託量 | AS26: ⑬ | AT26: ⑩のうち認定熱回収業者への処理委託量
B27: ⑦ 自ら中間処理により減量した量 | D27: 0 | G27: t | H27: =+Y21 -> 0 | J27: t | P27: =+R30+ROUND(R33,1) -> 0 | T27: ｔ | Y27: （目的別内訳） | AL27: =+AH18+P27 -> 0 | AP27: ｔ | AV27: ｔ
B28: ③＋⑨ 自ら埋立処分又は海洋投入処分を行った量 | D28: 0 | G28: t | H28: =+P15+AH12 -> 0 | J28: t | Y28: 再生利用前委託量 | AF28: ｔ | AS28: =+IF(AS27=0,"",IF(AL27<(AS24+AS27+AS31),"エラー !：⑩の内数である（⑫+⑬＋⑭）の量が⑩を超えています",""))
B29: ⑩ 全処理委託量 | D29: 0 | G29: t | H29: =+AL27 -> 0 | J29: t | R29: B-1 | S29: 中間処理委託量 | Y29: 最終処分前委託量 | AF29: ｔ | AL29: ⑪ | AM29: ⑩のうち優良認定処理業者への処理委託量 | AS29: ⑭ | AT29: ⑩のうち認定熱回収業者以外の熱回収を行う業者への処理委託量
B30: ⑪ 優良認定処理業者への処理委託量 | D30: 0 | G30: t | H30: =+AL30 -> 0 | J30: t | R30: =+ROUND(AA28,1)+ROUND(AA29,1)+ROUND(AA30,1) -> 0 | V30: ｔ | Y30: 下水等放流前委託量 | AF30: ｔ | AP30: ｔ
B31: ⑫ 再生利用業者への処理委託量 | D31: 0 | G31: t | H31: =+AS24 -> 0 | J31: t | AA31: 【産業廃棄物の種類 （ア～ト）】 | AL31: =+IF(AL30=0,"",IF(AL27<AL30,"エラー !：⑩の内数である⑪の量が⑩を超えています","")) | AV31: ｔ
B32: ⑬ 認定熱回収業者への処理委託量 | D32: 0 | G32: t | H32: =+AS27 -> 0 | J32: t | R32: B-2 | S32: 最終処分委託量 | AA32: ｱ. 燃え殻 ｲ. 汚泥 ｳ. 廃油 ｴ. 廃酸 ｵ. 廃アルカリ ｶ. 廃ﾌﾟﾗｽﾁｯｸ類 ｷ. 紙くず | AF32: ｸ. 木くず ｹ. 繊維くず ｺ. 動植物性残さ ｻ. 動物系固形不要物 ｼ. ゴムくず ｽ. 金属くず ｾ. ｶﾞﾗｽ・ｺﾝｸﾘｰﾄ・陶磁器くず | AL32: ｿ. 鉱さい ﾀ. がれき類 ﾁ. 動物のふん尿 ﾂ. 動物の死体 ﾃ. ばいじん ト. 混合廃棄物その他 | AS32: =+IF(AS31=0,"",IF(AL27<(AS24+AS27+AS31),"エラー !：⑩の内数である（⑫+⑬＋⑭）の量が⑩を超えています",""))
B33: ⑭ 認定熱回収業者以外の熱回収を行う業者への処理委託量 | D33: 0 | G33: t | H33: =+AS31 -> 0 | J33: t | V33: ｔ
C34: =+IF(D30=0,"",IF(D29<D30,"エラー !：上の表は、⑩の内数である⑪の量が⑩を超えています",""))
C35: =+IF(D31=0,"",IF(D29<D31,"エラー !：上の表は、⑩の内数である⑫の量が⑩を超えています",""))
C36: =+IF(D32=0,"",IF(D29<D32,"エラー !：上の表は、⑩の内数である⑬の量が⑩を超えています",""))
C37: =+IF(D33=0,"",IF(D29<D33,"エラー !：上の表は、⑩の内数である⑭の量が⑩を超えています",""))

Sheet ｾ.ｶﾞﾗｽ･ｺﾝｸﾘ･陶磁器くず
S1: ↓ | T1: 注意：本年度の目標量のみでフロー図の実績データがない場合にも、本年度目標データを該当欄に入力してください
B2: 産業廃棄物処理計画実施状況報告書
AP3: ３－２ | AS3: 法定 | AU3: 自主
AS4: =+表紙!N28 -> ○ | AU4: =+表紙!O28
B5: 別紙処理フロー | Z5: 事業場名称 | AE5: ： | AF5: =+表紙!F47 -> 株式会社ダイセキ環境ソリューション 横浜恵比須リサイクルセンター
B6: 令和７年度に発生した産業廃棄物ごとの量と処理計画の実施結果
B7: フローに記載した産業廃棄物の種類 | D7: セ. ｶﾞﾗｽ・ｺﾝｸﾘｰﾄ・陶磁器くず
B8: ※ | C8: 本用紙は廃棄物の種類ごとに1枚の記載となります。異なる廃棄物の処理フローは別シートに記載してください。 | AH8: ⑧ | AI8: 自ら中間処理した後再生利用した量
B9: （単位：t/年） | F9: 有償物量 | AE9: ａ残さ物の自己処理 | AN9: ｔ
C11: 不要物等発生量 | F11: ① | G11: 当該事業場における排出量 | M11: Ａ 自己処理 | P11: ② | Q11: 自ら直接再生利用した量 | AH11: ⑨ | AI11: 自ら中間処理した後自ら埋立処分又は海洋投入処分した量
F12: =+ROUND(P12,1)+ROUND(P15,1)+ROUND(P18,1)+ROUND(P24,1)+P27-ROUND(F15,1) -> 0 | I12: ｔ | T12: ｔ | AN12: ｔ
F14: ※１ | G14: 自社の他事業場からの搬入量 | P14: ③ | Q14: 自ら直接埋立処分又は海洋投入処分した量 | AH14: ※3 | AI14: 自ら中間処理した後自社の他事業場での処理量
I15: ｔ | T15: ｔ | AN15: ｔ | AS15: （目的別内訳）
P16: =+IF(Y18=0,"",IF(Y18-P18=Y18,"エラー！：⑥残さ物量があるのに、④自ら中間処理した量がゼロになっています","")) | AS16: 再生利用前委託量 | AV16: ｔ
P17: ④ | Q17: 自ら中間処理した量 | Y17: ⑥ | Z17: 自ら中間処理した後の残さ量 | AE17: ｂ残さ物の委託処理 | AH17: ｂ | AI17: 自ら中間処理した後の処理委託量 | AO17: ｂ-1 中間処理委託量 | AS17: 最終処分前 委託量 | AV17: ｔ
T18: ｔ | Y18: =+ROUND(AH9,1)+ROUND(AH12,1)+ROUND(AH15,1)+AH18 -> 0 | AB18: ｔ | AH18: =+ROUND(AO18,1)+ROUND(AO21,1) -> 0 | AL18: ｔ | AO18: =+ROUND(AU16,1)+ROUND(AU17,1)+ROUND(AU18,1) -> 0 | AP18: ｔ | AS18: 下水等放流前委託量 | AV18: ｔ
AW19: （第2面）
P20: ⑤ | Q20: ④のうち熱回収を行った量 | Y20: ⑦ | Z20: 自ら中間処理により減量した量 | AO20: ｂ-2 最終処分委託量
B21: 注）右上のフローには、令和７年度の実績値を記載してください。下表の中央列には、令和７年度目標値を記載してください。下表の右列は、右上フローに記載された令和７年度実績値が自動的に計算されます。 | T21: ｔ | Y21: =+P18-Y18 -> 0 | AB21: ｔ | AP21: ｔ
P22: =+IF(P21=0,"",IF(P18<P21,"エラー !：④の内数である⑤の量が④を超えています",""))
B23: 項 目 | D23: 令和７年度 目標値 | H23: 令和７年度 実績値 | P23: ※２ | Q23: 自社の他事業場での処理量 | AS23: ⑫ | AT23: ⑩のうち再生利用業者への処理委託量
B24: ① 排出量 | D24: 0 | G24: t | H24: =+F12 -> 0 | J24: t | T24: ｔ | AS24: =+ROUND(AU16,1)+ROUND(AA28,1) -> 0 | AV24: ｔ
B25: ②＋⑧ 自ら再生利用を行った量 | D25: 0 | G25: t | H25: =+P12+AH9 -> 0 | J25: t
B26: ⑤ 自ら熱回収を行った量 | D26: 0 | G26: t | H26: =+P21 -> 0 | J26: t | M26: Ｂ 直接委託処理 | P26: Ｂ | Q26: 直接処理委託量 | AL26: ⑩ | AM26: 直接及び自ら中間処理した後の処理委託量 | AS26: ⑬ | AT26: ⑩のうち認定熱回収業者への処理委託量
B27: ⑦ 自ら中間処理により減量した量 | D27: 0 | G27: t | H27: =+Y21 -> 0 | J27: t | P27: =+R30+ROUND(R33,1) -> 0 | T27: ｔ | Y27: （目的別内訳） | AL27: =+AH18+P27 -> 0 | AP27: ｔ | AV27: ｔ
B28: ③＋⑨ 自ら埋立処分又は海洋投入処分を行った量 | D28: 0 | G28: t | H28: =+P15+AH12 -> 0 | J28: t | Y28: 再生利用前委託量 | AF28: ｔ | AS28: =+IF(AS27=0,"",IF(AL27<(AS24+AS27+AS31),"エラー !：⑩の内数である（⑫+⑬＋⑭）の量が⑩を超えています",""))
B29: ⑩ 全処理委託量 | D29: 0 | G29: t | H29: =+AL27 -> 0 | J29: t | R29: B-1 | S29: 中間処理委託量 | Y29: 最終処分前委託量 | AF29: ｔ | AL29: ⑪ | AM29: ⑩のうち優良認定処理業者への処理委託量 | AS29: ⑭ | AT29: ⑩のうち認定熱回収業者以外の熱回収を行う業者への処理委託量
B30: ⑪ 優良認定処理業者への処理委託量 | D30: 0 | G30: t | H30: =+AL30 -> 0 | J30: t | R30: =+ROUND(AA28,1)+ROUND(AA29,1)+ROUND(AA30,1) -> 0 | V30: ｔ | Y30: 下水等放流前委託量 | AF30: ｔ | AP30: ｔ
B31: ⑫ 再生利用業者への処理委託量 | D31: 0 | G31: t | H31: =+AS24 -> 0 | J31: t | AA31: 【産業廃棄物の種類 （ア～ト）】 | AL31: =+IF(AL30=0,"",IF(AL27<AL30,"エラー !：⑩の内数である⑪の量が⑩を超えています","")) | AV31: ｔ
B32: ⑬ 認定熱回収業者への処理委託量 | D32: 0 | G32: t | H32: =+AS27 -> 0 | J32: t | R32: B-2 | S32: 最終処分委託量 | AA32: ｱ. 燃え殻 ｲ. 汚泥 ｳ. 廃油 ｴ. 廃酸 ｵ. 廃アルカリ ｶ. 廃ﾌﾟﾗｽﾁｯｸ類 ｷ. 紙くず | AF32: ｸ. 木くず ｹ. 繊維くず ｺ. 動植物性残さ ｻ. 動物系固形不要物 ｼ. ゴムくず ｽ. 金属くず ｾ. ｶﾞﾗｽ・ｺﾝｸﾘｰﾄ・陶磁器くず | AL32: ｿ. 鉱さい ﾀ. がれき類 ﾁ. 動物のふん尿 ﾂ. 動物の死体 ﾃ. ばいじん ト. 混合廃棄物その他 | AS32: =+IF(AS31=0,"",IF(AL27<(AS24+AS27+AS31),"エラー !：⑩の内数である（⑫+⑬＋⑭）の量が⑩を超えています",""))
B33: ⑭ 認定熱回収業者以外の熱回収を行う業者への処理委託量 | D33: 0 | G33: t | H33: =+AS31 -> 0 | J33: t | V33: ｔ
C34: =+IF(D30=0,"",IF(D29<D30,"エラー !：上の表は、⑩の内数である⑪の量が⑩を超えています",""))
C35: =+IF(D31=0,"",IF(D29<D31,"エラー !：上の表は、⑩の内数である⑫の量が⑩を超えています",""))
C36: =+IF(D32=0,"",IF(D29<D32,"エラー !：上の表は、⑩の内数である⑬の量が⑩を超えています",""))
C37: =+IF(D33=0,"",IF(D29<D33,"エラー !：上の表は、⑩の内数である⑭の量が⑩を超えています",""))

Sheet ｿ.鉱さい
S1: ↓ | T1: 注意：本年度の目標量のみでフロー図の実績データがない場合にも、本年度目標データを該当欄に入力してください
B2: 産業廃棄物処理計画実施状況報告書
AP3: ３－２ | AS3: 法定 | AU3: 自主
AS4: =+表紙!N28 -> ○ | AU4: =+表紙!O28
B5: 別紙処理フロー | Z5: 事業場名称 | AE5: ： | AF5: =+表紙!F47 -> 株式会社ダイセキ環境ソリューション 横浜恵比須リサイクルセンター
B6: 令和７年度に発生した産業廃棄物ごとの量と処理計画の実施結果
B7: フローに記載した産業廃棄物の種類 | D7: ソ. 鉱さい
B8: ※ | C8: 本用紙は廃棄物の種類ごとに1枚の記載となります。異なる廃棄物の処理フローは別シートに記載してください。 | AH8: ⑧ | AI8: 自ら中間処理した後再生利用した量
B9: （単位：t/年） | F9: 有償物量 | AE9: ａ残さ物の自己処理 | AN9: ｔ
C11: 不要物等発生量 | F11: ① | G11: 当該事業場における排出量 | M11: Ａ 自己処理 | P11: ② | Q11: 自ら直接再生利用した量 | AH11: ⑨ | AI11: 自ら中間処理した後自ら埋立処分又は海洋投入処分した量
F12: =+ROUND(P12,1)+ROUND(P15,1)+ROUND(P18,1)+ROUND(P24,1)+P27-ROUND(F15,1) -> 0 | I12: ｔ | T12: ｔ | AN12: ｔ
F14: ※１ | G14: 自社の他事業場からの搬入量 | P14: ③ | Q14: 自ら直接埋立処分又は海洋投入処分した量 | AH14: ※3 | AI14: 自ら中間処理した後自社の他事業場での処理量
I15: ｔ | T15: ｔ | AN15: ｔ | AS15: （目的別内訳）
P16: =+IF(Y18=0,"",IF(Y18-P18=Y18,"エラー！：⑥残さ物量があるのに、④自ら中間処理した量がゼロになっています","")) | AS16: 再生利用前委託量 | AV16: ｔ
P17: ④ | Q17: 自ら中間処理した量 | Y17: ⑥ | Z17: 自ら中間処理した後の残さ量 | AE17: ｂ残さ物の委託処理 | AH17: ｂ | AI17: 自ら中間処理した後の処理委託量 | AO17: ｂ-1 中間処理委託量 | AS17: 最終処分前 委託量 | AV17: ｔ
T18: ｔ | Y18: =+ROUND(AH9,1)+ROUND(AH12,1)+ROUND(AH15,1)+AH18 -> 0 | AB18: ｔ | AH18: =+ROUND(AO18,1)+ROUND(AO21,1) -> 0 | AL18: ｔ | AO18: =+ROUND(AU16,1)+ROUND(AU17,1)+ROUND(AU18,1) -> 0 | AP18: ｔ | AS18: 下水等放流前委託量 | AV18: ｔ
AW19: （第2面）
P20: ⑤ | Q20: ④のうち熱回収を行った量 | Y20: ⑦ | Z20: 自ら中間処理により減量した量 | AO20: ｂ-2 最終処分委託量
B21: 注）右上のフローには、令和７年度の実績値を記載してください。下表の中央列には、令和７年度目標値を記載してください。下表の右列は、右上フローに記載された令和７年度実績値が自動的に計算されます。 | T21: ｔ | Y21: =+P18-Y18 -> 0 | AB21: ｔ | AP21: ｔ
P22: =+IF(P21=0,"",IF(P18<P21,"エラー !：④の内数である⑤の量が④を超えています",""))
B23: 項 目 | D23: 令和７年度 目標値 | H23: 令和７年度 実績値 | P23: ※２ | Q23: 自社の他事業場での処理量 | AS23: ⑫ | AT23: ⑩のうち再生利用業者への処理委託量
B24: ① 排出量 | D24: 0 | G24: t | H24: =+F12 -> 0 | J24: t | T24: ｔ | AS24: =+ROUND(AU16,1)+ROUND(AA28,1) -> 0 | AV24: ｔ
B25: ②＋⑧ 自ら再生利用を行った量 | D25: 0 | G25: t | H25: =+P12+AH9 -> 0 | J25: t
B26: ⑤ 自ら熱回収を行った量 | D26: 0 | G26: t | H26: =+P21 -> 0 | J26: t | M26: Ｂ 直接委託処理 | P26: Ｂ | Q26: 直接処理委託量 | AL26: ⑩ | AM26: 直接及び自ら中間処理した後の処理委託量 | AS26: ⑬ | AT26: ⑩のうち認定熱回収業者への処理委託量
B27: ⑦ 自ら中間処理により減量した量 | D27: 0 | G27: t | H27: =+Y21 -> 0 | J27: t | P27: =+R30+ROUND(R33,1) -> 0 | T27: ｔ | Y27: （目的別内訳） | AL27: =+AH18+P27 -> 0 | AP27: ｔ | AV27: ｔ
B28: ③＋⑨ 自ら埋立処分又は海洋投入処分を行った量 | D28: 0 | G28: t | H28: =+P15+AH12 -> 0 | J28: t | Y28: 再生利用前委託量 | AF28: ｔ | AS28: =+IF(AS27=0,"",IF(AL27<(AS24+AS27+AS31),"エラー !：⑩の内数である（⑫+⑬＋⑭）の量が⑩を超えています",""))
B29: ⑩ 全処理委託量 | D29: 0 | G29: t | H29: =+AL27 -> 0 | J29: t | R29: B-1 | S29: 中間処理委託量 | Y29: 最終処分前委託量 | AF29: ｔ | AL29: ⑪ | AM29: ⑩のうち優良認定処理業者への処理委託量 | AS29: ⑭ | AT29: ⑩のうち認定熱回収業者以外の熱回収を行う業者への処理委託量
B30: ⑪ 優良認定処理業者への処理委託量 | D30: 0 | G30: t | H30: =+AL30 -> 0 | J30: t | R30: =+ROUND(AA28,1)+ROUND(AA29,1)+ROUND(AA30,1) -> 0 | V30: ｔ | Y30: 下水等放流前委託量 | AF30: ｔ | AP30: ｔ
B31: ⑫ 再生利用業者への処理委託量 | D31: 0 | G31: t | H31: =+AS24 -> 0 | J31: t | AA31: 【産業廃棄物の種類 （ア～ト）】 | AL31: =+IF(AL30=0,"",IF(AL27<AL30,"エラー !：⑩の内数である⑪の量が⑩を超えています","")) | AV31: ｔ
B32: ⑬ 認定熱回収業者への処理委託量 | D32: 0 | G32: t | H32: =+AS27 -> 0 | J32: t | R32: B-2 | S32: 最終処分委託量 | AA32: ｱ. 燃え殻 ｲ. 汚泥 ｳ. 廃油 ｴ. 廃酸 ｵ. 廃アルカリ ｶ. 廃ﾌﾟﾗｽﾁｯｸ類 ｷ. 紙くず | AF32: ｸ. 木くず ｹ. 繊維くず ｺ. 動植物性残さ ｻ. 動物系固形不要物 ｼ. ゴムくず ｽ. 金属くず ｾ. ｶﾞﾗｽ・ｺﾝｸﾘｰﾄ・陶磁器くず | AL32: ｿ. 鉱さい ﾀ. がれき類 ﾁ. 動物のふん尿 ﾂ. 動物の死体 ﾃ. ばいじん ト. 混合廃棄物その他 | AS32: =+IF(AS31=0,"",IF(AL27<(AS24+AS27+AS31),"エラー !：⑩の内数である（⑫+⑬＋⑭）の量が⑩を超えています",""))
B33: ⑭ 認定熱回収業者以外の熱回収を行う業者への処理委託量 | D33: 0 | G33: t | H33: =+AS31 -> 0 | J33: t | V33: ｔ
C34: =+IF(D30=0,"",IF(D29<D30,"エラー !：上の表は、⑩の内数である⑪の量が⑩を超えています",""))
C35: =+IF(D31=0,"",IF(D29<D31,"エラー !：上の表は、⑩の内数である⑫の量が⑩を超えています",""))
C36: =+IF(D32=0,"",IF(D29<D32,"エラー !：上の表は、⑩の内数である⑬の量が⑩を超えています",""))
C37: =+IF(D33=0,"",IF(D29<D33,"エラー !：上の表は、⑩の内数である⑭の量が⑩を超えています",""))

Sheet ﾀ.がれき類
S1: ↓ | T1: 注意：本年度の目標量のみでフロー図の実績データがない場合にも、本年度目標データを該当欄に入力してください
B2: 産業廃棄物処理計画実施状況報告書
AP3: ３－２ | AS3: 法定 | AU3: 自主
AS4: =+表紙!N28 -> ○ | AU4: =+表紙!O28
B5: 別紙処理フロー | Z5: 事業場名称 | AE5: ： | AF5: =+表紙!F47 -> 株式会社ダイセキ環境ソリューション 横浜恵比須リサイクルセンター
B6: 令和７年度に発生した産業廃棄物ごとの量と処理計画の実施結果
B7: フローに記載した産業廃棄物の種類 | D7: タ. がれき類
B8: ※ | C8: 本用紙は廃棄物の種類ごとに1枚の記載となります。異なる廃棄物の処理フローは別シートに記載してください。 | AH8: ⑧ | AI8: 自ら中間処理した後再生利用した量
B9: （単位：t/年） | F9: 有償物量 | AE9: ａ残さ物の自己処理 | AN9: ｔ
C11: 不要物等発生量 | F11: ① | G11: 当該事業場における排出量 | M11: Ａ 自己処理 | P11: ② | Q11: 自ら直接再生利用した量 | AH11: ⑨ | AI11: 自ら中間処理した後自ら埋立処分又は海洋投入処分した量
F12: =+ROUND(P12,1)+ROUND(P15,1)+ROUND(P18,1)+ROUND(P24,1)+P27-ROUND(F15,1) -> 8291.3 | I12: ｔ | T12: ｔ | AN12: ｔ
F14: ※１ | G14: 自社の他事業場からの搬入量 | P14: ③ | Q14: 自ら直接埋立処分又は海洋投入処分した量 | AH14: ※3 | AI14: 自ら中間処理した後自社の他事業場での処理量
I15: ｔ | T15: ｔ | AN15: ｔ | AS15: （目的別内訳）
P16: =+IF(Y18=0,"",IF(Y18-P18=Y18,"エラー！：⑥残さ物量があるのに、④自ら中間処理した量がゼロになっています","")) | AS16: 再生利用前委託量 | AV16: ｔ
P17: ④ | Q17: 自ら中間処理した量 | Y17: ⑥ | Z17: 自ら中間処理した後の残さ量 | AE17: ｂ残さ物の委託処理 | AH17: ｂ | AI17: 自ら中間処理した後の処理委託量 | AO17: ｂ-1 中間処理委託量 | AS17: 最終処分前 委託量 | AV17: ｔ
T18: ｔ | Y18: =+ROUND(AH9,1)+ROUND(AH12,1)+ROUND(AH15,1)+AH18 -> 0 | AB18: ｔ | AH18: =+ROUND(AO18,1)+ROUND(AO21,1) -> 0 | AL18: ｔ | AO18: =+ROUND(AU16,1)+ROUND(AU17,1)+ROUND(AU18,1) -> 0 | AP18: ｔ | AS18: 下水等放流前委託量 | AV18: ｔ
AW19: （第2面）
P20: ⑤ | Q20: ④のうち熱回収を行った量 | Y20: ⑦ | Z20: 自ら中間処理により減量した量 | AO20: ｂ-2 最終処分委託量
B21: 注）右上のフローには、令和７年度の実績値を記載してください。下表の中央列には、令和７年度目標値を記載してください。下表の右列は、右上フローに記載された令和７年度実績値が自動的に計算されます。 | T21: ｔ | Y21: =+P18-Y18 -> 0 | AB21: ｔ | AP21: ｔ
P22: =+IF(P21=0,"",IF(P18<P21,"エラー !：④の内数である⑤の量が④を超えています",""))
B23: 項 目 | D23: 令和７年度 目標値 | H23: 令和７年度 実績値 | P23: ※２ | Q23: 自社の他事業場での処理量 | AS23: ⑫ | AT23: ⑩のうち再生利用業者への処理委託量
B24: ① 排出量 | D24: 7316.5 | G24: t | H24: =+F12 -> 8291.3 | J24: t | T24: ｔ | AS24: =+ROUND(AU16,1)+ROUND(AA28,1) -> 8291.3 | AV24: ｔ
B25: ②＋⑧ 自ら再生利用を行った量 | D25: 0 | G25: t | H25: =+P12+AH9 -> 0 | J25: t
B26: ⑤ 自ら熱回収を行った量 | D26: 0 | G26: t | H26: =+P21 -> 0 | J26: t | M26: Ｂ 直接委託処理 | P26: Ｂ | Q26: 直接処理委託量 | AL26: ⑩ | AM26: 直接及び自ら中間処理した後の処理委託量 | AS26: ⑬ | AT26: ⑩のうち認定熱回収業者への処理委託量
B27: ⑦ 自ら中間処理により減量した量 | D27: 0 | G27: t | H27: =+Y21 -> 0 | J27: t | P27: =+R30+ROUND(R33,1) -> 8291.3 | T27: ｔ | Y27: （目的別内訳） | AL27: =+AH18+P27 -> 8291.3 | AP27: ｔ | AV27: ｔ
B28: ③＋⑨ 自ら埋立処分又は海洋投入処分を行った量 | D28: 0 | G28: t | H28: =+P15+AH12 -> 0 | J28: t | Y28: 再生利用前委託量 | AA28: 8291.3 | AF28: ｔ | AS28: =+IF(AS27=0,"",IF(AL27<(AS24+AS27+AS31),"エラー !：⑩の内数である（⑫+⑬＋⑭）の量が⑩を超えています",""))
B29: ⑩ 全処理委託量 | D29: 7316.5 | G29: t | H29: =+AL27 -> 8291.3 | J29: t | R29: B-1 | S29: 中間処理委託量 | Y29: 最終処分前委託量 | AF29: ｔ | AL29: ⑪ | AM29: ⑩のうち優良認定処理業者への処理委託量 | AS29: ⑭ | AT29: ⑩のうち認定熱回収業者以外の熱回収を行う業者への処理委託量
B30: ⑪ 優良認定処理業者への処理委託量 | D30: 4737.8 | G30: t | H30: =+AL30 -> 7084.3 | J30: t | R30: =+ROUND(AA28,1)+ROUND(AA29,1)+ROUND(AA30,1) -> 8291.3 | V30: ｔ | Y30: 下水等放流前委託量 | AF30: ｔ | AL30: 7084.3 | AP30: ｔ
B31: ⑫ 再生利用業者への処理委託量 | D31: 7316.5 | G31: t | H31: =+AS24 -> 8291.3 | J31: t | AA31: 【産業廃棄物の種類 （ア～ト）】 | AL31: =+IF(AL30=0,"",IF(AL27<AL30,"エラー !：⑩の内数である⑪の量が⑩を超えています","")) | AV31: ｔ
B32: ⑬ 認定熱回収業者への処理委託量 | D32: 0 | G32: t | H32: =+AS27 -> 0 | J32: t | R32: B-2 | S32: 最終処分委託量 | AA32: ｱ. 燃え殻 ｲ. 汚泥 ｳ. 廃油 ｴ. 廃酸 ｵ. 廃アルカリ ｶ. 廃ﾌﾟﾗｽﾁｯｸ類 ｷ. 紙くず | AF32: ｸ. 木くず ｹ. 繊維くず ｺ. 動植物性残さ ｻ. 動物系固形不要物 ｼ. ゴムくず ｽ. 金属くず ｾ. ｶﾞﾗｽ・ｺﾝｸﾘｰﾄ・陶磁器くず | AL32: ｿ. 鉱さい ﾀ. がれき類 ﾁ. 動物のふん尿 ﾂ. 動物の死体 ﾃ. ばいじん ト. 混合廃棄物その他 | AS32: =+IF(AS31=0,"",IF(AL27<(AS24+AS27+AS31),"エラー !：⑩の内数である（⑫+⑬＋⑭）の量が⑩を超えています",""))
B33: ⑭ 認定熱回収業者以外の熱回収を行う業者への処理委託量 | D33: 0 | G33: t | H33: =+AS31 -> 0 | J33: t | V33: ｔ
C34: =+IF(D30=0,"",IF(D29<D30,"エラー !：上の表は、⑩の内数である⑪の量が⑩を超えています",""))
C35: =+IF(D31=0,"",IF(D29<D31,"エラー !：上の表は、⑩の内数である⑫の量が⑩を超えています",""))
C36: =+IF(D32=0,"",IF(D29<D32,"エラー !：上の表は、⑩の内数である⑬の量が⑩を超えています",""))
C37: =+IF(D33=0,"",IF(D29<D33,"エラー !：上の表は、⑩の内数である⑭の量が⑩を超えています",""))

Sheet ﾁ.動物のふん尿
S1: ↓ | T1: 注意：本年度の目標量のみでフロー図の実績データがない場合にも、本年度目標データを該当欄に入力してください
B2: 産業廃棄物処理計画実施状況報告書
AP3: ３－２ | AS3: 法定 | AU3: 自主
AS4: =+表紙!N28 -> ○ | AU4: =+表紙!O28
B5: 別紙処理フロー | Z5: 事業場名称 | AE5: ： | AF5: =+表紙!F47 -> 株式会社ダイセキ環境ソリューション 横浜恵比須リサイクルセンター
B6: 令和７年度に発生した産業廃棄物ごとの量と処理計画の実施結果
B7: フローに記載した産業廃棄物の種類 | D7: チ. 動物のふん尿 | M7: 「動物のふん尿」には業種指定があり、該当業種以外では一般廃棄物となり、報告対象外です。 【該当業種】畜産農業
B8: ※ | C8: 本用紙は廃棄物の種類ごとに1枚の記載となります。異なる廃棄物の処理フローは別シートに記載してください。 | AH8: ⑧ | AI8: 自ら中間処理した後再生利用した量
B9: （単位：t/年） | F9: 有償物量 | AE9: ａ残さ物の自己処理 | AN9: ｔ
C11: 不要物等発生量 | F11: ① | G11: 当該事業場における排出量 | M11: Ａ 自己処理 | P11: ② | Q11: 自ら直接再生利用した量 | AH11: ⑨ | AI11: 自ら中間処理した後自ら埋立処分又は海洋投入処分した量
F12: =+ROUND(P12,1)+ROUND(P15,1)+ROUND(P18,1)+ROUND(P24,1)+P27-ROUND(F15,1) -> 0 | I12: ｔ | T12: ｔ | AN12: ｔ
F14: ※１ | G14: 自社の他事業場からの搬入量 | P14: ③ | Q14: 自ら直接埋立処分又は海洋投入処分した量 | AH14: ※3 | AI14: 自ら中間処理した後自社の他事業場での処理量
I15: ｔ | T15: ｔ | AN15: ｔ | AS15: （目的別内訳）
P16: =+IF(Y18=0,"",IF(Y18-P18=Y18,"エラー！：⑥残さ物量があるのに、④自ら中間処理した量がゼロになっています","")) | AS16: 再生利用前委託量 | AV16: ｔ
P17: ④ | Q17: 自ら中間処理した量 | Y17: ⑥ | Z17: 自ら中間処理した後の残さ量 | AE17: ｂ残さ物の委託処理 | AH17: ｂ | AI17: 自ら中間処理した後の処理委託量 | AO17: ｂ-1 中間処理委託量 | AS17: 最終処分前 委託量 | AV17: ｔ
T18: ｔ | Y18: =+ROUND(AH9,1)+ROUND(AH12,1)+ROUND(AH15,1)+AH18 -> 0 | AB18: ｔ | AH18: =+ROUND(AO18,1)+ROUND(AO21,1) -> 0 | AL18: ｔ | AO18: =+ROUND(AU16,1)+ROUND(AU17,1)+ROUND(AU18,1) -> 0 | AP18: ｔ | AS18: 下水等放流前委託量 | AV18: ｔ
AW19: （第2面）
P20: ⑤ | Q20: ④のうち熱回収を行った量 | Y20: ⑦ | Z20: 自ら中間処理により減量した量 | AO20: ｂ-2 最終処分委託量
B21: 注）右上のフローには、令和７年度の実績値を記載してください。下表の中央列には、令和７年度目標値を記載してください。下表の右列は、右上フローに記載された令和７年度実績値が自動的に計算されます。 | T21: ｔ | Y21: =+P18-Y18 -> 0 | AB21: ｔ | AP21: ｔ
P22: =+IF(P21=0,"",IF(P18<P21,"エラー !：④の内数である⑤の量が④を超えています",""))
B23: 項 目 | D23: 令和７年度 目標値 | H23: 令和７年度 実績値 | P23: ※２ | Q23: 自社の他事業場での処理量 | AS23: ⑫ | AT23: ⑩のうち再生利用業者への処理委託量
B24: ① 排出量 | D24: 0 | G24: t | H24: =+F12 -> 0 | J24: t | T24: ｔ | AS24: =+ROUND(AU16,1)+ROUND(AA28,1) -> 0 | AV24: ｔ
B25: ②＋⑧ 自ら再生利用を行った量 | D25: 0 | G25: t | H25: =+P12+AH9 -> 0 | J25: t
B26: ⑤ 自ら熱回収を行った量 | D26: 0 | G26: t | H26: =+P21 -> 0 | J26: t | M26: Ｂ 直接委託処理 | P26: Ｂ | Q26: 直接処理委託量 | AL26: ⑩ | AM26: 直接及び自ら中間処理した後の処理委託量 | AS26: ⑬ | AT26: ⑩のうち認定熱回収業者への処理委託量
B27: ⑦ 自ら中間処理により減量した量 | D27: 0 | G27: t | H27: =+Y21 -> 0 | J27: t | P27: =+R30+ROUND(R33,1) -> 0 | T27: ｔ | Y27: （目的別内訳） | AL27: =+AH18+P27 -> 0 | AP27: ｔ | AV27: ｔ
B28: ③＋⑨ 自ら埋立処分又は海洋投入処分を行った量 | D28: 0 | G28: t | H28: =+P15+AH12 -> 0 | J28: t | Y28: 再生利用前委託量 | AF28: ｔ | AS28: =+IF(AS27=0,"",IF(AL27<(AS24+AS27+AS31),"エラー !：⑩の内数である（⑫+⑬＋⑭）の量が⑩を超えています",""))
B29: ⑩ 全処理委託量 | D29: 0 | G29: t | H29: =+AL27 -> 0 | J29: t | R29: B-1 | S29: 中間処理委託量 | Y29: 最終処分前委託量 | AF29: ｔ | AL29: ⑪ | AM29: ⑩のうち優良認定処理業者への処理委託量 | AS29: ⑭ | AT29: ⑩のうち認定熱回収業者以外の熱回収を行う業者への処理委託量
B30: ⑪ 優良認定処理業者への処理委託量 | D30: 0 | G30: t | H30: =+AL30 -> 0 | J30: t | R30: =+ROUND(AA28,1)+ROUND(AA29,1)+ROUND(AA30,1) -> 0 | V30: ｔ | Y30: 下水等放流前委託量 | AF30: ｔ | AP30: ｔ
B31: ⑫ 再生利用業者への処理委託量 | D31: 0 | G31: t | H31: =+AS24 -> 0 | J31: t | AA31: 【産業廃棄物の種類 （ア～ト）】 | AL31: =+IF(AL30=0,"",IF(AL27<AL30,"エラー !：⑩の内数である⑪の量が⑩を超えています","")) | AV31: ｔ
B32: ⑬ 認定熱回収業者への処理委託量 | D32: 0 | G32: t | H32: =+AS27 -> 0 | J32: t | R32: B-2 | S32: 最終処分委託量 | AA32: ｱ. 燃え殻 ｲ. 汚泥 ｳ. 廃油 ｴ. 廃酸 ｵ. 廃アルカリ ｶ. 廃ﾌﾟﾗｽﾁｯｸ類 ｷ. 紙くず | AF32: ｸ. 木くず ｹ. 繊維くず ｺ. 動植物性残さ ｻ. 動物系固形不要物 ｼ. ゴムくず ｽ. 金属くず ｾ. ｶﾞﾗｽ・ｺﾝｸﾘｰﾄ・陶磁器くず | AL32: ｿ. 鉱さい ﾀ. がれき類 ﾁ. 動物のふん尿 ﾂ. 動物の死体 ﾃ. ばいじん ト. 混合廃棄物その他 | AS32: =+IF(AS31=0,"",IF(AL27<(AS24+AS27+AS31),"エラー !：⑩の内数である（⑫+⑬＋⑭）の量が⑩を超えています",""))
B33: ⑭ 認定熱回収業者以外の熱回収を行う業者への処理委託量 | D33: 0 | G33: t | H33: =+AS31 -> 0 | J33: t | V33: ｔ
C34: =+IF(D30=0,"",IF(D29<D30,"エラー !：上の表は、⑩の内数である⑪の量が⑩を超えています",""))
C35: =+IF(D31=0,"",IF(D29<D31,"エラー !：上の表は、⑩の内数である⑫の量が⑩を超えています",""))
C36: =+IF(D32=0,"",IF(D29<D32,"エラー !：上の表は、⑩の内数である⑬の量が⑩を超えています",""))
C37: =+IF(D33=0,"",IF(D29<D33,"エラー !：上の表は、⑩の内数である⑭の量が⑩を超えています",""))

Sheet ﾂ.動物の死体
S1: ↓ | T1: 注意：本年度の目標量のみでフロー図の実績データがない場合にも、本年度目標データを該当欄に入力してください
B2: 産業廃棄物処理計画実施状況報告書
AP3: ３－２ | AS3: 法定 | AU3: 自主
AS4: =+表紙!N28 -> ○ | AU4: =+表紙!O28
B5: 別紙処理フロー | Z5: 事業場名称 | AE5: ： | AF5: =+表紙!F47 -> 株式会社ダイセキ環境ソリューション 横浜恵比須リサイクルセンター
B6: 令和７年度に発生した産業廃棄物ごとの量と処理計画の実施結果
B7: フローに記載した産業廃棄物の種類 | D7: ツ. 動物の死体 | M7: 「動物の死体」には業種指定があり、該当業種以外では一般廃棄物となり、報告対象外です。 【該当業種】畜産農業
B8: ※ | C8: 本用紙は廃棄物の種類ごとに1枚の記載となります。異なる廃棄物の処理フローは別シートに記載してください。 | AH8: ⑧ | AI8: 自ら中間処理した後再生利用した量
B9: （単位：t/年） | F9: 有償物量 | AE9: ａ残さ物の自己処理 | AN9: ｔ
C11: 不要物等発生量 | F11: ① | G11: 当該事業場における排出量 | M11: Ａ 自己処理 | P11: ② | Q11: 自ら直接再生利用した量 | AH11: ⑨ | AI11: 自ら中間処理した後自ら埋立処分又は海洋投入処分した量
F12: =+ROUND(P12,1)+ROUND(P15,1)+ROUND(P18,1)+ROUND(P24,1)+P27-ROUND(F15,1) -> 0 | I12: ｔ | T12: ｔ | AN12: ｔ
F14: ※１ | G14: 自社の他事業場からの搬入量 | P14: ③ | Q14: 自ら直接埋立処分又は海洋投入処分した量 | AH14: ※3 | AI14: 自ら中間処理した後自社の他事業場での処理量
I15: ｔ | T15: ｔ | AN15: ｔ | AS15: （目的別内訳）
P16: =+IF(Y18=0,"",IF(Y18-P18=Y18,"エラー！：⑥残さ物量があるのに、④自ら中間処理した量がゼロになっています","")) | AS16: 再生利用前委託量 | AV16: ｔ
P17: ④ | Q17: 自ら中間処理した量 | Y17: ⑥ | Z17: 自ら中間処理した後の残さ量 | AE17: ｂ残さ物の委託処理 | AH17: ｂ | AI17: 自ら中間処理した後の処理委託量 | AO17: ｂ-1 中間処理委託量 | AS17: 最終処分前 委託量 | AV17: ｔ
T18: ｔ | Y18: =+ROUND(AH9,1)+ROUND(AH12,1)+ROUND(AH15,1)+AH18 -> 0 | AB18: ｔ | AH18: =+ROUND(AO18,1)+ROUND(AO21,1) -> 0 | AL18: ｔ | AO18: =+ROUND(AU16,1)+ROUND(AU17,1)+ROUND(AU18,1) -> 0 | AP18: ｔ | AS18: 下水等放流前委託量 | AV18: ｔ
AW19: （第2面）
P20: ⑤ | Q20: ④のうち熱回収を行った量 | Y20: ⑦ | Z20: 自ら中間処理により減量した量 | AO20: ｂ-2 最終処分委託量
B21: 注）右上のフローには、令和７年度の実績値を記載してください。下表の中央列には、令和７年度目標値を記載してください。下表の右列は、右上フローに記載された令和７年度実績値が自動的に計算されます。 | T21: ｔ | Y21: =+P18-Y18 -> 0 | AB21: ｔ | AP21: ｔ
P22: =+IF(P21=0,"",IF(P18<P21,"エラー !：④の内数である⑤の量が④を超えています",""))
B23: 項 目 | D23: 令和７年度 目標値 | H23: 令和７年度 実績値 | P23: ※２ | Q23: 自社の他事業場での処理量 | AS23: ⑫ | AT23: ⑩のうち再生利用業者への処理委託量
B24: ① 排出量 | D24: 0 | G24: t | H24: =+F12 -> 0 | J24: t | T24: ｔ | AS24: =+ROUND(AU16,1)+ROUND(AA28,1) -> 0 | AV24: ｔ
B25: ②＋⑧ 自ら再生利用を行った量 | D25: 0 | G25: t | H25: =+P12+AH9 -> 0 | J25: t
B26: ⑤ 自ら熱回収を行った量 | D26: 0 | G26: t | H26: =+P21 -> 0 | J26: t | M26: Ｂ 直接委託処理 | P26: Ｂ | Q26: 直接処理委託量 | AL26: ⑩ | AM26: 直接及び自ら中間処理した後の処理委託量 | AS26: ⑬ | AT26: ⑩のうち認定熱回収業者への処理委託量
B27: ⑦ 自ら中間処理により減量した量 | D27: 0 | G27: t | H27: =+Y21 -> 0 | J27: t | P27: =+R30+ROUND(R33,1) -> 0 | T27: ｔ | Y27: （目的別内訳） | AL27: =+AH18+P27 -> 0 | AP27: ｔ | AV27: ｔ
B28: ③＋⑨ 自ら埋立処分又は海洋投入処分を行った量 | D28: 0 | G28: t | H28: =+P15+AH12 -> 0 | J28: t | Y28: 再生利用前委託量 | AF28: ｔ | AS28: =+IF(AS27=0,"",IF(AL27<(AS24+AS27+AS31),"エラー !：⑩の内数である（⑫+⑬＋⑭）の量が⑩を超えています",""))
B29: ⑩ 全処理委託量 | D29: 0 | G29: t | H29: =+AL27 -> 0 | J29: t | R29: B-1 | S29: 中間処理委託量 | Y29: 最終処分前委託量 | AF29: ｔ | AL29: ⑪ | AM29: ⑩のうち優良認定処理業者への処理委託量 | AS29: ⑭ | AT29: ⑩のうち認定熱回収業者以外の熱回収を行う業者への処理委託量
B30: ⑪ 優良認定処理業者への処理委託量 | D30: 0 | G30: t | H30: =+AL30 -> 0 | J30: t | R30: =+ROUND(AA28,1)+ROUND(AA29,1)+ROUND(AA30,1) -> 0 | V30: ｔ | Y30: 下水等放流前委託量 | AF30: ｔ | AP30: ｔ
B31: ⑫ 再生利用業者への処理委託量 | D31: 0 | G31: t | H31: =+AS24 -> 0 | J31: t | AA31: 【産業廃棄物の種類 （ア～ト）】 | AL31: =+IF(AL30=0,"",IF(AL27<AL30,"エラー !：⑩の内数である⑪の量が⑩を超えています","")) | AV31: ｔ
B32: ⑬ 認定熱回収業者への処理委託量 | D32: 0 | G32: t | H32: =+AS27 -> 0 | J32: t | R32: B-2 | S32: 最終処分委託量 | AA32: ｱ. 燃え殻 ｲ. 汚泥 ｳ. 廃油 ｴ. 廃酸 ｵ. 廃アルカリ ｶ. 廃ﾌﾟﾗｽﾁｯｸ類 ｷ. 紙くず | AF32: ｸ. 木くず ｹ. 繊維くず ｺ. 動植物性残さ ｻ. 動物系固形不要物 ｼ. ゴムくず ｽ. 金属くず ｾ. ｶﾞﾗｽ・ｺﾝｸﾘｰﾄ・陶磁器くず | AL32: ｿ. 鉱さい ﾀ. がれき類 ﾁ. 動物のふん尿 ﾂ. 動物の死体 ﾃ. ばいじん ト. 混合廃棄物その他 | AS32: =+IF(AS31=0,"",IF(AL27<(AS24+AS27+AS31),"エラー !：⑩の内数である（⑫+⑬＋⑭）の量が⑩を超えています",""))
B33: ⑭ 認定熱回収業者以外の熱回収を行う業者への処理委託量 | D33: 0 | G33: t | H33: =+AS31 -> 0 | J33: t | V33: ｔ
C34: =+IF(D30=0,"",IF(D29<D30,"エラー !：上の表は、⑩の内数である⑪の量が⑩を超えています",""))
C35: =+IF(D31=0,"",IF(D29<D31,"エラー !：上の表は、⑩の内数である⑫の量が⑩を超えています",""))
C36: =+IF(D32=0,"",IF(D29<D32,"エラー !：上の表は、⑩の内数である⑬の量が⑩を超えています",""))
C37: =+IF(D33=0,"",IF(D29<D33,"エラー !：上の表は、⑩の内数である⑭の量が⑩を超えています",""))

Sheet ﾃ.ばいじん
S1: ↓ | T1: 注意：本年度の目標量のみでフロー図の実績データがない場合にも、本年度目標データを該当欄に入力してください
B2: 産業廃棄物処理計画実施状況報告書
AP3: ３－２ | AS3: 法定 | AU3: 自主
AS4: =+表紙!N28 -> ○ | AU4: =+表紙!O28
B5: 別紙処理フロー | Z5: 事業場名称 | AE5: ： | AF5: =+表紙!F47 -> 株式会社ダイセキ環境ソリューション 横浜恵比須リサイクルセンター
B6: 令和７年度に発生した産業廃棄物ごとの量と処理計画の実施結果
B7: フローに記載した産業廃棄物の種類 | D7: テ. ばいじん
B8: ※ | C8: 本用紙は廃棄物の種類ごとに1枚の記載となります。異なる廃棄物の処理フローは別シートに記載してください。 | AH8: ⑧ | AI8: 自ら中間処理した後再生利用した量
B9: （単位：t/年） | F9: 有償物量 | AE9: ａ残さ物の自己処理 | AN9: ｔ
C11: 不要物等発生量 | F11: ① | G11: 当該事業場における排出量 | M11: Ａ 自己処理 | P11: ② | Q11: 自ら直接再生利用した量 | AH11: ⑨ | AI11: 自ら中間処理した後自ら埋立処分又は海洋投入処分した量
F12: =+ROUND(P12,1)+ROUND(P15,1)+ROUND(P18,1)+ROUND(P24,1)+P27-ROUND(F15,1) -> 0 | I12: ｔ | T12: ｔ | AN12: ｔ
F14: ※１ | G14: 自社の他事業場からの搬入量 | P14: ③ | Q14: 自ら直接埋立処分又は海洋投入処分した量 | AH14: ※3 | AI14: 自ら中間処理した後自社の他事業場での処理量
I15: ｔ | T15: ｔ | AN15: ｔ | AS15: （目的別内訳）
P16: =+IF(Y18=0,"",IF(Y18-P18=Y18,"エラー！：⑥残さ物量があるのに、④自ら中間処理した量がゼロになっています","")) | AS16: 再生利用前委託量 | AV16: ｔ
P17: ④ | Q17: 自ら中間処理した量 | Y17: ⑥ | Z17: 自ら中間処理した後の残さ量 | AE17: ｂ残さ物の委託処理 | AH17: ｂ | AI17: 自ら中間処理した後の処理委託量 | AO17: ｂ-1 中間処理委託量 | AS17: 最終処分前 委託量 | AV17: ｔ
T18: ｔ | Y18: =+ROUND(AH9,1)+ROUND(AH12,1)+ROUND(AH15,1)+AH18 -> 0 | AB18: ｔ | AH18: =+ROUND(AO18,1)+ROUND(AO21,1) -> 0 | AL18: ｔ | AO18: =+ROUND(AU16,1)+ROUND(AU17,1)+ROUND(AU18,1) -> 0 | AP18: ｔ | AS18: 下水等放流前委託量 | AV18: ｔ
AW19: （第2面）
P20: ⑤ | Q20: ④のうち熱回収を行った量 | Y20: ⑦ | Z20: 自ら中間処理により減量した量 | AO20: ｂ-2 最終処分委託量
B21: 注）右上のフローには、令和７年度の実績値を記載してください。下表の中央列には、令和７年度目標値を記載してください。下表の右列は、右上フローに記載された令和７年度実績値が自動的に計算されます。 | T21: ｔ | Y21: =+P18-Y18 -> 0 | AB21: ｔ | AP21: ｔ
P22: =+IF(P21=0,"",IF(P18<P21,"エラー !：④の内数である⑤の量が④を超えています",""))
B23: 項 目 | D23: 令和７年度 目標値 | H23: 令和７年度 実績値 | P23: ※２ | Q23: 自社の他事業場での処理量 | AS23: ⑫ | AT23: ⑩のうち再生利用業者への処理委託量
B24: ① 排出量 | D24: 0 | G24: t | H24: =+F12 -> 0 | J24: t | T24: ｔ | AS24: =+ROUND(AU16,1)+ROUND(AA28,1) -> 0 | AV24: ｔ
B25: ②＋⑧ 自ら再生利用を行った量 | D25: 0 | G25: t | H25: =+P12+AH9 -> 0 | J25: t
B26: ⑤ 自ら熱回収を行った量 | D26: 0 | G26: t | H26: =+P21 -> 0 | J26: t | M26: Ｂ 直接委託処理 | P26: Ｂ | Q26: 直接処理委託量 | AL26: ⑩ | AM26: 直接及び自ら中間処理した後の処理委託量 | AS26: ⑬ | AT26: ⑩のうち認定熱回収業者への処理委託量
B27: ⑦ 自ら中間処理により減量した量 | D27: 0 | G27: t | H27: =+Y21 -> 0 | J27: t | P27: =+R30+ROUND(R33,1) -> 0 | T27: ｔ | Y27: （目的別内訳） | AL27: =+AH18+P27 -> 0 | AP27: ｔ | AV27: ｔ
B28: ③＋⑨ 自ら埋立処分又は海洋投入処分を行った量 | D28: 0 | G28: t | H28: =+P15+AH12 -> 0 | J28: t | Y28: 再生利用前委託量 | AF28: ｔ | AS28: =+IF(AS27=0,"",IF(AL27<(AS24+AS27+AS31),"エラー !：⑩の内数である（⑫+⑬＋⑭）の量が⑩を超えています",""))
B29: ⑩ 全処理委託量 | D29: 0 | G29: t | H29: =+AL27 -> 0 | J29: t | R29: B-1 | S29: 中間処理委託量 | Y29: 最終処分前委託量 | AF29: ｔ | AL29: ⑪ | AM29: ⑩のうち優良認定処理業者への処理委託量 | AS29: ⑭ | AT29: ⑩のうち認定熱回収業者以外の熱回収を行う業者への処理委託量
B30: ⑪ 優良認定処理業者への処理委託量 | D30: 0 | G30: t | H30: =+AL30 -> 0 | J30: t | R30: =+ROUND(AA28,1)+ROUND(AA29,1)+ROUND(AA30,1) -> 0 | V30: ｔ | Y30: 下水等放流前委託量 | AF30: ｔ | AP30: ｔ
B31: ⑫ 再生利用業者への処理委託量 | D31: 0 | G31: t | H31: =+AS24 -> 0 | J31: t | AA31: 【産業廃棄物の種類 （ア～ト）】 | AL31: =+IF(AL30=0,"",IF(AL27<AL30,"エラー !：⑩の内数である⑪の量が⑩を超えています","")) | AV31: ｔ
B32: ⑬ 認定熱回収業者への処理委託量 | D32: 0 | G32: t | H32: =+AS27 -> 0 | J32: t | R32: B-2 | S32: 最終処分委託量 | AA32: ｱ. 燃え殻 ｲ. 汚泥 ｳ. 廃油 ｴ. 廃酸 ｵ. 廃アルカリ ｶ. 廃ﾌﾟﾗｽﾁｯｸ類 ｷ. 紙くず | AF32: ｸ. 木くず ｹ. 繊維くず ｺ. 動植物性残さ ｻ. 動物系固形不要物 ｼ. ゴムくず ｽ. 金属くず ｾ. ｶﾞﾗｽ・ｺﾝｸﾘｰﾄ・陶磁器くず | AL32: ｿ. 鉱さい ﾀ. がれき類 ﾁ. 動物のふん尿 ﾂ. 動物の死体 ﾃ. ばいじん ト. 混合廃棄物その他 | AS32: =+IF(AS31=0,"",IF(AL27<(AS24+AS27+AS31),"エラー !：⑩の内数である（⑫+⑬＋⑭）の量が⑩を超えています",""))
B33: ⑭ 認定熱回収業者以外の熱回収を行う業者への処理委託量 | D33: 0 | G33: t | H33: =+AS31 -> 0 | J33: t | V33: ｔ
C34: =+IF(D30=0,"",IF(D29<D30,"エラー !：上の表は、⑩の内数である⑪の量が⑩を超えています",""))
C35: =+IF(D31=0,"",IF(D29<D31,"エラー !：上の表は、⑩の内数である⑫の量が⑩を超えています",""))
C36: =+IF(D32=0,"",IF(D29<D32,"エラー !：上の表は、⑩の内数である⑬の量が⑩を超えています",""))
C37: =+IF(D33=0,"",IF(D29<D33,"エラー !：上の表は、⑩の内数である⑭の量が⑩を超えています",""))

Sheet ﾄ.混合廃棄物その他
S1: ↓ | T1: 注意：本年度の目標量のみでフロー図の実績データがない場合にも、本年度目標データを該当欄に入力してください
B2: 産業廃棄物処理計画実施状況報告書
AP3: ３－２ | AS3: 法定 | AU3: 自主
AS4: =+表紙!N28 -> ○ | AU4: =+表紙!O28
B5: 別紙処理フロー | Z5: 事業場名称 | AE5: ： | AF5: =+表紙!F47 -> 株式会社ダイセキ環境ソリューション 横浜恵比須リサイクルセンター
B6: 令和７年度に発生した産業廃棄物ごとの量と処理計画の実施結果
B7: フローに記載した産業廃棄物の種類 | D7: ト. 混合廃棄物その他
B8: ※ | C8: 本用紙は廃棄物の種類ごとに1枚の記載となります。異なる廃棄物の処理フローは別シートに記載してください。 | AH8: ⑧ | AI8: 自ら中間処理した後再生利用した量
B9: （単位：t/年） | F9: 有償物量 | AE9: ａ残さ物の自己処理 | AN9: ｔ
C11: 不要物等発生量 | F11: ① | G11: 当該事業場における排出量 | M11: Ａ 自己処理 | P11: ② | Q11: 自ら直接再生利用した量 | AH11: ⑨ | AI11: 自ら中間処理した後自ら埋立処分又は海洋投入処分した量
F12: =+ROUND(P12,1)+ROUND(P15,1)+ROUND(P18,1)+ROUND(P24,1)+P27-ROUND(F15,1) -> 0 | I12: ｔ | T12: ｔ | AN12: ｔ
F14: ※１ | G14: 自社の他事業場からの搬入量 | P14: ③ | Q14: 自ら直接埋立処分又は海洋投入処分した量 | AH14: ※3 | AI14: 自ら中間処理した後自社の他事業場での処理量
I15: ｔ | T15: ｔ | AN15: ｔ | AS15: （目的別内訳）
P16: =+IF(Y18=0,"",IF(Y18-P18=Y18,"エラー！：⑥残さ物量があるのに、④自ら中間処理した量がゼロになっています","")) | AS16: 再生利用前委託量 | AV16: ｔ
P17: ④ | Q17: 自ら中間処理した量 | Y17: ⑥ | Z17: 自ら中間処理した後の残さ量 | AE17: ｂ残さ物の委託処理 | AH17: ｂ | AI17: 自ら中間処理した後の処理委託量 | AO17: ｂ-1 中間処理委託量 | AS17: 最終処分前 委託量 | AV17: ｔ
T18: ｔ | Y18: =+ROUND(AH9,1)+ROUND(AH12,1)+ROUND(AH15,1)+AH18 -> 0 | AB18: ｔ | AH18: =+ROUND(AO18,1)+ROUND(AO21,1) -> 0 | AL18: ｔ | AO18: =+ROUND(AU16,1)+ROUND(AU17,1)+ROUND(AU18,1) -> 0 | AP18: ｔ | AS18: 下水等放流前委託量 | AV18: ｔ
AW19: （第2面）
P20: ⑤ | Q20: ④のうち熱回収を行った量 | Y20: ⑦ | Z20: 自ら中間処理により減量した量 | AO20: ｂ-2 最終処分委託量
B21: 注）右上のフローには、令和７年度の実績値を記載してください。下表の中央列には、令和７年度目標値を記載してください。下表の右列は、右上フローに記載された令和７年度実績値が自動的に計算されます。 | T21: ｔ | Y21: =+P18-Y18 -> 0 | AB21: ｔ | AP21: ｔ
P22: =+IF(P21=0,"",IF(P18<P21,"エラー !：④の内数である⑤の量が④を超えています",""))
B23: 項 目 | D23: 令和７年度 目標値 | H23: 令和７年度 実績値 | P23: ※２ | Q23: 自社の他事業場での処理量 | AS23: ⑫ | AT23: ⑩のうち再生利用業者への処理委託量
B24: ① 排出量 | D24: 0 | G24: t | H24: =+F12 -> 0 | J24: t | T24: ｔ | AS24: =+ROUND(AU16,1)+ROUND(AA28,1) -> 0 | AV24: ｔ
B25: ②＋⑧ 自ら再生利用を行った量 | D25: 0 | G25: t | H25: =+P12+AH9 -> 0 | J25: t
B26: ⑤ 自ら熱回収を行った量 | D26: 0 | G26: t | H26: =+P21 -> 0 | J26: t | M26: Ｂ 直接委託処理 | P26: Ｂ | Q26: 直接処理委託量 | AL26: ⑩ | AM26: 直接及び自ら中間処理した後の処理委託量 | AS26: ⑬ | AT26: ⑩のうち認定熱回収業者への処理委託量
B27: ⑦ 自ら中間処理により減量した量 | D27: 0 | G27: t | H27: =+Y21 -> 0 | J27: t | P27: =+R30+ROUND(R33,1) -> 0 | T27: ｔ | Y27: （目的別内訳） | AL27: =+AH18+P27 -> 0 | AP27: ｔ | AV27: ｔ
B28: ③＋⑨ 自ら埋立処分又は海洋投入処分を行った量 | D28: 0 | G28: t | H28: =+P15+AH12 -> 0 | J28: t | Y28: 再生利用前委託量 | AF28: ｔ | AS28: =+IF(AS27=0,"",IF(AL27<(AS24+AS27+AS31),"エラー !：⑩の内数である（⑫+⑬＋⑭）の量が⑩を超えています",""))
B29: ⑩ 全処理委託量 | D29: 0 | G29: t | H29: =+AL27 -> 0 | J29: t | R29: B-1 | S29: 中間処理委託量 | Y29: 最終処分前委託量 | AF29: ｔ | AL29: ⑪ | AM29: ⑩のうち優良認定処理業者への処理委託量 | AS29: ⑭ | AT29: ⑩のうち認定熱回収業者以外の熱回収を行う業者への処理委託量
B30: ⑪ 優良認定処理業者への処理委託量 | D30: 0 | G30: t | H30: =+AL30 -> 0 | J30: t | R30: =+ROUND(AA28,1)+ROUND(AA29,1)+ROUND(AA30,1) -> 0 | V30: ｔ | Y30: 下水等放流前委託量 | AF30: ｔ | AP30: ｔ
B31: ⑫ 再生利用業者への処理委託量 | D31: 0 | G31: t | H31: =+AS24 -> 0 | J31: t | AA31: 【産業廃棄物の種類 （ア～ト）】 | AL31: =+IF(AL30=0,"",IF(AL27<AL30,"エラー !：⑩の内数である⑪の量が⑩を超えています","")) | AV31: ｔ
B32: ⑬ 認定熱回収業者への処理委託量 | D32: 0 | G32: t | H32: =+AS27 -> 0 | J32: t | R32: B-2 | S32: 最終処分委託量 | AA32: ｱ. 燃え殻 ｲ. 汚泥 ｳ. 廃油 ｴ. 廃酸 ｵ. 廃アルカリ ｶ. 廃ﾌﾟﾗｽﾁｯｸ類 ｷ. 紙くず | AF32: ｸ. 木くず ｹ. 繊維くず ｺ. 動植物性残さ ｻ. 動物系固形不要物 ｼ. ゴムくず ｽ. 金属くず ｾ. ｶﾞﾗｽ・ｺﾝｸﾘｰﾄ・陶磁器くず | AL32: ｿ. 鉱さい ﾀ. がれき類 ﾁ. 動物のふん尿 ﾂ. 動物の死体 ﾃ. ばいじん ト. 混合廃棄物その他 | AS32: =+IF(AS31=0,"",IF(AL27<(AS24+AS27+AS31),"エラー !：⑩の内数である（⑫+⑬＋⑭）の量が⑩を超えています",""))
B33: ⑭ 認定熱回収業者以外の熱回収を行う業者への処理委託量 | D33: 0 | G33: t | H33: =+AS31 -> 0 | J33: t | V33: ｔ
C34: =+IF(D30=0,"",IF(D29<D30,"エラー !：上の表は、⑩の内数である⑪の量が⑩を超えています",""))
C35: =+IF(D31=0,"",IF(D29<D31,"エラー !：上の表は、⑩の内数である⑫の量が⑩を超えています",""))
C36: =+IF(D32=0,"",IF(D29<D32,"エラー !：上の表は、⑩の内数である⑬の量が⑩を超えています",""))
C37: =+IF(D33=0,"",IF(D29<D33,"エラー !：上の表は、⑩の内数である⑭の量が⑩を超えています",""))

Sheet 別紙
C1: このページは、印刷用のページですので、一切入力できません。入力は各廃棄物のフローシート「ア.燃え殻～ト.混合廃棄物その他」にしてください。
E2: は訂正が必要ですので、該当の処理フローを訂正してください。
B3: 産業廃棄物処理計画実施状況報告書
Y4: ３－１ | Z4: 法定 | AA4: 自主
Z5: =+表紙!N28 -> ○ | AA5: =+表紙!O28
B6: 別紙一括表 | O6: 事業場名称： | P6: =+表紙!F47 -> 株式会社ダイセキ環境ソリューション 横浜恵比須リサイクルセンター | AA6: （単位：トン）
G7: ア | H7: イ | I7: ウ | J7: エ | K7: オ | L7: カ | M7: キ | N7: ク | O7: ケ | P7: コ | Q7: サ | R7: シ | S7: ス | T7: セ | U7: ソ | V7: タ | W7: チ | X7: ツ | Y7: テ | Z7: ト
G8: 燃え殻 | H8: 汚泥 | I8: 廃油 | J8: 廃酸 | K8: 廃アルカリ | L8: 廃 ﾌﾟﾗｽﾁｯｸ | M8: 紙くず | N8: 木くず | O8: 繊維くず | P8: 動植物性 残さ | Q8: 動物系 固形不要物 | R8: ゴムくず | S8: 金属くず | T8: ｶﾞﾗｽ・ｺﾝｸﾘｰﾄ・陶磁器くず | U8: 鉱さい | V8: がれき類 | W8: 動物の ふん尿 | X8: 動物の 死体 | Y8: ばいじん | Z8: 混合廃棄物 その他 | AA8: 合計
C9: ① 排出量 | G9: =IF(OR(ｱ.燃え殻!D24>0,ｱ.燃え殻!D24<0),ｱ.燃え殻!D24,IF(G$19>0,"0",0)) -> 0 | H9: =IF(OR(ｲ.汚泥!D24>0,ｲ.汚泥!D24<0),ｲ.汚泥!D24,IF(H$19>0,"0",0)) -> 0 | I9: =IF(OR(ｳ.廃油!D24>0,ｳ.廃油!D24<0),ｳ.廃油!D24,IF(I$19>0,"0",0)) -> 0 | J9: =IF(OR(ｴ.廃酸!$D24>0,ｴ.廃酸!$D24<0),ｴ.廃酸!D24,IF(J$19>0,"0",0)) -> 0 | K9: =IF(OR(ｵ.廃ｱﾙｶﾘ!$D24>0,ｵ.廃ｱﾙｶﾘ!$D24<0),ｵ.廃ｱﾙｶﾘ!D24,IF(K$19>0,"0",0)) -> 0 | L9: =IF(OR(ｶ.廃ﾌﾟﾗ類!D24>0,ｶ.廃ﾌﾟﾗ類!D24<0),ｶ.廃ﾌﾟﾗ類!D24,IF(L$19>0,"0",0)) -> 529.7 | M9: =IF(OR(ｷ.紙くず!D24>0,ｷ.紙くず!D24<0),ｷ.紙くず!D24,IF(M$19>0,"0",0)) -> 0 | N9: =IF(OR(ｸ.木くず!D24>0,ｸ.木くず!D24<0),ｸ.木くず!D24,IF(N$19>0,"0",0)) -> 0 | O9: =IF(OR(ｹ.繊維くず!D24>0,ｹ.繊維くず!D24<0),ｹ.繊維くず!D24,IF(O$19>0,"0",0)) -> 0 | P9: =IF(OR(ｺ.動植物性残さ!D24>0,ｺ.動植物性残さ!D24<0),ｺ.動植物性残さ!D24,IF(P$19>0,"0",0)) -> 0 | Q9: =IF(OR(ｻ.動物系固形不要物!D24>0,ｻ.動物系固形不要物!D24<0),ｻ.動物系固形不要物!D24,IF(Q$19>0,"0",0)) -> 0 | R9: =IF(OR(ｼ.ｺﾞﾑくず!D24>0,ｼ.ｺﾞﾑくず!D24<0),ｼ.ｺﾞﾑくず!D24,IF(R$19>0,"0",0)) -> 0 | S9: =IF(OR(ｽ.金属くず!D24>0,ｽ.金属くず!D24<0),ｽ.金属くず!D24,IF(S$19>0,"0",0)) -> 0 | T9: =IF(OR(ｾ.ｶﾞﾗｽ･ｺﾝｸﾘ･陶磁器くず!D24>0,ｾ.ｶﾞﾗｽ･ｺﾝｸﾘ･陶磁器くず!D24<0),ｾ.ｶﾞﾗｽ･ｺﾝｸﾘ･陶磁器くず!D24,IF(T$19>0,"0",0)) -> 0 | U9: =IF(OR(ｿ.鉱さい!D24>0,ｿ.鉱さい!D24<0),ｿ.鉱さい!D24,IF(U$19>0,"0",0)) -> 0 | V9: =IF(OR(ﾀ.がれき類!D24>0,ﾀ.がれき類!D24<0),ﾀ.がれき類!D24,IF(V$19>0,"0",0)) -> 7316.5 | W9: =IF(OR(ﾁ.動物のふん尿!D24>0,ﾁ.動物のふん尿!D24<0),ﾁ.動物のふん尿!D24,IF(W$19>0,"0",0)) -> 0 | X9: =IF(OR(ﾂ.動物の死体!D24>0,ﾂ.動物の死体!D24<0),ﾂ.動物の死体!D24,IF(X$19>0,"0",0)) -> 0 | Y9: =IF(OR(ﾃ.ばいじん!D24>0,ﾃ.ばいじん!D24<0),ﾃ.ばいじん!D24,IF(Y$19>0,"0",0)) -> 0 | Z9: =IF(OR(ﾄ.混合廃棄物その他!D24>0,ﾄ.混合廃棄物その他!D24<0),ﾄ.混合廃棄物その他!D24,IF(Z$19>0,"0",0)) -> 0 | AA9: =IF(SUM(G9:Z9)>0,SUM(G9:Z9),IF(AA$19>0,"0",0)) -> 7846.2
B10: 令 | C10: ②＋⑧ 自ら再生利用を行う量 | G10: =IF(OR(ｱ.燃え殻!D25>0,ｱ.燃え殻!D25<0),ｱ.燃え殻!D25,IF(G$19>0,"0",0)) -> 0 | H10: =IF(OR(ｲ.汚泥!D25>0,ｲ.汚泥!D25<0),ｲ.汚泥!D25,IF(H$19>0,"0",0)) -> 0 | I10: =IF(OR(ｳ.廃油!D25>0,ｳ.廃油!D25<0),ｳ.廃油!D25,IF(I$19>0,"0",0)) -> 0 | J10: =IF(OR(ｴ.廃酸!$D25>0,ｴ.廃酸!$D25<0),ｴ.廃酸!D25,IF(J$19>0,"0",0)) -> 0 | K10: =IF(OR(ｵ.廃ｱﾙｶﾘ!$D25>0,ｵ.廃ｱﾙｶﾘ!$D25<0),ｵ.廃ｱﾙｶﾘ!D25,IF(K$19>0,"0",0)) -> 0 | L10: =IF(OR(ｶ.廃ﾌﾟﾗ類!D25>0,ｶ.廃ﾌﾟﾗ類!D25<0),ｶ.廃ﾌﾟﾗ類!D25,IF(L$19>0,"0",0)) -> 0 | M10: =IF(OR(ｷ.紙くず!D25>0,ｷ.紙くず!D25<0),ｷ.紙くず!D25,IF(M$19>0,"0",0)) -> 0 | N10: =IF(OR(ｸ.木くず!D25>0,ｸ.木くず!D25<0),ｸ.木くず!D25,IF(N$19>0,"0",0)) -> 0 | O10: =IF(OR(ｹ.繊維くず!D25>0,ｹ.繊維くず!D25<0),ｹ.繊維くず!D25,IF(O$19>0,"0",0)) -> 0 | P10: =IF(OR(ｺ.動植物性残さ!D25>0,ｺ.動植物性残さ!D25<0),ｺ.動植物性残さ!D25,IF(P$19>0,"0",0)) -> 0 | Q10: =IF(OR(ｻ.動物系固形不要物!D25>0,ｻ.動物系固形不要物!D25<0),ｻ.動物系固形不要物!D25,IF(Q$19>0,"0",0)) -> 0 | R10: =IF(OR(ｼ.ｺﾞﾑくず!D25>0,ｼ.ｺﾞﾑくず!D25<0),ｼ.ｺﾞﾑくず!D25,IF(R$19>0,"0",0)) -> 0 | S10: =IF(OR(ｽ.金属くず!D25>0,ｽ.金属くず!D25<0),ｽ.金属くず!D25,IF(S$19>0,"0",0)) -> 0 | T10: =IF(OR(ｾ.ｶﾞﾗｽ･ｺﾝｸﾘ･陶磁器くず!D25>0,ｾ.ｶﾞﾗｽ･ｺﾝｸﾘ･陶磁器くず!D25<0),ｾ.ｶﾞﾗｽ･ｺﾝｸﾘ･陶磁器くず!D25,IF(T$19>0,"0",0)) -> 0 | U10: =IF(OR(ｿ.鉱さい!D25>0,ｿ.鉱さい!D25<0),ｿ.鉱さい!D25,IF(U$19>0,"0",0)) -> 0 | V10: =IF(OR(ﾀ.がれき類!D25>0,ﾀ.がれき類!D25<0),ﾀ.がれき類!D25,IF(V$19>0,"0",0)) -> 0 | W10: =IF(OR(ﾁ.動物のふん尿!D25>0,ﾁ.動物のふん尿!D25<0),ﾁ.動物のふん尿!D25,IF(W$19>0,"0",0)) -> 0 | X10: =IF(OR(ﾂ.動物の死体!D25>0,ﾂ.動物の死体!D25<0),ﾂ.動物の死体!D25,IF(X$19>0,"0",0)) -> 0 | Y10: =IF(OR(ﾃ.ばいじん!D25>0,ﾃ.ばいじん!D25<0),ﾃ.ばいじん!D25,IF(Y$19>0,"0",0)) -> 0 | Z10: =IF(OR(ﾄ.混合廃棄物その他!D25>0,ﾄ.混合廃棄物その他!D25<0),ﾄ.混合廃棄物その他!D25,IF(Z$19>0,"0",0)) -> 0 | AA10: =IF(SUM(G10:Z10)>0,SUM(G10:Z10),IF(AA$19>0,"0",0)) -> 0
B11: 和 | C11: ⑤ 自ら熱回収を行う量 | G11: =IF(OR(ｱ.燃え殻!D26>0,ｱ.燃え殻!D26<0),ｱ.燃え殻!D26,IF(G$19>0,"0",0)) -> 0 | H11: =IF(OR(ｲ.汚泥!D26>0,ｲ.汚泥!D26<0),ｲ.汚泥!D26,IF(H$19>0,"0",0)) -> 0 | I11: =IF(OR(ｳ.廃油!D26>0,ｳ.廃油!D26<0),ｳ.廃油!D26,IF(I$19>0,"0",0)) -> 0 | J11: =IF(OR(ｴ.廃酸!$D26>0,ｴ.廃酸!$D26<0),ｴ.廃酸!D26,IF(J$19>0,"0",0)) -> 0 | K11: =IF(OR(ｵ.廃ｱﾙｶﾘ!$D26>0,ｵ.廃ｱﾙｶﾘ!$D26<0),ｵ.廃ｱﾙｶﾘ!D26,IF(K$19>0,"0",0)) -> 0 | L11: =IF(OR(ｶ.廃ﾌﾟﾗ類!D26>0,ｶ.廃ﾌﾟﾗ類!D26<0),ｶ.廃ﾌﾟﾗ類!D26,IF(L$19>0,"0",0)) -> 0 | M11: =IF(OR(ｷ.紙くず!D26>0,ｷ.紙くず!D26<0),ｷ.紙くず!D26,IF(M$19>0,"0",0)) -> 0 | N11: =IF(OR(ｸ.木くず!D26>0,ｸ.木くず!D26<0),ｸ.木くず!D26,IF(N$19>0,"0",0)) -> 0 | O11: =IF(OR(ｹ.繊維くず!D26>0,ｹ.繊維くず!D26<0),ｹ.繊維くず!D26,IF(O$19>0,"0",0)) -> 0 | P11: =IF(OR(ｺ.動植物性残さ!D26>0,ｺ.動植物性残さ!D26<0),ｺ.動植物性残さ!D26,IF(P$19>0,"0",0)) -> 0 | Q11: =IF(OR(ｻ.動物系固形不要物!D26>0,ｻ.動物系固形不要物!D26<0),ｻ.動物系固形不要物!D26,IF(Q$19>0,"0",0)) -> 0 | R11: =IF(OR(ｼ.ｺﾞﾑくず!D26>0,ｼ.ｺﾞﾑくず!D26<0),ｼ.ｺﾞﾑくず!D26,IF(R$19>0,"0",0)) -> 0 | S11: =IF(OR(ｽ.金属くず!D26>0,ｽ.金属くず!D26<0),ｽ.金属くず!D26,IF(S$19>0,"0",0)) -> 0 | T11: =IF(OR(ｾ.ｶﾞﾗｽ･ｺﾝｸﾘ･陶磁器くず!D26>0,ｾ.ｶﾞﾗｽ･ｺﾝｸﾘ･陶磁器くず!D26<0),ｾ.ｶﾞﾗｽ･ｺﾝｸﾘ･陶磁器くず!D26,IF(T$19>0,"0",0)) -> 0 | U11: =IF(OR(ｿ.鉱さい!D26>0,ｿ.鉱さい!D26<0),ｿ.鉱さい!D26,IF(U$19>0,"0",0)) -> 0 | V11: =IF(OR(ﾀ.がれき類!D26>0,ﾀ.がれき類!D26<0),ﾀ.がれき類!D26,IF(V$19>0,"0",0)) -> 0 | W11: =IF(OR(ﾁ.動物のふん尿!D26>0,ﾁ.動物のふん尿!D26<0),ﾁ.動物のふん尿!D26,IF(W$19>0,"0",0)) -> 0 | X11: =IF(OR(ﾂ.動物の死体!D26>0,ﾂ.動物の死体!D26<0),ﾂ.動物の死体!D26,IF(X$19>0,"0",0)) -> 0 | Y11: =IF(OR(ﾃ.ばいじん!D26>0,ﾃ.ばいじん!D26<0),ﾃ.ばいじん!D26,IF(Y$19>0,"0",0)) -> 0 | Z11: =IF(OR(ﾄ.混合廃棄物その他!D26>0,ﾄ.混合廃棄物その他!D26<0),ﾄ.混合廃棄物その他!D26,IF(Z$19>0,"0",0)) -> 0 | AA11: =IF(SUM(G11:Z11)>0,SUM(G11:Z11),IF(AA$19>0,"0",0)) -> 0
B12: 7 | C12: ⑦ 自ら中間処理により減量する量 | G12: =IF(OR(ｱ.燃え殻!D27>0,ｱ.燃え殻!D27<0),ｱ.燃え殻!D27,IF(G$19>0,"0",0)) -> 0 | H12: =IF(OR(ｲ.汚泥!D27>0,ｲ.汚泥!D27<0),ｲ.汚泥!D27,IF(H$19>0,"0",0)) -> 0 | I12: =IF(OR(ｳ.廃油!D27>0,ｳ.廃油!D27<0),ｳ.廃油!D27,IF(I$19>0,"0",0)) -> 0 | J12: =IF(OR(ｴ.廃酸!$D27>0,ｴ.廃酸!$D27<0),ｴ.廃酸!D27,IF(J$19>0,"0",0)) -> 0 | K12: =IF(OR(ｵ.廃ｱﾙｶﾘ!$D27>0,ｵ.廃ｱﾙｶﾘ!$D27<0),ｵ.廃ｱﾙｶﾘ!D27,IF(K$19>0,"0",0)) -> 0 | L12: =IF(OR(ｶ.廃ﾌﾟﾗ類!D27>0,ｶ.廃ﾌﾟﾗ類!D27<0),ｶ.廃ﾌﾟﾗ類!D27,IF(L$19>0,"0",0)) -> 0 | M12: =IF(OR(ｷ.紙くず!D27>0,ｷ.紙くず!D27<0),ｷ.紙くず!D27,IF(M$19>0,"0",0)) -> 0 | N12: =IF(OR(ｸ.木くず!D27>0,ｸ.木くず!D27<0),ｸ.木くず!D27,IF(N$19>0,"0",0)) -> 0 | O12: =IF(OR(ｹ.繊維くず!D27>0,ｹ.繊維くず!D27<0),ｹ.繊維くず!D27,IF(O$19>0,"0",0)) -> 0 | P12: =IF(OR(ｺ.動植物性残さ!D27>0,ｺ.動植物性残さ!D27<0),ｺ.動植物性残さ!D27,IF(P$19>0,"0",0)) -> 0 | Q12: =IF(OR(ｻ.動物系固形不要物!D27>0,ｻ.動物系固形不要物!D27<0),ｻ.動物系固形不要物!D27,IF(Q$19>0,"0",0)) -> 0 | R12: =IF(OR(ｼ.ｺﾞﾑくず!D27>0,ｼ.ｺﾞﾑくず!D27<0),ｼ.ｺﾞﾑくず!D27,IF(R$19>0,"0",0)) -> 0 | S12: =IF(OR(ｽ.金属くず!D27>0,ｽ.金属くず!D27<0),ｽ.金属くず!D27,IF(S$19>0,"0",0)) -> 0 | T12: =IF(OR(ｾ.ｶﾞﾗｽ･ｺﾝｸﾘ･陶磁器くず!D27>0,ｾ.ｶﾞﾗｽ･ｺﾝｸﾘ･陶磁器くず!D27<0),ｾ.ｶﾞﾗｽ･ｺﾝｸﾘ･陶磁器くず!D27,IF(T$19>0,"0",0)) -> 0 | U12: =IF(OR(ｿ.鉱さい!D27>0,ｿ.鉱さい!D27<0),ｿ.鉱さい!D27,IF(U$19>0,"0",0)) -> 0 | V12: =IF(OR(ﾀ.がれき類!D27>0,ﾀ.がれき類!D27<0),ﾀ.がれき類!D27,IF(V$19>0,"0",0)) -> 0 | W12: =IF(OR(ﾁ.動物のふん尿!D27>0,ﾁ.動物のふん尿!D27<0),ﾁ.動物のふん尿!D27,IF(W$19>0,"0",0)) -> 0 | X12: =IF(OR(ﾂ.動物の死体!D27>0,ﾂ.動物の死体!D27<0),ﾂ.動物の死体!D27,IF(X$19>0,"0",0)) -> 0 | Y12: =IF(OR(ﾃ.ばいじん!D27>0,ﾃ.ばいじん!D27<0),ﾃ.ばいじん!D27,IF(Y$19>0,"0",0)) -> 0 | Z12: =IF(OR(ﾄ.混合廃棄物その他!D27>0,ﾄ.混合廃棄物その他!D27<0),ﾄ.混合廃棄物その他!D27,IF(Z$19>0,"0",0)) -> 0 | AA12: =IF(SUM(G12:Z12)>0,SUM(G12:Z12),IF(AA$19>0,"0",0)) -> 0
B13: 年 | C13: ③＋⑨ 自ら埋立処分又は海洋投入処分を行う量 | G13: =IF(OR(ｱ.燃え殻!D28>0,ｱ.燃え殻!D28<0),ｱ.燃え殻!D28,IF(G$19>0,"0",0)) -> 0 | H13: =IF(OR(ｲ.汚泥!D28>0,ｲ.汚泥!D28<0),ｲ.汚泥!D28,IF(H$19>0,"0",0)) -> 0 | I13: =IF(OR(ｳ.廃油!D28>0,ｳ.廃油!D28<0),ｳ.廃油!D28,IF(I$19>0,"0",0)) -> 0 | J13: =IF(OR(ｴ.廃酸!$D28>0,ｴ.廃酸!$D28<0),ｴ.廃酸!D28,IF(J$19>0,"0",0)) -> 0 | K13: =IF(OR(ｵ.廃ｱﾙｶﾘ!$D28>0,ｵ.廃ｱﾙｶﾘ!$D28<0),ｵ.廃ｱﾙｶﾘ!D28,IF(K$19>0,"0",0)) -> 0 | L13: =IF(OR(ｶ.廃ﾌﾟﾗ類!D28>0,ｶ.廃ﾌﾟﾗ類!D28<0),ｶ.廃ﾌﾟﾗ類!D28,IF(L$19>0,"0",0)) -> 0 | M13: =IF(OR(ｷ.紙くず!D28>0,ｷ.紙くず!D28<0),ｷ.紙くず!D28,IF(M$19>0,"0",0)) -> 0 | N13: =IF(OR(ｸ.木くず!D28>0,ｸ.木くず!D28<0),ｸ.木くず!D28,IF(N$19>0,"0",0)) -> 0 | O13: =IF(OR(ｹ.繊維くず!D28>0,ｹ.繊維くず!D28<0),ｹ.繊維くず!D28,IF(O$19>0,"0",0)) -> 0 | P13: =IF(OR(ｺ.動植物性残さ!D28>0,ｺ.動植物性残さ!D28<0),ｺ.動植物性残さ!D28,IF(P$19>0,"0",0)) -> 0 | Q13: =IF(OR(ｻ.動物系固形不要物!D28>0,ｻ.動物系固形不要物!D28<0),ｻ.動物系固形不要物!D28,IF(Q$19>0,"0",0)) -> 0 | R13: =IF(OR(ｼ.ｺﾞﾑくず!D28>0,ｼ.ｺﾞﾑくず!D28<0),ｼ.ｺﾞﾑくず!D28,IF(R$19>0,"0",0)) -> 0 | S13: =IF(OR(ｽ.金属くず!D28>0,ｽ.金属くず!D28<0),ｽ.金属くず!D28,IF(S$19>0,"0",0)) -> 0 | T13: =IF(OR(ｾ.ｶﾞﾗｽ･ｺﾝｸﾘ･陶磁器くず!D28>0,ｾ.ｶﾞﾗｽ･ｺﾝｸﾘ･陶磁器くず!D28<0),ｾ.ｶﾞﾗｽ･ｺﾝｸﾘ･陶磁器くず!D28,IF(T$19>0,"0",0)) -> 0 | U13: =IF(OR(ｿ.鉱さい!D28>0,ｿ.鉱さい!D28<0),ｿ.鉱さい!D28,IF(U$19>0,"0",0)) -> 0 | V13: =IF(OR(ﾀ.がれき類!D28>0,ﾀ.がれき類!D28<0),ﾀ.がれき類!D28,IF(V$19>0,"0",0)) -> 0 | W13: =IF(OR(ﾁ.動物のふん尿!D28>0,ﾁ.動物のふん尿!D28<0),ﾁ.動物のふん尿!D28,IF(W$19>0,"0",0)) -> 0 | X13: =IF(OR(ﾂ.動物の死体!D28>0,ﾂ.動物の死体!D28<0),ﾂ.動物の死体!D28,IF(X$19>0,"0",0)) -> 0 | Y13: =IF(OR(ﾃ.ばいじん!D28>0,ﾃ.ばいじん!D28<0),ﾃ.ばいじん!D28,IF(Y$19>0,"0",0)) -> 0 | Z13: =IF(OR(ﾄ.混合廃棄物その他!D28>0,ﾄ.混合廃棄物その他!D28<0),ﾄ.混合廃棄物その他!D28,IF(Z$19>0,"0",0)) -> 0 | AA13: =IF(SUM(G13:Z13)>0,SUM(G13:Z13),IF(AA$19>0,"0",0)) -> 0
B14: 度 | C14: ⑩ 全処理委託量 | G14: =IF(OR(ｱ.燃え殻!D29>0,ｱ.燃え殻!D29<0),ｱ.燃え殻!D29,IF(G$19>0,"0",0)) -> 0 | H14: =IF(OR(ｲ.汚泥!D29>0,ｲ.汚泥!D29<0),ｲ.汚泥!D29,IF(H$19>0,"0",0)) -> 0 | I14: =IF(OR(ｳ.廃油!D29>0,ｳ.廃油!D29<0),ｳ.廃油!D29,IF(I$19>0,"0",0)) -> 0 | J14: =IF(OR(ｴ.廃酸!$D29>0,ｴ.廃酸!$D29<0),ｴ.廃酸!D29,IF(J$19>0,"0",0)) -> 0 | K14: =IF(OR(ｵ.廃ｱﾙｶﾘ!$D29>0,ｵ.廃ｱﾙｶﾘ!$D29<0),ｵ.廃ｱﾙｶﾘ!D29,IF(K$19>0,"0",0)) -> 0 | L14: =IF(OR(ｶ.廃ﾌﾟﾗ類!D29>0,ｶ.廃ﾌﾟﾗ類!D29<0),ｶ.廃ﾌﾟﾗ類!D29,IF(L$19>0,"0",0)) -> 529.7 | M14: =IF(OR(ｷ.紙くず!D29>0,ｷ.紙くず!D29<0),ｷ.紙くず!D29,IF(M$19>0,"0",0)) -> 0 | N14: =IF(OR(ｸ.木くず!D29>0,ｸ.木くず!D29<0),ｸ.木くず!D29,IF(N$19>0,"0",0)) -> 0 | O14: =IF(OR(ｹ.繊維くず!D29>0,ｹ.繊維くず!D29<0),ｹ.繊維くず!D29,IF(O$19>0,"0",0)) -> 0 | P14: =IF(OR(ｺ.動植物性残さ!D29>0,ｺ.動植物性残さ!D29<0),ｺ.動植物性残さ!D29,IF(P$19>0,"0",0)) -> 0 | Q14: =IF(OR(ｻ.動物系固形不要物!D29>0,ｻ.動物系固形不要物!D29<0),ｻ.動物系固形不要物!D29,IF(Q$19>0,"0",0)) -> 0 | R14: =IF(OR(ｼ.ｺﾞﾑくず!D29>0,ｼ.ｺﾞﾑくず!D29<0),ｼ.ｺﾞﾑくず!D29,IF(R$19>0,"0",0)) -> 0 | S14: =IF(OR(ｽ.金属くず!D29>0,ｽ.金属くず!D29<0),ｽ.金属くず!D29,IF(S$19>0,"0",0)) -> 0 | T14: =IF(OR(ｾ.ｶﾞﾗｽ･ｺﾝｸﾘ･陶磁器くず!D29>0,ｾ.ｶﾞﾗｽ･ｺﾝｸﾘ･陶磁器くず!D29<0),ｾ.ｶﾞﾗｽ･ｺﾝｸﾘ･陶磁器くず!D29,IF(T$19>0,"0",0)) -> 0 | U14: =IF(OR(ｿ.鉱さい!D29>0,ｿ.鉱さい!D29<0),ｿ.鉱さい!D29,IF(U$19>0,"0",0)) -> 0 | V14: =IF(OR(ﾀ.がれき類!D29>0,ﾀ.がれき類!D29<0),ﾀ.がれき類!D29,IF(V$19>0,"0",0)) -> 7316.5 | W14: =IF(OR(ﾁ.動物のふん尿!D29>0,ﾁ.動物のふん尿!D29<0),ﾁ.動物のふん尿!D29,IF(W$19>0,"0",0)) -> 0 | X14: =IF(OR(ﾂ.動物の死体!D29>0,ﾂ.動物の死体!D29<0),ﾂ.動物の死体!D29,IF(X$19>0,"0",0)) -> 0 | Y14: =IF(OR(ﾃ.ばいじん!D29>0,ﾃ.ばいじん!D29<0),ﾃ.ばいじん!D29,IF(Y$19>0,"0",0)) -> 0 | Z14: =IF(OR(ﾄ.混合廃棄物その他!D29>0,ﾄ.混合廃棄物その他!D29<0),ﾄ.混合廃棄物その他!D29,IF(Z$19>0,"0",0)) -> 0 | AA14: =IF(SUM(G14:Z14)>0,SUM(G14:Z14),IF(AA$19>0,"0",0)) -> 7846.2
B15: 目 | C15: ⑪ 優良認定処理業者への処理委託量 | G15: =IF(OR(ｱ.燃え殻!D30>0,ｱ.燃え殻!D30<0),ｱ.燃え殻!D30,IF(G$19>0,"0",0)) -> 0 | H15: =IF(OR(ｲ.汚泥!D30>0,ｲ.汚泥!D30<0),ｲ.汚泥!D30,IF(H$19>0,"0",0)) -> 0 | I15: =IF(OR(ｳ.廃油!D30>0,ｳ.廃油!D30<0),ｳ.廃油!D30,IF(I$19>0,"0",0)) -> 0 | J15: =IF(OR(ｴ.廃酸!$D30>0,ｴ.廃酸!$D30<0),ｴ.廃酸!D30,IF(J$19>0,"0",0)) -> 0 | K15: =IF(OR(ｵ.廃ｱﾙｶﾘ!$D30>0,ｵ.廃ｱﾙｶﾘ!$D30<0),ｵ.廃ｱﾙｶﾘ!D30,IF(K$19>0,"0",0)) -> 0 | L15: =IF(OR(ｶ.廃ﾌﾟﾗ類!D30>0,ｶ.廃ﾌﾟﾗ類!D30<0),ｶ.廃ﾌﾟﾗ類!D30,IF(L$19>0,"0",0)) -> 264.9 | M15: =IF(OR(ｷ.紙くず!D30>0,ｷ.紙くず!D30<0),ｷ.紙くず!D30,IF(M$19>0,"0",0)) -> 0 | N15: =IF(OR(ｸ.木くず!D30>0,ｸ.木くず!D30<0),ｸ.木くず!D30,IF(N$19>0,"0",0)) -> 0 | O15: =IF(OR(ｹ.繊維くず!D30>0,ｹ.繊維くず!D30<0),ｹ.繊維くず!D30,IF(O$19>0,"0",0)) -> 0 | P15: =IF(OR(ｺ.動植物性残さ!D30>0,ｺ.動植物性残さ!D30<0),ｺ.動植物性残さ!D30,IF(P$19>0,"0",0)) -> 0 | Q15: =IF(OR(ｻ.動物系固形不要物!D30>0,ｻ.動物系固形不要物!D30<0),ｻ.動物系固形不要物!D30,IF(Q$19>0,"0",0)) -> 0 | R15: =IF(OR(ｼ.ｺﾞﾑくず!D30>0,ｼ.ｺﾞﾑくず!D30<0),ｼ.ｺﾞﾑくず!D30,IF(R$19>0,"0",0)) -> 0 | S15: =IF(OR(ｽ.金属くず!D30>0,ｽ.金属くず!D30<0),ｽ.金属くず!D30,IF(S$19>0,"0",0)) -> 0 | T15: =IF(OR(ｾ.ｶﾞﾗｽ･ｺﾝｸﾘ･陶磁器くず!D30>0,ｾ.ｶﾞﾗｽ･ｺﾝｸﾘ･陶磁器くず!D30<0),ｾ.ｶﾞﾗｽ･ｺﾝｸﾘ･陶磁器くず!D30,IF(T$19>0,"0",0)) -> 0 | U15: =IF(OR(ｿ.鉱さい!D30>0,ｿ.鉱さい!D30<0),ｿ.鉱さい!D30,IF(U$19>0,"0",0)) -> 0 | V15: =IF(OR(ﾀ.がれき類!D30>0,ﾀ.がれき類!D30<0),ﾀ.がれき類!D30,IF(V$19>0,"0",0)) -> 4737.8 | W15: =IF(OR(ﾁ.動物のふん尿!D30>0,ﾁ.動物のふん尿!D30<0),ﾁ.動物のふん尿!D30,IF(W$19>0,"0",0)) -> 0 | X15: =IF(OR(ﾂ.動物の死体!D30>0,ﾂ.動物の死体!D30<0),ﾂ.動物の死体!D30,IF(X$19>0,"0",0)) -> 0 | Y15: =IF(OR(ﾃ.ばいじん!D30>0,ﾃ.ばいじん!D30<0),ﾃ.ばいじん!D30,IF(Y$19>0,"0",0)) -> 0 | Z15: =IF(OR(ﾄ.混合廃棄物その他!D30>0,ﾄ.混合廃棄物その他!D30<0),ﾄ.混合廃棄物その他!D30,IF(Z$19>0,"0",0)) -> 0 | AA15: =IF(SUM(G15:Z15)>0,SUM(G15:Z15),IF(AA$19>0,"0",0)) -> 5002.7
B16: 標 | C16: ⑫ 再生利用業者への処理委託量 | G16: =IF(OR(ｱ.燃え殻!D31>0,ｱ.燃え殻!D31<0),ｱ.燃え殻!D31,IF(G$19>0,"0",0)) -> 0 | H16: =IF(OR(ｲ.汚泥!D31>0,ｲ.汚泥!D31<0),ｲ.汚泥!D31,IF(H$19>0,"0",0)) -> 0 | I16: =IF(OR(ｳ.廃油!D31>0,ｳ.廃油!D31<0),ｳ.廃油!D31,IF(I$19>0,"0",0)) -> 0 | J16: =IF(OR(ｴ.廃酸!$D31>0,ｴ.廃酸!$D31<0),ｴ.廃酸!D31,IF(J$19>0,"0",0)) -> 0 | K16: =IF(OR(ｵ.廃ｱﾙｶﾘ!$D31>0,ｵ.廃ｱﾙｶﾘ!$D31<0),ｵ.廃ｱﾙｶﾘ!D31,IF(K$19>0,"0",0)) -> 0 | L16: =IF(OR(ｶ.廃ﾌﾟﾗ類!D31>0,ｶ.廃ﾌﾟﾗ類!D31<0),ｶ.廃ﾌﾟﾗ類!D31,IF(L$19>0,"0",0)) -> 529.7 | M16: =IF(OR(ｷ.紙くず!D31>0,ｷ.紙くず!D31<0),ｷ.紙くず!D31,IF(M$19>0,"0",0)) -> 0 | N16: =IF(OR(ｸ.木くず!D31>0,ｸ.木くず!D31<0),ｸ.木くず!D31,IF(N$19>0,"0",0)) -> 0 | O16: =IF(OR(ｹ.繊維くず!D31>0,ｹ.繊維くず!D31<0),ｹ.繊維くず!D31,IF(O$19>0,"0",0)) -> 0 | P16: =IF(OR(ｺ.動植物性残さ!D31>0,ｺ.動植物性残さ!D31<0),ｺ.動植物性残さ!D31,IF(P$19>0,"0",0)) -> 0 | Q16: =IF(OR(ｻ.動物系固形不要物!D31>0,ｻ.動物系固形不要物!D31<0),ｻ.動物系固形不要物!D31,IF(Q$19>0,"0",0)) -> 0 | R16: =IF(OR(ｼ.ｺﾞﾑくず!D31>0,ｼ.ｺﾞﾑくず!D31<0),ｼ.ｺﾞﾑくず!D31,IF(R$19>0,"0",0)) -> 0 | S16: =IF(OR(ｽ.金属くず!D31>0,ｽ.金属くず!D31<0),ｽ.金属くず!D31,IF(S$19>0,"0",0)) -> 0 | T16: =IF(OR(ｾ.ｶﾞﾗｽ･ｺﾝｸﾘ･陶磁器くず!D31>0,ｾ.ｶﾞﾗｽ･ｺﾝｸﾘ･陶磁器くず!D31<0),ｾ.ｶﾞﾗｽ･ｺﾝｸﾘ･陶磁器くず!D31,IF(T$19>0,"0",0)) -> 0 | U16: =IF(OR(ｿ.鉱さい!D31>0,ｿ.鉱さい!D31<0),ｿ.鉱さい!D31,IF(U$19>0,"0",0)) -> 0 | V16: =IF(OR(ﾀ.がれき類!D31>0,ﾀ.がれき類!D31<0),ﾀ.がれき類!D31,IF(V$19>0,"0",0)) -> 7316.5 | W16: =IF(OR(ﾁ.動物のふん尿!D31>0,ﾁ.動物のふん尿!D31<0),ﾁ.動物のふん尿!D31,IF(W$19>0,"0",0)) -> 0 | X16: =IF(OR(ﾂ.動物の死体!D31>0,ﾂ.動物の死体!D31<0),ﾂ.動物の死体!D31,IF(X$19>0,"0",0)) -> 0 | Y16: =IF(OR(ﾃ.ばいじん!D31>0,ﾃ.ばいじん!D31<0),ﾃ.ばいじん!D31,IF(Y$19>0,"0",0)) -> 0 | Z16: =IF(OR(ﾄ.混合廃棄物その他!D31>0,ﾄ.混合廃棄物その他!D31<0),ﾄ.混合廃棄物その他!D31,IF(Z$19>0,"0",0)) -> 0 | AA16: =IF(SUM(G16:Z16)>0,SUM(G16:Z16),IF(AA$19>0,"0",0)) -> 7846.2
C17: ⑬ 認定熱回収業者への処理委託量 | G17: =IF(OR(ｱ.燃え殻!D32>0,ｱ.燃え殻!D32<0),ｱ.燃え殻!D32,IF(G$19>0,"0",0)) -> 0 | H17: =IF(OR(ｲ.汚泥!D32>0,ｲ.汚泥!D32<0),ｲ.汚泥!D32,IF(H$19>0,"0",0)) -> 0 | I17: =IF(OR(ｳ.廃油!D32>0,ｳ.廃油!D32<0),ｳ.廃油!D32,IF(I$19>0,"0",0)) -> 0 | J17: =IF(OR(ｴ.廃酸!$D32>0,ｴ.廃酸!$D32<0),ｴ.廃酸!D32,IF(J$19>0,"0",0)) -> 0 | K17: =IF(OR(ｵ.廃ｱﾙｶﾘ!$D32>0,ｵ.廃ｱﾙｶﾘ!$D32<0),ｵ.廃ｱﾙｶﾘ!D32,IF(K$19>0,"0",0)) -> 0 | L17: =IF(OR(ｶ.廃ﾌﾟﾗ類!D32>0,ｶ.廃ﾌﾟﾗ類!D32<0),ｶ.廃ﾌﾟﾗ類!D32,IF(L$19>0,"0",0)) -> 0 | M17: =IF(OR(ｷ.紙くず!D32>0,ｷ.紙くず!D32<0),ｷ.紙くず!D32,IF(M$19>0,"0",0)) -> 0 | N17: =IF(OR(ｸ.木くず!D32>0,ｸ.木くず!D32<0),ｸ.木くず!D32,IF(N$19>0,"0",0)) -> 0 | O17: =IF(OR(ｹ.繊維くず!D32>0,ｹ.繊維くず!D32<0),ｹ.繊維くず!D32,IF(O$19>0,"0",0)) -> 0 | P17: =IF(OR(ｺ.動植物性残さ!D32>0,ｺ.動植物性残さ!D32<0),ｺ.動植物性残さ!D32,IF(P$19>0,"0",0)) -> 0 | Q17: =IF(OR(ｻ.動物系固形不要物!D32>0,ｻ.動物系固形不要物!D32<0),ｻ.動物系固形不要物!D32,IF(Q$19>0,"0",0)) -> 0 | R17: =IF(OR(ｼ.ｺﾞﾑくず!D32>0,ｼ.ｺﾞﾑくず!D32<0),ｼ.ｺﾞﾑくず!D32,IF(R$19>0,"0",0)) -> 0 | S17: =IF(OR(ｽ.金属くず!D32>0,ｽ.金属くず!D32<0),ｽ.金属くず!D32,IF(S$19>0,"0",0)) -> 0 | T17: =IF(OR(ｾ.ｶﾞﾗｽ･ｺﾝｸﾘ･陶磁器くず!D32>0,ｾ.ｶﾞﾗｽ･ｺﾝｸﾘ･陶磁器くず!D32<0),ｾ.ｶﾞﾗｽ･ｺﾝｸﾘ･陶磁器くず!D32,IF(T$19>0,"0",0)) -> 0 | U17: =IF(OR(ｿ.鉱さい!D32>0,ｿ.鉱さい!D32<0),ｿ.鉱さい!D32,IF(U$19>0,"0",0)) -> 0 | V17: =IF(OR(ﾀ.がれき類!D32>0,ﾀ.がれき類!D32<0),ﾀ.がれき類!D32,IF(V$19>0,"0",0)) -> 0 | W17: =IF(OR(ﾁ.動物のふん尿!D32>0,ﾁ.動物のふん尿!D32<0),ﾁ.動物のふん尿!D32,IF(W$19>0,"0",0)) -> 0 | X17: =IF(OR(ﾂ.動物の死体!D32>0,ﾂ.動物の死体!D32<0),ﾂ.動物の死体!D32,IF(X$19>0,"0",0)) -> 0 | Y17: =IF(OR(ﾃ.ばいじん!D32>0,ﾃ.ばいじん!D32<0),ﾃ.ばいじん!D32,IF(Y$19>0,"0",0)) -> 0 | Z17: =IF(OR(ﾄ.混合廃棄物その他!D32>0,ﾄ.混合廃棄物その他!D32<0),ﾄ.混合廃棄物その他!D32,IF(Z$19>0,"0",0)) -> 0 | AA17: =IF(SUM(G17:Z17)>0,SUM(G17:Z17),IF(AA$19>0,"0",0)) -> 0
C18: ⑭ | D18: 認定熱回収業者以外の熱回収を行う業者への処理委託量 | G18: =IF(OR(ｱ.燃え殻!D33>0,ｱ.燃え殻!D33<0),ｱ.燃え殻!D33,IF(G$19>0,"0",0)) -> 0 | H18: =IF(OR(ｲ.汚泥!D33>0,ｲ.汚泥!D33<0),ｲ.汚泥!D33,IF(H$19>0,"0",0)) -> 0 | I18: =IF(OR(ｳ.廃油!D33>0,ｳ.廃油!D33<0),ｳ.廃油!D33,IF(I$19>0,"0",0)) -> 0 | J18: =IF(OR(ｴ.廃酸!$D33>0,ｴ.廃酸!$D33<0),ｴ.廃酸!D33,IF(J$19>0,"0",0)) -> 0 | K18: =IF(OR(ｵ.廃ｱﾙｶﾘ!$D33>0,ｵ.廃ｱﾙｶﾘ!$D33<0),ｵ.廃ｱﾙｶﾘ!D33,IF(K$19>0,"0",0)) -> 0 | L18: =IF(OR(ｶ.廃ﾌﾟﾗ類!D33>0,ｶ.廃ﾌﾟﾗ類!D33<0),ｶ.廃ﾌﾟﾗ類!D33,IF(L$19>0,"0",0)) -> 0 | M18: =IF(OR(ｷ.紙くず!D33>0,ｷ.紙くず!D33<0),ｷ.紙くず!D33,IF(M$19>0,"0",0)) -> 0 | N18: =IF(OR(ｸ.木くず!D33>0,ｸ.木くず!D33<0),ｸ.木くず!D33,IF(N$19>0,"0",0)) -> 0 | O18: =IF(OR(ｹ.繊維くず!D33>0,ｹ.繊維くず!D33<0),ｹ.繊維くず!D33,IF(O$19>0,"0",0)) -> 0 | P18: =IF(OR(ｺ.動植物性残さ!D33>0,ｺ.動植物性残さ!D33<0),ｺ.動植物性残さ!D33,IF(P$19>0,"0",0)) -> 0 | Q18: =IF(OR(ｻ.動物系固形不要物!D33>0,ｻ.動物系固形不要物!D33<0),ｻ.動物系固形不要物!D33,IF(Q$19>0,"0",0)) -> 0 | R18: =IF(OR(ｼ.ｺﾞﾑくず!D33>0,ｼ.ｺﾞﾑくず!D33<0),ｼ.ｺﾞﾑくず!D33,IF(R$19>0,"0",0)) -> 0 | S18: =IF(OR(ｽ.金属くず!D33>0,ｽ.金属くず!D33<0),ｽ.金属くず!D33,IF(S$19>0,"0",0)) -> 0 | T18: =IF(OR(ｾ.ｶﾞﾗｽ･ｺﾝｸﾘ･陶磁器くず!D33>0,ｾ.ｶﾞﾗｽ･ｺﾝｸﾘ･陶磁器くず!D33<0),ｾ.ｶﾞﾗｽ･ｺﾝｸﾘ･陶磁器くず!D33,IF(T$19>0,"0",0)) -> 0 | U18: =IF(OR(ｿ.鉱さい!D33>0,ｿ.鉱さい!D33<0),ｿ.鉱さい!D33,IF(U$19>0,"0",0)) -> 0 | V18: =IF(OR(ﾀ.がれき類!D33>0,ﾀ.がれき類!D33<0),ﾀ.がれき類!D33,IF(V$19>0,"0",0)) -> 0 | W18: =IF(OR(ﾁ.動物のふん尿!D33>0,ﾁ.動物のふん尿!D33<0),ﾁ.動物のふん尿!D33,IF(W$19>0,"0",0)) -> 0 | X18: =IF(OR(ﾂ.動物の死体!D33>0,ﾂ.動物の死体!D33<0),ﾂ.動物の死体!D33,IF(X$19>0,"0",0)) -> 0 | Y18: =IF(OR(ﾃ.ばいじん!D33>0,ﾃ.ばいじん!D33<0),ﾃ.ばいじん!D33,IF(Y$19>0,"0",0)) -> 0 | Z18: =IF(OR(ﾄ.混合廃棄物その他!D33>0,ﾄ.混合廃棄物その他!D33<0),ﾄ.混合廃棄物その他!D33,IF(Z$19>0,"0",0)) -> 0 | AA18: =IF(SUM(G18:Z18)>0,SUM(G18:Z18),IF(AA$19>0,"0",0)) -> 0
C19: ① | D19: 当該事業場における排出量 | G19: =+G41+G25+G23+G22+G21-G20 -> 0 | H19: =+H41+H25+H23+H22+H21-H20 -> 0 | I19: =+I41+I25+I23+I22+I21-I20 -> 0.1 | J19: =+J41+J25+J23+J22+J21-J20 -> 0 | K19: =+K41+K25+K23+K22+K21-K20 -> 0 | L19: =+L41+L25+L23+L22+L21-L20 -> 171 | M19: =+M41+M25+M23+M22+M21-M20 -> 0 | N19: =+N41+N25+N23+N22+N21-N20 -> 0 | ... Z19: =+Z41+Z25+Z23+Z22+Z21-Z20 -> 0 | AA19: =SUM(G19:Z19) -> 8462.4
C20: ※１ | D20: 自社の他事業場からの搬入量 | G20: =+ｱ.燃え殻!$F$15 -> 0 | H20: =+ｲ.汚泥!$F$15 -> 0 | I20: =+ｳ.廃油!$F$15 -> 0 | J20: =+ｴ.廃酸!$F$15 -> 0 | K20: =+ｵ.廃ｱﾙｶﾘ!$F$15 -> 0 | L20: =+ｶ.廃ﾌﾟﾗ類!$F$15 -> 0 | M20: =+ｷ.紙くず!$F$15 -> 0 | N20: =+ｸ.木くず!$F$15 -> 0 | O20: =+ｹ.繊維くず!$F$15 -> 0 | P20: =+ｺ.動植物性残さ!$F$15 -> 0 | Q20: =+ｻ.動物系固形不要物!$F$15 -> 0 | R20: =+ｼ.ｺﾞﾑくず!$F$15 -> 0 | S20: =+ｽ.金属くず!$F$15 -> 0 | T20: =+ｾ.ｶﾞﾗｽ･ｺﾝｸﾘ･陶磁器くず!$F$15 -> 0 | U20: =+ｿ.鉱さい!$F$15 -> 0 | V20: =+ﾀ.がれき類!$F$15 -> 0 | W20: =+ﾁ.動物のふん尿!$F$15 -> 0 | X20: =+ﾂ.動物の死体!$F$15 -> 0 | Y20: =+ﾃ.ばいじん!$F$15 -> 0 | Z20: =+ﾄ.混合廃棄物その他!$F$15 -> 0 | AA20: =SUM(G20:Z20) -> 0
D21: ② | E21: 自ら直接再生利用した量 | G21: =+ｱ.燃え殻!$P$12 -> 0 | H21: =+ｲ.汚泥!$P$12 -> 0 | I21: =+ｳ.廃油!$P$12 -> 0 | J21: =+ｴ.廃酸!$P$12 -> 0 | K21: =+ｵ.廃ｱﾙｶﾘ!$P$12 -> 0 | L21: =+ｶ.廃ﾌﾟﾗ類!$P$12 -> 0 | M21: =+ｷ.紙くず!$P$12 -> 0 | N21: =+ｸ.木くず!$P$12 -> 0 | O21: =+ｹ.繊維くず!$P$12 -> 0 | P21: =+ｺ.動植物性残さ!$P$12 -> 0 | Q21: =+ｻ.動物系固形不要物!$P$12 -> 0 | R21: =+ｼ.ｺﾞﾑくず!$P$12 -> 0 | S21: =+ｽ.金属くず!$P$12 -> 0 | T21: =+ｾ.ｶﾞﾗｽ･ｺﾝｸﾘ･陶磁器くず!$P$12 -> 0 | U21: =+ｿ.鉱さい!$P$12 -> 0 | V21: =+ﾀ.がれき類!$P$12 -> 0 | W21: =+ﾁ.動物のふん尿!$P$12 -> 0 | X21: =+ﾂ.動物の死体!$P$12 -> 0 | Y21: =+ﾃ.ばいじん!$P$12 -> 0 | Z21: =+ﾄ.混合廃棄物その他!$P$12 -> 0 | AA21: =SUM(G21:Z21) -> 0
D22: ③ | E22: 自ら直接埋立処分又は海洋投入処分した量 | G22: =+ｱ.燃え殻!$P$15 -> 0 | H22: =+ｲ.汚泥!$P$15 -> 0 | I22: =+ｳ.廃油!$P$15 -> 0 | J22: =+ｴ.廃酸!$P$15 -> 0 | K22: =+ｵ.廃ｱﾙｶﾘ!$P$15 -> 0 | L22: =+ｶ.廃ﾌﾟﾗ類!$P$15 -> 0 | M22: =+ｷ.紙くず!$P$15 -> 0 | N22: =+ｸ.木くず!$P$15 -> 0 | O22: =+ｹ.繊維くず!$P$15 -> 0 | P22: =+ｺ.動植物性残さ!$P$15 -> 0 | Q22: =+ｻ.動物系固形不要物!$P$15 -> 0 | R22: =+ｼ.ｺﾞﾑくず!$P$15 -> 0 | S22: =+ｽ.金属くず!$P$15 -> 0 | T22: =+ｾ.ｶﾞﾗｽ･ｺﾝｸﾘ･陶磁器くず!$P$15 -> 0 | U22: =+ｿ.鉱さい!$P$15 -> 0 | V22: =+ﾀ.がれき類!$P$15 -> 0 | W22: =+ﾁ.動物のふん尿!$P$15 -> 0 | X22: =+ﾂ.動物の死体!$P$15 -> 0 | Y22: =+ﾃ.ばいじん!$P$15 -> 0 | Z22: =+ﾄ.混合廃棄物その他!$P$15 -> 0 | AA22: =SUM(G22:Z22) -> 0
D23: ④ | E23: 自ら中間処理した量 | G23: =+ｱ.燃え殻!$P$18 -> 0 | H23: =+ｲ.汚泥!$P$18 -> 0 | I23: =+ｳ.廃油!$P$18 -> 0 | J23: =+ｴ.廃酸!$P$18 -> 0 | K23: =+ｵ.廃ｱﾙｶﾘ!$P$18 -> 0 | L23: =+ｶ.廃ﾌﾟﾗ類!$P$18 -> 0 | M23: =+ｷ.紙くず!$P$18 -> 0 | N23: =+ｸ.木くず!$P$18 -> 0 | O23: =+ｹ.繊維くず!$P$18 -> 0 | P23: =+ｺ.動植物性残さ!$P$18 -> 0 | Q23: =+ｻ.動物系固形不要物!$P$18 -> 0 | R23: =+ｼ.ｺﾞﾑくず!$P$18 -> 0 | S23: =+ｽ.金属くず!$P$18 -> 0 | T23: =+ｾ.ｶﾞﾗｽ･ｺﾝｸﾘ･陶磁器くず!$P$18 -> 0 | U23: =+ｿ.鉱さい!$P$18 -> 0 | V23: =+ﾀ.がれき類!$P$18 -> 0 | W23: =+ﾁ.動物のふん尿!$P$18 -> 0 | X23: =+ﾂ.動物の死体!$P$18 -> 0 | Y23: =+ﾃ.ばいじん!$P$18 -> 0 | Z23: =+ﾄ.混合廃棄物その他!$P$18 -> 0 | AA23: =SUM(G23:Z23) -> 0
E24: ⑤ | F24: ④のうち熱回収を行った量 | G24: =+ｱ.燃え殻!$P$21 -> 0 | H24: =+ｲ.汚泥!$P$21 -> 0 | I24: =+ｳ.廃油!$P$21 -> 0 | J24: =+ｴ.廃酸!$P$21 -> 0 | K24: =+ｵ.廃ｱﾙｶﾘ!$P$21 -> 0 | L24: =+ｶ.廃ﾌﾟﾗ類!$P$21 -> 0 | M24: =+ｷ.紙くず!$P$21 -> 0 | N24: =+ｸ.木くず!$P$21 -> 0 | O24: =+ｹ.繊維くず!$P$21 -> 0 | P24: =+ｺ.動植物性残さ!$P$21 -> 0 | Q24: =+ｻ.動物系固形不要物!$P$21 -> 0 | R24: =+ｼ.ｺﾞﾑくず!$P$21 -> 0 | S24: =+ｽ.金属くず!$P$21 -> 0 | T24: =+ｾ.ｶﾞﾗｽ･ｺﾝｸﾘ･陶磁器くず!$P$21 -> 0 | U24: =+ｿ.鉱さい!$P$21 -> 0 | V24: =+ﾀ.がれき類!$P$21 -> 0 | W24: =+ﾁ.動物のふん尿!$P$21 -> 0 | X24: =+ﾂ.動物の死体!$P$21 -> 0 | Y24: =+ﾃ.ばいじん!$P$21 -> 0 | Z24: =+ﾄ.混合廃棄物その他!$P$21 -> 0 | AA24: =SUM(G24:Z24) -> 0
D25: ※２ | E25: 自社の他事業場での処理量 | G25: =+ｱ.燃え殻!$P$24 -> 0 | H25: =+ｲ.汚泥!$P$24 -> 0 | I25: =+ｳ.廃油!$P$24 -> 0 | J25: =+ｴ.廃酸!$P$24 -> 0 | K25: =+ｵ.廃ｱﾙｶﾘ!$P$24 -> 0 | L25: =+ｶ.廃ﾌﾟﾗ類!$P$24 -> 0 | M25: =+ｷ.紙くず!$P$24 -> 0 | N25: =+ｸ.木くず!$P$24 -> 0 | O25: =+ｹ.繊維くず!$P$24 -> 0 | P25: =+ｺ.動植物性残さ!$P$24 -> 0 | Q25: =+ｻ.動物系固形不要物!$P$24 -> 0 | R25: =+ｼ.ｺﾞﾑくず!$P$24 -> 0 | S25: =+ｽ.金属くず!$P$24 -> 0 | T25: =+ｾ.ｶﾞﾗｽ･ｺﾝｸﾘ･陶磁器くず!$P$24 -> 0 | U25: =+ｿ.鉱さい!$P$24 -> 0 | V25: =+ﾀ.がれき類!$P$24 -> 0 | W25: =+ﾁ.動物のふん尿!$P$24 -> 0 | X25: =+ﾂ.動物の死体!$P$24 -> 0 | Y25: =+ﾃ.ばいじん!$P$24 -> 0 | Z25: =+ﾄ.混合廃棄物その他!$P$24 -> 0 | AA25: =SUM(G25:Z25) -> 0
C26: Ａ自己処理 | D26: ⑥ | E26: 自ら中間処理した後の残さ量 | G26: =+G28+G33+G34+G35 -> 0 | H26: =+H28+H33+H34+H35 -> 0 | I26: =+I28+I33+I34+I35 -> 0 | J26: =+J28+J33+J34+J35 -> 0 | K26: =+K28+K33+K34+K35 -> 0 | L26: =+L28+L33+L34+L35 -> 0 | M26: =+M28+M33+M34+M35 -> 0 | N26: =+N28+N33+N34+N35 -> 0 | ... Z26: =+Z28+Z33+Z34+Z35 -> 0 | AA26: =SUM(G26:Z26) -> 0
D27: ⑦ | E27: 自ら中間処理により減量した量 | G27: =+G23-G26 -> 0 | H27: =+H23-H26 -> 0 | I27: =+I23-I26 -> 0 | J27: =+J23-J26 -> 0 | K27: =+K23-K26 -> 0 | L27: =+L23-L26 -> 0 | M27: =+M23-M26 -> 0 | N27: =+N23-N26 -> 0 | ... Z27: =+Z23-Z26 -> 0 | AA27: =SUM(G27:Z27) -> 0
D28: ａ残さ物の自己処理 | E28: ⑧ | F28: 自ら中間処理した後再生利用した量 | G28: =+ｱ.燃え殻!$AH$9 -> 0 | H28: =+ｲ.汚泥!$AH$9 -> 0 | I28: =+ｳ.廃油!$AH$9 -> 0 | J28: =+ｴ.廃酸!$AH$9 -> 0 | K28: =+ｵ.廃ｱﾙｶﾘ!$AH$9 -> 0 | L28: =+ｶ.廃ﾌﾟﾗ類!$AH$9 -> 0 | M28: =+ｷ.紙くず!$AH$9 -> 0 | N28: =+ｸ.木くず!$AH$9 -> 0 | O28: =+ｹ.繊維くず!$AH$9 -> 0 | P28: =+ｺ.動植物性残さ!$AH$9 -> 0 | Q28: =+ｻ.動物系固形不要物!$AH$9 -> 0 | R28: =+ｼ.ｺﾞﾑくず!$AH$9 -> 0 | S28: =+ｽ.金属くず!$AH$9 -> 0 | T28: =+ｾ.ｶﾞﾗｽ･ｺﾝｸﾘ･陶磁器くず!$AH$9 -> 0 | U28: =+ｿ.鉱さい!$AH$9 -> 0 | V28: =+ﾀ.がれき類!$AH$9 -> 0 | W28: =+ﾁ.動物のふん尿!$AH$9 -> 0 | X28: =+ﾂ.動物の死体!$AH$9 -> 0 | Y28: =+ﾃ.ばいじん!$AH$9 -> 0 | Z28: =+ﾄ.混合廃棄物その他!$AH$9 -> 0 | AA28: =SUM(G28:Z28) -> 0
F29: ア マテリアル | L29: =ｶ.廃ﾌﾟﾗ類!AU7 -> 0 | AA29: =SUM(G29:Z29) -> 0
F30: イ ケミカル | L30: =ｶ.廃ﾌﾟﾗ類!AU8 -> 0 | AA30: =SUM(G30:Z30) -> 0
F31: ウ 燃料化 | L31: =ｶ.廃ﾌﾟﾗ類!AU9 -> 0 | AA31: =SUM(G31:Z31) -> 0
F32: エ その他 | L32: =ｶ.廃ﾌﾟﾗ類!AU10 -> 0 | AA32: =SUM(G32:Z32) -> 0
E33: ⑨ | F33: 自ら中間処理した後自ら埋立処分又は海洋投入処分した量 | G33: =+ｱ.燃え殻!$AH$12 -> 0 | H33: =+ｲ.汚泥!$AH$12 -> 0 | I33: =+ｳ.廃油!$AH$12 -> 0 | J33: =+ｴ.廃酸!$AH$12 -> 0 | K33: =+ｵ.廃ｱﾙｶﾘ!$AH$12 -> 0 | L33: =+ｶ.廃ﾌﾟﾗ類!$AH$12 -> 0 | M33: =+ｷ.紙くず!$AH$12 -> 0 | N33: =+ｸ.木くず!$AH$12 -> 0 | O33: =+ｹ.繊維くず!$AH$12 -> 0 | P33: =+ｺ.動植物性残さ!$AH$12 -> 0 | Q33: =+ｻ.動物系固形不要物!$AH$12 -> 0 | R33: =+ｼ.ｺﾞﾑくず!$AH$12 -> 0 | S33: =+ｽ.金属くず!$AH$12 -> 0 | T33: =+ｾ.ｶﾞﾗｽ･ｺﾝｸﾘ･陶磁器くず!$AH$12 -> 0 | U33: =+ｿ.鉱さい!$AH$12 -> 0 | V33: =+ﾀ.がれき類!$AH$12 -> 0 | W33: =+ﾁ.動物のふん尿!$AH$12 -> 0 | X33: =+ﾂ.動物の死体!$AH$12 -> 0 | Y33: =+ﾃ.ばいじん!$AH$12 -> 0 | Z33: =+ﾄ.混合廃棄物その他!$AH$12 -> 0 | AA33: =SUM(G33:Z33) -> 0
B34: 令 | E34: ※３ | F34: 自ら中間処理した後自社の他事業場での処理量 | G34: =+ｱ.燃え殻!$AH$15 -> 0 | H34: =+ｲ.汚泥!$AH$15 -> 0 | I34: =+ｳ.廃油!$AH$15 -> 0 | J34: =+ｴ.廃酸!$AH$15 -> 0 | K34: =+ｵ.廃ｱﾙｶﾘ!$AH$15 -> 0 | L34: =+ｶ.廃ﾌﾟﾗ類!$AH$15 -> 0 | M34: =+ｷ.紙くず!$AH$15 -> 0 | N34: =+ｸ.木くず!$AH$15 -> 0 | O34: =+ｹ.繊維くず!$AH$15 -> 0 | P34: =+ｺ.動植物性残さ!$AH$15 -> 0 | Q34: =+ｻ.動物系固形不要物!$AH$15 -> 0 | R34: =+ｼ.ｺﾞﾑくず!$AH$15 -> 0 | S34: =+ｽ.金属くず!$AH$15 -> 0 | T34: =+ｾ.ｶﾞﾗｽ･ｺﾝｸﾘ･陶磁器くず!$AH$15 -> 0 | U34: =+ｿ.鉱さい!$AH$15 -> 0 | V34: =+ﾀ.がれき類!$AH$15 -> 0 | W34: =+ﾁ.動物のふん尿!$AH$15 -> 0 | X34: =+ﾂ.動物の死体!$AH$15 -> 0 | Y34: =+ﾃ.ばいじん!$AH$15 -> 0 | Z34: =+ﾄ.混合廃棄物その他!$AH$15 -> 0 | AA34: =SUM(G34:Z34) -> 0
B35: 和 | D35: ｂ | E35: 自ら中間処理した後の処理委託量 | G35: =+G36+G40 -> 0 | H35: =+H36+H40 -> 0 | I35: =+I36+I40 -> 0 | J35: =+J36+J40 -> 0 | K35: =+K36+K40 -> 0 | L35: =+L36+L40 -> 0 | M35: =+M36+M40 -> 0 | N35: =+N36+N40 -> 0 | ... Z35: =+Z36+Z40 -> 0 | AA35: =SUM(G35:Z35) -> 0
B36: 7 | E36: ｂ-1 中間処理委託量 | G36: =SUM(G37:G39) -> 0 | H36: =SUM(H37:H39) -> 0 | I36: =SUM(I37:I39) -> 0 | J36: =SUM(J37:J39) -> 0 | K36: =SUM(K37:K39) -> 0 | L36: =SUM(L37:L39) -> 0 | M36: =SUM(M37:M39) -> 0 | N36: =SUM(N37:N39) -> 0 | ... Z36: =SUM(Z37:Z39) -> 0 | AA36: =SUM(G36:Z36) -> 0
B37: 年 | F37: 再生利用前委託量 | G37: =+ｱ.燃え殻!$AU$16 -> 0 | H37: =+ｲ.汚泥!$AU$16 -> 0 | I37: =+ｳ.廃油!$AU$16 -> 0 | J37: =+ｴ.廃酸!$AU$16 -> 0 | K37: =+ｵ.廃ｱﾙｶﾘ!$AU$16 -> 0 | L37: =+ｶ.廃ﾌﾟﾗ類!$AU$13 -> 0 | M37: =+ｷ.紙くず!$AU$16 -> 0 | N37: =+ｸ.木くず!$AU$16 -> 0 | O37: =+ｹ.繊維くず!$AU$16 -> 0 | P37: =+ｺ.動植物性残さ!$AU$16 -> 0 | Q37: =+ｻ.動物系固形不要物!$AU$16 -> 0 | R37: =+ｼ.ｺﾞﾑくず!$AU$16 -> 0 | S37: =+ｽ.金属くず!$AU$16 -> 0 | T37: =+ｾ.ｶﾞﾗｽ･ｺﾝｸﾘ･陶磁器くず!$AU$16 -> 0 | U37: =+ｿ.鉱さい!$AU$16 -> 0 | V37: =+ﾀ.がれき類!$AU$16 -> 0 | W37: =+ﾁ.動物のふん尿!$AU$16 -> 0 | X37: =+ﾂ.動物の死体!$AU$16 -> 0 | Y37: =+ﾃ.ばいじん!$AU$16 -> 0 | Z37: =+ﾄ.混合廃棄物その他!$AU$16 -> 0 | AA37: =SUM(G37:Z37) -> 0
B38: 度 | F38: 最終処分前委託量 | G38: =+ｱ.燃え殻!$AU$17 -> 0 | H38: =+ｲ.汚泥!$AU$17 -> 0 | I38: =+ｳ.廃油!$AU$17 -> 0 | J38: =+ｴ.廃酸!$AU$17 -> 0 | K38: =+ｵ.廃ｱﾙｶﾘ!$AU$17 -> 0 | L38: =+ｶ.廃ﾌﾟﾗ類!$AU$14 -> 0 | M38: =+ｷ.紙くず!$AU$17 -> 0 | N38: =+ｸ.木くず!$AU$17 -> 0 | O38: =+ｹ.繊維くず!$AU$17 -> 0 | P38: =+ｺ.動植物性残さ!$AU$17 -> 0 | Q38: =+ｻ.動物系固形不要物!$AU$17 -> 0 | R38: =+ｼ.ｺﾞﾑくず!$AU$17 -> 0 | S38: =+ｽ.金属くず!$AU$17 -> 0 | T38: =+ｾ.ｶﾞﾗｽ･ｺﾝｸﾘ･陶磁器くず!$AU$17 -> 0 | U38: =+ｿ.鉱さい!$AU$17 -> 0 | V38: =+ﾀ.がれき類!$AU$17 -> 0 | W38: =+ﾁ.動物のふん尿!$AU$17 -> 0 | X38: =+ﾂ.動物の死体!$AU$17 -> 0 | Y38: =+ﾃ.ばいじん!$AU$17 -> 0 | Z38: =+ﾄ.混合廃棄物その他!$AU$17 -> 0 | AA38: =SUM(G38:Z38) -> 0
B39: 実 | F39: 下水等放流前委託量 | G39: =+ｱ.燃え殻!$AU$18 -> 0 | H39: =+ｲ.汚泥!$AU$18 -> 0 | I39: =+ｳ.廃油!$AU$18 -> 0 | J39: =+ｴ.廃酸!$AU$18 -> 0 | K39: =+ｵ.廃ｱﾙｶﾘ!$AU$18 -> 0 | L39: =+ｶ.廃ﾌﾟﾗ類!$AU$15 -> 0 | M39: =+ｷ.紙くず!$AU$18 -> 0 | N39: =+ｸ.木くず!$AU$18 -> 0 | O39: =+ｹ.繊維くず!$AU$18 -> 0 | P39: =+ｺ.動植物性残さ!$AU$18 -> 0 | Q39: =+ｻ.動物系固形不要物!$AU$18 -> 0 | R39: =+ｼ.ｺﾞﾑくず!$AU$18 -> 0 | S39: =+ｽ.金属くず!$AU$18 -> 0 | T39: =+ｾ.ｶﾞﾗｽ･ｺﾝｸﾘ･陶磁器くず!$AU$18 -> 0 | U39: =+ｿ.鉱さい!$AU$18 -> 0 | V39: =+ﾀ.がれき類!$AU$18 -> 0 | W39: =+ﾁ.動物のふん尿!$AU$18 -> 0 | X39: =+ﾂ.動物の死体!$AU$18 -> 0 | Y39: =+ﾃ.ばいじん!$AU$18 -> 0 | Z39: =+ﾄ.混合廃棄物その他!$AU$18 -> 0 | AA39: =SUM(G39:Z39) -> 0
B40: 績 | E40: ｂ-2 最終処分委託量 | G40: =+ｱ.燃え殻!$AO$21 -> 0 | H40: =+ｲ.汚泥!$AO$21 -> 0 | I40: =+ｳ.廃油!$AO$21 -> 0 | J40: =+ｴ.廃酸!$AO$21 -> 0 | K40: =+ｵ.廃ｱﾙｶﾘ!$AO$21 -> 0 | L40: =+ｶ.廃ﾌﾟﾗ類!$AO$21 -> 0 | M40: =+ｷ.紙くず!$AO$21 -> 0 | N40: =+ｸ.木くず!$AO$21 -> 0 | O40: =+ｹ.繊維くず!$AO$21 -> 0 | P40: =+ｺ.動植物性残さ!$AO$21 -> 0 | Q40: =+ｻ.動物系固形不要物!$AO$21 -> 0 | R40: =+ｼ.ｺﾞﾑくず!$AO$21 -> 0 | S40: =+ｽ.金属くず!$AO$21 -> 0 | T40: =+ｾ.ｶﾞﾗｽ･ｺﾝｸﾘ･陶磁器くず!$AO$21 -> 0 | U40: =+ｿ.鉱さい!$AO$21 -> 0 | V40: =+ﾀ.がれき類!$AO$21 -> 0 | W40: =+ﾁ.動物のふん尿!$AO$21 -> 0 | X40: =+ﾂ.動物の死体!$AO$21 -> 0 | Y40: =+ﾃ.ばいじん!$AO$21 -> 0 | Z40: =+ﾄ.混合廃棄物その他!$AO$21 -> 0 | AA40: =SUM(G40:Z40) -> 0
C41: Ｂ直接委託処理 | D41: Ｂ | E41: 直接処理委託量 | G41: =+G42+G46 -> 0 | H41: =+H42+H46 -> 0 | I41: =+I42+I46 -> 0.1 | J41: =+J42+J46 -> 0 | K41: =+K42+K46 -> 0 | L41: =+L42+L46 -> 171 | M41: =+M42+M46 -> 0 | N41: =+N42+N46 -> 0 | ... Z41: =+Z42+Z46 -> 0 | AA41: =SUM(G41:Z41) -> 8462.4
E42: Ｂ-1 中間処理委託量 | G42: =SUM(G43:G45) -> 0 | H42: =SUM(H43:H45) -> 0 | I42: =SUM(I43:I45) -> 0.1 | J42: =SUM(J43:J45) -> 0 | K42: =SUM(K43:K45) -> 0 | L42: =SUM(L43:L45) -> 171 | M42: =SUM(M43:M45) -> 0 | N42: =SUM(N43:N45) -> 0 | ... Z42: =SUM(Z43:Z45) -> 0 | AA42: =SUM(G42:Z42) -> 8462.4
F43: 再生利用前委託量 | G43: =+ｱ.燃え殻!$AA$28 -> 0 | H43: =+ｲ.汚泥!$AA$28 -> 0 | I43: =+ｳ.廃油!$AA$28 -> 0.1 | J43: =+ｴ.廃酸!$AA$28 -> 0 | K43: =+ｵ.廃ｱﾙｶﾘ!$AA$28 -> 0 | L43: =+ｶ.廃ﾌﾟﾗ類!$AA$28 -> 0 | M43: =+ｷ.紙くず!$AA$28 -> 0 | N43: =+ｸ.木くず!$AA$28 -> 0 | O43: =+ｹ.繊維くず!$AA$28 -> 0 | P43: =+ｺ.動植物性残さ!$AA$28 -> 0 | Q43: =+ｻ.動物系固形不要物!$AA$28 -> 0 | R43: =+ｼ.ｺﾞﾑくず!$AA$28 -> 0 | S43: =+ｽ.金属くず!$AA$28 -> 0 | T43: =+ｾ.ｶﾞﾗｽ･ｺﾝｸﾘ･陶磁器くず!$AA$28 -> 0 | U43: =+ｿ.鉱さい!$AA$28 -> 0 | V43: =+ﾀ.がれき類!$AA$28 -> 8291.3 | W43: =+ﾁ.動物のふん尿!$AA$28 -> 0 | X43: =+ﾂ.動物の死体!$AA$28 -> 0 | Y43: =+ﾃ.ばいじん!$AA$28 -> 0 | Z43: =+ﾄ.混合廃棄物その他!$AA$28 -> 0 | AA43: =SUM(G43:Z43) -> 8291.4
F44: 最終処分前委託量 | G44: =+ｱ.燃え殻!$AA$29 -> 0 | H44: =+ｲ.汚泥!$AA$29 -> 0 | I44: =+ｳ.廃油!$AA$29 -> 0 | J44: =+ｴ.廃酸!$AA$29 -> 0 | K44: =+ｵ.廃ｱﾙｶﾘ!$AA$29 -> 0 | L44: =+ｶ.廃ﾌﾟﾗ類!$AA$29 -> 171 | M44: =+ｷ.紙くず!$AA$29 -> 0 | N44: =+ｸ.木くず!$AA$29 -> 0 | O44: =+ｹ.繊維くず!$AA$29 -> 0 | P44: =+ｺ.動植物性残さ!$AA$29 -> 0 | Q44: =+ｻ.動物系固形不要物!$AA$29 -> 0 | R44: =+ｼ.ｺﾞﾑくず!$AA$29 -> 0 | S44: =+ｽ.金属くず!$AA$29 -> 0 | T44: =+ｾ.ｶﾞﾗｽ･ｺﾝｸﾘ･陶磁器くず!$AA$29 -> 0 | U44: =+ｿ.鉱さい!$AA$29 -> 0 | V44: =+ﾀ.がれき類!$AA$29 -> 0 | W44: =+ﾁ.動物のふん尿!$AA$29 -> 0 | X44: =+ﾂ.動物の死体!$AA$29 -> 0 | Y44: =+ﾃ.ばいじん!$AA$29 -> 0 | Z44: =+ﾄ.混合廃棄物その他!$AA$29 -> 0 | AA44: =SUM(G44:Z44) -> 171
F45: 下水等放流前委託量 | G45: =+ｱ.燃え殻!$AA$30 -> 0 | H45: =+ｲ.汚泥!$AA$30 -> 0 | I45: =+ｳ.廃油!$AA$30 -> 0 | J45: =+ｴ.廃酸!$AA$30 -> 0 | K45: =+ｵ.廃ｱﾙｶﾘ!$AA$30 -> 0 | L45: =+ｶ.廃ﾌﾟﾗ類!$AA$30 -> 0 | M45: =+ｷ.紙くず!$AA$30 -> 0 | N45: =+ｸ.木くず!$AA$30 -> 0 | O45: =+ｹ.繊維くず!$AA$30 -> 0 | P45: =+ｺ.動植物性残さ!$AA$30 -> 0 | Q45: =+ｻ.動物系固形不要物!$AA$30 -> 0 | R45: =+ｼ.ｺﾞﾑくず!$AA$30 -> 0 | S45: =+ｽ.金属くず!$AA$30 -> 0 | T45: =+ｾ.ｶﾞﾗｽ･ｺﾝｸﾘ･陶磁器くず!$AA$30 -> 0 | U45: =+ｿ.鉱さい!$AA$30 -> 0 | V45: =+ﾀ.がれき類!$AA$30 -> 0 | W45: =+ﾁ.動物のふん尿!$AA$30 -> 0 | X45: =+ﾂ.動物の死体!$AA$30 -> 0 | Y45: =+ﾃ.ばいじん!$AA$30 -> 0 | Z45: =+ﾄ.混合廃棄物その他!$AA$30 -> 0 | AA45: =SUM(G45:Z45) -> 0
E46: Ｂ-2 最終処分委託量 | G46: =+ｱ.燃え殻!$R$33 -> 0 | H46: =+ｲ.汚泥!$R$33 -> 0 | I46: =+ｳ.廃油!$R$33 -> 0 | J46: =+ｴ.廃酸!$R$33 -> 0 | K46: =+ｵ.廃ｱﾙｶﾘ!$R$33 -> 0 | L46: =+ｶ.廃ﾌﾟﾗ類!$R$33 -> 0 | M46: =+ｷ.紙くず!$R$33 -> 0 | N46: =+ｸ.木くず!$R$33 -> 0 | O46: =+ｹ.繊維くず!$R$33 -> 0 | P46: =+ｺ.動植物性残さ!$R$33 -> 0 | Q46: =+ｻ.動物系固形不要物!$R$33 -> 0 | R46: =+ｼ.ｺﾞﾑくず!$R$33 -> 0 | S46: =+ｽ.金属くず!$R$33 -> 0 | T46: =+ｾ.ｶﾞﾗｽ･ｺﾝｸﾘ･陶磁器くず!$R$33 -> 0 | U46: =+ｿ.鉱さい!$R$33 -> 0 | V46: =+ﾀ.がれき類!$R$33 -> 0 | W46: =+ﾁ.動物のふん尿!$R$33 -> 0 | X46: =+ﾂ.動物の死体!$R$33 -> 0 | Y46: =+ﾃ.ばいじん!$R$33 -> 0 | Z46: =+ﾄ.混合廃棄物その他!$R$33 -> 0 | AA46: =SUM(G46:Z46) -> 0
C47: ⑩ | D47: 直接及び自ら中間処理した後の処理委託量 | G47: =+ｱ.燃え殻!$AL$27 -> 0 | H47: =+ｲ.汚泥!$AL$27 -> 0 | I47: =+ｳ.廃油!$AL$27 -> 0.1 | J47: =+ｴ.廃酸!$AL$27 -> 0 | K47: =+ｵ.廃ｱﾙｶﾘ!$AL$27 -> 0 | L47: =+ｶ.廃ﾌﾟﾗ類!$AL$27 -> 171 | M47: =+ｷ.紙くず!$AL$27 -> 0 | N47: =+ｸ.木くず!$AL$27 -> 0 | O47: =+ｹ.繊維くず!$AL$27 -> 0 | P47: =+ｺ.動植物性残さ!$AL$27 -> 0 | Q47: =+ｻ.動物系固形不要物!$AL$27 -> 0 | R47: =+ｼ.ｺﾞﾑくず!$AL$27 -> 0 | S47: =+ｽ.金属くず!$AL$27 -> 0 | T47: =+ｾ.ｶﾞﾗｽ･ｺﾝｸﾘ･陶磁器くず!$AL$27 -> 0 | U47: =+ｿ.鉱さい!$AL$27 -> 0 | V47: =+ﾀ.がれき類!$AL$27 -> 8291.3 | W47: =+ﾁ.動物のふん尿!$AL$27 -> 0 | X47: =+ﾂ.動物の死体!$AL$27 -> 0 | Y47: =+ﾃ.ばいじん!$AL$27 -> 0 | Z47: =+ﾄ.混合廃棄物その他!$AL$27 -> 0 | AA47: =SUM(G47:Z47) -> 8462.4
D48: ⑪ | E48: ⑩のうち優良認定処理業者への処理委託量 | G48: =+ｱ.燃え殻!$AL$30 -> 0 | H48: =+ｲ.汚泥!$AL$30 -> 0 | I48: =+ｳ.廃油!$AL$30 -> 0.1 | J48: =+ｴ.廃酸!$AL$30 -> 0 | K48: =+ｵ.廃ｱﾙｶﾘ!$AL$30 -> 0 | L48: =+ｶ.廃ﾌﾟﾗ類!$AL$30 -> 0 | M48: =+ｷ.紙くず!$AL$30 -> 0 | N48: =+ｸ.木くず!$AL$30 -> 0 | O48: =+ｹ.繊維くず!$AL$30 -> 0 | P48: =+ｺ.動植物性残さ!$AL$30 -> 0 | Q48: =+ｻ.動物系固形不要物!$AL$30 -> 0 | R48: =+ｼ.ｺﾞﾑくず!$AL$30 -> 0 | S48: =+ｽ.金属くず!$AL$30 -> 0 | T48: =+ｾ.ｶﾞﾗｽ･ｺﾝｸﾘ･陶磁器くず!$AL$30 -> 0 | U48: =+ｿ.鉱さい!$AL$30 -> 0 | V48: =+ﾀ.がれき類!$AL$30 -> 7084.3 | W48: =+ﾁ.動物のふん尿!$AL$30 -> 0 | X48: =+ﾂ.動物の死体!$AL$30 -> 0 | Y48: =+ﾃ.ばいじん!$AL$30 -> 0 | Z48: =+ﾄ.混合廃棄物その他!$AL$30 -> 0 | AA48: =SUM(G48:Z48) -> 7084.4
D49: ⑫ | E49: ⑩のうち再生利用業者への処理委託量 | G49: =+ｱ.燃え殻!$AS$24 -> 0 | H49: =+ｲ.汚泥!$AS$24 -> 0 | I49: =+ｳ.廃油!$AS$24 -> 0.1 | J49: =+ｴ.廃酸!$AS$24 -> 0 | K49: =+ｵ.廃ｱﾙｶﾘ!$AS$24 -> 0 | L49: =+ｶ.廃ﾌﾟﾗ類!$AS$24 -> 0 | M49: =+ｷ.紙くず!$AS$24 -> 0 | N49: =+ｸ.木くず!$AS$24 -> 0 | O49: =+ｹ.繊維くず!$AS$24 -> 0 | P49: =+ｺ.動植物性残さ!$AS$24 -> 0 | Q49: =+ｻ.動物系固形不要物!$AS$24 -> 0 | R49: =+ｼ.ｺﾞﾑくず!$AS$24 -> 0 | S49: =+ｽ.金属くず!$AS$24 -> 0 | T49: =+ｾ.ｶﾞﾗｽ･ｺﾝｸﾘ･陶磁器くず!$AS$24 -> 0 | U49: =+ｿ.鉱さい!$AS$24 -> 0 | V49: =+ﾀ.がれき類!$AS$24 -> 8291.3 | W49: =+ﾁ.動物のふん尿!$AS$24 -> 0 | X49: =+ﾂ.動物の死体!$AS$24 -> 0 | Y49: =+ﾃ.ばいじん!$AS$24 -> 0 | Z49: =+ﾄ.混合廃棄物その他!$AS$24 -> 0 | AA49: =SUM(G49:Z49) -> 8291.4
E50: ア マテリアル | L50: =ｶ.廃ﾌﾟﾗ類!AU18 -> 0 | AA50: =SUM(G50:Z50) -> 0
E51: イ ケミカル | L51: =ｶ.廃ﾌﾟﾗ類!AU19 -> 0 | AA51: =SUM(G51:Z51) -> 0
E52: ウ 燃料化 | L52: =ｶ.廃ﾌﾟﾗ類!AU20 -> 0 | AA52: =SUM(G52:Z52) -> 0
E53: エ その他 | L53: =ｶ.廃ﾌﾟﾗ類!AU21 -> 0 | AA53: =SUM(G53:Z53) -> 0
D54: ⑬ | E54: ⑩のうち認定熱回収業者への処理委託量 | G54: =+ｱ.燃え殻!$AS$27 -> 0 | H54: =+ｲ.汚泥!$AS$27 -> 0 | I54: =+ｳ.廃油!$AS$27 -> 0 | J54: =+ｴ.廃酸!$AS$27 -> 0 | K54: =+ｵ.廃ｱﾙｶﾘ!$AS$27 -> 0 | L54: =+ｶ.廃ﾌﾟﾗ類!$AS$27 -> 0 | M54: =+ｷ.紙くず!$AS$27 -> 0 | N54: =+ｸ.木くず!$AS$27 -> 0 | O54: =+ｹ.繊維くず!$AS$27 -> 0 | P54: =+ｺ.動植物性残さ!$AS$27 -> 0 | Q54: =+ｻ.動物系固形不要物!$AS$27 -> 0 | R54: =+ｼ.ｺﾞﾑくず!$AS$27 -> 0 | S54: =+ｽ.金属くず!$AS$27 -> 0 | T54: =+ｾ.ｶﾞﾗｽ･ｺﾝｸﾘ･陶磁器くず!$AS$27 -> 0 | U54: =+ｿ.鉱さい!$AS$27 -> 0 | V54: =+ﾀ.がれき類!$AS$27 -> 0 | W54: =+ﾁ.動物のふん尿!$AS$27 -> 0 | X54: =+ﾂ.動物の死体!$AS$27 -> 0 | Y54: =+ﾃ.ばいじん!$AS$27 -> 0 | Z54: =+ﾄ.混合廃棄物その他!$AS$27 -> 0 | AA54: =SUM(G54:Z54) -> 0
D55: ⑭ | E55: ⑩のうち認定熱回収業者以外の熱回収を行う業者への処理委託量 | G55: =+ｱ.燃え殻!$AS$31 -> 0 | H55: =+ｲ.汚泥!$AS$31 -> 0 | I55: =+ｳ.廃油!$AS$31 -> 0 | J55: =+ｴ.廃酸!$AS$31 -> 0 | K55: =+ｵ.廃ｱﾙｶﾘ!$AS$31 -> 0 | L55: =+ｶ.廃ﾌﾟﾗ類!$AS$31 -> 0 | M55: =+ｷ.紙くず!$AS$31 -> 0 | N55: =+ｸ.木くず!$AS$31 -> 0 | O55: =+ｹ.繊維くず!$AS$31 -> 0 | P55: =+ｺ.動植物性残さ!$AS$31 -> 0 | Q55: =+ｻ.動物系固形不要物!$AS$31 -> 0 | R55: =+ｼ.ｺﾞﾑくず!$AS$31 -> 0 | S55: =+ｽ.金属くず!$AS$31 -> 0 | T55: =+ｾ.ｶﾞﾗｽ･ｺﾝｸﾘ･陶磁器くず!$AS$31 -> 0 | U55: =+ｿ.鉱さい!$AS$31 -> 0 | V55: =+ﾀ.がれき類!$AS$31 -> 0 | W55: =+ﾁ.動物のふん尿!$AS$31 -> 0 | X55: =+ﾂ.動物の死体!$AS$31 -> 0 | Y55: =+ﾃ.ばいじん!$AS$31 -> 0 | Z55: =+ﾄ.混合廃棄物その他!$AS$31 -> 0 | AA55: =SUM(G55:Z55) -> 0
G56: ※この一括表には、産業廃棄物の種類ごとの処理フローに入力した量が表示されます。
G58: =IF(ｱ.燃え殻!$P$16="エラー！：⑥残さ物量があるのに、④自ら中間処理した量がゼロになっています",1,0) -> 0 | H58: =IF(ｲ.汚泥!$P$16="エラー！：⑥残さ物量があるのに、④自ら中間処理した量がゼロになっています",1,0) -> 0 | I58: =IF(ｳ.廃油!$P$16="エラー！：⑥残さ物量があるのに、④自ら中間処理した量がゼロになっています",1,0) -> 0 | J58: =IF(ｴ.廃酸!$P$16="エラー！：⑥残さ物量があるのに、④自ら中間処理した量がゼロになっています",1,0) -> 0 | K58: =IF(ｵ.廃ｱﾙｶﾘ!$P$16="エラー！：⑥残さ物量があるのに、④自ら中間処理した量がゼロになっています",1,0) -> 0 | L58: =IF(ｶ.廃ﾌﾟﾗ類!$P$16="エラー！：⑥残さ物量があるのに、④自ら中間処理した量がゼロになっています",1,0) -> 0 | M58: =IF(ｷ.紙くず!$P$16="エラー！：⑥残さ物量があるのに、④自ら中間処理した量がゼロになっています",1,0) -> 0 | N58: =IF(ｸ.木くず!$P$16="エラー！：⑥残さ物量があるのに、④自ら中間処理した量がゼロになっています",1,0) -> 0 | O58: =IF(ｹ.繊維くず!$P$16="エラー！：⑥残さ物量があるのに、④自ら中間処理した量がゼロになっています",1,0) -> 0 | P58: =IF(ｺ.動植物性残さ!$P$16="エラー！：⑥残さ物量があるのに、④自ら中間処理した量がゼロになっています",1,0) -> 0 | Q58: =IF(ｻ.動物系固形不要物!$P$16="エラー！：⑥残さ物量があるのに、④自ら中間処理した量がゼロになっています",1,0) -> 0 | R58: =IF(ｼ.ｺﾞﾑくず!$P$16="エラー！：⑥残さ物量があるのに、④自ら中間処理した量がゼロになっています",1,0) -> 0 | S58: =IF(ｽ.金属くず!$P$16="エラー！：⑥残さ物量があるのに、④自ら中間処理した量がゼロになっています",1,0) -> 0 | T58: =IF(ｾ.ｶﾞﾗｽ･ｺﾝｸﾘ･陶磁器くず!$P$16="エラー！：⑥残さ物量があるのに、④自ら中間処理した量がゼロになっています",1,0) -> 0 | U58: =IF(ｿ.鉱さい!$P$16="エラー！：⑥残さ物量があるのに、④自ら中間処理した量がゼロになっています",1,0) -> 0 | V58: =IF(ﾀ.がれき類!$P$16="エラー！：⑥残さ物量があるのに、④自ら中間処理した量がゼロになっています",1,0) -> 0 | W58: =IF(ﾁ.動物のふん尿!$P$16="エラー！：⑥残さ物量があるのに、④自ら中間処理した量がゼロになっています",1,0) -> 0 | X58: =IF(ﾂ.動物の死体!$P$16="エラー！：⑥残さ物量があるのに、④自ら中間処理した量がゼロになっています",1,0) -> 0 | Y58: =IF(ﾃ.ばいじん!$P$16="エラー！：⑥残さ物量があるのに、④自ら中間処理した量がゼロになっています",1,0) -> 0 | Z58: =IF(ﾄ.混合廃棄物その他!$P$16="エラー！：⑥残さ物量があるのに、④自ら中間処理した量がゼロになっています",1,0) -> 0
G59: =IF(ｱ.燃え殻!$P$22="エラー !：④の内数である⑤の量が④を超えています",1,0) -> 0 | H59: =IF(ｲ.汚泥!$P$22="エラー !：④の内数である⑤の量が④を超えています",1,0) -> 0 | I59: =IF(ｳ.廃油!$P$22="エラー !：④の内数である⑤の量が④を超えています",1,0) -> 0 | J59: =IF(ｴ.廃酸!$P$22="エラー !：④の内数である⑤の量が④を超えています",1,0) -> 0 | K59: =IF(ｵ.廃ｱﾙｶﾘ!$P$22="エラー !：④の内数である⑤の量が④を超えています",1,0) -> 0 | L59: =IF(ｶ.廃ﾌﾟﾗ類!$P$22="エラー !：④の内数である⑤の量が④を超えています",1,0) -> 0 | M59: =IF(ｷ.紙くず!$P$22="エラー !：④の内数である⑤の量が④を超えています",1,0) -> 0 | N59: =IF(ｸ.木くず!$P$22="エラー !：④の内数である⑤の量が④を超えています",1,0) -> 0 | O59: =IF(ｹ.繊維くず!$P$22="エラー !：④の内数である⑤の量が④を超えています",1,0) -> 0 | P59: =IF(ｺ.動植物性残さ!$P$22="エラー !：④の内数である⑤の量が④を超えています",1,0) -> 0 | Q59: =IF(ｻ.動物系固形不要物!$P$22="エラー !：④の内数である⑤の量が④を超えています",1,0) -> 0 | R59: =IF(ｼ.ｺﾞﾑくず!$P$22="エラー !：④の内数である⑤の量が④を超えています",1,0) -> 0 | S59: =IF(ｽ.金属くず!$P$22="エラー !：④の内数である⑤の量が④を超えています",1,0) -> 0 | T59: =IF(ｾ.ｶﾞﾗｽ･ｺﾝｸﾘ･陶磁器くず!$P$22="エラー !：④の内数である⑤の量が④を超えています",1,0) -> 0 | U59: =IF(ｿ.鉱さい!$P$22="エラー !：④の内数である⑤の量が④を超えています",1,0) -> 0 | V59: =IF(ﾀ.がれき類!$P$22="エラー !：④の内数である⑤の量が④を超えています",1,0) -> 0 | W59: =IF(ﾁ.動物のふん尿!$P$22="エラー !：④の内数である⑤の量が④を超えています",1,0) -> 0 | X59: =IF(ﾂ.動物の死体!$P$22="エラー !：④の内数である⑤の量が④を超えています",1,0) -> 0 | Y59: =IF(ﾃ.ばいじん!$P$22="エラー !：④の内数である⑤の量が④を超えています",1,0) -> 0 | Z59: =IF(ﾄ.混合廃棄物その他!$P$22="エラー !：④の内数である⑤の量が④を超えています",1,0) -> 0
G60: =IF(ｱ.燃え殻!$AL$31="エラー !：⑩の内数である⑪の量が⑩を超えています",1,0) -> 0 | H60: =IF(ｲ.汚泥!$AL$31="エラー !：⑩の内数である⑪の量が⑩を超えています",1,0) -> 0 | I60: =IF(ｳ.廃油!$AL$31="エラー !：⑩の内数である⑪の量が⑩を超えています",1,0) -> 0 | J60: =IF(ｴ.廃酸!$AL$31="エラー !：⑩の内数である⑪の量が⑩を超えています",1,0) -> 0 | K60: =IF(ｵ.廃ｱﾙｶﾘ!$AL$31="エラー !：⑩の内数である⑪の量が⑩を超えています",1,0) -> 0 | L60: =IF(ｶ.廃ﾌﾟﾗ類!$AL$31="エラー !：⑩の内数である⑪の量が⑩を超えています",1,0) -> 0 | M60: =IF(ｷ.紙くず!$AL$31="エラー !：⑩の内数である⑪の量が⑩を超えています",1,0) -> 0 | N60: =IF(ｸ.木くず!$AL$31="エラー !：⑩の内数である⑪の量が⑩を超えています",1,0) -> 0 | O60: =IF(ｹ.繊維くず!$AL$31="エラー !：⑩の内数である⑪の量が⑩を超えています",1,0) -> 0 | P60: =IF(ｺ.動植物性残さ!$AL$31="エラー !：⑩の内数である⑪の量が⑩を超えています",1,0) -> 0 | Q60: =IF(ｻ.動物系固形不要物!$AL$31="エラー !：⑩の内数である⑪の量が⑩を超えています",1,0) -> 0 | R60: =IF(ｼ.ｺﾞﾑくず!$AL$31="エラー !：⑩の内数である⑪の量が⑩を超えています",1,0) -> 0 | S60: =IF(ｽ.金属くず!$AL$31="エラー !：⑩の内数である⑪の量が⑩を超えています",1,0) -> 0 | T60: =IF(ｾ.ｶﾞﾗｽ･ｺﾝｸﾘ･陶磁器くず!$AL$31="エラー !：⑩の内数である⑪の量が⑩を超えています",1,0) -> 0 | U60: =IF(ｿ.鉱さい!$AL$31="エラー !：⑩の内数である⑪の量が⑩を超えています",1,0) -> 0 | V60: =IF(ﾀ.がれき類!$AL$31="エラー !：⑩の内数である⑪の量が⑩を超えています",1,0) -> 0 | W60: =IF(ﾁ.動物のふん尿!$AL$31="エラー !：⑩の内数である⑪の量が⑩を超えています",1,0) -> 0 | X60: =IF(ﾂ.動物の死体!$AL$31="エラー !：⑩の内数である⑪の量が⑩を超えています",1,0) -> 0 | Y60: =IF(ﾃ.ばいじん!$AL$31="エラー !：⑩の内数である⑪の量が⑩を超えています",1,0) -> 0 | Z60: =IF(ﾄ.混合廃棄物その他!$AL$31="エラー !：⑩の内数である⑪の量が⑩を超えています",1,0) -> 0
G61: =IF(ｱ.燃え殻!$AS$28="エラー !：⑩の内数である（⑫+⑬＋⑭）の量が⑩を超えています",1,0) -> 0 | H61: =IF(ｲ.汚泥!$AS$28="エラー !：⑩の内数である（⑫+⑬＋⑭）の量が⑩を超えています",1,0) -> 0 | I61: =IF(ｳ.廃油!$AS$28="エラー !：⑩の内数である（⑫+⑬＋⑭）の量が⑩を超えています",1,0) -> 0 | J61: =IF(ｴ.廃酸!$AS$28="エラー !：⑩の内数である（⑫+⑬＋⑭）の量が⑩を超えています",1,0) -> 0 | K61: =IF(ｵ.廃ｱﾙｶﾘ!$AS$28="エラー !：⑩の内数である（⑫+⑬＋⑭）の量が⑩を超えています",1,0) -> 0 | L61: =IF(ｶ.廃ﾌﾟﾗ類!$AS$28="エラー !：⑩の内数である（⑫+⑬＋⑭）の量が⑩を超えています",1,0) -> 0 | M61: =IF(ｷ.紙くず!$AS$28="エラー !：⑩の内数である（⑫+⑬＋⑭）の量が⑩を超えています",1,0) -> 0 | N61: =IF(ｸ.木くず!$AS$28="エラー !：⑩の内数である（⑫+⑬＋⑭）の量が⑩を超えています",1,0) -> 0 | O61: =IF(ｹ.繊維くず!$AS$28="エラー !：⑩の内数である（⑫+⑬＋⑭）の量が⑩を超えています",1,0) -> 0 | P61: =IF(ｺ.動植物性残さ!$AS$28="エラー !：⑩の内数である（⑫+⑬＋⑭）の量が⑩を超えています",1,0) -> 0 | Q61: =IF(ｻ.動物系固形不要物!$AS$28="エラー !：⑩の内数である（⑫+⑬＋⑭）の量が⑩を超えています",1,0) -> 0 | R61: =IF(ｼ.ｺﾞﾑくず!$AS$28="エラー !：⑩の内数である（⑫+⑬＋⑭）の量が⑩を超えています",1,0) -> 0 | S61: =IF(ｽ.金属くず!$AS$28="エラー !：⑩の内数である（⑫+⑬＋⑭）の量が⑩を超えています",1,0) -> 0 | T61: =IF(ｾ.ｶﾞﾗｽ･ｺﾝｸﾘ･陶磁器くず!$AS$28="エラー !：⑩の内数である（⑫+⑬＋⑭）の量が⑩を超えています",1,0) -> 0 | U61: =IF(ｿ.鉱さい!$AS$28="エラー !：⑩の内数である（⑫+⑬＋⑭）の量が⑩を超えています",1,0) -> 0 | V61: =IF(ﾀ.がれき類!$AS$28="エラー !：⑩の内数である（⑫+⑬＋⑭）の量が⑩を超えています",1,0) -> 0 | W61: =IF(ﾁ.動物のふん尿!$AS$28="エラー !：⑩の内数である（⑫+⑬＋⑭）の量が⑩を超えています",1,0) -> 0 | X61: =IF(ﾂ.動物の死体!$AS$28="エラー !：⑩の内数である（⑫+⑬＋⑭）の量が⑩を超えています",1,0) -> 0 | Y61: =IF(ﾃ.ばいじん!$AS$28="エラー !：⑩の内数である（⑫+⑬＋⑭）の量が⑩を超えています",1,0) -> 0 | Z61: =IF(ﾄ.混合廃棄物その他!$AS$28="エラー !：⑩の内数である（⑫+⑬＋⑭）の量が⑩を超えています",1,0) -> 0
G62: =IF(ｱ.燃え殻!$AS$32="エラー !：⑩の内数である（⑫+⑬＋⑭）の量が⑩を超えています",1,0) -> 0 | H62: =IF(ｲ.汚泥!$AS$32="エラー !：⑩の内数である（⑫+⑬＋⑭）の量が⑩を超えています",1,0) -> 0 | I62: =IF(ｳ.廃油!$AS$32="エラー !：⑩の内数である（⑫+⑬＋⑭）の量が⑩を超えています",1,0) -> 0 | J62: =IF(ｴ.廃酸!$AS$32="エラー !：⑩の内数である（⑫+⑬＋⑭）の量が⑩を超えています",1,0) -> 0 | K62: =IF(ｵ.廃ｱﾙｶﾘ!$AS$32="エラー !：⑩の内数である（⑫+⑬＋⑭）の量が⑩を超えています",1,0) -> 0 | L62: =IF(ｶ.廃ﾌﾟﾗ類!$AS$32="エラー !：⑩の内数である（⑫+⑬＋⑭）の量が⑩を超えています",1,0) -> 0 | M62: =IF(ｷ.紙くず!$AS$32="エラー !：⑩の内数である（⑫+⑬＋⑭）の量が⑩を超えています",1,0) -> 0 | N62: =IF(ｸ.木くず!$AS$32="エラー !：⑩の内数である（⑫+⑬＋⑭）の量が⑩を超えています",1,0) -> 0 | O62: =IF(ｹ.繊維くず!$AS$32="エラー !：⑩の内数である（⑫+⑬＋⑭）の量が⑩を超えています",1,0) -> 0 | P62: =IF(ｺ.動植物性残さ!$AS$32="エラー !：⑩の内数である（⑫+⑬＋⑭）の量が⑩を超えています",1,0) -> 0 | Q62: =IF(ｻ.動物系固形不要物!$AS$32="エラー !：⑩の内数である（⑫+⑬＋⑭）の量が⑩を超えています",1,0) -> 0 | R62: =IF(ｼ.ｺﾞﾑくず!$AS$32="エラー !：⑩の内数である（⑫+⑬＋⑭）の量が⑩を超えています",1,0) -> 0 | S62: =IF(ｽ.金属くず!$AS$32="エラー !：⑩の内数である（⑫+⑬＋⑭）の量が⑩を超えています",1,0) -> 0 | T62: =IF(ｾ.ｶﾞﾗｽ･ｺﾝｸﾘ･陶磁器くず!$AS$32="エラー !：⑩の内数である（⑫+⑬＋⑭）の量が⑩を超えています",1,0) -> 0 | U62: =IF(ｿ.鉱さい!$AS$32="エラー !：⑩の内数である（⑫+⑬＋⑭）の量が⑩を超えています",1,0) -> 0 | V62: =IF(ﾀ.がれき類!$AS$32="エラー !：⑩の内数である（⑫+⑬＋⑭）の量が⑩を超えています",1,0) -> 0 | W62: =IF(ﾁ.動物のふん尿!$AS$32="エラー !：⑩の内数である（⑫+⑬＋⑭）の量が⑩を超えています",1,0) -> 0 | X62: =IF(ﾂ.動物の死体!$AS$32="エラー !：⑩の内数である（⑫+⑬＋⑭）の量が⑩を超えています",1,0) -> 0 | Y62: =IF(ﾃ.ばいじん!$AS$32="エラー !：⑩の内数である（⑫+⑬＋⑭）の量が⑩を超えています",1,0) -> 0 | Z62: =IF(ﾄ.混合廃棄物その他!$AS$32="エラー !：⑩の内数である（⑫+⑬＋⑭）の量が⑩を超えています",1,0) -> 0
G63: =IF(G9="0",+G19+G20,+G9+G19+G20) -> 0 | H63: =IF(H9="0",+H19+H20,+H9+H19+H20) -> 0 | I63: =IF(I9="0",+I19+I20,+I9+I19+I20) -> 0.1 | J63: =IF(J9="0",+J19+J20,+J9+J19+J20) -> 0 | K63: =IF(K9="0",+K19+K20,+K9+K19+K20) -> 0 | L63: =IF(L9="0",+L19+L20,+L9+L19+L20) -> 700.7 | M63: =IF(M9="0",+M19+M20,+M9+M19+M20) -> 0 | N63: =IF(N9="0",+N19+N20,+N9+N19+N20) -> 0 | ... Z63: =IF(Z9="0",+Z19+Z20,+Z9+Z19+Z20) -> 0 | AA63: =+AA9+AA19+AA20 -> 16308.6

Sheet 印刷用表紙
C1: このページは、印刷用ページですので、入力できません。入力はシート「表紙」にしてください。
O3: 該当する欄に○印を記入してください。
A4: 14 | M4: ３ | N4: 法定 | O4: 自主
A5: =+#REF! -> #REF! | C5: 様式第二号の九（第八条の四の六関係） | N5: =+表紙!N28 -> ○ | O5: =+表紙!O28
C6: （第１面）
C8: 産業廃棄物処理計画実施状況報告書
L11: =+表紙!L34 -> 令和 ８年 ６月 ２３日
C13: =+表紙!C36 -> 横浜市長 | G13: 殿
A15: 3 | H15: 提出者
H16: 住 所 | J16: =+表紙!J39 -> 〒467-0852 愛知県名古屋市瑞穂区明前町8番18号
H17: 氏 名 | J17: =+表紙!J40 -> 株式会社ダイセキ環境ソリューション 代表取締役 山本 浩也
J18: （法人にあっては、名称及び代表者の氏名）
J19: 電話番号 | L19: =IF(+表紙!L42="","",+表紙!L42) -> 052-819-5310
A22: 4 | C22: 廃棄物の処理及び清掃に関する法律第12条第10項の規定に基づき、令和７年度の産業廃棄物処理計画の実施状況を報告します。
C24: 事業場の名称 | F24: =+表紙!F47 -> 株式会社ダイセキ環境ソリューション 横浜恵比須リサイクルセンター | M24: 自主管理事業登録番号
M25: =表紙!M48 -> 2931
C26: 事業場の所在地 | F26: =+表紙!F49 -> 横浜市神奈川区恵比須町5番地13 | L26: ＴＥＬ（連絡先）： | N26: =IF(+表紙!N49="","",+表紙!N49) -> 045-444-1431
C28: 当該事業場に関する事項
D29: ① | E29: 事業の種類 | F29: =+表紙!F52 -> Ｒ－サービス業（他に分類されないもの） | J29: (具体的には） | L29: =+表紙!L52 -> 廃棄物処理業 その他のサービス業
D30: ② | E30: 事業の規模 | F30: 製造業 | I30: 製造品出荷額 | L30: =+表紙!L53 -> 0 | N30: 百万円／年
F31: 建設業 | I31: エリア内元請完成工事高 | L31: =+表紙!L54 -> 0 | N31: 百万円／年
D32: ※ 前年度実績を記入、医療機関は前年度末時点の病床数を記入。 | F32: 医療機関 | I32: 病床数 | L32: =+表紙!L55 -> 0 | N32: 床
F33: その他の業種 | I33: 売上高 | L33: =+表紙!L56 -> 2173 | N33: 百万円／年
F34: （上記項目に該当しない場合にはこちらに記載をしてください。）
F35: =+表紙!F58 -> 0
D36: ③ | E36: 従業員数 | F36: =+表紙!F59 -> 8
C37: 産業廃棄物処理計画における計画期間 | F37: =+表紙!F60 -> 令和 ７ 年 ４ 月 １ 日 ～ 令和 ８ 年 ３ 月 31 日（ １ 年間）
C38: 産業廃棄物処理計画における目標値
D39: 項目 | H39: 目標値 | J39: 項目 | M39: 目標値
D40: 排出量 | H40: =+表紙!H63 -> 7846.2 | I40: ｔ | J40: 全処理委託量 | M40: =+表紙!M63 -> 7846.2 | N40: =+表紙!N63 -> 0 | O40: ｔ
D41: 自ら再生利用を行う産業廃棄物の量 | H41: =+表紙!H64 -> 0 | I41: ｔ | J41: 優良認定処理業者への処理委託量 | M41: =+表紙!M64 -> 5002.7 | N41: =+表紙!N64 -> 0 | O41: ｔ
D42: 自ら熱回収を行う産業廃棄物の量 | H42: =+表紙!H65 -> 0 | I42: ｔ | J42: 再生利用業者への処理委託量 | M42: =+表紙!M65 -> 7846.2 | N42: =+表紙!N65 -> 0 | O42: ｔ
D43: 自ら中間処理により減量する産業廃棄物の量 | H43: =+表紙!H66 -> 0 | I43: ｔ | J43: 認定熱回収業者への処理委託量 | M43: =+表紙!M66 -> 0 | N43: =+表紙!N66 -> 0 | O43: ｔ
D44: 自ら埋立処分又は海洋投入処分を行う産業廃棄物の量 | H44: =+表紙!H67 -> 0 | I44: ｔ | J44: 認定熱回収業者以外の熱回収を行う業者への処理委託量 | M44: =+表紙!M67 -> 0 | N44: =+表紙!N67 -> 0 | O44: ｔ
C45: ※ 事務処理欄
C47: （第３面）
C48: 備考
A49: 11
C50: 1 | D50: 当該年度（令和８年度）の６月30日までに提出してください。
C51: 2 | D51: 「当該事業場において現に行っている事業に関する事項」の欄は、以下に従って記入してください。
D52: (1) ①欄には、日本標準産業分類（中分類）の区分を記入してください。
D53: (2) ②欄には、製造業の場合における製造品出荷額（前年度実績）、建設業の場合における元請完成工事高 （前年度実績）、医療機関の場合における病床数（前年度末時点）等の業種に応じ事業規模が分かるよう な前年度の実績を記入してください。
C54: 3 | D54: 「産業廃棄物処理計画における目標値」の欄には、前年度（令和７年度）提出の産業廃棄物処理計画に記載した目標量を記入してください。
C55: 4 | D55: 第２面（様式３-２）には、前年度（令和７年度）の産業廃棄物処理実績に関して①～⑭の欄のそれぞれに、(１)から(14)に掲げる量を記入してください。
D56: (１) | E56: ①欄 当該事業場において生じた産業廃棄物の量
D57: (２) | E57: ②欄 (１)の量のうち、中間処理をせず直接自ら再生利用した量
D58: (３) | E58: ③欄 (１)の量のうち、中間処理をせず直接自ら埋立処分した量又は海洋投入処分した量
D59: (４) | E59: ④欄 (１)の量のうち、自ら中間処理をした産業廃棄物の当該中間処理前の量
D60: (５) | E60: ⑤欄 (４)の量のうち、熱回収を行った量
D61: (６) | E61: ⑥欄 自ら中間処理をした後の量
D62: (７) | E62: ⑦欄 (４)の量から(６)の量を差し引いた量
D63: (８) | E63: ⑧欄 (６)の量のうち、自ら利用し、又は他人に売却した量
D64: (９) | E64: ⑨欄 (６)の量のうち、自ら埋立処分及び海洋投入処分した量
D65: (10) | E65: ⑩欄 中間処理及び最終処分を委託した量
D66: (11) | E66: ⑪欄 (10)の量のうち、優良認定処理業者（廃棄物の処理及び清掃に関する法律施行令第６条の11第２号に該当する者）への処理委託量
D67: (12) | E67: ⑫欄 (10)の量のうち、処理業者への再生利用委託量
... D69: (14) | E69: ⑭欄 (10)の量のうち、認定熱回収施設設置者以外の熱回収を行っている処理業者への焼却処理委託量
C70: 5 | D70: 第２面（様式３-２）の左下の表には、項目ごとに、産業廃棄物処理計画に記載したそれぞれの実績値を記入してください。
C71: 6 | D71: 第１面の※欄には、何も記入しないでください。

Sheet 業種限定
B2: ＜業種限定がある産業廃棄物一覧＞
B4: 本事業の報告対象となる廃棄物は、産業廃棄物と特別管理産業廃棄物です。一部の産業廃棄物は業種が限定されています。下表に示す種類は、業種が限定された産業廃棄物です。同じ種類であっても限定業種以外の事業場から発生したものは一般廃棄物になるため、本事業での報告対象にはなりませんので、ご注意ください。
B6: 産業廃棄物の種類 | C6: 限定業種
B7: 紙 く ず | C7: ① 建設業に係るもの（工作物の新築、改築又は除去に伴って生じたものに限る。） ② パルプ、紙又は紙加工品の製造業に係るもの ③ 新聞業に係るもの（新聞巻取紙を使用して印刷発行を行うものに限る。） ④ 出版業に係るもの（印刷出版を行うものに限る。） ⑤ 製本業及び印刷物加工業に係るもの ⑥ ポリ塩化ビフェニル(ＰＣＢ)が塗布され、又は染み込んだもの
B8: 木 く ず | C8: ① 建設業に係るもの（工作物の新築、改築又は除去に伴って生じたものに限る。） ② 木材又は木製品の製造業（家具の製造業を含む。）に係るもの ③ パルプ製造業に係るもの ④ 輸入木材の卸売業に係るもの ⑤ 物品賃貸業に係るもの ⑥ 貨物の流通のために使用したパレットに係るもの（パレットへの貨物の積付けのために使用したこん包用の木材を含む。） ⑦ ＰＣＢが染み込んだもの
B9: 繊維くず | C9: ① 建設業に係るもの（工作物の新築、改築又は除去に伴って生じたものに限る。） ② 繊維工業（衣服その他の繊維製品製造業を除く。）に係るものであって木綿くず、羊毛くず等の天然繊維 ③ ＰＣＢが染み込んだもの
B10: 動植物性残さ | C10: 食料品製造業、飲料・たばこ・飼料製造業（たばこ製造業を除く。）、医薬品製造業又は香料製造業において原料として使用した動物又は植物に係る固形状の不要物（あめかす、のりかす、醸造かす、発酵かす、魚及び獣のあら等）
B11: 動物系固形不要物 | C11: と畜場において処分した獣畜、食鳥処理場において処理した食鳥に係る固形状の不要物
B12: 動物のふん尿 | C12: 畜産農業に係るものであって畜舎廃水を含む。
B13: 動物の死体 | C13: 畜産農業に係るものに限る。
B14: ※ 「木くず」は、政令改正に伴い、平成20年4月1日から限定業種に「物品賃貸業」が加わり、全業種を対象とした「貨物の流通のために使用したパレットに係る木くず」も加わりました。
