Workbook

Sheet 表紙
C2: 【注 意】
C3: ① このファイルは、特別管理産業廃棄物用の法定と自主管理の共通様式です。
C4: 法定様式として提出する場合はN28セルの「○」を選択し、自主管理様式として提出する場合はO28セルの「○」を選択してください。
C5: ② 様式４と様式５の両方を提出する場合は、先に様式５を入力してください。様式５の情報を様式４へ反映させることができます。
C7: 【手 順】
C8: ① 様式１の情報を反映させることができます。
D9: 本ファイルは閉じ、2026form6.xlsmを開き「⑧事業場情報等の反映」をクリックして下さい。
E10: （様式１から反映→提出先、提出者情報、事業場情報、事業の種類、事業規模）
C11: ② 表紙シートの黄色、水色のセルで、入力されていないセルを入力あるいは選択してください。
C12: ③ 次に、廃棄物の種類ごとの処理フローを、シート「ア.特管廃油」から順番に各シートに記載してください。
C13: ④ 記載したデータに誤りがないか、別紙（一括表）などを見て再確認をお願いいたします。
C15: ＊ 印刷を行いたい場合は、本ファイルを閉じ、2026form6.xlsmを開き「印刷ボタン（様式５）」をクリックしてください。
C16: 提出に必要な表紙、別紙(一括表）および各フロー図が自動的にプリントされます。
C17: ※マクロが使用できない場合は、本ファイルのシート名「印刷用表紙」「別紙」及び該当する廃棄物のシートを 「ファイル」→「印刷」の手順で印刷をしてください。
C19: 【セル色の説明】
E20: ：セルの右上に▼がある場合、ポインタをそのセルにあわせると、説明文が表示されます
C21: 薄黄色 | E21: ：プルダウン・メニューから選択してください。セルを選択して右側に現れる▼をクリックすると選択肢のリストが出てきます。
C22: 薄水色 | E22: ：内容・データ等を入力してください
C23: 薄橙色 | E23: ：自動処理されるので、変更できません。
C24: 薄黄緑 | E24: ：他様式の情報を反映させることができます。
E25: 直接入力することも可能です。
O26: 該当する欄に○印を記入してください。
A27: 14 | M27: ５ | N27: 法定 | O27: 自主
A28: =+R91 -> 0 | C28: 様式第二号の十四（第八条の十七の三関係） | N28: ○
C29: （第１面）
C31: 特別管理産業廃棄物処理計画実施状況報告書
L34: 令和 8年 6月 30日
C36: 横浜市長 | G36: 殿
A38: 3 | H38: 提出者
H39: 住 所 | J39: 横浜市磯子区新森町1番地
H40: 氏 名 | J40: 日清オイリオグループ株式会社 横浜磯子事業場 執行役員事業場長 川邊修
J41: （法人にあっては、名称及び代表者の氏名）
J42: 電話番号 | L42: 045₋757-5030
A45: 4 | C45: 廃棄物の処理及び清掃に関する法律第12条の２第11項の規定に基づき、令和７年度の特別管理産業廃棄物処理計画の実施状況を報告します。
C47: 事業場の名称 | F47: 日清オイリオグループ株式会社 横浜磯子事業場 | M47: 自主管理事業登録番号
M48: 2033
C49: 事業場の所在地 | F49: 横浜市磯子区新森町1番地 | L49: ＴＥＬ（連絡先）： | N49: 045-757-5050
C51: 当該事業場に関する事項
D52: ① | E52: 事業の種類 | F52: Ｅ09－食料品製造業 | J52: (具体的には） | L52: 植物油脂及び油粕製造業
D53: ② | E53: 事業の規模 | F53: 製造業 | I53: 製造品出荷額 | N53: 百万円／年
F54: 建設業 | I54: エリア内元請完成工事高 | N54: 百万円／年
D55: ※ 前年度実績を記入、医療機関は前年度末時点の病床数を記入。 | F55: 医療機関 | I55: 病床数 | N55: 床
F56: その他の業種 | I56: 売上高 | N56: 百万円／年
F57: （上記項目に該当しない場合にはこちらに記載をしてください。）
D59: ③ | E59: 従業員数 | F59: 682
C60: 特別管理産業廃棄物処理計画における計画期間 | F60: 令和 ７ 年 ４ 月 １ 日 ～ 令和 ８ 年 ３ 月 31 日（ １ 年間）
C61: 特別管理産業廃棄物処理計画における目標値
D62: 項目 | H62: 目標値 | J62: 項目 | M62: 目標値
D63: 排出量 | H63: =+別紙!X9 -> 88.61 | I63: ｔ | J63: 全処理委託量 | M63: =+別紙!X14 -> 88.61 | O63: ｔ
D64: 自ら再生利用を行う特別管理産業廃棄物の量 | H64: =+別紙!X10 -> 0 | I64: ｔ | J64: 優良認定処理業者への処理委託量 | M64: =+別紙!X15 -> 0 | O64: ｔ
D65: 自ら熱回収を行う特別管理産業廃棄物の量 | H65: =+別紙!X11 -> 0 | I65: ｔ | J65: 再生利用業者への処理委託量 | M65: =+別紙!X16 -> 88.61 | O65: ｔ
D66: 自ら中間処理により減量する特別管理産業廃棄物の量 | H66: =+別紙!X12 -> 0 | I66: ｔ | J66: 認定熱回収業者への処理委託量 | M66: =+別紙!X17 -> 0 | O66: ｔ
D67: 自ら埋立処分を行う特別管理産業廃棄物の量 | H67: =+別紙!X13 -> 0 | I67: ｔ | J67: 認定熱回収業者以外の熱回収を行う業者への処理委託量 | M67: =+別紙!X18 -> 0 | O67: ｔ
C68: 電子情報処理組織の使用に関する事項 （電子マニフェストの使用に関する事項）
D69: 特別管理産業廃棄物排出量 （ﾎﾟﾘ塩化ﾋﾞﾌｪﾆﾙ廃棄物を除く。） | J69: 前々年度（令和６年度） | N69: t
J70: 前 年 度（令和７年度） | M70: =SUM(別紙!G19:J19,別紙!N19:W19) -> 74.76 | N70: t
D71: （電子情報処理組織の使用に関して実施した取組）
Q72: ←電子マニフェストの使用に関して記載をお願いいたします。
C73: ※ 事務処理欄
C75: （第３面）
C76: 備考
A77: 11
C78: 1 | D78: 当該年度（令和８年度）の６月30日までに提出してください。
C79: 2 | D79: 「当該事業場において現に行っている事業に関する事項」の欄は、以下に従って記入してください。
D80: (1) ①欄には、日本標準産業分類（中分類）の区分を記入してください。
D81: (2) ②欄には、製造業の場合における製造品出荷額（前年度実績）、建設業の場合における元請完成工事高 （前年度実績）、医療機関の場合における病床数（前年度末時点）等の業種に応じ事業規模が分かるような 前年度の実績を記入してください。
C82: 3 | D82: 「特別管理産業廃棄物処理計画における目標値」の欄には、前年度（令和７年度）提出の特別管理産業廃棄物処理計画に記載した目標量を記入してください。
C83: 4 | D83: 第2面（様式５-２）には、前年度（令和７年度）の特別管理産業廃棄物処理実績に関して①～⑭の欄のそれぞれに、(1)から(14)に掲げる量を記入してください。
D84: (1) | E84: ①欄 当該事業場において生じた特別管理産業廃棄物の量
D85: (2) | E85: ②欄 (1)の量のうち、中間処理をせず直接自ら再生利用した量 | Q85: 神奈川県知事
D86: (3) | E86: ③欄 (1)の量のうち、中間処理をせず直接自ら埋立処分した量 | Q86: 横浜市長
D87: (4) | E87: ④欄 (1)の量のうち、自ら中間処理をした特別管理産業廃棄物の当該中間処理前の量 | Q87: 川崎市長
D88: (5) | E88: ⑤欄 (4)の量のうち、熱回収を行った量 | Q88: 相模原市長
D89: (6) | E89: ⑥欄 自ら中間処理をした後の量 | Q89: 横須賀市長
D90: (7) | E90: ⑦欄 (4)の量から(6)の量を差し引いた量
D91: (8) | E91: ⑧欄 (6)の量のうち、自ら利用し、又は他人に売却した量
D92: (9) | E92: ⑨欄 (6)の量のうち、自ら埋立処分及び海洋投入処分した量
D93: (10) | E93: ⑩欄 中間処理及び最終処分を委託した量
D94: (11) | E94: ⑪欄 (10)の量のうち、優良認定処理業者（廃棄物の処理及び清掃に関する法律施行令第６条の11第２号に該当する者）への処理委託量
D95: (12) | E95: ⑫欄 (10)の量のうち、処理業者への再生利用委託量
D96: (13) | E96: ⑬欄 (10)の量のうち、認定熱回収施設設置者（廃棄物の処理及び清掃に関する法律第15条の３の３第１項の認定を受けた者）である処理業者への焼却処理委託量
D97: (14) | E97: ⑭欄 (10)の量のうち、認定熱回収施設設置者以外の熱回収を行っている処理業者への焼却処理委託量
C98: 5 | D98: 第２面（様式５-２）の左下の表には、項目ごとに、特別管理産業廃棄物処理計画に記載したそれぞれの実績値を記入してください。
C99: 6 | D99: 「電子情報処理組織の使用に関する事項」の欄は、前々年度（令和６年度）及び前年度（令和７年度）における特別管理産業廃棄物の排出量（ポリ塩化ビフェニル廃棄物（令第２条の４第５号イからハまでに掲げるものをいう。）を除く。）並びに電子情報処理組織使用義務者にあっては前年度（令和７年度）に実施した電子情報処理組織に関する取組（情報処理センターへの登録が困難な場合として廃棄物の処理及び清掃に関する法律成功規則第８条の31の４に該当したときは、その旨及び理由を含む。）について記入すること。
C100: 7 | D100: 第１面の※欄には、何も記入しないでください。
Q101: フロー様式 | R101: 産業廃棄物処理計画書
Q102: フローアラビア数字 | R102: Ⅱ－１
Q104: Ａ－農業、林業
Q105: Ｂ－漁業
Q106: Ｃ－鉱業、採石業、砂利採取業
Q107: Ｄ－建設業
Q108: Ｅ09－食料品製造業
Q109: Ｅ10－飲料・たばこ・飼料製造業
Q110: Ｅ11－繊維工業
Q111: Ｅ12－木材・木製品製造業（家具を除く）
Q112: Ｅ13－家具・装備品製造業
Q113: Ｅ14－パルプ・紙・紙加工品製造業
Q114: Ｅ15－印刷・同関連業
Q115: Ｅ16－化学工業
... Q149: ○

Sheet ｱ.特管廃油
S1: ↓ | T1: 注意：本年度の目標量のみでフロー図の実績データがない場合にも、本年度目標データを該当欄に入力してください
B2: 特別管理産業廃棄物処理計画実施状況報告書
AP3: ５－２ | AS3: 法定 | AU3: 自主
AS4: =+表紙!N28 -> ○ | AU4: =+表紙!O28
B5: 別紙処理フロー | Z5: 事業場名称 | AE5: ： | AF5: =+表紙!F47 -> 日清オイリオグループ株式会社 横浜磯子事業場
B6: 令和７年度に発生した特別管理産業廃棄物ごとの量と処理計画の実施結果
B7: フローに記載した特別管理産業廃棄物の種類 | D7: ア. 特管廃油
B8: ※ | C8: 本用紙は廃棄物の種類ごとに1枚の記載となります。異なる廃棄物の処理フローは別シートに記載してください。 | AH8: ⑧ | AI8: 自ら中間処理した後再生利用した量
B9: （単位：t/年） | F9: 有償物量 | AE9: ａ残さ物の自己処理 | AN9: ｔ
C11: 不要物等発生量 | F11: ① | G11: 当該事業場における排出量 | M11: Ａ 自己処理 | P11: ② | Q11: 自ら直接再生利用した量 | AH11: ⑨ | AI11: 自ら中間処理した後自ら埋立処分又は海洋投入処分した量
F12: =+ROUND(P12,2)+ROUND(P15,2)+ROUND(P18,2)+ROUND(P24,2)+P27-ROUND(F15,2) -> 62.46 | I12: ｔ | T12: ｔ | AN12: ｔ
F14: ※１ | G14: 自社の他事業場からの搬入量 | P14: ③ | Q14: 自ら直接埋立処分した量 | AH14: ※3 | AI14: 自ら中間処理した後自社の他事業場での処理量
I15: ｔ | T15: ｔ | AN15: ｔ | AS15: （目的別内訳）
P16: =+IF(Y18=0,"",IF(Y18-P18=Y18,"エラー！：⑥残さ物量があるのに、④自ら中間処理した量がゼロになっています","")) | AS16: 再生利用前 委託量 | AV16: ｔ
P17: ④ | Q17: 自ら中間処理した量 | Y17: ⑥ | Z17: 自ら中間処理した後の残さ量 | AE17: ｂ残さ物の委託処理 | AH17: ｂ | AI17: 自ら中間処理した後の処理委託量 | AO17: ｂ-1 中間処理委託量 | AS17: 最終処分前 委託量 | AV17: ｔ
T18: ｔ | Y18: =+ROUND(AH9,2)+ROUND(AH12,2)+ROUND(AH15,2)+AH18 -> 0 | AB18: ｔ | AH18: =+ROUND(AO18,2)+ROUND(AO21,2) -> 0 | AL18: ｔ | AO18: =+ROUND(AU16,2)+ROUND(AU17,2)+ROUND(AU18,2) -> 0 | AP18: ｔ | AS18: 下水等放流前委託量 | AV18: ｔ | AW18: （第2面）
P20: ⑤ | Q20: ④のうち熱回収を行った量 | Y20: ⑦ | Z20: 自ら中間処理により減量した量 | AO20: ｂ-2 最終処分委託量
B21: 注）右上のフローには、令和７年度の実績値を記載してください。下表の中央列には、令和７年度目標値を記載してください。下表の右列は、右上フローに記載された令和７年度実績値が自動的に計算されます。 | T21: ｔ | Y21: =+P18-Y18 -> 0 | AB21: ｔ | AP21: ｔ
P22: =+IF(P21=0,"",IF(P18<P21,"エラー !：④の内数である⑤の量が④を超えています",""))
B23: 項 目 | D23: 令和７年度 目標値 | H23: 令和７年度 実績値 | P23: ※２ | Q23: 自社の他事業場での処理量 | AS23: ⑫ | AT23: ⑩のうち再生利用業者への処理委託量
B24: ① 排出量 | D24: 71.09 | G24: t | H24: =+F12 -> 62.46 | J24: t | T24: ｔ | AS24: =+ROUND(AU16,2)+ROUND(AA28,2) -> 62.46 | AV24: ｔ
B25: ②＋⑧ 自ら再生利用を行った量 | D25: 0 | G25: t | H25: =+P12+AH9 -> 0 | J25: t
B26: ⑤ 自ら熱回収を行った量 | D26: 0 | G26: t | H26: =+P21 -> 0 | J26: t | M26: Ｂ 直接委託処理 | P26: Ｂ | Q26: 直接処理委託量 | AL26: ⑩ | AM26: 直接及び自ら中間処理した後の処理委託量 | AS26: ⑬ | AT26: ⑩のうち認定熱回収業者への処理委託量
B27: ⑦ 自ら中間処理により減量した量 | D27: 0 | G27: t | H27: =+Y21 -> 0 | J27: t | P27: =+R30+ROUND(R33,2) -> 62.46 | T27: ｔ | Y27: （目的別内訳） | AL27: =+AH18+P27 -> 62.46 | AP27: ｔ | AV27: ｔ
B28: ③＋⑨ 自ら埋立処分又は海洋投入処分を行った量 | D28: 0 | G28: t | H28: =+P15+AH12 -> 0 | J28: t | Y28: 再生利用前委託量 | AA28: 62.46 | AF28: ｔ | AS28: =+IF(AS27=0,"",IF(AL27<(AS24+AS27+AS31),"エラー !：⑩の内数である（⑫+⑬＋⑭）の量が⑩を超えています",""))
B29: ⑩ 全処理委託量 | D29: 71.09 | G29: t | H29: =+AL27 -> 62.46 | J29: t | R29: B-1 | S29: 中間処理委託量 | Y29: 最終処分前委託量 | AF29: ｔ | AL29: ⑪ | AM29: ⑩のうち優良認定処理業者への処理委託量 | AS29: ⑭ | AT29: ⑩のうち認定熱回収業者以外の熱回収を行う業者への処理委託量
B30: ⑪ 優良認定処理業者への処理委託量 | D30: 0 | G30: t | H30: =+AL30 -> 0 | J30: t | R30: =+ROUND(AA28,2)+ROUND(AA29,2)+ROUND(AA30,2) -> 62.46 | V30: ｔ | Y30: 下水等放流前委託量 | AF30: ｔ | AP30: ｔ
B31: ⑫ 再生利用業者への処理委託量 | D31: 71.09 | G31: t | H31: =+AS24 -> 62.46 | J31: t | AA31: 【特別管理産業廃棄物の種類 （ア～チ）】 | AL31: =+IF(AL30=0,"",IF(AL27<AL30,"エラー !：⑩の内数である⑪の量が⑩を超えています","")) | AV31: ｔ
B32: ⑬ 認定熱回収業者への処理委託量 | D32: 0 | G32: t | H32: =+AS27 -> 0 | J32: t | R32: B-2 | S32: 最終処分委託量 | AA32: ア. 特管廃油 イ. 特管廃酸 (pH2以下) ウ. 特管廃アルカリ (pH12.5以上) エ. 感染性廃棄物 | AG32: オ. 廃ＰＣＢ等 カ. ＰＣＢ汚染物 キ. ＰＣＢ処理物 ク. 指定下水汚泥 ケ. 有害鉱さい コ. 廃石綿等 | AK32: サ. 有害ばいじん チ. 廃水銀等 シ. 有害燃え殻 ス. 有害廃油 セ. 有害汚泥 ソ. 有害廃酸 タ. 有害廃アルカリ | AS32: =+IF(AS31=0,"",IF(AL27<(AS24+AS27+AS31),"エラー !：⑩の内数である（⑫+⑬＋⑭）の量が⑩を超えています",""))
B33: ⑭ 認定熱回収業者以外の熱回収を行う業者への処理委託量 | D33: 0 | G33: t | H33: =+AS31 -> 0 | J33: t | V33: ｔ
C34: =+IF(D30=0,"",IF(D29<D30,"エラー !：上の表は、⑩の内数である⑪の量が⑩を超えています",""))
C35: =+IF(D31=0,"",IF(D29<D31,"エラー !：上の表は、⑩の内数である⑫の量が⑩を超えています",""))
C36: =+IF(D32=0,"",IF(D29<D32,"エラー !：上の表は、⑩の内数である⑬の量が⑩を超えています",""))
C37: =+IF(D33=0,"",IF(D29<D33,"エラー !：上の表は、⑩の内数である⑭の量が⑩を超えています",""))

Sheet ｲ.特管廃酸
S1: ↓ | T1: 注意：本年度の目標量のみでフロー図の実績データがない場合にも、本年度目標データを該当欄に入力してください
B2: 特別管理産業廃棄物処理計画実施状況報告書
AP3: ５－２ | AS3: 法定 | AU3: 自主
AS4: =+表紙!N28 -> ○ | AU4: =+表紙!O28
B5: 別紙処理フロー | Z5: 事業場名称 | AE5: ： | AF5: =+表紙!F47 -> 日清オイリオグループ株式会社 横浜磯子事業場
B6: 令和７年度に発生した特別管理産業廃棄物ごとの量と処理計画の実施結果
B7: フローに記載した特別管理産業廃棄物の種類 | D7: イ. 特管廃酸(pH2以下)
B8: ※ | C8: 本用紙は廃棄物の種類ごとに1枚の記載となります。異なる廃棄物の処理フローは別シートに記載してください。 | AH8: ⑧ | AI8: 自ら中間処理した後再生利用した量
B9: （単位：t/年） | F9: 有償物量 | AE9: ａ残さ物の自己処理 | AN9: ｔ
C11: 不要物等発生量 | F11: ① | G11: 当該事業場における排出量 | M11: Ａ 自己処理 | P11: ② | Q11: 自ら直接再生利用した量 | AH11: ⑨ | AI11: 自ら中間処理した後自ら埋立処分又は海洋投入処分した量
F12: =+ROUND(P12,2)+ROUND(P15,2)+ROUND(P18,2)+ROUND(P24,2)+P27-ROUND(F15,2) -> 0.01 | I12: ｔ | T12: ｔ | AN12: ｔ
F14: ※１ | G14: 自社の他事業場からの搬入量 | P14: ③ | Q14: 自ら直接埋立処分した量 | AH14: ※3 | AI14: 自ら中間処理した後自社の他事業場での処理量
I15: ｔ | T15: ｔ | AN15: ｔ | AS15: （目的別内訳）
P16: =+IF(Y18=0,"",IF(Y18-P18=Y18,"エラー！：⑥残さ物量があるのに、④自ら中間処理した量がゼロになっています","")) | AS16: 再生利用前委託量 | AV16: ｔ
P17: ④ | Q17: 自ら中間処理した量 | Y17: ⑥ | Z17: 自ら中間処理した後の残さ量 | AE17: ｂ残さ物の委託処理 | AH17: ｂ | AI17: 自ら中間処理した後の処理委託量 | AO17: ｂ-1 中間処理委託量 | AS17: 最終処分前 委託量 | AV17: ｔ
T18: ｔ | Y18: =+ROUND(AH9,2)+ROUND(AH12,2)+ROUND(AH15,2)+AH18 -> 0 | AB18: ｔ | AH18: =+ROUND(AO18,2)+ROUND(AO21,2) -> 0 | AL18: ｔ | AO18: =+ROUND(AU16,2)+ROUND(AU17,2)+ROUND(AU18,2) -> 0 | AP18: ｔ | AS18: 下水等放流前委託量 | AV18: ｔ | AW18: （第2面）
P20: ⑤ | Q20: ④のうち熱回収を行った量 | Y20: ⑦ | Z20: 自ら中間処理により減量した量 | AO20: ｂ-2 最終処分委託量
B21: 注）右上のフローには、令和７年度の実績値を記載してください。下表の中央列には、令和７年度目標値を記載してください。下表の右列は、右上フローに記載された令和７年度実績値が自動的に計算されます。 | T21: ｔ | Y21: =+P18-Y18 -> 0 | AB21: ｔ | AP21: ｔ
P22: =+IF(P21=0,"",IF(P18<P21,"エラー !：④の内数である⑤の量が④を超えています",""))
B23: 項 目 | D23: 令和７年度 目標値 | H23: 令和７年度 実績値 | P23: ※２ | Q23: 自社の他事業場での処理量 | AS23: ⑫ | AT23: ⑩のうち再生利用業者への処理委託量
B24: ① 排出量 | D24: 0 | G24: t | H24: =+F12 -> 0.01 | J24: t | T24: ｔ | AS24: =+ROUND(AU16,2)+ROUND(AA28,2) -> 0.01 | AV24: ｔ
B25: ②＋⑧ 自ら再生利用を行った量 | D25: 0 | G25: t | H25: =+P12+AH9 -> 0 | J25: t
B26: ⑤ 自ら熱回収を行った量 | D26: 0 | G26: t | H26: =+P21 -> 0 | J26: t | M26: Ｂ 直接委託処理 | P26: Ｂ | Q26: 直接処理委託量 | AL26: ⑩ | AM26: 直接及び自ら中間処理した後の処理委託量 | AS26: ⑬ | AT26: ⑩のうち認定熱回収業者への処理委託量
B27: ⑦ 自ら中間処理により減量した量 | D27: 0 | G27: t | H27: =+Y21 -> 0 | J27: t | P27: =+R30+ROUND(R33,2) -> 0.01 | T27: ｔ | Y27: （目的別内訳） | AL27: =+AH18+P27 -> 0.01 | AP27: ｔ | AV27: ｔ
B28: ③＋⑨ 自ら埋立処分又は海洋投入処分を行った量 | D28: 0 | G28: t | H28: =+P15+AH12 -> 0 | J28: t | Y28: 再生利用前委託量 | AA28: 0.01 | AF28: ｔ | AS28: =+IF(AS27=0,"",IF(AL27<(AS24+AS27+AS31),"エラー !：⑩の内数である（⑫+⑬＋⑭）の量が⑩を超えています",""))
B29: ⑩ 全処理委託量 | D29: 0 | G29: t | H29: =+AL27 -> 0.01 | J29: t | R29: B-1 | S29: 中間処理委託量 | Y29: 最終処分前委託量 | AF29: ｔ | AL29: ⑪ | AM29: ⑩のうち優良認定処理業者への処理委託量 | AS29: ⑭ | AT29: ⑩のうち認定熱回収業者以外の熱回収を行う業者への処理委託量
B30: ⑪ 優良認定処理業者への処理委託量 | D30: 0 | G30: t | H30: =+AL30 -> 0 | J30: t | R30: =+ROUND(AA28,2)+ROUND(AA29,2)+ROUND(AA30,2) -> 0.01 | V30: ｔ | Y30: 下水等放流前委託量 | AF30: ｔ | AP30: ｔ
B31: ⑫ 再生利用業者への処理委託量 | D31: 0 | G31: t | H31: =+AS24 -> 0.01 | J31: t | AA31: 【特別管理産業廃棄物の種類 （ア～チ）】 | AL31: =+IF(AL30=0,"",IF(AL27<AL30,"エラー !：⑩の内数である⑪の量が⑩を超えています","")) | AV31: ｔ
B32: ⑬ 認定熱回収業者への処理委託量 | D32: 0 | G32: t | H32: =+AS27 -> 0 | J32: t | R32: B-2 | S32: 最終処分委託量 | AA32: ア. 特管廃油 イ. 特管廃酸 (pH2以下) ウ. 特管廃アルカリ (pH12.5以上) エ. 感染性廃棄物 | AG32: オ. 廃ＰＣＢ等 カ. ＰＣＢ汚染物 キ. ＰＣＢ処理物 ク. 指定下水汚泥 ケ. 有害鉱さい コ. 廃石綿等 | AK32: サ. 有害ばいじん チ. 廃水銀等 シ. 有害燃え殻 ス. 有害廃油 セ. 有害汚泥 ソ. 有害廃酸 タ. 有害廃アルカリ | AS32: =+IF(AS31=0,"",IF(AL27<(AS24+AS27+AS31),"エラー !：⑩の内数である（⑫+⑬＋⑭）の量が⑩を超えています",""))
B33: ⑭ 認定熱回収業者以外の熱回収を行う業者への処理委託量 | D33: 0 | G33: t | H33: =+AS31 -> 0 | J33: t | V33: ｔ
C34: =+IF(D30=0,"",IF(D29<D30,"エラー !：上の表は、⑩の内数である⑪の量が⑩を超えています",""))
C35: =+IF(D31=0,"",IF(D29<D31,"エラー !：上の表は、⑩の内数である⑫の量が⑩を超えています",""))
C36: =+IF(D32=0,"",IF(D29<D32,"エラー !：上の表は、⑩の内数である⑬の量が⑩を超えています",""))
C37: =+IF(D33=0,"",IF(D29<D33,"エラー !：上の表は、⑩の内数である⑭の量が⑩を超えています",""))

Sheet ｳ.特管廃ｱﾙｶﾘ
S1: ↓ | T1: 注意：本年度の目標量のみでフロー図の実績データがない場合にも、本年度目標データを該当欄に入力してください
B2: 特別管理産業廃棄物処理計画実施状況報告書
AP3: ５－２ | AS3: 法定 | AU3: 自主
AS4: =+表紙!N28 -> ○ | AU4: =+表紙!O28
B5: 別紙処理フロー | Z5: 事業場名称 | AE5: ： | AF5: =+表紙!F47 -> 日清オイリオグループ株式会社 横浜磯子事業場
B6: 令和７年度に発生した特別管理産業廃棄物ごとの量と処理計画の実施結果
B7: フローに記載した特別管理産業廃棄物の種類 | D7: ウ. 特管廃アルカリ (pH12.5以上)
B8: ※ | C8: 本用紙は廃棄物の種類ごとに1枚の記載となります。異なる廃棄物の処理フローは別シートに記載してください。 | AH8: ⑧ | AI8: 自ら中間処理した後再生利用した量
B9: （単位：t/年） | F9: 有償物量 | AE9: ａ残さ物の自己処理 | AN9: ｔ
C11: 不要物等発生量 | F11: ① | G11: 当該事業場における排出量 | M11: Ａ 自己処理 | P11: ② | Q11: 自ら直接再生利用した量 | AH11: ⑨ | AI11: 自ら中間処理した後自ら埋立処分又は海洋投入処分した量
F12: =+ROUND(P12,2)+ROUND(P15,2)+ROUND(P18,2)+ROUND(P24,2)+P27-ROUND(F15,2) -> 0 | I12: ｔ | T12: ｔ | AN12: ｔ
F14: ※１ | G14: 自社の他事業場からの搬入量 | P14: ③ | Q14: 自ら直接埋立処分した量 | AH14: ※3 | AI14: 自ら中間処理した後自社の他事業場での処理量
I15: ｔ | T15: ｔ | AN15: ｔ | AS15: （目的別内訳）
P16: =+IF(Y18=0,"",IF(Y18-P18=Y18,"エラー！：⑥残さ物量があるのに、④自ら中間処理した量がゼロになっています","")) | AS16: 再生利用前委託量 | AV16: ｔ
P17: ④ | Q17: 自ら中間処理した量 | Y17: ⑥ | Z17: 自ら中間処理した後の残さ量 | AE17: ｂ残さ物の委託処理 | AH17: ｂ | AI17: 自ら中間処理した後の処理委託量 | AO17: ｂ-1 中間処理委託量 | AS17: 最終処分前 委託量 | AV17: ｔ
T18: ｔ | Y18: =+ROUND(AH9,2)+ROUND(AH12,2)+ROUND(AH15,2)+AH18 -> 0 | AB18: ｔ | AH18: =+ROUND(AO18,2)+ROUND(AO21,2) -> 0 | AL18: ｔ | AO18: =+ROUND(AU16,2)+ROUND(AU17,2)+ROUND(AU18,2) -> 0 | AP18: ｔ | AS18: 下水等放流前委託量 | AV18: ｔ | AW18: （第2面）
P20: ⑤ | Q20: ④のうち熱回収を行った量 | Y20: ⑦ | Z20: 自ら中間処理により減量した量 | AO20: ｂ-2 最終処分委託量
B21: 注）右上のフローには、令和７年度の実績値を記載してください。下表の中央列には、令和７年度目標値を記載してください。下表の右列は、右上フローに記載された令和７年度実績値が自動的に計算されます。 | T21: ｔ | Y21: =+P18-Y18 -> 0 | AB21: ｔ | AP21: ｔ
P22: =+IF(P21=0,"",IF(P18<P21,"エラー !：④の内数である⑤の量が④を超えています",""))
B23: 項 目 | D23: 令和７年度 目標値 | H23: 令和７年度 実績値 | P23: ※２ | Q23: 自社の他事業場での処理量 | AS23: ⑫ | AT23: ⑩のうち再生利用業者への処理委託量
B24: ① 排出量 | D24: 0 | G24: t | H24: =+F12 -> 0 | J24: t | T24: ｔ | AS24: =+ROUND(AU16,2)+ROUND(AA28,2) -> 0 | AV24: ｔ
B25: ②＋⑧ 自ら再生利用を行った量 | D25: 0 | G25: t | H25: =+P12+AH9 -> 0 | J25: t
B26: ⑤ 自ら熱回収を行った量 | D26: 0 | G26: t | H26: =+P21 -> 0 | J26: t | M26: Ｂ 直接委託処理 | P26: Ｂ | Q26: 直接処理委託量 | AL26: ⑩ | AM26: 直接及び自ら中間処理した後の処理委託量 | AS26: ⑬ | AT26: ⑩のうち認定熱回収業者への処理委託量
B27: ⑦ 自ら中間処理により減量した量 | D27: 0 | G27: t | H27: =+Y21 -> 0 | J27: t | P27: =+R30+ROUND(R33,2) -> 0 | T27: ｔ | Y27: （目的別内訳） | AL27: =+AH18+P27 -> 0 | AP27: ｔ | AV27: ｔ
B28: ③＋⑨ 自ら埋立処分又は海洋投入処分を行った量 | D28: 0 | G28: t | H28: =+P15+AH12 -> 0 | J28: t | Y28: 再生利用前委託量 | AF28: ｔ | AS28: =+IF(AS27=0,"",IF(AL27<(AS24+AS27+AS31),"エラー !：⑩の内数である（⑫+⑬＋⑭）の量が⑩を超えています",""))
B29: ⑩ 全処理委託量 | D29: 0 | G29: t | H29: =+AL27 -> 0 | J29: t | R29: B-1 | S29: 中間処理委託量 | Y29: 最終処分前委託量 | AF29: ｔ | AL29: ⑪ | AM29: ⑩のうち優良認定処理業者への処理委託量 | AS29: ⑭ | AT29: ⑩のうち認定熱回収業者以外の熱回収を行う業者への処理委託量
B30: ⑪ 優良認定処理業者への処理委託量 | D30: 0 | G30: t | H30: =+AL30 -> 0 | J30: t | R30: =+ROUND(AA28,2)+ROUND(AA29,2)+ROUND(AA30,2) -> 0 | V30: ｔ | Y30: 下水等放流前委託量 | AF30: ｔ | AP30: ｔ
B31: ⑫ 再生利用業者への処理委託量 | D31: 0 | G31: t | H31: =+AS24 -> 0 | J31: t | AA31: 【特別管理産業廃棄物の種類 （ア～チ）】 | AL31: =+IF(AL30=0,"",IF(AL27<AL30,"エラー !：⑩の内数である⑪の量が⑩を超えています","")) | AV31: ｔ
B32: ⑬ 認定熱回収業者への処理委託量 | D32: 0 | G32: t | H32: =+AS27 -> 0 | J32: t | R32: B-2 | S32: 最終処分委託量 | AA32: ア. 特管廃油 イ. 特管廃酸 (pH2以下) ウ. 特管廃アルカリ (pH12.5以上) エ. 感染性廃棄物 | AG32: オ. 廃ＰＣＢ等 カ. ＰＣＢ汚染物 キ. ＰＣＢ処理物 ク. 指定下水汚泥 ケ. 有害鉱さい コ. 廃石綿等 | AK32: サ. 有害ばいじん チ. 廃水銀等 シ. 有害燃え殻 ス. 有害廃油 セ. 有害汚泥 ソ. 有害廃酸 タ. 有害廃アルカリ | AS32: =+IF(AS31=0,"",IF(AL27<(AS24+AS27+AS31),"エラー !：⑩の内数である（⑫+⑬＋⑭）の量が⑩を超えています",""))
B33: ⑭ 認定熱回収業者以外の熱回収を行う業者への処理委託量 | D33: 0 | G33: t | H33: =+AS31 -> 0 | J33: t | V33: ｔ
C34: =+IF(D30=0,"",IF(D29<D30,"エラー !：上の表は、⑩の内数である⑪の量が⑩を超えています",""))
C35: =+IF(D31=0,"",IF(D29<D31,"エラー !：上の表は、⑩の内数である⑫の量が⑩を超えています",""))
C36: =+IF(D32=0,"",IF(D29<D32,"エラー !：上の表は、⑩の内数である⑬の量が⑩を超えています",""))
C37: =+IF(D33=0,"",IF(D29<D33,"エラー !：上の表は、⑩の内数である⑭の量が⑩を超えています",""))

Sheet ｴ.感染性廃棄物
S1: ↓ | T1: 注意：本年度の目標量のみでフロー図の実績データがない場合にも、本年度目標データを該当欄に入力してください
B2: 特別管理産業廃棄物処理計画実施状況報告書
AP3: ５－２ | AS3: 法定 | AU3: 自主
AS4: =+表紙!N28 -> ○ | AU4: =+表紙!O28
B5: 別紙処理フロー | Z5: 事業場名称 | AE5: ： | AF5: =+表紙!F47 -> 日清オイリオグループ株式会社 横浜磯子事業場
B6: 令和７年度に発生した特別管理産業廃棄物ごとの量と処理計画の実施結果
B7: フローに記載した特別管理産業廃棄物の種類 | D7: エ. 感染性廃棄物
B8: ※ | C8: 本用紙は廃棄物の種類ごとに1枚の記載となります。異なる廃棄物の処理フローは別シートに記載してください。 | AH8: ⑧ | AI8: 自ら中間処理した後再生利用した量
B9: （単位：t/年） | F9: 有償物量 | AE9: ａ残さ物の自己処理 | AN9: ｔ
C11: 不要物等発生量 | F11: ① | G11: 当該事業場における排出量 | M11: Ａ 自己処理 | P11: ② | Q11: 自ら直接再生利用した量 | AH11: ⑨ | AI11: 自ら中間処理した後自ら埋立処分又は海洋投入処分した量
F12: =+ROUND(P12,2)+ROUND(P15,2)+ROUND(P18,2)+ROUND(P24,2)+P27-ROUND(F15,2) -> 12.28 | I12: ｔ | T12: ｔ | AN12: ｔ
F14: ※１ | G14: 自社の他事業場からの搬入量 | P14: ③ | Q14: 自ら直接埋立処分した量 | AH14: ※3 | AI14: 自ら中間処理した後自社の他事業場での処理量
I15: ｔ | T15: ｔ | AN15: ｔ | AS15: （目的別内訳）
P16: =+IF(Y18=0,"",IF(Y18-P18=Y18,"エラー！：⑥残さ物量があるのに、④自ら中間処理した量がゼロになっています","")) | AS16: 再生利用前委託量 | AV16: ｔ
P17: ④ | Q17: 自ら中間処理した量 | Y17: ⑥ | Z17: 自ら中間処理した後の残さ量 | AE17: ｂ残さ物の委託処理 | AH17: ｂ | AI17: 自ら中間処理した後の処理委託量 | AO17: ｂ-1 中間処理委託量 | AS17: 最終処分前 委託量 | AV17: ｔ
T18: ｔ | Y18: =+ROUND(AH9,2)+ROUND(AH12,2)+ROUND(AH15,2)+AH18 -> 0 | AB18: ｔ | AH18: =+ROUND(AO18,2)+ROUND(AO21,2) -> 0 | AL18: ｔ | AO18: =+ROUND(AU16,2)+ROUND(AU17,2)+ROUND(AU18,2) -> 0 | AP18: ｔ | AS18: 下水等放流前委託量 | AV18: ｔ | AW18: （第2面）
P20: ⑤ | Q20: ④のうち熱回収を行った量 | Y20: ⑦ | Z20: 自ら中間処理により減量した量 | AO20: ｂ-2 最終処分委託量
B21: 注）右上のフローには、令和７年度の実績値を記載してください。下表の中央列には、令和７年度目標値を記載してください。下表の右列は、右上フローに記載された令和７年度実績値が自動的に計算されます。 | T21: ｔ | Y21: =+P18-Y18 -> 0 | AB21: ｔ | AP21: ｔ
P22: =+IF(P21=0,"",IF(P18<P21,"エラー !：④の内数である⑤の量が④を超えています",""))
B23: 項 目 | D23: 令和７年度 目標値 | H23: 令和７年度 実績値 | P23: ※２ | Q23: 自社の他事業場での処理量 | AS23: ⑫ | AT23: ⑩のうち再生利用業者への処理委託量
B24: ① 排出量 | D24: 16.51 | G24: t | H24: =+F12 -> 12.28 | J24: t | T24: ｔ | AS24: =+ROUND(AU16,2)+ROUND(AA28,2) -> 12.28 | AV24: ｔ
B25: ②＋⑧ 自ら再生利用を行った量 | D25: 0 | G25: t | H25: =+P12+AH9 -> 0 | J25: t
B26: ⑤ 自ら熱回収を行った量 | D26: 0 | G26: t | H26: =+P21 -> 0 | J26: t | M26: Ｂ 直接委託処理 | P26: Ｂ | Q26: 直接処理委託量 | AL26: ⑩ | AM26: 直接及び自ら中間処理した後の処理委託量 | AS26: ⑬ | AT26: ⑩のうち認定熱回収業者への処理委託量
B27: ⑦ 自ら中間処理により減量した量 | D27: 0 | G27: t | H27: =+Y21 -> 0 | J27: t | P27: =+R30+ROUND(R33,2) -> 12.28 | T27: ｔ | Y27: （目的別内訳） | AL27: =+AH18+P27 -> 12.28 | AP27: ｔ | AV27: ｔ
B28: ③＋⑨ 自ら埋立処分又は海洋投入処分を行った量 | D28: 0 | G28: t | H28: =+P15+AH12 -> 0 | J28: t | Y28: 再生利用前委託量 | AA28: 12.28 | AF28: ｔ | AS28: =+IF(AS27=0,"",IF(AL27<(AS24+AS27+AS31),"エラー !：⑩の内数である（⑫+⑬＋⑭）の量が⑩を超えています",""))
B29: ⑩ 全処理委託量 | D29: 16.51 | G29: t | H29: =+AL27 -> 12.28 | J29: t | R29: B-1 | S29: 中間処理委託量 | Y29: 最終処分前委託量 | AF29: ｔ | AL29: ⑪ | AM29: ⑩のうち優良認定処理業者への処理委託量 | AS29: ⑭ | AT29: ⑩のうち認定熱回収業者以外の熱回収を行う業者への処理委託量
B30: ⑪ 優良認定処理業者への処理委託量 | D30: 0 | G30: t | H30: =+AL30 -> 0 | J30: t | R30: =+ROUND(AA28,2)+ROUND(AA29,2)+ROUND(AA30,2) -> 12.28 | V30: ｔ | Y30: 下水等放流前委託量 | AF30: ｔ | AP30: ｔ
B31: ⑫ 再生利用業者への処理委託量 | D31: 16.51 | G31: t | H31: =+AS24 -> 12.28 | J31: t | AA31: 【特別管理産業廃棄物の種類 （ア～チ）】 | AL31: =+IF(AL30=0,"",IF(AL27<AL30,"エラー !：⑩の内数である⑪の量が⑩を超えています","")) | AV31: ｔ
B32: ⑬ 認定熱回収業者への処理委託量 | D32: 0 | G32: t | H32: =+AS27 -> 0 | J32: t | R32: B-2 | S32: 最終処分委託量 | AA32: ア. 特管廃油 イ. 特管廃酸 (pH2以下) ウ. 特管廃アルカリ (pH12.5以上) エ. 感染性廃棄物 | AG32: オ. 廃ＰＣＢ等 カ. ＰＣＢ汚染物 キ. ＰＣＢ処理物 ク. 指定下水汚泥 ケ. 有害鉱さい コ. 廃石綿等 | AK32: サ. 有害ばいじん チ. 廃水銀等 シ. 有害燃え殻 ス. 有害廃油 セ. 有害汚泥 ソ. 有害廃酸 タ. 有害廃アルカリ | AS32: =+IF(AS31=0,"",IF(AL27<(AS24+AS27+AS31),"エラー !：⑩の内数である（⑫+⑬＋⑭）の量が⑩を超えています",""))
B33: ⑭ 認定熱回収業者以外の熱回収を行う業者への処理委託量 | D33: 0 | G33: t | H33: =+AS31 -> 0 | J33: t | V33: ｔ
C34: =+IF(D30=0,"",IF(D29<D30,"エラー !：上の表は、⑩の内数である⑪の量が⑩を超えています",""))
C35: =+IF(D31=0,"",IF(D29<D31,"エラー !：上の表は、⑩の内数である⑫の量が⑩を超えています",""))
C36: =+IF(D32=0,"",IF(D29<D32,"エラー !：上の表は、⑩の内数である⑬の量が⑩を超えています",""))
C37: =+IF(D33=0,"",IF(D29<D33,"エラー !：上の表は、⑩の内数である⑭の量が⑩を超えています",""))

Sheet ｵ.廃PCB等
S1: ↓ | T1: 注意：本年度の目標量のみでフロー図の実績データがない場合にも、本年度目標データを該当欄に入力してください
B2: 特別管理産業廃棄物処理計画実施状況報告書
AP3: ５－２ | AS3: 法定 | AU3: 自主
AS4: =+表紙!N28 -> ○ | AU4: =+表紙!O28
B5: 別紙処理フロー | Z5: 事業場名称 | AE5: ： | AF5: =+表紙!F47 -> 日清オイリオグループ株式会社 横浜磯子事業場
B6: 令和７年度に発生した特別管理産業廃棄物ごとの量と処理計画の実施結果
B7: フローに記載した特別管理産業廃棄物の種類 | D7: オ. 廃PCB等
B8: ※ | C8: 本用紙は廃棄物の種類ごとに1枚の記載となります。異なる廃棄物の処理フローは別シートに記載してください。 | AH8: ⑧ | AI8: 自ら中間処理した後再生利用した量
B9: （単位：t/年） | F9: 有償物量 | AE9: ａ残さ物の自己処理 | AN9: ｔ
C11: 不要物等発生量 | F11: ① | G11: 当該事業場における排出量 | M11: Ａ 自己処理 | P11: ② | Q11: 自ら直接再生利用した量 | AH11: ⑨ | AI11: 自ら中間処理した後自ら埋立処分又は海洋投入処分した量
F12: =+ROUND(P12,2)+ROUND(P15,2)+ROUND(P18,2)+ROUND(P24,2)+P27-ROUND(F15,2) -> 0 | I12: ｔ | T12: ｔ | AN12: ｔ
F14: ※１ | G14: 自社の他事業場からの搬入量 | P14: ③ | Q14: 自ら直接埋立処分した量 | AH14: ※3 | AI14: 自ら中間処理した後自社の他事業場での処理量
I15: ｔ | T15: ｔ | AN15: ｔ | AS15: （目的別内訳）
P16: =+IF(Y18=0,"",IF(Y18-P18=Y18,"エラー！：⑥残さ物量があるのに、④自ら中間処理した量がゼロになっています","")) | AS16: 再生利用前委託量 | AV16: ｔ
P17: ④ | Q17: 自ら中間処理した量 | Y17: ⑥ | Z17: 自ら中間処理した後の残さ量 | AE17: ｂ残さ物の委託処理 | AH17: ｂ | AI17: 自ら中間処理した後の処理委託量 | AO17: ｂ-1 中間処理委託量 | AS17: 最終処分前 委託量 | AV17: ｔ
T18: ｔ | Y18: =+ROUND(AH9,2)+ROUND(AH12,2)+ROUND(AH15,2)+AH18 -> 0 | AB18: ｔ | AH18: =+ROUND(AO18,2)+ROUND(AO21,2) -> 0 | AL18: ｔ | AO18: =+ROUND(AU16,2)+ROUND(AU17,2)+ROUND(AU18,2) -> 0 | AP18: ｔ | AS18: 下水等放流前委託量 | AV18: ｔ | AW18: （第2面）
P20: ⑤ | Q20: ④のうち熱回収を行った量 | Y20: ⑦ | Z20: 自ら中間処理により減量した量 | AO20: ｂ-2 最終処分委託量
B21: 注）右上のフローには、令和７年度の実績値を記載してください。下表の中央列には、令和７年度目標値を記載してください。下表の右列は、右上フローに記載された令和７年度実績値が自動的に計算されます。 | T21: ｔ | Y21: =+P18-Y18 -> 0 | AB21: ｔ | AP21: ｔ
P22: =+IF(P21=0,"",IF(P18<P21,"エラー !：④の内数である⑤の量が④を超えています",""))
B23: 項 目 | D23: 令和７年度 目標値 | H23: 令和７年度 実績値 | P23: ※２ | Q23: 自社の他事業場での処理量 | AS23: ⑫ | AT23: ⑩のうち再生利用業者への処理委託量
B24: ① 排出量 | D24: 0 | G24: t | H24: =+F12 -> 0 | J24: t | T24: ｔ | AS24: =+ROUND(AU16,2)+ROUND(AA28,2) -> 0 | AV24: ｔ
B25: ②＋⑧ 自ら再生利用を行った量 | D25: 0 | G25: t | H25: =+P12+AH9 -> 0 | J25: t
B26: ⑤ 自ら熱回収を行った量 | D26: 0 | G26: t | H26: =+P21 -> 0 | J26: t | M26: Ｂ 直接委託処理 | P26: Ｂ | Q26: 直接処理委託量 | AL26: ⑩ | AM26: 直接及び自ら中間処理した後の処理委託量 | AS26: ⑬ | AT26: ⑩のうち認定熱回収業者への処理委託量
B27: ⑦ 自ら中間処理により減量した量 | D27: 0 | G27: t | H27: =+Y21 -> 0 | J27: t | P27: =+R30+ROUND(R33,2) -> 0 | T27: ｔ | Y27: （目的別内訳） | AL27: =+AH18+P27 -> 0 | AP27: ｔ | AV27: ｔ
B28: ③＋⑨ 自ら埋立処分又は海洋投入処分を行った量 | D28: 0 | G28: t | H28: =+P15+AH12 -> 0 | J28: t | Y28: 再生利用前委託量 | AF28: ｔ | AS28: =+IF(AS27=0,"",IF(AL27<(AS24+AS27+AS31),"エラー !：⑩の内数である（⑫+⑬＋⑭）の量が⑩を超えています",""))
B29: ⑩ 全処理委託量 | D29: 0 | G29: t | H29: =+AL27 -> 0 | J29: t | R29: B-1 | S29: 中間処理委託量 | Y29: 最終処分前委託量 | AF29: ｔ | AL29: ⑪ | AM29: ⑩のうち優良認定処理業者への処理委託量 | AS29: ⑭ | AT29: ⑩のうち認定熱回収業者以外の熱回収を行う業者への処理委託量
B30: ⑪ 優良認定処理業者への処理委託量 | D30: 0 | G30: t | H30: =+AL30 -> 0 | J30: t | R30: =+ROUND(AA28,2)+ROUND(AA29,2)+ROUND(AA30,2) -> 0 | V30: ｔ | Y30: 下水等放流前委託量 | AF30: ｔ | AP30: ｔ
B31: ⑫ 再生利用業者への処理委託量 | D31: 0 | G31: t | H31: =+AS24 -> 0 | J31: t | AA31: 【特別管理産業廃棄物の種類 （ア～チ）】 | AL31: =+IF(AL30=0,"",IF(AL27<AL30,"エラー !：⑩の内数である⑪の量が⑩を超えています","")) | AV31: ｔ
B32: ⑬ 認定熱回収業者への処理委託量 | D32: 0 | G32: t | H32: =+AS27 -> 0 | J32: t | R32: B-2 | S32: 最終処分委託量 | AA32: ア. 特管廃油 イ. 特管廃酸 (pH2以下) ウ. 特管廃アルカリ (pH12.5以上) エ. 感染性廃棄物 | AG32: オ. 廃ＰＣＢ等 カ. ＰＣＢ汚染物 キ. ＰＣＢ処理物 ク. 指定下水汚泥 ケ. 有害鉱さい コ. 廃石綿等 | AK32: サ. 有害ばいじん チ. 廃水銀等 シ. 有害燃え殻 ス. 有害廃油 セ. 有害汚泥 ソ. 有害廃酸 タ. 有害廃アルカリ | AS32: =+IF(AS31=0,"",IF(AL27<(AS24+AS27+AS31),"エラー !：⑩の内数である（⑫+⑬＋⑭）の量が⑩を超えています",""))
B33: ⑭ 認定熱回収業者以外の熱回収を行う業者への処理委託量 | D33: 0 | G33: t | H33: =+AS31 -> 0 | J33: t | V33: ｔ
C34: =+IF(D30=0,"",IF(D29<D30,"エラー !：上の表は、⑩の内数である⑪の量が⑩を超えています",""))
C35: =+IF(D31=0,"",IF(D29<D31,"エラー !：上の表は、⑩の内数である⑫の量が⑩を超えています",""))
C36: =+IF(D32=0,"",IF(D29<D32,"エラー !：上の表は、⑩の内数である⑬の量が⑩を超えています",""))
C37: =+IF(D33=0,"",IF(D29<D33,"エラー !：上の表は、⑩の内数である⑭の量が⑩を超えています",""))

Sheet ｶ.PCB汚染物
S1: ↓ | T1: 注意：本年度の目標量のみでフロー図の実績データがない場合にも、本年度目標データを該当欄に入力してください
B2: 特別管理産業廃棄物処理計画実施状況報告書
AP3: ５－２ | AS3: 法定 | AU3: 自主
AS4: =+表紙!N28 -> ○ | AU4: =+表紙!O28
B5: 別紙処理フロー | Z5: 事業場名称 | AE5: ： | AF5: =+表紙!F47 -> 日清オイリオグループ株式会社 横浜磯子事業場
B6: 令和７年度に発生した特別管理産業廃棄物ごとの量と処理計画の実施結果
B7: フローに記載した特別管理産業廃棄物の種類 | D7: カ. PCB汚染物
B8: ※ | C8: 本用紙は廃棄物の種類ごとに1枚の記載となります。異なる廃棄物の処理フローは別シートに記載してください。 | AH8: ⑧ | AI8: 自ら中間処理した後再生利用した量
B9: （単位：t/年） | F9: 有償物量 | AE9: ａ残さ物の自己処理 | AN9: ｔ
C11: 不要物等発生量 | F11: ① | G11: 当該事業場における排出量 | M11: Ａ 自己処理 | P11: ② | Q11: 自ら直接再生利用した量 | AH11: ⑨ | AI11: 自ら中間処理した後自ら埋立処分又は海洋投入処分した量
F12: =+ROUND(P12,2)+ROUND(P15,2)+ROUND(P18,2)+ROUND(P24,2)+P27-ROUND(F15,2) -> 0 | I12: ｔ | T12: ｔ | AN12: ｔ
F14: ※１ | G14: 自社の他事業場からの搬入量 | P14: ③ | Q14: 自ら直接埋立処分した量 | AH14: ※3 | AI14: 自ら中間処理した後自社の他事業場での処理量
I15: ｔ | T15: ｔ | AN15: ｔ | AS15: （目的別内訳）
P16: =+IF(Y18=0,"",IF(Y18-P18=Y18,"エラー！：⑥残さ物量があるのに、④自ら中間処理した量がゼロになっています","")) | AS16: 再生利用前委託量 | AV16: ｔ
P17: ④ | Q17: 自ら中間処理した量 | Y17: ⑥ | Z17: 自ら中間処理した後の残さ量 | AE17: ｂ残さ物の委託処理 | AH17: ｂ | AI17: 自ら中間処理した後の処理委託量 | AO17: ｂ-1 中間処理委託量 | AS17: 最終処分前 委託量 | AV17: ｔ
T18: ｔ | Y18: =+ROUND(AH9,2)+ROUND(AH12,2)+ROUND(AH15,2)+AH18 -> 0 | AB18: ｔ | AH18: =+ROUND(AO18,2)+ROUND(AO21,2) -> 0 | AL18: ｔ | AO18: =+ROUND(AU16,2)+ROUND(AU17,2)+ROUND(AU18,2) -> 0 | AP18: ｔ | AS18: 下水等放流前委託量 | AV18: ｔ | AW18: （第2面）
P20: ⑤ | Q20: ④のうち熱回収を行った量 | Y20: ⑦ | Z20: 自ら中間処理により減量した量 | AO20: ｂ-2 最終処分委託量
B21: 注）右上のフローには、令和７年度の実績値を記載してください。下表の中央列には、令和７年度目標値を記載してください。下表の右列は、右上フローに記載された令和７年度実績値が自動的に計算されます。 | T21: ｔ | Y21: =+P18-Y18 -> 0 | AB21: ｔ | AP21: ｔ
P22: =+IF(P21=0,"",IF(P18<P21,"エラー !：④の内数である⑤の量が④を超えています",""))
B23: 項 目 | D23: 令和７年度 目標値 | H23: 令和７年度 実績値 | P23: ※２ | Q23: 自社の他事業場での処理量 | AS23: ⑫ | AT23: ⑩のうち再生利用業者への処理委託量
B24: ① 排出量 | D24: 0 | G24: t | H24: =+F12 -> 0 | J24: t | T24: ｔ | AS24: =+ROUND(AU16,2)+ROUND(AA28,2) -> 0 | AV24: ｔ
B25: ②＋⑧ 自ら再生利用を行った量 | D25: 0 | G25: t | H25: =+P12+AH9 -> 0 | J25: t
B26: ⑤ 自ら熱回収を行った量 | D26: 0 | G26: t | H26: =+P21 -> 0 | J26: t | M26: Ｂ 直接委託処理 | P26: Ｂ | Q26: 直接処理委託量 | AL26: ⑩ | AM26: 直接及び自ら中間処理した後の処理委託量 | AS26: ⑬ | AT26: ⑩のうち認定熱回収業者への処理委託量
B27: ⑦ 自ら中間処理により減量した量 | D27: 0 | G27: t | H27: =+Y21 -> 0 | J27: t | P27: =+R30+ROUND(R33,2) -> 0 | T27: ｔ | Y27: （目的別内訳） | AL27: =+AH18+P27 -> 0 | AP27: ｔ | AV27: ｔ
B28: ③＋⑨ 自ら埋立処分又は海洋投入処分を行った量 | D28: 0 | G28: t | H28: =+P15+AH12 -> 0 | J28: t | Y28: 再生利用前委託量 | AF28: ｔ | AS28: =+IF(AS27=0,"",IF(AL27<(AS24+AS27+AS31),"エラー !：⑩の内数である（⑫+⑬＋⑭）の量が⑩を超えています",""))
B29: ⑩ 全処理委託量 | D29: 0 | G29: t | H29: =+AL27 -> 0 | J29: t | R29: B-1 | S29: 中間処理委託量 | Y29: 最終処分前委託量 | AF29: ｔ | AL29: ⑪ | AM29: ⑩のうち優良認定処理業者への処理委託量 | AS29: ⑭ | AT29: ⑩のうち認定熱回収業者以外の熱回収を行う業者への処理委託量
B30: ⑪ 優良認定処理業者への処理委託量 | D30: 0 | G30: t | H30: =+AL30 -> 0 | J30: t | R30: =+ROUND(AA28,2)+ROUND(AA29,2)+ROUND(AA30,2) -> 0 | V30: ｔ | Y30: 下水等放流前委託量 | AF30: ｔ | AP30: ｔ
B31: ⑫ 再生利用業者への処理委託量 | D31: 0 | G31: t | H31: =+AS24 -> 0 | J31: t | AA31: 【特別管理産業廃棄物の種類 （ア～チ）】 | AL31: =+IF(AL30=0,"",IF(AL27<AL30,"エラー !：⑩の内数である⑪の量が⑩を超えています","")) | AV31: ｔ
B32: ⑬ 認定熱回収業者への処理委託量 | D32: 0 | G32: t | H32: =+AS27 -> 0 | J32: t | R32: B-2 | S32: 最終処分委託量 | AA32: ア. 特管廃油 イ. 特管廃酸 (pH2以下) ウ. 特管廃アルカリ (pH12.5以上) エ. 感染性廃棄物 | AG32: オ. 廃ＰＣＢ等 カ. ＰＣＢ汚染物 キ. ＰＣＢ処理物 ク. 指定下水汚泥 ケ. 有害鉱さい コ. 廃石綿等 | AK32: サ. 有害ばいじん チ. 廃水銀等 シ. 有害燃え殻 ス. 有害廃油 セ. 有害汚泥 ソ. 有害廃酸 タ. 有害廃アルカリ | AS32: =+IF(AS31=0,"",IF(AL27<(AS24+AS27+AS31),"エラー !：⑩の内数である（⑫+⑬＋⑭）の量が⑩を超えています",""))
B33: ⑭ 認定熱回収業者以外の熱回収を行う業者への処理委託量 | D33: 0 | G33: t | H33: =+AS31 -> 0 | J33: t | V33: ｔ
C34: =+IF(D30=0,"",IF(D29<D30,"エラー !：上の表は、⑩の内数である⑪の量が⑩を超えています",""))
C35: =+IF(D31=0,"",IF(D29<D31,"エラー !：上の表は、⑩の内数である⑫の量が⑩を超えています",""))
C36: =+IF(D32=0,"",IF(D29<D32,"エラー !：上の表は、⑩の内数である⑬の量が⑩を超えています",""))
C37: =+IF(D33=0,"",IF(D29<D33,"エラー !：上の表は、⑩の内数である⑭の量が⑩を超えています",""))

Sheet ｷ.PCB処理物
S1: ↓ | T1: 注意：本年度の目標量のみでフロー図の実績データがない場合にも、本年度目標データを該当欄に入力してください
B2: 特別管理産業廃棄物処理計画実施状況報告書
AP3: ５－２ | AS3: 法定 | AU3: 自主
AS4: =+表紙!N28 -> ○ | AU4: =+表紙!O28
B5: 別紙処理フロー | Z5: 事業場名称 | AE5: ： | AF5: =+表紙!F47 -> 日清オイリオグループ株式会社 横浜磯子事業場
B6: 令和７年度に発生した特別管理産業廃棄物ごとの量と処理計画の実施結果
B7: フローに記載した特別管理産業廃棄物の種類 | D7: キ. PCB処理物
B8: ※ | C8: 本用紙は廃棄物の種類ごとに1枚の記載となります。異なる廃棄物の処理フローは別シートに記載してください。 | AH8: ⑧ | AI8: 自ら中間処理した後再生利用した量
B9: （単位：t/年） | F9: 有償物量 | AE9: ａ残さ物の自己処理 | AN9: ｔ
C11: 不要物等発生量 | F11: ① | G11: 当該事業場における排出量 | M11: Ａ 自己処理 | P11: ② | Q11: 自ら直接再生利用した量 | AH11: ⑨ | AI11: 自ら中間処理した後自ら埋立処分又は海洋投入処分した量
F12: =+ROUND(P12,2)+ROUND(P15,2)+ROUND(P18,2)+ROUND(P24,2)+P27-ROUND(F15,2) -> 0 | I12: ｔ | T12: ｔ | AN12: ｔ
F14: ※１ | G14: 自社の他事業場からの搬入量 | P14: ③ | Q14: 自ら直接埋立処分した量 | AH14: ※3 | AI14: 自ら中間処理した後自社の他事業場での処理量
I15: ｔ | T15: ｔ | AN15: ｔ | AS15: （目的別内訳）
P16: =+IF(Y18=0,"",IF(Y18-P18=Y18,"エラー！：⑥残さ物量があるのに、④自ら中間処理した量がゼロになっています","")) | AS16: 再生利用前委託量 | AV16: ｔ
P17: ④ | Q17: 自ら中間処理した量 | Y17: ⑥ | Z17: 自ら中間処理した後の残さ量 | AE17: ｂ残さ物の委託処理 | AH17: ｂ | AI17: 自ら中間処理した後の処理委託量 | AO17: ｂ-1 中間処理委託量 | AS17: 最終処分前 委託量 | AV17: ｔ
T18: ｔ | Y18: =+ROUND(AH9,2)+ROUND(AH12,2)+ROUND(AH15,2)+AH18 -> 0 | AB18: ｔ | AH18: =+ROUND(AO18,2)+ROUND(AO21,2) -> 0 | AL18: ｔ | AO18: =+ROUND(AU16,2)+ROUND(AU17,2)+ROUND(AU18,2) -> 0 | AP18: ｔ | AS18: 下水等放流前委託量 | AV18: ｔ | AW18: （第2面）
P20: ⑤ | Q20: ④のうち熱回収を行った量 | Y20: ⑦ | Z20: 自ら中間処理により減量した量 | AO20: ｂ-2 最終処分委託量
B21: 注）右上のフローには、令和７年度の実績値を記載してください。下表の中央列には、令和７年度目標値を記載してください。下表の右列は、右上フローに記載された令和７年度実績値が自動的に計算されます。 | T21: ｔ | Y21: =+P18-Y18 -> 0 | AB21: ｔ | AP21: ｔ
P22: =+IF(P21=0,"",IF(P18<P21,"エラー !：④の内数である⑤の量が④を超えています",""))
B23: 項 目 | D23: 令和７年度 目標値 | H23: 令和７年度 実績値 | P23: ※２ | Q23: 自社の他事業場での処理量 | AS23: ⑫ | AT23: ⑩のうち再生利用業者への処理委託量
B24: ① 排出量 | D24: 0 | G24: t | H24: =+F12 -> 0 | J24: t | T24: ｔ | AS24: =+ROUND(AU16,2)+ROUND(AA28,2) -> 0 | AV24: ｔ
B25: ②＋⑧ 自ら再生利用を行った量 | D25: 0 | G25: t | H25: =+P12+AH9 -> 0 | J25: t
B26: ⑤ 自ら熱回収を行った量 | D26: 0 | G26: t | H26: =+P21 -> 0 | J26: t | M26: Ｂ 直接委託処理 | P26: Ｂ | Q26: 直接処理委託量 | AL26: ⑩ | AM26: 直接及び自ら中間処理した後の処理委託量 | AS26: ⑬ | AT26: ⑩のうち認定熱回収業者への処理委託量
B27: ⑦ 自ら中間処理により減量した量 | D27: 0 | G27: t | H27: =+Y21 -> 0 | J27: t | P27: =+R30+ROUND(R33,2) -> 0 | T27: ｔ | Y27: （目的別内訳） | AL27: =+AH18+P27 -> 0 | AP27: ｔ | AV27: ｔ
B28: ③＋⑨ 自ら埋立処分又は海洋投入処分を行った量 | D28: 0 | G28: t | H28: =+P15+AH12 -> 0 | J28: t | Y28: 再生利用前委託量 | AF28: ｔ | AS28: =+IF(AS27=0,"",IF(AL27<(AS24+AS27+AS31),"エラー !：⑩の内数である（⑫+⑬＋⑭）の量が⑩を超えています",""))
B29: ⑩ 全処理委託量 | D29: 0 | G29: t | H29: =+AL27 -> 0 | J29: t | R29: B-1 | S29: 中間処理委託量 | Y29: 最終処分前委託量 | AF29: ｔ | AL29: ⑪ | AM29: ⑩のうち優良認定処理業者への処理委託量 | AS29: ⑭ | AT29: ⑩のうち認定熱回収業者以外の熱回収を行う業者への処理委託量
B30: ⑪ 優良認定処理業者への処理委託量 | D30: 0 | G30: t | H30: =+AL30 -> 0 | J30: t | R30: =+ROUND(AA28,2)+ROUND(AA29,2)+ROUND(AA30,2) -> 0 | V30: ｔ | Y30: 下水等放流前委託量 | AF30: ｔ | AP30: ｔ
B31: ⑫ 再生利用業者への処理委託量 | D31: 0 | G31: t | H31: =+AS24 -> 0 | J31: t | AA31: 【特別管理産業廃棄物の種類 （ア～チ）】 | AL31: =+IF(AL30=0,"",IF(AL27<AL30,"エラー !：⑩の内数である⑪の量が⑩を超えています","")) | AV31: ｔ
B32: ⑬ 認定熱回収業者への処理委託量 | D32: 0 | G32: t | H32: =+AS27 -> 0 | J32: t | R32: B-2 | S32: 最終処分委託量 | AA32: ア. 特管廃油 イ. 特管廃酸 (pH2以下) ウ. 特管廃アルカリ (pH12.5以上) エ. 感染性廃棄物 | AG32: オ. 廃ＰＣＢ等 カ. ＰＣＢ汚染物 キ. ＰＣＢ処理物 ク. 指定下水汚泥 ケ. 有害鉱さい コ. 廃石綿等 | AK32: サ. 有害ばいじん チ. 廃水銀等 シ. 有害燃え殻 ス. 有害廃油 セ. 有害汚泥 ソ. 有害廃酸 タ. 有害廃アルカリ | AS32: =+IF(AS31=0,"",IF(AL27<(AS24+AS27+AS31),"エラー !：⑩の内数である（⑫+⑬＋⑭）の量が⑩を超えています",""))
B33: ⑭ 認定熱回収業者以外の熱回収を行う業者への処理委託量 | D33: 0 | G33: t | H33: =+AS31 -> 0 | J33: t | V33: ｔ
C34: =+IF(D30=0,"",IF(D29<D30,"エラー !：上の表は、⑩の内数である⑪の量が⑩を超えています",""))
C35: =+IF(D31=0,"",IF(D29<D31,"エラー !：上の表は、⑩の内数である⑫の量が⑩を超えています",""))
C36: =+IF(D32=0,"",IF(D29<D32,"エラー !：上の表は、⑩の内数である⑬の量が⑩を超えています",""))
C37: =+IF(D33=0,"",IF(D29<D33,"エラー !：上の表は、⑩の内数である⑭の量が⑩を超えています",""))

Sheet ｸ.指定下水汚泥
S1: ↓ | T1: 注意：本年度の目標量のみでフロー図の実績データがない場合にも、本年度目標データを該当欄に入力してください
B2: 特別管理産業廃棄物処理計画実施状況報告書
AP3: ５－２ | AS3: 法定 | AU3: 自主
AS4: =+表紙!N28 -> ○ | AU4: =+表紙!O28
B5: 別紙処理フロー | Z5: 事業場名称 | AE5: ： | AF5: =+表紙!F47 -> 日清オイリオグループ株式会社 横浜磯子事業場
B6: 令和７年度に発生した特別管理産業廃棄物ごとの量と処理計画の実施結果
B7: フローに記載した特別管理産業廃棄物の種類 | D7: ク. 指定下水汚泥
B8: ※ | C8: 本用紙は廃棄物の種類ごとに1枚の記載となります。異なる廃棄物の処理フローは別シートに記載してください。 | AH8: ⑧ | AI8: 自ら中間処理した後再生利用した量
B9: （単位：t/年） | F9: 有償物量 | AE9: ａ残さ物の自己処理 | AN9: ｔ
C11: 不要物等発生量 | F11: ① | G11: 当該事業場における排出量 | M11: Ａ 自己処理 | P11: ② | Q11: 自ら直接再生利用した量 | AH11: ⑨ | AI11: 自ら中間処理した後自ら埋立処分又は海洋投入処分した量
F12: =+ROUND(P12,2)+ROUND(P15,2)+ROUND(P18,2)+ROUND(P24,2)+P27-ROUND(F15,2) -> 0 | I12: ｔ | T12: ｔ | AN12: ｔ
F14: ※１ | G14: 自社の他事業場からの搬入量 | P14: ③ | Q14: 自ら直接埋立処分した量 | AH14: ※3 | AI14: 自ら中間処理した後自社の他事業場での処理量
I15: ｔ | T15: ｔ | AN15: ｔ | AS15: （目的別内訳）
P16: =+IF(Y18=0,"",IF(Y18-P18=Y18,"エラー！：⑥残さ物量があるのに、④自ら中間処理した量がゼロになっています","")) | AS16: 再生利用前委託量 | AV16: ｔ
P17: ④ | Q17: 自ら中間処理した量 | Y17: ⑥ | Z17: 自ら中間処理した後の残さ量 | AE17: ｂ残さ物の委託処理 | AH17: ｂ | AI17: 自ら中間処理した後の処理委託量 | AO17: ｂ-1 中間処理委託量 | AS17: 最終処分前 委託量 | AV17: ｔ
T18: ｔ | Y18: =+ROUND(AH9,2)+ROUND(AH12,2)+ROUND(AH15,2)+AH18 -> 0 | AB18: ｔ | AH18: =+ROUND(AO18,2)+ROUND(AO21,2) -> 0 | AL18: ｔ | AO18: =+ROUND(AU16,2)+ROUND(AU17,2)+ROUND(AU18,2) -> 0 | AP18: ｔ | AS18: 下水等放流前委託量 | AV18: ｔ | AW18: （第2面）
P20: ⑤ | Q20: ④のうち熱回収を行った量 | Y20: ⑦ | Z20: 自ら中間処理により減量した量 | AO20: ｂ-2 最終処分委託量
B21: 注）右上のフローには、令和７年度の実績値を記載してください。下表の中央列には、令和７年度目標値を記載してください。下表の右列は、右上フローに記載された令和７年度実績値が自動的に計算されます。 | T21: ｔ | Y21: =+P18-Y18 -> 0 | AB21: ｔ | AP21: ｔ
P22: =+IF(P21=0,"",IF(P18<P21,"エラー !：④の内数である⑤の量が④を超えています",""))
B23: 項 目 | D23: 令和７年度 目標値 | H23: 令和７年度 実績値 | P23: ※２ | Q23: 自社の他事業場での処理量 | AS23: ⑫ | AT23: ⑩のうち再生利用業者への処理委託量
B24: ① 排出量 | D24: 0 | G24: t | H24: =+F12 -> 0 | J24: t | T24: ｔ | AS24: =+ROUND(AU16,2)+ROUND(AA28,2) -> 0 | AV24: ｔ
B25: ②＋⑧ 自ら再生利用を行った量 | D25: 0 | G25: t | H25: =+P12+AH9 -> 0 | J25: t
B26: ⑤ 自ら熱回収を行った量 | D26: 0 | G26: t | H26: =+P21 -> 0 | J26: t | M26: Ｂ 直接委託処理 | P26: Ｂ | Q26: 直接処理委託量 | AL26: ⑩ | AM26: 直接及び自ら中間処理した後の処理委託量 | AS26: ⑬ | AT26: ⑩のうち認定熱回収業者への処理委託量
B27: ⑦ 自ら中間処理により減量した量 | D27: 0 | G27: t | H27: =+Y21 -> 0 | J27: t | P27: =+R30+ROUND(R33,2) -> 0 | T27: ｔ | Y27: （目的別内訳） | AL27: =+AH18+P27 -> 0 | AP27: ｔ | AV27: ｔ
B28: ③＋⑨ 自ら埋立処分又は海洋投入処分を行った量 | D28: 0 | G28: t | H28: =+P15+AH12 -> 0 | J28: t | Y28: 再生利用前委託量 | AF28: ｔ | AS28: =+IF(AS27=0,"",IF(AL27<(AS24+AS27+AS31),"エラー !：⑩の内数である（⑫+⑬＋⑭）の量が⑩を超えています",""))
B29: ⑩ 全処理委託量 | D29: 0 | G29: t | H29: =+AL27 -> 0 | J29: t | R29: B-1 | S29: 中間処理委託量 | Y29: 最終処分前委託量 | AF29: ｔ | AL29: ⑪ | AM29: ⑩のうち優良認定処理業者への処理委託量 | AS29: ⑭ | AT29: ⑩のうち認定熱回収業者以外の熱回収を行う業者への処理委託量
B30: ⑪ 優良認定処理業者への処理委託量 | D30: 0 | G30: t | H30: =+AL30 -> 0 | J30: t | R30: =+ROUND(AA28,2)+ROUND(AA29,2)+ROUND(AA30,2) -> 0 | V30: ｔ | Y30: 下水等放流前委託量 | AF30: ｔ | AP30: ｔ
B31: ⑫ 再生利用業者への処理委託量 | D31: 0 | G31: t | H31: =+AS24 -> 0 | J31: t | AA31: 【特別管理産業廃棄物の種類 （ア～チ）】 | AL31: =+IF(AL30=0,"",IF(AL27<AL30,"エラー !：⑩の内数である⑪の量が⑩を超えています","")) | AV31: ｔ
B32: ⑬ 認定熱回収業者への処理委託量 | D32: 0 | G32: t | H32: =+AS27 -> 0 | J32: t | R32: B-2 | S32: 最終処分委託量 | AA32: ア. 特管廃油 イ. 特管廃酸 (pH2以下) ウ. 特管廃アルカリ (pH12.5以上) エ. 感染性廃棄物 | AG32: オ. 廃ＰＣＢ等 カ. ＰＣＢ汚染物 キ. ＰＣＢ処理物 ク. 指定下水汚泥 ケ. 有害鉱さい コ. 廃石綿等 | AK32: サ. 有害ばいじん チ. 廃水銀等 シ. 有害燃え殻 ス. 有害廃油 セ. 有害汚泥 ソ. 有害廃酸 タ. 有害廃アルカリ | AS32: =+IF(AS31=0,"",IF(AL27<(AS24+AS27+AS31),"エラー !：⑩の内数である（⑫+⑬＋⑭）の量が⑩を超えています",""))
B33: ⑭ 認定熱回収業者以外の熱回収を行う業者への処理委託量 | D33: 0 | G33: t | H33: =+AS31 -> 0 | J33: t | V33: ｔ
C34: =+IF(D30=0,"",IF(D29<D30,"エラー !：上の表は、⑩の内数である⑪の量が⑩を超えています",""))
C35: =+IF(D31=0,"",IF(D29<D31,"エラー !：上の表は、⑩の内数である⑫の量が⑩を超えています",""))
C36: =+IF(D32=0,"",IF(D29<D32,"エラー !：上の表は、⑩の内数である⑬の量が⑩を超えています",""))
C37: =+IF(D33=0,"",IF(D29<D33,"エラー !：上の表は、⑩の内数である⑭の量が⑩を超えています",""))

Sheet ｹ.有害鉱さい
S1: ↓ | T1: 注意：本年度の目標量のみでフロー図の実績データがない場合にも、本年度目標データを該当欄に入力してください
B2: 特別管理産業廃棄物処理計画実施状況報告書
AP3: ５－２ | AS3: 法定 | AU3: 自主
AS4: =+表紙!N28 -> ○ | AU4: =+表紙!O28
B5: 別紙処理フロー | Z5: 事業場名称 | AE5: ： | AF5: =+表紙!F47 -> 日清オイリオグループ株式会社 横浜磯子事業場
B6: 令和７年度に発生した特別管理産業廃棄物ごとの量と処理計画の実施結果
B7: フローに記載した特別管理産業廃棄物の種類 | D7: ケ. 有害鉱さい
B8: ※ | C8: 本用紙は廃棄物の種類ごとに1枚の記載となります。異なる廃棄物の処理フローは別シートに記載してください。 | AH8: ⑧ | AI8: 自ら中間処理した後再生利用した量
B9: （単位：t/年） | F9: 有償物量 | AE9: ａ残さ物の自己処理 | AN9: ｔ
C11: 不要物等発生量 | F11: ① | G11: 当該事業場における排出量 | M11: Ａ 自己処理 | P11: ② | Q11: 自ら直接再生利用した量 | AH11: ⑨ | AI11: 自ら中間処理した後自ら埋立処分又は海洋投入処分した量
F12: =+ROUND(P12,2)+ROUND(P15,2)+ROUND(P18,2)+ROUND(P24,2)+P27-ROUND(F15,2) -> 0 | I12: ｔ | T12: ｔ | AN12: ｔ
F14: ※１ | G14: 自社の他事業場からの搬入量 | P14: ③ | Q14: 自ら直接埋立処分した量 | AH14: ※3 | AI14: 自ら中間処理した後自社の他事業場での処理量
I15: ｔ | T15: ｔ | AN15: ｔ | AS15: （目的別内訳）
P16: =+IF(Y18=0,"",IF(Y18-P18=Y18,"エラー！：⑥残さ物量があるのに、④自ら中間処理した量がゼロになっています","")) | AS16: 再生利用前委託量 | AV16: ｔ
P17: ④ | Q17: 自ら中間処理した量 | Y17: ⑥ | Z17: 自ら中間処理した後の残さ量 | AE17: ｂ残さ物の委託処理 | AH17: ｂ | AI17: 自ら中間処理した後の処理委託量 | AO17: ｂ-1 中間処理委託量 | AS17: 最終処分前 委託量 | AV17: ｔ
T18: ｔ | Y18: =+ROUND(AH9,2)+ROUND(AH12,2)+ROUND(AH15,2)+AH18 -> 0 | AB18: ｔ | AH18: =+ROUND(AO18,2)+ROUND(AO21,2) -> 0 | AL18: ｔ | AO18: =+ROUND(AU16,2)+ROUND(AU17,2)+ROUND(AU18,2) -> 0 | AP18: ｔ | AS18: 下水等放流前委託量 | AV18: ｔ | AW18: （第2面）
P20: ⑤ | Q20: ④のうち熱回収を行った量 | Y20: ⑦ | Z20: 自ら中間処理により減量した量 | AO20: ｂ-2 最終処分委託量
B21: 注）右上のフローには、令和７年度の実績値を記載してください。下表の中央列には、令和７年度目標値を記載してください。下表の右列は、右上フローに記載された令和７年度実績値が自動的に計算されます。 | T21: ｔ | Y21: =+P18-Y18 -> 0 | AB21: ｔ | AP21: ｔ
P22: =+IF(P21=0,"",IF(P18<P21,"エラー !：④の内数である⑤の量が④を超えています",""))
B23: 項 目 | D23: 令和７年度 目標値 | H23: 令和７年度 実績値 | P23: ※２ | Q23: 自社の他事業場での処理量 | AS23: ⑫ | AT23: ⑩のうち再生利用業者への処理委託量
B24: ① 排出量 | D24: 0 | G24: t | H24: =+F12 -> 0 | J24: t | T24: ｔ | AS24: =+ROUND(AU16,2)+ROUND(AA28,2) -> 0 | AV24: ｔ
B25: ②＋⑧ 自ら再生利用を行った量 | D25: 0 | G25: t | H25: =+P12+AH9 -> 0 | J25: t
B26: ⑤ 自ら熱回収を行った量 | D26: 0 | G26: t | H26: =+P21 -> 0 | J26: t | M26: Ｂ 直接委託処理 | P26: Ｂ | Q26: 直接処理委託量 | AL26: ⑩ | AM26: 直接及び自ら中間処理した後の処理委託量 | AS26: ⑬ | AT26: ⑩のうち認定熱回収業者への処理委託量
B27: ⑦ 自ら中間処理により減量した量 | D27: 0 | G27: t | H27: =+Y21 -> 0 | J27: t | P27: =+R30+ROUND(R33,2) -> 0 | T27: ｔ | Y27: （目的別内訳） | AL27: =+AH18+P27 -> 0 | AP27: ｔ | AV27: ｔ
B28: ③＋⑨ 自ら埋立処分又は海洋投入処分を行った量 | D28: 0 | G28: t | H28: =+P15+AH12 -> 0 | J28: t | Y28: 再生利用前委託量 | AF28: ｔ | AS28: =+IF(AS27=0,"",IF(AL27<(AS24+AS27+AS31),"エラー !：⑩の内数である（⑫+⑬＋⑭）の量が⑩を超えています",""))
B29: ⑩ 全処理委託量 | D29: 0 | G29: t | H29: =+AL27 -> 0 | J29: t | R29: B-1 | S29: 中間処理委託量 | Y29: 最終処分前委託量 | AF29: ｔ | AL29: ⑪ | AM29: ⑩のうち優良認定処理業者への処理委託量 | AS29: ⑭ | AT29: ⑩のうち認定熱回収業者以外の熱回収を行う業者への処理委託量
B30: ⑪ 優良認定処理業者への処理委託量 | D30: 0 | G30: t | H30: =+AL30 -> 0 | J30: t | R30: =+ROUND(AA28,2)+ROUND(AA29,2)+ROUND(AA30,2) -> 0 | V30: ｔ | Y30: 下水等放流前委託量 | AF30: ｔ | AP30: ｔ
B31: ⑫ 再生利用業者への処理委託量 | D31: 0 | G31: t | H31: =+AS24 -> 0 | J31: t | AA31: 【特別管理産業廃棄物の種類 （ア～チ）】 | AL31: =+IF(AL30=0,"",IF(AL27<AL30,"エラー !：⑩の内数である⑪の量が⑩を超えています","")) | AV31: ｔ
B32: ⑬ 認定熱回収業者への処理委託量 | D32: 0 | G32: t | H32: =+AS27 -> 0 | J32: t | R32: B-2 | S32: 最終処分委託量 | AA32: ア. 特管廃油 イ. 特管廃酸 (pH2以下) ウ. 特管廃アルカリ (pH12.5以上) エ. 感染性廃棄物 | AG32: オ. 廃ＰＣＢ等 カ. ＰＣＢ汚染物 キ. ＰＣＢ処理物 ク. 指定下水汚泥 ケ. 有害鉱さい コ. 廃石綿等 | AK32: サ. 有害ばいじん チ. 廃水銀等 シ. 有害燃え殻 ス. 有害廃油 セ. 有害汚泥 ソ. 有害廃酸 タ. 有害廃アルカリ | AS32: =+IF(AS31=0,"",IF(AL27<(AS24+AS27+AS31),"エラー !：⑩の内数である（⑫+⑬＋⑭）の量が⑩を超えています",""))
B33: ⑭ 認定熱回収業者以外の熱回収を行う業者への処理委託量 | D33: 0 | G33: t | H33: =+AS31 -> 0 | J33: t | V33: ｔ
C34: =+IF(D30=0,"",IF(D29<D30,"エラー !：上の表は、⑩の内数である⑪の量が⑩を超えています",""))
C35: =+IF(D31=0,"",IF(D29<D31,"エラー !：上の表は、⑩の内数である⑫の量が⑩を超えています",""))
C36: =+IF(D32=0,"",IF(D29<D32,"エラー !：上の表は、⑩の内数である⑬の量が⑩を超えています",""))
C37: =+IF(D33=0,"",IF(D29<D33,"エラー !：上の表は、⑩の内数である⑭の量が⑩を超えています",""))

Sheet ｺ.廃石綿等
S1: ↓ | T1: 注意：本年度の目標量のみでフロー図の実績データがない場合にも、本年度目標データを該当欄に入力してください
B2: 特別管理産業廃棄物処理計画実施状況報告書
AP3: ５－２ | AS3: 法定 | AU3: 自主
AS4: =+表紙!N28 -> ○ | AU4: =+表紙!O28
B5: 別紙処理フロー | Z5: 事業場名称 | AE5: ： | AF5: =+表紙!F47 -> 日清オイリオグループ株式会社 横浜磯子事業場
B6: 令和７年度に発生した特別管理産業廃棄物ごとの量と処理計画の実施結果
B7: フローに記載した特別管理産業廃棄物の種類 | D7: コ. 廃石綿等
B8: ※ | C8: 本用紙は廃棄物の種類ごとに1枚の記載となります。異なる廃棄物の処理フローは別シートに記載してください。 | AH8: ⑧ | AI8: 自ら中間処理した後再生利用した量
B9: （単位：t/年） | F9: 有償物量 | AE9: ａ残さ物の自己処理 | AN9: ｔ
C11: 不要物等発生量 | F11: ① | G11: 当該事業場における排出量 | M11: Ａ 自己処理 | P11: ② | Q11: 自ら直接再生利用した量 | AH11: ⑨ | AI11: 自ら中間処理した後自ら埋立処分又は海洋投入処分した量
F12: =+ROUND(P12,2)+ROUND(P15,2)+ROUND(P18,2)+ROUND(P24,2)+P27-ROUND(F15,2) -> 0 | I12: ｔ | T12: ｔ | AN12: ｔ
F14: ※１ | G14: 自社の他事業場からの搬入量 | P14: ③ | Q14: 自ら直接埋立処分した量 | AH14: ※3 | AI14: 自ら中間処理した後自社の他事業場での処理量
I15: ｔ | T15: ｔ | AN15: ｔ | AS15: （目的別内訳）
P16: =+IF(Y18=0,"",IF(Y18-P18=Y18,"エラー！：⑥残さ物量があるのに、④自ら中間処理した量がゼロになっています","")) | AS16: 再生利用前委託量 | AV16: ｔ
P17: ④ | Q17: 自ら中間処理した量 | Y17: ⑥ | Z17: 自ら中間処理した後の残さ量 | AE17: ｂ残さ物の委託処理 | AH17: ｂ | AI17: 自ら中間処理した後の処理委託量 | AO17: ｂ-1 中間処理委託量 | AS17: 最終処分前 委託量 | AV17: ｔ
T18: ｔ | Y18: =+ROUND(AH9,2)+ROUND(AH12,2)+ROUND(AH15,2)+AH18 -> 0 | AB18: ｔ | AH18: =+ROUND(AO18,2)+ROUND(AO21,2) -> 0 | AL18: ｔ | AO18: =+ROUND(AU16,2)+ROUND(AU17,2)+ROUND(AU18,2) -> 0 | AP18: ｔ | AS18: 下水等放流前委託量 | AV18: ｔ | AW18: （第2面）
P20: ⑤ | Q20: ④のうち熱回収を行った量 | Y20: ⑦ | Z20: 自ら中間処理により減量した量 | AO20: ｂ-2 最終処分委託量
B21: 注）右上のフローには、令和７年度の実績値を記載してください。下表の中央列には、令和７年度目標値を記載してください。下表の右列は、右上フローに記載された令和７年度実績値が自動的に計算されます。 | T21: ｔ | Y21: =+P18-Y18 -> 0 | AB21: ｔ | AP21: ｔ
P22: =+IF(P21=0,"",IF(P18<P21,"エラー !：④の内数である⑤の量が④を超えています",""))
B23: 項 目 | D23: 令和７年度 目標値 | H23: 令和７年度 実績値 | P23: ※２ | Q23: 自社の他事業場での処理量 | AS23: ⑫ | AT23: ⑩のうち再生利用業者への処理委託量
B24: ① 排出量 | D24: 0 | G24: t | H24: =+F12 -> 0 | J24: t | T24: ｔ | AS24: =+ROUND(AU16,2)+ROUND(AA28,2) -> 0 | AV24: ｔ
B25: ②＋⑧ 自ら再生利用を行った量 | D25: 0 | G25: t | H25: =+P12+AH9 -> 0 | J25: t
B26: ⑤ 自ら熱回収を行った量 | D26: 0 | G26: t | H26: =+P21 -> 0 | J26: t | M26: Ｂ 直接委託処理 | P26: Ｂ | Q26: 直接処理委託量 | AL26: ⑩ | AM26: 直接及び自ら中間処理した後の処理委託量 | AS26: ⑬ | AT26: ⑩のうち認定熱回収業者への処理委託量
B27: ⑦ 自ら中間処理により減量した量 | D27: 0 | G27: t | H27: =+Y21 -> 0 | J27: t | P27: =+R30+ROUND(R33,2) -> 0 | T27: ｔ | Y27: （目的別内訳） | AL27: =+AH18+P27 -> 0 | AP27: ｔ | AV27: ｔ
B28: ③＋⑨ 自ら埋立処分又は海洋投入処分を行った量 | D28: 0 | G28: t | H28: =+P15+AH12 -> 0 | J28: t | Y28: 再生利用前委託量 | AF28: ｔ | AS28: =+IF(AS27=0,"",IF(AL27<(AS24+AS27+AS31),"エラー !：⑩の内数である（⑫+⑬＋⑭）の量が⑩を超えています",""))
B29: ⑩ 全処理委託量 | D29: 0 | G29: t | H29: =+AL27 -> 0 | J29: t | R29: B-1 | S29: 中間処理委託量 | Y29: 最終処分前委託量 | AF29: ｔ | AL29: ⑪ | AM29: ⑩のうち優良認定処理業者への処理委託量 | AS29: ⑭ | AT29: ⑩のうち認定熱回収業者以外の熱回収を行う業者への処理委託量
B30: ⑪ 優良認定処理業者への処理委託量 | D30: 0 | G30: t | H30: =+AL30 -> 0 | J30: t | R30: =+ROUND(AA28,2)+ROUND(AA29,2)+ROUND(AA30,2) -> 0 | V30: ｔ | Y30: 下水等放流前委託量 | AF30: ｔ | AP30: ｔ
B31: ⑫ 再生利用業者への処理委託量 | D31: 0 | G31: t | H31: =+AS24 -> 0 | J31: t | AA31: 【特別管理産業廃棄物の種類 （ア～チ）】 | AL31: =+IF(AL30=0,"",IF(AL27<AL30,"エラー !：⑩の内数である⑪の量が⑩を超えています","")) | AV31: ｔ
B32: ⑬ 認定熱回収業者への処理委託量 | D32: 0 | G32: t | H32: =+AS27 -> 0 | J32: t | R32: B-2 | S32: 最終処分委託量 | AA32: ア. 特管廃油 イ. 特管廃酸 (pH2以下) ウ. 特管廃アルカリ (pH12.5以上) エ. 感染性廃棄物 | AG32: オ. 廃ＰＣＢ等 カ. ＰＣＢ汚染物 キ. ＰＣＢ処理物 ク. 指定下水汚泥 ケ. 有害鉱さい コ. 廃石綿等 | AK32: サ. 有害ばいじん チ. 廃水銀等 シ. 有害燃え殻 ス. 有害廃油 セ. 有害汚泥 ソ. 有害廃酸 タ. 有害廃アルカリ | AS32: =+IF(AS31=0,"",IF(AL27<(AS24+AS27+AS31),"エラー !：⑩の内数である（⑫+⑬＋⑭）の量が⑩を超えています",""))
B33: ⑭ 認定熱回収業者以外の熱回収を行う業者への処理委託量 | D33: 0 | G33: t | H33: =+AS31 -> 0 | J33: t | V33: ｔ
C34: =+IF(D30=0,"",IF(D29<D30,"エラー !：上の表は、⑩の内数である⑪の量が⑩を超えています",""))
C35: =+IF(D31=0,"",IF(D29<D31,"エラー !：上の表は、⑩の内数である⑫の量が⑩を超えています",""))
C36: =+IF(D32=0,"",IF(D29<D32,"エラー !：上の表は、⑩の内数である⑬の量が⑩を超えています",""))
C37: =+IF(D33=0,"",IF(D29<D33,"エラー !：上の表は、⑩の内数である⑭の量が⑩を超えています",""))

Sheet ｻ.有害ばいじん
S1: ↓ | T1: 注意：本年度の目標量のみでフロー図の実績データがない場合にも、本年度目標データを該当欄に入力してください
B2: 特別管理産業廃棄物処理計画実施状況報告書
AP3: ５－２ | AS3: 法定 | AU3: 自主
AS4: =+表紙!N28 -> ○ | AU4: =+表紙!O28
B5: 別紙処理フロー | Z5: 事業場名称 | AE5: ： | AF5: =+表紙!F47 -> 日清オイリオグループ株式会社 横浜磯子事業場
B6: 令和７年度に発生した特別管理産業廃棄物ごとの量と処理計画の実施結果
B7: フローに記載した特別管理産業廃棄物の種類 | D7: サ. 有害ばいじん
B8: ※ | C8: 本用紙は廃棄物の種類ごとに1枚の記載となります。異なる廃棄物の処理フローは別シートに記載してください。 | AH8: ⑧ | AI8: 自ら中間処理した後再生利用した量
B9: （単位：t/年） | F9: 有償物量 | AE9: ａ残さ物の自己処理 | AN9: ｔ
C11: 不要物等発生量 | F11: ① | G11: 当該事業場における排出量 | M11: Ａ 自己処理 | P11: ② | Q11: 自ら直接再生利用した量 | AH11: ⑨ | AI11: 自ら中間処理した後自ら埋立処分又は海洋投入処分した量
F12: =+ROUND(P12,2)+ROUND(P15,2)+ROUND(P18,2)+ROUND(P24,2)+P27-ROUND(F15,2) -> 0 | I12: ｔ | T12: ｔ | AN12: ｔ
F14: ※１ | G14: 自社の他事業場からの搬入量 | P14: ③ | Q14: 自ら直接埋立処分した量 | AH14: ※3 | AI14: 自ら中間処理した後自社の他事業場での処理量
I15: ｔ | T15: ｔ | AN15: ｔ | AS15: （目的別内訳）
P16: =+IF(Y18=0,"",IF(Y18-P18=Y18,"エラー！：⑥残さ物量があるのに、④自ら中間処理した量がゼロになっています","")) | AS16: 再生利用前委託量 | AV16: ｔ
P17: ④ | Q17: 自ら中間処理した量 | Y17: ⑥ | Z17: 自ら中間処理した後の残さ量 | AE17: ｂ残さ物の委託処理 | AH17: ｂ | AI17: 自ら中間処理した後の処理委託量 | AO17: ｂ-1 中間処理委託量 | AS17: 最終処分前 委託量 | AV17: ｔ
T18: ｔ | Y18: =+ROUND(AH9,2)+ROUND(AH12,2)+ROUND(AH15,2)+AH18 -> 0 | AB18: ｔ | AH18: =+ROUND(AO18,2)+ROUND(AO21,2) -> 0 | AL18: ｔ | AO18: =+ROUND(AU16,2)+ROUND(AU17,2)+ROUND(AU18,2) -> 0 | AP18: ｔ | AS18: 下水等放流前委託量 | AV18: ｔ | AW18: （第2面）
P20: ⑤ | Q20: ④のうち熱回収を行った量 | Y20: ⑦ | Z20: 自ら中間処理により減量した量 | AO20: ｂ-2 最終処分委託量
B21: 注）右上のフローには、令和７年度の実績値を記載してください。下表の中央列には、令和７年度目標値を記載してください。下表の右列は、右上フローに記載された令和７年度実績値が自動的に計算されます。 | T21: ｔ | Y21: =+P18-Y18 -> 0 | AB21: ｔ | AP21: ｔ
P22: =+IF(P21=0,"",IF(P18<P21,"エラー !：④の内数である⑤の量が④を超えています",""))
B23: 項 目 | D23: 令和７年度 目標値 | H23: 令和７年度 実績値 | P23: ※２ | Q23: 自社の他事業場での処理量 | AS23: ⑫ | AT23: ⑩のうち再生利用業者への処理委託量
B24: ① 排出量 | D24: 0 | G24: t | H24: =+F12 -> 0 | J24: t | T24: ｔ | AS24: =+ROUND(AU16,2)+ROUND(AA28,2) -> 0 | AV24: ｔ
B25: ②＋⑧ 自ら再生利用を行った量 | D25: 0 | G25: t | H25: =+P12+AH9 -> 0 | J25: t
B26: ⑤ 自ら熱回収を行った量 | D26: 0 | G26: t | H26: =+P21 -> 0 | J26: t | M26: Ｂ 直接委託処理 | P26: Ｂ | Q26: 直接処理委託量 | AL26: ⑩ | AM26: 直接及び自ら中間処理した後の処理委託量 | AS26: ⑬ | AT26: ⑩のうち認定熱回収業者への処理委託量
B27: ⑦ 自ら中間処理により減量した量 | D27: 0 | G27: t | H27: =+Y21 -> 0 | J27: t | P27: =+R30+ROUND(R33,2) -> 0 | T27: ｔ | Y27: （目的別内訳） | AL27: =+AH18+P27 -> 0 | AP27: ｔ | AV27: ｔ
B28: ③＋⑨ 自ら埋立処分又は海洋投入処分を行った量 | D28: 0 | G28: t | H28: =+P15+AH12 -> 0 | J28: t | Y28: 再生利用前委託量 | AF28: ｔ | AS28: =+IF(AS27=0,"",IF(AL27<(AS24+AS27+AS31),"エラー !：⑩の内数である（⑫+⑬＋⑭）の量が⑩を超えています",""))
B29: ⑩ 全処理委託量 | D29: 0 | G29: t | H29: =+AL27 -> 0 | J29: t | R29: B-1 | S29: 中間処理委託量 | Y29: 最終処分前委託量 | AF29: ｔ | AL29: ⑪ | AM29: ⑩のうち優良認定処理業者への処理委託量 | AS29: ⑭ | AT29: ⑩のうち認定熱回収業者以外の熱回収を行う業者への処理委託量
B30: ⑪ 優良認定処理業者への処理委託量 | D30: 0 | G30: t | H30: =+AL30 -> 0 | J30: t | R30: =+ROUND(AA28,2)+ROUND(AA29,2)+ROUND(AA30,2) -> 0 | V30: ｔ | Y30: 下水等放流前委託量 | AF30: ｔ | AP30: ｔ
B31: ⑫ 再生利用業者への処理委託量 | D31: 0 | G31: t | H31: =+AS24 -> 0 | J31: t | AA31: 【特別管理産業廃棄物の種類 （ア～チ）】 | AL31: =+IF(AL30=0,"",IF(AL27<AL30,"エラー !：⑩の内数である⑪の量が⑩を超えています","")) | AV31: ｔ
B32: ⑬ 認定熱回収業者への処理委託量 | D32: 0 | G32: t | H32: =+AS27 -> 0 | J32: t | R32: B-2 | S32: 最終処分委託量 | AA32: ア. 特管廃油 イ. 特管廃酸 (pH2以下) ウ. 特管廃アルカリ (pH12.5以上) エ. 感染性廃棄物 | AG32: オ. 廃ＰＣＢ等 カ. ＰＣＢ汚染物 キ. ＰＣＢ処理物 ク. 指定下水汚泥 ケ. 有害鉱さい コ. 廃石綿等 | AK32: サ. 有害ばいじん チ. 廃水銀等 シ. 有害燃え殻 ス. 有害廃油 セ. 有害汚泥 ソ. 有害廃酸 タ. 有害廃アルカリ | AS32: =+IF(AS31=0,"",IF(AL27<(AS24+AS27+AS31),"エラー !：⑩の内数である（⑫+⑬＋⑭）の量が⑩を超えています",""))
B33: ⑭ 認定熱回収業者以外の熱回収を行う業者への処理委託量 | D33: 0 | G33: t | H33: =+AS31 -> 0 | J33: t | V33: ｔ
C34: =+IF(D30=0,"",IF(D29<D30,"エラー !：上の表は、⑩の内数である⑪の量が⑩を超えています",""))
C35: =+IF(D31=0,"",IF(D29<D31,"エラー !：上の表は、⑩の内数である⑫の量が⑩を超えています",""))
C36: =+IF(D32=0,"",IF(D29<D32,"エラー !：上の表は、⑩の内数である⑬の量が⑩を超えています",""))
C37: =+IF(D33=0,"",IF(D29<D33,"エラー !：上の表は、⑩の内数である⑭の量が⑩を超えています",""))

Sheet ｼ.有害燃え殻
S1: ↓ | T1: 注意：本年度の目標量のみでフロー図の実績データがない場合にも、本年度目標データを該当欄に入力してください
B2: 特別管理産業廃棄物処理計画実施状況報告書
AP3: ５－２ | AS3: 法定 | AU3: 自主
AS4: =+表紙!N28 -> ○ | AU4: =+表紙!O28
B5: 別紙処理フロー | Z5: 事業場名称 | AE5: ： | AF5: =+表紙!F47 -> 日清オイリオグループ株式会社 横浜磯子事業場
B6: 令和７年度に発生した特別管理産業廃棄物ごとの量と処理計画の実施結果
B7: フローに記載した特別管理産業廃棄物の種類 | D7: シ. 有害燃え殻
B8: ※ | C8: 本用紙は廃棄物の種類ごとに1枚の記載となります。異なる廃棄物の処理フローは別シートに記載してください。 | AH8: ⑧ | AI8: 自ら中間処理した後再生利用した量
B9: （単位：t/年） | F9: 有償物量 | AE9: ａ残さ物の自己処理 | AN9: ｔ
C11: 不要物等発生量 | F11: ① | G11: 当該事業場における排出量 | M11: Ａ 自己処理 | P11: ② | Q11: 自ら直接再生利用した量 | AH11: ⑨ | AI11: 自ら中間処理した後自ら埋立処分又は海洋投入処分した量
F12: =+ROUND(P12,2)+ROUND(P15,2)+ROUND(P18,2)+ROUND(P24,2)+P27-ROUND(F15,2) -> 0 | I12: ｔ | T12: ｔ | AN12: ｔ
F14: ※１ | G14: 自社の他事業場からの搬入量 | P14: ③ | Q14: 自ら直接埋立処分した量 | AH14: ※3 | AI14: 自ら中間処理した後自社の他事業場での処理量
I15: ｔ | T15: ｔ | AN15: ｔ | AS15: （目的別内訳）
P16: =+IF(Y18=0,"",IF(Y18-P18=Y18,"エラー！：⑥残さ物量があるのに、④自ら中間処理した量がゼロになっています","")) | AS16: 再生利用前委託量 | AV16: ｔ
P17: ④ | Q17: 自ら中間処理した量 | Y17: ⑥ | Z17: 自ら中間処理した後の残さ量 | AE17: ｂ残さ物の委託処理 | AH17: ｂ | AI17: 自ら中間処理した後の処理委託量 | AO17: ｂ-1 中間処理委託量 | AS17: 最終処分前 委託量 | AV17: ｔ
T18: ｔ | Y18: =+ROUND(AH9,2)+ROUND(AH12,2)+ROUND(AH15,2)+AH18 -> 0 | AB18: ｔ | AH18: =+ROUND(AO18,2)+ROUND(AO21,2) -> 0 | AL18: ｔ | AO18: =+ROUND(AU16,2)+ROUND(AU17,2)+ROUND(AU18,2) -> 0 | AP18: ｔ | AS18: 下水等放流前委託量 | AV18: ｔ | AW18: （第2面）
P20: ⑤ | Q20: ④のうち熱回収を行った量 | Y20: ⑦ | Z20: 自ら中間処理により減量した量 | AO20: ｂ-2 最終処分委託量
B21: 注）右上のフローには、令和７年度の実績値を記載してください。下表の中央列には、令和７年度目標値を記載してください。下表の右列は、右上フローに記載された令和７年度実績値が自動的に計算されます。 | T21: ｔ | Y21: =+P18-Y18 -> 0 | AB21: ｔ | AP21: ｔ
P22: =+IF(P21=0,"",IF(P18<P21,"エラー !：④の内数である⑤の量が④を超えています",""))
B23: 項 目 | D23: 令和７年度 目標値 | H23: 令和７年度 実績値 | P23: ※２ | Q23: 自社の他事業場での処理量 | AS23: ⑫ | AT23: ⑩のうち再生利用業者への処理委託量
B24: ① 排出量 | D24: 0 | G24: t | H24: =+F12 -> 0 | J24: t | T24: ｔ | AS24: =+ROUND(AU16,2)+ROUND(AA28,2) -> 0 | AV24: ｔ
B25: ②＋⑧ 自ら再生利用を行った量 | D25: 0 | G25: t | H25: =+P12+AH9 -> 0 | J25: t
B26: ⑤ 自ら熱回収を行った量 | D26: 0 | G26: t | H26: =+P21 -> 0 | J26: t | M26: Ｂ 直接委託処理 | P26: Ｂ | Q26: 直接処理委託量 | AL26: ⑩ | AM26: 直接及び自ら中間処理した後の処理委託量 | AS26: ⑬ | AT26: ⑩のうち認定熱回収業者への処理委託量
B27: ⑦ 自ら中間処理により減量した量 | D27: 0 | G27: t | H27: =+Y21 -> 0 | J27: t | P27: =+R30+ROUND(R33,2) -> 0 | T27: ｔ | Y27: （目的別内訳） | AL27: =+AH18+P27 -> 0 | AP27: ｔ | AV27: ｔ
B28: ③＋⑨ 自ら埋立処分又は海洋投入処分を行った量 | D28: 0 | G28: t | H28: =+P15+AH12 -> 0 | J28: t | Y28: 再生利用前委託量 | AF28: ｔ | AS28: =+IF(AS27=0,"",IF(AL27<(AS24+AS27+AS31),"エラー !：⑩の内数である（⑫+⑬＋⑭）の量が⑩を超えています",""))
B29: ⑩ 全処理委託量 | D29: 0 | G29: t | H29: =+AL27 -> 0 | J29: t | R29: B-1 | S29: 中間処理委託量 | Y29: 最終処分前委託量 | AF29: ｔ | AL29: ⑪ | AM29: ⑩のうち優良認定処理業者への処理委託量 | AS29: ⑭ | AT29: ⑩のうち認定熱回収業者以外の熱回収を行う業者への処理委託量
B30: ⑪ 優良認定処理業者への処理委託量 | D30: 0 | G30: t | H30: =+AL30 -> 0 | J30: t | R30: =+ROUND(AA28,2)+ROUND(AA29,2)+ROUND(AA30,2) -> 0 | V30: ｔ | Y30: 下水等放流前委託量 | AF30: ｔ | AP30: ｔ
B31: ⑫ 再生利用業者への処理委託量 | D31: 0 | G31: t | H31: =+AS24 -> 0 | J31: t | AA31: 【特別管理産業廃棄物の種類 （ア～チ）】 | AL31: =+IF(AL30=0,"",IF(AL27<AL30,"エラー !：⑩の内数である⑪の量が⑩を超えています","")) | AV31: ｔ
B32: ⑬ 認定熱回収業者への処理委託量 | D32: 0 | G32: t | H32: =+AS27 -> 0 | J32: t | R32: B-2 | S32: 最終処分委託量 | AA32: ア. 特管廃油 イ. 特管廃酸 (pH2以下) ウ. 特管廃アルカリ (pH12.5以上) エ. 感染性廃棄物 | AG32: オ. 廃ＰＣＢ等 カ. ＰＣＢ汚染物 キ. ＰＣＢ処理物 ク. 指定下水汚泥 ケ. 有害鉱さい コ. 廃石綿等 | AK32: サ. 有害ばいじん チ. 廃水銀等 シ. 有害燃え殻 ス. 有害廃油 セ. 有害汚泥 ソ. 有害廃酸 タ. 有害廃アルカリ | AS32: =+IF(AS31=0,"",IF(AL27<(AS24+AS27+AS31),"エラー !：⑩の内数である（⑫+⑬＋⑭）の量が⑩を超えています",""))
B33: ⑭ 認定熱回収業者以外の熱回収を行う業者への処理委託量 | D33: 0 | G33: t | H33: =+AS31 -> 0 | J33: t | V33: ｔ
C34: =+IF(D30=0,"",IF(D29<D30,"エラー !：上の表は、⑩の内数である⑪の量が⑩を超えています",""))
C35: =+IF(D31=0,"",IF(D29<D31,"エラー !：上の表は、⑩の内数である⑫の量が⑩を超えています",""))
C36: =+IF(D32=0,"",IF(D29<D32,"エラー !：上の表は、⑩の内数である⑬の量が⑩を超えています",""))
C37: =+IF(D33=0,"",IF(D29<D33,"エラー !：上の表は、⑩の内数である⑭の量が⑩を超えています",""))

Sheet ｽ.有害廃油
S1: ↓ | T1: 注意：本年度の目標量のみでフロー図の実績データがない場合にも、本年度目標データを該当欄に入力してください
B2: 特別管理産業廃棄物処理計画実施状況報告書
AP3: ５－２ | AS3: 法定 | AU3: 自主
AS4: =+表紙!N28 -> ○ | AU4: =+表紙!O28
B5: 別紙処理フロー | Z5: 事業場名称 | AE5: ： | AF5: =+表紙!F47 -> 日清オイリオグループ株式会社 横浜磯子事業場
B6: 令和７年度に発生した特別管理産業廃棄物ごとの量と処理計画の実施結果
B7: フローに記載した特別管理産業廃棄物の種類 | D7: ス. 有害廃油
B8: ※ | C8: 本用紙は廃棄物の種類ごとに1枚の記載となります。異なる廃棄物の処理フローは別シートに記載してください。 | AH8: ⑧ | AI8: 自ら中間処理した後再生利用した量
B9: （単位：t/年） | F9: 有償物量 | AE9: ａ残さ物の自己処理 | AN9: ｔ
C11: 不要物等発生量 | F11: ① | G11: 当該事業場における排出量 | M11: Ａ 自己処理 | P11: ② | Q11: 自ら直接再生利用した量 | AH11: ⑨ | AI11: 自ら中間処理した後自ら埋立処分又は海洋投入処分した量
F12: =+ROUND(P12,2)+ROUND(P15,2)+ROUND(P18,2)+ROUND(P24,2)+P27-ROUND(F15,2) -> 0 | I12: ｔ | T12: ｔ | AN12: ｔ
F14: ※１ | G14: 自社の他事業場からの搬入量 | P14: ③ | Q14: 自ら直接埋立処分した量 | AH14: ※3 | AI14: 自ら中間処理した後自社の他事業場での処理量
I15: ｔ | T15: ｔ | AN15: ｔ | AS15: （目的別内訳）
P16: =+IF(Y18=0,"",IF(Y18-P18=Y18,"エラー！：⑥残さ物量があるのに、④自ら中間処理した量がゼロになっています","")) | AS16: 再生利用前委託量 | AV16: ｔ
P17: ④ | Q17: 自ら中間処理した量 | Y17: ⑥ | Z17: 自ら中間処理した後の残さ量 | AE17: ｂ残さ物の委託処理 | AH17: ｂ | AI17: 自ら中間処理した後の処理委託量 | AO17: ｂ-1 中間処理委託量 | AS17: 最終処分前 委託量 | AV17: ｔ
T18: ｔ | Y18: =+ROUND(AH9,2)+ROUND(AH12,2)+ROUND(AH15,2)+AH18 -> 0 | AB18: ｔ | AH18: =+ROUND(AO18,2)+ROUND(AO21,2) -> 0 | AL18: ｔ | AO18: =+ROUND(AU16,2)+ROUND(AU17,2)+ROUND(AU18,2) -> 0 | AP18: ｔ | AS18: 下水等放流前委託量 | AV18: ｔ | AW18: （第2面）
P20: ⑤ | Q20: ④のうち熱回収を行った量 | Y20: ⑦ | Z20: 自ら中間処理により減量した量 | AO20: ｂ-2 最終処分委託量
B21: 注）右上のフローには、令和７年度の実績値を記載してください。下表の中央列には、令和７年度目標値を記載してください。下表の右列は、右上フローに記載された令和７年度実績値が自動的に計算されます。 | T21: ｔ | Y21: =+P18-Y18 -> 0 | AB21: ｔ | AP21: ｔ
P22: =+IF(P21=0,"",IF(P18<P21,"エラー !：④の内数である⑤の量が④を超えています",""))
B23: 項 目 | D23: 令和７年度 目標値 | H23: 令和７年度 実績値 | P23: ※２ | Q23: 自社の他事業場での処理量 | AS23: ⑫ | AT23: ⑩のうち再生利用業者への処理委託量
B24: ① 排出量 | D24: 0.01 | G24: t | H24: =+F12 -> 0 | J24: t | T24: ｔ | AS24: =+ROUND(AU16,2)+ROUND(AA28,2) -> 0 | AV24: ｔ
B25: ②＋⑧ 自ら再生利用を行った量 | D25: 0 | G25: t | H25: =+P12+AH9 -> 0 | J25: t
B26: ⑤ 自ら熱回収を行った量 | D26: 0 | G26: t | H26: =+P21 -> 0 | J26: t | M26: Ｂ 直接委託処理 | P26: Ｂ | Q26: 直接処理委託量 | AL26: ⑩ | AM26: 直接及び自ら中間処理した後の処理委託量 | AS26: ⑬ | AT26: ⑩のうち認定熱回収業者への処理委託量
B27: ⑦ 自ら中間処理により減量した量 | D27: 0 | G27: t | H27: =+Y21 -> 0 | J27: t | P27: =+R30+ROUND(R33,2) -> 0 | T27: ｔ | Y27: （目的別内訳） | AL27: =+AH18+P27 -> 0 | AP27: ｔ | AV27: ｔ
B28: ③＋⑨ 自ら埋立処分又は海洋投入処分を行った量 | D28: 0 | G28: t | H28: =+P15+AH12 -> 0 | J28: t | Y28: 再生利用前委託量 | AF28: ｔ | AS28: =+IF(AS27=0,"",IF(AL27<(AS24+AS27+AS31),"エラー !：⑩の内数である（⑫+⑬＋⑭）の量が⑩を超えています",""))
B29: ⑩ 全処理委託量 | D29: 0.01 | G29: t | H29: =+AL27 -> 0 | J29: t | R29: B-1 | S29: 中間処理委託量 | Y29: 最終処分前委託量 | AF29: ｔ | AL29: ⑪ | AM29: ⑩のうち優良認定処理業者への処理委託量 | AS29: ⑭ | AT29: ⑩のうち認定熱回収業者以外の熱回収を行う業者への処理委託量
B30: ⑪ 優良認定処理業者への処理委託量 | D30: 0 | G30: t | H30: =+AL30 -> 0 | J30: t | R30: =+ROUND(AA28,2)+ROUND(AA29,2)+ROUND(AA30,2) -> 0 | V30: ｔ | Y30: 下水等放流前委託量 | AF30: ｔ | AP30: ｔ
B31: ⑫ 再生利用業者への処理委託量 | D31: 0.01 | G31: t | H31: =+AS24 -> 0 | J31: t | AA31: 【特別管理産業廃棄物の種類 （ア～チ）】 | AL31: =+IF(AL30=0,"",IF(AL27<AL30,"エラー !：⑩の内数である⑪の量が⑩を超えています","")) | AV31: ｔ
B32: ⑬ 認定熱回収業者への処理委託量 | D32: 0 | G32: t | H32: =+AS27 -> 0 | J32: t | R32: B-2 | S32: 最終処分委託量 | AA32: ア. 特管廃油 イ. 特管廃酸 (pH2以下) ウ. 特管廃アルカリ (pH12.5以上) エ. 感染性廃棄物 | AG32: オ. 廃ＰＣＢ等 カ. ＰＣＢ汚染物 キ. ＰＣＢ処理物 ク. 指定下水汚泥 ケ. 有害鉱さい コ. 廃石綿等 | AK32: サ. 有害ばいじん チ. 廃水銀等 シ. 有害燃え殻 ス. 有害廃油 セ. 有害汚泥 ソ. 有害廃酸 タ. 有害廃アルカリ | AS32: =+IF(AS31=0,"",IF(AL27<(AS24+AS27+AS31),"エラー !：⑩の内数である（⑫+⑬＋⑭）の量が⑩を超えています",""))
B33: ⑭ 認定熱回収業者以外の熱回収を行う業者への処理委託量 | D33: 0 | G33: t | H33: =+AS31 -> 0 | J33: t | V33: ｔ
C34: =+IF(D30=0,"",IF(D29<D30,"エラー !：上の表は、⑩の内数である⑪の量が⑩を超えています",""))
C35: =+IF(D31=0,"",IF(D29<D31,"エラー !：上の表は、⑩の内数である⑫の量が⑩を超えています",""))
C36: =+IF(D32=0,"",IF(D29<D32,"エラー !：上の表は、⑩の内数である⑬の量が⑩を超えています",""))
C37: =+IF(D33=0,"",IF(D29<D33,"エラー !：上の表は、⑩の内数である⑭の量が⑩を超えています",""))

Sheet ｾ.有害汚泥
S1: ↓ | T1: 注意：本年度の目標量のみでフロー図の実績データがない場合にも、本年度目標データを該当欄に入力してください
B2: 特別管理産業廃棄物処理計画実施状況報告書
AP3: ５－２ | AS3: 法定 | AU3: 自主
AS4: =+表紙!N28 -> ○ | AU4: =+表紙!O28
B5: 別紙処理フロー | Z5: 事業場名称 | AE5: ： | AF5: =+表紙!F47 -> 日清オイリオグループ株式会社 横浜磯子事業場
B6: 令和７年度に発生した特別管理産業廃棄物ごとの量と処理計画の実施結果
B7: フローに記載した特別管理産業廃棄物の種類 | D7: セ. 有害汚泥
B8: ※ | C8: 本用紙は廃棄物の種類ごとに1枚の記載となります。異なる廃棄物の処理フローは別シートに記載してください。 | AH8: ⑧ | AI8: 自ら中間処理した後再生利用した量
B9: （単位：t/年） | F9: 有償物量 | AE9: ａ残さ物の自己処理 | AN9: ｔ
C11: 不要物等発生量 | F11: ① | G11: 当該事業場における排出量 | M11: Ａ 自己処理 | P11: ② | Q11: 自ら直接再生利用した量 | AH11: ⑨ | AI11: 自ら中間処理した後自ら埋立処分又は海洋投入処分した量
F12: =+ROUND(P12,2)+ROUND(P15,2)+ROUND(P18,2)+ROUND(P24,2)+P27-ROUND(F15,2) -> 0 | I12: ｔ | T12: ｔ | AN12: ｔ
F14: ※１ | G14: 自社の他事業場からの搬入量 | P14: ③ | Q14: 自ら直接埋立処分した量 | AH14: ※3 | AI14: 自ら中間処理した後自社の他事業場での処理量
I15: ｔ | T15: ｔ | AN15: ｔ | AS15: （目的別内訳）
P16: =+IF(Y18=0,"",IF(Y18-P18=Y18,"エラー！：⑥残さ物量があるのに、④自ら中間処理した量がゼロになっています","")) | AS16: 再生利用前委託量 | AV16: ｔ
P17: ④ | Q17: 自ら中間処理した量 | Y17: ⑥ | Z17: 自ら中間処理した後の残さ量 | AE17: ｂ残さ物の委託処理 | AH17: ｂ | AI17: 自ら中間処理した後の処理委託量 | AO17: ｂ-1 中間処理委託量 | AS17: 最終処分前 委託量 | AV17: ｔ
T18: ｔ | Y18: =+ROUND(AH9,2)+ROUND(AH12,2)+ROUND(AH15,2)+AH18 -> 0 | AB18: ｔ | AH18: =+ROUND(AO18,2)+ROUND(AO21,2) -> 0 | AL18: ｔ | AO18: =+ROUND(AU16,2)+ROUND(AU17,2)+ROUND(AU18,2) -> 0 | AP18: ｔ | AS18: 下水等放流前委託量 | AV18: ｔ | AW18: （第2面）
P20: ⑤ | Q20: ④のうち熱回収を行った量 | Y20: ⑦ | Z20: 自ら中間処理により減量した量 | AO20: ｂ-2 最終処分委託量
B21: 注）右上のフローには、令和７年度の実績値を記載してください。下表の中央列には、令和７年度目標値を記載してください。下表の右列は、右上フローに記載された令和７年度実績値が自動的に計算されます。 | T21: ｔ | Y21: =+P18-Y18 -> 0 | AB21: ｔ | AP21: ｔ
P22: =+IF(P21=0,"",IF(P18<P21,"エラー !：④の内数である⑤の量が④を超えています",""))
B23: 項 目 | D23: 令和７年度 目標値 | H23: 令和７年度 実績値 | P23: ※２ | Q23: 自社の他事業場での処理量 | AS23: ⑫ | AT23: ⑩のうち再生利用業者への処理委託量
B24: ① 排出量 | D24: 1 | G24: t | H24: =+F12 -> 0 | J24: t | T24: ｔ | AS24: =+ROUND(AU16,2)+ROUND(AA28,2) -> 0 | AV24: ｔ
B25: ②＋⑧ 自ら再生利用を行った量 | D25: 0 | G25: t | H25: =+P12+AH9 -> 0 | J25: t
B26: ⑤ 自ら熱回収を行った量 | D26: 0 | G26: t | H26: =+P21 -> 0 | J26: t | M26: Ｂ 直接委託処理 | P26: Ｂ | Q26: 直接処理委託量 | AL26: ⑩ | AM26: 直接及び自ら中間処理した後の処理委託量 | AS26: ⑬ | AT26: ⑩のうち認定熱回収業者への処理委託量
B27: ⑦ 自ら中間処理により減量した量 | D27: 0 | G27: t | H27: =+Y21 -> 0 | J27: t | P27: =+R30+ROUND(R33,2) -> 0 | T27: ｔ | Y27: （目的別内訳） | AL27: =+AH18+P27 -> 0 | AP27: ｔ | AV27: ｔ
B28: ③＋⑨ 自ら埋立処分又は海洋投入処分を行った量 | D28: 0 | G28: t | H28: =+P15+AH12 -> 0 | J28: t | Y28: 再生利用前委託量 | AF28: ｔ | AS28: =+IF(AS27=0,"",IF(AL27<(AS24+AS27+AS31),"エラー !：⑩の内数である（⑫+⑬＋⑭）の量が⑩を超えています",""))
B29: ⑩ 全処理委託量 | D29: 1 | G29: t | H29: =+AL27 -> 0 | J29: t | R29: B-1 | S29: 中間処理委託量 | Y29: 最終処分前委託量 | AF29: ｔ | AL29: ⑪ | AM29: ⑩のうち優良認定処理業者への処理委託量 | AS29: ⑭ | AT29: ⑩のうち認定熱回収業者以外の熱回収を行う業者への処理委託量
B30: ⑪ 優良認定処理業者への処理委託量 | D30: 0 | G30: t | H30: =+AL30 -> 0 | J30: t | R30: =+ROUND(AA28,2)+ROUND(AA29,2)+ROUND(AA30,2) -> 0 | V30: ｔ | Y30: 下水等放流前委託量 | AF30: ｔ | AP30: ｔ
B31: ⑫ 再生利用業者への処理委託量 | D31: 1 | G31: t | H31: =+AS24 -> 0 | J31: t | AA31: 【特別管理産業廃棄物の種類 （ア～チ）】 | AL31: =+IF(AL30=0,"",IF(AL27<AL30,"エラー !：⑩の内数である⑪の量が⑩を超えています","")) | AV31: ｔ
B32: ⑬ 認定熱回収業者への処理委託量 | D32: 0 | G32: t | H32: =+AS27 -> 0 | J32: t | R32: B-2 | S32: 最終処分委託量 | AA32: ア. 特管廃油 イ. 特管廃酸 (pH2以下) ウ. 特管廃アルカリ (pH12.5以上) エ. 感染性廃棄物 | AG32: オ. 廃ＰＣＢ等 カ. ＰＣＢ汚染物 キ. ＰＣＢ処理物 ク. 指定下水汚泥 ケ. 有害鉱さい コ. 廃石綿等 | AK32: サ. 有害ばいじん チ. 廃水銀等 シ. 有害燃え殻 ス. 有害廃油 セ. 有害汚泥 ソ. 有害廃酸 タ. 有害廃アルカリ | AS32: =+IF(AS31=0,"",IF(AL27<(AS24+AS27+AS31),"エラー !：⑩の内数である（⑫+⑬＋⑭）の量が⑩を超えています",""))
B33: ⑭ 認定熱回収業者以外の熱回収を行う業者への処理委託量 | D33: 0 | G33: t | H33: =+AS31 -> 0 | J33: t | V33: ｔ
C34: =+IF(D30=0,"",IF(D29<D30,"エラー !：上の表は、⑩の内数である⑪の量が⑩を超えています",""))
C35: =+IF(D31=0,"",IF(D29<D31,"エラー !：上の表は、⑩の内数である⑫の量が⑩を超えています",""))
C36: =+IF(D32=0,"",IF(D29<D32,"エラー !：上の表は、⑩の内数である⑬の量が⑩を超えています",""))
C37: =+IF(D33=0,"",IF(D29<D33,"エラー !：上の表は、⑩の内数である⑭の量が⑩を超えています",""))

Sheet ｿ.有害廃酸
S1: ↓ | T1: 注意：本年度の目標量のみでフロー図の実績データがない場合にも、本年度目標データを該当欄に入力してください
B2: 特別管理産業廃棄物処理計画実施状況報告書
AP3: ５－２ | AS3: 法定 | AU3: 自主
AS4: =+表紙!N28 -> ○ | AU4: =+表紙!O28
B5: 別紙処理フロー | Z5: 事業場名称 | AE5: ： | AF5: =+表紙!F47 -> 日清オイリオグループ株式会社 横浜磯子事業場
B6: 令和７年度に発生した特別管理産業廃棄物ごとの量と処理計画の実施結果
B7: フローに記載した特別管理産業廃棄物の種類 | D7: ソ. 有害廃酸
B8: ※ | C8: 本用紙は廃棄物の種類ごとに1枚の記載となります。異なる廃棄物の処理フローは別シートに記載してください。 | AH8: ⑧ | AI8: 自ら中間処理した後再生利用した量
B9: （単位：t/年） | F9: 有償物量 | AE9: ａ残さ物の自己処理 | AN9: ｔ
C11: 不要物等発生量 | F11: ① | G11: 当該事業場における排出量 | M11: Ａ 自己処理 | P11: ② | Q11: 自ら直接再生利用した量 | AH11: ⑨ | AI11: 自ら中間処理した後自ら埋立処分又は海洋投入処分した量
F12: =+ROUND(P12,2)+ROUND(P15,2)+ROUND(P18,2)+ROUND(P24,2)+P27-ROUND(F15,2) -> 0 | I12: ｔ | T12: ｔ | AN12: ｔ
F14: ※１ | G14: 自社の他事業場からの搬入量 | P14: ③ | Q14: 自ら直接埋立処分した量 | AH14: ※3 | AI14: 自ら中間処理した後自社の他事業場での処理量
I15: ｔ | T15: ｔ | AN15: ｔ | AS15: （目的別内訳）
P16: =+IF(Y18=0,"",IF(Y18-P18=Y18,"エラー！：⑥残さ物量があるのに、④自ら中間処理した量がゼロになっています","")) | AS16: 再生利用前委託量 | AV16: ｔ
P17: ④ | Q17: 自ら中間処理した量 | Y17: ⑥ | Z17: 自ら中間処理した後の残さ量 | AE17: ｂ残さ物の委託処理 | AH17: ｂ | AI17: 自ら中間処理した後の処理委託量 | AO17: ｂ-1 中間処理委託量 | AS17: 最終処分前 委託量 | AV17: ｔ
T18: ｔ | Y18: =+ROUND(AH9,2)+ROUND(AH12,2)+ROUND(AH15,2)+AH18 -> 0 | AB18: ｔ | AH18: =+ROUND(AO18,2)+ROUND(AO21,2) -> 0 | AL18: ｔ | AO18: =+ROUND(AU16,2)+ROUND(AU17,2)+ROUND(AU18,2) -> 0 | AP18: ｔ | AS18: 下水等放流前委託量 | AV18: ｔ | AW18: （第2面）
P20: ⑤ | Q20: ④のうち熱回収を行った量 | Y20: ⑦ | Z20: 自ら中間処理により減量した量 | AO20: ｂ-2 最終処分委託量
B21: 注）右上のフローには、令和７年度の実績値を記載してください。下表の中央列には、令和７年度目標値を記載してください。下表の右列は、右上フローに記載された令和７年度実績値が自動的に計算されます。 | T21: ｔ | Y21: =+P18-Y18 -> 0 | AB21: ｔ | AP21: ｔ
P22: =+IF(P21=0,"",IF(P18<P21,"エラー !：④の内数である⑤の量が④を超えています",""))
B23: 項 目 | D23: 令和７年度 目標値 | H23: 令和７年度 実績値 | P23: ※２ | Q23: 自社の他事業場での処理量 | AS23: ⑫ | AT23: ⑩のうち再生利用業者への処理委託量
B24: ① 排出量 | D24: 0 | G24: t | H24: =+F12 -> 0 | J24: t | T24: ｔ | AS24: =+ROUND(AU16,2)+ROUND(AA28,2) -> 0 | AV24: ｔ
B25: ②＋⑧ 自ら再生利用を行った量 | D25: 0 | G25: t | H25: =+P12+AH9 -> 0 | J25: t
B26: ⑤ 自ら熱回収を行った量 | D26: 0 | G26: t | H26: =+P21 -> 0 | J26: t | M26: Ｂ 直接委託処理 | P26: Ｂ | Q26: 直接処理委託量 | AL26: ⑩ | AM26: 直接及び自ら中間処理した後の処理委託量 | AS26: ⑬ | AT26: ⑩のうち認定熱回収業者への処理委託量
B27: ⑦ 自ら中間処理により減量した量 | D27: 0 | G27: t | H27: =+Y21 -> 0 | J27: t | P27: =+R30+ROUND(R33,2) -> 0 | T27: ｔ | Y27: （目的別内訳） | AL27: =+AH18+P27 -> 0 | AP27: ｔ | AV27: ｔ
B28: ③＋⑨ 自ら埋立処分又は海洋投入処分を行った量 | D28: 0 | G28: t | H28: =+P15+AH12 -> 0 | J28: t | Y28: 再生利用前委託量 | AF28: ｔ | AS28: =+IF(AS27=0,"",IF(AL27<(AS24+AS27+AS31),"エラー !：⑩の内数である（⑫+⑬＋⑭）の量が⑩を超えています",""))
B29: ⑩ 全処理委託量 | D29: 0 | G29: t | H29: =+AL27 -> 0 | J29: t | R29: B-1 | S29: 中間処理委託量 | Y29: 最終処分前委託量 | AF29: ｔ | AL29: ⑪ | AM29: ⑩のうち優良認定処理業者への処理委託量 | AS29: ⑭ | AT29: ⑩のうち認定熱回収業者以外の熱回収を行う業者への処理委託量
B30: ⑪ 優良認定処理業者への処理委託量 | D30: 0 | G30: t | H30: =+AL30 -> 0 | J30: t | R30: =+ROUND(AA28,2)+ROUND(AA29,2)+ROUND(AA30,2) -> 0 | V30: ｔ | Y30: 下水等放流前委託量 | AF30: ｔ | AP30: ｔ
B31: ⑫ 再生利用業者への処理委託量 | D31: 0 | G31: t | H31: =+AS24 -> 0 | J31: t | AA31: 【特別管理産業廃棄物の種類 （ア～チ）】 | AL31: =+IF(AL30=0,"",IF(AL27<AL30,"エラー !：⑩の内数である⑪の量が⑩を超えています","")) | AV31: ｔ
B32: ⑬ 認定熱回収業者への処理委託量 | D32: 0 | G32: t | H32: =+AS27 -> 0 | J32: t | R32: B-2 | S32: 最終処分委託量 | AA32: ア. 特管廃油 イ. 特管廃酸 (pH2以下) ウ. 特管廃アルカリ (pH12.5以上) エ. 感染性廃棄物 | AG32: オ. 廃ＰＣＢ等 カ. ＰＣＢ汚染物 キ. ＰＣＢ処理物 ク. 指定下水汚泥 ケ. 有害鉱さい コ. 廃石綿等 | AK32: サ. 有害ばいじん チ. 廃水銀等 シ. 有害燃え殻 ス. 有害廃油 セ. 有害汚泥 ソ. 有害廃酸 タ. 有害廃アルカリ | AS32: =+IF(AS31=0,"",IF(AL27<(AS24+AS27+AS31),"エラー !：⑩の内数である（⑫+⑬＋⑭）の量が⑩を超えています",""))
B33: ⑭ 認定熱回収業者以外の熱回収を行う業者への処理委託量 | D33: 0 | G33: t | H33: =+AS31 -> 0 | J33: t | V33: ｔ
C34: =+IF(D30=0,"",IF(D29<D30,"エラー !：上の表は、⑩の内数である⑪の量が⑩を超えています",""))
C35: =+IF(D31=0,"",IF(D29<D31,"エラー !：上の表は、⑩の内数である⑫の量が⑩を超えています",""))
C36: =+IF(D32=0,"",IF(D29<D32,"エラー !：上の表は、⑩の内数である⑬の量が⑩を超えています",""))
C37: =+IF(D33=0,"",IF(D29<D33,"エラー !：上の表は、⑩の内数である⑭の量が⑩を超えています",""))

Sheet ﾀ.有害廃ｱﾙｶﾘ
S1: ↓ | T1: 注意：本年度の目標量のみでフロー図の実績データがない場合にも、本年度目標データを該当欄に入力してください
B2: 特別管理産業廃棄物処理計画実施状況報告書
AP3: ５－２ | AS3: 法定 | AU3: 自主
AS4: =+表紙!N28 -> ○ | AU4: =+表紙!O28
B5: 別紙処理フロー | Z5: 事業場名称 | AE5: ： | AF5: =+表紙!F47 -> 日清オイリオグループ株式会社 横浜磯子事業場
B6: 令和７年度に発生した特別管理産業廃棄物ごとの量と処理計画の実施結果
B7: フローに記載した特別管理産業廃棄物の種類 | D7: タ. 有害廃アルカリ
B8: ※ | C8: 本用紙は廃棄物の種類ごとに1枚の記載となります。異なる廃棄物の処理フローは別シートに記載してください。 | AH8: ⑧ | AI8: 自ら中間処理した後再生利用した量
B9: （単位：t/年） | F9: 有償物量 | AE9: ａ残さ物の自己処理 | AN9: ｔ
C11: 不要物等発生量 | F11: ① | G11: 当該事業場における排出量 | M11: Ａ 自己処理 | P11: ② | Q11: 自ら直接再生利用した量 | AH11: ⑨ | AI11: 自ら中間処理した後自ら埋立処分又は海洋投入処分した量
F12: =+ROUND(P12,2)+ROUND(P15,2)+ROUND(P18,2)+ROUND(P24,2)+P27-ROUND(F15,2) -> 0 | I12: ｔ | T12: ｔ | AN12: ｔ
F14: ※１ | G14: 自社の他事業場からの搬入量 | P14: ③ | Q14: 自ら直接埋立処分した量 | AH14: ※3 | AI14: 自ら中間処理した後自社の他事業場での処理量
I15: ｔ | T15: ｔ | AN15: ｔ | AS15: （目的別内訳）
P16: =+IF(Y18=0,"",IF(Y18-P18=Y18,"エラー！：⑥残さ物量があるのに、④自ら中間処理した量がゼロになっています","")) | AS16: 再生利用前委託量 | AV16: ｔ
P17: ④ | Q17: 自ら中間処理した量 | Y17: ⑥ | Z17: 自ら中間処理した後の残さ量 | AE17: ｂ残さ物の委託処理 | AH17: ｂ | AI17: 自ら中間処理した後の処理委託量 | AO17: ｂ-1 中間処理委託量 | AS17: 最終処分前 委託量 | AV17: ｔ
T18: ｔ | Y18: =+ROUND(AH9,2)+ROUND(AH12,2)+ROUND(AH15,2)+AH18 -> 0 | AB18: ｔ | AH18: =+ROUND(AO18,2)+ROUND(AO21,2) -> 0 | AL18: ｔ | AO18: =+ROUND(AU16,2)+ROUND(AU17,2)+ROUND(AU18,2) -> 0 | AP18: ｔ | AS18: 下水等放流前委託量 | AV18: ｔ | AW18: （第2面）
P20: ⑤ | Q20: ④のうち熱回収を行った量 | Y20: ⑦ | Z20: 自ら中間処理により減量した量 | AO20: ｂ-2 最終処分委託量
B21: 注）右上のフローには、令和７年度の実績値を記載してください。下表の中央列には、令和７年度目標値を記載してください。下表の右列は、右上フローに記載された令和７年度実績値が自動的に計算されます。 | T21: ｔ | Y21: =+P18-Y18 -> 0 | AB21: ｔ | AP21: ｔ
P22: =+IF(P21=0,"",IF(P18<P21,"エラー !：④の内数である⑤の量が④を超えています",""))
B23: 項 目 | D23: 令和７年度 目標値 | H23: 令和７年度 実績値 | P23: ※２ | Q23: 自社の他事業場での処理量 | AS23: ⑫ | AT23: ⑩のうち再生利用業者への処理委託量
B24: ① 排出量 | D24: 0 | G24: t | H24: =+F12 -> 0 | J24: t | T24: ｔ | AS24: =+ROUND(AU16,2)+ROUND(AA28,2) -> 0 | AV24: ｔ
B25: ②＋⑧ 自ら再生利用を行った量 | D25: 0 | G25: t | H25: =+P12+AH9 -> 0 | J25: t
B26: ⑤ 自ら熱回収を行った量 | D26: 0 | G26: t | H26: =+P21 -> 0 | J26: t | M26: Ｂ 直接委託処理 | P26: Ｂ | Q26: 直接処理委託量 | AL26: ⑩ | AM26: 直接及び自ら中間処理した後の処理委託量 | AS26: ⑬ | AT26: ⑩のうち認定熱回収業者への処理委託量
B27: ⑦ 自ら中間処理により減量した量 | D27: 0 | G27: t | H27: =+Y21 -> 0 | J27: t | P27: =+R30+ROUND(R33,2) -> 0 | T27: ｔ | Y27: （目的別内訳） | AL27: =+AH18+P27 -> 0 | AP27: ｔ | AV27: ｔ
B28: ③＋⑨ 自ら埋立処分又は海洋投入処分を行った量 | D28: 0 | G28: t | H28: =+P15+AH12 -> 0 | J28: t | Y28: 再生利用前委託量 | AF28: ｔ | AS28: =+IF(AS27=0,"",IF(AL27<(AS24+AS27+AS31),"エラー !：⑩の内数である（⑫+⑬＋⑭）の量が⑩を超えています",""))
B29: ⑩ 全処理委託量 | D29: 0 | G29: t | H29: =+AL27 -> 0 | J29: t | R29: B-1 | S29: 中間処理委託量 | Y29: 最終処分前委託量 | AF29: ｔ | AL29: ⑪ | AM29: ⑩のうち優良認定処理業者への処理委託量 | AS29: ⑭ | AT29: ⑩のうち認定熱回収業者以外の熱回収を行う業者への処理委託量
B30: ⑪ 優良認定処理業者への処理委託量 | D30: 0 | G30: t | H30: =+AL30 -> 0 | J30: t | R30: =+ROUND(AA28,2)+ROUND(AA29,2)+ROUND(AA30,2) -> 0 | V30: ｔ | Y30: 下水等放流前委託量 | AF30: ｔ | AP30: ｔ
B31: ⑫ 再生利用業者への処理委託量 | D31: 0 | G31: t | H31: =+AS24 -> 0 | J31: t | AA31: 【特別管理産業廃棄物の種類 （ア～チ）】 | AL31: =+IF(AL30=0,"",IF(AL27<AL30,"エラー !：⑩の内数である⑪の量が⑩を超えています","")) | AV31: ｔ
B32: ⑬ 認定熱回収業者への処理委託量 | D32: 0 | G32: t | H32: =+AS27 -> 0 | J32: t | R32: B-2 | S32: 最終処分委託量 | AA32: ア. 特管廃油 イ. 特管廃酸 (pH2以下) ウ. 特管廃アルカリ (pH12.5以上) エ. 感染性廃棄物 | AG32: オ. 廃ＰＣＢ等 カ. ＰＣＢ汚染物 キ. ＰＣＢ処理物 ク. 指定下水汚泥 ケ. 有害鉱さい コ. 廃石綿等 | AK32: サ. 有害ばいじん チ. 廃水銀等 シ. 有害燃え殻 ス. 有害廃油 セ. 有害汚泥 ソ. 有害廃酸 タ. 有害廃アルカリ | AS32: =+IF(AS31=0,"",IF(AL27<(AS24+AS27+AS31),"エラー !：⑩の内数である（⑫+⑬＋⑭）の量が⑩を超えています",""))
B33: ⑭ 認定熱回収業者以外の熱回収を行う業者への処理委託量 | D33: 0 | G33: t | H33: =+AS31 -> 0 | J33: t | V33: ｔ
C34: =+IF(D30=0,"",IF(D29<D30,"エラー !：上の表は、⑩の内数である⑪の量が⑩を超えています",""))
C35: =+IF(D31=0,"",IF(D29<D31,"エラー !：上の表は、⑩の内数である⑫の量が⑩を超えています",""))
C36: =+IF(D32=0,"",IF(D29<D32,"エラー !：上の表は、⑩の内数である⑬の量が⑩を超えています",""))
C37: =+IF(D33=0,"",IF(D29<D33,"エラー !：上の表は、⑩の内数である⑭の量が⑩を超えています",""))

Sheet ﾁ.廃水銀等
S1: ↓ | T1: 注意：本年度の目標量のみでフロー図の実績データがない場合にも、本年度目標データを該当欄に入力してください
B2: 特別管理産業廃棄物処理計画実施状況報告書
AP3: ５－２ | AS3: 法定 | AU3: 自主
AS4: =+表紙!N28 -> ○ | AU4: =+表紙!O28
B5: 別紙処理フロー | Z5: 事業場名称 | AE5: ： | AF5: =+表紙!F47 -> 日清オイリオグループ株式会社 横浜磯子事業場
B6: 令和７年度に発生した特別管理産業廃棄物ごとの量と処理計画の実施結果
B7: フローに記載した特別管理産業廃棄物の種類 | D7: チ. 廃水銀等
B8: ※ | C8: 本用紙は廃棄物の種類ごとに1枚の記載となります。異なる廃棄物の処理フローは別シートに記載してください。 | AH8: ⑧ | AI8: 自ら中間処理した後再生利用した量
B9: （単位：t/年） | F9: 有償物量 | AE9: ａ残さ物の自己処理 | AN9: ｔ
C11: 不要物等発生量 | F11: ① | G11: 当該事業場における排出量 | M11: Ａ 自己処理 | P11: ② | Q11: 自ら直接再生利用した量 | AH11: ⑨ | AI11: 自ら中間処理した後自ら埋立処分又は海洋投入処分した量
F12: =+ROUND(P12,2)+ROUND(P15,2)+ROUND(P18,2)+ROUND(P24,2)+P27-ROUND(F15,2) -> 0.01 | I12: ｔ | T12: ｔ | AN12: ｔ
F14: ※１ | G14: 自社の他事業場からの搬入量 | P14: ③ | Q14: 自ら直接埋立処分した量 | AH14: ※3 | AI14: 自ら中間処理した後自社の他事業場での処理量
I15: ｔ | T15: ｔ | AN15: ｔ | AS15: （目的別内訳）
P16: =+IF(Y18=0,"",IF(Y18-P18=Y18,"エラー！：⑥残さ物量があるのに、④自ら中間処理した量がゼロになっています","")) | AS16: 再生利用前委託量 | AV16: ｔ
P17: ④ | Q17: 自ら中間処理した量 | Y17: ⑥ | Z17: 自ら中間処理した後の残さ量 | AE17: ｂ残さ物の委託処理 | AH17: ｂ | AI17: 自ら中間処理した後の処理委託量 | AO17: ｂ-1 中間処理委託量 | AS17: 最終処分前 委託量 | AV17: ｔ
T18: ｔ | Y18: =+ROUND(AH9,2)+ROUND(AH12,2)+ROUND(AH15,2)+AH18 -> 0 | AB18: ｔ | AH18: =+ROUND(AO18,2)+ROUND(AO21,2) -> 0 | AL18: ｔ | AO18: =+ROUND(AU16,2)+ROUND(AU17,2)+ROUND(AU18,2) -> 0 | AP18: ｔ | AS18: 下水等放流前委託量 | AV18: ｔ | AW18: （第2面）
P20: ⑤ | Q20: ④のうち熱回収を行った量 | Y20: ⑦ | Z20: 自ら中間処理により減量した量 | AO20: ｂ-2 最終処分委託量
B21: 注）右上のフローには、令和７年度の実績値を記載してください。下表の中央列には、令和７年度目標値を記載してください。下表の右列は、右上フローに記載された令和７年度実績値が自動的に計算されます。 | T21: ｔ | Y21: =+P18-Y18 -> 0 | AB21: ｔ | AP21: ｔ
P22: =+IF(P21=0,"",IF(P18<P21,"エラー !：④の内数である⑤の量が④を超えています",""))
B23: 項 目 | D23: 令和７年度 目標値 | H23: 令和７年度 実績値 | P23: ※２ | Q23: 自社の他事業場での処理量 | AS23: ⑫ | AT23: ⑩のうち再生利用業者への処理委託量
B24: ① 排出量 | D24: 0 | G24: t | H24: =+F12 -> 0.01 | J24: t | T24: ｔ | AS24: =+ROUND(AU16,2)+ROUND(AA28,2) -> 0.01 | AV24: ｔ
B25: ②＋⑧ 自ら再生利用を行った量 | D25: 0 | G25: t | H25: =+P12+AH9 -> 0 | J25: t
B26: ⑤ 自ら熱回収を行った量 | D26: 0 | G26: t | H26: =+P21 -> 0 | J26: t | M26: Ｂ 直接委託処理 | P26: Ｂ | Q26: 直接処理委託量 | AL26: ⑩ | AM26: 直接及び自ら中間処理した後の処理委託量 | AS26: ⑬ | AT26: ⑩のうち認定熱回収業者への処理委託量
B27: ⑦ 自ら中間処理により減量した量 | D27: 0 | G27: t | H27: =+Y21 -> 0 | J27: t | P27: =+R30+ROUND(R33,2) -> 0.01 | T27: ｔ | Y27: （目的別内訳） | AL27: =+AH18+P27 -> 0.01 | AP27: ｔ | AV27: ｔ
B28: ③＋⑨ 自ら埋立処分又は海洋投入処分を行った量 | D28: 0 | G28: t | H28: =+P15+AH12 -> 0 | J28: t | Y28: 再生利用前委託量 | AA28: 0.01 | AF28: ｔ | AS28: =+IF(AS27=0,"",IF(AL27<(AS24+AS27+AS31),"エラー !：⑩の内数である（⑫+⑬＋⑭）の量が⑩を超えています",""))
B29: ⑩ 全処理委託量 | D29: 0 | G29: t | H29: =+AL27 -> 0.01 | J29: t | R29: B-1 | S29: 中間処理委託量 | Y29: 最終処分前委託量 | AF29: ｔ | AL29: ⑪ | AM29: ⑩のうち優良認定処理業者への処理委託量 | AS29: ⑭ | AT29: ⑩のうち認定熱回収業者以外の熱回収を行う業者への処理委託量
B30: ⑪ 優良認定処理業者への処理委託量 | D30: 0 | G30: t | H30: =+AL30 -> 0 | J30: t | R30: =+ROUND(AA28,2)+ROUND(AA29,2)+ROUND(AA30,2) -> 0.01 | V30: ｔ | Y30: 下水等放流前委託量 | AF30: ｔ | AP30: ｔ
B31: ⑫ 再生利用業者への処理委託量 | D31: 0 | G31: t | H31: =+AS24 -> 0.01 | J31: t | AA31: 【特別管理産業廃棄物の種類 （ア～チ）】 | AL31: =+IF(AL30=0,"",IF(AL27<AL30,"エラー !：⑩の内数である⑪の量が⑩を超えています","")) | AV31: ｔ
B32: ⑬ 認定熱回収業者への処理委託量 | D32: 0 | G32: t | H32: =+AS27 -> 0 | J32: t | R32: B-2 | S32: 最終処分委託量 | AA32: ア. 特管廃油 イ. 特管廃酸 (pH2以下) ウ. 特管廃アルカリ (pH12.5以上) エ. 感染性廃棄物 | AG32: オ. 廃ＰＣＢ等 カ. ＰＣＢ汚染物 キ. ＰＣＢ処理物 ク. 指定下水汚泥 ケ. 有害鉱さい コ. 廃石綿等 | AK32: サ. 有害ばいじん チ. 廃水銀等 シ. 有害燃え殻 ス. 有害廃油 セ. 有害汚泥 ソ. 有害廃酸 タ. 有害廃アルカリ | AS32: =+IF(AS31=0,"",IF(AL27<(AS24+AS27+AS31),"エラー !：⑩の内数である（⑫+⑬＋⑭）の量が⑩を超えています",""))
B33: ⑭ 認定熱回収業者以外の熱回収を行う業者への処理委託量 | D33: 0 | G33: t | H33: =+AS31 -> 0 | J33: t | V33: ｔ
C34: =+IF(D30=0,"",IF(D29<D30,"エラー !：上の表は、⑩の内数である⑪の量が⑩を超えています",""))
C35: =+IF(D31=0,"",IF(D29<D31,"エラー !：上の表は、⑩の内数である⑫の量が⑩を超えています",""))
C36: =+IF(D32=0,"",IF(D29<D32,"エラー !：上の表は、⑩の内数である⑬の量が⑩を超えています",""))
C37: =+IF(D33=0,"",IF(D29<D33,"エラー !：上の表は、⑩の内数である⑭の量が⑩を超えています",""))

Sheet 別紙
C1: このページは、印刷用のページですので、一切入力できません。入力は各廃棄物のフローシート「ア.特管廃油～チ.廃水銀等」にしてください。
E2: は訂正が必要ですので、該当の処理フローを訂正してください。
B3: 特別管理産業廃棄物処理計画実施状況報告書
V4: ５－１ | W4: 法定 | X4: 自主
W5: =+表紙!N28 -> ○ | X5: =+表紙!O28
B6: 別紙一括表 | O6: 事業場名称： | P6: =+表紙!F47 -> 日清オイリオグループ株式会社 横浜磯子事業場 | X6: （単位：トン）
G7: ア | H7: イ | I7: ウ | J7: エ | K7: オ | L7: カ | M7: キ | N7: ク | O7: ケ | P7: コ | Q7: サ | R7: シ | S7: ス | T7: セ | U7: ソ | V7: タ | W7: チ
G8: 特管廃油 | H8: 特管廃酸 (pH2以下) | I8: 特管廃ｱﾙｶﾘ (pH12.5以上) | J8: 感染性 廃棄物 | K8: 廃ＰＣＢ等 | L8: ＰＣＢ汚染物 | M8: ＰＣＢ処理物 | N8: 指定 下水汚泥 | O8: 有害鉱さい | P8: 廃石綿等 | Q8: 有害ばいじん | R8: 有害燃え殻 | S8: 有害廃油 | T8: 有害汚泥 | U8: 有害廃酸 | V8: 有害 廃アルカリ | W8: 廃水銀等 | X8: 合計
C9: ① 排出量 | G9: =IF(OR(ｱ.特管廃油!D24>0,ｱ.特管廃油!D24<0),ｱ.特管廃油!D24,IF(G$19>0,"0",0)) -> 71.09 | H9: =IF(OR(ｲ.特管廃酸!D24>0,ｲ.特管廃酸!D24<0),ｲ.特管廃酸!D24,IF(H$19>0,"0",0)) -> 0 | I9: =IF(OR(ｳ.特管廃ｱﾙｶﾘ!D24>0,ｳ.特管廃ｱﾙｶﾘ!D24<0),ｳ.特管廃ｱﾙｶﾘ!D24,IF(I$19>0,"0",0)) -> 0 | J9: =IF(OR(ｴ.感染性廃棄物!$D24>0,ｴ.感染性廃棄物!$D24<0),ｴ.感染性廃棄物!D24,IF(J$19>0,"0",0)) -> 16.51 | K9: =IF(OR(ｵ.廃PCB等!$D24>0,ｵ.廃PCB等!$D24<0),ｵ.廃PCB等!D24,IF(K$19>0,"0",0)) -> 0 | L9: =IF(OR(ｶ.PCB汚染物!D24>0,ｶ.PCB汚染物!D24<0),ｶ.PCB汚染物!D24,IF(L$19>0,"0",0)) -> 0 | M9: =IF(OR(ｷ.PCB処理物!D24>0,ｷ.PCB処理物!D24<0),ｷ.PCB処理物!D24,IF(M$19>0,"0",0)) -> 0 | N9: =IF(OR(ｸ.指定下水汚泥!D24>0,ｸ.指定下水汚泥!D24<0),ｸ.指定下水汚泥!D24,IF(N$19>0,"0",0)) -> 0 | O9: =IF(OR(ｹ.有害鉱さい!D24>0,ｹ.有害鉱さい!D24<0),ｹ.有害鉱さい!D24,IF(O$19>0,"0",0)) -> 0 | P9: =IF(OR(ｺ.廃石綿等!D24>0,ｺ.廃石綿等!D24<0),ｺ.廃石綿等!D24,IF(P$19>0,"0",0)) -> 0 | Q9: =IF(OR(ｻ.有害ばいじん!D24>0,ｻ.有害ばいじん!D24<0),ｻ.有害ばいじん!D24,IF(Q$19>0,"0",0)) -> 0 | R9: =IF(OR(ｼ.有害燃え殻!D24>0,ｼ.有害燃え殻!D24<0),ｼ.有害燃え殻!D24,IF(R$19>0,"0",0)) -> 0 | S9: =IF(OR(ｽ.有害廃油!D24>0,ｽ.有害廃油!D24<0),ｽ.有害廃油!D24,IF(S$19>0,"0",0)) -> 0.01 | T9: =IF(OR(ｾ.有害汚泥!D24>0,ｾ.有害汚泥!D24<0),ｾ.有害汚泥!D24,IF(T$19>0,"0",0)) -> 1 | U9: =IF(OR(ｿ.有害廃酸!D24>0,ｿ.有害廃酸!D24<0),ｿ.有害廃酸!D24,IF(U$19>0,"0",0)) -> 0 | V9: =IF(OR(ﾀ.有害廃ｱﾙｶﾘ!D24>0,ﾀ.有害廃ｱﾙｶﾘ!D24<0),ﾀ.有害廃ｱﾙｶﾘ!D24,IF(V$19>0,"0",0)) -> 0 | W9: =IF(OR(ﾁ.廃水銀等!D24>0,ﾁ.廃水銀等!D24<0),ﾁ.廃水銀等!D24,IF(W$19>0,"0",0)) -> 0 | X9: =IF(SUM(G9:W9)>0,SUM(G9:W9),IF(X$19>0,"0",0)) -> 88.61
B10: 令 | C10: ②＋⑧ 自ら再生利用を行う量 | G10: =IF(OR(ｱ.特管廃油!D25>0,ｱ.特管廃油!D25<0),ｱ.特管廃油!D25,IF(G$19>0,"0",0)) -> 0 | H10: =IF(OR(ｲ.特管廃酸!D25>0,ｲ.特管廃酸!D25<0),ｲ.特管廃酸!D25,IF(H$19>0,"0",0)) -> 0 | I10: =IF(OR(ｳ.特管廃ｱﾙｶﾘ!D25>0,ｳ.特管廃ｱﾙｶﾘ!D25<0),ｳ.特管廃ｱﾙｶﾘ!D25,IF(I$19>0,"0",0)) -> 0 | J10: =IF(OR(ｴ.感染性廃棄物!$D25>0,ｴ.感染性廃棄物!$D25<0),ｴ.感染性廃棄物!D25,IF(J$19>0,"0",0)) -> 0 | K10: =IF(OR(ｵ.廃PCB等!$D25>0,ｵ.廃PCB等!$D25<0),ｵ.廃PCB等!D25,IF(K$19>0,"0",0)) -> 0 | L10: =IF(OR(ｶ.PCB汚染物!D25>0,ｶ.PCB汚染物!D25<0),ｶ.PCB汚染物!D25,IF(L$19>0,"0",0)) -> 0 | M10: =IF(OR(ｷ.PCB処理物!D25>0,ｷ.PCB処理物!D25<0),ｷ.PCB処理物!D25,IF(M$19>0,"0",0)) -> 0 | N10: =IF(OR(ｸ.指定下水汚泥!D25>0,ｸ.指定下水汚泥!D25<0),ｸ.指定下水汚泥!D25,IF(N$19>0,"0",0)) -> 0 | O10: =IF(OR(ｹ.有害鉱さい!D25>0,ｹ.有害鉱さい!D25<0),ｹ.有害鉱さい!D25,IF(O$19>0,"0",0)) -> 0 | P10: =IF(OR(ｺ.廃石綿等!D25>0,ｺ.廃石綿等!D25<0),ｺ.廃石綿等!D25,IF(P$19>0,"0",0)) -> 0 | Q10: =IF(OR(ｻ.有害ばいじん!D25>0,ｻ.有害ばいじん!D25<0),ｻ.有害ばいじん!D25,IF(Q$19>0,"0",0)) -> 0 | R10: =IF(OR(ｼ.有害燃え殻!D25>0,ｼ.有害燃え殻!D25<0),ｼ.有害燃え殻!D25,IF(R$19>0,"0",0)) -> 0 | S10: =IF(OR(ｽ.有害廃油!D25>0,ｽ.有害廃油!D25<0),ｽ.有害廃油!D25,IF(S$19>0,"0",0)) -> 0 | T10: =IF(OR(ｾ.有害汚泥!D25>0,ｾ.有害汚泥!D25<0),ｾ.有害汚泥!D25,IF(T$19>0,"0",0)) -> 0 | U10: =IF(OR(ｿ.有害廃酸!D25>0,ｿ.有害廃酸!D25<0),ｿ.有害廃酸!D25,IF(U$19>0,"0",0)) -> 0 | V10: =IF(OR(ﾀ.有害廃ｱﾙｶﾘ!D25>0,ﾀ.有害廃ｱﾙｶﾘ!D25<0),ﾀ.有害廃ｱﾙｶﾘ!D25,IF(V$19>0,"0",0)) -> 0 | W10: =IF(OR(ﾁ.廃水銀等!D25>0,ﾁ.廃水銀等!D25<0),ﾁ.廃水銀等!D25,IF(W$19>0,"0",0)) -> 0 | X10: =IF(SUM(G10:W10)>0,SUM(G10:W10),IF(X$19>0,"0",0)) -> 0
B11: 和 | C11: ⑤ 自ら熱回収を行う量 | G11: =IF(OR(ｱ.特管廃油!D26>0,ｱ.特管廃油!D26<0),ｱ.特管廃油!D26,IF(G$19>0,"0",0)) -> 0 | H11: =IF(OR(ｲ.特管廃酸!D26>0,ｲ.特管廃酸!D26<0),ｲ.特管廃酸!D26,IF(H$19>0,"0",0)) -> 0 | I11: =IF(OR(ｳ.特管廃ｱﾙｶﾘ!D26>0,ｳ.特管廃ｱﾙｶﾘ!D26<0),ｳ.特管廃ｱﾙｶﾘ!D26,IF(I$19>0,"0",0)) -> 0 | J11: =IF(OR(ｴ.感染性廃棄物!$D26>0,ｴ.感染性廃棄物!$D26<0),ｴ.感染性廃棄物!D26,IF(J$19>0,"0",0)) -> 0 | K11: =IF(OR(ｵ.廃PCB等!$D26>0,ｵ.廃PCB等!$D26<0),ｵ.廃PCB等!D26,IF(K$19>0,"0",0)) -> 0 | L11: =IF(OR(ｶ.PCB汚染物!D26>0,ｶ.PCB汚染物!D26<0),ｶ.PCB汚染物!D26,IF(L$19>0,"0",0)) -> 0 | M11: =IF(OR(ｷ.PCB処理物!D26>0,ｷ.PCB処理物!D26<0),ｷ.PCB処理物!D26,IF(M$19>0,"0",0)) -> 0 | N11: =IF(OR(ｸ.指定下水汚泥!D26>0,ｸ.指定下水汚泥!D26<0),ｸ.指定下水汚泥!D26,IF(N$19>0,"0",0)) -> 0 | O11: =IF(OR(ｹ.有害鉱さい!D26>0,ｹ.有害鉱さい!D26<0),ｹ.有害鉱さい!D26,IF(O$19>0,"0",0)) -> 0 | P11: =IF(OR(ｺ.廃石綿等!D26>0,ｺ.廃石綿等!D26<0),ｺ.廃石綿等!D26,IF(P$19>0,"0",0)) -> 0 | Q11: =IF(OR(ｻ.有害ばいじん!D26>0,ｻ.有害ばいじん!D26<0),ｻ.有害ばいじん!D26,IF(Q$19>0,"0",0)) -> 0 | R11: =IF(OR(ｼ.有害燃え殻!D26>0,ｼ.有害燃え殻!D26<0),ｼ.有害燃え殻!D26,IF(R$19>0,"0",0)) -> 0 | S11: =IF(OR(ｽ.有害廃油!D26>0,ｽ.有害廃油!D26<0),ｽ.有害廃油!D26,IF(S$19>0,"0",0)) -> 0 | T11: =IF(OR(ｾ.有害汚泥!D26>0,ｾ.有害汚泥!D26<0),ｾ.有害汚泥!D26,IF(T$19>0,"0",0)) -> 0 | U11: =IF(OR(ｿ.有害廃酸!D26>0,ｿ.有害廃酸!D26<0),ｿ.有害廃酸!D26,IF(U$19>0,"0",0)) -> 0 | V11: =IF(OR(ﾀ.有害廃ｱﾙｶﾘ!D26>0,ﾀ.有害廃ｱﾙｶﾘ!D26<0),ﾀ.有害廃ｱﾙｶﾘ!D26,IF(V$19>0,"0",0)) -> 0 | W11: =IF(OR(ﾁ.廃水銀等!D26>0,ﾁ.廃水銀等!D26<0),ﾁ.廃水銀等!D26,IF(W$19>0,"0",0)) -> 0 | X11: =IF(SUM(G11:W11)>0,SUM(G11:W11),IF(X$19>0,"0",0)) -> 0
B12: 7 | C12: ⑦ 自ら中間処理により減量する量 | G12: =IF(OR(ｱ.特管廃油!D27>0,ｱ.特管廃油!D27<0),ｱ.特管廃油!D27,IF(G$19>0,"0",0)) -> 0 | H12: =IF(OR(ｲ.特管廃酸!D27>0,ｲ.特管廃酸!D27<0),ｲ.特管廃酸!D27,IF(H$19>0,"0",0)) -> 0 | I12: =IF(OR(ｳ.特管廃ｱﾙｶﾘ!D27>0,ｳ.特管廃ｱﾙｶﾘ!D27<0),ｳ.特管廃ｱﾙｶﾘ!D27,IF(I$19>0,"0",0)) -> 0 | J12: =IF(OR(ｴ.感染性廃棄物!$D27>0,ｴ.感染性廃棄物!$D27<0),ｴ.感染性廃棄物!D27,IF(J$19>0,"0",0)) -> 0 | K12: =IF(OR(ｵ.廃PCB等!$D27>0,ｵ.廃PCB等!$D27<0),ｵ.廃PCB等!D27,IF(K$19>0,"0",0)) -> 0 | L12: =IF(OR(ｶ.PCB汚染物!D27>0,ｶ.PCB汚染物!D27<0),ｶ.PCB汚染物!D27,IF(L$19>0,"0",0)) -> 0 | M12: =IF(OR(ｷ.PCB処理物!D27>0,ｷ.PCB処理物!D27<0),ｷ.PCB処理物!D27,IF(M$19>0,"0",0)) -> 0 | N12: =IF(OR(ｸ.指定下水汚泥!D27>0,ｸ.指定下水汚泥!D27<0),ｸ.指定下水汚泥!D27,IF(N$19>0,"0",0)) -> 0 | O12: =IF(OR(ｹ.有害鉱さい!D27>0,ｹ.有害鉱さい!D27<0),ｹ.有害鉱さい!D27,IF(O$19>0,"0",0)) -> 0 | P12: =IF(OR(ｺ.廃石綿等!D27>0,ｺ.廃石綿等!D27<0),ｺ.廃石綿等!D27,IF(P$19>0,"0",0)) -> 0 | Q12: =IF(OR(ｻ.有害ばいじん!D27>0,ｻ.有害ばいじん!D27<0),ｻ.有害ばいじん!D27,IF(Q$19>0,"0",0)) -> 0 | R12: =IF(OR(ｼ.有害燃え殻!D27>0,ｼ.有害燃え殻!D27<0),ｼ.有害燃え殻!D27,IF(R$19>0,"0",0)) -> 0 | S12: =IF(OR(ｽ.有害廃油!D27>0,ｽ.有害廃油!D27<0),ｽ.有害廃油!D27,IF(S$19>0,"0",0)) -> 0 | T12: =IF(OR(ｾ.有害汚泥!D27>0,ｾ.有害汚泥!D27<0),ｾ.有害汚泥!D27,IF(T$19>0,"0",0)) -> 0 | U12: =IF(OR(ｿ.有害廃酸!D27>0,ｿ.有害廃酸!D27<0),ｿ.有害廃酸!D27,IF(U$19>0,"0",0)) -> 0 | V12: =IF(OR(ﾀ.有害廃ｱﾙｶﾘ!D27>0,ﾀ.有害廃ｱﾙｶﾘ!D27<0),ﾀ.有害廃ｱﾙｶﾘ!D27,IF(V$19>0,"0",0)) -> 0 | W12: =IF(OR(ﾁ.廃水銀等!D27>0,ﾁ.廃水銀等!D27<0),ﾁ.廃水銀等!D27,IF(W$19>0,"0",0)) -> 0 | X12: =IF(SUM(G12:W12)>0,SUM(G12:W12),IF(X$19>0,"0",0)) -> 0
B13: 年 | C13: ③＋⑨ 自ら埋立処分又は海洋投入処分を行う量 | G13: =IF(OR(ｱ.特管廃油!D28>0,ｱ.特管廃油!D28<0),ｱ.特管廃油!D28,IF(G$19>0,"0",0)) -> 0 | H13: =IF(OR(ｲ.特管廃酸!D28>0,ｲ.特管廃酸!D28<0),ｲ.特管廃酸!D28,IF(H$19>0,"0",0)) -> 0 | I13: =IF(OR(ｳ.特管廃ｱﾙｶﾘ!D28>0,ｳ.特管廃ｱﾙｶﾘ!D28<0),ｳ.特管廃ｱﾙｶﾘ!D28,IF(I$19>0,"0",0)) -> 0 | J13: =IF(OR(ｴ.感染性廃棄物!$D28>0,ｴ.感染性廃棄物!$D28<0),ｴ.感染性廃棄物!D28,IF(J$19>0,"0",0)) -> 0 | K13: =IF(OR(ｵ.廃PCB等!$D28>0,ｵ.廃PCB等!$D28<0),ｵ.廃PCB等!D28,IF(K$19>0,"0",0)) -> 0 | L13: =IF(OR(ｶ.PCB汚染物!D28>0,ｶ.PCB汚染物!D28<0),ｶ.PCB汚染物!D28,IF(L$19>0,"0",0)) -> 0 | M13: =IF(OR(ｷ.PCB処理物!D28>0,ｷ.PCB処理物!D28<0),ｷ.PCB処理物!D28,IF(M$19>0,"0",0)) -> 0 | N13: =IF(OR(ｸ.指定下水汚泥!D28>0,ｸ.指定下水汚泥!D28<0),ｸ.指定下水汚泥!D28,IF(N$19>0,"0",0)) -> 0 | O13: =IF(OR(ｹ.有害鉱さい!D28>0,ｹ.有害鉱さい!D28<0),ｹ.有害鉱さい!D28,IF(O$19>0,"0",0)) -> 0 | P13: =IF(OR(ｺ.廃石綿等!D28>0,ｺ.廃石綿等!D28<0),ｺ.廃石綿等!D28,IF(P$19>0,"0",0)) -> 0 | Q13: =IF(OR(ｻ.有害ばいじん!D28>0,ｻ.有害ばいじん!D28<0),ｻ.有害ばいじん!D28,IF(Q$19>0,"0",0)) -> 0 | R13: =IF(OR(ｼ.有害燃え殻!D28>0,ｼ.有害燃え殻!D28<0),ｼ.有害燃え殻!D28,IF(R$19>0,"0",0)) -> 0 | S13: =IF(OR(ｽ.有害廃油!D28>0,ｽ.有害廃油!D28<0),ｽ.有害廃油!D28,IF(S$19>0,"0",0)) -> 0 | T13: =IF(OR(ｾ.有害汚泥!D28>0,ｾ.有害汚泥!D28<0),ｾ.有害汚泥!D28,IF(T$19>0,"0",0)) -> 0 | U13: =IF(OR(ｿ.有害廃酸!D28>0,ｿ.有害廃酸!D28<0),ｿ.有害廃酸!D28,IF(U$19>0,"0",0)) -> 0 | V13: =IF(OR(ﾀ.有害廃ｱﾙｶﾘ!D28>0,ﾀ.有害廃ｱﾙｶﾘ!D28<0),ﾀ.有害廃ｱﾙｶﾘ!D28,IF(V$19>0,"0",0)) -> 0 | W13: =IF(OR(ﾁ.廃水銀等!D28>0,ﾁ.廃水銀等!D28<0),ﾁ.廃水銀等!D28,IF(W$19>0,"0",0)) -> 0 | X13: =IF(SUM(G13:W13)>0,SUM(G13:W13),IF(X$19>0,"0",0)) -> 0
B14: 度 | C14: ⑩ 全処理委託量 | G14: =IF(OR(ｱ.特管廃油!D29>0,ｱ.特管廃油!D29<0),ｱ.特管廃油!D29,IF(G$19>0,"0",0)) -> 71.09 | H14: =IF(OR(ｲ.特管廃酸!D29>0,ｲ.特管廃酸!D29<0),ｲ.特管廃酸!D29,IF(H$19>0,"0",0)) -> 0 | I14: =IF(OR(ｳ.特管廃ｱﾙｶﾘ!D29>0,ｳ.特管廃ｱﾙｶﾘ!D29<0),ｳ.特管廃ｱﾙｶﾘ!D29,IF(I$19>0,"0",0)) -> 0 | J14: =IF(OR(ｴ.感染性廃棄物!$D29>0,ｴ.感染性廃棄物!$D29<0),ｴ.感染性廃棄物!D29,IF(J$19>0,"0",0)) -> 16.51 | K14: =IF(OR(ｵ.廃PCB等!$D29>0,ｵ.廃PCB等!$D29<0),ｵ.廃PCB等!D29,IF(K$19>0,"0",0)) -> 0 | L14: =IF(OR(ｶ.PCB汚染物!D29>0,ｶ.PCB汚染物!D29<0),ｶ.PCB汚染物!D29,IF(L$19>0,"0",0)) -> 0 | M14: =IF(OR(ｷ.PCB処理物!D29>0,ｷ.PCB処理物!D29<0),ｷ.PCB処理物!D29,IF(M$19>0,"0",0)) -> 0 | N14: =IF(OR(ｸ.指定下水汚泥!D29>0,ｸ.指定下水汚泥!D29<0),ｸ.指定下水汚泥!D29,IF(N$19>0,"0",0)) -> 0 | O14: =IF(OR(ｹ.有害鉱さい!D29>0,ｹ.有害鉱さい!D29<0),ｹ.有害鉱さい!D29,IF(O$19>0,"0",0)) -> 0 | P14: =IF(OR(ｺ.廃石綿等!D29>0,ｺ.廃石綿等!D29<0),ｺ.廃石綿等!D29,IF(P$19>0,"0",0)) -> 0 | Q14: =IF(OR(ｻ.有害ばいじん!D29>0,ｻ.有害ばいじん!D29<0),ｻ.有害ばいじん!D29,IF(Q$19>0,"0",0)) -> 0 | R14: =IF(OR(ｼ.有害燃え殻!D29>0,ｼ.有害燃え殻!D29<0),ｼ.有害燃え殻!D29,IF(R$19>0,"0",0)) -> 0 | S14: =IF(OR(ｽ.有害廃油!D29>0,ｽ.有害廃油!D29<0),ｽ.有害廃油!D29,IF(S$19>0,"0",0)) -> 0.01 | T14: =IF(OR(ｾ.有害汚泥!D29>0,ｾ.有害汚泥!D29<0),ｾ.有害汚泥!D29,IF(T$19>0,"0",0)) -> 1 | U14: =IF(OR(ｿ.有害廃酸!D29>0,ｿ.有害廃酸!D29<0),ｿ.有害廃酸!D29,IF(U$19>0,"0",0)) -> 0 | V14: =IF(OR(ﾀ.有害廃ｱﾙｶﾘ!D29>0,ﾀ.有害廃ｱﾙｶﾘ!D29<0),ﾀ.有害廃ｱﾙｶﾘ!D29,IF(V$19>0,"0",0)) -> 0 | W14: =IF(OR(ﾁ.廃水銀等!D29>0,ﾁ.廃水銀等!D29<0),ﾁ.廃水銀等!D29,IF(W$19>0,"0",0)) -> 0 | X14: =IF(SUM(G14:W14)>0,SUM(G14:W14),IF(X$19>0,"0",0)) -> 88.61
B15: 目 | C15: ⑪ 優良認定処理業者への処理委託量 | G15: =IF(OR(ｱ.特管廃油!D30>0,ｱ.特管廃油!D30<0),ｱ.特管廃油!D30,IF(G$19>0,"0",0)) -> 0 | H15: =IF(OR(ｲ.特管廃酸!D30>0,ｲ.特管廃酸!D30<0),ｲ.特管廃酸!D30,IF(H$19>0,"0",0)) -> 0 | I15: =IF(OR(ｳ.特管廃ｱﾙｶﾘ!D30>0,ｳ.特管廃ｱﾙｶﾘ!D30<0),ｳ.特管廃ｱﾙｶﾘ!D30,IF(I$19>0,"0",0)) -> 0 | J15: =IF(OR(ｴ.感染性廃棄物!$D30>0,ｴ.感染性廃棄物!$D30<0),ｴ.感染性廃棄物!D30,IF(J$19>0,"0",0)) -> 0 | K15: =IF(OR(ｵ.廃PCB等!$D30>0,ｵ.廃PCB等!$D30<0),ｵ.廃PCB等!D30,IF(K$19>0,"0",0)) -> 0 | L15: =IF(OR(ｶ.PCB汚染物!D30>0,ｶ.PCB汚染物!D30<0),ｶ.PCB汚染物!D30,IF(L$19>0,"0",0)) -> 0 | M15: =IF(OR(ｷ.PCB処理物!D30>0,ｷ.PCB処理物!D30<0),ｷ.PCB処理物!D30,IF(M$19>0,"0",0)) -> 0 | N15: =IF(OR(ｸ.指定下水汚泥!D30>0,ｸ.指定下水汚泥!D30<0),ｸ.指定下水汚泥!D30,IF(N$19>0,"0",0)) -> 0 | O15: =IF(OR(ｹ.有害鉱さい!D30>0,ｹ.有害鉱さい!D30<0),ｹ.有害鉱さい!D30,IF(O$19>0,"0",0)) -> 0 | P15: =IF(OR(ｺ.廃石綿等!D30>0,ｺ.廃石綿等!D30<0),ｺ.廃石綿等!D30,IF(P$19>0,"0",0)) -> 0 | Q15: =IF(OR(ｻ.有害ばいじん!D30>0,ｻ.有害ばいじん!D30<0),ｻ.有害ばいじん!D30,IF(Q$19>0,"0",0)) -> 0 | R15: =IF(OR(ｼ.有害燃え殻!D30>0,ｼ.有害燃え殻!D30<0),ｼ.有害燃え殻!D30,IF(R$19>0,"0",0)) -> 0 | S15: =IF(OR(ｽ.有害廃油!D30>0,ｽ.有害廃油!D30<0),ｽ.有害廃油!D30,IF(S$19>0,"0",0)) -> 0 | T15: =IF(OR(ｾ.有害汚泥!D30>0,ｾ.有害汚泥!D30<0),ｾ.有害汚泥!D30,IF(T$19>0,"0",0)) -> 0 | U15: =IF(OR(ｿ.有害廃酸!D30>0,ｿ.有害廃酸!D30<0),ｿ.有害廃酸!D30,IF(U$19>0,"0",0)) -> 0 | V15: =IF(OR(ﾀ.有害廃ｱﾙｶﾘ!D30>0,ﾀ.有害廃ｱﾙｶﾘ!D30<0),ﾀ.有害廃ｱﾙｶﾘ!D30,IF(V$19>0,"0",0)) -> 0 | W15: =IF(OR(ﾁ.廃水銀等!D30>0,ﾁ.廃水銀等!D30<0),ﾁ.廃水銀等!D30,IF(W$19>0,"0",0)) -> 0 | X15: =IF(SUM(G15:W15)>0,SUM(G15:W15),IF(X$19>0,"0",0)) -> 0
B16: 標 | C16: ⑫ 再生利用業者への処理委託量 | G16: =IF(OR(ｱ.特管廃油!D31>0,ｱ.特管廃油!D31<0),ｱ.特管廃油!D31,IF(G$19>0,"0",0)) -> 71.09 | H16: =IF(OR(ｲ.特管廃酸!D31>0,ｲ.特管廃酸!D31<0),ｲ.特管廃酸!D31,IF(H$19>0,"0",0)) -> 0 | I16: =IF(OR(ｳ.特管廃ｱﾙｶﾘ!D31>0,ｳ.特管廃ｱﾙｶﾘ!D31<0),ｳ.特管廃ｱﾙｶﾘ!D31,IF(I$19>0,"0",0)) -> 0 | J16: =IF(OR(ｴ.感染性廃棄物!$D31>0,ｴ.感染性廃棄物!$D31<0),ｴ.感染性廃棄物!D31,IF(J$19>0,"0",0)) -> 16.51 | K16: =IF(OR(ｵ.廃PCB等!$D31>0,ｵ.廃PCB等!$D31<0),ｵ.廃PCB等!D31,IF(K$19>0,"0",0)) -> 0 | L16: =IF(OR(ｶ.PCB汚染物!D31>0,ｶ.PCB汚染物!D31<0),ｶ.PCB汚染物!D31,IF(L$19>0,"0",0)) -> 0 | M16: =IF(OR(ｷ.PCB処理物!D31>0,ｷ.PCB処理物!D31<0),ｷ.PCB処理物!D31,IF(M$19>0,"0",0)) -> 0 | N16: =IF(OR(ｸ.指定下水汚泥!D31>0,ｸ.指定下水汚泥!D31<0),ｸ.指定下水汚泥!D31,IF(N$19>0,"0",0)) -> 0 | O16: =IF(OR(ｹ.有害鉱さい!D31>0,ｹ.有害鉱さい!D31<0),ｹ.有害鉱さい!D31,IF(O$19>0,"0",0)) -> 0 | P16: =IF(OR(ｺ.廃石綿等!D31>0,ｺ.廃石綿等!D31<0),ｺ.廃石綿等!D31,IF(P$19>0,"0",0)) -> 0 | Q16: =IF(OR(ｻ.有害ばいじん!D31>0,ｻ.有害ばいじん!D31<0),ｻ.有害ばいじん!D31,IF(Q$19>0,"0",0)) -> 0 | R16: =IF(OR(ｼ.有害燃え殻!D31>0,ｼ.有害燃え殻!D31<0),ｼ.有害燃え殻!D31,IF(R$19>0,"0",0)) -> 0 | S16: =IF(OR(ｽ.有害廃油!D31>0,ｽ.有害廃油!D31<0),ｽ.有害廃油!D31,IF(S$19>0,"0",0)) -> 0.01 | T16: =IF(OR(ｾ.有害汚泥!D31>0,ｾ.有害汚泥!D31<0),ｾ.有害汚泥!D31,IF(T$19>0,"0",0)) -> 1 | U16: =IF(OR(ｿ.有害廃酸!D31>0,ｿ.有害廃酸!D31<0),ｿ.有害廃酸!D31,IF(U$19>0,"0",0)) -> 0 | V16: =IF(OR(ﾀ.有害廃ｱﾙｶﾘ!D31>0,ﾀ.有害廃ｱﾙｶﾘ!D31<0),ﾀ.有害廃ｱﾙｶﾘ!D31,IF(V$19>0,"0",0)) -> 0 | W16: =IF(OR(ﾁ.廃水銀等!D31>0,ﾁ.廃水銀等!D31<0),ﾁ.廃水銀等!D31,IF(W$19>0,"0",0)) -> 0 | X16: =IF(SUM(G16:W16)>0,SUM(G16:W16),IF(X$19>0,"0",0)) -> 88.61
C17: ⑬ 認定熱回収業者への処理委託量 | G17: =IF(OR(ｱ.特管廃油!D32>0,ｱ.特管廃油!D32<0),ｱ.特管廃油!D32,IF(G$19>0,"0",0)) -> 0 | H17: =IF(OR(ｲ.特管廃酸!D32>0,ｲ.特管廃酸!D32<0),ｲ.特管廃酸!D32,IF(H$19>0,"0",0)) -> 0 | I17: =IF(OR(ｳ.特管廃ｱﾙｶﾘ!D32>0,ｳ.特管廃ｱﾙｶﾘ!D32<0),ｳ.特管廃ｱﾙｶﾘ!D32,IF(I$19>0,"0",0)) -> 0 | J17: =IF(OR(ｴ.感染性廃棄物!$D32>0,ｴ.感染性廃棄物!$D32<0),ｴ.感染性廃棄物!D32,IF(J$19>0,"0",0)) -> 0 | K17: =IF(OR(ｵ.廃PCB等!$D32>0,ｵ.廃PCB等!$D32<0),ｵ.廃PCB等!D32,IF(K$19>0,"0",0)) -> 0 | L17: =IF(OR(ｶ.PCB汚染物!D32>0,ｶ.PCB汚染物!D32<0),ｶ.PCB汚染物!D32,IF(L$19>0,"0",0)) -> 0 | M17: =IF(OR(ｷ.PCB処理物!D32>0,ｷ.PCB処理物!D32<0),ｷ.PCB処理物!D32,IF(M$19>0,"0",0)) -> 0 | N17: =IF(OR(ｸ.指定下水汚泥!D32>0,ｸ.指定下水汚泥!D32<0),ｸ.指定下水汚泥!D32,IF(N$19>0,"0",0)) -> 0 | O17: =IF(OR(ｹ.有害鉱さい!D32>0,ｹ.有害鉱さい!D32<0),ｹ.有害鉱さい!D32,IF(O$19>0,"0",0)) -> 0 | P17: =IF(OR(ｺ.廃石綿等!D32>0,ｺ.廃石綿等!D32<0),ｺ.廃石綿等!D32,IF(P$19>0,"0",0)) -> 0 | Q17: =IF(OR(ｻ.有害ばいじん!D32>0,ｻ.有害ばいじん!D32<0),ｻ.有害ばいじん!D32,IF(Q$19>0,"0",0)) -> 0 | R17: =IF(OR(ｼ.有害燃え殻!D32>0,ｼ.有害燃え殻!D32<0),ｼ.有害燃え殻!D32,IF(R$19>0,"0",0)) -> 0 | S17: =IF(OR(ｽ.有害廃油!D32>0,ｽ.有害廃油!D32<0),ｽ.有害廃油!D32,IF(S$19>0,"0",0)) -> 0 | T17: =IF(OR(ｾ.有害汚泥!D32>0,ｾ.有害汚泥!D32<0),ｾ.有害汚泥!D32,IF(T$19>0,"0",0)) -> 0 | U17: =IF(OR(ｿ.有害廃酸!D32>0,ｿ.有害廃酸!D32<0),ｿ.有害廃酸!D32,IF(U$19>0,"0",0)) -> 0 | V17: =IF(OR(ﾀ.有害廃ｱﾙｶﾘ!D32>0,ﾀ.有害廃ｱﾙｶﾘ!D32<0),ﾀ.有害廃ｱﾙｶﾘ!D32,IF(V$19>0,"0",0)) -> 0 | W17: =IF(OR(ﾁ.廃水銀等!D32>0,ﾁ.廃水銀等!D32<0),ﾁ.廃水銀等!D32,IF(W$19>0,"0",0)) -> 0 | X17: =IF(SUM(G17:W17)>0,SUM(G17:W17),IF(X$19>0,"0",0)) -> 0
C18: ⑭ | D18: 認定熱回収業者以外の熱回収を行う業者への処理委託量 | G18: =IF(OR(ｱ.特管廃油!D33>0,ｱ.特管廃油!D33<0),ｱ.特管廃油!D33,IF(G$19>0,"0",0)) -> 0 | H18: =IF(OR(ｲ.特管廃酸!D33>0,ｲ.特管廃酸!D33<0),ｲ.特管廃酸!D33,IF(H$19>0,"0",0)) -> 0 | I18: =IF(OR(ｳ.特管廃ｱﾙｶﾘ!D33>0,ｳ.特管廃ｱﾙｶﾘ!D33<0),ｳ.特管廃ｱﾙｶﾘ!D33,IF(I$19>0,"0",0)) -> 0 | J18: =IF(OR(ｴ.感染性廃棄物!$D33>0,ｴ.感染性廃棄物!$D33<0),ｴ.感染性廃棄物!D33,IF(J$19>0,"0",0)) -> 0 | K18: =IF(OR(ｵ.廃PCB等!$D33>0,ｵ.廃PCB等!$D33<0),ｵ.廃PCB等!D33,IF(K$19>0,"0",0)) -> 0 | L18: =IF(OR(ｶ.PCB汚染物!D33>0,ｶ.PCB汚染物!D33<0),ｶ.PCB汚染物!D33,IF(L$19>0,"0",0)) -> 0 | M18: =IF(OR(ｷ.PCB処理物!D33>0,ｷ.PCB処理物!D33<0),ｷ.PCB処理物!D33,IF(M$19>0,"0",0)) -> 0 | N18: =IF(OR(ｸ.指定下水汚泥!D33>0,ｸ.指定下水汚泥!D33<0),ｸ.指定下水汚泥!D33,IF(N$19>0,"0",0)) -> 0 | O18: =IF(OR(ｹ.有害鉱さい!D33>0,ｹ.有害鉱さい!D33<0),ｹ.有害鉱さい!D33,IF(O$19>0,"0",0)) -> 0 | P18: =IF(OR(ｺ.廃石綿等!D33>0,ｺ.廃石綿等!D33<0),ｺ.廃石綿等!D33,IF(P$19>0,"0",0)) -> 0 | Q18: =IF(OR(ｻ.有害ばいじん!D33>0,ｻ.有害ばいじん!D33<0),ｻ.有害ばいじん!D33,IF(Q$19>0,"0",0)) -> 0 | R18: =IF(OR(ｼ.有害燃え殻!D33>0,ｼ.有害燃え殻!D33<0),ｼ.有害燃え殻!D33,IF(R$19>0,"0",0)) -> 0 | S18: =IF(OR(ｽ.有害廃油!D33>0,ｽ.有害廃油!D33<0),ｽ.有害廃油!D33,IF(S$19>0,"0",0)) -> 0 | T18: =IF(OR(ｾ.有害汚泥!D33>0,ｾ.有害汚泥!D33<0),ｾ.有害汚泥!D33,IF(T$19>0,"0",0)) -> 0 | U18: =IF(OR(ｿ.有害廃酸!D33>0,ｿ.有害廃酸!D33<0),ｿ.有害廃酸!D33,IF(U$19>0,"0",0)) -> 0 | V18: =IF(OR(ﾀ.有害廃ｱﾙｶﾘ!D33>0,ﾀ.有害廃ｱﾙｶﾘ!D33<0),ﾀ.有害廃ｱﾙｶﾘ!D33,IF(V$19>0,"0",0)) -> 0 | W18: =IF(OR(ﾁ.廃水銀等!D33>0,ﾁ.廃水銀等!D33<0),ﾁ.廃水銀等!D33,IF(W$19>0,"0",0)) -> 0 | X18: =IF(SUM(G18:W18)>0,SUM(G18:W18),IF(X$19>0,"0",0)) -> 0
C19: ① | D19: 当該事業場における排出量 | G19: =+G37+G25+G23+G22+G21-G20 -> 62.46 | H19: =+H37+H25+H23+H22+H21-H20 -> 0.01 | I19: =+I37+I25+I23+I22+I21-I20 -> 0 | J19: =+J37+J25+J23+J22+J21-J20 -> 12.28 | K19: =+K37+K25+K23+K22+K21-K20 -> 0 | L19: =+L37+L25+L23+L22+L21-L20 -> 0 | M19: =+M37+M25+M23+M22+M21-M20 -> 0 | N19: =+N37+N25+N23+N22+N21-N20 -> 0 | ... W19: =+W37+W25+W23+W22+W21-W20 -> 0.01 | X19: =SUM(G19:W19) -> 74.76
C20: ※１ | D20: 自社の他事業場からの搬入量 | G20: =+ｱ.特管廃油!$F$15 -> 0 | H20: =+ｲ.特管廃酸!$F$15 -> 0 | I20: =+ｳ.特管廃ｱﾙｶﾘ!$F$15 -> 0 | J20: =+ｴ.感染性廃棄物!$F$15 -> 0 | K20: =+ｵ.廃PCB等!$F$15 -> 0 | L20: =+ｶ.PCB汚染物!$F$15 -> 0 | M20: =+ｷ.PCB処理物!$F$15 -> 0 | N20: =+ｸ.指定下水汚泥!$F$15 -> 0 | O20: =+ｹ.有害鉱さい!$F$15 -> 0 | P20: =+ｺ.廃石綿等!$F$15 -> 0 | Q20: =+ｻ.有害ばいじん!$F$15 -> 0 | R20: =+ｼ.有害燃え殻!$F$15 -> 0 | S20: =+ｽ.有害廃油!$F$15 -> 0 | T20: =+ｾ.有害汚泥!$F$15 -> 0 | U20: =+ｿ.有害廃酸!$F$15 -> 0 | V20: =+ﾀ.有害廃ｱﾙｶﾘ!$F$15 -> 0 | W20: =+ﾁ.廃水銀等!$F$15 -> 0 | X20: =SUM(G20:W20) -> 0
D21: ② | E21: 自ら直接再生利用した量 | G21: =+ｱ.特管廃油!$P$12 -> 0 | H21: =+ｲ.特管廃酸!$P$12 -> 0 | I21: =+ｳ.特管廃ｱﾙｶﾘ!$P$12 -> 0 | J21: =+ｴ.感染性廃棄物!$P$12 -> 0 | K21: =+ｵ.廃PCB等!$P$12 -> 0 | L21: =+ｶ.PCB汚染物!$P$12 -> 0 | M21: =+ｷ.PCB処理物!$P$12 -> 0 | N21: =+ｸ.指定下水汚泥!$P$12 -> 0 | O21: =+ｹ.有害鉱さい!$P$12 -> 0 | P21: =+ｺ.廃石綿等!$P$12 -> 0 | Q21: =+ｻ.有害ばいじん!$P$12 -> 0 | R21: =+ｼ.有害燃え殻!$P$12 -> 0 | S21: =+ｽ.有害廃油!$P$12 -> 0 | T21: =+ｾ.有害汚泥!$P$12 -> 0 | U21: =+ｿ.有害廃酸!$P$12 -> 0 | V21: =+ﾀ.有害廃ｱﾙｶﾘ!$P$12 -> 0 | W21: =+ﾁ.廃水銀等!$P$12 -> 0 | X21: =SUM(G21:W21) -> 0
D22: ③ | E22: 自ら直接埋立処分した量 | G22: =+ｱ.特管廃油!$P$15 -> 0 | H22: =+ｲ.特管廃酸!$P$15 -> 0 | I22: =+ｳ.特管廃ｱﾙｶﾘ!$P$15 -> 0 | J22: =+ｴ.感染性廃棄物!$P$15 -> 0 | K22: =+ｵ.廃PCB等!$P$15 -> 0 | L22: =+ｶ.PCB汚染物!$P$15 -> 0 | M22: =+ｷ.PCB処理物!$P$15 -> 0 | N22: =+ｸ.指定下水汚泥!$P$15 -> 0 | O22: =+ｹ.有害鉱さい!$P$15 -> 0 | P22: =+ｺ.廃石綿等!$P$15 -> 0 | Q22: =+ｻ.有害ばいじん!$P$15 -> 0 | R22: =+ｼ.有害燃え殻!$P$15 -> 0 | S22: =+ｽ.有害廃油!$P$15 -> 0 | T22: =+ｾ.有害汚泥!$P$15 -> 0 | U22: =+ｿ.有害廃酸!$P$15 -> 0 | V22: =+ﾀ.有害廃ｱﾙｶﾘ!$P$15 -> 0 | W22: =+ﾁ.廃水銀等!$P$15 -> 0 | X22: =SUM(G22:W22) -> 0
D23: ④ | E23: 自ら中間処理した量 | G23: =+ｱ.特管廃油!$P$18 -> 0 | H23: =+ｲ.特管廃酸!$P$18 -> 0 | I23: =+ｳ.特管廃ｱﾙｶﾘ!$P$18 -> 0 | J23: =+ｴ.感染性廃棄物!$P$18 -> 0 | K23: =+ｵ.廃PCB等!$P$18 -> 0 | L23: =+ｶ.PCB汚染物!$P$18 -> 0 | M23: =+ｷ.PCB処理物!$P$18 -> 0 | N23: =+ｸ.指定下水汚泥!$P$18 -> 0 | O23: =+ｹ.有害鉱さい!$P$18 -> 0 | P23: =+ｺ.廃石綿等!$P$18 -> 0 | Q23: =+ｻ.有害ばいじん!$P$18 -> 0 | R23: =+ｼ.有害燃え殻!$P$18 -> 0 | S23: =+ｽ.有害廃油!$P$18 -> 0 | T23: =+ｾ.有害汚泥!$P$18 -> 0 | U23: =+ｿ.有害廃酸!$P$18 -> 0 | V23: =+ﾀ.有害廃ｱﾙｶﾘ!$P$18 -> 0 | W23: =+ﾁ.廃水銀等!$P$18 -> 0 | X23: =SUM(G23:W23) -> 0
E24: ⑤ | F24: ④のうち熱回収を行った量 | G24: =+ｱ.特管廃油!$P$21 -> 0 | H24: =+ｲ.特管廃酸!$P$21 -> 0 | I24: =+ｳ.特管廃ｱﾙｶﾘ!$P$21 -> 0 | J24: =+ｴ.感染性廃棄物!$P$21 -> 0 | K24: =+ｵ.廃PCB等!$P$21 -> 0 | L24: =+ｶ.PCB汚染物!$P$21 -> 0 | M24: =+ｷ.PCB処理物!$P$21 -> 0 | N24: =+ｸ.指定下水汚泥!$P$21 -> 0 | O24: =+ｹ.有害鉱さい!$P$21 -> 0 | P24: =+ｺ.廃石綿等!$P$21 -> 0 | Q24: =+ｻ.有害ばいじん!$P$21 -> 0 | R24: =+ｼ.有害燃え殻!$P$21 -> 0 | S24: =+ｽ.有害廃油!$P$21 -> 0 | T24: =+ｾ.有害汚泥!$P$21 -> 0 | U24: =+ｿ.有害廃酸!$P$21 -> 0 | V24: =+ﾀ.有害廃ｱﾙｶﾘ!$P$21 -> 0 | W24: =+ﾁ.廃水銀等!$P$21 -> 0 | X24: =SUM(G24:W24) -> 0
D25: ※２ | E25: 自社の他事業場での処理量 | G25: =+ｱ.特管廃油!$P$24 -> 0 | H25: =+ｲ.特管廃酸!$P$24 -> 0 | I25: =+ｳ.特管廃ｱﾙｶﾘ!$P$24 -> 0 | J25: =+ｴ.感染性廃棄物!$P$24 -> 0 | K25: =+ｵ.廃PCB等!$P$24 -> 0 | L25: =+ｶ.PCB汚染物!$P$24 -> 0 | M25: =+ｷ.PCB処理物!$P$24 -> 0 | N25: =+ｸ.指定下水汚泥!$P$24 -> 0 | O25: =+ｹ.有害鉱さい!$P$24 -> 0 | P25: =+ｺ.廃石綿等!$P$24 -> 0 | Q25: =+ｻ.有害ばいじん!$P$24 -> 0 | R25: =+ｼ.有害燃え殻!$P$24 -> 0 | S25: =+ｽ.有害廃油!$P$24 -> 0 | T25: =+ｾ.有害汚泥!$P$24 -> 0 | U25: =+ｿ.有害廃酸!$P$24 -> 0 | V25: =+ﾀ.有害廃ｱﾙｶﾘ!$P$24 -> 0 | W25: =+ﾁ.廃水銀等!$P$24 -> 0 | X25: =SUM(G25:W25) -> 0
C26: Ａ自己処理 | D26: ⑥ | E26: 自ら中間処理した後の残さ量 | G26: =+G28+G29+G30+G31 -> 0 | H26: =+H28+H29+H30+H31 -> 0 | I26: =+I28+I29+I30+I31 -> 0 | J26: =+J28+J29+J30+J31 -> 0 | K26: =+K28+K29+K30+K31 -> 0 | L26: =+L28+L29+L30+L31 -> 0 | M26: =+M28+M29+M30+M31 -> 0 | N26: =+N28+N29+N30+N31 -> 0 | ... W26: =+W28+W29+W30+W31 -> 0 | X26: =SUM(G26:W26) -> 0
D27: ⑦ | E27: 自ら中間処理により減量した量 | G27: =+G23-G26 -> 0 | H27: =+H23-H26 -> 0 | I27: =+I23-I26 -> 0 | J27: =+J23-J26 -> 0 | K27: =+K23-K26 -> 0 | L27: =+L23-L26 -> 0 | M27: =+M23-M26 -> 0 | N27: =+N23-N26 -> 0 | ... W27: =+W23-W26 -> 0 | X27: =SUM(G27:W27) -> 0
D28: ａ残さ物の自己処理 | E28: ⑧ | F28: 自ら中間処理した後再生利用した量 | G28: =+ｱ.特管廃油!$AH$9 -> 0 | H28: =+ｲ.特管廃酸!$AH$9 -> 0 | I28: =+ｳ.特管廃ｱﾙｶﾘ!$AH$9 -> 0 | J28: =+ｴ.感染性廃棄物!$AH$9 -> 0 | K28: =+ｵ.廃PCB等!$AH$9 -> 0 | L28: =+ｶ.PCB汚染物!$AH$9 -> 0 | M28: =+ｷ.PCB処理物!$AH$9 -> 0 | N28: =+ｸ.指定下水汚泥!$AH$9 -> 0 | O28: =+ｹ.有害鉱さい!$AH$9 -> 0 | P28: =+ｺ.廃石綿等!$AH$9 -> 0 | Q28: =+ｻ.有害ばいじん!$AH$9 -> 0 | R28: =+ｼ.有害燃え殻!$AH$9 -> 0 | S28: =+ｽ.有害廃油!$AH$9 -> 0 | T28: =+ｾ.有害汚泥!$AH$9 -> 0 | U28: =+ｿ.有害廃酸!$AH$9 -> 0 | V28: =+ﾀ.有害廃ｱﾙｶﾘ!$AH$9 -> 0 | W28: =+ﾁ.廃水銀等!$AH$9 -> 0 | X28: =SUM(G28:W28) -> 0
E29: ⑨ | F29: 自ら中間処理した後自ら埋立処分又は海洋投入処分した量 | G29: =+ｱ.特管廃油!$AH$12 -> 0 | H29: =+ｲ.特管廃酸!$AH$12 -> 0 | I29: =+ｳ.特管廃ｱﾙｶﾘ!$AH$12 -> 0 | J29: =+ｴ.感染性廃棄物!$AH$12 -> 0 | K29: =+ｵ.廃PCB等!$AH$12 -> 0 | L29: =+ｶ.PCB汚染物!$AH$12 -> 0 | M29: =+ｷ.PCB処理物!$AH$12 -> 0 | N29: =+ｸ.指定下水汚泥!$AH$12 -> 0 | O29: =+ｹ.有害鉱さい!$AH$12 -> 0 | P29: =+ｺ.廃石綿等!$AH$12 -> 0 | Q29: =+ｻ.有害ばいじん!$AH$12 -> 0 | R29: =+ｼ.有害燃え殻!$AH$12 -> 0 | S29: =+ｽ.有害廃油!$AH$12 -> 0 | T29: =+ｾ.有害汚泥!$AH$12 -> 0 | U29: =+ｿ.有害廃酸!$AH$12 -> 0 | V29: =+ﾀ.有害廃ｱﾙｶﾘ!$AH$12 -> 0 | W29: =+ﾁ.廃水銀等!$AH$12 -> 0 | X29: =SUM(G29:W29) -> 0
B30: 令 | E30: ※３ | F30: 自ら中間処理した後自社の他事業場での処理量 | G30: =+ｱ.特管廃油!$AH$15 -> 0 | H30: =+ｲ.特管廃酸!$AH$15 -> 0 | I30: =+ｳ.特管廃ｱﾙｶﾘ!$AH$15 -> 0 | J30: =+ｴ.感染性廃棄物!$AH$15 -> 0 | K30: =+ｵ.廃PCB等!$AH$15 -> 0 | L30: =+ｶ.PCB汚染物!$AH$15 -> 0 | M30: =+ｷ.PCB処理物!$AH$15 -> 0 | N30: =+ｸ.指定下水汚泥!$AH$15 -> 0 | O30: =+ｹ.有害鉱さい!$AH$15 -> 0 | P30: =+ｺ.廃石綿等!$AH$15 -> 0 | Q30: =+ｻ.有害ばいじん!$AH$15 -> 0 | R30: =+ｼ.有害燃え殻!$AH$15 -> 0 | S30: =+ｽ.有害廃油!$AH$15 -> 0 | T30: =+ｾ.有害汚泥!$AH$15 -> 0 | U30: =+ｿ.有害廃酸!$AH$15 -> 0 | V30: =+ﾀ.有害廃ｱﾙｶﾘ!$AH$15 -> 0 | W30: =+ﾁ.廃水銀等!$AH$15 -> 0 | X30: =SUM(G30:W30) -> 0
B31: 和 | D31: ｂ | E31: 自ら中間処理した後の処理委託量 | G31: =+G32+G36 -> 0 | H31: =+H32+H36 -> 0 | I31: =+I32+I36 -> 0 | J31: =+J32+J36 -> 0 | K31: =+K32+K36 -> 0 | L31: =+L32+L36 -> 0 | M31: =+M32+M36 -> 0 | N31: =+N32+N36 -> 0 | ... W31: =+W32+W36 -> 0 | X31: =SUM(G31:W31) -> 0
B32: 7 | E32: ｂ-1 中間処理委託量 | G32: =SUM(G33:G35) -> 0 | H32: =SUM(H33:H35) -> 0 | I32: =SUM(I33:I35) -> 0 | J32: =SUM(J33:J35) -> 0 | K32: =SUM(K33:K35) -> 0 | L32: =SUM(L33:L35) -> 0 | M32: =SUM(M33:M35) -> 0 | N32: =SUM(N33:N35) -> 0 | ... W32: =SUM(W33:W35) -> 0 | X32: =SUM(G32:W32) -> 0
B33: 年 | F33: 再生利用前委託量 | G33: =+ｱ.特管廃油!$AU$16 -> 0 | H33: =+ｲ.特管廃酸!$AU$16 -> 0 | I33: =+ｳ.特管廃ｱﾙｶﾘ!$AU$16 -> 0 | J33: =+ｴ.感染性廃棄物!$AU$16 -> 0 | K33: =+ｵ.廃PCB等!$AU$16 -> 0 | L33: =+ｶ.PCB汚染物!$AU$16 -> 0 | M33: =+ｷ.PCB処理物!$AU$16 -> 0 | N33: =+ｸ.指定下水汚泥!$AU$16 -> 0 | O33: =+ｹ.有害鉱さい!$AU$16 -> 0 | P33: =+ｺ.廃石綿等!$AU$16 -> 0 | Q33: =+ｻ.有害ばいじん!$AU$16 -> 0 | R33: =+ｼ.有害燃え殻!$AU$16 -> 0 | S33: =+ｽ.有害廃油!$AU$16 -> 0 | T33: =+ｾ.有害汚泥!$AU$16 -> 0 | U33: =+ｿ.有害廃酸!$AU$16 -> 0 | V33: =+ﾀ.有害廃ｱﾙｶﾘ!$AU$16 -> 0 | W33: =+ﾁ.廃水銀等!$AU$16 -> 0 | X33: =SUM(G33:W33) -> 0
B34: 度 | F34: 最終処分前委託量 | G34: =+ｱ.特管廃油!$AU$17 -> 0 | H34: =+ｲ.特管廃酸!$AU$17 -> 0 | I34: =+ｳ.特管廃ｱﾙｶﾘ!$AU$17 -> 0 | J34: =+ｴ.感染性廃棄物!$AU$17 -> 0 | K34: =+ｵ.廃PCB等!$AU$17 -> 0 | L34: =+ｶ.PCB汚染物!$AU$17 -> 0 | M34: =+ｷ.PCB処理物!$AU$17 -> 0 | N34: =+ｸ.指定下水汚泥!$AU$17 -> 0 | O34: =+ｹ.有害鉱さい!$AU$17 -> 0 | P34: =+ｺ.廃石綿等!$AU$17 -> 0 | Q34: =+ｻ.有害ばいじん!$AU$17 -> 0 | R34: =+ｼ.有害燃え殻!$AU$17 -> 0 | S34: =+ｽ.有害廃油!$AU$17 -> 0 | T34: =+ｾ.有害汚泥!$AU$17 -> 0 | U34: =+ｿ.有害廃酸!$AU$17 -> 0 | V34: =+ﾀ.有害廃ｱﾙｶﾘ!$AU$17 -> 0 | W34: =+ﾁ.廃水銀等!$AU$17 -> 0 | X34: =SUM(G34:W34) -> 0
B35: 実 | F35: 下水等放流前委託量 | G35: =+ｱ.特管廃油!$AU$18 -> 0 | H35: =+ｲ.特管廃酸!$AU$18 -> 0 | I35: =+ｳ.特管廃ｱﾙｶﾘ!$AU$18 -> 0 | J35: =+ｴ.感染性廃棄物!$AU$18 -> 0 | K35: =+ｵ.廃PCB等!$AU$18 -> 0 | L35: =+ｶ.PCB汚染物!$AU$18 -> 0 | M35: =+ｷ.PCB処理物!$AU$18 -> 0 | N35: =+ｸ.指定下水汚泥!$AU$18 -> 0 | O35: =+ｹ.有害鉱さい!$AU$18 -> 0 | P35: =+ｺ.廃石綿等!$AU$18 -> 0 | Q35: =+ｻ.有害ばいじん!$AU$18 -> 0 | R35: =+ｼ.有害燃え殻!$AU$18 -> 0 | S35: =+ｽ.有害廃油!$AU$18 -> 0 | T35: =+ｾ.有害汚泥!$AU$18 -> 0 | U35: =+ｿ.有害廃酸!$AU$18 -> 0 | V35: =+ﾀ.有害廃ｱﾙｶﾘ!$AU$18 -> 0 | W35: =+ﾁ.廃水銀等!$AU$18 -> 0 | X35: =SUM(G35:W35) -> 0
B36: 績 | E36: ｂ-2 最終処分委託量 | G36: =+ｱ.特管廃油!$AO$21 -> 0 | H36: =+ｲ.特管廃酸!$AO$21 -> 0 | I36: =+ｳ.特管廃ｱﾙｶﾘ!$AO$21 -> 0 | J36: =+ｴ.感染性廃棄物!$AO$21 -> 0 | K36: =+ｵ.廃PCB等!$AO$21 -> 0 | L36: =+ｶ.PCB汚染物!$AO$21 -> 0 | M36: =+ｷ.PCB処理物!$AO$21 -> 0 | N36: =+ｸ.指定下水汚泥!$AO$21 -> 0 | O36: =+ｹ.有害鉱さい!$AO$21 -> 0 | P36: =+ｺ.廃石綿等!$AO$21 -> 0 | Q36: =+ｻ.有害ばいじん!$AO$21 -> 0 | R36: =+ｼ.有害燃え殻!$AO$21 -> 0 | S36: =+ｽ.有害廃油!$AO$21 -> 0 | T36: =+ｾ.有害汚泥!$AO$21 -> 0 | U36: =+ｿ.有害廃酸!$AO$21 -> 0 | V36: =+ﾀ.有害廃ｱﾙｶﾘ!$AO$21 -> 0 | W36: =+ﾁ.廃水銀等!$AO$21 -> 0 | X36: =SUM(G36:W36) -> 0
C37: Ｂ直接委託処理 | D37: Ｂ | E37: 直接処理委託量 | G37: =+G38+G42 -> 62.46 | H37: =+H38+H42 -> 0.01 | I37: =+I38+I42 -> 0 | J37: =+J38+J42 -> 12.28 | K37: =+K38+K42 -> 0 | L37: =+L38+L42 -> 0 | M37: =+M38+M42 -> 0 | N37: =+N38+N42 -> 0 | ... W37: =+W38+W42 -> 0.01 | X37: =SUM(G37:W37) -> 74.76
E38: Ｂ-1 中間処理委託量 | G38: =SUM(G39:G41) -> 62.46 | H38: =SUM(H39:H41) -> 0.01 | I38: =SUM(I39:I41) -> 0 | J38: =SUM(J39:J41) -> 12.28 | K38: =SUM(K39:K41) -> 0 | L38: =SUM(L39:L41) -> 0 | M38: =SUM(M39:M41) -> 0 | N38: =SUM(N39:N41) -> 0 | ... W38: =SUM(W39:W41) -> 0.01 | X38: =SUM(G38:W38) -> 74.76
F39: 再生利用前委託量 | G39: =+ｱ.特管廃油!$AA$28 -> 62.46 | H39: =+ｲ.特管廃酸!$AA$28 -> 0.01 | I39: =+ｳ.特管廃ｱﾙｶﾘ!$AA$28 -> 0 | J39: =+ｴ.感染性廃棄物!$AA$28 -> 12.28 | K39: =+ｵ.廃PCB等!$AA$28 -> 0 | L39: =+ｶ.PCB汚染物!$AA$28 -> 0 | M39: =+ｷ.PCB処理物!$AA$28 -> 0 | N39: =+ｸ.指定下水汚泥!$AA$28 -> 0 | O39: =+ｹ.有害鉱さい!$AA$28 -> 0 | P39: =+ｺ.廃石綿等!$AA$28 -> 0 | Q39: =+ｻ.有害ばいじん!$AA$28 -> 0 | R39: =+ｼ.有害燃え殻!$AA$28 -> 0 | S39: =+ｽ.有害廃油!$AA$28 -> 0 | T39: =+ｾ.有害汚泥!$AA$28 -> 0 | U39: =+ｿ.有害廃酸!$AA$28 -> 0 | V39: =+ﾀ.有害廃ｱﾙｶﾘ!$AA$28 -> 0 | W39: =+ﾁ.廃水銀等!$AA$28 -> 0.01 | X39: =SUM(G39:W39) -> 74.76
F40: 最終処分前委託量 | G40: =+ｱ.特管廃油!$AA$29 -> 0 | H40: =+ｲ.特管廃酸!$AA$29 -> 0 | I40: =+ｳ.特管廃ｱﾙｶﾘ!$AA$29 -> 0 | J40: =+ｴ.感染性廃棄物!$AA$29 -> 0 | K40: =+ｵ.廃PCB等!$AA$29 -> 0 | L40: =+ｶ.PCB汚染物!$AA$29 -> 0 | M40: =+ｷ.PCB処理物!$AA$29 -> 0 | N40: =+ｸ.指定下水汚泥!$AA$29 -> 0 | O40: =+ｹ.有害鉱さい!$AA$29 -> 0 | P40: =+ｺ.廃石綿等!$AA$29 -> 0 | Q40: =+ｻ.有害ばいじん!$AA$29 -> 0 | R40: =+ｼ.有害燃え殻!$AA$29 -> 0 | S40: =+ｽ.有害廃油!$AA$29 -> 0 | T40: =+ｾ.有害汚泥!$AA$29 -> 0 | U40: =+ｿ.有害廃酸!$AA$29 -> 0 | V40: =+ﾀ.有害廃ｱﾙｶﾘ!$AA$29 -> 0 | W40: =+ﾁ.廃水銀等!$AA$29 -> 0 | X40: =SUM(G40:W40) -> 0
F41: 下水等放流前委託量 | G41: =+ｱ.特管廃油!$AA$30 -> 0 | H41: =+ｲ.特管廃酸!$AA$30 -> 0 | I41: =+ｳ.特管廃ｱﾙｶﾘ!$AA$30 -> 0 | J41: =+ｴ.感染性廃棄物!$AA$30 -> 0 | K41: =+ｵ.廃PCB等!$AA$30 -> 0 | L41: =+ｶ.PCB汚染物!$AA$30 -> 0 | M41: =+ｷ.PCB処理物!$AA$30 -> 0 | N41: =+ｸ.指定下水汚泥!$AA$30 -> 0 | O41: =+ｹ.有害鉱さい!$AA$30 -> 0 | P41: =+ｺ.廃石綿等!$AA$30 -> 0 | Q41: =+ｻ.有害ばいじん!$AA$30 -> 0 | R41: =+ｼ.有害燃え殻!$AA$30 -> 0 | S41: =+ｽ.有害廃油!$AA$30 -> 0 | T41: =+ｾ.有害汚泥!$AA$30 -> 0 | U41: =+ｿ.有害廃酸!$AA$30 -> 0 | V41: =+ﾀ.有害廃ｱﾙｶﾘ!$AA$30 -> 0 | W41: =+ﾁ.廃水銀等!$AA$30 -> 0 | X41: =SUM(G41:W41) -> 0
E42: Ｂ-2 最終処分委託量 | G42: =+ｱ.特管廃油!$R$33 -> 0 | H42: =+ｲ.特管廃酸!$R$33 -> 0 | I42: =+ｳ.特管廃ｱﾙｶﾘ!$R$33 -> 0 | J42: =+ｴ.感染性廃棄物!$R$33 -> 0 | K42: =+ｵ.廃PCB等!$R$33 -> 0 | L42: =+ｶ.PCB汚染物!$R$33 -> 0 | M42: =+ｷ.PCB処理物!$R$33 -> 0 | N42: =+ｸ.指定下水汚泥!$R$33 -> 0 | O42: =+ｹ.有害鉱さい!$R$33 -> 0 | P42: =+ｺ.廃石綿等!$R$33 -> 0 | Q42: =+ｻ.有害ばいじん!$R$33 -> 0 | R42: =+ｼ.有害燃え殻!$R$33 -> 0 | S42: =+ｽ.有害廃油!$R$33 -> 0 | T42: =+ｾ.有害汚泥!$R$33 -> 0 | U42: =+ｿ.有害廃酸!$R$33 -> 0 | V42: =+ﾀ.有害廃ｱﾙｶﾘ!$R$33 -> 0 | W42: =+ﾁ.廃水銀等!$R$33 -> 0 | X42: =SUM(G42:W42) -> 0
C43: ⑩ | D43: 直接及び自ら中間処理した後の処理委託量 | G43: =+ｱ.特管廃油!$AL$27 -> 62.46 | H43: =+ｲ.特管廃酸!$AL$27 -> 0.01 | I43: =+ｳ.特管廃ｱﾙｶﾘ!$AL$27 -> 0 | J43: =+ｴ.感染性廃棄物!$AL$27 -> 12.28 | K43: =+ｵ.廃PCB等!$AL$27 -> 0 | L43: =+ｶ.PCB汚染物!$AL$27 -> 0 | M43: =+ｷ.PCB処理物!$AL$27 -> 0 | N43: =+ｸ.指定下水汚泥!$AL$27 -> 0 | O43: =+ｹ.有害鉱さい!$AL$27 -> 0 | P43: =+ｺ.廃石綿等!$AL$27 -> 0 | Q43: =+ｻ.有害ばいじん!$AL$27 -> 0 | R43: =+ｼ.有害燃え殻!$AL$27 -> 0 | S43: =+ｽ.有害廃油!$AL$27 -> 0 | T43: =+ｾ.有害汚泥!$AL$27 -> 0 | U43: =+ｿ.有害廃酸!$AL$27 -> 0 | V43: =+ﾀ.有害廃ｱﾙｶﾘ!$AL$27 -> 0 | W43: =+ﾁ.廃水銀等!$AL$27 -> 0.01 | X43: =SUM(G43:W43) -> 74.76
D44: ⑪ | E44: ⑩のうち優良認定処理業者への処理委託量 | G44: =+ｱ.特管廃油!$AL$30 -> 0 | H44: =+ｲ.特管廃酸!$AL$30 -> 0 | I44: =+ｳ.特管廃ｱﾙｶﾘ!$AL$30 -> 0 | J44: =+ｴ.感染性廃棄物!$AL$30 -> 0 | K44: =+ｵ.廃PCB等!$AL$30 -> 0 | L44: =+ｶ.PCB汚染物!$AL$30 -> 0 | M44: =+ｷ.PCB処理物!$AL$30 -> 0 | N44: =+ｸ.指定下水汚泥!$AL$30 -> 0 | O44: =+ｹ.有害鉱さい!$AL$30 -> 0 | P44: =+ｺ.廃石綿等!$AL$30 -> 0 | Q44: =+ｻ.有害ばいじん!$AL$30 -> 0 | R44: =+ｼ.有害燃え殻!$AL$30 -> 0 | S44: =+ｽ.有害廃油!$AL$30 -> 0 | T44: =+ｾ.有害汚泥!$AL$30 -> 0 | U44: =+ｿ.有害廃酸!$AL$30 -> 0 | V44: =+ﾀ.有害廃ｱﾙｶﾘ!$AL$30 -> 0 | W44: =+ﾁ.廃水銀等!$AL$30 -> 0 | X44: =SUM(G44:W44) -> 0
D45: ⑫ | E45: ⑩のうち再生利用業者への処理委託量 | G45: =+ｱ.特管廃油!$AS$24 -> 62.46 | H45: =+ｲ.特管廃酸!$AS$24 -> 0.01 | I45: =+ｳ.特管廃ｱﾙｶﾘ!$AS$24 -> 0 | J45: =+ｴ.感染性廃棄物!$AS$24 -> 12.28 | K45: =+ｵ.廃PCB等!$AS$24 -> 0 | L45: =+ｶ.PCB汚染物!$AS$24 -> 0 | M45: =+ｷ.PCB処理物!$AS$24 -> 0 | N45: =+ｸ.指定下水汚泥!$AS$24 -> 0 | O45: =+ｹ.有害鉱さい!$AS$24 -> 0 | P45: =+ｺ.廃石綿等!$AS$24 -> 0 | Q45: =+ｻ.有害ばいじん!$AS$24 -> 0 | R45: =+ｼ.有害燃え殻!$AS$24 -> 0 | S45: =+ｽ.有害廃油!$AS$24 -> 0 | T45: =+ｾ.有害汚泥!$AS$24 -> 0 | U45: =+ｿ.有害廃酸!$AS$24 -> 0 | V45: =+ﾀ.有害廃ｱﾙｶﾘ!$AS$24 -> 0 | W45: =+ﾁ.廃水銀等!$AS$24 -> 0.01 | X45: =SUM(G45:W45) -> 74.76
D46: ⑬ | E46: ⑩のうち認定熱回収業者への処理委託量 | G46: =+ｱ.特管廃油!$AS$27 -> 0 | H46: =+ｲ.特管廃酸!$AS$27 -> 0 | I46: =+ｳ.特管廃ｱﾙｶﾘ!$AS$27 -> 0 | J46: =+ｴ.感染性廃棄物!$AS$27 -> 0 | K46: =+ｵ.廃PCB等!$AS$27 -> 0 | L46: =+ｶ.PCB汚染物!$AS$27 -> 0 | M46: =+ｷ.PCB処理物!$AS$27 -> 0 | N46: =+ｸ.指定下水汚泥!$AS$27 -> 0 | O46: =+ｹ.有害鉱さい!$AS$27 -> 0 | P46: =+ｺ.廃石綿等!$AS$27 -> 0 | Q46: =+ｻ.有害ばいじん!$AS$27 -> 0 | R46: =+ｼ.有害燃え殻!$AS$27 -> 0 | S46: =+ｽ.有害廃油!$AS$27 -> 0 | T46: =+ｾ.有害汚泥!$AS$27 -> 0 | U46: =+ｿ.有害廃酸!$AS$27 -> 0 | V46: =+ﾀ.有害廃ｱﾙｶﾘ!$AS$27 -> 0 | W46: =+ﾁ.廃水銀等!$AS$27 -> 0 | X46: =SUM(G46:W46) -> 0
D47: ⑭ | E47: ⑩のうち認定熱回収業者以外の熱回収を行う業者への処理委託量 | G47: =+ｱ.特管廃油!$AS$31 -> 0 | H47: =+ｲ.特管廃酸!$AS$31 -> 0 | I47: =+ｳ.特管廃ｱﾙｶﾘ!$AS$31 -> 0 | J47: =+ｴ.感染性廃棄物!$AS$31 -> 0 | K47: =+ｵ.廃PCB等!$AS$31 -> 0 | L47: =+ｶ.PCB汚染物!$AS$31 -> 0 | M47: =+ｷ.PCB処理物!$AS$31 -> 0 | N47: =+ｸ.指定下水汚泥!$AS$31 -> 0 | O47: =+ｹ.有害鉱さい!$AS$31 -> 0 | P47: =+ｺ.廃石綿等!$AS$31 -> 0 | Q47: =+ｻ.有害ばいじん!$AS$31 -> 0 | R47: =+ｼ.有害燃え殻!$AS$31 -> 0 | S47: =+ｽ.有害廃油!$AS$31 -> 0 | T47: =+ｾ.有害汚泥!$AS$31 -> 0 | U47: =+ｿ.有害廃酸!$AS$31 -> 0 | V47: =+ﾀ.有害廃ｱﾙｶﾘ!$AS$31 -> 0 | W47: =+ﾁ.廃水銀等!$AS$31 -> 0 | X47: =SUM(G47:W47) -> 0
G48: ※この一括表には、特別管理産業廃棄物の種類ごとの処理フローに入力した量が表示されます。
G50: =IF(ｱ.特管廃油!$P$16="エラー！：⑥残さ物量があるのに、④自ら中間処理した量がゼロになっています",1,0) -> 0 | H50: =IF(ｲ.特管廃酸!$P$16="エラー！：⑥残さ物量があるのに、④自ら中間処理した量がゼロになっています",1,0) -> 0 | I50: =IF(ｳ.特管廃ｱﾙｶﾘ!$P$16="エラー！：⑥残さ物量があるのに、④自ら中間処理した量がゼロになっています",1,0) -> 0 | J50: =IF(ｴ.感染性廃棄物!$P$16="エラー！：⑥残さ物量があるのに、④自ら中間処理した量がゼロになっています",1,0) -> 0 | K50: =IF(ｵ.廃PCB等!$P$16="エラー！：⑥残さ物量があるのに、④自ら中間処理した量がゼロになっています",1,0) -> 0 | L50: =IF(ｶ.PCB汚染物!$P$16="エラー！：⑥残さ物量があるのに、④自ら中間処理した量がゼロになっています",1,0) -> 0 | M50: =IF(ｷ.PCB処理物!$P$16="エラー！：⑥残さ物量があるのに、④自ら中間処理した量がゼロになっています",1,0) -> 0 | N50: =IF(ｸ.指定下水汚泥!$P$16="エラー！：⑥残さ物量があるのに、④自ら中間処理した量がゼロになっています",1,0) -> 0 | O50: =IF(ｹ.有害鉱さい!$P$16="エラー！：⑥残さ物量があるのに、④自ら中間処理した量がゼロになっています",1,0) -> 0 | P50: =IF(ｺ.廃石綿等!$P$16="エラー！：⑥残さ物量があるのに、④自ら中間処理した量がゼロになっています",1,0) -> 0 | Q50: =IF(ｻ.有害ばいじん!$P$16="エラー！：⑥残さ物量があるのに、④自ら中間処理した量がゼロになっています",1,0) -> 0 | R50: =IF(ｼ.有害燃え殻!$P$16="エラー！：⑥残さ物量があるのに、④自ら中間処理した量がゼロになっています",1,0) -> 0 | S50: =IF(ｽ.有害廃油!$P$16="エラー！：⑥残さ物量があるのに、④自ら中間処理した量がゼロになっています",1,0) -> 0 | T50: =IF(ｾ.有害汚泥!$P$16="エラー！：⑥残さ物量があるのに、④自ら中間処理した量がゼロになっています",1,0) -> 0 | U50: =IF(ｿ.有害廃酸!$P$16="エラー！：⑥残さ物量があるのに、④自ら中間処理した量がゼロになっています",1,0) -> 0 | V50: =IF(ﾀ.有害廃ｱﾙｶﾘ!$P$16="エラー！：⑥残さ物量があるのに、④自ら中間処理した量がゼロになっています",1,0) -> 0 | W50: =IF(ﾁ.廃水銀等!$P$16="エラー！：⑥残さ物量があるのに、④自ら中間処理した量がゼロになっています",1,0) -> 0
G51: =IF(ｱ.特管廃油!$P$22="エラー !：④の内数である⑤の量が④を超えています",1,0) -> 0 | H51: =IF(ｲ.特管廃酸!$P$22="エラー !：④の内数である⑤の量が④を超えています",1,0) -> 0 | I51: =IF(ｳ.特管廃ｱﾙｶﾘ!$P$22="エラー !：④の内数である⑤の量が④を超えています",1,0) -> 0 | J51: =IF(ｴ.感染性廃棄物!$P$22="エラー !：④の内数である⑤の量が④を超えています",1,0) -> 0 | K51: =IF(ｵ.廃PCB等!$P$22="エラー !：④の内数である⑤の量が④を超えています",1,0) -> 0 | L51: =IF(ｶ.PCB汚染物!$P$22="エラー !：④の内数である⑤の量が④を超えています",1,0) -> 0 | M51: =IF(ｷ.PCB処理物!$P$22="エラー !：④の内数である⑤の量が④を超えています",1,0) -> 0 | N51: =IF(ｸ.指定下水汚泥!$P$22="エラー !：④の内数である⑤の量が④を超えています",1,0) -> 0 | O51: =IF(ｹ.有害鉱さい!$P$22="エラー !：④の内数である⑤の量が④を超えています",1,0) -> 0 | P51: =IF(ｺ.廃石綿等!$P$22="エラー !：④の内数である⑤の量が④を超えています",1,0) -> 0 | Q51: =IF(ｻ.有害ばいじん!$P$22="エラー !：④の内数である⑤の量が④を超えています",1,0) -> 0 | R51: =IF(ｼ.有害燃え殻!$P$22="エラー !：④の内数である⑤の量が④を超えています",1,0) -> 0 | S51: =IF(ｽ.有害廃油!$P$22="エラー !：④の内数である⑤の量が④を超えています",1,0) -> 0 | T51: =IF(ｾ.有害汚泥!$P$22="エラー !：④の内数である⑤の量が④を超えています",1,0) -> 0 | U51: =IF(ｿ.有害廃酸!$P$22="エラー !：④の内数である⑤の量が④を超えています",1,0) -> 0 | V51: =IF(ﾀ.有害廃ｱﾙｶﾘ!$P$22="エラー !：④の内数である⑤の量が④を超えています",1,0) -> 0 | W51: =IF(ﾁ.廃水銀等!$P$22="エラー !：④の内数である⑤の量が④を超えています",1,0) -> 0
G52: =IF(ｱ.特管廃油!$AL$31="エラー !：⑩の内数である⑪の量が⑩を超えています",1,0) -> 0 | H52: =IF(ｲ.特管廃酸!$AL$31="エラー !：⑩の内数である⑪の量が⑩を超えています",1,0) -> 0 | I52: =IF(ｳ.特管廃ｱﾙｶﾘ!$AL$31="エラー !：⑩の内数である⑪の量が⑩を超えています",1,0) -> 0 | J52: =IF(ｴ.感染性廃棄物!$AL$31="エラー !：⑩の内数である⑪の量が⑩を超えています",1,0) -> 0 | K52: =IF(ｵ.廃PCB等!$AL$31="エラー !：⑩の内数である⑪の量が⑩を超えています",1,0) -> 0 | L52: =IF(ｶ.PCB汚染物!$AL$31="エラー !：⑩の内数である⑪の量が⑩を超えています",1,0) -> 0 | M52: =IF(ｷ.PCB処理物!$AL$31="エラー !：⑩の内数である⑪の量が⑩を超えています",1,0) -> 0 | N52: =IF(ｸ.指定下水汚泥!$AL$31="エラー !：⑩の内数である⑪の量が⑩を超えています",1,0) -> 0 | O52: =IF(ｹ.有害鉱さい!$AL$31="エラー !：⑩の内数である⑪の量が⑩を超えています",1,0) -> 0 | P52: =IF(ｺ.廃石綿等!$AL$31="エラー !：⑩の内数である⑪の量が⑩を超えています",1,0) -> 0 | Q52: =IF(ｻ.有害ばいじん!$AL$31="エラー !：⑩の内数である⑪の量が⑩を超えています",1,0) -> 0 | R52: =IF(ｼ.有害燃え殻!$AL$31="エラー !：⑩の内数である⑪の量が⑩を超えています",1,0) -> 0 | S52: =IF(ｽ.有害廃油!$AL$31="エラー !：⑩の内数である⑪の量が⑩を超えています",1,0) -> 0 | T52: =IF(ｾ.有害汚泥!$AL$31="エラー !：⑩の内数である⑪の量が⑩を超えています",1,0) -> 0 | U52: =IF(ｿ.有害廃酸!$AL$31="エラー !：⑩の内数である⑪の量が⑩を超えています",1,0) -> 0 | V52: =IF(ﾀ.有害廃ｱﾙｶﾘ!$AL$31="エラー !：⑩の内数である⑪の量が⑩を超えています",1,0) -> 0 | W52: =IF(ﾁ.廃水銀等!$AL$31="エラー !：⑩の内数である⑪の量が⑩を超えています",1,0) -> 0
G53: =IF(ｱ.特管廃油!$AS$28="エラー !：⑩の内数である（⑫+⑬＋⑭）の量が⑩を超えています",1,0) -> 0 | H53: =IF(ｲ.特管廃酸!$AS$28="エラー !：⑩の内数である（⑫+⑬＋⑭）の量が⑩を超えています",1,0) -> 0 | I53: =IF(ｳ.特管廃ｱﾙｶﾘ!$AS$28="エラー !：⑩の内数である（⑫+⑬＋⑭）の量が⑩を超えています",1,0) -> 0 | J53: =IF(ｴ.感染性廃棄物!$AS$28="エラー !：⑩の内数である（⑫+⑬＋⑭）の量が⑩を超えています",1,0) -> 0 | K53: =IF(ｵ.廃PCB等!$AS$28="エラー !：⑩の内数である（⑫+⑬＋⑭）の量が⑩を超えています",1,0) -> 0 | L53: =IF(ｶ.PCB汚染物!$AS$28="エラー !：⑩の内数である（⑫+⑬＋⑭）の量が⑩を超えています",1,0) -> 0 | M53: =IF(ｷ.PCB処理物!$AS$28="エラー !：⑩の内数である（⑫+⑬＋⑭）の量が⑩を超えています",1,0) -> 0 | N53: =IF(ｸ.指定下水汚泥!$AS$28="エラー !：⑩の内数である（⑫+⑬＋⑭）の量が⑩を超えています",1,0) -> 0 | O53: =IF(ｹ.有害鉱さい!$AS$28="エラー !：⑩の内数である（⑫+⑬＋⑭）の量が⑩を超えています",1,0) -> 0 | P53: =IF(ｺ.廃石綿等!$AS$28="エラー !：⑩の内数である（⑫+⑬＋⑭）の量が⑩を超えています",1,0) -> 0 | Q53: =IF(ｻ.有害ばいじん!$AS$28="エラー !：⑩の内数である（⑫+⑬＋⑭）の量が⑩を超えています",1,0) -> 0 | R53: =IF(ｼ.有害燃え殻!$AS$28="エラー !：⑩の内数である（⑫+⑬＋⑭）の量が⑩を超えています",1,0) -> 0 | S53: =IF(ｽ.有害廃油!$AS$28="エラー !：⑩の内数である（⑫+⑬＋⑭）の量が⑩を超えています",1,0) -> 0 | T53: =IF(ｾ.有害汚泥!$AS$28="エラー !：⑩の内数である（⑫+⑬＋⑭）の量が⑩を超えています",1,0) -> 0 | U53: =IF(ｿ.有害廃酸!$AS$28="エラー !：⑩の内数である（⑫+⑬＋⑭）の量が⑩を超えています",1,0) -> 0 | V53: =IF(ﾀ.有害廃ｱﾙｶﾘ!$AS$28="エラー !：⑩の内数である（⑫+⑬＋⑭）の量が⑩を超えています",1,0) -> 0 | W53: =IF(ﾁ.廃水銀等!$AS$28="エラー !：⑩の内数である（⑫+⑬＋⑭）の量が⑩を超えています",1,0) -> 0
G54: =IF(ｱ.特管廃油!$AS$32="エラー !：⑩の内数である（⑫+⑬＋⑭）の量が⑩を超えています",1,0) -> 0 | H54: =IF(ｲ.特管廃酸!$AS$32="エラー !：⑩の内数である（⑫+⑬＋⑭）の量が⑩を超えています",1,0) -> 0 | I54: =IF(ｳ.特管廃ｱﾙｶﾘ!$AS$32="エラー !：⑩の内数である（⑫+⑬＋⑭）の量が⑩を超えています",1,0) -> 0 | J54: =IF(ｴ.感染性廃棄物!$AS$32="エラー !：⑩の内数である（⑫+⑬＋⑭）の量が⑩を超えています",1,0) -> 0 | K54: =IF(ｵ.廃PCB等!$AS$32="エラー !：⑩の内数である（⑫+⑬＋⑭）の量が⑩を超えています",1,0) -> 0 | L54: =IF(ｶ.PCB汚染物!$AS$32="エラー !：⑩の内数である（⑫+⑬＋⑭）の量が⑩を超えています",1,0) -> 0 | M54: =IF(ｷ.PCB処理物!$AS$32="エラー !：⑩の内数である（⑫+⑬＋⑭）の量が⑩を超えています",1,0) -> 0 | N54: =IF(ｸ.指定下水汚泥!$AS$32="エラー !：⑩の内数である（⑫+⑬＋⑭）の量が⑩を超えています",1,0) -> 0 | O54: =IF(ｹ.有害鉱さい!$AS$32="エラー !：⑩の内数である（⑫+⑬＋⑭）の量が⑩を超えています",1,0) -> 0 | P54: =IF(ｺ.廃石綿等!$AS$32="エラー !：⑩の内数である（⑫+⑬＋⑭）の量が⑩を超えています",1,0) -> 0 | Q54: =IF(ｻ.有害ばいじん!$AS$32="エラー !：⑩の内数である（⑫+⑬＋⑭）の量が⑩を超えています",1,0) -> 0 | R54: =IF(ｼ.有害燃え殻!$AS$32="エラー !：⑩の内数である（⑫+⑬＋⑭）の量が⑩を超えています",1,0) -> 0 | S54: =IF(ｽ.有害廃油!$AS$32="エラー !：⑩の内数である（⑫+⑬＋⑭）の量が⑩を超えています",1,0) -> 0 | T54: =IF(ｾ.有害汚泥!$AS$32="エラー !：⑩の内数である（⑫+⑬＋⑭）の量が⑩を超えています",1,0) -> 0 | U54: =IF(ｿ.有害廃酸!$AS$32="エラー !：⑩の内数である（⑫+⑬＋⑭）の量が⑩を超えています",1,0) -> 0 | V54: =IF(ﾀ.有害廃ｱﾙｶﾘ!$AS$32="エラー !：⑩の内数である（⑫+⑬＋⑭）の量が⑩を超えています",1,0) -> 0 | W54: =IF(ﾁ.廃水銀等!$AS$32="エラー !：⑩の内数である（⑫+⑬＋⑭）の量が⑩を超えています",1,0) -> 0
G55: =IF(G9="0",+G19+G20,+G9+G19+G20) -> 133.55 | H55: =IF(H9="0",+H19+H20,+H9+H19+H20) -> 0.01 | I55: =IF(I9="0",+I19+I20,+I9+I19+I20) -> 0 | J55: =IF(J9="0",+J19+J20,+J9+J19+J20) -> 28.79 | K55: =IF(K9="0",+K19+K20,+K9+K19+K20) -> 0 | L55: =IF(L9="0",+L19+L20,+L9+L19+L20) -> 0 | M55: =IF(M9="0",+M19+M20,+M9+M19+M20) -> 0 | N55: =IF(N9="0",+N19+N20,+N9+N19+N20) -> 0 | ... W55: =IF(W9="0",+W19+W20,+W9+W19+W20) -> 0.01 | X55: =+X9+X19+X20 -> 163.37

Sheet 印刷用表紙
C1: このページは、印刷用ページですので、入力できません。入力はシート「表紙」にしてください。
O3: 該当する欄に○印を記入してください。
A4: 14 | M4: ５ | N4: 法定 | O4: 自主
A5: =+#REF! -> #REF! | C5: 様式第二号の十四（第八条の十七の三関係） | N5: =+表紙!N28 -> ○ | O5: =+表紙!O28
C6: （第１面）
C8: 特別管理産業廃棄物処理計画実施状況報告書
L11: =+表紙!L34 -> 令和 8年 6月 30日
C13: =+表紙!C36 -> 横浜市長 | G13: 殿
A15: 3 | H15: 提出者
H16: 住 所 | J16: =+表紙!J39 -> 横浜市磯子区新森町1番地
H17: 氏 名 | J17: =+表紙!J40 -> 日清オイリオグループ株式会社 横浜磯子事業場 執行役員事業場長 川邊修
J18: （法人にあっては、名称及び代表者の氏名）
J19: 電話番号 | L19: =IF(+表紙!L42="","",+表紙!L42) -> 045₋757-5030
A22: 4 | C22: =表紙!C45 -> 廃棄物の処理及び清掃に関する法律第12条の２第11項の規定に基づき、令和７年度の特別管理産業廃棄物処理計画の実施状況を報告します。
C24: 事業場の名称 | F24: =+表紙!F47 -> 日清オイリオグループ株式会社 横浜磯子事業場 | M24: 自主管理事業登録番号
M25: =表紙!M48 -> 2033
C26: 事業場の所在地 | F26: =+表紙!F49 -> 横浜市磯子区新森町1番地 | L26: ＴＥＬ（連絡先）： | N26: =IF(+表紙!N49="","",+表紙!N49) -> 045-757-5050
C28: 当該事業場に関する事項
D29: ① | E29: 事業の種類 | F29: =IF(+表紙!F52="","",+表紙!F52) -> Ｅ09－食料品製造業 | J29: (具体的には） | L29: =IF(+表紙!L52="","",+表紙!L52) -> 植物油脂及び油粕製造業
D30: ② | E30: 事業の規模 | F30: 製造業 | I30: 製造品出荷額 | L30: =IF(+表紙!L53="","",+表紙!L53) | N30: 百万円／年
F31: 建設業 | I31: エリア内元請完成工事高 | L31: =IF(+表紙!L54="","",+表紙!L54) | N31: 百万円／年
D32: ※ 前年度実績を記入、医療機関は前年度末時点の病床数を記入。 | F32: 医療機関 | I32: 病床数 | L32: =IF(+表紙!L55="","",+表紙!L55) | N32: 床
F33: その他の業種 | I33: 売上高 | L33: =IF(+表紙!L56="","",+表紙!L56) | N33: 百万円／年
F34: （上記項目に該当しない場合にはこちらに記載をしてください。）
F35: =IF(+表紙!F58="","",+表紙!F58)
D36: ③ | E36: 従業員数 | F36: =IF(+表紙!F59="","",+表紙!F59) -> 682
C37: 特別管理産業廃棄物処理計画における計画期間 | F37: =+表紙!F60 -> 令和 ７ 年 ４ 月 １ 日 ～ 令和 ８ 年 ３ 月 31 日（ １ 年間）
C38: 特別管理産業廃棄物処理計画における目標値
D39: 項目 | H39: 目標値 | J39: 項目 | M39: 目標値
D40: 排出量 | H40: =+表紙!H63 -> 88.61 | I40: ｔ | J40: 全処理委託量 | M40: =+表紙!M63 -> 88.61 | N40: =+表紙!N63 -> 0 | O40: ｔ
D41: 自ら再生利用を行う特別管理産業廃棄物の量 | H41: =+表紙!H64 -> 0 | I41: ｔ | J41: 優良認定処理業者への処理委託量 | M41: =+表紙!M64 -> 0 | N41: =+表紙!N64 -> 0 | O41: ｔ
D42: 自ら熱回収を行う特別管理産業廃棄物の量 | H42: =+表紙!H65 -> 0 | I42: ｔ | J42: 再生利用業者への処理委託量 | M42: =+表紙!M65 -> 88.61 | N42: =+表紙!N65 -> 0 | O42: ｔ
D43: 自ら中間処理により減量する特別管理産業廃棄物の量 | H43: =+表紙!H66 -> 0 | I43: ｔ | J43: 熱回収認定業者への処理委託量 | M43: =+表紙!M66 -> 0 | N43: =+表紙!N66 -> 0 | O43: ｔ
D44: 自ら埋立処分を行う特別管理産業廃棄物の量 | H44: =+表紙!H67 -> 0 | I44: ｔ | J44: 熱回収認定業者以外の熱回収を行う業者への処理委託量 | M44: =+表紙!M67 -> 0 | N44: =+表紙!N67 -> 0 | O44: ｔ
C45: 電子情報処理組織の使用に関する事項 （電子マニフェストの使用に関する事項）
D46: 特別管理産業廃棄物排出量 （ﾎﾟﾘ塩化ﾋﾞﾌｪﾆﾙ廃棄物を除く。） | J46: =表紙!J69 -> 前々年度（令和６年度） | M46: =IF(表紙!M69="","",表紙!M69) | N46: t
J47: =表紙!J70 -> 前 年 度（令和７年度） | M47: =IF(表紙!M70="","",表紙!M70) -> 74.76 | N47: t
D48: （電子情報処理組織の使用に関して実施した取組）
D49: =IF(表紙!D72="","",表紙!D72)
C50: ※ 事務処理欄
C52: （第３面）
C53: 備考
A54: 11
C55: 1 | D55: =表紙!D78 -> 当該年度（令和８年度）の６月30日までに提出してください。 | G55: =表紙!G78 -> 0 | J55: =表紙!J78 -> 0 | M55: =表紙!M78 -> 0
C56: 2 | D56: 「当該事業場において現に行っている事業に関する事項」の欄は、以下に従って記入してください。
D57: (1) ①欄には、日本標準産業分類（中分類）の区分を記入してください。
D58: (2) ②欄には、製造業の場合における製造品出荷額（前年度実績）、建設業の場合における元請完成工事高 （前年度実績）、医療機関の場合における病床数（前年度末時点）等の業種に応じ事業規模が分かるような 前年度の実績を記入してください。
C59: 3 | D59: =表紙!D82 -> 「特別管理産業廃棄物処理計画における目標値」の欄には、前年度（令和７年度）提出の特別管理産業廃棄物処理計画に記載した目標量を記入してください。 | G59: =表紙!G82 -> 0 | J59: =表紙!J82 -> 0 | M59: =表紙!M82 -> 0
C60: 4 | D60: =表紙!D83 -> 第2面（様式５-２）には、前年度（令和７年度）の特別管理産業廃棄物処理実績に関して①～⑭の欄のそれぞれに、(1)から(14)に掲げる量を記入してください。 | G60: =表紙!G83 -> 0 | J60: =表紙!J83 -> 0 | M60: =表紙!M83 -> 0
D61: (１) | E61: ①欄 当該事業場において生じた特別管理産業廃棄物の量
D62: (２) | E62: ②欄 (１)の量のうち、中間処理をせず直接自ら再生利用した量
D63: (３) | E63: ③欄 (１)の量のうち、中間処理をせず直接自ら埋立処分した量
D64: (４) | E64: ④欄 (１)の量のうち、自ら中間処理をした特別管理産業廃棄物の当該中間処理前の量
D65: (５) | E65: ⑤欄 (４)の量のうち、熱回収を行った量
D66: (６) | E66: ⑥欄 自ら中間処理をした後の量
D67: (７) | E67: ⑦欄 (４)の量から(６)の量を差し引いた量
D68: (８) | E68: ⑧欄 (６)の量のうち、自ら利用し、又は他人に売却した量
D69: (９) | E69: ⑨欄 (６)の量のうち、自ら埋立処分及び海洋投入処分した量
D70: (10) | E70: ⑩欄 中間処理及び最終処分を委託した量
D71: (11) | E71: ⑪欄 (10)の量のうち、優良認定処理業者（廃棄物の処理及び清掃に関する法律施行令第６条の11第２号に該当する者）への処理委託量
D72: (12) | E72: ⑫欄 (10)の量のうち、処理業者への再生利用委託量
... D74: (14) | E74: ⑭欄 (10)の量のうち、認定熱回収施設設置者以外の熱回収を行っている処理業者への焼却処理委託量
C75: 5 | D75: 第２面（様式５-２）の左下の表には、項目ごとに、特別管理産業廃棄物処理計画に記載したそれぞれの実績値を記入してください。
C76: 6 | D76: =表紙!D99 -> 「電子情報処理組織の使用に関する事項」の欄は、前々年度（令和６年度）及び前年度（令和７年度）における特別管理産業廃棄物の排出量（ポリ塩化ビフェニル廃棄物（令第２条の４第５号イからハまでに掲げるものをいう。）を除く。）並びに電子情報処理組織使用義務者にあっては前年度（令和７年度）に実施した電子情報処理組織に関する取組（情報処理センターへの登録が困難な場合として廃棄物の処理及び清掃に関する法律成功規則第８条の31の４に該当したときは、その旨及び理由を含む。）について記入すること。 | G76: =表紙!G99 -> 0 | J76: =表紙!J99 -> 0 | M76: =表紙!M99 -> 0
C77: 7 | D77: 第１面の※欄には、何も記入しないでください。
