Workbook

Sheet 表紙
C2: 【注 意】
C3: ① このファイルは、特別管理産業廃棄物用の法定と自主管理の共通様式です。
C4: 法定様式として提出する場合はN28セルの「○」を選択し、自主管理様式として提出する場合はO28セルの「○」を選択してください。
C5: ② 様式４と様式５の両方を提出する場合は、先に様式５を入力してください。様式５の情報を様式４へ反映させることができます。
C7: 【手 順】
C8: ① 様式１の情報を反映させることができます。
D9: 本ファイルは閉じ、2026form6.xlsmを開き「⑧事業場情報等の反映」をクリックして下さい。
E10: （様式１から反映→提出先、提出者情報、事業場情報、事業の種類、事業規模）
C11: ② 表紙シートの黄色、水色のセルで、入力されていないセルを入力あるいは選択してください。
C12: ③ 次に、廃棄物の種類ごとの処理フローを、シート「ア.特管廃油」から順番に各シートに記載してください。
C13: ④ 記載したデータに誤りがないか、別紙（一括表）などを見て再確認をお願いいたします。
C15: ＊ 印刷を行いたい場合は、本ファイルを閉じ、2026form6.xlsmを開き「印刷ボタン（様式５）」をクリックしてください。
C16: 提出に必要な表紙、別紙(一括表）および各フロー図が自動的にプリントされます。
C17: ※マクロが使用できない場合は、本ファイルのシート名「印刷用表紙」「別紙」及び該当する廃棄物のシートを 「ファイル」→「印刷」の手順で印刷をしてください。
C19: 【セル色の説明】
E20: ：セルの右上に▼がある場合、ポインタをそのセルにあわせると、説明文が表示されます
C21: 薄黄色 | E21: ：プルダウン・メニューから選択してください。セルを選択して右側に現れる▼をクリックすると選択肢のリストが出てきます。
C22: 薄水色 | E22: ：内容・データ等を入力してください
C23: 薄橙色 | E23: ：自動処理されるので、変更できません。
C24: 薄黄緑 | E24: ：他様式の情報を反映させることができます。
E25: 直接入力することも可能です。
O26: 該当する欄に○印を記入してください。
A27: 14 | M27: ５ | N27: 法定 | O27: 自主
A28: =+R91 -> 0 | C28: 様式第二号の十四（第八条の十七の三関係） | N28: ○
C29: （第１面）
C31: 特別管理産業廃棄物処理計画実施状況報告書
L34: 令和 8年 6月 30日
C36: 横浜市長 | G36: 殿
A38: 3 | H38: 提出者
H39: 住 所 | J39: 横浜市磯子区新森町1番地
H40: 氏 名 | J40: 日清オイリオグループ株式会社 横浜磯子事業場 執行役員事業場長 川邊修
J41: （法人にあっては、名称及び代表者の氏名）
J42: 電話番号 | L42: 045₋757-5030
A45: 4 | C45: 廃棄物の処理及び清掃に関する法律第12条の２第11項の規定に基づき、令和７年度の特別管理産業廃棄物処理計画の実施状況を報告します。
C47: 事業場の名称 | F47: 日清オイリオグループ株式会社 横浜磯子事業場 | M47: 自主管理事業登録番号
M48: 2033
C49: 事業場の所在地 | F49: 横浜市磯子区新森町1番地 | L49: ＴＥＬ（連絡先）： | N49: 045-757-5050
C51: 当該事業場に関する事項
D52: ① | E52: 事業の種類 | F52: Ｅ09－食料品製造業 | J52: (具体的には） | L52: 植物油脂及び油粕製造業
D53: ② | E53: 事業の規模 | F53: 製造業 | I53: 製造品出荷額 | N53: 百万円／年
...

Sheet ｱ.特管廃油
S1: ↓ | T1: 注意：本年度の目標量のみでフロー図の実績データがない場合にも、本年度目標データを該当欄に入力してください
B2: 特別管理産業廃棄物処理計画実施状況報告書
AP3: ５－２ | AS3: 法定 | AU3: 自主
AS4: =+表紙!N28 -> ○ | AU4: =+表紙!O28
B5: 別紙処理フロー | Z5: 事業場名称 | AE5: ： | AF5: =+表紙!F47 -> 日清オイリオグループ株式会社 横浜磯子事業場
B6: 令和７年度に発生した特別管理産業廃棄物ごとの量と処理計画の実施結果
B7: フローに記載した特別管理産業廃棄物の種類 | D7: ア. 特管廃油
B8: ※ | C8: 本用紙は廃棄物の種類ごとに1枚の記載となります。異なる廃棄物の処理フローは別シートに記載してください。 | AH8: ⑧ | AI8: 自ら中間処理した後再生利用した量
B9: （単位：t/年） | F9: 有償物量 | AE9: ａ残さ物の自己処理 | AN9: ｔ
C11: 不要物等発生量 | F11: ① | G11: 当該事業場における排出量 | M11: Ａ 自己処理 | P11: ② | Q11: 自ら直接再生利用した量 | AH11: ⑨ | AI11: 自ら中間処理した後自ら埋立処分又は海洋投入処分した量
F12: =+ROUND(P12,2)+ROUND(P15,2)+ROUND(P18,2)+ROUND(P24,2)+P27-ROUND(F15,2) -> 62.46 | I12: ｔ | T12: ｔ | AN12: ｔ
F14: ※１ | G14: 自社の他事業場からの搬入量 | P14: ③ | Q14: 自ら直接埋立処分した量 | AH14: ※3 | AI14: 自ら中間処理した後自社の他事業場での処理量
I15: ｔ | T15: ｔ | AN15: ｔ | AS15: （目的別内訳）
P16: =+IF(Y18=0,"",IF(Y18-P18=Y18,"エラー！：⑥残さ物量があるのに、④自ら中間処理した量がゼロになっています","")) | AS16: 再生利用前 委託量 | AV16: ｔ
P17: ④ | Q17: 自ら中間処理した量 | Y17: ⑥ | Z17: 自ら中間処理した後の残さ量 | AE17: ｂ残さ物の委託処理 | AH17: ｂ | AI17: 自ら中間処理した後の処理委託量 | AO17: ｂ-1 中間処理委託量 | AS17: 最終処分前 委託量 | AV17: ｔ
T18: ｔ | Y18: =+ROUND(AH9,2)+ROUND(AH12,2)+ROUND(AH15,2)+AH18 -> 0 | AB18: ｔ | AH18: =+ROUND(AO18,2)+ROUND(AO21,2) -> 0 | AL18: ｔ | AO18: =+ROUND(AU16,2)+ROUND(AU17,2)+ROUND(AU18,2) -> 0 | AP18: ｔ | AS18: 下水等放流前委託量 | AV18: ｔ | AW18: （第2面）
P20: ⑤ | Q20: ④のうち熱回収を行った量 | Y20: ⑦ | Z20: 自ら中間処理により減量した量 | AO20: ｂ-2 最終処分委託量
B21: 注）右上のフローには、令和７年度の実績値を記載してください。下表の中央列には、令和７年度目標値を記載してください。下表の右列は、右上フローに記載された令和７年度実績値が自動的に計算されます。 | T21: ｔ | Y21: =+P18-Y18 -> 0 | AB21: ｔ | AP21: ｔ
P22: =+IF(P21=0,"",IF(P18<P21,"エラー !：④の内数である⑤の量が④を超えています",""))
B23: 項 目 | D23: 令和７年度 目標値 | H23: 令和７年度 実績値 | P23: ※２ | Q23: 自社の他事業場での処理量 | AS23: ⑫ | AT23: ⑩のうち再生利用業者への処理委託量
B24: ① 排出量 | D24: 71.09 | G24: t | H24: =+F12 -> 62.46 | J24: t | T24: ｔ | AS24: =+ROUND(AU16,2)+ROUND(AA28,2) -> 62.46 | AV24: ｔ
B25: ②＋⑧ 自ら再生利用を行った量 | D25: 0 | G25: t | H25: =+P12+AH9 -> 0 | J25: t
B26: ⑤ 自ら熱回収を行った量 | D26: 0 | G26: t | H26: =+P21 -> 0 | J26: t | M26: Ｂ 直接委託処理 | P26: Ｂ | Q26: 直接処理委託量 | AL26: ⑩ | AM26: 直接及び自ら中間処理した後の処理委託量 | AS26: ⑬ | AT26: ⑩のうち認定熱回収業者への処理委託量
B27: ⑦ 自ら中間処理により減量した量 | D27: 0 | G27: t | H27: =+Y21 -> 0 | J27: t | P27: =+R30+ROUND(R33,2) -> 62.46 | T27: ｔ | Y27: （目的別内訳） | AL27: =+AH18+P27 -> 62.46 | AP27: ｔ | AV27: ｔ
B28: ③＋⑨ 自ら埋立処分又は海洋投入処分を行った量 | D28: 0 | G28: t | H28: =+P15+AH12 -> 0 | J28: t | Y28: 再生利用前委託量 | AA28: 62.46 | AF28: ｔ | AS28: =+IF(AS27=0,"",IF(AL27<(AS24+AS27+AS31),"エラー !：⑩の内数である（⑫+⑬＋⑭）の量が⑩を超えています",""))
B29: ⑩ 全処理委託量 | D29: 71.09 | G29: t | H29: =+AL27 -> 62.46 | J29: t | R29: B-1 | S29: 中間処理委託量 | Y29: 最終処分前委託量 | AF29: ｔ | AL29: ⑪ | AM29: ⑩のうち優良認定処理業者への処理委託量 | AS29: ⑭ | AT29: ⑩のうち認定熱回収業者以外の熱回収を行う業者への処理委託量
B30: ⑪ 優良認定処理業者への処理委託量 | D30: 0 | G30: t | H30: =+AL30 -> 0 | J30: t | R30: =+ROUND(AA28,2)+ROUND(AA29,2)+ROUND(AA30,2) -> 62.46 | V30: ｔ | Y30: 下水等放流前委託量 | AF30: ｔ | AP30: ｔ
B31: ⑫ 再生利用業者への処理委託量 | D31: 71.09 | G31: t | H31: =+AS24 -> 62.46 | J31: t | AA31: 【特別管理産業廃棄物の種類 （ア～チ）】 | AL31: =+IF(AL30=0,"",IF(AL27<AL30,"エラー !：⑩の内数である⑪の量が⑩を超えています","")) | AV31: ｔ
B32: ⑬ 認定熱回収業者への処理委託量 | D32: 0 | G32: t | H32: =+AS27 -> 0 | J32: t | R32: B-2 | S32: 最終処分委託量 | AA32: ア. 特管廃油 イ. 特管廃酸 (pH2以下) ウ. 特管廃アルカリ (pH12.5以上) エ. 感染性廃棄物 | AG32: オ. 廃ＰＣＢ等 カ. ＰＣＢ汚染物 キ. ＰＣＢ処理物 ク. 指定下水汚泥 ケ. 有害鉱さい コ. 廃石綿等 | AK32: サ. 有害ばいじん チ. 廃水銀等 シ. 有害燃え殻 ス. 有害廃油 セ. 有害汚泥 ソ. 有害廃酸 タ. 有害廃アルカリ | AS32: =+IF(AS31=0,"",IF(AL27<(AS24+AS27+AS31),"エラー !：⑩の内数である（⑫+⑬＋⑭）の量が⑩を超えています",""))
B33: ⑭ 認定熱回収業者以外の熱回収を行う業者への処理委託量 | D33: 0 | G33: t | H33: =+AS31 -> 0 | J33: t | V33: ｔ
C34: =+IF(D30=0,"",IF(D29<D30,"エラー !：上の表は、⑩の内数である⑪の量が⑩を超えています",""))
C35: =+IF(D31=0,"",IF(D29<D31,"エラー !：上の表は、⑩の内数である⑫の量が⑩を超えています",""))
C36: =+IF(D32=0,"",IF(D29<D32,"エラー !：上の表は、⑩の内数である⑬の量が⑩を超えています",""))
C37: =+IF(D33=0,"",IF(D29<D33,"エラー !：上の表は、⑩の内数である⑭の量が⑩を超えています",""))

Sheet ｲ.特管廃酸
S1: ↓ | T1: 注意：本年度の目標量のみでフロー図の実績データがない場合にも、本年度目標データを該当欄に入力してください
B2: 特別管理産業廃棄物処理計画実施状況報告書
AP3: ５－２ | AS3: 法定 | AU3: 自主
AS4: =+表紙!N28 -> ○ | AU4: =+表紙!O28
B5: 別紙処理フロー | Z5: 事業場名称 | AE5: ： | AF5: =+表紙!F47 -> 日清オイリオグループ株式会社 横浜磯子事業場
B6: 令和７年度に発生した特別管理産業廃棄物ごとの量と処理計画の実施結果
B7: フローに記載した特別管理産業廃棄物の種類 | D7: イ. 特管廃酸(pH2以下)
B8: ※ | C8: 本用紙は廃棄物の種類ごとに1枚の記載となります。異なる廃棄物の処理フローは別シートに記載してください。 | AH8: ⑧ | AI8: 自ら中間処理した後再生利用した量
B9: （単位：t/年） | F9: 有償物量 | AE9: ａ残さ物の自己処理 | AN9: ｔ
C11: 不要物等発生量 | F11: ① | G11: 当該事業場における排出量 | M11: Ａ 自己処理 | P11: ② | Q11: 自ら直接再生利用した量 | AH11: ⑨ | AI11: 自ら中間処理した後自ら埋立処分又は海洋投入処分した量
F12: =+ROUND(P12,2)+ROUND(P15,2)+ROUND(P18,2)+ROUND(P24,2)+P27-ROUND(F15,2) -> 0.01 | I12: ｔ | T12: ｔ | AN12: ｔ
F14: ※１ | G14: 自社の他事業場からの搬入量 | P14: ③ | Q14: 自ら直接埋立処分した量 | AH14: ※3 | AI14: 自ら中間処理した後自社の他事業場での処理量
I15: ｔ | T15: ｔ | AN15: ｔ | AS15: （目的別内訳）
P16: =+IF(Y18=0,"",IF(Y18-P18=Y18,"エラー！：⑥残さ物量があるのに、④自ら中間処理した量がゼロになっています","")) | AS16: 再生利用前委託量 | AV16: ｔ
P17: ④ | Q17: 自ら中間処理した量 | Y17: ⑥ | Z17: 自ら中間処理した後の残さ量 | AE17: ｂ残さ物の委託処理 | AH17: ｂ | AI17: 自ら中間処理した後の処理委託量 | AO17: ｂ-1 中間処理委託量 | AS17: 最終処分前 委託量 | AV17: ｔ
T18: ｔ | Y18: =+ROUND(AH9,2)+ROUND(AH12,2)+ROUND(AH15,2)+AH18 -> 0 | AB18: ｔ | AH18: =+ROUND(AO18,2)+ROUND(AO21,2) -> 0 | AL18: ｔ | AO18: =+ROUND(AU16,2)+ROUND(AU17,2)+ROUND(AU18,2) -> 0 | AP18: ｔ | AS18: 下水等放流前委託量 | AV18: ｔ | AW18: （第2面）
P20: ⑤ | Q20: ④のうち熱回収を行った量 | Y20: ⑦ | Z20: 自ら中間処理により減量した量 | AO20: ｂ-2 最終処分委託量
B21: 注）右上のフローには、令和７年度の実績値を記載してください。下表の中央列には、令和７年度目標値を記載してください。下表の右列は、右上フローに記載された令和７年度実績値が自動的に計算されます。 | T21: ｔ | Y21: =+P18-Y18 -> 0 | AB21: ｔ | AP21: ｔ
P22: =+IF(P21=0,"",IF(P18<P21,"エラー !：④の内数である⑤の量が④を超えています",""))
B23: 項 目 | D23: 令和７年度 目標値 | H23: 令和７年度 実績値 | P23: ※２ | Q23: 自社の他事業場での処理量 | AS23: ⑫ | AT23: ⑩のうち再生利用業者への処理委託量
B24: ① 排出量 | D24: 0 | G24: t | H24: =+F12 -> 0.01 | J24: t | T24: ｔ | AS24: =+ROUND(AU16,2)+ROUND(AA28,2) -> 0.01 | AV24: ｔ
B25: ②＋⑧ 自ら再生利用を行った量 | D25: 0 | G25: t | H25: =+P12+AH9 -> 0 | J25: t
B26: ⑤ 自ら熱回収を行った量 | D26: 0 | G26: t | H26: =+P21 -> 0 | J26: t | M26: Ｂ 直接委託処理 | P26: Ｂ | Q26: 直接処理委託量 | AL26: ⑩ | AM26: 直接及び自ら中間処理した後の処理委託量 | AS26: ⑬ | AT26: ⑩のうち認定熱回収業者への処理委託量
B27: ⑦ 自ら中間処理により減量した量 | D27: 0 | G27: t | H27: =+Y21 -> 0 | J27: t | P27: =+R30+ROUND(R33,2) -> 0.01 | T27: ｔ | Y27: （目的別内訳） | AL27: =+AH18+P27 -> 0.01 | AP27: ｔ | AV27: ｔ
B28: ③＋⑨ 自ら埋立処分又は海洋投入処分を行った量 | D28: 0 | G28: t | H28: =+P15+AH12 -> 0 | J28: t | Y28: 再生利用前委託量 | AA28: 0.01 | AF28: ｔ | AS28: =+IF(AS27=0,"",IF(AL27<(AS24+AS27+AS31),"エラー !：⑩の内数である（⑫+⑬＋⑭）の量が⑩を超えています",""))
B29: ⑩ 全処理委託量 | D29: 0 | G29: t | H29: =+AL27 -> 0.01 | J29: t | R29: B-1 | S29: 中間処理委託量 | Y29: 最終処分前委託量 | AF29: ｔ | AL29: ⑪ | AM29: ⑩のうち優良認定処理業者への処理委託量 | AS29: ⑭ | AT29: ⑩のうち認定熱回収業者以外の熱回収を行う業者への処理委託量
B30: ⑪ 優良認定処理業者への処理委託量 | D30: 0 | G30: t | H30: =+AL30 -> 0 | J30: t | R30: =+ROUND(AA28,2)+ROUND(AA29,2)+ROUND(AA30,2) -> 0.01 | V30: ｔ | Y30: 下水等放流前委託量 | AF30: ｔ | AP30: ｔ
B31: ⑫ 再生利用業者への処理委託量 | D31: 0 | G31: t | H31: =+AS24 -> 0.01 | J31: t | AA31: 【特別管理産業廃棄物の種類 （ア～チ）】 | AL31: =+IF(AL30=0,"",IF(AL27<AL30,"エラー !：⑩の内数である⑪の量が⑩を超えています","")) | AV31: ｔ
B32: ⑬ 認定熱回収業者への処理委託量 | D32: 0 | G32: t | H32: =+AS27 -> 0 | J32: t | R32: B-2 | S32: 最終処分委託量 | AA32: ア. 特管廃油 イ. 特管廃酸 (pH2以下) ウ. 特管廃アルカリ (pH12.5以上) エ. 感染性廃棄物 | AG32: オ. 廃ＰＣＢ等 カ. ＰＣＢ汚染物 キ. ＰＣＢ処理物 ク. 指定下水汚泥 ケ. 有害鉱さい コ. 廃石綿等 | AK32: サ. 有害ばいじん チ. 廃水銀等 シ. 有害燃え殻 ス. 有害廃油 セ. 有害汚泥 ソ. 有害廃酸 タ. 有害廃アルカリ | AS32: =+IF(AS31=0,"",IF(AL27<(AS24+AS27+AS31),"エラー !：⑩の内数である（⑫+⑬＋⑭）の量が⑩を超えています",""))
B33: ⑭ 認定熱回収業者以外の熱回収を行う業者への処理委託量 | D33: 0 | G33: t | H33: =+AS31 -> 0 | J33: t | V33: ｔ
C34: =+IF(D30=0,"",IF(D29<D30,"エラー !：上の表は、⑩の内数である⑪の量が⑩を超えています",""))
C35: =+IF(D31=0,"",IF(D29<D31,"エラー !：上の表は、⑩の内数である⑫の量が⑩を超えています",""))
C36: =+IF(D32=0,"",IF(D29<D32,"エラー !：上の表は、⑩の内数である⑬の量が⑩を超えています",""))
C37: =+IF(D33=0,"",IF(D29<D33,"エラー !：上の表は、⑩の内数である⑭の量が⑩を超えています",""))

Sheet ｳ.特管廃ｱﾙｶﾘ
S1: ↓ | T1: 注意：本年度の目標量のみでフロー図の実績データがない場合にも、本年度目標データを該当欄に入力してください
B2: 特別管理産業廃棄物処理計画実施状況報告書
AP3: ５－２ | AS3: 法定 | AU3: 自主
AS4: =+表紙!N28 -> ○ | AU4: =+表紙!O28
B5: 別紙処理フロー | Z5: 事業場名称 | AE5: ： | AF5: =+表紙!F47 -> 日清オイリオグループ株式会社 横浜磯子事業場
B6: 令和７年度に発生した特別管理産業廃棄物ごとの量と処理計画の実施結果
B7: フローに記載した特別管理産業廃棄物の種類 | D7: ウ. 特管廃アルカリ (pH12.5以上)
B8: ※ | C8: 本用紙は廃棄物の種類ごとに1枚の記載となります。異なる廃棄物の処理フローは別シートに記載してください。 | AH8: ⑧ | AI8: 自ら中間処理した後再生利用した量
B9: （単位：t/年） | F9: 有償物量 | AE9: ａ残さ物の自己処理 | AN9: ｔ
C11: 不要物等発生量 | F11: ① | G11: 当該事業場における排出量 | M11: Ａ 自己処理 | P11: ② | Q11: 自ら直接再生利用した量 | AH11: ⑨ | AI11: 自ら中間処理した後自ら埋立処分又は海洋投入処分した量
F12: =+ROUND(P12,2)+ROUND(P15,2)+ROUND(P18,2)+ROUND(P24,2)+P27-ROUND(F15,2) -> 0 | I12: ｔ | T12: ｔ | AN12: ｔ
F14: ※１ | G14: 自社の他事業場からの搬入量 | P14: ③ | Q14: 自ら直接埋立処分した量 | AH14: ※3 | AI14: 自ら中間処理した後自社の他事業場での処理量
I15: ｔ | T15: ｔ | AN15: ｔ | AS15: （目的別内訳）
P16: =+IF(Y18=0,"",IF(Y18-P18=Y18,"エラー！：⑥残さ物量があるのに、④自ら中間処理した量がゼロになっています","")) | AS16: 再生利用前委託量 | AV16: ｔ
P17: ④ | Q17: 自ら中間処理した量 | Y17: ⑥ | Z17: 自ら中間処理した後の残さ量 | AE17: ｂ残さ物の委託処理 | AH17: ｂ | AI17: 自ら中間処理した後の処理委託量 | AO17: ｂ-1 中間処理委託量 | AS17: 最終処分前 委託量 | AV17: ｔ
T18: ｔ | Y18: =+ROUND(AH9,2)+ROUND(AH12,2)+ROUND(AH15,2)+AH18 -> 0 | AB18: ｔ | AH18: =+ROUND(AO18,2)+ROUND(AO21,2) -> 0 | AL18: ｔ | AO18: =+ROUND(AU16,2)+ROUND(AU17,2)+ROUND(AU18,2) -> 0 | AP18: ｔ | AS18: 下水等放流前委託量 | AV18: ｔ | AW18: （第2面）
P20: ⑤ | Q20: ④のうち熱回収を行った量 | Y20: ⑦ | Z20: 自ら中間処理により減量した量 | AO20: ｂ-2 最終処分委託量
B21: 注）右上のフローには、令和７年度の実績値を記載してください。下表の中央列には、令和７年度目標値を記載してください。下表の右列は、右上フローに記載された令和７年度実績値が自動的に計算されます。 | T21: ｔ | Y21: =+P18-Y18 -> 0 | AB21: ｔ | AP21: ｔ
P22: =+IF(P21=0,"",IF(P18<P21,"エラー !：④の内数である⑤の量が④を超えています",""))
B23: 項 目 | D23: 令和７年度 目標値 | H23: 令和７年度 実績値 | P23: ※２ | Q23: 自社の他事業場での処理量 | AS23: ⑫ | AT23: ⑩のうち再生利用業者への処理委託量
B24: ① 排出量 | D24: 0 | G24: t | H24: =+F12 -> 0 | J24: t | T24: ｔ | AS24: =+ROUND(AU16,2)+ROUND(AA28,2) -> 0 | AV24: ｔ
B25: ②＋⑧ 自ら再生利用を行った量 | D25: 0 | G25: t | H25: =+P12+AH9 -> 0 | J25: t
B26: ⑤ 自ら熱回収を行った量 | D26: 0 | G26: t | H26: =+P21 -> 0 | J26: t | M26: Ｂ 直接委託処理 | P26: Ｂ | Q26: 直接処理委託量 | AL26: ⑩ | AM26: 直接及び自ら中間処理した後の処理委託量 | AS26: ⑬ | AT26: ⑩のうち認定熱回収業者への処理委託量
B27: ⑦ 自ら中間処理により減量した量 | D27: 0 | G27: t | H27: =+Y21 -> 0 | J27: t | P27: =+R30+ROUND(R33,2) -> 0 | T27: ｔ | Y27: （目的別内訳） | AL27: =+AH18+P27 -> 0 | AP27: ｔ | AV27: ｔ
B28: ③＋⑨ 自ら埋立処分又は海洋投入処分を行った量 | D28: 0 | G28: t | H28: =+P15+AH12 -> 0 | J28: t | Y28: 再生利用前委託量 | AF28: ｔ | AS28: =+IF(AS27=0,"",IF(AL27<(AS24+AS27+AS31),"エラー !：⑩の内数である（⑫+⑬＋⑭）の量が⑩を超えています",""))
B29: ⑩ 全処理委託量 | D29: 0 | G29: t | H29: =+AL27 -> 0 | J29: t | R29: B-1 | S29: 中間処理委託量 | Y29: 最終処分前委託量 | AF29: ｔ | AL29: ⑪ | AM29: ⑩のうち優良認定処理業者への処理委託量 | AS29: ⑭ | AT29: ⑩のうち認定熱回収業者以外の熱回収を行う業者への処理委託量
B30: ⑪ 優良認定処理業者への処理委託量 | D30: 0 | G30: t | H30: =+AL30 -> 0 | J30: t | R30: =+ROUND(AA28,2)+ROUND(AA29,2)+ROUND(AA30,2) -> 0 | V30: ｔ | Y30: 下水等放流前委託量 | AF30: ｔ | AP30: ｔ
B31: ⑫ 再生利用業者への処理委託量 | D31: 0 | G31: t | H31: =+AS24 -> 0 | J31: t | AA31: 【特別管理産業廃棄物の種類 （ア～チ）】 | AL31: =+IF(AL30=0,"",IF(AL27<AL30,"エラー !：⑩の内数である⑪の量が⑩を超えています","")) | AV31: ｔ
B32: ⑬ 認定熱回収業者への処理委託量 | D32: 0 | G32: t | H32: =+AS27 -> 0 | J32: t | R32: B-2 | S32: 最終処分委託量 | AA32: ア. 特管廃油 イ. 特管廃酸 (pH2以下) ウ. 特管廃アルカリ (pH12.5以上) エ. 感染性廃棄物 | AG32: オ. 廃ＰＣＢ等 カ. ＰＣＢ汚染物 キ. ＰＣＢ処理物 ク. 指定下水汚泥 ケ. 有害鉱さい コ. 廃石綿等 | AK32: サ. 有害ばいじん チ. 廃水銀等 シ. 有害燃え殻 ス. 有害廃油 セ. 有害汚泥 ソ. 有害廃酸 タ. 有害廃アルカリ | AS32: =+IF(AS31=0,"",IF(AL27<(AS24+AS27+AS31),"エラー !：⑩の内数である（⑫+⑬＋⑭）の量が⑩を超えています",""))
B33: ⑭ 認定熱回収業者以外の熱回収を行う業者への処理委託量 | D33: 0 | G33: t | H33: =+AS31 -> 0 | J33: t | V33: ｔ
C34: =+IF(D30=0,"",IF(D29<D30,"エラー !：上の表は、⑩の内数である⑪の量が⑩を超えています",""))
C35: =+IF(D31=0,"",IF(D29<D31,"エラー !：上の表は、⑩の内数である⑫の量が⑩を超えています",""))
C36: =+IF(D32=0,"",IF(D29<D32,"エラー !：上の表は、⑩の内数である⑬の量が⑩を超えています",""))
C37: =+IF(D33=0,"",IF(D29<D33,"エラー !：上の表は、⑩の内数である⑭の量が⑩を超えています",""))

Sheet ｴ.感染性廃棄物
S1: ↓ | T1: 注意：本年度の目標量のみでフロー図の実績データがない場合にも、本年度目標データを該当欄に入力してください
B2: 特別管理産業廃棄物処理計画実施状況報告書
AP3: ５－２ | AS3: 法定 | AU3: 自主
AS4: =+表紙!N28 -> ○ | AU4: =+表紙!O28
B5: 別紙処理フロー | Z5: 事業場名称 | AE5: ： | AF5: =+表紙!F47 -> 日清オイリオグループ株式会社 横浜磯子事業場
B6: 令和７年度に発生した特別管理産業廃棄物ごとの量と処理計画の実施結果
B7: フローに記載した特別管理産業廃棄物の種類 | D7: エ. 感染性廃棄物
B8: ※ | C8: 本用紙は廃棄物の種類ごとに1枚の記載となります。異なる廃棄物の処理フローは別シートに記載してください。 | AH8: ⑧ | AI8: 自ら中間処理した後再生利用した量
B9: （単位：t/年） | F9: 有償物量 | AE9: ａ残さ物の自己処理 | AN9: ｔ
C11: 不要物等発生量 | F11: ① | G11: 当該事業場における排出量 | M11: Ａ 自己処理 | P11: ② | Q11: 自ら直接再生利用した量 | AH11: ⑨ | AI11: 自ら中間処理した後自ら埋立処分又は海洋投入処分した量
F12: =+ROUND(P12,2)+ROUND(P15,2)+ROUND(P18,2)+ROUND(P24,2)+P27-ROUND(F15,2) -> 12.28 | I12: ｔ | T12: ｔ | AN12: ｔ
F14: ※１ | G14: 自社の他事業場からの搬入量 | P14: ③ | Q14: 自ら直接埋立処分した量 | AH14: ※3 | AI14: 自ら中間処理した後自社の他事業場での処理量
I15: ｔ | T15: ｔ | AN15: ｔ | AS15: （目的別内訳）
P16: =+IF(Y18=0,"",IF(Y18-P18=Y18,"エラー！：⑥残さ物量があるのに、④自ら中間処理した量がゼロになっています","")) | AS16: 再生利用前委託量 | AV16: ｔ
P17: ④ | Q17: 自ら中間処理した量 | Y17: ⑥ | Z17: 自ら中間処理した後の残さ量 | AE17: ｂ残さ物の委託処理 | AH17: ｂ | AI17: 自ら中間処理した後の処理委託量 | AO17: ｂ-1 中間処理委託量 | AS17: 最終処分前 委託量 | AV17: ｔ
T18: ｔ | Y18: =+ROUND(AH9,2)+ROUND(AH12,2)+ROUND(AH15,2)+AH18 -> 0 | AB18: ｔ | AH18: =+ROUND(AO18,2)+ROUND(AO21,2) -> 0 | AL18: ｔ | AO18: =+ROUND(AU16,2)+ROUND(AU17,2)+ROUND(AU18,2) -> 0 | AP18: ｔ | AS18: 下水等放流前委託量 | AV18: ｔ | AW18: （第2面）
P20: ⑤ | Q20: ④のうち熱回収を行った量 | Y20: ⑦ | Z20: 自ら中間処理により減量した量 | AO20: ｂ-2 最終処分委託量
B21: 注）右上のフローには、令和７年度の実績値を記載してください。下表の中央列には、令和７年度目標値を記載してください。下表の右列は、右上フローに記載された令和７年度実績値が自動的に計算されます。 | T21: ｔ | Y21: =+P18-Y18 -> 0 | AB21: ｔ | AP21: ｔ
P22: =+IF(P21=0,"",IF(P18<P21,"エラー !：④の内数である⑤の量が④を超えています",""))
B23: 項 目 | D23: 令和７年度 目標値 | H23: 令和７年度 実績値 | P23: ※２ | Q23: 自社の他事業場での処理量 | AS23: ⑫ | AT23: ⑩のうち再生利用業者への処理委託量
B24: ① 排出量 | D24: 16.51 | G24: t | H24: =+F12 -> 12.28 | J24: t | T24: ｔ | AS24: =+ROUND(AU16,2)+ROUND(AA28,2) -> 12.28 | AV24: ｔ
B25: ②＋⑧ 自ら再生利用を行った量 | D25: 0 | G25: t | H25: =+P12+AH9 -> 0 | J25: t
B26: ⑤ 自ら熱回収を行った量 | D26: 0 | G26: t | H26: =+P21 -> 0 | J26: t | M26: Ｂ 直接委託処理 | P26: Ｂ | Q26: 直接処理委託量 | AL26: ⑩ | AM26: 直接及び自ら中間処理した後の処理委託量 | AS26: ⑬ | AT26: ⑩のうち認定熱回収業者への処理委託量
B27: ⑦ 自ら中間処理により減量した量 | D27: 0 | G27: t | H27: =+Y21 -> 0 | J27: t | P27: =+R30+ROUND(R33,2) -> 12.28 | T27: ｔ | Y27: （目的別内訳） | AL27: =+AH18+P27 -> 12.28 | AP27: ｔ | AV27: ｔ
B28: ③＋⑨ 自ら埋立処分又は海洋投入処分を行った量 | D28: 0 | G28: t | H28: =+P15+AH12 -> 0 | J28: t | Y28: 再生利用前委託量 | AA28: 12.28 | AF28: ｔ | AS28: =+IF(AS27=0,"",IF(AL27<(AS24+AS27+AS31),"エラー !：⑩の内数である（⑫+⑬＋⑭）の量が⑩を超えています",""))
B29: ⑩ 全処理委託量 | D29: 16.51 | G29: t | H29: =+AL27 -> 12.28 | J29: t | R29: B-1 | S29: 中間処理委託量 | Y29: 最終処分前委託量 | AF29: ｔ | AL29: ⑪ | AM29: ⑩のうち優良認定処理業者への処理委託量 | AS29: ⑭ | AT29: ⑩のうち認定熱回収業者以外の熱回収を行う業者への処理委託量
B30: ⑪ 優良認定処理業者への処理委託量 | D30: 0 | G30: t | H30: =+AL30 -> 0 | J30: t | R30: =+ROUND(AA28,2)+ROUND(AA29,2)+ROUND(AA30,2) -> 12.28 | V30: ｔ | Y30: 下水等放流前委託量 | AF30: ｔ | AP30: ｔ
B31: ⑫ 再生利用業者への処理委託量 | D31: 16.51 | G31: t | H31: =+AS24 -> 12.28 | J31: t | AA31: 【特別管理産業廃棄物の種類 （ア～チ）】 | AL31: =+IF(AL30=0,"",IF(AL27<AL30,"エラー !：⑩の内数である⑪の量が⑩を超えています","")) | AV31: ｔ
B32: ⑬ 認定熱回収業者への処理委託量 | D32: 0 | G32: t | H32: =+AS27 -> 0 | J32: t | R32: B-2 | S32: 最終処分委託量 | AA32: ア. 特管廃油 イ. 特管廃酸 (pH2以下) ウ. 特管廃アルカリ (pH12.5以上) エ. 感染性廃棄物 | AG32: オ. 廃ＰＣＢ等 カ. ＰＣＢ汚染物 キ. ＰＣＢ処理物 ク. 指定下水汚泥 ケ. 有害鉱さい コ. 廃石綿等 | AK32: サ. 有害ばいじん チ. 廃水銀等 シ. 有害燃え殻 ス. 有害廃油 セ. 有害汚泥 ソ. 有害廃酸 タ. 有害廃アルカリ | AS32: =+IF(AS31=0,"",IF(AL27<(AS24+AS27+AS31),"エラー !：⑩の内数である（⑫+⑬＋⑭）の量が⑩を超えています",""))
B33: ⑭ 認定熱回収業者以外の熱回収を行う業者への処理委託量 | D33: 0 | G33: t | H33: =+AS31 -> 0 | J33: t | V33: ｔ
C34: =+IF(D30=0,"",IF(D29<D30,"エラー !：上の表は、⑩の内数である⑪の量が⑩を超えています",""))
C35: =+IF(D31=0,"",IF(D29<D31,"エラー !：上の表は、⑩の内数である⑫の量が⑩を超えています",""))
C36: =+IF(D32=0,"",IF(D29<D32,"エラー !：上の表は、⑩の内数である⑬の量が⑩を超えています",""))
C37: =+IF(D33=0,"",IF(D29<D33,"エラー !：上の表は、⑩の内数である⑭の量が⑩を超えています",""))

Sheet ｵ.廃PCB等
S1: ↓ | T1: 注意：本年度の目標量のみでフロー図の実績データがない場合にも、本年度目標データを該当欄に入力してください
B2: 特別管理産業廃棄物処理計画実施状況報告書
AP3: ５－２ | AS3: 法定 | AU3: 自主
AS4: =+表紙!N28 -> ○ | AU4: =+表紙!O28
B5: 別紙処理フロー | Z5: 事業場名称 | AE5: ： | AF5: =+表紙!F47 -> 日清オイリオグループ株式会社 横浜磯子事業場
B6: 令和７年度に発生した特別管理産業廃棄物ごとの量と処理計画の実施結果
B7: フローに記載した特別管理産業廃棄物の種類 | D7: オ. 廃PCB等
B8: ※ | C8: 本用紙は廃棄物の種類ごとに1枚の記載となります。異なる廃棄物の処理フローは別シートに記載してください。 | AH8: ⑧ | AI8: 自ら中間処理した後再生利用した量
B9: （単位：t/年） | F9: 有償物量 | AE9: ａ残さ物の自己処理 | AN9: ｔ
C11: 不要物等発生量 | F11: ① | G11: 当該事業場における排出量 | M11: Ａ 自己処理 | P11: ② | Q11: 自ら直接再生利用した量 | AH11: ⑨ | AI11: 自ら中間処理した後自ら埋立処分又は海洋投入処分した量
F12: =+ROUND(P12,2)+ROUND(P15,2)+ROUND(P18,2)+ROUND(P24,2)+P27-ROUND(F15,2) -> 0 | I12: ｔ | T12: ｔ | AN12: ｔ
F14: ※１ | G14: 自社の他事業場からの搬入量 | P14: ③ | Q14: 自ら直接埋立処分した量 | AH14: ※3 | AI14: 自ら中間処理した後自社の他事業場での処理量
I15: ｔ | T15: ｔ | AN15: ｔ | AS15: （目的別内訳）
P16: =+IF(Y18=0,"",IF(Y18-P18=Y18,"エラー！：⑥残さ物量があるのに、④自ら中間処理した量がゼロになっています","")) | AS16: 再生利用前委託量 | AV16: ｔ
P17: ④ | Q17: 自ら中間処理した量 | Y17: ⑥ | Z17: 自ら中間処理した後の残さ量 | AE17: ｂ残さ物の委託処理 | AH17: ｂ | AI17: 自ら中間処理した後の処理委託量 | AO17: ｂ-1 中間処理委託量 | AS17: 最終処分前 委託量 | AV17: ｔ
T18: ｔ | Y18: =+ROUND(AH9,2)+ROUND(AH12,2)+ROUND(AH15,2)+AH18 -> 0 | AB18: ｔ | AH18: =+ROUND(AO18,2)+ROUND(AO21,2) -> 0 | AL18: ｔ | AO18: =+ROUND(AU16,2)+ROUND(AU17,2)+ROUND(AU18,2) -> 0 | AP18: ｔ | AS18: 下水等放流前委託量 | AV18: ｔ | AW18: （第2面）
P20: ⑤ | Q20: ④のうち熱回収を行った量 | Y20: ⑦ | Z20: 自ら中間処理により減量した量 | AO20: ｂ-2 最終処分委託量
B21: 注）右上のフローには、令和７年度の実績値を記載してください。下表の中央列には、令和７年度目標値を記載してください。下表の右列は、右上フローに記載された令和７年度実績値が自動的に計算されます。 | T21: ｔ | Y21: =+P18-Y18 -> 0 | AB21: ｔ | AP21: ｔ
P22: =+IF(P21=0,"",IF(P18<P21,"エラー !：④の内数である⑤の量が④を超えています",""))
B23: 項 目 | D23: 令和７年度 目標値 | H23: 令和７年度 実績値 | P23: ※２ | Q23: 自社の他事業場での処理量 | AS23: ⑫ | AT23: ⑩のうち再生利用業者への処理委託量
B24: ① 排出量 | D24: 0 | G24: t | H24: =+F12 -> 0 | J24: t | T24: ｔ | AS24: =+ROUND(AU16,2)+ROUND(AA28,2) -> 0 | AV24: ｔ
B25: ②＋⑧ 自ら再生利用を行った量 | D25: 0 | G25: t | H25: =+P12+AH9 -> 0 | J25: t
B26: ⑤ 自ら熱回収を行った量 | D26: 0 | G26: t | H26: =+P21 -> 0 | J26: t | M26: Ｂ 直接委託処理 | P26: Ｂ | Q26: 直接処理委託量 | AL26: ⑩ | AM26: 直接及び自ら中間処理した後の処理委託量 | AS26: ⑬ | AT26: ⑩のうち認定熱回収業者への処理委託量
B27: ⑦ 自ら中間処理により減量した量 | D27: 0 | G27: t | H27: =+Y21 -> 0 | J27: t | P27: =+R30+ROUND(R33,2) -> 0 | T27: ｔ | Y27: （目的別内訳） | AL27: =+AH18+P27 -> 0 | AP27: ｔ | AV27: ｔ
B28: ③＋⑨ 自ら埋立処分又は海洋投入処分を行った量 | D28: 0 | G28: t | H28: =+P15+AH12 -> 0 | J28: t | Y28: 再生利用前委託量 | AF28: ｔ | AS28: =+IF(AS27=0,"",IF(AL27<(AS24+AS27+AS31),"エラー !：⑩の内数である（⑫+⑬＋⑭）の量が⑩を超えています",""))
B29: ⑩ 全処理委託量 | D29: 0 | G29: t | H29: =+AL27 -> 0 | J29: t | R29: B-1 | S29: 中間処理委託量 | Y29: 最終処分前委託量 | AF29: ｔ | AL29: ⑪ | AM29: ⑩のうち優良認定処理業者への処理委託量 | AS29: ⑭ | AT29: ⑩のうち認定熱回収業者以外の熱回収を行う業者への処理委託量
B30: ⑪ 優良認定処理業者への処理委託量 | D30: 0 | G30: t | H30: =+AL30 -> 0 | J30: t | R30: =+ROUND(AA28,2)+ROUND(AA29,2)+ROUND(AA30,2) -> 0 | V30: ｔ | Y30: 下水等放流前委託量 | AF30: ｔ | AP30: ｔ
B31: ⑫ 再生利用業者への処理委託量 | D31: 0 | G31: t | H31: =+AS24 -> 0 | J31: t | AA31: 【特別管理産業廃棄物の種類 （ア～チ）】 | AL31: =+IF(AL30=0,"",IF(AL27<AL30,"エラー !：⑩の内数である⑪の量が⑩を超えています","")) | AV31: ｔ
B32: ⑬ 認定熱回収業者への処理委託量 | D32: 0 | G32: t | H32: =+AS27 -> 0 | J32: t | R32: B-2 | S32: 最終処分委託量 | AA32: ア. 特管廃油 イ. 特管廃酸 (pH2以下) ウ. 特管廃アルカリ (pH12.5以上) エ. 感染性廃棄物 | AG32: オ. 廃ＰＣＢ等 カ. ＰＣＢ汚染物 キ. ＰＣＢ処理物 ク. 指定下水汚泥 ケ. 有害鉱さい コ. 廃石綿等 | AK32: サ. 有害ばいじん チ. 廃水銀等 シ. 有害燃え殻 ス. 有害廃油 セ. 有害汚泥 ソ. 有害廃酸 タ. 有害廃アルカリ | AS32: =+IF(AS31=0,"",IF(AL27<(AS24+AS27+AS31),"エラー !：⑩の内数である（⑫+⑬＋⑭）の量が⑩を超えています",""))
B33: ⑭ 認定熱回収業者以外の熱回収を行う業者への処理委託量 | D33: 0 | G33: t | H33: =+AS31 -> 0 | J33: t | V33: ｔ
C34: =+IF(D30=0,"",IF(D29<D30,"エラー !：上の表は、⑩の内数である⑪の量が⑩を超えています",""))
C35: =+IF(D31=0,"",IF(D29<D31,"エラー !：上の表は、⑩の内数である⑫の量が⑩を超えています",""))
C36: =+IF(D32=0,"",IF(D29<D32,"エラー !：上の表は、⑩の内数である⑬の量が⑩を超えています",""))
C37: =+IF(D33=0,"",IF(D29<D33,"エラー !：上の表は、⑩の内数である⑭の量が⑩を超えています",""))

Sheet ｶ.PCB汚染物
S1: ↓ | T1: 注意：本年度の目標量のみでフロー図の実績データがない場合にも、本年度目標データを該当欄に入力してください
B2: 特別管理産業廃棄物処理計画実施状況報告書
AP3: ５－２ | AS3: 法定 | AU3: 自主
AS4: =+表紙!N28 -> ○ | AU4: =+表紙!O28
B5: 別紙処理フロー | Z5: 事業場名称 | AE5: ： | AF5: =+表紙!F47 -> 日清オイリオグループ株式会社 横浜磯子事業場
B6: 令和７年度に発生した特別管理産業廃棄物ごとの量と処理計画の実施結果
B7: フローに記載した特別管理産業廃棄物の種類 | D7: カ. PCB汚染物
B8: ※ | C8: 本用紙は廃棄物の種類ごとに1枚の記載となります。異なる廃棄物の処理フローは別シートに記載してください。 | AH8: ⑧ | AI8: 自ら中間処理した後再生利用した量
B9: （単位：t/年） | F9: 有償物量 | AE9: ａ残さ物の自己処理 | AN9: ｔ
C11: 不要物等発生量 | F11: ① | G11: 当該事業場における排出量 | M11: Ａ 自己処理 | P11: ② | Q11: 自ら直接再生利用した量 | AH11: ⑨ | AI11: 自ら中間処理した後自ら埋立処分又は海洋投入処分した量
F12: =+ROUND(P12,2)+ROUND(P15,2)+ROUND(P18,2)+ROUND(P24,2)+P27-ROUND(F15,2) -> 0 | I12: ｔ | T12: ｔ | AN12: ｔ
F14: ※１ | G14: 自社の他事業場からの搬入量 | P14: ③ | Q14: 自ら直接埋立処分した量 | AH14: ※3 | AI14: 自ら中間処理した後自社の他事業場での処理量
I15: ｔ | T15: ｔ | AN15: ｔ | AS15: （目的別内訳）
P16: =+IF(Y18=0,"",IF(Y18-P18=Y18,"エラー！：⑥残さ物量があるのに、④自ら中間処理した量がゼロになっています","")) | AS16: 再生利用前委託量 | AV16: ｔ
P17: ④ | Q17: 自ら中間処理した量 | Y17: ⑥ | Z17: 自ら中間処理した後の残さ量 | AE17: ｂ残さ物の委託処理 | AH17: ｂ | AI17: 自ら中間処理した後の処理委託量 | AO17: ｂ-1 中間処理委託量 | AS17: 最終処分前 委託量 | AV17: ｔ
T18: ｔ | Y18: =+ROUND(AH9,2)+ROUND(AH12,2)+ROUND(AH15,2)+AH18 -> 0 | AB18: ｔ | AH18: =+ROUND(AO18,2)+ROUND(AO21,2) -> 0 | AL18: ｔ | AO18: =+ROUND(AU16,2)+ROUND(AU17,2)+ROUND(AU18,2) -> 0 | AP18: ｔ | AS18: 下水等放流前委託量 | AV18: ｔ | AW18: （第2面）
P20: ⑤ | Q20: ④のうち熱回収を行った量 | Y20: ⑦ | Z20: 自ら中間処理により減量した量 | AO20: ｂ-2 最終処分委託量
B21: 注）右上のフローには、令和７年度の実績値を記載してください。下表の中央列には、令和７年度目標値を記載してください。下表の右列は、右上フローに記載された令和７年度実績値が自動的に計算されます。 | T21: ｔ | Y21: =+P18-Y18 -> 0 | AB21: ｔ | AP21: ｔ
P22: =+IF(P21=0,"",IF(P18<P21,"エラー !：④の内数である⑤の量が④を超えています",""))
B23: 項 目 | D23: 令和７年度 目標値 | H23: 令和７年度 実績値 | P23: ※２ | Q23: 自社の他事業場での処理量 | AS23: ⑫ | AT23: ⑩のうち再生利用業者への処理委託量
B24: ① 排出量 | D24: 0 | G24: t | H24: =+F12 -> 0 | J24: t | T24: ｔ | AS24: =+ROUND(AU16,2)+ROUND(AA28,2) -> 0 | AV24: ｔ
B25: ②＋⑧ 自ら再生利用を行った量 | D25: 0 | G25: t | H25: =+P12+AH9 -> 0 | J25: t
B26: ⑤ 自ら熱回収を行った量 | D26: 0 | G26: t | H26: =+P21 -> 0 | J26: t | M26: Ｂ 直接委託処理 | P26: Ｂ | Q26: 直接処理委託量 | AL26: ⑩ | AM26: 直接及び自ら中間処理した後の処理委託量 | AS26: ⑬ | AT26: ⑩のうち認定熱回収業者への処理委託量
B27: ⑦ 自ら中間処理により減量した量 | D27: 0 | G27: t | H27: =+Y21 -> 0 | J27: t | P27: =+R30+ROUND(R33,2) -> 0 | T27: ｔ | Y27: （目的別内訳） | AL27: =+AH18+P27 -> 0 | AP27: ｔ | AV27: ｔ
B28: ③＋⑨ 自ら埋立処分又は海洋投入処分を行った量 | D28: 0 | G28: t | H28: =+P15+AH12 -> 0 | J28: t | Y28: 再生利用前委託量 | AF28: ｔ | AS28: =+IF(AS27=0,"",IF(AL27<(AS24+AS27+AS31),"エラー !：⑩の内数である（⑫+⑬＋⑭）の量が⑩を超えています",""))
B29: ⑩ 全処理委託量 | D29: 0 | G29: t | H29: =+AL27 -> 0 | J29: t | R29: B-1 | S29: 中間処理委託量 | Y29: 最終処分前委託量 | AF29: ｔ | AL29: ⑪ | AM29: ⑩のうち優良認定処理業者への処理委託量 | AS29: ⑭ | AT29: ⑩のうち認定熱回収業者以外の熱回収を行う業者への処理委託量
B30: ⑪ 優良認定処理業者への処理委託量 | D30: 0 | G30: t | H30: =+AL30 -> 0 | J30: t | R30: =+ROUND(AA28,2)+ROUND(AA29,2)+ROUND(AA30,2) -> 0 | V30: ｔ | Y30: 下水等放流前委託量 | AF30: ｔ | AP30: ｔ
B31: ⑫ 再生利用業者への処理委託量 | D31: 0 | G31: t | H31: =+AS24 -> 0 | J31: t | AA31: 【特別管理産業廃棄物の種類 （ア～チ）】 | AL31: =+IF(AL30=0,"",IF(AL27<AL30,"エラー !：⑩の内数である⑪の量が⑩を超えています","")) | AV31: ｔ
B32: ⑬ 認定熱回収業者への処理委託量 | D32: 0 | G32: t | H32: =+AS27 -> 0 | J32: t | R32: B-2 | S32: 最終処分委託量 | AA32: ア. 特管廃油 イ. 特管廃酸 (pH2以下) ウ. 特管廃アルカリ (pH12.5以上) エ. 感染性廃棄物 | AG32: オ. 廃ＰＣＢ等 カ. ＰＣＢ汚染物 キ. ＰＣＢ処理物 ク. 指定下水汚泥 ケ. 有害鉱さい コ. 廃石綿等 | AK32: サ. 有害ばいじん チ. 廃水銀等 シ. 有害燃え殻 ス. 有害廃油 セ. 有害汚泥 ソ. 有害廃酸 タ. 有害廃アルカリ | AS32: =+IF(AS31=0,"",IF(AL27<(AS24+AS27+AS31),"エラー !：⑩の内数である（⑫+⑬＋⑭）の量が⑩を超えています",""))
B33: ⑭ 認定熱回収業者以外の熱回収を行う業者への処理委託量 | D33: 0 | G33: t | H33: =+AS31 -> 0 | J33: t | V33: ｔ
C34: =+IF(D30=0,"",IF(D29<D30,"エラー !：上の表は、⑩の内数である⑪の量が⑩を超えています",""))
C35: =+IF(D31=0,"",IF(D29<D31,"エラー !：上の表は、⑩の内数である⑫の量が⑩を超えています",""))
C36: =+IF(D32=0,"",IF(D29<D32,"エラー !：上の表は、⑩の内数である⑬の量が⑩を超えています",""))
C37: =+IF(D33=0,"",IF(D29<D33,"エラー !：上の表は、⑩の内数である⑭の量が⑩を超えています",""))

Sheet ｷ.PCB処理物
S1: ↓ | T1: 注意：本年度の目標量のみでフロー図の実績データがない場合にも、本年度目標データを該当欄に入力してください
B2: 特別管理産業廃棄物処理計画実施状況報告書
AP3: ５－２ | AS3: 法定 | AU3: 自主
AS4: =+表紙!N28 -> ○ | AU4: =+表紙!O28
B5: 別紙処理フロー | Z5: 事業場名称 | AE5: ： | AF5: =+表紙!F47 -> 日清オイリオグループ株式会社 横浜磯子事業場
B6: 令和７年度に発生した特別管理産業廃棄物ごとの量と処理計画の実施結果
B7: フローに記載した特別管理産業廃棄物の種類 | D7: キ. PCB処理物
B8: ※ | C8: 本用紙は廃棄物の種類ごとに1枚の記載となります。異なる廃棄物の処理フローは別シートに記載してください。 | AH8: ⑧ | AI8: 自ら中間処理した後再生利用した量
B9: （単位：t/年） | F9: 有償物量 | AE9: ａ残さ物の自己処理 | AN9: ｔ
C11: 不要物等発生量 | F11: ① | G11: 当該事業場における排出量 | M11: Ａ 自己処理 | P11: ② | Q11: 自ら直接再生利用した量 | AH11: ⑨ | AI11: 自ら中間処理した後自ら埋立処分又は海洋投入処分した量
F12: =+ROUND(P12,2)+ROUND(P15,2)+ROUND(P18,2)+ROUND(P24,2)+P27-ROUND(F15,2) -> 0 | I12: ｔ | T12: ｔ | AN12: ｔ
F14: ※１ | G14: 自社の他事業場からの搬入量 | P14: ③ | Q14: 自ら直接埋立処分した量 | AH14: ※3 | AI14: 自ら中間処理した後自社の他事業場での処理量
I15: ｔ | T15: ｔ | AN15: ｔ | AS15: （目的別内訳）
P16: =+IF(Y18=0,"",IF(Y18-P18=Y18,"エラー！：⑥残さ物量があるのに、④自ら中間処理した量がゼロになっています","")) | AS16: 再生利用前委託量 | AV16: ｔ
P17: ④ | Q17: 自ら中間処理した量 | Y17: ⑥ | Z17: 自ら中間処理した後の残さ量 | AE17: ｂ残さ物の委託処理 | AH17: ｂ | AI17: 自ら中間処理した後の処理委託量 | AO17: ｂ-1 中間処理委託量 | AS17: 最終処分前 委託量 | AV17: ｔ
T18: ｔ | Y18: =+ROUND(AH9,2)+ROUND(AH12,2)+ROUND(AH15,2)+AH18 -> 0 | AB18: ｔ | AH18: =+ROUND(AO18,2)+ROUND(AO21,2) -> 0 | AL18: ｔ | AO18: =+ROUND(AU16,2)+ROUND(AU17,2)+ROUND(AU18,2) -> 0 | AP18: ｔ | AS18: 下水等放流前委託量 | AV18: ｔ | AW18: （第2面）
P20: ⑤ | Q20: ④のうち熱回収を行った量 | Y20: ⑦ | Z20: 自ら中間処理により減量した量 | AO20: ｂ-2 最終処分委託量
B21: 注）右上のフローには、令和７年度の実績値を記載してください。下表の中央列には、令和７年度目標値を記載してください。下表の右列は、右上フローに記載された令和７年度実績値が自動的に計算されます。 | T21: ｔ | Y21: =+P18-Y18 -> 0 | AB21: ｔ | AP21: ｔ
P22: =+IF(P21=0,"",IF(P18<P21,"エラー !：④の内数である⑤の量が④を超えています",""))
B23: 項 目 | D23: 令和７年度 目標値 | H23: 令和７年度 実績値 | P23: ※２ | Q23: 自社の他事業場での処理量 | AS23: ⑫ | AT23: ⑩のうち再生利用業者への処理委託量
B24: ① 排出量 | D24: 0 | G24: t | H24: =+F12 -> 0 | J24: t | T24: ｔ | AS24: =+ROUND(AU16,2)+ROUND(AA28,2) -> 0 | AV24: ｔ
B25: ②＋⑧ 自ら再生利用を行った量 | D25: 0 | G25: t | H25: =+P12+AH9 -> 0 | J25: t
B26: ⑤ 自ら熱回収を行った量 | D26: 0 | G26: t | H26: =+P21 -> 0 | J26: t | M26: Ｂ 直接委託処理 | P26: Ｂ | Q26: 直接処理委託量 | AL26: ⑩ | AM26: 直接及び自ら中間処理した後の処理委託量 | AS26: ⑬ | AT26: ⑩のうち認定熱回収業者への処理委託量
B27: ⑦ 自ら中間処理により減量した量 | D27: 0 | G27: t | H27: =+Y21 -> 0 | J27: t | P27: =+R30+ROUND(R33,2) -> 0 | T27: ｔ | Y27: （目的別内訳） | AL27: =+AH18+P27 -> 0 | AP27: ｔ | AV27: ｔ
B28: ③＋⑨ 自ら埋立処分又は海洋投入処分を行った量 | D28: 0 | G28: t | H28: =+P15+AH12 -> 0 | J28: t | Y28: 再生利用前委託量 | AF28: ｔ | AS28: =+IF(AS27=0,"",IF(AL27<(AS24+AS27+AS31),"エラー !：⑩の内数である（⑫+⑬＋⑭）の量が⑩を超えています",""))
B29: ⑩ 全処理委託量 | D29: 0 | G29: t | H29: =+AL27 -> 0 | J29: t | R29: B-1 | S29: 中間処理委託量 | Y29: 最終処分前委託量 | AF29: ｔ | AL29: ⑪ | AM29: ⑩のうち優良認定処理業者への処理委託量 | AS29: ⑭ | AT29: ⑩のうち認定熱回収業者以外の熱回収を行う業者への処理委託量
B30: ⑪ 優良認定処理業者への処理委託量 | D30: 0 | G30: t | H30: =+AL30 -> 0 | J30: t | R30: =+ROUND(AA28,2)+ROUND(AA29,2)+ROUND(AA30,2) -> 0 | V30: ｔ | Y30: 下水等放流前委託量 | AF30: ｔ | AP30: ｔ
B31: ⑫ 再生利用業者への処理委託量 | D31: 0 | G31: t | H31: =+AS24 -> 0 | J31: t | AA31: 【特別管理産業廃棄物の種類 （ア～チ）】 | AL31: =+IF(AL30=0,"",IF(AL27<AL30,"エラー !：⑩の内数である⑪の量が⑩を超えています","")) | AV31: ｔ
B32: ⑬ 認定熱回収業者への処理委託量 | D32: 0 | G32: t | H32: =+AS27 -> 0 | J32: t | R32: B-2 | S32: 最終処分委託量 | AA32: ア. 特管廃油 イ. 特管廃酸 (pH2以下) ウ. 特管廃アルカリ (pH12.5以上) エ. 感染性廃棄物 | AG32: オ. 廃ＰＣＢ等 カ. ＰＣＢ汚染物 キ. ＰＣＢ処理物 ク. 指定下水汚泥 ケ. 有害鉱さい コ. 廃石綿等 | AK32: サ. 有害ばいじん チ. 廃水銀等 シ. 有害燃え殻 ス. 有害廃油 セ. 有害汚泥 ソ. 有害廃酸 タ. 有害廃アルカリ | AS32: =+IF(AS31=0,"",IF(AL27<(AS24+AS27+AS31),"エラー !：⑩の内数である（⑫+⑬＋⑭）の量が⑩を超えています",""))
B33: ⑭ 認定熱回収業者以外の熱回収を行う業者への処理委託量 | D33: 0 | G33: t | H33: =+AS31 -> 0 | J33: t | V33: ｔ
C34: =+IF(D30=0,"",IF(D29<D30,"エラー !：上の表は、⑩の内数である⑪の量が⑩を超えています",""))
C35: =+IF(D31=0,"",IF(D29<D31,"エラー !：上の表は、⑩の内数である⑫の量が⑩を超えています",""))
C36: =+IF(D32=0,"",IF(D29<D32,"エラー !：上の表は、⑩の内数である⑬の量が⑩を超えています",""))
C37: =+IF(D33=0,"",IF(D29<D33,"エラー !：上の表は、⑩の内数である⑭の量が⑩を超えています",""))

Sheet ｸ.指定下水汚泥
S1: ↓ | T1: 注意：本年度の目標量のみでフロー図の実績データがない場合にも、本年度目標データを該当欄に入力してください
B2: 特別管理産業廃棄物処理計画実施状況報告書
AP3: ５－２ | AS3: 法定 | AU3: 自主
AS4: =+表紙!N28 -> ○ | AU4: =+表紙!O28
B5: 別紙処理フロー | Z5: 事業場名称 | AE5: ： | AF5: =+表紙!F47 -> 日清オイリオグループ株式会社 横浜磯子事業場
B6: 令和７年度に発生した特別管理産業廃棄物ごとの量と処理計画の実施結果
B7: フローに記載した特別管理産業廃棄物の種類 | D7: ク. 指定下水汚泥
B8: ※ | C8: 本用紙は廃棄物の種類ごとに1枚の記載となります。異なる廃棄物の処理フローは別シートに記載してください。 | AH8: ⑧ | AI8: 自ら中間処理した後再生利用した量
B9: （単位：t/年） | F9: 有償物量 | AE9: ａ残さ物の自己処理 | AN9: ｔ
C11: 不要物等発生量 | F11: ① | G11: 当該事業場における排出量 | M11: Ａ 自己処理 | P11: ② | Q11: 自ら直接再生利用した量 | AH11: ⑨ | AI11: 自ら中間処理した後自ら埋立処分又は海洋投入処分した量
F12: =+ROUND(P12,2)+ROUND(P15,2)+ROUND(P18,2)+ROUND(P24,2)+P27-ROUND(F15,2) -> 0 | I12: ｔ | T12: ｔ | AN12: ｔ
F14: ※１ | G14: 自社の他事業場からの搬入量 | P14: ③ | Q14: 自ら直接埋立処分した量 | AH14: ※3 | AI14: 自ら中間処理した後自社の他事業場での処理量
I15: ｔ | T15: ｔ | AN15: ｔ | AS15: （目的別内訳）
P16: =+IF(Y18=0,"",IF(Y18-P18=Y18,"エラー！：⑥残さ物量があるのに、④自ら中間処理した量がゼロになっています","")) | AS16: 再生利用前委託量 | AV16: ｔ
P17: ④ | Q17: 自ら中間処理した量 | Y17: ⑥ | Z17: 自ら中間処理した後の残さ量 | AE17: ｂ残さ物の委託処理 | AH17: ｂ | AI17: 自ら中間処理した後の処理委託量 | AO17: ｂ-1 中間処理委託量 | AS17: 最終処分前 委託量 | AV17: ｔ
T18: ｔ | Y18: =+ROUND(AH9,2)+ROUND(AH12,2)+ROUND(AH15,2)+AH18 -> 0 | AB18: ｔ | AH18: =+ROUND(AO18,2)+ROUND(AO21,2) -> 0 | AL18: ｔ | AO18: =+ROUND(AU16,2)+ROUND(AU17,2)+ROUND(AU18,2) -> 0 | AP18: ｔ | AS18: 下水等放流前委託量 | AV18: ｔ | AW18: （第2面）
P20: ⑤ | Q20: ④のうち熱回収を行った量 | Y20: ⑦ | Z20: 自ら中間処理により減量した量 | AO20: ｂ-2 最終処分委託量
B21: 注）右上のフローには、令和７年度の実績値を記載してください。下表の中央列には、令和７年度目標値を記載してください。下表の右列は、右上フローに記載された令和７年度実績値が自動的に計算されます。 | T21: ｔ | Y21: =+P18-Y18 -> 0 | AB21: ｔ | AP21: ｔ
P22: =+IF(P21=0,"",IF(P18<P21,"エラー !：④の内数である⑤の量が④を超えています",""))
B23: 項 目 | D23: 令和７年度 目標値 | H23: 令和７年度 実績値 | P23: ※２ | Q23: 自社の他事業場での処理量 | AS23: ⑫ | AT23: ⑩のうち再生利用業者への処理委託量
B24: ① 排出量 | D24: 0 | G24: t | H24: =+F12 -> 0 | J24: t | T24: ｔ | AS24: =+ROUND(AU16,2)+ROUND(AA28,2) -> 0 | AV24: ｔ
B25: ②＋⑧ 自ら再生利用を行った量 | D25: 0 | G25: t | H25: =+P12+AH9 -> 0 | J25: t
B26: ⑤ 自ら熱回収を行った量 | D26: 0 | G26: t | H26: =+P21 -> 0 | J26: t | M26: Ｂ 直接委託処理 | P26: Ｂ | Q26: 直接処理委託量 | AL26: ⑩ | AM26: 直接及び自ら中間処理した後の処理委託量 | AS26: ⑬ | AT26: ⑩のうち認定熱回収業者への処理委託量
B27: ⑦ 自ら中間処理により減量した量 | D27: 0 | G27: t | H27: =+Y21 -> 0 | J27: t | P27: =+R30+ROUND(R33,2) -> 0 | T27: ｔ | Y27: （目的別内訳） | AL27: =+AH18+P27 -> 0 | AP27: ｔ | AV27: ｔ
B28: ③＋⑨ 自ら埋立処分又は海洋投入処分を行った量 | D28: 0 | G28: t | H28: =+P15+AH12 -> 0 | J28: t | Y28: 再生利用前委託量 | AF28: ｔ | AS28: =+IF(AS27=0,"",IF(AL27<(AS24+AS27+AS31),"エラー !：⑩の内数である（⑫+⑬＋⑭）の量が⑩を超えています",""))
B29: ⑩ 全処理委託量 | D29: 0 | G29: t | H29: =+AL27 -> 0 | J29: t | R29: B-1 | S29: 中間処理委託量 | Y29: 最終処分前委託量 | AF29: ｔ | AL29: ⑪ | AM29: ⑩のうち優良認定処理業者への処理委託量 | AS29: ⑭ | AT29: ⑩のうち認定熱回収業者以外の熱回収を行う業者への処理委託量
B30: ⑪ 優良認定処理業者への処理委託量 | D30: 0 | G30: t | H30: =+AL30 -> 0 | J30: t | R30: =+ROUND(AA28,2)+ROUND(AA29,2)+ROUND(AA30,2) -> 0 | V30: ｔ | Y30: 下水等放流前委託量 | AF30: ｔ | AP30: ｔ
B31: ⑫ 再生利用業者への処理委託量 | D31: 0 | G31: t | H31: =+AS24 -> 0 | J31: t | AA31: 【特別管理産業廃棄物の種類 （ア～チ）】 | AL31: =+IF(AL30=0,"",IF(AL27<AL30,"エラー !：⑩の内数である⑪の量が⑩を超えています","")) | AV31: ｔ
B32: ⑬ 認定熱回収業者への処理委託量 | D32: 0 | G32: t | H32: =+AS27 -> 0 | J32: t | R32: B-2 | S32: 最終処分委託量 | AA32: ア. 特管廃油 イ. 特管廃酸 (pH2以下) ウ. 特管廃アルカリ (pH12.5以上) エ. 感染性廃棄物 | AG32: オ. 廃ＰＣＢ等 カ. ＰＣＢ汚染物 キ. ＰＣＢ処理物 ク. 指定下水汚泥 ケ. 有害鉱さい コ. 廃石綿等 | AK32: サ. 有害ばいじん チ. 廃水銀等 シ. 有害燃え殻 ス. 有害廃油 セ. 有害汚泥 ソ. 有害廃酸 タ. 有害廃アルカリ | AS32: =+IF(AS31=0,"",IF(AL27<(AS24+AS27+AS31),"エラー !：⑩の内数である（⑫+⑬＋⑭）の量が⑩を超えています",""))
B33: ⑭ 認定熱回収業者以外の熱回収を行う業者への処理委託量 | D33: 0 | G33: t | H33: =+AS31 -> 0 | J33: t | V33: ｔ
C34: =+IF(D30=0,"",IF(D29<D30,"エラー !：上の表は、⑩の内数である⑪の量が⑩を超えています",""))
C35: =+IF(D31=0,"",IF(D29<D31,"エラー !：上の表は、⑩の内数である⑫の量が⑩を超えています",""))
C36: =+IF(D32=0,"",IF(D29<D32,"エラー !：上の表は、⑩の内数である⑬の量が⑩を超えています",""))
C37: =+IF(D33=0,"",IF(D29<D33,"エラー !：上の表は、⑩の内数である⑭の量が⑩を超えています",""))

Sheet ｹ.有害鉱さい
S1: ↓ | T1: 注意：本年度の目標量のみでフロー図の実績データがない場合にも、本年度目標データを該当欄に入力してください
B2: 特別管理産業廃棄物処理計画実施状況報告書
AP3: ５－２ | AS3: 法定 | AU3: 自主
AS4: =+表紙!N28 -> ○ | AU4: =+表紙!O28
B5: 別紙処理フロー | Z5: 事業場名称 | AE5: ： | AF5: =+表紙!F47 -> 日清オイリオグループ株式会社 横浜磯子事業場
B6: 令和７年度に発生した特別管理産業廃棄物ごとの量と処理計画の実施結果
B7: フローに記載した特別管理産業廃棄物の種類 | D7: ケ. 有害鉱さい
B8: ※ | C8: 本用紙は廃棄物の種類ごとに1枚の記載となります。異なる廃棄物の処理フローは別シートに記載してください。 | AH8: ⑧ | AI8: 自ら中間処理した後再生利用した量
B9: （単位：t/年） | F9: 有償物量 | AE9: ａ残さ物の自己処理 | AN9: ｔ
C11: 不要物等発生量 | F11: ① | G11: 当該事業場における排出量 | M11: Ａ 自己処理 | P11: ② | Q11: 自ら直接再生利用した量 | AH11: ⑨ | AI11: 自ら中間処理した後自ら埋立処分又は海洋投入処分した量
F12: =+ROUND(P12,2)+ROUND(P15,2)+ROUND(P18,2)+ROUND(P24,2)+P27-ROUND(F15,2) -> 0 | I12: ｔ | T12: ｔ | AN12: ｔ
F14: ※１ | G14: 自社の他事業場からの搬入量 | P14: ③ | Q14: 自ら直接埋立処分した量 | AH14: ※3 | AI14: 自ら中間処理した後自社の他事業場での処理量
I15: ｔ | T15: ｔ | AN15: ｔ | AS15: （目的別内訳）
P16: =+IF(Y18=0,"",IF(Y18-P18=Y18,"エラー！：⑥残さ物量があるのに、④自ら中間処理した量がゼロになっています","")) | AS16: 再生利用前委託量 | AV16: ｔ
P17: ④ | Q17: 自ら中間処理した量 | Y17: ⑥ | Z17: 自ら中間処理した後の残さ量 | AE17: ｂ残さ物の委託処理 | AH17: ｂ | AI17: 自ら中間処理した後の処理委託量 | AO17: ｂ-1 中間処理委託量 | AS17: 最終処分前 委託量 | AV17: ｔ
T18: ｔ | Y18: =+ROUND(AH9,2)+ROUND(AH12,2)+ROUND(AH15,2)+AH18 -> 0 | AB18: ｔ | AH18: =+ROUND(AO18,2)+ROUND(AO21,2) -> 0 | AL18: ｔ | AO18: =+ROUND(AU16,2)+ROUND(AU17,2)+ROUND(AU18,2) -> 0 | AP18: ｔ | AS18: 下水等放流前委託量 | AV18: ｔ | AW18: （第2面）
P20: ⑤ | Q20: ④のうち熱回収を行った量 | Y20: ⑦ | Z20: 自ら中間処理により減量した量 | AO20: ｂ-2 最終処分委託量
B21: 注）右上のフローには、令和７年度の実績値を記載してください。下表の中央列には、令和７年度目標値を記載してください。下表の右列は、右上フローに記載された令和７年度実績値が自動的に計算されます。 | T21: ｔ | Y21: =+P18-Y18 -> 0 | AB21: ｔ | AP21: ｔ
P22: =+IF(P21=0,"",IF(P18<P21,"エラー !：④の内数である⑤の量が④を超えています",""))
B23: 項 目 | D23: 令和７年度 目標値 | H23: 令和７年度 実績値 | P23: ※２ | Q23: 自社の他事業場での処理量 | AS23: ⑫ | AT23: ⑩のうち再生利用業者への処理委託量
B24: ① 排出量 | D24: 0 | G24: t | H24: =+F12 -> 0 | J24: t | T24: ｔ | AS24: =+ROUND(AU16,2)+ROUND(AA28,2) -> 0 | AV24: ｔ
B25: ②＋⑧ 自ら再生利用を行った量 | D25: 0 | G25: t | H25: =+P12+AH9 -> 0 | J25: t
B26: ⑤ 自ら熱回収を行った量 | D26: 0 | G26: t | H26: =+P21 -> 0 | J26: t | M26: Ｂ 直接委託処理 | P26: Ｂ | Q26: 直接処理委託量 | AL26: ⑩ | AM26: 直接及び自ら中間処理した後の処理委託量 | AS26: ⑬ | AT26: ⑩のうち認定熱回収業者への処理委託量
B27: ⑦ 自ら中間処理により減量した量 | D27: 0 | G27: t | H27: =+Y21 -> 0 | J27: t | P27: =+R30+ROUND(R33,2) -> 0 | T27: ｔ | Y27: （目的別内訳） | AL27: =+AH18+P27 -> 0 | AP27: ｔ | AV27: ｔ
B28: ③＋⑨ 自ら埋立処分又は海洋投入処分を行った量 | D28: 0 | G28: t | H28: =+P15+AH12 -> 0 | J28: t | Y28: 再生利用前委託量 | AF28: ｔ | AS28: =+IF(AS27=0,"",IF(AL27<(AS24+AS27+AS31),"エラー !：⑩の内数である（⑫+⑬＋⑭）の量が⑩を超えています",""))
B29: ⑩ 全処理委託量 | D29: 0 | G29: t | H29: =+AL27 -> 0 | J29: t | R29: B-1 | S29: 中間処理委託量 | Y29: 最終処分前委託量 | AF29: ｔ | AL29: ⑪ | AM29: ⑩のうち優良認定処理業者への処理委託量 | AS29: ⑭ | AT29: ⑩のうち認定熱回収業者以外の熱回収を行う業者への処理委託量
B30: ⑪ 優良認定処理業者への処理委託量 | D30: 0 | G30: t | H30: =+AL30 -> 0 | J30: t | R30: =+ROUND(AA28,2)+ROUND(AA29,2)+ROUND(AA30,2) -> 0 | V30: ｔ | Y30: 下水等放流前委託量 | AF30: ｔ | AP30: ｔ
B31: ⑫ 再生利用業者への処理委託量 | D31: 0 | G31: t | H31: =+AS24 -> 0 | J31: t | AA31: 【特別管理産業廃棄物の種類 （ア～チ）】 | AL31: =+IF(AL30=0,"",IF(AL27<AL30,"エラー !：⑩の内数である⑪の量が⑩を超えています","")) | AV31: ｔ
B32: ⑬ 認定熱回収業者への処理委託量 | D32: 0 | G32: t | H32: =+AS27 -> 0 | J32: t | R32: B-2 | S32: 最終処分委託量 | AA32: ア. 特管廃油 イ. 特管廃酸 (pH2以下) ウ. 特管廃アルカリ (pH12.5以上) エ. 感染性廃棄物 | AG32: オ. 廃ＰＣＢ等 カ. ＰＣＢ汚染物 キ. ＰＣＢ処理物 ク. 指定下水汚泥 ケ. 有害鉱さい コ. 廃石綿等 | AK32: サ. 有害ばいじん チ. 廃水銀等 シ. 有害燃え殻 ス. 有害廃油 セ. 有害汚泥 ソ. 有害廃酸 タ. 有害廃アルカリ | AS32: =+IF(AS31=0,"",IF(AL27<(AS24+AS27+AS31),"エラー !：⑩の内数である（⑫+⑬＋⑭）の量が⑩を超えています",""))
B33: ⑭ 認定熱回収業者以外の熱回収を行う業者への処理委託量 | D33: 0 | G33: t | H33: =+AS31 -> 0 | J33: t | V33: ｔ
C34: =+IF(D30=0,"",IF(D29<D30,"エラー !：上の表は、⑩の内数である⑪の量が⑩を超えています",""))
C35: =+IF(D31=0,"",IF(D29<D31,"エラー !：上の表は、⑩の内数である⑫の量が⑩を超えています",""))
C36: =+IF(D32=0,"",IF(D29<D32,"エラー !：上の表は、⑩の内数である⑬の量が⑩を超えています",""))
C37: =+IF(D33=0,"",IF(D29<D33,"エラー !：上の表は、⑩の内数である⑭の量が⑩を超えています",""))

Sheet ｺ.廃石綿等
S1: ↓ | T1: 注意：本年度の目標量のみでフロー図の実績データがない場合にも、本年度目標データを該当欄に入力してください
B2: 特別管理産業廃棄物処理計画実施状況報告書
AP3: ５－２ | AS3: 法定 | AU3: 自主
AS4: =+表紙!N28 -> ○ | AU4: =+表紙!O28
B5: 別紙処理フロー | Z5: 事業場名称 | AE5: ： | AF5: =+表紙!F47 -> 日清オイリオグループ株式会社 横浜磯子事業場
B6: 令和７年度に発生した特別管理産業廃棄物ごとの量と処理計画の実施結果
B7: フローに記載した特別管理産業廃棄物の種類 | D7: コ. 廃石綿等
B8: ※ | C8: 本用紙は廃棄物の種類ごとに1枚の記載となります。異なる廃棄物の処理フローは別シートに記載してください。 | AH8: ⑧ | AI8: 自ら中間処理した後再生利用した量
B9: （単位：t/年） | F9: 有償物量 | AE9: ａ残さ物の自己処理 | AN9: ｔ
C11: 不要物等発生量 | F11: ① | G11: 当該事業場における排出量 | M11: Ａ 自己処理 | P11: ② | Q11: 自ら直接再生利用した量 | AH11: ⑨ | AI11: 自ら中間処理した後自ら埋立処分又は海洋投入処分した量
F12: =+ROUND(P12,2)+ROUND(P15,2)+ROUND(P18,2)+ROUND(P24,2)+P27-ROUND(F15,2) -> 0 | I12: ｔ | T12: ｔ | AN12: ｔ
F14: ※１ | G14: 自社の他事業場からの搬入量 | P14: ③ | Q14: 自ら直接埋立処分した量 | AH14: ※3 | AI14: 自ら中間処理した後自社の他事業場での処理量
I15: ｔ | T15: ｔ | AN15: ｔ | AS15: （目的別内訳）
P16: =+IF(Y18=0,"",IF(Y18-P18=Y18,"エラー！：⑥残さ物量があるのに、④自ら中間処理した量がゼロになっています","")) | AS16: 再生利用前委託量 | AV16: ｔ
P17: ④ | Q17: 自ら中間処理した量 | Y17: ⑥ | Z17: 自ら中間処理した後の残さ量 | AE17: ｂ残さ物の委託処理 | AH17: ｂ | AI17: 自ら中間処理した後の処理委託量 | AO17: ｂ-1 中間処理委託量 | AS17: 最終処分前 委託量 | AV17: ｔ
T18: ｔ | Y18: =+ROUND(AH9,2)+ROUND(AH12,2)+ROUND(AH15,2)+AH18 -> 0 | AB18: ｔ | AH18: =+ROUND(AO18,2)+ROUND(AO21,2) -> 0 | AL18: ｔ | AO18: =+ROUND(AU16,2)+ROUND(AU17,2)+ROUND(AU18,2) -> 0 | AP18: ｔ | AS18: 下水等放流前委託量 | AV18: ｔ | AW18: （第2面）
P20: ⑤ | Q20: ④のうち熱回収を行った量 | Y20: ⑦ | Z20: 自ら中間処理により減量した量 | AO20: ｂ-2 最終処分委託量
B21: 注）右上のフローには、令和７年度の実績値を記載してください。下表の中央列には、令和７年度目標値を記載してください。下表の右列は、右上フローに記載された令和７年度実績値が自動的に計算されます。 | T21: ｔ | Y21: =+P18-Y18 -> 0 | AB21: ｔ | AP21: ｔ
P22: =+IF(P21=0,"",IF(P18<P21,"エラー !：④の内数である⑤の量が④を超えています",""))
B23: 項 目 | D23: 令和７年度 目標値 | H23: 令和７年度 実績値 | P23: ※２ | Q23: 自社の他事業場での処理量 | AS23: ⑫ | AT23: ⑩のうち再生利用業者への処理委託量
B24: ① 排出量 | D24: 0 | G24: t | H24: =+F12 -> 0 | J24: t | T24: ｔ | AS24: =+ROUND(AU16,2)+ROUND(AA28,2) -> 0 | AV24: ｔ
B25: ②＋⑧ 自ら再生利用を行った量 | D25: 0 | G25: t | H25: =+P12+AH9 -> 0 | J25: t
B26: ⑤ 自ら熱回収を行った量 | D26: 0 | G26: t | H26: =+P21 -> 0 | J26: t | M26: Ｂ 直接委託処理 | P26: Ｂ | Q26: 直接処理委託量 | AL26: ⑩ | AM26: 直接及び自ら中間処理した後の処理委託量 | AS26: ⑬ | AT26: ⑩のうち認定熱回収業者への処理委託量
B27: ⑦ 自ら中間処理により減量した量 | D27: 0 | G27: t | H27: =+Y21 -> 0 | J27: t | P27: =+R30+ROUND(R33,2) -> 0 | T27: ｔ | Y27: （目的別内訳） | AL27: =+AH18+P27 -> 0 | AP27: ｔ | AV27: ｔ
B28: ③＋⑨ 自ら埋立処分又は海洋投入処分を行った量 | D28: 0 | G28: t | H28: =+P15+AH12 -> 0 | J28: t | Y28: 再生利用前委託量 | AF28: ｔ | AS28: =+IF(AS27=0,"",IF(AL27<(AS24+AS27+AS31),"エラー !：⑩の内数である（⑫+⑬＋⑭）の量が⑩を超えています",""))
B29: ⑩ 全処理委託量 | D29: 0 | G29: t | H29: =+AL27 -> 0 | J29: t | R29: B-1 | S29: 中間処理委託量 | Y29: 最終処分前委託量 | AF29: ｔ | AL29: ⑪ | AM29: ⑩のうち優良認定処理業者への処理委託量 | AS29: ⑭ | AT29: ⑩のうち認定熱回収業者以外の熱回収を行う業者への処理委託量
B30: ⑪ 優良認定処理業者への処理委託量 | D30: 0 | G30: t | H30: =+AL30 -> 0 | J30: t | R30: =+ROUND(AA28,2)+ROUND(AA29,2)+ROUND(AA30,2) -> 0 | V30: ｔ | Y30: 下水等放流前委託量 | AF30: ｔ | AP30: ｔ
B31: ⑫ 再生利用業者への処理委託量 | D31: 0 | G31: t | H31: =+AS24 -> 0 | J31: t | AA31: 【特別管理産業廃棄物の種類 （ア～チ）】 | AL31: =+IF(AL30=0,"",IF(AL27<AL30,"エラー !：⑩の内数である⑪の量が⑩を超えています","")) | AV31: ｔ
B32: ⑬ 認定熱回収業者への処理委託量 | D32: 0 | G32: t | H32: =+AS27 -> 0 | J32: t | R32: B-2 | S32: 最終処分委託量 | AA32: ア. 特管廃油 イ. 特管廃酸 (pH2以下) ウ. 特管廃アルカリ (pH12.5以上) エ. 感染性廃棄物 | AG32: オ. 廃ＰＣＢ等 カ. ＰＣＢ汚染物 キ. ＰＣＢ処理物 ク. 指定下水汚泥 ケ. 有害鉱さい コ. 廃石綿等 | AK32: サ. 有害ばいじん チ. 廃水銀等 シ. 有害燃え殻 ス. 有害廃油 セ. 有害汚泥 ソ. 有害廃酸 タ. 有害廃アルカリ | AS32: =+IF(AS31=0,"",IF(AL27<(AS24+AS27+AS31),"エラー !：⑩の内数である（⑫+⑬＋⑭）の量が⑩を超えています",""))
B33: ⑭ 認定熱回収業者以外の熱回収を行う業者への処理委託量 | D33: 0 | G33: t | H33: =+AS31 -> 0 | J33: t | V33: ｔ
C34: =+IF(D30=0,"",IF(D29<D30,"エラー !：上の表は、⑩の内数である⑪の量が⑩を超えています",""))
C35: =+IF(D31=0,"",IF(D29<D31,"エラー !：上の表は、⑩の内数である⑫の量が⑩を超えています",""))
C36: =+IF(D32=0,"",IF(D29<D32,"エラー !：上の表は、⑩の内数である⑬の量が⑩を超えています",""))
C37: =+IF(D33=0,"",IF(D29<D33,"エラー !：上の表は、⑩の内数である⑭の量が⑩を超えています",""))

Sheet ｻ.有害ばいじん
S1: ↓ | T1: 注意：本年度の目標量のみでフロー図の実績データがない場合にも、本年度目標データを該当欄に入力してください
B2: 特別管理産業廃棄物処理計画実施状況報告書
AP3: ５－２ | AS3: 法定 | AU3: 自主
AS4: =+表紙!N28 -> ○ | AU4: =+表紙!O28
B5: 別紙処理フロー | Z5: 事業場名称 | AE5: ： | AF5: =+表紙!F47 -> 日清オイリオグループ株式会社 横浜磯子事業場
B6: 令和７年度に発生した特別管理産業廃棄物ごとの量と処理計画の実施結果
B7: フローに記載した特別管理産業廃棄物の種類 | D7: サ. 有害ばいじん
B8: ※ | C8: 本用紙は廃棄物の種類ごとに1枚の記載となります。異なる廃棄物の処理フローは別シートに記載してください。 | AH8: ⑧ | AI8: 自ら中間処理した後再生利用した量
B9: （単位：t/年） | F9: 有償物量 | AE9: ａ残さ物の自己処理 | AN9: ｔ
C11: 不要物等発生量 | F11: ① | G11: 当該事業場における排出量 | M11: Ａ 自己処理 | P11: ② | Q11: 自ら直接再生利用した量 | AH11: ⑨ | AI11: 自ら中間処理した後自ら埋立処分又は海洋投入処分した量
F12: =+ROUND(P12,2)+ROUND(P15,2)+ROUND(P18,2)+ROUND(P24,2)+P27-ROUND(F15,2) -> 0 | I12: ｔ | T12: ｔ | AN12: ｔ
F14: ※１ | G14: 自社の他事業場からの搬入量 | P14: ③ | Q14: 自ら直接埋立処分した量 | AH14: ※3 | AI14: 自ら中間処理した後自社の他事業場での処理量
I15: ｔ | T15: ｔ | AN15: ｔ | AS15: （目的別内訳）
P16: =+IF(Y18=0,"",IF(Y18-P18=Y18,"エラー！：⑥残さ物量があるのに、④自ら中間処理した量がゼロになっています","")) | AS16: 再生利用前委託量 | AV16: ｔ
P17: ④ | Q17: 自ら中間処理した量 | Y17: ⑥ | Z17: 自ら中間処理した後の残さ量 | AE17: ｂ残さ物の委託処理 | AH17: ｂ | AI17: 自ら中間処理した後の処理委託量 | AO17: ｂ-1 中間処理委託量 | AS17: 最終処分前 委託量 | AV17: ｔ
T18: ｔ | Y18: =+ROUND(AH9,2)+ROUND(AH12,2)+ROUND(AH15,2)+AH18 -> 0 | AB18: ｔ | AH18: =+ROUND(AO18,2)+ROUND(AO21,2) -> 0 | AL18: ｔ | AO18: =+ROUND(AU16,2)+ROUND(AU17,2)+ROUND(AU18,2) -> 0 | AP18: ｔ | AS18: 下水等放流前委託量 | AV18: ｔ | AW18: （第2面）
P20: ⑤ | Q20: ④のうち熱回収を行った量 | Y20: ⑦ | Z20: 自ら中間処理により減量した量 | AO20: ｂ-2 最終処分委託量
B21: 注）右上のフローには、令和７年度の実績値を記載してください。下表の中央列には、令和７年度目標値を記載してください。下表の右列は、右上フローに記載された令和７年度実績値が自動的に計算されます。 | T21: ｔ | Y21: =+P18-Y18 -> 0 | AB21: ｔ | AP21: ｔ
P22: =+IF(P21=0,"",IF(P18<P21,"エラー !：④の内数である⑤の量が④を超えています",""))
B23: 項 目 | D23: 令和７年度 目標値 | H23: 令和７年度 実績値 | P23: ※２ | Q23: 自社の他事業場での処理量 | AS23: ⑫ | AT23: ⑩のうち再生利用業者への処理委託量
B24: ① 排出量 | D24: 0 | G24: t | H24: =+F12 -> 0 | J24: t | T24: ｔ | AS24: =+ROUND(AU16,2)+ROUND(AA28,2) -> 0 | AV24: ｔ
B25: ②＋⑧ 自ら再生利用を行った量 | D25: 0 | G25: t | H25: =+P12+AH9 -> 0 | J25: t
B26: ⑤ 自ら熱回収を行った量 | D26: 0 | G26: t | H26: =+P21 -> 0 | J26: t | M26: Ｂ 直接委託処理 | P26: Ｂ | Q26: 直接処理委託量 | AL26: ⑩ | AM26: 直接及び自ら中間処理した後の処理委託量 | AS26: ⑬ | AT26: ⑩のうち認定熱回収業者への処理委託量
B27: ⑦ 自ら中間処理により減量した量 | D27: 0 | G27: t | H27: =+Y21 -> 0 | J27: t | P27: =+R30+ROUND(R33,2) -> 0 | T27: ｔ | Y27: （目的別内訳） | AL27: =+AH18+P27 -> 0 | AP27: ｔ | AV27: ｔ
B28: ③＋⑨ 自ら埋立処分又は海洋投入処分を行った量 | D28: 0 | G28: t | H28: =+P15+AH12 -> 0 | J28: t | Y28: 再生利用前委託量 | AF28: ｔ | AS28: =+IF(AS27=0,"",IF(AL27<(AS24+AS27+AS31),"エラー !：⑩の内数である（⑫+⑬＋⑭）の量が⑩を超えています",""))
B29: ⑩ 全処理委託量 | D29: 0 | G29: t | H29: =+AL27 -> 0 | J29: t | R29: B-1 | S29: 中間処理委託量 | Y29: 最終処分前委託量 | AF29: ｔ | AL29: ⑪ | AM29: ⑩のうち優良認定処理業者への処理委託量 | AS29: ⑭ | AT29: ⑩のうち認定熱回収業者以外の熱回収を行う業者への処理委託量
B30: ⑪ 優良認定処理業者への処理委託量 | D30: 0 | G30: t | H30: =+AL30 -> 0 | J30: t | R30: =+ROUND(AA28,2)+ROUND(AA29,2)+ROUND(AA30,2) -> 0 | V30: ｔ | Y30: 下水等放流前委託量 | AF30: ｔ | AP30: ｔ
B31: ⑫ 再生利用業者への処理委託量 | D31: 0 | G31: t | H31: =+AS24 -> 0 | J31: t | AA31: 【特別管理産業廃棄物の種類 （ア～チ）】 | AL31: =+IF(AL30=0,"",IF(AL27<AL30,"エラー !：⑩の内数である⑪の量が⑩を超えています","")) | AV31: ｔ
B32: ⑬ 認定熱回収業者への処理委託量 | D32: 0 | G32: t | H32: =+AS27 -> 0 | J32: t | R32: B-2 | S32: 最終処分委託量 | AA32: ア. 特管廃油 イ. 特管廃酸 (pH2以下) ウ. 特管廃アルカリ (pH12.5以上) エ. 感染性廃棄物 | AG32: オ. 廃ＰＣＢ等 カ. ＰＣＢ汚染物 キ. ＰＣＢ処理物 ク. 指定下水汚泥 ケ. 有害鉱さい コ. 廃石綿等 | AK32: サ. 有害ばいじん チ. 廃水銀等 シ. 有害燃え殻 ス. 有害廃油 セ. 有害汚泥 ソ. 有害廃酸 タ. 有害廃アルカリ | AS32: =+IF(AS31=0,"",IF(AL27<(AS24+AS27+AS31),"エラー !：⑩の内数である（⑫+⑬＋⑭）の量が⑩を超えています",""))
B33: ⑭ 認定熱回収業者以外の熱回収を行う業者への処理委託量 | D33: 0 | G33: t | H33: =+AS31 -> 0 | J33: t | V33: ｔ
C34: =+IF(D30=0,"",IF(D29<D30,"エラー !：上の表は、⑩の内数である⑪の量が⑩を超えています",""))
C35: =+IF(D31=0,"",IF(D29<D31,"エラー !：上の表は、⑩の内数である⑫の量が⑩を超えています",""))
C36: =+IF(D32=0,"",IF(D29<D32,"エラー !：上の表は、⑩の内数である⑬の量が⑩を超えています",""))
C37: =+IF(D33=0,"",IF(D29<D33,"エラー !：上の表は、⑩の内数である⑭の量が⑩を超えています",""))

Sheet ｼ.有害燃え殻
S1: ↓ | T1: 注意：本年度の目標量のみでフロー図の実績データがない場合にも、本年度目標データを該当欄に入力してください
B2: 特別管理産業廃棄物処理計画実施状況報告書
AP3: ５－２ | AS3: 法定 | AU3: 自主
AS4: =+表紙!N28 -> ○ | AU4: =+表紙!O28
B5: 別紙処理フロー | Z5: 事業場名称 | AE5: ： | AF5: =+表紙!F47 -> 日清オイリオグループ株式会社 横浜磯子事業場
B6: 令和７年度に発生した特別管理産業廃棄物ごとの量と処理計画の実施結果
B7: フローに記載した特別管理産業廃棄物の種類 | D7: シ. 有害燃え殻
B8: ※ | C8: 本用紙は廃棄物の種類ごとに1枚の記載となります。異なる廃棄物の処理フローは別シートに記載してください。 | AH8: ⑧ | AI8: 自ら中間処理した後再生利用した量
B9: （単位：t/年） | F9: 有償物量 | AE9: ａ残さ物の自己処理 | AN9: ｔ
C11: 不要物等発生量 | F11: ① | G11: 当該事業場における排出量 | M11: Ａ 自己処理 | P11: ② | Q11: 自ら直接再生利用した量 | AH11: ⑨ | AI11: 自ら中間処理した後自ら埋立処分又は海洋投入処分した量
F12: =+ROUND(P12,2)+ROUND(P15,2)+ROUND(P18,2)+ROUND(P24,2)+P27-ROUND(F15,2) -> 0 | I12: ｔ | T12: ｔ | AN12: ｔ
F14: ※１ | G14: 自社の他事業場からの搬入量 | P14: ③ | Q14: 自ら直接埋立処分した量 | AH14: ※3 | AI14: 自ら中間処理した後自社の他事業場での処理量
I15: ｔ | T15: ｔ | AN15: ｔ | AS15: （目的別内訳）
P16: =+IF(Y18=0,"",IF(Y18-P18=Y18,"エラー！：⑥残さ物量があるのに、④自ら中間処理した量がゼロになっています","")) | AS16: 再生利用前委託量 | AV16: ｔ
P17: ④ | Q17: 自ら中間処理した量 | Y17: ⑥ | Z17: 自ら中間処理した後の残さ量 | AE17: ｂ残さ物の委託処理 | AH17: ｂ | AI17: 自ら中間処理した後の処理委託量 | AO17: ｂ-1 中間処理委託量 | AS17: 最終処分前 委託量 | AV17: ｔ
T18: ｔ | Y18: =+ROUND(AH9,2)+ROUND(AH12,2)+ROUND(AH15,2)+AH18 -> 0 | AB18: ｔ | AH18: =+ROUND(AO18,2)+ROUND(AO21,2) -> 0 | AL18: ｔ | AO18: =+ROUND(AU16,2)+ROUND(AU17,2)+ROUND(AU18,2) -> 0 | AP18: ｔ | AS18: 下水等放流前委託量 | AV18: ｔ | AW18: （第2面）
P20: ⑤ | Q20: ④のうち熱回収を行った量 | Y20: ⑦ | Z20: 自ら中間処理により減量した量 | AO20: ｂ-2 最終処分委託量
B21: 注）右上のフローには、令和７年度の実績値を記載してください。下表の中央列には、令和７年度目標値を記載してください。下表の右列は、右上フローに記載された令和７年度実績値が自動的に計算されます。 | T21: ｔ | Y21: =+P18-Y18 -> 0 | AB21: ｔ | AP21: ｔ
P22: =+IF(P21=0,"",IF(P18<P21,"エラー !：④の内数である⑤の量が④を超えています",""))
B23: 項 目 | D23: 令和７年度 目標値 | H23: 令和７年度 実績値 | P23: ※２ | Q23: 自社の他事業場での処理量 | AS23: ⑫ | AT23: ⑩のうち再生利用業者への処理委託量
B24: ① 排出量 | D24: 0 | G24: t | H24: =+F12 -> 0 | J24: t | T24: ｔ | AS24: =+ROUND(AU16,2)+ROUND(AA28,2) -> 0 | AV24: ｔ
B25: ②＋⑧ 自ら再生利用を行った量 | D25: 0 | G25: t | H25: =+P12+AH9 -> 0 | J25: t
B26: ⑤ 自ら熱回収を行った量 | D26: 0 | G26: t | H26: =+P21 -> 0 | J26: t | M26: Ｂ 直接委託処理 | P26: Ｂ | Q26: 直接処理委託量 | AL26: ⑩ | AM26: 直接及び自ら中間処理した後の処理委託量 | AS26: ⑬ | AT26: ⑩のうち認定熱回収業者への処理委託量
B27: ⑦ 自ら中間処理により減量した量 | D27: 0 | G27: t | H27: =+Y21 -> 0 | J27: t | P27: =+R30+ROUND(R33,2) -> 0 | T27: ｔ | Y27: （目的別内訳） | AL27: =+AH18+P27 -> 0 | AP27: ｔ | AV27: ｔ
B28: ③＋⑨ 自ら埋立処分又は海洋投入処分を行った量 | D28: 0 | G28: t | H28: =+P15+AH12 -> 0 | J28: t | Y28: 再生利用前委託量 | AF28: ｔ | AS28: =+IF(AS27=0,"",IF(AL27<(AS24+AS27+AS31),"エラー !：⑩の内数である（⑫+⑬＋⑭）の量が⑩を超えています",""))
B29: ⑩ 全処理委託量 | D29: 0 | G29: t | H29: =+AL27 -> 0 | J29: t | R29: B-1 | S29: 中間処理委託量 | Y29: 最終処分前委託量 | AF29: ｔ | AL29: ⑪ | AM29: ⑩のうち優良認定処理業者への処理委託量 | AS29: ⑭ | AT29: ⑩のうち認定熱回収業者以外の熱回収を行う業者への処理委託量
B30: ⑪ 優良認定処理業者への処理委託量 | D30: 0 | G30: t | H30: =+AL30 -> 0 | J30: t | R30: =+ROUND(AA28,2)+ROUND(AA29,2)+ROUND(AA30,2) -> 0 | V30: ｔ | Y30: 下水等放流前委託量 | AF30: ｔ | AP30: ｔ
B31: ⑫ 再生利用業者への処理委託量 | D31: 0 | G31: t | H31: =+AS24 -> 0 | J31: t | AA31: 【特別管理産業廃棄物の種類 （ア～チ）】 | AL31: =+IF(AL30=0,"",IF(AL27<AL30,"エラー !：⑩の内数である⑪の量が⑩を超えています","")) | AV31: ｔ
B32: ⑬ 認定熱回収業者への処理委託量 | D32: 0 | G32: t | H32: =+AS27 -> 0 | J32: t | R32: B-2 | S32: 最終処分委託量 | AA32: ア. 特管廃油 イ. 特管廃酸 (pH2以下) ウ. 特管廃アルカリ (pH12.5以上) エ. 感染性廃棄物 | AG32: オ. 廃ＰＣＢ等 カ. ＰＣＢ汚染物 キ. ＰＣＢ処理物 ク. 指定下水汚泥 ケ. 有害鉱さい コ. 廃石綿等 | AK32: サ. 有害ばいじん チ. 廃水銀等 シ. 有害燃え殻 ス. 有害廃油 セ. 有害汚泥 ソ. 有害廃酸 タ. 有害廃アルカリ | AS32: =+IF(AS31=0,"",IF(AL27<(AS24+AS27+AS31),"エラー !：⑩の内数である（⑫+⑬＋⑭）の量が⑩を超えています",""))
B33: ⑭ 認定熱回収業者以外の熱回収を行う業者への処理委託量 | D33: 0 | G33: t | H33: =+AS31 -> 0 | J33: t | V33: ｔ
C34: =+IF(D30=0,"",IF(D29<D30,"エラー !：上の表は、⑩の内数である⑪の量が⑩を超えています",""))
C35: =+IF(D31=0,"",IF(D29<D31,"エラー !：上の表は、⑩の内数である⑫の量が⑩を超えています",""))
C36: =+IF(D32=0,"",IF(D29<D32,"エラー !：上の表は、⑩の内数である⑬の量が⑩を超えています",""))
C37: =+IF(D33=0,"",IF(D29<D33,"エラー !：上の表は、⑩の内数である⑭の量が⑩を超えています",""))

Sheet ｽ.有害廃油
S1: ↓ | T1: 注意：本年度の目標量のみでフロー図の実績データがない場合にも、本年度目標データを該当欄に入力してください
B2: 特別管理産業廃棄物処理計画実施状況報告書
AP3: ５－２ | AS3: 法定 | AU3: 自主
AS4: =+表紙!N28 -> ○ | AU4: =+表紙!O28
B5: 別紙処理フロー | Z5: 事業場名称 | AE5: ： | AF5: =+表紙!F47 -> 日清オイリオグループ株式会社 横浜磯子事業場
B6: 令和７年度に発生した特別管理産業廃棄物ごとの量と処理計画の実施結果
B7: フローに記載した特別管理産業廃棄物の種類 | D7: ス. 有害廃油
B8: ※ | C8: 本用紙は廃棄物の種類ごとに1枚の記載となります。異なる廃棄物の処理フローは別シートに記載してください。 | AH8: ⑧ | AI8: 自ら中間処理した後再生利用した量
B9: （単位：t/年） | F9: 有償物量 | AE9: ａ残さ物の自己処理 | AN9: ｔ
C11: 不要物等発生量 | F11: ① | G11: 当該事業場における排出量 | M11: Ａ 自己処理 | P11: ② | Q11: 自ら直接再生利用した量 | AH11: ⑨ | AI11: 自ら中間処理した後自ら埋立処分又は海洋投入処分した量
F12: =+ROUND(P12,2)+ROUND(P15,2)+ROUND(P18,2)+ROUND(P24,2)+P27-ROUND(F15,2) -> 0 | I12: ｔ | T12: ｔ | AN12: ｔ
F14: ※１ | G14: 自社の他事業場からの搬入量 | P14: ③ | Q14: 自ら直接埋立処分した量 | AH14: ※3 | AI14: 自ら中間処理した後自社の他事業場での処理量
I15: ｔ | T15: ｔ | AN15: ｔ | AS15: （目的別内訳）
P16: =+IF(Y18=0,"",IF(Y18-P18=Y18,"エラー！：⑥残さ物量があるのに、④自ら中間処理した量がゼロになっています","")) | AS16: 再生利用前委託量 | AV16: ｔ
P17: ④ | Q17: 自ら中間処理した量 | Y17: ⑥ | Z17: 自ら中間処理した後の残さ量 | AE17: ｂ残さ物の委託処理 | AH17: ｂ | AI17: 自ら中間処理した後の処理委託量 | AO17: ｂ-1 中間処理委託量 | AS17: 最終処分前 委託量 | AV17: ｔ
T18: ｔ | Y18: =+ROUND(AH9,2)+ROUND(AH12,2)+ROUND(AH15,2)+AH18 -> 0 | AB18: ｔ | AH18: =+ROUND(AO18,2)+ROUND(AO21,2) -> 0 | AL18: ｔ | AO18: =+ROUND(AU16,2)+ROUND(AU17,2)+ROUND(AU18,2) -> 0 | AP18: ｔ | AS18: 下水等放流前委託量 | AV18: ｔ | AW18: （第2面）
P20: ⑤ | Q20: ④のうち熱回収を行った量 | Y20: ⑦ | Z20: 自ら中間処理により減量した量 | AO20: ｂ-2 最終処分委託量
B21: 注）右上のフローには、令和７年度の実績値を記載してください。下表の中央列には、令和７年度目標値を記載してください。下表の右列は、右上フローに記載された令和７年度実績値が自動的に計算されます。 | T21: ｔ | Y21: =+P18-Y18 -> 0 | AB21: ｔ | AP21: ｔ
P22: =+IF(P21=0,"",IF(P18<P21,"エラー !：④の内数である⑤の量が④を超えています",""))
B23: 項 目 | D23: 令和７年度 目標値 | H23: 令和７年度 実績値 | P23: ※２ | Q23: 自社の他事業場での処理量 | AS23: ⑫ | AT23: ⑩のうち再生利用業者への処理委託量
B24: ① 排出量 | D24: 0.01 | G24: t | H24: =+F12 -> 0 | J24: t | T24: ｔ | AS24: =+ROUND(AU16,2)+ROUND(AA28,2) -> 0 | AV24: ｔ
B25: ②＋⑧ 自ら再生利用を行った量 | D25: 0 | G25: t | H25: =+P12+AH9 -> 0 | J25: t
B26: ⑤ 自ら熱回収を行った量 | D26: 0 | G26: t | H26: =+P21 -> 0 | J26: t | M26: Ｂ 直接委託処理 | P26: Ｂ | Q26: 直接処理委託量 | AL26: ⑩ | AM26: 直接及び自ら中間処理した後の処理委託量 | AS26: ⑬ | AT26: ⑩のうち認定熱回収業者への処理委託量
B27: ⑦ 自ら中間処理により減量した量 | D27: 0 | G27: t | H27: =+Y21 -> 0 | J27: t | P27: =+R30+ROUND(R33,2) -> 0 | T27: ｔ | Y27: （目的別内訳） | AL27: =+AH18+P27 -> 0 | AP27: ｔ | AV27: ｔ
B28: ③＋⑨ 自ら埋立処分又は海洋投入処分を行った量 | D28: 0 | G28: t | H28: =+P15+AH12 -> 0 | J28: t | Y28: 再生利用前委託量 | AF28: ｔ | AS28: =+IF(AS27=0,"",IF(AL27<(AS24+AS27+AS31),"エラー !：⑩の内数である（⑫+⑬＋⑭）の量が⑩を超えています",""))
B29: ⑩ 全処理委託量 | D29: 0.01 | G29: t | H29: =+AL27 -> 0 | J29: t | R29: B-1 | S29: 中間処理委託量 | Y29: 最終処分前委託量 | AF29: ｔ | AL29: ⑪ | AM29: ⑩のうち優良認定処理業者への処理委託量 | AS29: ⑭ | AT29: ⑩のうち認定熱回収業者以外の熱回収を行う業者への処理委託量
B30: ⑪ 優良認定処理業者への処理委託量 | D30: 0 | G30: t | H30: =+AL30 -> 0 | J30: t | R30: =+ROUND(AA28,2)+ROUND(AA29,2)+ROUND(AA30,2) -> 0 | V30: ｔ | Y30: 下水等放流前委託量 | AF30: ｔ | AP30: ｔ
B31: ⑫ 再生利用業者への処理委託量 | D31: 0.01 | G31: t | H31: =+AS24 -> 0 | J31: t | AA31: 【特別管理産業廃棄物の種類 （ア～チ）】 | AL31: =+IF(AL30=0,"",IF(AL27<AL30,"エラー !：⑩の内数である⑪の量が⑩を超えています","")) | AV31: ｔ
B32: ⑬ 認定熱回収業者への処理委託量 | D32: 0 | G32: t | H32: =+AS27 -> 0 | J32: t | R32: B-2 | S32: 最終処分委託量 | AA32: ア. 特管廃油 イ. 特管廃酸 (pH2以下) ウ. 特管廃アルカリ (pH12.5以上) エ. 感染性廃棄物 | AG32: オ. 廃ＰＣＢ等 カ. ＰＣＢ汚染物 キ. ＰＣＢ処理物 ク. 指定下水汚泥 ケ. 有害鉱さい コ. 廃石綿等 | AK32: サ. 有害ばいじん チ. 廃水銀等 シ. 有害燃え殻 ス. 有害廃油 セ. 有害汚泥 ソ. 有害廃酸 タ. 有害廃アルカリ | AS32: =+IF(AS31=0,"",IF(AL27<(AS24+AS27+AS31),"エラー !：⑩の内数である（⑫+⑬＋⑭）の量が⑩を超えています",""))
B33: ⑭ 認定熱回収業者以外の熱回収を行う業者への処理委託量 | D33: 0 | G33: t | H33: =+AS31 -> 0 | J33: t | V33: ｔ
C34: =+IF(D30=0,"",IF(D29<D30,"エラー !：上の表は、⑩の内数である⑪の量が⑩を超えています",""))
C35: =+IF(D31=0,"",IF(D29<D31,"エラー !：上の表は、⑩の内数である⑫の量が⑩を超えています",""))
C36: =+IF(D32=0,"",IF(D29<D32,"エラー !：上の表は、⑩の内数である⑬の量が⑩を超えています",""))
C37: =+IF(D33=0,"",IF(D29<D33,"エラー !：上の表は、⑩の内数である⑭の量が⑩を超えています",""))

Sheet ｾ.有害汚泥
S1: ↓ | T1: 注意：本年度の目標量のみでフロー図の実績データがない場合にも、本年度目標データを該当欄に入力してください
B2: 特別管理産業廃棄物処理計画実施状況報告書
AP3: ５－２ | AS3: 法定 | AU3: 自主
AS4: =+表紙!N28 -> ○ | AU4: =+表紙!O28
B5: 別紙処理フロー | Z5: 事業場名称 | AE5: ： | AF5: =+表紙!F47 -> 日清オイリオグループ株式会社 横浜磯子事業場
B6: 令和７年度に発生した特別管理産業廃棄物ごとの量と処理計画の実施結果
B7: フローに記載した特別管理産業廃棄物の種類 | D7: セ. 有害汚泥
B8: ※ | C8: 本用紙は廃棄物の種類ごとに1枚の記載となります。異なる廃棄物の処理フローは別シートに記載してください。 | AH8: ⑧ | AI8: 自ら中間処理した後再生利用した量
B9: （単位：t/年） | F9: 有償物量 | AE9: ａ残さ物の自己処理 | AN9: ｔ
C11: 不要物等発生量 | F11: ① | G11: 当該事業場における排出量 | M11: Ａ 自己処理 | P11: ② | Q11: 自ら直接再生利用した量 | AH11: ⑨ | AI11: 自ら中間処理した後自ら埋立処分又は海洋投入処分した量
F12: =+ROUND(P12,2)+ROUND(P15,2)+ROUND(P18,2)+ROUND(P24,2)+P27-ROUND(F15,2) -> 0 | I12: ｔ | T12: ｔ | AN12: ｔ
F14: ※１ | G14: 自社の他事業場からの搬入量 | P14: ③ | Q14: 自ら直接埋立処分した量 | AH14: ※3 | AI14: 自ら中間処理した後自社の他事業場での処理量
I15: ｔ | T15: ｔ | AN15: ｔ | AS15: （目的別内訳）
P16: =+IF(Y18=0,"",IF(Y18-P18=Y18,"エラー！：⑥残さ物量があるのに、④自ら中間処理した量がゼロになっています","")) | AS16: 再生利用前委託量 | AV16: ｔ
P17: ④ | Q17: 自ら中間処理した量 | Y17: ⑥ | Z17: 自ら中間処理した後の残さ量 | AE17: ｂ残さ物の委託処理 | AH17: ｂ | AI17: 自ら中間処理した後の処理委託量 | AO17: ｂ-1 中間処理委託量 | AS17: 最終処分前 委託量 | AV17: ｔ
T18: ｔ | Y18: =+ROUND(AH9,2)+ROUND(AH12,2)+ROUND(AH15,2)+AH18 -> 0 | AB18: ｔ | AH18: =+ROUND(AO18,2)+ROUND(AO21,2) -> 0 | AL18: ｔ | AO18: =+ROUND(AU16,2)+ROUND(AU17,2)+ROUND(AU18,2) -> 0 | AP18: ｔ | AS18: 下水等放流前委託量 | AV18: ｔ | AW18: （第2面）
P20: ⑤ | Q20: ④のうち熱回収を行った量 | Y20: ⑦ | Z20: 自ら中間処理により減量した量 | AO20: ｂ-2 最終処分委託量
B21: 注）右上のフローには、令和７年度の実績値を記載してください。下表の中央列には、令和７年度目標値を記載してください。下表の右列は、右上フローに記載された令和７年度実績値が自動的に計算されます。 | T21: ｔ | Y21: =+P18-Y18 -> 0 | AB21: ｔ | AP21: ｔ
P22: =+IF(P21=0,"",IF(P18<P21,"エラー !：④の内数である⑤の量が④を超えています",""))
B23: 項 目 | D23: 令和７年度 目標値 | H23: 令和７年度 実績値 | P23: ※２ | Q23: 自社の他事業場での処理量 | AS23: ⑫ | AT23: ⑩のうち再生利用業者への処理委託量
B24: ① 排出量 | D24: 1 | G24: t | H24: =+F12 -> 0 | J24: t | T24: ｔ | AS24: =+ROUND(AU16,2)+ROUND(AA28,2) -> 0 | AV24: ｔ
B25: ②＋⑧ 自ら再生利用を行った量 | D25: 0 | G25: t | H25: =+P12+AH9 -> 0 | J25: t
B26: ⑤ 自ら熱回収を行った量 | D26: 0 | G26: t | H26: =+P21 -> 0 | J26: t | M26: Ｂ 直接委託処理 | P26: Ｂ | Q26: 直接処理委託量 | AL26: ⑩ | AM26: 直接及び自ら中間処理した後の処理委託量 | AS26: ⑬ | AT26: ⑩のうち認定熱回収業者への処理委託量
B27: ⑦ 自ら中間処理により減量した量 | D27: 0 | G27: t | H27: =+Y21 -> 0 | J27: t | P27: =+R30+ROUND(R33,2) -> 0 | T27: ｔ | Y27: （目的別内訳） | AL27: =+AH18+P27 -> 0 | AP27: ｔ | AV27: ｔ
B28: ③＋⑨ 自ら埋立処分又は海洋投入処分を行った量 | D28: 0 | G28: t | H28: =+P15+AH12 -> 0 | J28: t | Y28: 再生利用前委託量 | AF28: ｔ | AS28: =+IF(AS27=0,"",IF(AL27<(AS24+AS27+AS31),"エラー !：⑩の内数である（⑫+⑬＋⑭）の量が⑩を超えています",""))
B29: ⑩ 全処理委託量 | D29: 1 | G29: t | H29: =+AL27 -> 0 | J29: t | R29: B-1 | S29: 中間処理委託量 | Y29: 最終処分前委託量 | AF29: ｔ | AL29: ⑪ | AM29: ⑩のうち優良認定処理業者への処理委託量 | AS29: ⑭ | AT29: ⑩のうち認定熱回収業者以外の熱回収を行う業者への処理委託量
B30: ⑪ 優良認定処理業者への処理委託量 | D30: 0 | G30: t | H30: =+AL30 -> 0 | J30: t | R30: =+ROUND(AA28,2)+ROUND(AA29,2)+ROUND(AA30,2) -> 0 | V30: ｔ | Y30: 下水等放流前委託量 | AF30: ｔ | AP30: ｔ
B31: ⑫ 再生利用業者への処理委託量 | D31: 1 | G31: t | H31: =+AS24 -> 0 | J31: t | AA31: 【特別管理産業廃棄物の種類 （ア～チ）】 | AL31: =+IF(AL30=0,"",IF(AL27<AL30,"エラー !：⑩の内数である⑪の量が⑩を超えています","")) | AV31: ｔ
B32: ⑬ 認定熱回収業者への処理委託量 | D32: 0 | G32: t | H32: =+AS27 -> 0 | J32: t | R32: B-2 | S32: 最終処分委託量 | AA32: ア. 特管廃油 イ. 特管廃酸 (pH2以下) ウ. 特管廃アルカリ (pH12.5以上) エ. 感染性廃棄物 | AG32: オ. 廃ＰＣＢ等 カ. ＰＣＢ汚染物 キ. ＰＣＢ処理物 ク. 指定下水汚泥 ケ. 有害鉱さい コ. 廃石綿等 | AK32: サ. 有害ばいじん チ. 廃水銀等 シ. 有害燃え殻 ス. 有害廃油 セ. 有害汚泥 ソ. 有害廃酸 タ. 有害廃アルカリ | AS32: =+IF(AS31=0,"",IF(AL27<(AS24+AS27+AS31),"エラー !：⑩の内数である（⑫+⑬＋⑭）の量が⑩を超えています",""))
B33: ⑭ 認定熱回収業者以外の熱回収を行う業者への処理委託量 | D33: 0 | G33: t | H33: =+AS31 -> 0 | J33: t | V33: ｔ
C34: =+IF(D30=0,"",IF(D29<D30,"エラー !：上の表は、⑩の内数である⑪の量が⑩を超えています",""))
C35: =+IF(D31=0,"",IF(D29<D31,"エラー !：上の表は、⑩の内数である⑫の量が⑩を超えています",""))
C36: =+IF(D32=0,"",IF(D29<D32,"エラー !：上の表は、⑩の内数である⑬の量が⑩を超えています",""))
C37: =+IF(D33=0,"",IF(D29<D33,"エラー !：上の表は、⑩の内数である⑭の量が⑩を超えています",""))

Sheet ｿ.有害廃酸
S1: ↓ | T1: 注意：本年度の目標量のみでフロー図の実績データがない場合にも、本年度目標データを該当欄に入力してください
B2: 特別管理産業廃棄物処理計画実施状況報告書
AP3: ５－２ | AS3: 法定 | AU3: 自主
AS4: =+表紙!N28 -> ○ | AU4: =+表紙!O28
B5: 別紙処理フロー | Z5: 事業場名称 | AE5: ： | AF5: =+表紙!F47 -> 日清オイリオグループ株式会社 横浜磯子事業場
B6: 令和７年度に発生した特別管理産業廃棄物ごとの量と処理計画の実施結果
B7: フローに記載した特別管理産業廃棄物の種類 | D7: ソ. 有害廃酸
B8: ※ | C8: 本用紙は廃棄物の種類ごとに1枚の記載となります。異なる廃棄物の処理フローは別シートに記載してください。 | AH8: ⑧ | AI8: 自ら中間処理した後再生利用した量
B9: （単位：t/年） | F9: 有償物量 | AE9: ａ残さ物の自己処理 | AN9: ｔ
C11: 不要物等発生量 | F11: ① | G11: 当該事業場における排出量 | M11: Ａ 自己処理 | P11: ② | Q11: 自ら直接再生利用した量 | AH11: ⑨ | AI11: 自ら中間処理した後自ら埋立処分又は海洋投入処分した量
F12: =+ROUND(P12,2)+ROUND(P15,2)+ROUND(P18,2)+ROUND(P24,2)+P27-ROUND(F15,2) -> 0 | I12: ｔ | T12: ｔ | AN12: ｔ
F14: ※１ | G14: 自社の他事業場からの搬入量 | P14: ③ | Q14: 自ら直接埋立処分した量 | AH14: ※3 | AI14: 自ら中間処理した後自社の他事業場での処理量
I15: ｔ | T15: ｔ | AN15: ｔ | AS15: （目的別内訳）
P16: =+IF(Y18=0,"",IF(Y18-P18=Y18,"エラー！：⑥残さ物量があるのに、④自ら中間処理した量がゼロになっています","")) | AS16: 再生利用前委託量 | AV16: ｔ
P17: ④ | Q17: 自ら中間処理した量 | Y17: ⑥ | Z17: 自ら中間処理した後の残さ量 | AE17: ｂ残さ物の委託処理 | AH17: ｂ | AI17: 自ら中間処理した後の処理委託量 | AO17: ｂ-1 中間処理委託量 | AS17: 最終処分前 委託量 | AV17: ｔ
T18: ｔ | Y18: =+ROUND(AH9,2)+ROUND(AH12,2)+ROUND(AH15,2)+AH18 -> 0 | AB18: ｔ | AH18: =+ROUND(AO18,2)+ROUND(AO21,2) -> 0 | AL18: ｔ | AO18: =+ROUND(AU16,2)+ROUND(AU17,2)+ROUND(AU18,2) -> 0 | AP18: ｔ | AS18: 下水等放流前委託量 | AV18: ｔ | AW18: （第2面）
P20: ⑤ | Q20: ④のうち熱回収を行った量 | Y20: ⑦ | Z20: 自ら中間処理により減量した量 | AO20: ｂ-2 最終処分委託量
B21: 注）右上のフローには、令和７年度の実績値を記載してください。下表の中央列には、令和７年度目標値を記載してください。下表の右列は、右上フローに記載された令和７年度実績値が自動的に計算されます。 | T21: ｔ | Y21: =+P18-Y18 -> 0 | AB21: ｔ | AP21: ｔ
P22: =+IF(P21=0,"",IF(P18<P21,"エラー !：④の内数である⑤の量が④を超えています",""))
B23: 項 目 | D23: 令和７年度 目標値 | H23: 令和７年度 実績値 | P23: ※２ | Q23: 自社の他事業場での処理量 | AS23: ⑫ | AT23: ⑩のうち再生利用業者への処理委託量
B24: ① 排出量 | D24: 0 | G24: t | H24: =+F12 -> 0 | J24: t | T24: ｔ | AS24: =+ROUND(AU16,2)+ROUND(AA28,2) -> 0 | AV24: ｔ
B25: ②＋⑧ 自ら再生利用を行った量 | D25: 0 | G25: t | H25: =+P12+AH9 -> 0 | J25: t
B26: ⑤ 自ら熱回収を行った量 | D26: 0 | G26: t | H26: =+P21 -> 0 | J26: t | M26: Ｂ 直接委託処理 | P26: Ｂ | Q26: 直接処理委託量 | AL26: ⑩ | AM26: 直接及び自ら中間処理した後の処理委託量 | AS26: ⑬ | AT26: ⑩のうち認定熱回収業者への処理委託量
B27: ⑦ 自ら中間処理により減量した量 | D27: 0 | G27: t | H27: =+Y21 -> 0 | J27: t | P27: =+R30+ROUND(R33,2) -> 0 | T27: ｔ | Y27: （目的別内訳） | AL27: =+AH18+P27 -> 0 | AP27: ｔ | AV27: ｔ
B28: ③＋⑨ 自ら埋立処分又は海洋投入処分を行った量 | D28: 0 | G28: t | H28: =+P15+AH12 -> 0 | J28: t | Y28: 再生利用前委託量 | AF28: ｔ | AS28: =+IF(AS27=0,"",IF(AL27<(AS24+AS27+AS31),"エラー !：⑩の内数である（⑫+⑬＋⑭）の量が⑩を超えています",""))
B29: ⑩ 全処理委託量 | D29: 0 | G29: t | H29: =+AL27 -> 0 | J29: t | R29: B-1 | S29: 中間処理委託量 | Y29: 最終処分前委託量 | AF29: ｔ | AL29: ⑪ | AM29: ⑩のうち優良認定処理業者への処理委託量 | AS29: ⑭ | AT29: ⑩のうち認定熱回収業者以外の熱回収を行う業者への処理委託量
B30: ⑪ 優良認定処理業者への処理委託量 | D30: 0 | G30: t | H30: =+AL30 -> 0 | J30: t | R30: =+ROUND(AA28,2)+ROUND(AA29,2)+ROUND(AA30,2) -> 0 | V30: ｔ | Y30: 下水等放流前委託量 | AF30: ｔ | AP30: ｔ
B31: ⑫ 再生利用業者への処理委託量 | D31: 0 | G31: t | H31: =+AS24 -> 0 | J31: t | AA31: 【特別管理産業廃棄物の種類 （ア～チ）】 | AL31: =+IF(AL30=0,"",IF(AL27<AL30,"エラー !：⑩の内数である⑪の量が⑩を超えています","")) | AV31: ｔ
B32: ⑬ 認定熱回収業者への処理委託量 | D32: 0 | G32: t | H32: =+AS27 -> 0 | J32: t | R32: B-2 | S32: 最終処分委託量 | AA32: ア. 特管廃油 イ. 特管廃酸 (pH2以下) ウ. 特管廃アルカリ (pH12.5以上) エ. 感染性廃棄物 | AG32: オ. 廃ＰＣＢ等 カ. ＰＣＢ汚染物 キ. ＰＣＢ処理物 ク. 指定下水汚泥 ケ. 有害鉱さい コ. 廃石綿等 | AK32: サ. 有害ばいじん チ. 廃水銀等 シ. 有害燃え殻 ス. 有害廃油 セ. 有害汚泥 ソ. 有害廃酸 タ. 有害廃アルカリ | AS32: =+IF(AS31=0,"",IF(AL27<(AS24+AS27+AS31),"エラー !：⑩の内数である（⑫+⑬＋⑭）の量が⑩を超えています",""))
B33: ⑭ 認定熱回収業者以外の熱回収を行う業者への処理委託量 | D33: 0 | G33: t | H33: =+AS31 -> 0 | J33: t | V33: ｔ
C34: =+IF(D30=0,"",IF(D29<D30,"エラー !：上の表は、⑩の内数である⑪の量が⑩を超えています",""))
C35: =+IF(D31=0,"",IF(D29<D31,"エラー !：上の表は、⑩の内数である⑫の量が⑩を超えています",""))
C36: =+IF(D32=0,"",IF(D29<D32,"エラー !：上の表は、⑩の内数である⑬の量が⑩を超えています",""))
C37: =+IF(D33=0,"",IF(D29<D33,"エラー !：上の表は、⑩の内数である⑭の量が⑩を超えています",""))

Sheet ﾀ.有害廃ｱﾙｶﾘ
S1: ↓ | T1: 注意：本年度の目標量のみでフロー図の実績データがない場合にも、本年度目標データを該当欄に入力してください
B2: 特別管理産業廃棄物処理計画実施状況報告書
AP3: ５－２ | AS3: 法定 | AU3: 自主
AS4: =+表紙!N28 -> ○ | AU4: =+表紙!O28
B5: 別紙処理フロー | Z5: 事業場名称 | AE5: ： | AF5: =+表紙!F47 -> 日清オイリオグループ株式会社 横浜磯子事業場
B6: 令和７年度に発生した特別管理産業廃棄物ごとの量と処理計画の実施結果
B7: フローに記載した特別管理産業廃棄物の種類 | D7: タ. 有害廃アルカリ
B8: ※ | C8: 本用紙は廃棄物の種類ごとに1枚の記載となります。異なる廃棄物の処理フローは別シートに記載してください。 | AH8: ⑧ | AI8: 自ら中間処理した後再生利用した量
B9: （単位：t/年） | F9: 有償物量 | AE9: ａ残さ物の自己処理 | AN9: ｔ
C11: 不要物等発生量 | F11: ① | G11: 当該事業場における排出量 | M11: Ａ 自己処理 | P11: ② | Q11: 自ら直接再生利用した量 | AH11: ⑨ | AI11: 自ら中間処理した後自ら埋立処分又は海洋投入処分した量
F12: =+ROUND(P12,2)+ROUND(P15,2)+ROUND(P18,2)+ROUND(P24,2)+P27-ROUND(F15,2) -> 0 | I12: ｔ | T12: ｔ | AN12: ｔ
F14: ※１ | G14: 自社の他事業場からの搬入量 | P14: ③ | Q14: 自ら直接埋立処分した量 | AH14: ※3 | AI14: 自ら中間処理した後自社の他事業場での処理量
I15: ｔ | T15: ｔ | AN15: ｔ | AS15: （目的別内訳）
P16: =+IF(Y18=0,"",IF(Y18-P18=Y18,"エラー！：⑥残さ物量があるのに、④自ら中間処理した量がゼロになっています","")) | AS16: 再生利用前委託量 | AV16: ｔ
P17: ④ | Q17: 自ら中間処理した量 | Y17: ⑥ | Z17: 自ら中間処理した後の残さ量 | AE17: ｂ残さ物の委託処理 | AH17: ｂ | AI17: 自ら中間処理した後の処理委託量 | AO17: ｂ-1 中間処理委託量 | AS17: 最終処分前 委託量 | AV17: ｔ
T18: ｔ | Y18: =+ROUND(AH9,2)+ROUND(AH12,2)+ROUND(AH15,2)+AH18 -> 0 | AB18: ｔ | AH18: =+ROUND(AO18,2)+ROUND(AO21,2) -> 0 | AL18: ｔ | AO18: =+ROUND(AU16,2)+ROUND(AU17,2)+ROUND(AU18,2) -> 0 | AP18: ｔ | AS18: 下水等放流前委託量 | AV18: ｔ | AW18: （第2面）
P20: ⑤ | Q20: ④のうち熱回収を行った量 | Y20: ⑦ | Z20: 自ら中間処理により減量した量 | AO20: ｂ-2 最終処分委託量
B21: 注）右上のフローには、令和７年度の実績値を記載してください。下表の中央列には、令和７年度目標値を記載してください。下表の右列は、右上フローに記載された令和７年度実績値が自動的に計算されます。 | T21: ｔ | Y21: =+P18-Y18 -> 0 | AB21: ｔ | AP21: ｔ
P22: =+IF(P21=0,"",IF(P18<P21,"エラー !：④の内数である⑤の量が④を超えています",""))
B23: 項 目 | D23: 令和７年度 目標値 | H23: 令和７年度 実績値 | P23: ※２ | Q23: 自社の他事業場での処理量 | AS23: ⑫ | AT23: ⑩のうち再生利用業者への処理委託量
